{"text_format":"1","workbook":"xlsx","n_sheets":16,"sheets":["マクロを有効にする方法","メイン","1)基本設定","2)現況推計結果の入力","電力排出係数の固定","3)BAU排出量の推計","電力排出係数補正","4)短期目標の設定","部門別目標設定","5)長期目標の設定","6)中期目標の設定","7)目標設定結果とグラフ","7)目標設定結果とグラフ_bk","グラフ（実際の年間隔）","F進捗管理表","電力"],"not_rendered":{"charts":12,"images":14,"macros":1,"external_links":0,"defined_names":16,"comments":0,"pivot_tables":0},"unopened":[],"bounds":{"document_bytes":16777216,"sheet_cells":100000,"rows_first":2000,"rows_last":500,"rows_between":2000,"halvings":0,"cell_chars":16384,"cell_head_chars":4096},"cells_cut":0,"cells_raw":0,"read":"whole","date_system":"1900"}

{"sheet":"マクロを有効にする方法","index":0,"n_rows":105,"n_cols":1,"rows_kept":105,"cut":false,"hidden":false,"merged":[]}
[]
["マクロを有効にする方法"]
[]
["1. Excelの「ファイル」メニューから「オプション」を選択し、Excelのオプション画面を開きます。"]
[]
[]
[]
[]
[]
[]
[]
[]
[]
[]
[]
[]
[]
[]
[]
[]
[]
[]
[]
[]
[]
[]
[]
["2. Excelのオプション画面から「セキュリティセンター」を選択し、「セキュリティセンターの設定」をクリックします。"]
[]
[]
[]
[]
[]
[]
[]
[]
[]
[]
[]
[]
[]
[]
[]
[]
[]
[]
[]
[]
[]
[]
[]
[]
[]
[]
["3. セキュリティセンターの画面から「マクロの設定」で、「警告を表示してすべてのマクロを無効にする」を選び、「OK」をクリックします。"]
[]
[]
[]
[]
[]
[]
[]
[]
[]
[]
[]
[]
[]
[]
[]
[]
[]
[]
[]
[]
[]
[]
[]
[]
[]
[]
[]
["4. Excelを保存せずに終了し、再度ファイルを開きます。"]
[]
["5. Excel 2010の場合は、Excelの画面上部にセキュリティの警告が表示されますので「コンテンツの有効化」をクリックして、設定完了です。"]
[]
[]
[]
[]
[]
[]
[]
[]
[]
[]
[]
[]
[]
[]
[]
[]
[]
[]
["　 Excel 2007の場合はセキュリティの警告と「オプション」ボタンが表示されますので、オプションをクリックし、"]
["   「このコンテンツを有効にする」をクリックし、OKをクリックします。"]

{"sheet":"メイン","index":1,"n_rows":47,"n_cols":14,"rows_kept":47,"cut":false,"hidden":false,"merged":[[4,13,13,25],[51,13,51,25],[43,13,46,25],[28,13,36,25],[37,13,41,20],[41,2,41,4],[46,1,46,11],[48,2,48,8],[5,2,5,4],[11,2,11,4],[17,2,17,4],[23,2,23,4],[29,3,29,4],[35,3,35,4],[25,2,25,10]]}
[]
[null,"メインシート"]
[]
[null,null,"1)基準年、現状年、目標年の設定・部門／分野の設定"]
[null,null,null,null,"未設定",null,null,null,null,null,null,null,null,"●本ツールについて\n　本ツールは地方公共団体実行計画（区域施策編）の策定に当たって、現状趨勢（BAU）ケースの推計から対策・施策と削減目標の設定、進捗管理表の出力までを支援するツールです。方法や手順は「地方公共団体における地球温暖化対策の計画的な推進のための手引き」（平成26年2月　環境省総合環境政策局　環境計画課）に準じています。目標設定は、部門／分野ごとに総量目標及び原単位目標を設定可能です。\n　本ツールで作成した表やグラフは、地方公共団体実行計画（区域施策編）の策定や進捗管理に活用できます。区域施策編の策定手順に沿った他のツールやデータとの関係性は下図の通りです。部門／分野別温室効果ガス排出量は、本ツールには結果のみを入力しますので、排出量の現況推計や排出要因分析は他のツールやデータを活用してください。"]
[null,null,"　　　　　　1)基本設定　　　　　　　"]
[]
[]
[]
[null,null,"2)温室効果ガス排出量の現況推計"]
[null,null,null,null,"未設定"]
[null,null,"　　　　2)現況推計結果の入力　　　　"]
[]
[]
[]
[null,null,"3)現状趨勢（BAU）排出量の推計"]
[null,null,null,null,"未設定"]
[null,null,"　　　　3)BAU排出量の推計　　　　"]
[]
[]
[]
[null,null,"4)短期の対策・施策及び削減目標値の設定"]
[null,null,null,null,"未設定"]
[null,null,"　　　　　4)短期目標の設定　　　　　"]
[]
[null,null,"※短期目標の設定は必須です。　\n　 目標年を単一とする場合は短期目標の設定を行ってください。"]
[]
[null,null,"5)長期の削減目標値の設定"]
[null,null,null,null,"未設定",null,null,null,null,null,null,null,null,"●本ツールの使い方\n　左の１）～７）のステップのボタンを押すと、各ステップの必要事項を入力するシートに移動します。１）基本設定から順に入力してください。５）と６）のシートは、目標年を複数設定しない場合は、設定不要です。単一の目標年のみを設定する場合は４）短期目標の設定シートのみ設定します。\n　各シートはボタンかタブ選択で自由に移動できますが、１）基本設定のみ、最初に設定する必要があります。各シートには簡単な解説を掲載していますが、詳細な使い方や解説はマニュアルを参照してください。"]
[null,null,null,"　　　5)長期目標の設定　　　"]
[]
[null,null,"※長期目標の設定は任意です"]
[]
[null,null,"6)中期の対策・施策及び削減目標値の設定"]
[null,null,null,null,"未設定"]
[null,null,null,"　　　6)中期目標の設定　　　"]
[]
[null,null,"※中期目標の設定は任意です",null,null,null,null,null,null,null,null,null,null,"　各シートのセルは右のように色分けされており、入力可能なセルは\"入力セル\"と\"入力セル（デフォルト表示あり）\"のみです。"]
[]
[null,null,"7)目標設定結果の表示"]
[]
[null,null,"　　　　7)目標設定結果とグラフ　　　　"]
[]
[null,null,null,null,null,null,null,null,null,null,null,null,null,"　各ステップのボタンの上にステータス表示があり、最初は「未設定」となっています。各ステップの入力シートで「完了」ボタンを押すと設定済となります。（設定済から未設定には戻りません。）"]
[]
[]
[null,"対策・施策の進捗管理"]

{"sheet":"1)基本設定","index":2,"n_rows":95,"n_cols":18,"rows_kept":95,"cut":false,"hidden":false,"merged":[[2,1,2,3],[35,3,37,3],[40,3,44,3],[49,3,49,5],[4,2,4,12],[19,8,19,9],[39,3,39,5],[23,8,23,9],[43,4,43,5],[36,4,36,5],[37,4,37,5],[16,11,27,12],[42,4,42,5],[28,2,28,12],[35,2,44,2],[54,2,54,12],[8,2,8,12],[14,2,14,12],[30,2,30,12],[52,2,52,12],[44,4,44,5],[45,3,45,5],[46,4,46,5],[46,3,47,3],[45,2,49,2],[47,4,47,5],[48,3,48,5],[38,3,38,5],[35,4,35,5],[40,4,41,4],[50,10,50,12]]}
[null,"1)基準年、現状年、目標年の設定・部門／分野の設定"]
[]
[null,"メインシートに戻る"]
[]
[null,null,"本シートでは、基準年、現状年、目標年の設定、部門／分野の設定を行います。\n①～③の入力・設定完了後、左の「完了」ボタンを押してください。\n本シートの設定に基づき２）以降のステップのシートの設定を行います。\n\n＜！注意！＞設定内容を入力（変更）した場合は、必ず「完了」ボタンを押してください。\n（「完了」ボタンを押さないと、変更した設定内容が反映されず表やグラフが正しく表示されません。）"]
[]
[]
[null,null,"①都道府県名、市区町村名の入力"]
[null,null,"都道府県名をプルダウン選択、市区町村名を入力してください。都道府県名の選択は必須です。"]
[]
[]
[null,null,"都道府県名",null,null,"市区町村名"]
[]
[null,null,"②基準年、現状年、目標年の入力"]
[null,null,"基準年、現状年、目標年をプルダウン選択してください。人口の入力は任意ですが、入力すると１人当たり排出量を自動計算し、「7)目標設定結果とグラフ」シートに表示します。また人口を入力すると人口の増減率を用いて３）現状趨勢（BAU）排出量の現況推計を簡易に行うこともできます。\n基準年は、日本の約束草案における基準年である2013年度が推奨されます。\n現状年は、排出量を把握できる直近年としてください。BAU排出量推計の基準となるため入力は必須です。基準年と同一年の場合も入力してください。\n目標年が単一であれば、短期目標年として設定してください。短期、中期、長期という呼称は、年度の相対的な関係を表しているのでその年度までの実際の期間には関係ありません。目標年は日本の約束草案に準じて2030年度が推奨されます。目標年を2030年度単一とする場合には短期目標年を2030年度とします。2030年度よりも前により短期的な目標年を設定する場合は、短期目標年を2020年度、中期目標年を2030年度と設定することを推奨します。長期目標を設定する場合には2050年度が推奨されます。\n中期目標年、長期目標年を設定する場合はそれぞれの選択状態を「設定する」としてから目標年を入力してください。短期目標年は必須のため「設定する」状態から変更できません。"]
[]
[]
[]
[null,null,"■基準年と現状年の設定",null,null,null,null,null,null,null,null,null,null,null,null,"基準年と現状年","目標年"]
[0,null,null,null,null,"年度",null,null,"人口※１",null,null,null,null,null,null,1990,2015,"北海道"]
[{"$f":"IF(F21<>\"\",F21,\"\")","v":2013},null,"基準年",null,null,2013,"年度",{"$f":"IF(F21=\"\",\"\",DATE(F21,1,1))","v":41275},null,"人",null,null,null,null,null,1991,2016,"青森県"]
[{"$f":"IF(F22<>\"\",F22,\"\")","v":2014},null,"現状年",null,null,2014,"年度",{"$f":"IF(F22=\"\",\"\",DATE(F22,1,1))","v":41640},null,"人",null,null,null,null,null,1992,2017,"岩手県"]
[null,null,"■目標年の設定",null,null,null,null,null,null,null,null,null,null,null,null,1993,2018,"宮城県"]
[null,null,null,null,"目標年の選択状態","年度",null,null,"人口※２",null,null,null,null,null,null,1994,2019,"秋田県"]
[{"$f":"F25","v":2030},null,"目標年（短期目標年）",null,"設定する（変更不可）",2030,"年度",{"$f":"IF(F25=\"\",\"\",DATE(F25,1,1))","v":47484},null,"人",null,null,null,null,null,1995,2020,"山形県"]
[null,null,null,null,null,null,null,null,null,null,null,null,null,null,null,1996,2021,"福島県"]
[{"$f":"IF(E27=\"設定する\",F27,\"\")","v":""},null,"　中期目標年",null,"設定しない",null,"年度",{"$f":"IF(F27=\"\",\"\",DATE(F27,1,1))","v":""},null,"人",null,null,null,null,null,1997,2022,"茨城県"]
[{"$f":"IF(E28=\"設定する\",F28,\"\")","v":""},null,"　長期目標年",null,"設定しない",null,"年度",{"$f":"IF(F28=\"\",\"\",DATE(F28,1,1))","v":""},null,"人",null,null,null,null,null,1998,2023,"栃木県"]
[null,null,"※１：市区町村別の過年度人口は、「住民基本台帳に基づく人口、人口動態及び世帯数調査」から引用することができます。\n※２：市区町村別の将来推計人口は、国立社会保障・人口問題研究所の「日本の地域別将来推計人口」から引用することができます。",null,null,null,null,null,null,null,null,null,null,null,null,1999,2024,"群馬県"]
[null,null,"③部門／分野の設定",null,null,null,null,null,null,null,null,null,null,null,null,2000,2025,"埼玉県"]
[null,null,"区域施策編で対象とする部門／分野を選択します。部門／分野ごとに「対象／対象外」を選択してください。内訳の区分がある部門／分野は内訳の区分ごとに選択が必要です。例えば、産業部門は製造業、建設業・鉱業、農林水産業ごとに設定が必要で、産業部門として排出量や削減量をまとめることはできません。どうしても内訳の区分ごとに設定が困難な場合は、便宜的に何れかの内訳に寄せて設定してください。例えば、産業部門をまとめて設定したい場合は製造業を産業部門と見なして設定してください。その場合、表やグラフでは製造業と表示されますが、結果を別ファイルにコピーして編集してください。\n対象とする部門／分野は、地方公共団体の規模に応じて右側の表を参考にしてください。\n製造業と業務その他部門は、事業所の規模別（大規模／中小規模）に目標を設定することが可能です。条例による計画書制度や算定・報告・公表制度等で大規模事業所の排出量を把握しており、規模別に目標を設定したい場合には規模別の設定有無を「設定する」としてください。",null,null,null,null,null,null,null,null,null,null,null,null,2001,2026,"千葉県"]
[null,null,null,null,null,null,null,null,null,null,null,null,null,null,null,2002,2027,"東京都"]
[null,null,null,null,null,null,null,null,null,null,null,null,null,null,null,2003,2028,"神奈川県"]
[null,null,null,null,null,null,null,null,null,null,null,null,null,null,null,2004,2029,"新潟県"]
[null,null,"ガス種","部門／分野",null,null,"対象／対象外","規模別の\n設定有無",null,null,"都道府県\n政令市","中核市\n施行時特例市","その他の\n市区町村",null,null,2005,2030,"富山県"]
[1,null,"エネルギー起源CO2","産業部門","製造業",null,"対象","設定しない",0,"産業部門（製造業）","●","●","●",null,null,2006,2031,"石川県"]
[1,null,null,null,"建設業・鉱業",null,"対象",null,null,"産業部門（建設業・鉱業）","●","●","●",null,null,2007,2032,"福井県"]
[1,null,null,null,"農林水産業",null,"対象",null,null,"産業部門（農林水産業）","●","●","●",null,null,2008,2033,"山梨県"]
[1,null,null,"業務その他部門",null,null,"対象","設定しない",0,"業務その他部門","●","●","●",null,null,2009,2034,"長野県"]
[1,null,null,"家庭部門",null,null,"対象",null,null,"家庭部門","●","●","●",null,null,2010,2035,"岐阜県"]
[1,null,null,"運輸部門","自動車","旅客","対象",null,null,"運輸部門（自動車（旅客））","●","●","●",null,null,2011,2036,"静岡県"]
[1,null,null,null,null,"貨物","対象",null,null,"運輸部門（自動車（貨物））","●","●","●",null,null,2012,2037,"愛知県"]
[1,null,null,null,"鉄道",null,"対象",null,null,"運輸部門（鉄道）","●","●","●",null,null,2013,2038,"三重県"]
[1,null,null,null,"船舶",null,"対象",null,null,"運輸部門（船舶）","●","●","●",null,null,2014,2039,"滋賀県"]
[1,null,null,null,"航空",null,"対象",null,null,"運輸部門（航空）","●","-","-",null,null,2015,2040,"京都府"]
[1,null,"エネルギー起源CO2以外","工業プロセス分野",null,null,"対象",null,null,"工業プロセス分野","●","●","△",null,null,2016,2041,"大阪府"]
[1,null,null,"廃棄物分野","一般廃棄物",null,"対象",null,null,"廃棄物分野（一般廃棄物）","●","●","●",null,null,2017,2042,"兵庫県"]
[1,null,null,null,"産業廃棄物",null,"対象",null,null,"廃棄物分野（産業廃棄物）","●","△","-",null,null,2018,2043,"奈良県"]
[1,null,null,"農業分野",null,null,"対象",null,null,"農業分野","●","●","△",null,null,2019,2044,"和歌山県"]
[1,null,null,"代替フロン等4ガス分野",null,null,"対象",null,null,"代替フロン等4ガス分野","●","△","△",null,null,2020,2045,"鳥取県"]
[null,null,null,null,null,null,null,null,null,null,"●：原則として対象とすべき\n△：可能であれば対象とすることを推奨",null,null,null,null,2021,2046,"島根県"]
[null,null,"④備考",null,null,null,null,null,null,null,null,null,null,null,null,2022,2047,"岡山県"]
[null,null,"本項目は任意のメモ欄です。作成日や作成担当者、作成時の留意事項、申し送り事項などを自由にご入力ください。",null,null,null,null,null,null,null,null,null,null,null,null,2023,2048,"広島県"]
[null,null,null,null,null,null,null,null,null,null,null,null,null,null,null,2024,2049,"山口県"]
[null,null,null,null,null,null,null,null,null,null,null,null,null,null,null,2025,2050,"徳島県"]
[null,null,null,null,null,null,null,null,null,null,null,null,null,null,null,2026,2051,"香川県"]
[null,null,null,null,null,null,null,null,null,null,null,null,null,null,null,2027,2052,"愛媛県"]
[null,null,null,null,null,null,null,null,null,null,null,null,null,null,null,2028,2053,"高知県"]
[null,null,null,null,null,null,null,null,null,null,null,null,null,null,null,2029,2054,"福岡県"]
[null,null,null,null,null,null,null,null,null,null,null,null,null,null,null,2030,2055,"佐賀県"]
[null,null,null,null,null,null,null,null,null,null,null,null,null,null,null,null,2056,"長崎県"]
[null,null,null,null,null,null,null,null,null,null,null,null,null,null,null,null,2057,"熊本県"]
[null,null,null,null,null,null,null,null,null,null,null,null,null,null,null,null,2058,"大分県"]
[null,null,null,null,null,null,null,null,null,null,null,null,null,null,null,null,2059,"宮崎県"]
[null,null,null,null,null,null,null,null,null,null,null,null,null,null,null,null,2060,"鹿児島県"]
[null,null,null,null,null,null,null,null,null,null,null,null,null,null,null,null,2061,"沖縄県"]
[null,null,null,null,null,null,null,null,null,null,null,null,null,null,null,null,2062]
[null,null,null,null,null,null,null,null,null,null,null,null,null,null,null,null,2063]
[null,null,null,null,null,null,null,null,null,null,null,null,null,null,null,null,2064]
[null,null,null,null,null,null,null,null,null,null,null,null,null,null,null,null,2065]
[null,null,null,null,null,null,null,null,null,null,null,null,null,null,null,null,2066]
[null,null,null,null,null,null,null,null,null,null,null,null,null,null,null,null,2067]
[null,null,null,null,null,null,null,null,null,null,null,null,null,null,null,null,2068]
[null,null,null,null,null,null,null,null,null,null,null,null,null,null,null,null,2069]
[null,null,null,null,null,null,null,null,null,null,null,null,null,null,null,null,2070]
[null,null,null,null,null,null,null,null,null,null,null,null,null,null,null,null,2071]
[null,null,null,null,null,null,null,null,null,null,null,null,null,null,null,null,2072]
[null,null,null,null,null,null,null,null,null,null,null,null,null,null,null,null,2073]
[null,null,null,null,null,null,null,null,null,null,null,null,null,null,null,null,2074]
[null,null,null,null,null,null,null,null,null,null,null,null,null,null,null,null,2075]
[null,null,null,null,null,null,null,null,null,null,null,null,null,null,null,null,2076]
[null,null,null,null,null,null,null,null,null,null,null,null,null,null,null,null,2077]
[null,null,null,null,null,null,null,null,null,null,null,null,null,null,null,null,2078]
[null,null,null,null,null,null,null,null,null,null,null,null,null,null,null,null,2079]
[null,null,null,null,null,null,null,null,null,null,null,null,null,null,null,null,2080]
[null,null,null,null,null,null,null,null,null,null,null,null,null,null,null,null,2081]
[null,null,null,null,null,null,null,null,null,null,null,null,null,null,null,null,2082]
[null,null,null,null,null,null,null,null,null,null,null,null,null,null,null,null,2083]
[null,null,null,null,null,null,null,null,null,null,null,null,null,null,null,null,2084]
[null,null,null,null,null,null,null,null,null,null,null,null,null,null,null,null,2085]
[null,null,null,null,null,null,null,null,null,null,null,null,null,null,null,null,2086]
[null,null,null,null,null,null,null,null,null,null,null,null,null,null,null,null,2087]
[null,null,null,null,null,null,null,null,null,null,null,null,null,null,null,null,2088]
[null,null,null,null,null,null,null,null,null,null,null,null,null,null,null,null,2089]
[null,null,null,null,null,null,null,null,null,null,null,null,null,null,null,null,2090]

{"sheet":"2)現況推計結果の入力","index":3,"n_rows":37,"n_cols":18,"rows_kept":37,"cut":false,"hidden":true,"merged":[[36,1,36,4],[34,2,34,4],[24,3,25,3],[26,3,26,4],[27,3,27,4],[28,3,28,4],[24,2,28,2],[29,1,33,1],[29,2,29,4],[30,2,31,2],[30,3,30,4],[31,3,31,4],[32,2,32,4],[33,2,33,4],[13,1,28,1],[36,12,36,13],[36,14,36,15],[15,3,16,3],[10,14,10,15],[9,12,9,15],[9,2,12,4],[9,5,9,8],[11,5,11,8],[20,2,20,4],[14,3,14,4],[13,2,18,2],[13,3,13,4],[19,2,19,4],[36,5,36,8],[36,9,36,11],[14,7,16,7],[11,14,11,15],[23,2,23,4],[11,12,11,13],[10,12,10,13],[11,9,11,11],[20,7,22,7],[21,2,22,3],[17,3,17,4],[18,3,18,4],[10,9,10,11],[1,1,1,3],[3,1,3,13],[7,1,7,10],[5,1,5,10],[9,1,12,1],[9,9,9,11]]}
[null,"2)温室効果ガス排出量の現況推計"]
[null,"メインシートに戻る"]
[]
[null,"■排出量及び活動量の入力\n本シートでは、現況（基準年と現状年）の部門／分野ごとの排出量と活動量を入力します。\n1)基本設定で選択した部門／分野のみ入力してください。基準年と現状年が同一年の場合は、基準年のみ入力してください。\n部門／分野別の排出原単位（排出量÷活動量）は自動計算されますので、目標を排出原単位とする場合に参照してください。\n\n\n\n\n\n\n\n\n\n\n１）基本設定シートで人口を入力している場合で、下記のオプション機能「活動量を人口で設定」を使うと、部門／分野に関わらず一律で人口を活動量として自動転記できます。部門／分野別の活動量が不明な場合に、簡易な活動量の設定方法として活用してください。\n"]
[]
[null,"□活動量を人口で設定（オプション機能）\n活動量の設定の簡易な方法として、全ての部門／分野の活動量を一律で人口とする場合には「活動量を人口で設定」ボタンをクリックしてください。1)基本設定シートで入力した人口を本シートと3)BAU排出量の推計シートの活動量に自動で転記します。単位は「人（人口）」になります。\nなお、既に入力済みの活動量がある場合には上書きしますので、ご注意ください。"]
[]
[null,"□電力排出係数の固定（オプション機能）\n目標設定で電力排出係数を固定して考えたい場合には、「電力排出係数の固定」ボタンを押して電力排出係数の設定を行ってください。現況（基準年と現状年）の排出量を任意の電力排出係数で固定（補正）します。補正結果は下表に自動表示されます。\n電力排出係数を固定する考え方は、地域の主体（行政、事業者、住民等）の削減努力に依らない電力排出係数変動の影響を排除し、削減努力のみを評価したい場合に採用します。ただし将来の排出量も固定した電力排出係数で把握する必要があります。\n３)現状趨勢（BAU）排出量の推計シートで、BAU排出量の電力排出係数の補正を行っている場合には設定できません。"]
[null,null,null,null,null,null,null,null,null,null,null,null,0]
[null,"ガス種","部門／分野",null,null,"基準年",null,null,null,"現状年",null,null,"電力排出係数固定後"]
[null,null,null,null,null,null,null,null,null,"※基準年と同一の場合は入力不要",null,null,"基準年",null,"現状年"]
[null,null,null,null,null,{"$f":"IF('1)基本設定'!F21=\"\",\"\",'1)基本設定'!F21 &\"年度\")","v":"2013年度"},null,null,null,{"$f":"IF('1)基本設定'!F22=\"\",\"\",'1)基本設定'!F22 &\"年度\")","v":"2014年度"},null,null,{"$f":"IF('1)基本設定'!F21=\"\",\"\",'1)基本設定'!F21 &\"年度\")","v":"2013年度"},null,{"$f":"IF('1)基本設定'!F22=\"\",\"\",'1)基本設定'!F22 &\"年度\")","v":"2014年度"}]
[null,null,null,null,null,"排出量","活動量","単位","排出原単位","排出量","活動量","排出原単位","排出量","排出原単位","排出量","排出原単位",null,"目標設定のプルダウン用"]
[1,"エネルギー起源CO2","産業部門","製造業",null,null,null,null,{"$f":"IF(G14=\"\",\"\",IF(G14=0,0,F14/G14))","v":""},null,null,{"$f":"IF(K14=\"\",\"\",IF(K14=0,0,SUM(J14)/K14))","v":""},null,{"$f":"IF(M14=\"\",\"\",IF(G14=\"\",\"\",IF(G14=0,0,M14/G14)))","v":""},null,{"$f":"IF(O14=\"\",\"\",IF(K14=\"\",\"\",IF(K14=0,0,O14/K14)))","v":""},null,"産業（製造業）"]
[0,null,null,"製造業",null,{"$f":"SUM(F16:F17)","v":0},{"$f":"SUM(G16:G17)","v":0},null,{"$f":"IF(G15=\"\",\"\",IF(G15=0,0,F15/G15))","v":0},{"$f":"SUM(J16:J17)","v":0},{"$f":"SUM(K16:K17)","v":0},{"$f":"IF(K15=\"\",\"\",IF(K15=0,0,SUM(J15)/K15))","v":0},{"$f":"IF($M$9=0,\"\",SUM(M16:M17))","v":""},{"$f":"IF(M15=\"\",\"\",IF(G15=\"\",\"\",IF(G15=0,0,M15/G15)))","v":""},{"$f":"IF($M$9=0,\"\",SUM(O16:O17))","v":""},{"$f":"IF(O15=\"\",\"\",IF(K15=\"\",\"\",IF(K15=0,0,O15/K15)))","v":""}]
[0,null,null,null,"大規模",null,null,null,{"$f":"IF(G16=\"\",\"\",IF(G16=0,0,F16/G16))","v":""},null,null,"",null,{"$f":"IF(M16=\"\",\"\",IF(G16=\"\",\"\",IF(G16=0,0,M16/G16)))","v":""},null,"",null,"産業（製造業）（大規模）"]
[0,null,null,null,"中小規模",null,null,null,"",null,null,"",null,{"$f":"IF(M17=\"\",\"\",IF(G17=\"\",\"\",IF(G17=0,0,M17/G17)))","v":""},null,"",null,"産業（製造業）（中小規模）"]
[1,null,null,"建設業・鉱業",null,null,null,null,"",null,null,"",null,{"$f":"IF(M18=\"\",\"\",IF(G18=\"\",\"\",IF(G18=0,0,M18/G18)))","v":""},null,"",null,"産業（建設業・鉱業）"]
[1,null,null,"農林水産業",null,null,null,null,"",null,null,"",null,{"$f":"IF(M19=\"\",\"\",IF(G19=\"\",\"\",IF(G19=0,0,M19/G19)))","v":""},null,"",null,"産業（農林水産業）"]
[1,null,"業務その他部門",null,null,null,null,null,{"$f":"IF(G20=\"\",\"\",IF(G20=0,0,F20/G20))","v":""},null,null,"",null,{"$f":"IF(M20=\"\",\"\",IF(G20=\"\",\"\",IF(G20=0,0,M20/G20)))","v":""},null,{"$f":"IF(O20=\"\",\"\",IF(K20=\"\",\"\",IF(K20=0,0,O20/K20)))","v":""},null,"業務その他"]
[0,null,"業務その他部門",null,null,{"$f":"SUM(F22:F23)","v":0},{"$f":"SUM(G22:G23)","v":0},null,{"$f":"IF(G21=\"\",\"\",IF(G21=0,0,F21/G21))","v":0},{"$f":"SUM(J22:J23)","v":0},{"$f":"SUM(K22:K23)","v":0},0,{"$f":"IF($M$9=0,\"\",SUM(M22:M23))","v":""},{"$f":"IF(M21=\"\",\"\",IF(G21=\"\",\"\",IF(G21=0,0,M21/G21)))","v":""},{"$f":"IF($M$9=0,\"\",SUM(O22:O23))","v":""},{"$f":"IF(O21=\"\",\"\",IF(K21=\"\",\"\",IF(K21=0,0,O21/K21)))","v":""}]
[0,null,null,null,"大規模",null,null,null,{"$f":"IF(G22=\"\",\"\",IF(G22=0,0,F22/G22))","v":""},null,null,"",null,{"$f":"IF(M22=\"\",\"\",IF(G22=\"\",\"\",IF(G22=0,0,M22/G22)))","v":""},null,{"$f":"IF(O22=\"\",\"\",IF(K22=\"\",\"\",IF(K22=0,0,O22/K22)))","v":""},null,"業務その他（大規模）"]
[0,null,null,null,"中小規模",null,null,null,{"$f":"IF(G23=\"\",\"\",IF(G23=0,0,F23/G23))","v":""},null,null,"",null,{"$f":"IF(M23=\"\",\"\",IF(G23=\"\",\"\",IF(G23=0,0,M23/G23)))","v":""},null,{"$f":"IF(O23=\"\",\"\",IF(K23=\"\",\"\",IF(K23=0,0,O23/K23)))","v":""},null,"業務その他（中小規模）"]
[1,null,"家庭部門",null,null,null,null,null,"",null,null,"",null,"",null,"",null,"家庭"]
[1,null,"運輸部門","自動車","旅客",null,null,null,"",null,null,"",null,"",null,"",null,"運輸（自動車（旅客））"]
[1,null,null,null,"貨物",null,null,null,{"$f":"IF(G26=\"\",\"\",IF(G26=0,0,F26/G26))","v":""},null,null,"",null,"",null,"",null,"運輸（自動車（貨物））"]
[1,null,null,"鉄道",null,null,null,null,"",null,null,"",null,"",null,"",null,"運輸（鉄道）"]
[1,null,null,"船舶",null,null,null,null,"",null,null,"",null,"",null,"",null,"運輸（船舶）"]
[1,null,null,"航空",null,null,null,null,"",null,null,"",null,"",null,"",null,"運輸（航空）"]
[1,"エネルギー起源CO2以外","工業プロセス分野",null,null,null,null,null,"",null,null,"",null,"",null,"",null,"工業プロセス"]
[1,null,"廃棄物分野","一般廃棄物",null,null,null,null,"",null,null,"",null,"",null,"",null,"廃棄物（一廃）"]
[1,null,null,"産業廃棄物",null,null,null,null,"",null,null,"",null,"",null,"",null,"廃棄物（産廃）"]
[1,null,"農業分野",null,null,null,null,null,"",null,null,"",null,"",null,"",null,"農業"]
[1,null,"代替フロン等4ガス分野",null,null,null,null,null,"",null,null,"",null,"",null,"",null,"代替フロン等4ガス"]
[null,"合計",null,null,null,{"$f":"SUM(F14:F34)-SUM(F15)-SUM(F21)","v":0},null,null,null,{"$f":"SUM(J14:J34)-SUM(J15)-SUM(J21)","v":0},null,null,{"$f":"IF(M9=0,\"\",SUM(M14:M34)-SUM(M15)-SUM(M21))","v":""},null,{"$f":"IF(M9=0,\"\",SUM(O14:O34)-SUM(O15)-SUM(O21))","v":""}]
[]
[null,"電力排出係数（t-CO2/kWh）"]

{"sheet":"電力排出係数の固定","index":4,"n_rows":23,"n_cols":9,"rows_kept":23,"cut":false,"hidden":true,"merged":[[20,1,20,3],[21,1,21,3],[22,2,22,3],[17,1,19,1],[17,2,17,3],[18,2,18,3],[19,2,19,3],[15,9,16,15],[14,1,14,3],[14,4,14,5],[2,1,2,15],[5,4,5,6],[5,1,5,3],[15,4,15,5],[11,1,11,3],[10,1,10,3],[15,1,16,3],[9,6,10,6],[5,8,11,15]]}
[null,"電力排出係数の固定"]
[]
[null,"本シートでは、固定に用いる電力排出係数と電力比率を入力します。入力後「電力排出係数の固定」を反映するボタンを押すと、２）温室効果ガス排出量の現況推計シートに固定後の現況（基準年と現状年）排出量を自動表示します。\n「電力排出係数の固定」を反映しないボタンを押すと、固定を反映せずに２）温室効果ガス排出量の現況推計シートに戻ります。既に固定していた場合には、固定を解除して戻ります。\n\n①電力排出係数の入力\n(1)基準年の電力排出係数で固定、もしくは(2)現状年の電力排出係数で固定を選択した場合には、基準年及び現状年の電力排出係数を入力してください。\n(3)任意の電力排出係数（将来値）で固定を選択した場合には、基準年及び現状年の電力排出係数、固定に用いる任意の電力排出係数を入力してください。\n※「電力排出係数と電力比率の取得」ボタンを押すと、都道府県別エネルギー消費統計から算出した都道府県別の電力排出係数平均値を自動転記します。\n（ただし1990年度～2013年度のみ対応。2014年度以降は空欄のままとなります。）\n\n②電力比率（排出量に占める電力起源CO2の割合）の入力\n電力排出係数の固定（補正）は、排出量のうち電力起源CO2のみに行います。基準年及び現状年の電力比率を入力してください。電力比率は部門／分野や地域により異なります。例えば、化石燃料を多く使用するエネルギー多消費産業が中心であれば製造業の電力比率は小さくなります。\n※「電力排出係数と電力比率の取得」ボタンを押すと、都道府県別エネルギー消費統計から算出した都道府県別の電力比率平均値を自動転記します。\n（ただし1990年度～2013年度のみ対応。2014年度以降は2013年度の値を自動転記。鉄道部門は固定値100％。）"]
[]
[]
[null,"電力排出係数の固定方法※１",null,null,"(1)基準年の電力排出係数で固定",null,null,1,"※１：電力排出係数の固定方法は、「電力排出係数の固定」ボタンを押した際に選択した方法を表示します。固定方法は以下の３種類です。\n\n（１）基準年の電力排出係数で固定\n（２）現状年の電力排出係数で固定\n（３）任意の電力排出係数（将来値）で固定\n\n固定方法を変更したい場合は、一度「電力排出係数の固定」を反映しないボタンを押して前のシートに戻り、再度「電力排出係数の固定」ボタンを押して選択し直してください。"]
[]
[]
[null,"①電力排出係数の入力"]
[null,null,null,null,"基準年","現状年","任意の排出係数で固定する場合"]
[null,"対象年度",null,null,{"$f":"IF('1)基本設定'!F21=\"\",\"\",'1)基本設定'!F21 &\"年度\")","v":"2013年度"},{"$f":"IF('1)基本設定'!F22=\"\",\"\",'1)基本設定'!F22 &\"年度\")","v":"2014年度"}]
[null,"電力排出係数（t-CO2/kWh）"]
[]
[null,"②電力比率（排出量に占める電力起源CO2の割合）の入力"]
[null,"都道府県",null,null,{"$f":"IF('1)基本設定'!E12=\"\",\"\",'1)基本設定'!E12)","v":""}]
[null,"部門／分野",null,null,"電力比率"]
[null,null,null,null,"基準年","現状年"]
[null,"産業部門","製造業",null,null,null,"　　　↑都道府県別エネルギー消費統計から"]
[null,null,"建設業・鉱業",null,null,null,"　　　　算出した平均値を自動転記します。"]
[null,null,"農林水産業"]
[null,"業務その他部門"]
[null,"家庭部門"]
[null,"運輸部門","鉄道"]

{"sheet":"3)BAU排出量の推計","index":5,"n_rows":37,"n_cols":23,"rows_kept":37,"cut":false,"hidden":true,"merged":[[15,3,16,3],[11,5,11,8],[11,9,11,10],[4,13,4,16],[9,2,9,4],[9,9,9,10],[9,11,9,12],[9,13,9,16],[36,5,36,8],[36,13,36,14],[36,15,36,16],[36,1,36,4],[9,5,9,8],[10,13,10,14],[13,2,18,2],[13,3,13,4],[21,2,22,3],[10,15,10,16],[11,13,11,14],[10,5,10,8],[32,2,32,4],[11,15,11,16],[14,3,14,4],[13,1,28,1],[20,2,20,4],[34,2,34,4],[24,2,28,2],[24,3,25,3],[26,3,26,4],[27,3,27,4],[28,3,28,4],[1,1,1,2],[3,1,3,12],[5,1,5,10],[29,1,33,1],[29,2,29,4],[30,2,31,2],[30,3,30,4],[31,3,31,4],[33,2,33,4],[17,3,17,4],[18,3,18,4],[11,11,11,12],[14,7,16,7],[20,7,22,7],[23,2,23,4],[19,2,19,4]]}
[null,"3)現状趨勢（BAU）排出量の推計"]
[null,"メインシートに戻る"]
[]
[null,"■活動量の入力\n本シートでは、設定した目標年の推計活動量を部門／分野ごとに入力します。１）基本設定で選択した部門／分野のみ同じ単位で入力してください。\nBAU排出量は、現状年の排出量に対して、目標年の活動量と現状年の活動量の比に比例すると仮定して自動計算されます。\n２）温室効果ガス排出量の現況推計シートで「活動量を人口で設定」している場合は、１）基本設定シートで入力した目標年の人口が自動転記されています。\n\n\n"]
[]
[null,"□BAU排出量の電力排出係数補正（オプション機能）\n目標年のBAU排出量の推計で将来の電力排出係数の改善を反映する場合には、「BAU排出量の電力排出係数補正」ボタンから設定を行ってください。BAU排出量を活動量及び任意の電力排出係数で補正します。補正結果は下表に自動表示されます。\nBAU排出量の電力排出係数を補正する考え方は、将来の電力排出係数改善による排出量の減少を現状趨勢（BAU）に織り込みたい場合に採用します。ただし2)現況推計結果の入力シートで、電力排出係数の固定を行っている場合には設定できません。"]
[]
[]
[]
[null,"ガス種","部門／分野",null,null,"現状年",null,null,null,"短期目標年",null,"中期目標年",null,"電力排出係数補正後",null,null,null,0]
[null,null,null,null,{"$f":"'2)現況推計結果の入力'!M9","v":0},{"$f":"IF(E11=1,\"※「電力排出係数の固定」済み\",\"\")","v":""},null,null,null,null,null,null,null,"短期目標年",null,"中期目標年"]
[null,null,null,null,null,{"$f":"IF('1)基本設定'!F22=\"\",\"\",'1)基本設定'!F22 &\"年度\")","v":"2014年度"},null,null,null,{"$f":"IF('1)基本設定'!F25=\"\",\"\",'1)基本設定'!F25 &\"年度\")","v":"2030年度"},null,{"$f":"IF('1)基本設定'!E27=\"設定しない\",\"\",IF('1)基本設定'!F27=\"\",\"\",'1)基本設定'!F27 &\"年度\"))","v":""},null,{"$f":"IF('1)基本設定'!F25=\"\",\"\",'1)基本設定'!F25 &\"年度\")","v":"2030年度"},null,{"$f":"IF('1)基本設定'!E27=\"設定しない\",\"\",IF('1)基本設定'!F27=\"\",\"\",'1)基本設定'!F27 &\"年度\"))","v":""}]
[null,null,null,null,null,"排出量","活動量","単位","排出原単位","推計活動量","BAU排出量","推計活動量","BAU排出量","BAU排出量","BAU排出原単位","BAU排出量","BAU排出原単位",null,null,null,null,"短期","中期"]
[{"$f":"'2)現況推計結果の入力'!A14","v":1},"エネルギー起源CO2","産業部門","製造業",null,{"$f":"IF($E$11=1,IF('2)現況推計結果の入力'!O14=\"\",\"\",'2)現況推計結果の入力'!O14),IF('2)現況推計結果の入力'!J14=\"\",\"\",'2)現況推計結果の入力'!J14))","v":""},{"$f":"IF('2)現況推計結果の入力'!K14=\"\",\"\",'2)現況推計結果の入力'!K14)","v":""},{"$f":"IF('2)現況推計結果の入力'!H14=\"\",\"\",('2)現況推計結果の入力'!H14))","v":""},{"$f":"IF(OR(G14=\"\",F14=\"\"),\"\",IF(G14=0,0,F14/G14))","v":""},null,{"$f":"IF(OR(J14=\"\",J14=0),F14,IF(ISERROR(F14*(J14/G14)),\"\",F14*(J14/G14)))","v":""},null,{"$f":"IF(L$12=\"\",\"\",IF(OR(L14=\"\",L14=0),F14,IF(ISERROR(F14*(L14/G14)),\"\",F14*(L14/G14))))","v":""},null,{"$f":"IF(N14=\"\",\"\",IF(J14=\"\",\"\",IF(J14=0,0,N14/J14)))","v":""},null,{"$f":"IF(P14=\"\",\"\",IF(L14=\"\",\"\",IF(L14=0,0,P14/L14)))","v":""},null,null,null,"産業（製造業）",{"$f":"IF($R$10=1,N14,K14)","v":""},{"$f":"IF($R$10=1,P14,M14)","v":""}]
[{"$f":"'2)現況推計結果の入力'!A15","v":0},null,null,"製造業",null,{"$f":"SUM(F16:F17)","v":0},{"$f":"IF('2)現況推計結果の入力'!K15=\"\",\"\",'2)現況推計結果の入力'!K15)","v":0},{"$f":"IF('2)現況推計結果の入力'!H15=\"\",\"\",('2)現況推計結果の入力'!H15))","v":""},{"$f":"IF(OR(G15=\"\",F15=\"\"),\"\",IF(G15=0,0,F15/G15))","v":0},{"$f":"IF(COUNTBLANK(J16:J17) =2,\"\",SUM(J16:J17))","v":""},{"$f":"IF(OR(J15=\"\",J15=0),F15,IF(ISERROR(F15*(J15/G15)),\"\",F15*(J15/G15)))","v":0},{"$f":"IF($L$12=\"\",\"\",IF(COUNTBLANK(L16:L17)=2,\"\",SUM(L16:L17)))","v":""},{"$f":"IF(L$12=\"\",\"\",IF(OR(L15=\"\",L15=0),F15,IF(ISERROR(F15*(L15/G15)),\"\",F15*(L15/G15))))","v":""},{"$f":"IF($R$10=0,\"\",SUM(N16:N17))","v":""},{"$f":"IF(N15=\"\",\"\",IF(J15=\"\",\"\",IF(J15=0,0,N15/J15)))","v":""},{"$f":"IF($P$12=\"\",\"\",IF($R$10=0,\"\",SUM(P16:P17)))","v":""},{"$f":"IF(P15=\"\",\"\",IF(L15=\"\",\"\",IF(L15=0,0,P15/L15)))","v":""},null,null,null,null,{"$f":"IF($R$10=1,N15,K15)","v":0},{"$f":"IF($R$10=1,P15,M15)","v":""}]
[{"$f":"'2)現況推計結果の入力'!A16","v":0},null,null,null,"大規模",{"$f":"IF($E$11=1,IF('2)現況推計結果の入力'!O16=\"\",\"\",'2)現況推計結果の入力'!O16),IF('2)現況推計結果の入力'!J16=\"\",\"\",'2)現況推計結果の入力'!J16))","v":""},{"$f":"IF('2)現況推計結果の入力'!K16=\"\",\"\",'2)現況推計結果の入力'!K16)","v":""},null,"",null,{"$f":"IF(OR(J16=\"\",J16=0),F16,IF(ISERROR(F16*(J16/G16)),\"\",F16*(J16/G16)))","v":""},null,"",null,"",null,"",null,null,null,"産業（製造業）（大規模）",{"$f":"IF($R$10=1,N16,K16)","v":""},""]
[{"$f":"'2)現況推計結果の入力'!A17","v":0},null,null,null,"中小規模",{"$f":"IF($E$11=1,IF('2)現況推計結果の入力'!O17=\"\",\"\",'2)現況推計結果の入力'!O17),IF('2)現況推計結果の入力'!J17=\"\",\"\",'2)現況推計結果の入力'!J17))","v":""},{"$f":"IF('2)現況推計結果の入力'!K17=\"\",\"\",'2)現況推計結果の入力'!K17)","v":""},null,"",null,"",null,"",null,"",null,"",null,null,null,"産業（製造業）（中小規模）","",""]
[{"$f":"'2)現況推計結果の入力'!A18","v":1},null,null,"建設業・鉱業",null,{"$f":"IF($E$11=1,IF('2)現況推計結果の入力'!O18=\"\",\"\",'2)現況推計結果の入力'!O18),IF('2)現況推計結果の入力'!J18=\"\",\"\",'2)現況推計結果の入力'!J18))","v":""},{"$f":"IF('2)現況推計結果の入力'!K18=\"\",\"\",'2)現況推計結果の入力'!K18)","v":""},{"$f":"IF('2)現況推計結果の入力'!H18=\"\",\"\",('2)現況推計結果の入力'!H18))","v":""},"",null,"",null,"",null,"",null,"",null,null,null,"産業（建設業・鉱業）","",""]
[{"$f":"'2)現況推計結果の入力'!A19","v":1},null,null,"農林水産業",null,{"$f":"IF($E$11=1,IF('2)現況推計結果の入力'!O19=\"\",\"\",'2)現況推計結果の入力'!O19),IF('2)現況推計結果の入力'!J19=\"\",\"\",'2)現況推計結果の入力'!J19))","v":""},{"$f":"IF('2)現況推計結果の入力'!K19=\"\",\"\",'2)現況推計結果の入力'!K19)","v":""},{"$f":"IF('2)現況推計結果の入力'!H19=\"\",\"\",('2)現況推計結果の入力'!H19))","v":""},"",null,"",null,"",null,"",null,"",null,null,null,"産業（農林水産業）","",""]
[{"$f":"'2)現況推計結果の入力'!A20","v":1},null,"業務その他部門",null,null,{"$f":"IF($E$11=1,IF('2)現況推計結果の入力'!O20=\"\",\"\",'2)現況推計結果の入力'!O20),IF('2)現況推計結果の入力'!J20=\"\",\"\",'2)現況推計結果の入力'!J20))","v":""},{"$f":"IF('2)現況推計結果の入力'!K20=\"\",\"\",'2)現況推計結果の入力'!K20)","v":""},{"$f":"IF('2)現況推計結果の入力'!H20=\"\",\"\",('2)現況推計結果の入力'!H20))","v":""},"",null,"",null,"",null,"",null,"",null,null,null,"業務その他",{"$f":"IF($R$10=1,N20,K20)","v":""},{"$f":"IF($R$10=1,P20,M20)","v":""}]
[{"$f":"'2)現況推計結果の入力'!A21","v":0},null,"業務その他部門",null,null,{"$f":"SUM(F22:F23)","v":0},{"$f":"IF('2)現況推計結果の入力'!K21=\"\",\"\",'2)現況推計結果の入力'!K21)","v":0},{"$f":"IF('2)現況推計結果の入力'!H21=\"\",\"\",('2)現況推計結果の入力'!H21))","v":""},0,{"$f":"IF(COUNTBLANK(J22:J23) =2,\"\",SUM(J22:J23))","v":""},{"$f":"IF(OR(J21=\"\",J21=0),F21,IF(ISERROR(F21*(J21/G21)),\"\",F21*(J21/G21)))","v":0},{"$f":"IF($L$12=\"\",\"\",IF(COUNTBLANK(L22:L23)=2,\"\",SUM(L22:L23)))","v":""},"",{"$f":"IF($R$10=0,\"\",SUM(N22:N23))","v":""},"",{"$f":"IF($P$12=\"\",\"\",IF($R$10=0,\"\",SUM(P22:P23)))","v":""},"",null,null,null,null,{"$f":"IF($R$10=1,N21,K21)","v":0},{"$f":"IF($R$10=1,P21,M21)","v":""}]
[{"$f":"'2)現況推計結果の入力'!A22","v":0},null,null,null,"大規模",{"$f":"IF($E$11=1,IF('2)現況推計結果の入力'!O22=\"\",\"\",'2)現況推計結果の入力'!O22),IF('2)現況推計結果の入力'!J22=\"\",\"\",'2)現況推計結果の入力'!J22))","v":""},{"$f":"IF('2)現況推計結果の入力'!K22=\"\",\"\",'2)現況推計結果の入力'!K22)","v":""},null,"",null,"",null,"",null,"",null,"",null,null,null,"業務その他（大規模）",{"$f":"IF($R$10=1,N22,K22)","v":""},{"$f":"IF($R$10=1,P22,M22)","v":""}]
[{"$f":"'2)現況推計結果の入力'!A23","v":0},null,null,null,"中小規模",{"$f":"IF($E$11=1,IF('2)現況推計結果の入力'!O23=\"\",\"\",'2)現況推計結果の入力'!O23),IF('2)現況推計結果の入力'!J23=\"\",\"\",'2)現況推計結果の入力'!J23))","v":""},{"$f":"IF('2)現況推計結果の入力'!K23=\"\",\"\",'2)現況推計結果の入力'!K23)","v":""},null,"",null,"",null,"",null,"",null,"",null,null,null,"業務その他（中小規模）",{"$f":"IF($R$10=1,N23,K23)","v":""},{"$f":"IF($R$10=1,P23,M23)","v":""}]
[{"$f":"'2)現況推計結果の入力'!A24","v":1},null,"家庭部門",null,null,{"$f":"IF($E$11=1,IF('2)現況推計結果の入力'!O24=\"\",\"\",'2)現況推計結果の入力'!O24),IF('2)現況推計結果の入力'!J24=\"\",\"\",'2)現況推計結果の入力'!J24))","v":""},{"$f":"IF('2)現況推計結果の入力'!K24=\"\",\"\",'2)現況推計結果の入力'!K24)","v":""},{"$f":"IF('2)現況推計結果の入力'!H24=\"\",\"\",('2)現況推計結果の入力'!H24))","v":""},"",null,"",null,"",null,"",null,"",null,null,null,"家庭","",""]
[{"$f":"'2)現況推計結果の入力'!A25","v":1},null,"運輸部門","自動車","旅客",{"$f":"IF($E$11=1,IF('2)現況推計結果の入力'!O25=\"\",\"\",'2)現況推計結果の入力'!O25),IF('2)現況推計結果の入力'!J25=\"\",\"\",'2)現況推計結果の入力'!J25))","v":""},{"$f":"IF('2)現況推計結果の入力'!K25=\"\",\"\",'2)現況推計結果の入力'!K25)","v":""},{"$f":"IF('2)現況推計結果の入力'!H25=\"\",\"\",('2)現況推計結果の入力'!H25))","v":""},"",null,"",null,"",null,"",null,"",null,null,null,"運輸（自動車（旅客））","",""]
[{"$f":"'2)現況推計結果の入力'!A26","v":1},null,null,null,"貨物",{"$f":"IF($E$11=1,IF('2)現況推計結果の入力'!O26=\"\",\"\",'2)現況推計結果の入力'!O26),IF('2)現況推計結果の入力'!J26=\"\",\"\",'2)現況推計結果の入力'!J26))","v":""},{"$f":"IF('2)現況推計結果の入力'!K26=\"\",\"\",'2)現況推計結果の入力'!K26)","v":""},{"$f":"IF('2)現況推計結果の入力'!H26=\"\",\"\",('2)現況推計結果の入力'!H26))","v":""},"",null,"",null,"",null,"",null,"",null,null,null,"運輸（自動車（貨物））","",""]
[{"$f":"'2)現況推計結果の入力'!A27","v":1},null,null,"鉄道",null,{"$f":"IF($E$11=1,IF('2)現況推計結果の入力'!O27=\"\",\"\",'2)現況推計結果の入力'!O27),IF('2)現況推計結果の入力'!J27=\"\",\"\",'2)現況推計結果の入力'!J27))","v":""},{"$f":"IF('2)現況推計結果の入力'!K27=\"\",\"\",'2)現況推計結果の入力'!K27)","v":""},{"$f":"IF('2)現況推計結果の入力'!H27=\"\",\"\",('2)現況推計結果の入力'!H27))","v":""},"",null,"",null,"",null,"",null,"",null,null,null,"運輸（鉄道）","",""]
[{"$f":"'2)現況推計結果の入力'!A28","v":1},null,null,"船舶",null,{"$f":"IF($E$11=1,IF('2)現況推計結果の入力'!O28=\"\",\"\",'2)現況推計結果の入力'!O28),IF('2)現況推計結果の入力'!J28=\"\",\"\",'2)現況推計結果の入力'!J28))","v":""},{"$f":"IF('2)現況推計結果の入力'!K28=\"\",\"\",'2)現況推計結果の入力'!K28)","v":""},{"$f":"IF('2)現況推計結果の入力'!H28=\"\",\"\",('2)現況推計結果の入力'!H28))","v":""},"",null,"",null,"",null,"",null,"",null,null,null,"運輸（船舶）","",""]
[{"$f":"'2)現況推計結果の入力'!A29","v":1},null,null,"航空",null,{"$f":"IF($E$11=1,IF('2)現況推計結果の入力'!O29=\"\",\"\",'2)現況推計結果の入力'!O29),IF('2)現況推計結果の入力'!J29=\"\",\"\",'2)現況推計結果の入力'!J29))","v":""},{"$f":"IF('2)現況推計結果の入力'!K29=\"\",\"\",'2)現況推計結果の入力'!K29)","v":""},{"$f":"IF('2)現況推計結果の入力'!H29=\"\",\"\",('2)現況推計結果の入力'!H29))","v":""},"",null,"",null,"",null,"",null,"",null,null,null,"運輸（航空）","",""]
[{"$f":"'2)現況推計結果の入力'!A30","v":1},"エネルギー起源CO2以外","工業プロセス分野",null,null,{"$f":"IF($E$11=1,IF('2)現況推計結果の入力'!O30=\"\",\"\",'2)現況推計結果の入力'!O30),IF('2)現況推計結果の入力'!J30=\"\",\"\",'2)現況推計結果の入力'!J30))","v":""},{"$f":"IF('2)現況推計結果の入力'!K30=\"\",\"\",'2)現況推計結果の入力'!K30)","v":""},{"$f":"IF('2)現況推計結果の入力'!H30=\"\",\"\",('2)現況推計結果の入力'!H30))","v":""},"",null,"",null,"",null,"",null,"",null,null,null,"工業プロセス","",""]
[{"$f":"'2)現況推計結果の入力'!A31","v":1},null,"廃棄物分野","一般廃棄物",null,{"$f":"IF($E$11=1,IF('2)現況推計結果の入力'!O31=\"\",\"\",'2)現況推計結果の入力'!O31),IF('2)現況推計結果の入力'!J31=\"\",\"\",'2)現況推計結果の入力'!J31))","v":""},{"$f":"IF('2)現況推計結果の入力'!K31=\"\",\"\",'2)現況推計結果の入力'!K31)","v":""},{"$f":"IF('2)現況推計結果の入力'!H31=\"\",\"\",('2)現況推計結果の入力'!H31))","v":""},"",null,"",null,"",null,"",null,"",null,null,null,"廃棄物（一廃）","",""]
[{"$f":"'2)現況推計結果の入力'!A32","v":1},null,null,"産業廃棄物",null,{"$f":"IF($E$11=1,IF('2)現況推計結果の入力'!O32=\"\",\"\",'2)現況推計結果の入力'!O32),IF('2)現況推計結果の入力'!J32=\"\",\"\",'2)現況推計結果の入力'!J32))","v":""},{"$f":"IF('2)現況推計結果の入力'!K32=\"\",\"\",'2)現況推計結果の入力'!K32)","v":""},{"$f":"IF('2)現況推計結果の入力'!H32=\"\",\"\",('2)現況推計結果の入力'!H32))","v":""},"",null,"",null,"",null,"",null,"",null,null,null,"廃棄物（産廃）","",""]
[{"$f":"'2)現況推計結果の入力'!A33","v":1},null,"農業分野",null,null,{"$f":"IF($E$11=1,IF('2)現況推計結果の入力'!O33=\"\",\"\",'2)現況推計結果の入力'!O33),IF('2)現況推計結果の入力'!J33=\"\",\"\",'2)現況推計結果の入力'!J33))","v":""},{"$f":"IF('2)現況推計結果の入力'!K33=\"\",\"\",'2)現況推計結果の入力'!K33)","v":""},{"$f":"IF('2)現況推計結果の入力'!H33=\"\",\"\",('2)現況推計結果の入力'!H33))","v":""},"",null,"",null,"",null,"",null,"",null,null,null,"農業","",""]
[{"$f":"'2)現況推計結果の入力'!A34","v":1},null,"代替フロン等4ガス分野",null,null,{"$f":"IF($E$11=1,IF('2)現況推計結果の入力'!O34=\"\",\"\",'2)現況推計結果の入力'!O34),IF('2)現況推計結果の入力'!J34=\"\",\"\",'2)現況推計結果の入力'!J34))","v":""},{"$f":"IF('2)現況推計結果の入力'!K34=\"\",\"\",'2)現況推計結果の入力'!K34)","v":""},{"$f":"IF('2)現況推計結果の入力'!H34=\"\",\"\",('2)現況推計結果の入力'!H34))","v":""},"",null,"",null,"",null,"",null,"",null,null,null,"代替フロン等4ガス",{"$f":"IF($R$10=1,N34,K34)","v":""},{"$f":"IF($R$10=1,P34,M34)","v":""}]
[null,"合計",null,null,null,{"$f":"SUM(F14:F34)-SUM(F15)-SUM(F21)","v":0},null,null,null,null,{"$f":"SUM(K14:K34)-SUM(K15)-SUM(K21)","v":0},null,{"$f":"IF($L$12=\"\",\"\",SUM(M14:M34)-SUM(M15)-SUM(M21))","v":""},{"$f":"IF(R10=0,\"\",SUM(N14:N34)-SUM(N15)-SUM(N21))","v":""},null,{"$f":"IF(P12=\"\",\"\",IF(R10=0,\"\",SUM(P14:P34)-SUM(P15)-SUM(P21)))","v":""},null,null,null,null,"吸収","－","－"]
[]
[null,"電力排出係数（t-CO2/kWh）"]

{"sheet":"電力排出係数補正","index":6,"n_rows":22,"n_cols":7,"rows_kept":22,"cut":false,"hidden":true,"merged":[[21,2,21,3],[20,1,20,3],[2,1,2,15],[19,1,19,3],[10,1,10,3],[11,1,11,3],[15,1,15,3],[16,1,18,1],[16,2,16,3],[17,2,17,3],[18,2,18,3],[15,7,16,13],[14,1,14,3]]}
[null,"BAU排出量の電力排出係数補正"]
[]
[null,"本シートでは、BAU排出量の電力排出係数補正に用いる電力排出係数と電力比率を入力します。入力後「BAU排出量の電力排出係数補正」を反映するボタンを押すと、３）現状趨勢（BAU）排出量の推計シートに補正後のBAU排出量を自動表示します。\n「BAU排出量の電力排出係数補正」を反映しないボタンを押すと、補正を反映せずに３）現状趨勢（BAU）排出量の推計シートに戻ります。既に補正していた場合には、補正を解除して戻ります。\n\n①電力排出係数の入力\n現状年及び目標年の電力排出係数を入力してください。目標年の電力排出係数は、長期エネルギー需給見通し（平成27年７月　経済産業省）で示された2030年度の目標値0.000370t-CO2/kWhを参考にしてください。\n※「電力排出係数と電力比率の取得」ボタンを押すと、都道府県別エネルギー消費統計から算出した都道府県別の電力排出係数平均値を自動転記します。\n（ただし1990年度～2013年度のみ対応。2014年度以降は空欄のままとなります。）\n\n②電力比率（排出量に占める電力起源CO2の割合）の入力\n電力排出係数の補正は、排出量のうち電力起源CO2のみに行います。現状年の電力比率を入力してください。電力比率は部門／分野や地域により異なります。例えば、化石燃料を多く使用するエネルギー多消費産業が中心であれば製造業の電力比率は小さくなります。目標年の電力比率は現状年から変わらないと仮定します。\n※「電力排出係数と電力比率の取得」ボタンを押すと、都道府県別エネルギー消費統計から算出した都道府県別の電力比率平均値を自動転記します。\n（ただし1990年度～2013年度のみ対応。2014年度以降は2013年度の値を自動転記します。鉄道部門は固定値100%。）"]
[]
[]
[]
[]
[]
[null,"①電力排出係数の入力"]
[null,null,null,null,"現状年","短期目標年","中期目標年"]
[null,"対象年度",null,null,{"$f":"IF('1)基本設定'!F22=\"\",\"\",'1)基本設定'!F22 &\"年度\")","v":"2014年度"},{"$f":"IF('1)基本設定'!F25=\"\",\"\",'1)基本設定'!F25 &\"年度\")","v":"2030年度"},{"$f":"IF('1)基本設定'!E27=\"設定しない\",\"\",IF('1)基本設定'!F27=\"\",\"\",'1)基本設定'!F27 &\"年度\"))","v":""}]
[null,"電力排出係数（t-CO2/kWh）"]
[]
[null,"②電力比率（排出量に占める電力起源CO2の割合）の入力"]
[null,"都道府県",null,null,{"$f":"IF('1)基本設定'!E12=\"\",\"\",'1)基本設定'!E12)","v":""}]
[null,"部門／分野",null,null,"電力比率"]
[null,"産業部門","製造業"]
[null,null,"建設業・鉱業"]
[null,null,"農林水産業",null,null,"　　↑都道府県別エネルギー消費統計から"]
[null,"業務その他部門",null,null,null,"　　　算出した平均値を自動転記します。"]
[null,"家庭部門"]
[null,"運輸部門","鉄道"]

{"sheet":"4)短期目標の設定","index":7,"n_rows":36,"n_cols":19,"rows_kept":36,"cut":false,"hidden":true,"merged":[[14,18,16,18],[20,18,22,18],[11,14,11,17],[34,2,34,4],[29,1,34,1],[13,2,18,2],[13,3,13,4],[23,2,23,4],[26,3,26,4],[27,3,27,4],[35,2,35,4],[29,2,29,4],[30,2,31,2],[30,3,30,4],[31,3,31,4],[32,2,32,4],[33,2,33,4],[9,12,9,18],[10,14,10,17],[9,5,9,10],[10,7,10,10],[9,2,9,4],[1,1,1,2],[3,1,3,9],[15,3,16,3],[17,3,17,4],[18,3,18,4],[13,1,28,1],[19,2,19,4],[14,3,14,4],[20,2,20,4],[21,2,22,3],[24,2,28,2],[24,3,25,3],[28,3,28,4],[11,7,11,10]]}
[null,"4)短期の排出削減対策及び削減目標値の設定"]
[null,"メインシートに戻る"]
[]
[null,"本ツールでは削減目標を部門／分野ごと、対策・施策ごとに積上げて設定します。右の「部門別目標設定」ボタンを押して短期目標年の対策・施策及び削減目標を設定してください。\n\n本シートには、入力欄はありません。短期目標年のBAU排出量、削減目標量、目標排出量、基準年比削減率が確認できます。また、排出原単位（排出量÷活動量）目標を自動計算します。計画の目標を排出原単位目標とする場合も、排出原単位は排出量と活動量から作成するため総量目標の設定は必須です。"]
[]
[]
[]
[]
[null,null,null,{"$f":"'2)現況推計結果の入力'!M9","v":0},{"$f":"'3)BAU排出量の推計'!R10","v":0},{"$f":"IF(D9=1,\"※電力排出係数固定済\",IF(E9=1,\"※電力排出係数補正済\",\"\"))","v":""}]
[null,"ガス種","部門／分野",null,null,"総量目標",null,null,null,null,null,null,"原単位目標"]
[null,null,null,null,null,"基準年","現状年","短期目標年",null,null,null,null,"基準年","現状年","短期目標年",null,null,null,"活動量"]
[null,null,null,null,null,{"$f":"IF('1)基本設定'!F21=\"\",\"\",'1)基本設定'!F21 &\"年度\")","v":"2013年度"},{"$f":"IF('1)基本設定'!F22=\"\",\"\",'1)基本設定'!F22 &\"年度\")","v":"2014年度"},{"$f":"IF('1)基本設定'!F25=\"\",\"\",'1)基本設定'!F25 &\"年度\")","v":"2030年度"},null,null,null,null,{"$f":"IF('1)基本設定'!F21=\"\",\"\",'1)基本設定'!F21 &\"年度\")","v":"2013年度"},{"$f":"IF('1)基本設定'!F22=\"\",\"\",'1)基本設定'!F22 &\"年度\")","v":"2014年度"},{"$f":"IF('1)基本設定'!F25=\"\",\"\",'1)基本設定'!F25 &\"年度\")","v":"2030年度"}]
[null,null,null,null,null,"排出量","排出量","BAU排出量","削減目標量","目標排出量\n(BAU排出量-削減目標量）","基準年比削減率",null,"原単位","原単位","BAU原単位","原単位\n削減目標量","目標原単位\n(BAU原単位-原単位削減目標量）","基準年比\n原単位削減率","単位"]
[{"$f":"'3)BAU排出量の推計'!A14","v":1},"エネルギー起源CO2","産業部門","製造業",null,{"$f":"IF($D$9=1,IF('2)現況推計結果の入力'!M14=\"\",\"\",'2)現況推計結果の入力'!M14),IF('2)現況推計結果の入力'!F14=\"\",\"\",'2)現況推計結果の入力'!F14))","v":""},{"$f":"IF('3)BAU排出量の推計'!F14=\"\",\"\",'3)BAU排出量の推計'!F14)","v":""},{"$f":"IF($E$9=1,IF('3)BAU排出量の推計'!N14=\"\",\"\",'3)BAU排出量の推計'!N14),'3)BAU排出量の推計'!K14)","v":""},0,{"$f":"IF(ISERROR(H14-I14),\"\",H14-I14)","v":""},{"$f":"IF(F14=\"\",\"\",IF(F14=0,0,IF(J14=\"\",\"\",(1-(J14/F14)))))","v":""},null,{"$f":"IF($D$9=1,'2)現況推計結果の入力'!N14,'2)現況推計結果の入力'!I14)","v":""},{"$f":"IF('3)BAU排出量の推計'!I14=\"\",\"\",'3)BAU排出量の推計'!I14)","v":""},{"$f":"IF($E$9=1,'3)BAU排出量の推計'!O14,'3)BAU排出量の推計'!I14)","v":""},{"$f":"IF(ISERROR(O14-Q14),\"\",O14-Q14)","v":""},{"$f":"IF(AND('3)BAU排出量の推計'!J14=\"\",'2)現況推計結果の入力'!K14=\"\"),\"\",IF('3)BAU排出量の推計'!J14<>\"\",IF('3)BAU排出量の推計'!J14=0,0,IF(J14=\"\",\"\",J14/'3)BAU排出量の推計'!J14)),IF('2)現況推計結果の入力'!K14=0,0,IF(J14=\"\",\"\",J14/'2)現況推計結果の入力'!K14))))","v":""},{"$f":"IF(M14=\"\",\"\",IF(M14=0,0,IF(Q14=\"\",\"\",1-(Q14/M14))))","v":""},{"$f":"IF('2)現況推計結果の入力'!H14=\"\",\"\",'2)現況推計結果の入力'!H14)","v":""}]
[{"$f":"'3)BAU排出量の推計'!A15","v":0},null,null,"製造業",null,{"$f":"SUM(F16:F17)","v":0},{"$f":"SUM(G16:G17)","v":0},{"$f":"SUM(H16:H17)","v":0},{"$f":"SUM(I16:I17)","v":0},{"$f":"SUM(J16:J17)","v":0},{"$f":"IF(F15=\"\",\"\",IF(F15=0,0,IF(J15=\"\",\"\",(1-(J15/F15)))))","v":0},null,{"$f":"IF($D$9=1,'2)現況推計結果の入力'!N15,'2)現況推計結果の入力'!I15)","v":0},{"$f":"IF('3)BAU排出量の推計'!I15=\"\",\"\",'3)BAU排出量の推計'!I15)","v":0},{"$f":"IF($E$9=1,'3)BAU排出量の推計'!O15,'3)BAU排出量の推計'!I15)","v":0},{"$f":"IF(ISERROR(O15-Q15),\"\",O15-Q15)","v":0},{"$f":"IF(AND('3)BAU排出量の推計'!J15=\"\",'2)現況推計結果の入力'!K15=\"\"),\"\",IF('3)BAU排出量の推計'!J15<>\"\",IF('3)BAU排出量の推計'!J15=0,0,IF(J15=\"\",\"\",J15/'3)BAU排出量の推計'!J15)),IF('2)現況推計結果の入力'!K15=0,0,IF(J15=\"\",\"\",J15/'2)現況推計結果の入力'!K15))))","v":0},{"$f":"IF(M15=\"\",\"\",IF(M15=0,0,IF(Q15=\"\",\"\",1-(Q15/M15))))","v":0},{"$f":"IF('2)現況推計結果の入力'!H15=\"\",\"\",'2)現況推計結果の入力'!H15)","v":""}]
[{"$f":"'3)BAU排出量の推計'!A16","v":0},null,null,null,"大規模",{"$f":"IF($D$9=1,IF('2)現況推計結果の入力'!M16=\"\",\"\",'2)現況推計結果の入力'!M16),IF('2)現況推計結果の入力'!F16=\"\",\"\",'2)現況推計結果の入力'!F16))","v":""},{"$f":"IF('3)BAU排出量の推計'!F16=\"\",\"\",'3)BAU排出量の推計'!F16)","v":""},{"$f":"IF($E$9=1,IF('3)BAU排出量の推計'!N16=\"\",\"\",'3)BAU排出量の推計'!N16),'3)BAU排出量の推計'!K16)","v":""},null,{"$f":"IF(ISERROR(H16-I16),\"\",H16-I16)","v":""},"",null,{"$f":"IF($D$9=1,'2)現況推計結果の入力'!N16,'2)現況推計結果の入力'!I16)","v":""},{"$f":"IF('3)BAU排出量の推計'!I16=\"\",\"\",'3)BAU排出量の推計'!I16)","v":""},{"$f":"IF($E$9=1,'3)BAU排出量の推計'!O16,'3)BAU排出量の推計'!I16)","v":""},"",{"$f":"IF(AND('3)BAU排出量の推計'!J16=\"\",'2)現況推計結果の入力'!K16=\"\"),\"\",IF('3)BAU排出量の推計'!J16<>\"\",IF('3)BAU排出量の推計'!J16=0,0,IF(J16=\"\",\"\",J16/'3)BAU排出量の推計'!J16)),IF('2)現況推計結果の入力'!K16=0,0,IF(J16=\"\",\"\",J16/'2)現況推計結果の入力'!K16))))","v":""},""]
[{"$f":"'3)BAU排出量の推計'!A17","v":0},null,null,null,"中小規模",{"$f":"IF($D$9=1,IF('2)現況推計結果の入力'!M17=\"\",\"\",'2)現況推計結果の入力'!M17),IF('2)現況推計結果の入力'!F17=\"\",\"\",'2)現況推計結果の入力'!F17))","v":""},{"$f":"IF('3)BAU排出量の推計'!F17=\"\",\"\",'3)BAU排出量の推計'!F17)","v":""},{"$f":"IF($E$9=1,IF('3)BAU排出量の推計'!N17=\"\",\"\",'3)BAU排出量の推計'!N17),'3)BAU排出量の推計'!K17)","v":""},null,{"$f":"IF(ISERROR(H17-I17),\"\",H17-I17)","v":""},"",null,{"$f":"IF($D$9=1,'2)現況推計結果の入力'!N17,'2)現況推計結果の入力'!I17)","v":""},{"$f":"IF('3)BAU排出量の推計'!I17=\"\",\"\",'3)BAU排出量の推計'!I17)","v":""},{"$f":"IF($E$9=1,'3)BAU排出量の推計'!O17,'3)BAU排出量の推計'!I17)","v":""},"",{"$f":"IF(AND('3)BAU排出量の推計'!J17=\"\",'2)現況推計結果の入力'!K17=\"\"),\"\",IF('3)BAU排出量の推計'!J17<>\"\",IF('3)BAU排出量の推計'!J17=0,0,IF(J17=\"\",\"\",J17/'3)BAU排出量の推計'!J17)),IF('2)現況推計結果の入力'!K17=0,0,IF(J17=\"\",\"\",J17/'2)現況推計結果の入力'!K17))))","v":""},""]
[{"$f":"'3)BAU排出量の推計'!A18","v":1},null,null,"建設業・鉱業",null,{"$f":"IF($D$9=1,IF('2)現況推計結果の入力'!M18=\"\",\"\",'2)現況推計結果の入力'!M18),IF('2)現況推計結果の入力'!F18=\"\",\"\",'2)現況推計結果の入力'!F18))","v":""},{"$f":"IF('3)BAU排出量の推計'!F18=\"\",\"\",'3)BAU排出量の推計'!F18)","v":""},{"$f":"IF($E$9=1,IF('3)BAU排出量の推計'!N18=\"\",\"\",'3)BAU排出量の推計'!N18),'3)BAU排出量の推計'!K18)","v":""},0,{"$f":"IF(ISERROR(H18-I18),\"\",H18-I18)","v":""},"",null,{"$f":"IF($D$9=1,'2)現況推計結果の入力'!N18,'2)現況推計結果の入力'!I18)","v":""},{"$f":"IF('3)BAU排出量の推計'!I18=\"\",\"\",'3)BAU排出量の推計'!I18)","v":""},{"$f":"IF($E$9=1,'3)BAU排出量の推計'!O18,'3)BAU排出量の推計'!I18)","v":""},"",{"$f":"IF(AND('3)BAU排出量の推計'!J18=\"\",'2)現況推計結果の入力'!K18=\"\"),\"\",IF('3)BAU排出量の推計'!J18<>\"\",IF('3)BAU排出量の推計'!J18=0,0,IF(J18=\"\",\"\",J18/'3)BAU排出量の推計'!J18)),IF('2)現況推計結果の入力'!K18=0,0,IF(J18=\"\",\"\",J18/'2)現況推計結果の入力'!K18))))","v":""},"",{"$f":"IF('2)現況推計結果の入力'!H18=\"\",\"\",'2)現況推計結果の入力'!H18)","v":""}]
[{"$f":"'3)BAU排出量の推計'!A19","v":1},null,null,"農林水産業",null,{"$f":"IF($D$9=1,IF('2)現況推計結果の入力'!M19=\"\",\"\",'2)現況推計結果の入力'!M19),IF('2)現況推計結果の入力'!F19=\"\",\"\",'2)現況推計結果の入力'!F19))","v":""},{"$f":"IF('3)BAU排出量の推計'!F19=\"\",\"\",'3)BAU排出量の推計'!F19)","v":""},{"$f":"IF($E$9=1,IF('3)BAU排出量の推計'!N19=\"\",\"\",'3)BAU排出量の推計'!N19),'3)BAU排出量の推計'!K19)","v":""},0,{"$f":"IF(ISERROR(H19-I19),\"\",H19-I19)","v":""},"",null,{"$f":"IF($D$9=1,'2)現況推計結果の入力'!N19,'2)現況推計結果の入力'!I19)","v":""},{"$f":"IF('3)BAU排出量の推計'!I19=\"\",\"\",'3)BAU排出量の推計'!I19)","v":""},{"$f":"IF($E$9=1,'3)BAU排出量の推計'!O19,'3)BAU排出量の推計'!I19)","v":""},"",{"$f":"IF(AND('3)BAU排出量の推計'!J19=\"\",'2)現況推計結果の入力'!K19=\"\"),\"\",IF('3)BAU排出量の推計'!J19<>\"\",IF('3)BAU排出量の推計'!J19=0,0,IF(J19=\"\",\"\",J19/'3)BAU排出量の推計'!J19)),IF('2)現況推計結果の入力'!K19=0,0,IF(J19=\"\",\"\",J19/'2)現況推計結果の入力'!K19))))","v":""},"",{"$f":"IF('2)現況推計結果の入力'!H19=\"\",\"\",'2)現況推計結果の入力'!H19)","v":""}]
[{"$f":"'3)BAU排出量の推計'!A20","v":1},null,"業務その他部門",null,null,{"$f":"IF($D$9=1,IF('2)現況推計結果の入力'!M20=\"\",\"\",'2)現況推計結果の入力'!M20),IF('2)現況推計結果の入力'!F20=\"\",\"\",'2)現況推計結果の入力'!F20))","v":""},{"$f":"IF('3)BAU排出量の推計'!F20=\"\",\"\",'3)BAU排出量の推計'!F20)","v":""},{"$f":"IF($E$9=1,IF('3)BAU排出量の推計'!N20=\"\",\"\",'3)BAU排出量の推計'!N20),'3)BAU排出量の推計'!K20)","v":""},0,{"$f":"IF(ISERROR(H20-I20),\"\",H20-I20)","v":""},"",null,{"$f":"IF($D$9=1,'2)現況推計結果の入力'!N20,'2)現況推計結果の入力'!I20)","v":""},{"$f":"IF('3)BAU排出量の推計'!I20=\"\",\"\",'3)BAU排出量の推計'!I20)","v":""},{"$f":"IF($E$9=1,'3)BAU排出量の推計'!O20,'3)BAU排出量の推計'!I20)","v":""},{"$f":"IF(ISERROR(O20-Q20),\"\",O20-Q20)","v":""},{"$f":"IF(AND('3)BAU排出量の推計'!J20=\"\",'2)現況推計結果の入力'!K20=\"\"),\"\",IF('3)BAU排出量の推計'!J20<>\"\",IF('3)BAU排出量の推計'!J20=0,0,IF(J20=\"\",\"\",J20/'3)BAU排出量の推計'!J20)),IF('2)現況推計結果の入力'!K20=0,0,IF(J20=\"\",\"\",J20/'2)現況推計結果の入力'!K20))))","v":""},"",{"$f":"IF('2)現況推計結果の入力'!H20=\"\",\"\",'2)現況推計結果の入力'!H20)","v":""}]
[{"$f":"'3)BAU排出量の推計'!A21","v":0},null,"業務その他部門",null,null,{"$f":"SUM(F22:F23)","v":0},{"$f":"SUM(G22:G23)","v":0},{"$f":"SUM(H22:H23)","v":0},{"$f":"SUM(I22:I23)","v":0},{"$f":"SUM(J22:J23)","v":0},0,null,{"$f":"IF($D$9=1,'2)現況推計結果の入力'!N21,'2)現況推計結果の入力'!I21)","v":0},{"$f":"IF('3)BAU排出量の推計'!I21=\"\",\"\",'3)BAU排出量の推計'!I21)","v":0},{"$f":"IF($E$9=1,'3)BAU排出量の推計'!O21,'3)BAU排出量の推計'!I21)","v":0},{"$f":"IF(ISERROR(O21-Q21),\"\",O21-Q21)","v":0},{"$f":"IF(AND('3)BAU排出量の推計'!J21=\"\",'2)現況推計結果の入力'!K21=\"\"),\"\",IF('3)BAU排出量の推計'!J21<>\"\",IF('3)BAU排出量の推計'!J21=0,0,IF(J21=\"\",\"\",J21/'3)BAU排出量の推計'!J21)),IF('2)現況推計結果の入力'!K21=0,0,IF(J21=\"\",\"\",J21/'2)現況推計結果の入力'!K21))))","v":0},0,{"$f":"IF('2)現況推計結果の入力'!H21=\"\",\"\",'2)現況推計結果の入力'!H21)","v":""}]
[{"$f":"'3)BAU排出量の推計'!A22","v":0},null,null,null,"大規模",{"$f":"IF($D$9=1,IF('2)現況推計結果の入力'!M22=\"\",\"\",'2)現況推計結果の入力'!M22),IF('2)現況推計結果の入力'!F22=\"\",\"\",'2)現況推計結果の入力'!F22))","v":""},{"$f":"IF('3)BAU排出量の推計'!F22=\"\",\"\",'3)BAU排出量の推計'!F22)","v":""},{"$f":"IF($E$9=1,IF('3)BAU排出量の推計'!N22=\"\",\"\",'3)BAU排出量の推計'!N22),'3)BAU排出量の推計'!K22)","v":""},null,{"$f":"IF(ISERROR(H22-I22),\"\",H22-I22)","v":""},"",null,{"$f":"IF($D$9=1,'2)現況推計結果の入力'!N22,'2)現況推計結果の入力'!I22)","v":""},{"$f":"IF('3)BAU排出量の推計'!I22=\"\",\"\",'3)BAU排出量の推計'!I22)","v":""},{"$f":"IF($E$9=1,'3)BAU排出量の推計'!O22,'3)BAU排出量の推計'!I22)","v":""},{"$f":"IF(ISERROR(O22-Q22),\"\",O22-Q22)","v":""},{"$f":"IF(AND('3)BAU排出量の推計'!J22=\"\",'2)現況推計結果の入力'!K22=\"\"),\"\",IF('3)BAU排出量の推計'!J22<>\"\",IF('3)BAU排出量の推計'!J22=0,0,IF(J22=\"\",\"\",J22/'3)BAU排出量の推計'!J22)),IF('2)現況推計結果の入力'!K22=0,0,IF(J22=\"\",\"\",J22/'2)現況推計結果の入力'!K22))))","v":""},""]
[{"$f":"'3)BAU排出量の推計'!A23","v":0},null,null,null,"中小規模",{"$f":"IF($D$9=1,IF('2)現況推計結果の入力'!M23=\"\",\"\",'2)現況推計結果の入力'!M23),IF('2)現況推計結果の入力'!F23=\"\",\"\",'2)現況推計結果の入力'!F23))","v":""},{"$f":"IF('3)BAU排出量の推計'!F23=\"\",\"\",'3)BAU排出量の推計'!F23)","v":""},{"$f":"IF($E$9=1,IF('3)BAU排出量の推計'!N23=\"\",\"\",'3)BAU排出量の推計'!N23),'3)BAU排出量の推計'!K23)","v":""},null,"","",null,{"$f":"IF($D$9=1,'2)現況推計結果の入力'!N23,'2)現況推計結果の入力'!I23)","v":""},{"$f":"IF('3)BAU排出量の推計'!I23=\"\",\"\",'3)BAU排出量の推計'!I23)","v":""},{"$f":"IF($E$9=1,'3)BAU排出量の推計'!O23,'3)BAU排出量の推計'!I23)","v":""},{"$f":"IF(ISERROR(O23-Q23),\"\",O23-Q23)","v":""},{"$f":"IF(AND('3)BAU排出量の推計'!J23=\"\",'2)現況推計結果の入力'!K23=\"\"),\"\",IF('3)BAU排出量の推計'!J23<>\"\",IF('3)BAU排出量の推計'!J23=0,0,IF(J23=\"\",\"\",J23/'3)BAU排出量の推計'!J23)),IF('2)現況推計結果の入力'!K23=0,0,IF(J23=\"\",\"\",J23/'2)現況推計結果の入力'!K23))))","v":""},""]
[{"$f":"'3)BAU排出量の推計'!A24","v":1},null,"家庭部門",null,null,{"$f":"IF($D$9=1,IF('2)現況推計結果の入力'!M24=\"\",\"\",'2)現況推計結果の入力'!M24),IF('2)現況推計結果の入力'!F24=\"\",\"\",'2)現況推計結果の入力'!F24))","v":""},{"$f":"IF('3)BAU排出量の推計'!F24=\"\",\"\",'3)BAU排出量の推計'!F24)","v":""},{"$f":"IF($E$9=1,IF('3)BAU排出量の推計'!N24=\"\",\"\",'3)BAU排出量の推計'!N24),'3)BAU排出量の推計'!K24)","v":""},0,"","",null,{"$f":"IF($D$9=1,'2)現況推計結果の入力'!N24,'2)現況推計結果の入力'!I24)","v":""},{"$f":"IF('3)BAU排出量の推計'!I24=\"\",\"\",'3)BAU排出量の推計'!I24)","v":""},{"$f":"IF($E$9=1,'3)BAU排出量の推計'!O24,'3)BAU排出量の推計'!I24)","v":""},"",{"$f":"IF(AND('3)BAU排出量の推計'!J24=\"\",'2)現況推計結果の入力'!K24=\"\"),\"\",IF('3)BAU排出量の推計'!J24<>\"\",IF('3)BAU排出量の推計'!J24=0,0,IF(J24=\"\",\"\",J24/'3)BAU排出量の推計'!J24)),IF('2)現況推計結果の入力'!K24=0,0,IF(J24=\"\",\"\",J24/'2)現況推計結果の入力'!K24))))","v":""},"",{"$f":"IF('2)現況推計結果の入力'!H24=\"\",\"\",'2)現況推計結果の入力'!H24)","v":""}]
[{"$f":"'3)BAU排出量の推計'!A25","v":1},null,"運輸部門","自動車","旅客",{"$f":"IF($D$9=1,IF('2)現況推計結果の入力'!M25=\"\",\"\",'2)現況推計結果の入力'!M25),IF('2)現況推計結果の入力'!F25=\"\",\"\",'2)現況推計結果の入力'!F25))","v":""},{"$f":"IF('3)BAU排出量の推計'!F25=\"\",\"\",'3)BAU排出量の推計'!F25)","v":""},{"$f":"IF($E$9=1,IF('3)BAU排出量の推計'!N25=\"\",\"\",'3)BAU排出量の推計'!N25),'3)BAU排出量の推計'!K25)","v":""},0,"","",null,{"$f":"IF($D$9=1,'2)現況推計結果の入力'!N25,'2)現況推計結果の入力'!I25)","v":""},{"$f":"IF('3)BAU排出量の推計'!I25=\"\",\"\",'3)BAU排出量の推計'!I25)","v":""},{"$f":"IF($E$9=1,'3)BAU排出量の推計'!O25,'3)BAU排出量の推計'!I25)","v":""},"",{"$f":"IF(AND('3)BAU排出量の推計'!J25=\"\",'2)現況推計結果の入力'!K25=\"\"),\"\",IF('3)BAU排出量の推計'!J25<>\"\",IF('3)BAU排出量の推計'!J25=0,0,IF(J25=\"\",\"\",J25/'3)BAU排出量の推計'!J25)),IF('2)現況推計結果の入力'!K25=0,0,IF(J25=\"\",\"\",J25/'2)現況推計結果の入力'!K25))))","v":""},"",{"$f":"IF('2)現況推計結果の入力'!H25=\"\",\"\",'2)現況推計結果の入力'!H25)","v":""}]
[{"$f":"'3)BAU排出量の推計'!A26","v":1},null,null,null,"貨物",{"$f":"IF($D$9=1,IF('2)現況推計結果の入力'!M26=\"\",\"\",'2)現況推計結果の入力'!M26),IF('2)現況推計結果の入力'!F26=\"\",\"\",'2)現況推計結果の入力'!F26))","v":""},{"$f":"IF('3)BAU排出量の推計'!F26=\"\",\"\",'3)BAU排出量の推計'!F26)","v":""},{"$f":"IF($E$9=1,IF('3)BAU排出量の推計'!N26=\"\",\"\",'3)BAU排出量の推計'!N26),'3)BAU排出量の推計'!K26)","v":""},0,"","",null,{"$f":"IF($D$9=1,'2)現況推計結果の入力'!N26,'2)現況推計結果の入力'!I26)","v":""},{"$f":"IF('3)BAU排出量の推計'!I26=\"\",\"\",'3)BAU排出量の推計'!I26)","v":""},{"$f":"IF($E$9=1,'3)BAU排出量の推計'!O26,'3)BAU排出量の推計'!I26)","v":""},"",{"$f":"IF(AND('3)BAU排出量の推計'!J26=\"\",'2)現況推計結果の入力'!K26=\"\"),\"\",IF('3)BAU排出量の推計'!J26<>\"\",IF('3)BAU排出量の推計'!J26=0,0,IF(J26=\"\",\"\",J26/'3)BAU排出量の推計'!J26)),IF('2)現況推計結果の入力'!K26=0,0,IF(J26=\"\",\"\",J26/'2)現況推計結果の入力'!K26))))","v":""},"",{"$f":"IF('2)現況推計結果の入力'!H26=\"\",\"\",'2)現況推計結果の入力'!H26)","v":""}]
[{"$f":"'3)BAU排出量の推計'!A27","v":1},null,null,"鉄道",null,{"$f":"IF($D$9=1,IF('2)現況推計結果の入力'!M27=\"\",\"\",'2)現況推計結果の入力'!M27),IF('2)現況推計結果の入力'!F27=\"\",\"\",'2)現況推計結果の入力'!F27))","v":""},{"$f":"IF('3)BAU排出量の推計'!F27=\"\",\"\",'3)BAU排出量の推計'!F27)","v":""},{"$f":"IF($E$9=1,IF('3)BAU排出量の推計'!N27=\"\",\"\",'3)BAU排出量の推計'!N27),'3)BAU排出量の推計'!K27)","v":""},0,"","",null,{"$f":"IF($D$9=1,'2)現況推計結果の入力'!N27,'2)現況推計結果の入力'!I27)","v":""},{"$f":"IF('3)BAU排出量の推計'!I27=\"\",\"\",'3)BAU排出量の推計'!I27)","v":""},{"$f":"IF($E$9=1,'3)BAU排出量の推計'!O27,'3)BAU排出量の推計'!I27)","v":""},"",{"$f":"IF(AND('3)BAU排出量の推計'!J27=\"\",'2)現況推計結果の入力'!K27=\"\"),\"\",IF('3)BAU排出量の推計'!J27<>\"\",IF('3)BAU排出量の推計'!J27=0,0,IF(J27=\"\",\"\",J27/'3)BAU排出量の推計'!J27)),IF('2)現況推計結果の入力'!K27=0,0,IF(J27=\"\",\"\",J27/'2)現況推計結果の入力'!K27))))","v":""},"",{"$f":"IF('2)現況推計結果の入力'!H27=\"\",\"\",'2)現況推計結果の入力'!H27)","v":""}]
[{"$f":"'3)BAU排出量の推計'!A28","v":1},null,null,"船舶",null,{"$f":"IF($D$9=1,IF('2)現況推計結果の入力'!M28=\"\",\"\",'2)現況推計結果の入力'!M28),IF('2)現況推計結果の入力'!F28=\"\",\"\",'2)現況推計結果の入力'!F28))","v":""},{"$f":"IF('3)BAU排出量の推計'!F28=\"\",\"\",'3)BAU排出量の推計'!F28)","v":""},{"$f":"IF($E$9=1,IF('3)BAU排出量の推計'!N28=\"\",\"\",'3)BAU排出量の推計'!N28),'3)BAU排出量の推計'!K28)","v":""},0,"","",null,{"$f":"IF($D$9=1,'2)現況推計結果の入力'!N28,'2)現況推計結果の入力'!I28)","v":""},{"$f":"IF('3)BAU排出量の推計'!I28=\"\",\"\",'3)BAU排出量の推計'!I28)","v":""},{"$f":"IF($E$9=1,'3)BAU排出量の推計'!O28,'3)BAU排出量の推計'!I28)","v":""},"",{"$f":"IF(AND('3)BAU排出量の推計'!J28=\"\",'2)現況推計結果の入力'!K28=\"\"),\"\",IF('3)BAU排出量の推計'!J28<>\"\",IF('3)BAU排出量の推計'!J28=0,0,IF(J28=\"\",\"\",J28/'3)BAU排出量の推計'!J28)),IF('2)現況推計結果の入力'!K28=0,0,IF(J28=\"\",\"\",J28/'2)現況推計結果の入力'!K28))))","v":""},"",{"$f":"IF('2)現況推計結果の入力'!H28=\"\",\"\",'2)現況推計結果の入力'!H28)","v":""}]
[{"$f":"'3)BAU排出量の推計'!A29","v":1},null,null,"航空",null,{"$f":"IF($D$9=1,IF('2)現況推計結果の入力'!M29=\"\",\"\",'2)現況推計結果の入力'!M29),IF('2)現況推計結果の入力'!F29=\"\",\"\",'2)現況推計結果の入力'!F29))","v":""},{"$f":"IF('3)BAU排出量の推計'!F29=\"\",\"\",'3)BAU排出量の推計'!F29)","v":""},{"$f":"IF($E$9=1,IF('3)BAU排出量の推計'!N29=\"\",\"\",'3)BAU排出量の推計'!N29),'3)BAU排出量の推計'!K29)","v":""},0,"","",null,{"$f":"IF($D$9=1,'2)現況推計結果の入力'!N29,'2)現況推計結果の入力'!I29)","v":""},{"$f":"IF('3)BAU排出量の推計'!I29=\"\",\"\",'3)BAU排出量の推計'!I29)","v":""},{"$f":"IF($E$9=1,'3)BAU排出量の推計'!O29,'3)BAU排出量の推計'!I29)","v":""},"",{"$f":"IF(AND('3)BAU排出量の推計'!J29=\"\",'2)現況推計結果の入力'!K29=\"\"),\"\",IF('3)BAU排出量の推計'!J29<>\"\",IF('3)BAU排出量の推計'!J29=0,0,IF(J29=\"\",\"\",J29/'3)BAU排出量の推計'!J29)),IF('2)現況推計結果の入力'!K29=0,0,IF(J29=\"\",\"\",J29/'2)現況推計結果の入力'!K29))))","v":""},"",{"$f":"IF('2)現況推計結果の入力'!H29=\"\",\"\",'2)現況推計結果の入力'!H29)","v":""}]
[{"$f":"'3)BAU排出量の推計'!A30","v":1},"エネルギー起源CO2以外","工業プロセス分野",null,null,{"$f":"IF($D$9=1,IF('2)現況推計結果の入力'!M30=\"\",\"\",'2)現況推計結果の入力'!M30),IF('2)現況推計結果の入力'!F30=\"\",\"\",'2)現況推計結果の入力'!F30))","v":""},{"$f":"IF('3)BAU排出量の推計'!F30=\"\",\"\",'3)BAU排出量の推計'!F30)","v":""},{"$f":"IF($E$9=1,IF('3)BAU排出量の推計'!N30=\"\",\"\",'3)BAU排出量の推計'!N30),'3)BAU排出量の推計'!K30)","v":""},0,"","",null,{"$f":"IF($D$9=1,'2)現況推計結果の入力'!N30,'2)現況推計結果の入力'!I30)","v":""},{"$f":"IF('3)BAU排出量の推計'!I30=\"\",\"\",'3)BAU排出量の推計'!I30)","v":""},{"$f":"IF($E$9=1,'3)BAU排出量の推計'!O30,'3)BAU排出量の推計'!I30)","v":""},"",{"$f":"IF(AND('3)BAU排出量の推計'!J30=\"\",'2)現況推計結果の入力'!K30=\"\"),\"\",IF('3)BAU排出量の推計'!J30<>\"\",IF('3)BAU排出量の推計'!J30=0,0,IF(J30=\"\",\"\",J30/'3)BAU排出量の推計'!J30)),IF('2)現況推計結果の入力'!K30=0,0,IF(J30=\"\",\"\",J30/'2)現況推計結果の入力'!K30))))","v":""},"",{"$f":"IF('2)現況推計結果の入力'!H30=\"\",\"\",'2)現況推計結果の入力'!H30)","v":""}]
[{"$f":"'3)BAU排出量の推計'!A31","v":1},null,"廃棄物分野","一般廃棄物",null,{"$f":"IF($D$9=1,IF('2)現況推計結果の入力'!M31=\"\",\"\",'2)現況推計結果の入力'!M31),IF('2)現況推計結果の入力'!F31=\"\",\"\",'2)現況推計結果の入力'!F31))","v":""},{"$f":"IF('3)BAU排出量の推計'!F31=\"\",\"\",'3)BAU排出量の推計'!F31)","v":""},{"$f":"IF($E$9=1,IF('3)BAU排出量の推計'!N31=\"\",\"\",'3)BAU排出量の推計'!N31),'3)BAU排出量の推計'!K31)","v":""},0,"","",null,{"$f":"IF($D$9=1,'2)現況推計結果の入力'!N31,'2)現況推計結果の入力'!I31)","v":""},{"$f":"IF('3)BAU排出量の推計'!I31=\"\",\"\",'3)BAU排出量の推計'!I31)","v":""},{"$f":"IF($E$9=1,'3)BAU排出量の推計'!O31,'3)BAU排出量の推計'!I31)","v":""},"",{"$f":"IF(AND('3)BAU排出量の推計'!J31=\"\",'2)現況推計結果の入力'!K31=\"\"),\"\",IF('3)BAU排出量の推計'!J31<>\"\",IF('3)BAU排出量の推計'!J31=0,0,IF(J31=\"\",\"\",J31/'3)BAU排出量の推計'!J31)),IF('2)現況推計結果の入力'!K31=0,0,IF(J31=\"\",\"\",J31/'2)現況推計結果の入力'!K31))))","v":""},"",{"$f":"IF('2)現況推計結果の入力'!H31=\"\",\"\",'2)現況推計結果の入力'!H31)","v":""}]
[{"$f":"'3)BAU排出量の推計'!A32","v":1},null,null,"産業廃棄物",null,{"$f":"IF($D$9=1,IF('2)現況推計結果の入力'!M32=\"\",\"\",'2)現況推計結果の入力'!M32),IF('2)現況推計結果の入力'!F32=\"\",\"\",'2)現況推計結果の入力'!F32))","v":""},{"$f":"IF('3)BAU排出量の推計'!F32=\"\",\"\",'3)BAU排出量の推計'!F32)","v":""},{"$f":"IF($E$9=1,IF('3)BAU排出量の推計'!N32=\"\",\"\",'3)BAU排出量の推計'!N32),'3)BAU排出量の推計'!K32)","v":""},0,"","",null,{"$f":"IF($D$9=1,'2)現況推計結果の入力'!N32,'2)現況推計結果の入力'!I32)","v":""},{"$f":"IF('3)BAU排出量の推計'!I32=\"\",\"\",'3)BAU排出量の推計'!I32)","v":""},{"$f":"IF($E$9=1,'3)BAU排出量の推計'!O32,'3)BAU排出量の推計'!I32)","v":""},"",{"$f":"IF(AND('3)BAU排出量の推計'!J32=\"\",'2)現況推計結果の入力'!K32=\"\"),\"\",IF('3)BAU排出量の推計'!J32<>\"\",IF('3)BAU排出量の推計'!J32=0,0,IF(J32=\"\",\"\",J32/'3)BAU排出量の推計'!J32)),IF('2)現況推計結果の入力'!K32=0,0,IF(J32=\"\",\"\",J32/'2)現況推計結果の入力'!K32))))","v":""},"",{"$f":"IF('2)現況推計結果の入力'!H32=\"\",\"\",'2)現況推計結果の入力'!H32)","v":""}]
[{"$f":"'3)BAU排出量の推計'!A33","v":1},null,"農業分野",null,null,{"$f":"IF($D$9=1,IF('2)現況推計結果の入力'!M33=\"\",\"\",'2)現況推計結果の入力'!M33),IF('2)現況推計結果の入力'!F33=\"\",\"\",'2)現況推計結果の入力'!F33))","v":""},{"$f":"IF('3)BAU排出量の推計'!F33=\"\",\"\",'3)BAU排出量の推計'!F33)","v":""},{"$f":"IF($E$9=1,IF('3)BAU排出量の推計'!N33=\"\",\"\",'3)BAU排出量の推計'!N33),'3)BAU排出量の推計'!K33)","v":""},0,"","",null,{"$f":"IF($D$9=1,'2)現況推計結果の入力'!N33,'2)現況推計結果の入力'!I33)","v":""},{"$f":"IF('3)BAU排出量の推計'!I33=\"\",\"\",'3)BAU排出量の推計'!I33)","v":""},{"$f":"IF($E$9=1,'3)BAU排出量の推計'!O33,'3)BAU排出量の推計'!I33)","v":""},"",{"$f":"IF(AND('3)BAU排出量の推計'!J33=\"\",'2)現況推計結果の入力'!K33=\"\"),\"\",IF('3)BAU排出量の推計'!J33<>\"\",IF('3)BAU排出量の推計'!J33=0,0,IF(J33=\"\",\"\",J33/'3)BAU排出量の推計'!J33)),IF('2)現況推計結果の入力'!K33=0,0,IF(J33=\"\",\"\",J33/'2)現況推計結果の入力'!K33))))","v":""},"",{"$f":"IF('2)現況推計結果の入力'!H33=\"\",\"\",'2)現況推計結果の入力'!H33)","v":""}]
[{"$f":"'3)BAU排出量の推計'!A34","v":1},null,"代替フロン等4ガス分野",null,null,{"$f":"IF($D$9=1,IF('2)現況推計結果の入力'!M34=\"\",\"\",'2)現況推計結果の入力'!M34),IF('2)現況推計結果の入力'!F34=\"\",\"\",'2)現況推計結果の入力'!F34))","v":""},{"$f":"IF('3)BAU排出量の推計'!F34=\"\",\"\",'3)BAU排出量の推計'!F34)","v":""},{"$f":"IF($E$9=1,IF('3)BAU排出量の推計'!N34=\"\",\"\",'3)BAU排出量の推計'!N34),'3)BAU排出量の推計'!K34)","v":""},0,"","",null,{"$f":"IF($D$9=1,'2)現況推計結果の入力'!N34,'2)現況推計結果の入力'!I34)","v":""},{"$f":"IF('3)BAU排出量の推計'!I34=\"\",\"\",'3)BAU排出量の推計'!I34)","v":""},{"$f":"IF($E$9=1,'3)BAU排出量の推計'!O34,'3)BAU排出量の推計'!I34)","v":""},"",{"$f":"IF(AND('3)BAU排出量の推計'!J34=\"\",'2)現況推計結果の入力'!K34=\"\"),\"\",IF('3)BAU排出量の推計'!J34<>\"\",IF('3)BAU排出量の推計'!J34=0,0,IF(J34=\"\",\"\",J34/'3)BAU排出量の推計'!J34)),IF('2)現況推計結果の入力'!K34=0,0,IF(J34=\"\",\"\",J34/'2)現況推計結果の入力'!K34))))","v":""},"",{"$f":"IF('2)現況推計結果の入力'!H34=\"\",\"\",'2)現況推計結果の入力'!H34)","v":""}]
[1,null,"吸収",null,null,null,null,null,0]
[null,"合計",null,null,null,{"$f":"SUM(F14:F35)-SUM(F15)-SUM(F21)","v":0},{"$f":"SUM(G14:G35)-SUM(G15)-SUM(G21)","v":0},{"$f":"SUM(H14:H35)-SUM(H15)-SUM(H21)","v":0},{"$f":"SUM(I14:I35)-SUM(I15)-SUM(I21)","v":0},{"$f":"SUM(J14:J35)-SUM(J15)-SUM(J21)","v":0},0]

{"sheet":"部門別目標設定","index":8,"n_rows":519,"n_cols":25,"rows_kept":519,"cut":false,"hidden":true,"merged":[[2,1,2,10],[5,1,10,6],[17,9,17,10],[17,15,17,16],[15,7,15,11],[15,13,15,17],[16,8,16,10],[16,14,16,16]]}
[null,"部門別目標設定",null,null,null,null,1]
[]
[null,"本シートでは部門／分野ごと、対策・施策ごとの目標を設定します。本シートは短期目標と中期目標の設定を兼ねます。\n入力は部門／分野ごとに、1行１対策・施策を原則としますが、複数の対策の削減量をまとめて設定したい場合には1行にまとめて入力してもかまいません。\nBAU排出量に対する削減量又は削減率を入力してください。両方を入力した場合は削減量が優先されます。「部門／分野別削減量の合計」に合計値が自動表示されます。\nまた、本シートで設定した目標を進捗管理表として出力することが可能です。\n進捗管理のためには削減目標とは別に、対策・施策目標（進捗管理目標）を設定することが重要です。削減量又は削減率が空欄の行があっても構いません。\n行幅やフォントサイズは自由に変更できます。"]
[]
[null,null,null,null,null,null,null,null,"部門／分野別削減量の合計"]
[null,"\n\n",null,null,null,null,null,null,null,"短期目標","中期目標",null,"短期目標","中期目標",null,"短期目標","中期目標",null,null,null,null,null,null,"短期","中期"]
[null,null,null,null,null,null,null,null,"産業（製造業）",{"$f":"SUMIFS($K$20:$K$519,$C$20:$C$519,\"*製造業*\")+SUMIFS($I$20:$I$519,$C$20:$C$519,\"*製造業*\")","v":0},{"$f":"SUMIFS($Q$20:$Q$519,$C$20:$C$519,\"*製造業*\")+SUMIFS($O$20:$O$519,$C$20:$C$519,\"*製造業*\")","v":0},"運輸(自動車（旅客））",{"$f":"SUMIFS($K$20:$K$519,$C$20:$C$519,\"*旅客*\")+SUMIFS($I$20:$I$519,$C$20:$C$519,\"*旅客*\")","v":0},{"$f":"SUMIFS($Q$20:$Q$519,$C$20:$C$519,\"*旅客*\")+SUMIFS($O$20:$O$519,$C$20:$C$519,\"*旅客*\")","v":0},"工業プロセス",{"$f":"SUMIFS($K$20:$K$519,$C$20:$C$519,\"*工業プロセス*\")+SUMIFS($I$20:$I$519,$C$20:$C$519,\"*工業プロセス*\")","v":0},{"$f":"SUMIFS($Q$20:$Q$519,$C$20:$C$519,\"*工業プロセス*\")+SUMIFS($O$20:$O$519,$C$20:$C$519,\"*工業プロセス*\")","v":0},null,null,null,null,{"$f":"'2)現況推計結果の入力'!A15","v":0},"産業（製造業）（大規模）",{"$f":"SUMIFS($K$20:$K$519,$C$20:$C$519,W7)+SUMIFS($I$20:$I$519,$C$20:$C$519,W7)","v":0},{"$f":"SUMIFS($Q$20:$Q$519,$C$20:$C$519,W7)+SUMIFS($O$20:$O$519,$C$20:$C$519,W7)","v":0}]
[null,null,null,null,null,null,null,null,"産業（建設業・鉱業）",{"$f":"SUMIFS($K$20:$K$519,$C$20:$C$519,\"*建設業・鉱業*\")+SUMIFS($I$20:$I$519,$C$20:$C$519,\"*建設業・鉱業*\")","v":0},{"$f":"SUMIFS($Q$20:$Q$519,$C$20:$C$519,\"*建設業・鉱業*\")+SUMIFS($O$20:$O$519,$C$20:$C$519,\"*建設業・鉱業*\")","v":0},"運輸（自動車（貨物））",{"$f":"SUMIFS($K$20:$K$519,$C$20:$C$519,\"*貨物*\")+SUMIFS($I$20:$I$519,$C$20:$C$519,\"*貨物*\")","v":0},{"$f":"SUMIFS($Q$20:$Q$519,$C$20:$C$519,\"*貨物*\")+SUMIFS($O$20:$O$519,$C$20:$C$519,\"*貨物*\")","v":0},"廃棄物（一廃）",{"$f":"SUMIFS($K$20:$K$519,$C$20:$C$519,\"*一廃*\")+SUMIFS($I$20:$I$519,$C$20:$C$519,\"*一廃*\")","v":0},{"$f":"SUMIFS($Q$20:$Q$519,$C$20:$C$519,\"*一廃*\")+SUMIFS($O$20:$O$519,$C$20:$C$519,\"*一廃*\")","v":0},null,null,null,null,null,"産業（製造業）（中小規模）",{"$f":"SUMIFS($K$20:$K$519,$C$20:$C$519,W8)+SUMIFS($I$20:$I$519,$C$20:$C$519,W8)","v":0},{"$f":"SUMIFS($Q$20:$Q$519,$C$20:$C$519,W8)+SUMIFS($O$20:$O$519,$C$20:$C$519,W8)","v":0}]
[null,null,null,null,null,null,null,null,"産業（農林水産業）",{"$f":"SUMIFS($K$20:$K$519,$C$20:$C$519,\"*農林水産業*\")+SUMIFS($I$20:$I$519,$C$20:$C$519,\"*農林水産業*\")","v":0},{"$f":"SUMIFS($Q$20:$Q$519,$C$20:$C$519,\"*農林水産業*\")+SUMIFS($O$20:$O$519,$C$20:$C$519,\"*農林水産業*\")","v":0},"運輸(鉄道）",{"$f":"SUMIFS($K$20:$K$519,$C$20:$C$519,\"*鉄道*\")+SUMIFS($I$20:$I$519,$C$20:$C$519,\"*鉄道*\")","v":0},{"$f":"SUMIFS($Q$20:$Q$519,$C$20:$C$519,\"*鉄道*\")+SUMIFS($O$20:$O$519,$C$20:$C$519,\"*鉄道*\")","v":0},"廃棄物（産廃）",{"$f":"SUMIFS($K$20:$K$519,$C$20:$C$519,\"*産廃*\")+SUMIFS($I$20:$I$519,$C$20:$C$519,\"*産廃*\")","v":0},{"$f":"SUMIFS($Q$20:$Q$519,$C$20:$C$519,\"*産廃*\")+SUMIFS($O$20:$O$519,$C$20:$C$519,\"*産廃*\")","v":0},null,null,null,null,{"$f":"'2)現況推計結果の入力'!A21","v":0},"業務その他（大規模）",{"$f":"SUMIFS($K$20:$K$519,$C$20:$C$519,W9)+SUMIFS($I$20:$I$519,$C$20:$C$519,W9)","v":0},{"$f":"SUMIFS($Q$20:$Q$519,$C$20:$C$519,W9)+SUMIFS($O$20:$O$519,$C$20:$C$519,W9)","v":0}]
[null,null,null,null,null,null,null,null,"業務その他",{"$f":"SUMIFS($K$20:$K$519,$C$20:$C$519,\"*業務*\")+SUMIFS($I$20:$I$519,$C$20:$C$519,\"*業務*\")","v":0},{"$f":"SUMIFS($Q$20:$Q$519,$C$20:$C$519,\"*業務*\")+SUMIFS($O$20:$O$519,$C$20:$C$519,\"*業務*\")","v":0},"運輸（船舶）",{"$f":"SUMIFS($K$20:$K$519,$C$20:$C$519,\"*船舶*\")+SUMIFS($I$20:$I$519,$C$20:$C$519,\"*船舶*\")","v":0},{"$f":"SUMIFS($Q$20:$Q$519,$C$20:$C$519,\"*船舶*\")+SUMIFS($O$20:$O$519,$C$20:$C$519,\"*船舶*\")","v":0},"農業",{"$f":"SUMIFS($K$20:$K$519,$C$20:$C$519,\"*農業*\")+SUMIFS($I$20:$I$519,$C$20:$C$519,\"*農業*\")","v":0},{"$f":"SUMIFS($Q$20:$Q$519,$C$20:$C$519,\"*農業*\")+SUMIFS($O$20:$O$519,$C$20:$C$519,\"*農業*\")","v":0},null,null,null,null,null,"業務その他（中小規模）",{"$f":"SUMIFS($K$20:$K$519,$C$20:$C$519,W10)+SUMIFS($I$20:$I$519,$C$20:$C$519,W10)","v":0},{"$f":"SUMIFS($Q$20:$Q$519,$C$20:$C$519,W10)+SUMIFS($O$20:$O$519,$C$20:$C$519,W10)","v":0}]
[null,null,null,null,null,null,null,null,"家庭",{"$f":"SUMIFS($K$20:$K$519,$C$20:$C$519,\"*家庭*\")+SUMIFS($I$20:$I$519,$C$20:$C$519,\"*家庭*\")","v":0},{"$f":"SUMIFS($Q$20:$Q$519,$C$20:$C$519,\"*家庭*\")+SUMIFS($O$20:$O$519,$C$20:$C$519,\"*家庭*\")","v":0},"運輸（航空）",{"$f":"SUMIFS($K$20:$K$519,$C$20:$C$519,\"*航空*\")+SUMIFS($I$20:$I$519,$C$20:$C$519,\"*航空*\")","v":0},{"$f":"SUMIFS($Q$20:$Q$519,$C$20:$C$519,\"*航空*\")+SUMIFS($O$20:$O$519,$C$20:$C$519,\"*航空*\")","v":0},"代替フロン等4ガス",{"$f":"SUMIFS($K$20:$K$519,$C$20:$C$519,\"*代替フロン等4ガス*\")+SUMIFS($I$20:$I$519,$C$20:$C$519,\"*代替フロン等4ガス*\")","v":0},{"$f":"SUMIFS($Q$20:$Q$519,$C$20:$C$519,\"*代替フロン等4ガス*\")+SUMIFS($O$20:$O$519,$C$20:$C$519,\"*代替フロン等4ガス*\")","v":0}]
[null,null,null,null,null,null,null,null,null,null,null,null,null,null,"吸収",{"$f":"SUMIFS($K$20:$K$519,$C$20:$C$519,\"*吸収*\")+SUMIFS($I$20:$I$519,$C$20:$C$519,\"*吸収*\")","v":0},{"$f":"SUMIFS($Q$20:$Q$519,$C$20:$C$519,\"*吸収*\")+SUMIFS($O$20:$O$519,$C$20:$C$519,\"*吸収*\")","v":0}]
[]
[]
[null,"■部門別目標設定表"]
[null,"No","部門／分野※１","法に定められた\n４つの施策分野※２","施策名※３","対策名※４","対策の内容※４","短期目標設定",null,null,null,null,null,"中期目標設定",null,null,null,null,null,"備考"]
[null,null,null,null,null,null,null,"短期BAU排出量","削減量/削減率※５",null,null,"対策・施策目標（進捗管理目標）※６",null,"中期BAU排出量","削減量/削減率",null,null,"対策・施策目標（進捗管理目標）"]
[null,null,null,null,null,null,null,null,"削減量","削減率",null,null,null,null,"削減量","削減率"]
[null,null,null,null,null,null,null,null,null,"削減率","削減量",null,"指標（単位）",null,null,"削減率","削減量",null,"指標（単位）"]
[{"$f":"ROW()","v":20},{"$f":"ROW()-$A$20+1","v":1},null,null,null,null,null,{"$f":"IFERROR(VLOOKUP(C20,'3)BAU排出量の推計'!$U$14:$W$35,2,FALSE),\"\")","v":""},null,null,{"$f":"IF(I20>0,\"\",IF(OR(H20=0,H20=\"\"),\"\",IF(ISERROR(H20*J20),\"\",H20*J20)))","v":""},null,null,{"$f":"IFERROR(VLOOKUP(C20,'3)BAU排出量の推計'!$U$14:$W$35,3,FALSE),\"\")","v":""},null,null,{"$f":"IF(O20>0,\"\",IF(OR(N20=0,N20=\"\"),\"\",IF(ISERROR(N20*P20),\"\",N20*P20)))","v":""}]
[null,2,null,null,null,null,null,{"$f":"IFERROR(VLOOKUP(C21,'3)BAU排出量の推計'!$U$14:$W$35,2,FALSE),\"\")","v":""},null,null,{"$f":"IF(I21>0,\"\",IF(OR(H21=0,H21=\"\"),\"\",IF(ISERROR(H21*J21),\"\",H21*J21)))","v":""},null,null,{"$f":"IFERROR(VLOOKUP(C21,'3)BAU排出量の推計'!$U$14:$W$35,3,FALSE),\"\")","v":""},null,null,{"$f":"IF(O21>0,\"\",IF(OR(N21=0,N21=\"\"),\"\",IF(ISERROR(N21*P21),\"\",N21*P21)))","v":""}]
[null,3,null,null,null,null,null,{"$f":"IFERROR(VLOOKUP(C22,'3)BAU排出量の推計'!$U$14:$W$35,2,FALSE),\"\")","v":""},null,null,"",null,null,{"$f":"IFERROR(VLOOKUP(C22,'3)BAU排出量の推計'!$U$14:$W$35,3,FALSE),\"\")","v":""},null,null,""]
[null,4,null,null,null,null,null,{"$f":"IFERROR(VLOOKUP(C23,'3)BAU排出量の推計'!$U$14:$W$35,2,FALSE),\"\")","v":""},null,null,"",null,null,{"$f":"IFERROR(VLOOKUP(C23,'3)BAU排出量の推計'!$U$14:$W$35,3,FALSE),\"\")","v":""},null,null,""]
[null,5,null,null,null,null,null,{"$f":"IFERROR(VLOOKUP(C24,'3)BAU排出量の推計'!$U$14:$W$35,2,FALSE),\"\")","v":""},null,null,"",null,null,{"$f":"IFERROR(VLOOKUP(C24,'3)BAU排出量の推計'!$U$14:$W$35,3,FALSE),\"\")","v":""},null,null,""]
[null,6,null,null,null,null,null,{"$f":"IFERROR(VLOOKUP(C25,'3)BAU排出量の推計'!$U$14:$W$35,2,FALSE),\"\")","v":""},null,null,"",null,null,{"$f":"IFERROR(VLOOKUP(C25,'3)BAU排出量の推計'!$U$14:$W$35,3,FALSE),\"\")","v":""},null,null,""]
[null,7,null,null,null,null,null,{"$f":"IFERROR(VLOOKUP(C26,'3)BAU排出量の推計'!$U$14:$W$35,2,FALSE),\"\")","v":""},null,null,"",null,null,{"$f":"IFERROR(VLOOKUP(C26,'3)BAU排出量の推計'!$U$14:$W$35,3,FALSE),\"\")","v":""},null,null,""]
[null,{"$f":"ROW()-$A$20+1","v":8},null,null,null,null,null,{"$f":"IFERROR(VLOOKUP(C27,'3)BAU排出量の推計'!$U$14:$W$35,2,FALSE),\"\")","v":""},null,null,"",null,null,{"$f":"IFERROR(VLOOKUP(C27,'3)BAU排出量の推計'!$U$14:$W$35,3,FALSE),\"\")","v":""},null,null,""]
[null,9,null,null,null,null,null,{"$f":"IFERROR(VLOOKUP(C28,'3)BAU排出量の推計'!$U$14:$W$35,2,FALSE),\"\")","v":""},null,null,"",null,null,{"$f":"IFERROR(VLOOKUP(C28,'3)BAU排出量の推計'!$U$14:$W$35,3,FALSE),\"\")","v":""},null,null,""]
[null,10,null,null,null,null,null,{"$f":"IFERROR(VLOOKUP(C29,'3)BAU排出量の推計'!$U$14:$W$35,2,FALSE),\"\")","v":""},null,null,"",null,null,{"$f":"IFERROR(VLOOKUP(C29,'3)BAU排出量の推計'!$U$14:$W$35,3,FALSE),\"\")","v":""},null,null,""]
[null,11,null,null,null,null,null,{"$f":"IFERROR(VLOOKUP(C30,'3)BAU排出量の推計'!$U$14:$W$35,2,FALSE),\"\")","v":""},null,null,"",null,null,{"$f":"IFERROR(VLOOKUP(C30,'3)BAU排出量の推計'!$U$14:$W$35,3,FALSE),\"\")","v":""},null,null,""]
[null,12,null,null,null,null,null,{"$f":"IFERROR(VLOOKUP(C31,'3)BAU排出量の推計'!$U$14:$W$35,2,FALSE),\"\")","v":""},null,null,"",null,null,{"$f":"IFERROR(VLOOKUP(C31,'3)BAU排出量の推計'!$U$14:$W$35,3,FALSE),\"\")","v":""},null,null,""]
[null,13,null,null,null,null,null,{"$f":"IFERROR(VLOOKUP(C32,'3)BAU排出量の推計'!$U$14:$W$35,2,FALSE),\"\")","v":""},null,null,"",null,null,{"$f":"IFERROR(VLOOKUP(C32,'3)BAU排出量の推計'!$U$14:$W$35,3,FALSE),\"\")","v":""},null,null,""]
[null,14,null,null,null,null,null,{"$f":"IFERROR(VLOOKUP(C33,'3)BAU排出量の推計'!$U$14:$W$35,2,FALSE),\"\")","v":""},null,null,"",null,null,{"$f":"IFERROR(VLOOKUP(C33,'3)BAU排出量の推計'!$U$14:$W$35,3,FALSE),\"\")","v":""},null,null,""]
[null,15,null,null,null,null,null,{"$f":"IFERROR(VLOOKUP(C34,'3)BAU排出量の推計'!$U$14:$W$35,2,FALSE),\"\")","v":""},null,null,"",null,null,{"$f":"IFERROR(VLOOKUP(C34,'3)BAU排出量の推計'!$U$14:$W$35,3,FALSE),\"\")","v":""},null,null,""]
[null,16,null,null,null,null,null,{"$f":"IFERROR(VLOOKUP(C35,'3)BAU排出量の推計'!$U$14:$W$35,2,FALSE),\"\")","v":""},null,null,"",null,null,{"$f":"IFERROR(VLOOKUP(C35,'3)BAU排出量の推計'!$U$14:$W$35,3,FALSE),\"\")","v":""},null,null,""]
[null,17,null,null,null,null,null,{"$f":"IFERROR(VLOOKUP(C36,'3)BAU排出量の推計'!$U$14:$W$35,2,FALSE),\"\")","v":""},null,null,"",null,null,{"$f":"IFERROR(VLOOKUP(C36,'3)BAU排出量の推計'!$U$14:$W$35,3,FALSE),\"\")","v":""},null,null,""]
[null,18,null,null,null,null,null,{"$f":"IFERROR(VLOOKUP(C37,'3)BAU排出量の推計'!$U$14:$W$35,2,FALSE),\"\")","v":""},null,null,"",null,null,{"$f":"IFERROR(VLOOKUP(C37,'3)BAU排出量の推計'!$U$14:$W$35,3,FALSE),\"\")","v":""},null,null,""]
[null,19,null,null,null,null,null,{"$f":"IFERROR(VLOOKUP(C38,'3)BAU排出量の推計'!$U$14:$W$35,2,FALSE),\"\")","v":""},null,null,"",null,null,{"$f":"IFERROR(VLOOKUP(C38,'3)BAU排出量の推計'!$U$14:$W$35,3,FALSE),\"\")","v":""},null,null,""]
[null,20,null,null,null,null,null,{"$f":"IFERROR(VLOOKUP(C39,'3)BAU排出量の推計'!$U$14:$W$35,2,FALSE),\"\")","v":""},null,null,"",null,null,{"$f":"IFERROR(VLOOKUP(C39,'3)BAU排出量の推計'!$U$14:$W$35,3,FALSE),\"\")","v":""},null,null,""]
[null,21,null,null,null,null,null,{"$f":"IFERROR(VLOOKUP(C40,'3)BAU排出量の推計'!$U$14:$W$35,2,FALSE),\"\")","v":""},null,null,"",null,null,{"$f":"IFERROR(VLOOKUP(C40,'3)BAU排出量の推計'!$U$14:$W$35,3,FALSE),\"\")","v":""},null,null,""]
[null,22,null,null,null,null,null,{"$f":"IFERROR(VLOOKUP(C41,'3)BAU排出量の推計'!$U$14:$W$35,2,FALSE),\"\")","v":""},null,null,"",null,null,{"$f":"IFERROR(VLOOKUP(C41,'3)BAU排出量の推計'!$U$14:$W$35,3,FALSE),\"\")","v":""},null,null,""]
[null,23,null,null,null,null,null,{"$f":"IFERROR(VLOOKUP(C42,'3)BAU排出量の推計'!$U$14:$W$35,2,FALSE),\"\")","v":""},null,null,"",null,null,{"$f":"IFERROR(VLOOKUP(C42,'3)BAU排出量の推計'!$U$14:$W$35,3,FALSE),\"\")","v":""},null,null,""]
[null,24,null,null,null,null,null,{"$f":"IFERROR(VLOOKUP(C43,'3)BAU排出量の推計'!$U$14:$W$35,2,FALSE),\"\")","v":""},null,null,"",null,null,{"$f":"IFERROR(VLOOKUP(C43,'3)BAU排出量の推計'!$U$14:$W$35,3,FALSE),\"\")","v":""},null,null,""]
[null,25,null,null,null,null,null,{"$f":"IFERROR(VLOOKUP(C44,'3)BAU排出量の推計'!$U$14:$W$35,2,FALSE),\"\")","v":""},null,null,"",null,null,{"$f":"IFERROR(VLOOKUP(C44,'3)BAU排出量の推計'!$U$14:$W$35,3,FALSE),\"\")","v":""},null,null,""]
[null,26,null,null,null,null,null,{"$f":"IFERROR(VLOOKUP(C45,'3)BAU排出量の推計'!$U$14:$W$35,2,FALSE),\"\")","v":""},null,null,"",null,null,{"$f":"IFERROR(VLOOKUP(C45,'3)BAU排出量の推計'!$U$14:$W$35,3,FALSE),\"\")","v":""},null,null,""]
[null,27,null,null,null,null,null,{"$f":"IFERROR(VLOOKUP(C46,'3)BAU排出量の推計'!$U$14:$W$35,2,FALSE),\"\")","v":""},null,null,"",null,null,{"$f":"IFERROR(VLOOKUP(C46,'3)BAU排出量の推計'!$U$14:$W$35,3,FALSE),\"\")","v":""},null,null,""]
[null,28,null,null,null,null,null,{"$f":"IFERROR(VLOOKUP(C47,'3)BAU排出量の推計'!$U$14:$W$35,2,FALSE),\"\")","v":""},null,null,"",null,null,{"$f":"IFERROR(VLOOKUP(C47,'3)BAU排出量の推計'!$U$14:$W$35,3,FALSE),\"\")","v":""},null,null,""]
[null,29,null,null,null,null,null,{"$f":"IFERROR(VLOOKUP(C48,'3)BAU排出量の推計'!$U$14:$W$35,2,FALSE),\"\")","v":""},null,null,"",null,null,{"$f":"IFERROR(VLOOKUP(C48,'3)BAU排出量の推計'!$U$14:$W$35,3,FALSE),\"\")","v":""},null,null,""]
[null,30,null,null,null,null,null,{"$f":"IFERROR(VLOOKUP(C49,'3)BAU排出量の推計'!$U$14:$W$35,2,FALSE),\"\")","v":""},null,null,"",null,null,{"$f":"IFERROR(VLOOKUP(C49,'3)BAU排出量の推計'!$U$14:$W$35,3,FALSE),\"\")","v":""},null,null,""]
[null,31,null,null,null,null,null,{"$f":"IFERROR(VLOOKUP(C50,'3)BAU排出量の推計'!$U$14:$W$35,2,FALSE),\"\")","v":""},null,null,"",null,null,{"$f":"IFERROR(VLOOKUP(C50,'3)BAU排出量の推計'!$U$14:$W$35,3,FALSE),\"\")","v":""},null,null,""]
[null,32,null,null,null,null,null,{"$f":"IFERROR(VLOOKUP(C51,'3)BAU排出量の推計'!$U$14:$W$35,2,FALSE),\"\")","v":""},null,null,"",null,null,{"$f":"IFERROR(VLOOKUP(C51,'3)BAU排出量の推計'!$U$14:$W$35,3,FALSE),\"\")","v":""},null,null,""]
[null,33,null,null,null,null,null,{"$f":"IFERROR(VLOOKUP(C52,'3)BAU排出量の推計'!$U$14:$W$35,2,FALSE),\"\")","v":""},null,null,"",null,null,{"$f":"IFERROR(VLOOKUP(C52,'3)BAU排出量の推計'!$U$14:$W$35,3,FALSE),\"\")","v":""},null,null,""]
[null,34,null,null,null,null,null,{"$f":"IFERROR(VLOOKUP(C53,'3)BAU排出量の推計'!$U$14:$W$35,2,FALSE),\"\")","v":""},null,null,"",null,null,{"$f":"IFERROR(VLOOKUP(C53,'3)BAU排出量の推計'!$U$14:$W$35,3,FALSE),\"\")","v":""},null,null,""]
[null,35,null,null,null,null,null,{"$f":"IFERROR(VLOOKUP(C54,'3)BAU排出量の推計'!$U$14:$W$35,2,FALSE),\"\")","v":""},null,null,"",null,null,{"$f":"IFERROR(VLOOKUP(C54,'3)BAU排出量の推計'!$U$14:$W$35,3,FALSE),\"\")","v":""},null,null,""]
[null,36,null,null,null,null,null,{"$f":"IFERROR(VLOOKUP(C55,'3)BAU排出量の推計'!$U$14:$W$35,2,FALSE),\"\")","v":""},null,null,"",null,null,{"$f":"IFERROR(VLOOKUP(C55,'3)BAU排出量の推計'!$U$14:$W$35,3,FALSE),\"\")","v":""},null,null,""]
[null,37,null,null,null,null,null,{"$f":"IFERROR(VLOOKUP(C56,'3)BAU排出量の推計'!$U$14:$W$35,2,FALSE),\"\")","v":""},null,null,"",null,null,{"$f":"IFERROR(VLOOKUP(C56,'3)BAU排出量の推計'!$U$14:$W$35,3,FALSE),\"\")","v":""},null,null,""]
[null,38,null,null,null,null,null,{"$f":"IFERROR(VLOOKUP(C57,'3)BAU排出量の推計'!$U$14:$W$35,2,FALSE),\"\")","v":""},null,null,"",null,null,{"$f":"IFERROR(VLOOKUP(C57,'3)BAU排出量の推計'!$U$14:$W$35,3,FALSE),\"\")","v":""},null,null,""]
[null,39,null,null,null,null,null,{"$f":"IFERROR(VLOOKUP(C58,'3)BAU排出量の推計'!$U$14:$W$35,2,FALSE),\"\")","v":""},null,null,"",null,null,{"$f":"IFERROR(VLOOKUP(C58,'3)BAU排出量の推計'!$U$14:$W$35,3,FALSE),\"\")","v":""},null,null,""]
[null,40,null,null,null,null,null,{"$f":"IFERROR(VLOOKUP(C59,'3)BAU排出量の推計'!$U$14:$W$35,2,FALSE),\"\")","v":""},null,null,"",null,null,{"$f":"IFERROR(VLOOKUP(C59,'3)BAU排出量の推計'!$U$14:$W$35,3,FALSE),\"\")","v":""},null,null,""]
[null,41,null,null,null,null,null,{"$f":"IFERROR(VLOOKUP(C60,'3)BAU排出量の推計'!$U$14:$W$35,2,FALSE),\"\")","v":""},null,null,"",null,null,{"$f":"IFERROR(VLOOKUP(C60,'3)BAU排出量の推計'!$U$14:$W$35,3,FALSE),\"\")","v":""},null,null,""]
[null,42,null,null,null,null,null,{"$f":"IFERROR(VLOOKUP(C61,'3)BAU排出量の推計'!$U$14:$W$35,2,FALSE),\"\")","v":""},null,null,"",null,null,{"$f":"IFERROR(VLOOKUP(C61,'3)BAU排出量の推計'!$U$14:$W$35,3,FALSE),\"\")","v":""},null,null,""]
[null,43,null,null,null,null,null,{"$f":"IFERROR(VLOOKUP(C62,'3)BAU排出量の推計'!$U$14:$W$35,2,FALSE),\"\")","v":""},null,null,"",null,null,{"$f":"IFERROR(VLOOKUP(C62,'3)BAU排出量の推計'!$U$14:$W$35,3,FALSE),\"\")","v":""},null,null,""]
[null,44,null,null,null,null,null,{"$f":"IFERROR(VLOOKUP(C63,'3)BAU排出量の推計'!$U$14:$W$35,2,FALSE),\"\")","v":""},null,null,"",null,null,{"$f":"IFERROR(VLOOKUP(C63,'3)BAU排出量の推計'!$U$14:$W$35,3,FALSE),\"\")","v":""},null,null,""]
[null,45,null,null,null,null,null,{"$f":"IFERROR(VLOOKUP(C64,'3)BAU排出量の推計'!$U$14:$W$35,2,FALSE),\"\")","v":""},null,null,"",null,null,{"$f":"IFERROR(VLOOKUP(C64,'3)BAU排出量の推計'!$U$14:$W$35,3,FALSE),\"\")","v":""},null,null,""]
[null,46,null,null,null,null,null,{"$f":"IFERROR(VLOOKUP(C65,'3)BAU排出量の推計'!$U$14:$W$35,2,FALSE),\"\")","v":""},null,null,"",null,null,{"$f":"IFERROR(VLOOKUP(C65,'3)BAU排出量の推計'!$U$14:$W$35,3,FALSE),\"\")","v":""},null,null,""]
[null,47,null,null,null,null,null,{"$f":"IFERROR(VLOOKUP(C66,'3)BAU排出量の推計'!$U$14:$W$35,2,FALSE),\"\")","v":""},null,null,"",null,null,{"$f":"IFERROR(VLOOKUP(C66,'3)BAU排出量の推計'!$U$14:$W$35,3,FALSE),\"\")","v":""},null,null,""]
[null,48,null,null,null,null,null,{"$f":"IFERROR(VLOOKUP(C67,'3)BAU排出量の推計'!$U$14:$W$35,2,FALSE),\"\")","v":""},null,null,"",null,null,{"$f":"IFERROR(VLOOKUP(C67,'3)BAU排出量の推計'!$U$14:$W$35,3,FALSE),\"\")","v":""},null,null,""]
[null,49,null,null,null,null,null,{"$f":"IFERROR(VLOOKUP(C68,'3)BAU排出量の推計'!$U$14:$W$35,2,FALSE),\"\")","v":""},null,null,"",null,null,{"$f":"IFERROR(VLOOKUP(C68,'3)BAU排出量の推計'!$U$14:$W$35,3,FALSE),\"\")","v":""},null,null,""]
[null,50,null,null,null,null,null,{"$f":"IFERROR(VLOOKUP(C69,'3)BAU排出量の推計'!$U$14:$W$35,2,FALSE),\"\")","v":""},null,null,"",null,null,{"$f":"IFERROR(VLOOKUP(C69,'3)BAU排出量の推計'!$U$14:$W$35,3,FALSE),\"\")","v":""},null,null,""]
[null,51,null,null,null,null,null,{"$f":"IFERROR(VLOOKUP(C70,'3)BAU排出量の推計'!$U$14:$W$35,2,FALSE),\"\")","v":""},null,null,"",null,null,{"$f":"IFERROR(VLOOKUP(C70,'3)BAU排出量の推計'!$U$14:$W$35,3,FALSE),\"\")","v":""},null,null,""]
[null,52,null,null,null,null,null,{"$f":"IFERROR(VLOOKUP(C71,'3)BAU排出量の推計'!$U$14:$W$35,2,FALSE),\"\")","v":""},null,null,"",null,null,{"$f":"IFERROR(VLOOKUP(C71,'3)BAU排出量の推計'!$U$14:$W$35,3,FALSE),\"\")","v":""},null,null,""]
[null,53,null,null,null,null,null,{"$f":"IFERROR(VLOOKUP(C72,'3)BAU排出量の推計'!$U$14:$W$35,2,FALSE),\"\")","v":""},null,null,"",null,null,{"$f":"IFERROR(VLOOKUP(C72,'3)BAU排出量の推計'!$U$14:$W$35,3,FALSE),\"\")","v":""},null,null,""]
[null,54,null,null,null,null,null,{"$f":"IFERROR(VLOOKUP(C73,'3)BAU排出量の推計'!$U$14:$W$35,2,FALSE),\"\")","v":""},null,null,"",null,null,{"$f":"IFERROR(VLOOKUP(C73,'3)BAU排出量の推計'!$U$14:$W$35,3,FALSE),\"\")","v":""},null,null,""]
[null,55,null,null,null,null,null,{"$f":"IFERROR(VLOOKUP(C74,'3)BAU排出量の推計'!$U$14:$W$35,2,FALSE),\"\")","v":""},null,null,"",null,null,{"$f":"IFERROR(VLOOKUP(C74,'3)BAU排出量の推計'!$U$14:$W$35,3,FALSE),\"\")","v":""},null,null,""]
[null,56,null,null,null,null,null,{"$f":"IFERROR(VLOOKUP(C75,'3)BAU排出量の推計'!$U$14:$W$35,2,FALSE),\"\")","v":""},null,null,"",null,null,{"$f":"IFERROR(VLOOKUP(C75,'3)BAU排出量の推計'!$U$14:$W$35,3,FALSE),\"\")","v":""},null,null,""]
[null,57,null,null,null,null,null,{"$f":"IFERROR(VLOOKUP(C76,'3)BAU排出量の推計'!$U$14:$W$35,2,FALSE),\"\")","v":""},null,null,"",null,null,{"$f":"IFERROR(VLOOKUP(C76,'3)BAU排出量の推計'!$U$14:$W$35,3,FALSE),\"\")","v":""},null,null,""]
[null,58,null,null,null,null,null,{"$f":"IFERROR(VLOOKUP(C77,'3)BAU排出量の推計'!$U$14:$W$35,2,FALSE),\"\")","v":""},null,null,"",null,null,{"$f":"IFERROR(VLOOKUP(C77,'3)BAU排出量の推計'!$U$14:$W$35,3,FALSE),\"\")","v":""},null,null,""]
[null,59,null,null,null,null,null,{"$f":"IFERROR(VLOOKUP(C78,'3)BAU排出量の推計'!$U$14:$W$35,2,FALSE),\"\")","v":""},null,null,"",null,null,{"$f":"IFERROR(VLOOKUP(C78,'3)BAU排出量の推計'!$U$14:$W$35,3,FALSE),\"\")","v":""},null,null,""]
[null,60,null,null,null,null,null,{"$f":"IFERROR(VLOOKUP(C79,'3)BAU排出量の推計'!$U$14:$W$35,2,FALSE),\"\")","v":""},null,null,"",null,null,{"$f":"IFERROR(VLOOKUP(C79,'3)BAU排出量の推計'!$U$14:$W$35,3,FALSE),\"\")","v":""},null,null,""]
[null,61,null,null,null,null,null,{"$f":"IFERROR(VLOOKUP(C80,'3)BAU排出量の推計'!$U$14:$W$35,2,FALSE),\"\")","v":""},null,null,"",null,null,{"$f":"IFERROR(VLOOKUP(C80,'3)BAU排出量の推計'!$U$14:$W$35,3,FALSE),\"\")","v":""},null,null,""]
[null,62,null,null,null,null,null,{"$f":"IFERROR(VLOOKUP(C81,'3)BAU排出量の推計'!$U$14:$W$35,2,FALSE),\"\")","v":""},null,null,"",null,null,{"$f":"IFERROR(VLOOKUP(C81,'3)BAU排出量の推計'!$U$14:$W$35,3,FALSE),\"\")","v":""},null,null,""]
[null,63,null,null,null,null,null,{"$f":"IFERROR(VLOOKUP(C82,'3)BAU排出量の推計'!$U$14:$W$35,2,FALSE),\"\")","v":""},null,null,"",null,null,{"$f":"IFERROR(VLOOKUP(C82,'3)BAU排出量の推計'!$U$14:$W$35,3,FALSE),\"\")","v":""},null,null,""]
[null,64,null,null,null,null,null,{"$f":"IFERROR(VLOOKUP(C83,'3)BAU排出量の推計'!$U$14:$W$35,2,FALSE),\"\")","v":""},null,null,"",null,null,{"$f":"IFERROR(VLOOKUP(C83,'3)BAU排出量の推計'!$U$14:$W$35,3,FALSE),\"\")","v":""},null,null,""]
[null,65,null,null,null,null,null,{"$f":"IFERROR(VLOOKUP(C84,'3)BAU排出量の推計'!$U$14:$W$35,2,FALSE),\"\")","v":""},null,null,"",null,null,{"$f":"IFERROR(VLOOKUP(C84,'3)BAU排出量の推計'!$U$14:$W$35,3,FALSE),\"\")","v":""},null,null,""]
[null,66,null,null,null,null,null,{"$f":"IFERROR(VLOOKUP(C85,'3)BAU排出量の推計'!$U$14:$W$35,2,FALSE),\"\")","v":""},null,null,{"$f":"IF(I85>0,\"\",IF(OR(H85=0,H85=\"\"),\"\",IF(ISERROR(H85*J85),\"\",H85*J85)))","v":""},null,null,{"$f":"IFERROR(VLOOKUP(C85,'3)BAU排出量の推計'!$U$14:$W$35,3,FALSE),\"\")","v":""},null,null,{"$f":"IF(O85>0,\"\",IF(OR(N85=0,N85=\"\"),\"\",IF(ISERROR(N85*P85),\"\",N85*P85)))","v":""}]
[null,67,null,null,null,null,null,{"$f":"IFERROR(VLOOKUP(C86,'3)BAU排出量の推計'!$U$14:$W$35,2,FALSE),\"\")","v":""},null,null,"",null,null,{"$f":"IFERROR(VLOOKUP(C86,'3)BAU排出量の推計'!$U$14:$W$35,3,FALSE),\"\")","v":""},null,null,""]
[null,68,null,null,null,null,null,{"$f":"IFERROR(VLOOKUP(C87,'3)BAU排出量の推計'!$U$14:$W$35,2,FALSE),\"\")","v":""},null,null,"",null,null,{"$f":"IFERROR(VLOOKUP(C87,'3)BAU排出量の推計'!$U$14:$W$35,3,FALSE),\"\")","v":""},null,null,""]
[null,69,null,null,null,null,null,{"$f":"IFERROR(VLOOKUP(C88,'3)BAU排出量の推計'!$U$14:$W$35,2,FALSE),\"\")","v":""},null,null,"",null,null,{"$f":"IFERROR(VLOOKUP(C88,'3)BAU排出量の推計'!$U$14:$W$35,3,FALSE),\"\")","v":""},null,null,""]
[null,70,null,null,null,null,null,{"$f":"IFERROR(VLOOKUP(C89,'3)BAU排出量の推計'!$U$14:$W$35,2,FALSE),\"\")","v":""},null,null,"",null,null,{"$f":"IFERROR(VLOOKUP(C89,'3)BAU排出量の推計'!$U$14:$W$35,3,FALSE),\"\")","v":""},null,null,""]
[null,71,null,null,null,null,null,{"$f":"IFERROR(VLOOKUP(C90,'3)BAU排出量の推計'!$U$14:$W$35,2,FALSE),\"\")","v":""},null,null,"",null,null,{"$f":"IFERROR(VLOOKUP(C90,'3)BAU排出量の推計'!$U$14:$W$35,3,FALSE),\"\")","v":""},null,null,""]
[null,{"$f":"ROW()-$A$20+1","v":72},null,null,null,null,null,{"$f":"IFERROR(VLOOKUP(C91,'3)BAU排出量の推計'!$U$14:$W$35,2,FALSE),\"\")","v":""},null,null,"",null,null,{"$f":"IFERROR(VLOOKUP(C91,'3)BAU排出量の推計'!$U$14:$W$35,3,FALSE),\"\")","v":""},null,null,""]
[null,73,null,null,null,null,null,{"$f":"IFERROR(VLOOKUP(C92,'3)BAU排出量の推計'!$U$14:$W$35,2,FALSE),\"\")","v":""},null,null,"",null,null,{"$f":"IFERROR(VLOOKUP(C92,'3)BAU排出量の推計'!$U$14:$W$35,3,FALSE),\"\")","v":""},null,null,""]
[null,74,null,null,null,null,null,{"$f":"IFERROR(VLOOKUP(C93,'3)BAU排出量の推計'!$U$14:$W$35,2,FALSE),\"\")","v":""},null,null,"",null,null,{"$f":"IFERROR(VLOOKUP(C93,'3)BAU排出量の推計'!$U$14:$W$35,3,FALSE),\"\")","v":""},null,null,""]
[null,75,null,null,null,null,null,{"$f":"IFERROR(VLOOKUP(C94,'3)BAU排出量の推計'!$U$14:$W$35,2,FALSE),\"\")","v":""},null,null,"",null,null,{"$f":"IFERROR(VLOOKUP(C94,'3)BAU排出量の推計'!$U$14:$W$35,3,FALSE),\"\")","v":""},null,null,""]
[null,76,null,null,null,null,null,{"$f":"IFERROR(VLOOKUP(C95,'3)BAU排出量の推計'!$U$14:$W$35,2,FALSE),\"\")","v":""},null,null,"",null,null,{"$f":"IFERROR(VLOOKUP(C95,'3)BAU排出量の推計'!$U$14:$W$35,3,FALSE),\"\")","v":""},null,null,""]
[null,77,null,null,null,null,null,{"$f":"IFERROR(VLOOKUP(C96,'3)BAU排出量の推計'!$U$14:$W$35,2,FALSE),\"\")","v":""},null,null,"",null,null,{"$f":"IFERROR(VLOOKUP(C96,'3)BAU排出量の推計'!$U$14:$W$35,3,FALSE),\"\")","v":""},null,null,""]
[null,78,null,null,null,null,null,{"$f":"IFERROR(VLOOKUP(C97,'3)BAU排出量の推計'!$U$14:$W$35,2,FALSE),\"\")","v":""},null,null,"",null,null,{"$f":"IFERROR(VLOOKUP(C97,'3)BAU排出量の推計'!$U$14:$W$35,3,FALSE),\"\")","v":""},null,null,""]
[null,79,null,null,null,null,null,{"$f":"IFERROR(VLOOKUP(C98,'3)BAU排出量の推計'!$U$14:$W$35,2,FALSE),\"\")","v":""},null,null,"",null,null,{"$f":"IFERROR(VLOOKUP(C98,'3)BAU排出量の推計'!$U$14:$W$35,3,FALSE),\"\")","v":""},null,null,""]
[null,80,null,null,null,null,null,{"$f":"IFERROR(VLOOKUP(C99,'3)BAU排出量の推計'!$U$14:$W$35,2,FALSE),\"\")","v":""},null,null,"",null,null,{"$f":"IFERROR(VLOOKUP(C99,'3)BAU排出量の推計'!$U$14:$W$35,3,FALSE),\"\")","v":""},null,null,""]
[null,81,null,null,null,null,null,{"$f":"IFERROR(VLOOKUP(C100,'3)BAU排出量の推計'!$U$14:$W$35,2,FALSE),\"\")","v":""},null,null,"",null,null,{"$f":"IFERROR(VLOOKUP(C100,'3)BAU排出量の推計'!$U$14:$W$35,3,FALSE),\"\")","v":""},null,null,""]
[null,82,null,null,null,null,null,{"$f":"IFERROR(VLOOKUP(C101,'3)BAU排出量の推計'!$U$14:$W$35,2,FALSE),\"\")","v":""},null,null,"",null,null,{"$f":"IFERROR(VLOOKUP(C101,'3)BAU排出量の推計'!$U$14:$W$35,3,FALSE),\"\")","v":""},null,null,""]
[null,83,null,null,null,null,null,{"$f":"IFERROR(VLOOKUP(C102,'3)BAU排出量の推計'!$U$14:$W$35,2,FALSE),\"\")","v":""},null,null,"",null,null,{"$f":"IFERROR(VLOOKUP(C102,'3)BAU排出量の推計'!$U$14:$W$35,3,FALSE),\"\")","v":""},null,null,""]
[null,84,null,null,null,null,null,{"$f":"IFERROR(VLOOKUP(C103,'3)BAU排出量の推計'!$U$14:$W$35,2,FALSE),\"\")","v":""},null,null,"",null,null,{"$f":"IFERROR(VLOOKUP(C103,'3)BAU排出量の推計'!$U$14:$W$35,3,FALSE),\"\")","v":""},null,null,""]
[null,85,null,null,null,null,null,{"$f":"IFERROR(VLOOKUP(C104,'3)BAU排出量の推計'!$U$14:$W$35,2,FALSE),\"\")","v":""},null,null,"",null,null,{"$f":"IFERROR(VLOOKUP(C104,'3)BAU排出量の推計'!$U$14:$W$35,3,FALSE),\"\")","v":""},null,null,""]
[null,86,null,null,null,null,null,{"$f":"IFERROR(VLOOKUP(C105,'3)BAU排出量の推計'!$U$14:$W$35,2,FALSE),\"\")","v":""},null,null,"",null,null,{"$f":"IFERROR(VLOOKUP(C105,'3)BAU排出量の推計'!$U$14:$W$35,3,FALSE),\"\")","v":""},null,null,""]
[null,87,null,null,null,null,null,{"$f":"IFERROR(VLOOKUP(C106,'3)BAU排出量の推計'!$U$14:$W$35,2,FALSE),\"\")","v":""},null,null,"",null,null,{"$f":"IFERROR(VLOOKUP(C106,'3)BAU排出量の推計'!$U$14:$W$35,3,FALSE),\"\")","v":""},null,null,""]
[null,88,null,null,null,null,null,{"$f":"IFERROR(VLOOKUP(C107,'3)BAU排出量の推計'!$U$14:$W$35,2,FALSE),\"\")","v":""},null,null,"",null,null,{"$f":"IFERROR(VLOOKUP(C107,'3)BAU排出量の推計'!$U$14:$W$35,3,FALSE),\"\")","v":""},null,null,""]
[null,89,null,null,null,null,null,{"$f":"IFERROR(VLOOKUP(C108,'3)BAU排出量の推計'!$U$14:$W$35,2,FALSE),\"\")","v":""},null,null,"",null,null,{"$f":"IFERROR(VLOOKUP(C108,'3)BAU排出量の推計'!$U$14:$W$35,3,FALSE),\"\")","v":""},null,null,""]
[null,90,null,null,null,null,null,{"$f":"IFERROR(VLOOKUP(C109,'3)BAU排出量の推計'!$U$14:$W$35,2,FALSE),\"\")","v":""},null,null,"",null,null,{"$f":"IFERROR(VLOOKUP(C109,'3)BAU排出量の推計'!$U$14:$W$35,3,FALSE),\"\")","v":""},null,null,""]
[null,91,null,null,null,null,null,{"$f":"IFERROR(VLOOKUP(C110,'3)BAU排出量の推計'!$U$14:$W$35,2,FALSE),\"\")","v":""},null,null,"",null,null,{"$f":"IFERROR(VLOOKUP(C110,'3)BAU排出量の推計'!$U$14:$W$35,3,FALSE),\"\")","v":""},null,null,""]
[null,92,null,null,null,null,null,{"$f":"IFERROR(VLOOKUP(C111,'3)BAU排出量の推計'!$U$14:$W$35,2,FALSE),\"\")","v":""},null,null,"",null,null,{"$f":"IFERROR(VLOOKUP(C111,'3)BAU排出量の推計'!$U$14:$W$35,3,FALSE),\"\")","v":""},null,null,""]
[null,93,null,null,null,null,null,{"$f":"IFERROR(VLOOKUP(C112,'3)BAU排出量の推計'!$U$14:$W$35,2,FALSE),\"\")","v":""},null,null,"",null,null,{"$f":"IFERROR(VLOOKUP(C112,'3)BAU排出量の推計'!$U$14:$W$35,3,FALSE),\"\")","v":""},null,null,""]
[null,94,null,null,null,null,null,{"$f":"IFERROR(VLOOKUP(C113,'3)BAU排出量の推計'!$U$14:$W$35,2,FALSE),\"\")","v":""},null,null,"",null,null,{"$f":"IFERROR(VLOOKUP(C113,'3)BAU排出量の推計'!$U$14:$W$35,3,FALSE),\"\")","v":""},null,null,""]
[null,95,null,null,null,null,null,{"$f":"IFERROR(VLOOKUP(C114,'3)BAU排出量の推計'!$U$14:$W$35,2,FALSE),\"\")","v":""},null,null,"",null,null,{"$f":"IFERROR(VLOOKUP(C114,'3)BAU排出量の推計'!$U$14:$W$35,3,FALSE),\"\")","v":""},null,null,""]
[null,96,null,null,null,null,null,{"$f":"IFERROR(VLOOKUP(C115,'3)BAU排出量の推計'!$U$14:$W$35,2,FALSE),\"\")","v":""},null,null,"",null,null,{"$f":"IFERROR(VLOOKUP(C115,'3)BAU排出量の推計'!$U$14:$W$35,3,FALSE),\"\")","v":""},null,null,""]
[null,97,null,null,null,null,null,{"$f":"IFERROR(VLOOKUP(C116,'3)BAU排出量の推計'!$U$14:$W$35,2,FALSE),\"\")","v":""},null,null,"",null,null,{"$f":"IFERROR(VLOOKUP(C116,'3)BAU排出量の推計'!$U$14:$W$35,3,FALSE),\"\")","v":""},null,null,""]
[null,98,null,null,null,null,null,{"$f":"IFERROR(VLOOKUP(C117,'3)BAU排出量の推計'!$U$14:$W$35,2,FALSE),\"\")","v":""},null,null,"",null,null,{"$f":"IFERROR(VLOOKUP(C117,'3)BAU排出量の推計'!$U$14:$W$35,3,FALSE),\"\")","v":""},null,null,""]
[null,99,null,null,null,null,null,{"$f":"IFERROR(VLOOKUP(C118,'3)BAU排出量の推計'!$U$14:$W$35,2,FALSE),\"\")","v":""},null,null,"",null,null,{"$f":"IFERROR(VLOOKUP(C118,'3)BAU排出量の推計'!$U$14:$W$35,3,FALSE),\"\")","v":""},null,null,""]
[null,100,null,null,null,null,null,{"$f":"IFERROR(VLOOKUP(C119,'3)BAU排出量の推計'!$U$14:$W$35,2,FALSE),\"\")","v":""},null,null,"",null,null,{"$f":"IFERROR(VLOOKUP(C119,'3)BAU排出量の推計'!$U$14:$W$35,3,FALSE),\"\")","v":""},null,null,""]
[null,101,null,null,null,null,null,{"$f":"IFERROR(VLOOKUP(C120,'3)BAU排出量の推計'!$U$14:$W$35,2,FALSE),\"\")","v":""},null,null,"",null,null,{"$f":"IFERROR(VLOOKUP(C120,'3)BAU排出量の推計'!$U$14:$W$35,3,FALSE),\"\")","v":""},null,null,""]
[null,102,null,null,null,null,null,{"$f":"IFERROR(VLOOKUP(C121,'3)BAU排出量の推計'!$U$14:$W$35,2,FALSE),\"\")","v":""},null,null,"",null,null,{"$f":"IFERROR(VLOOKUP(C121,'3)BAU排出量の推計'!$U$14:$W$35,3,FALSE),\"\")","v":""},null,null,""]
[null,103,null,null,null,null,null,{"$f":"IFERROR(VLOOKUP(C122,'3)BAU排出量の推計'!$U$14:$W$35,2,FALSE),\"\")","v":""},null,null,"",null,null,{"$f":"IFERROR(VLOOKUP(C122,'3)BAU排出量の推計'!$U$14:$W$35,3,FALSE),\"\")","v":""},null,null,""]
[null,104,null,null,null,null,null,{"$f":"IFERROR(VLOOKUP(C123,'3)BAU排出量の推計'!$U$14:$W$35,2,FALSE),\"\")","v":""},null,null,"",null,null,{"$f":"IFERROR(VLOOKUP(C123,'3)BAU排出量の推計'!$U$14:$W$35,3,FALSE),\"\")","v":""},null,null,""]
[null,105,null,null,null,null,null,{"$f":"IFERROR(VLOOKUP(C124,'3)BAU排出量の推計'!$U$14:$W$35,2,FALSE),\"\")","v":""},null,null,"",null,null,{"$f":"IFERROR(VLOOKUP(C124,'3)BAU排出量の推計'!$U$14:$W$35,3,FALSE),\"\")","v":""},null,null,""]
[null,106,null,null,null,null,null,{"$f":"IFERROR(VLOOKUP(C125,'3)BAU排出量の推計'!$U$14:$W$35,2,FALSE),\"\")","v":""},null,null,"",null,null,{"$f":"IFERROR(VLOOKUP(C125,'3)BAU排出量の推計'!$U$14:$W$35,3,FALSE),\"\")","v":""},null,null,""]
[null,107,null,null,null,null,null,{"$f":"IFERROR(VLOOKUP(C126,'3)BAU排出量の推計'!$U$14:$W$35,2,FALSE),\"\")","v":""},null,null,"",null,null,{"$f":"IFERROR(VLOOKUP(C126,'3)BAU排出量の推計'!$U$14:$W$35,3,FALSE),\"\")","v":""},null,null,""]
[null,108,null,null,null,null,null,{"$f":"IFERROR(VLOOKUP(C127,'3)BAU排出量の推計'!$U$14:$W$35,2,FALSE),\"\")","v":""},null,null,"",null,null,{"$f":"IFERROR(VLOOKUP(C127,'3)BAU排出量の推計'!$U$14:$W$35,3,FALSE),\"\")","v":""},null,null,""]
[null,109,null,null,null,null,null,{"$f":"IFERROR(VLOOKUP(C128,'3)BAU排出量の推計'!$U$14:$W$35,2,FALSE),\"\")","v":""},null,null,"",null,null,{"$f":"IFERROR(VLOOKUP(C128,'3)BAU排出量の推計'!$U$14:$W$35,3,FALSE),\"\")","v":""},null,null,""]
[null,110,null,null,null,null,null,{"$f":"IFERROR(VLOOKUP(C129,'3)BAU排出量の推計'!$U$14:$W$35,2,FALSE),\"\")","v":""},null,null,"",null,null,{"$f":"IFERROR(VLOOKUP(C129,'3)BAU排出量の推計'!$U$14:$W$35,3,FALSE),\"\")","v":""},null,null,""]
[null,111,null,null,null,null,null,{"$f":"IFERROR(VLOOKUP(C130,'3)BAU排出量の推計'!$U$14:$W$35,2,FALSE),\"\")","v":""},null,null,"",null,null,{"$f":"IFERROR(VLOOKUP(C130,'3)BAU排出量の推計'!$U$14:$W$35,3,FALSE),\"\")","v":""},null,null,""]
[null,112,null,null,null,null,null,{"$f":"IFERROR(VLOOKUP(C131,'3)BAU排出量の推計'!$U$14:$W$35,2,FALSE),\"\")","v":""},null,null,"",null,null,{"$f":"IFERROR(VLOOKUP(C131,'3)BAU排出量の推計'!$U$14:$W$35,3,FALSE),\"\")","v":""},null,null,""]
[null,113,null,null,null,null,null,{"$f":"IFERROR(VLOOKUP(C132,'3)BAU排出量の推計'!$U$14:$W$35,2,FALSE),\"\")","v":""},null,null,"",null,null,{"$f":"IFERROR(VLOOKUP(C132,'3)BAU排出量の推計'!$U$14:$W$35,3,FALSE),\"\")","v":""},null,null,""]
[null,114,null,null,null,null,null,{"$f":"IFERROR(VLOOKUP(C133,'3)BAU排出量の推計'!$U$14:$W$35,2,FALSE),\"\")","v":""},null,null,"",null,null,{"$f":"IFERROR(VLOOKUP(C133,'3)BAU排出量の推計'!$U$14:$W$35,3,FALSE),\"\")","v":""},null,null,""]
[null,115,null,null,null,null,null,{"$f":"IFERROR(VLOOKUP(C134,'3)BAU排出量の推計'!$U$14:$W$35,2,FALSE),\"\")","v":""},null,null,"",null,null,{"$f":"IFERROR(VLOOKUP(C134,'3)BAU排出量の推計'!$U$14:$W$35,3,FALSE),\"\")","v":""},null,null,""]
[null,116,null,null,null,null,null,{"$f":"IFERROR(VLOOKUP(C135,'3)BAU排出量の推計'!$U$14:$W$35,2,FALSE),\"\")","v":""},null,null,"",null,null,{"$f":"IFERROR(VLOOKUP(C135,'3)BAU排出量の推計'!$U$14:$W$35,3,FALSE),\"\")","v":""},null,null,""]
[null,117,null,null,null,null,null,{"$f":"IFERROR(VLOOKUP(C136,'3)BAU排出量の推計'!$U$14:$W$35,2,FALSE),\"\")","v":""},null,null,"",null,null,{"$f":"IFERROR(VLOOKUP(C136,'3)BAU排出量の推計'!$U$14:$W$35,3,FALSE),\"\")","v":""},null,null,""]
[null,118,null,null,null,null,null,{"$f":"IFERROR(VLOOKUP(C137,'3)BAU排出量の推計'!$U$14:$W$35,2,FALSE),\"\")","v":""},null,null,"",null,null,{"$f":"IFERROR(VLOOKUP(C137,'3)BAU排出量の推計'!$U$14:$W$35,3,FALSE),\"\")","v":""},null,null,""]
[null,119,null,null,null,null,null,{"$f":"IFERROR(VLOOKUP(C138,'3)BAU排出量の推計'!$U$14:$W$35,2,FALSE),\"\")","v":""},null,null,"",null,null,{"$f":"IFERROR(VLOOKUP(C138,'3)BAU排出量の推計'!$U$14:$W$35,3,FALSE),\"\")","v":""},null,null,""]
[null,120,null,null,null,null,null,{"$f":"IFERROR(VLOOKUP(C139,'3)BAU排出量の推計'!$U$14:$W$35,2,FALSE),\"\")","v":""},null,null,"",null,null,{"$f":"IFERROR(VLOOKUP(C139,'3)BAU排出量の推計'!$U$14:$W$35,3,FALSE),\"\")","v":""},null,null,""]
[null,121,null,null,null,null,null,{"$f":"IFERROR(VLOOKUP(C140,'3)BAU排出量の推計'!$U$14:$W$35,2,FALSE),\"\")","v":""},null,null,"",null,null,{"$f":"IFERROR(VLOOKUP(C140,'3)BAU排出量の推計'!$U$14:$W$35,3,FALSE),\"\")","v":""},null,null,""]
[null,122,null,null,null,null,null,{"$f":"IFERROR(VLOOKUP(C141,'3)BAU排出量の推計'!$U$14:$W$35,2,FALSE),\"\")","v":""},null,null,"",null,null,{"$f":"IFERROR(VLOOKUP(C141,'3)BAU排出量の推計'!$U$14:$W$35,3,FALSE),\"\")","v":""},null,null,""]
[null,123,null,null,null,null,null,{"$f":"IFERROR(VLOOKUP(C142,'3)BAU排出量の推計'!$U$14:$W$35,2,FALSE),\"\")","v":""},null,null,"",null,null,{"$f":"IFERROR(VLOOKUP(C142,'3)BAU排出量の推計'!$U$14:$W$35,3,FALSE),\"\")","v":""},null,null,""]
[null,124,null,null,null,null,null,{"$f":"IFERROR(VLOOKUP(C143,'3)BAU排出量の推計'!$U$14:$W$35,2,FALSE),\"\")","v":""},null,null,"",null,null,{"$f":"IFERROR(VLOOKUP(C143,'3)BAU排出量の推計'!$U$14:$W$35,3,FALSE),\"\")","v":""},null,null,""]
[null,125,null,null,null,null,null,{"$f":"IFERROR(VLOOKUP(C144,'3)BAU排出量の推計'!$U$14:$W$35,2,FALSE),\"\")","v":""},null,null,"",null,null,{"$f":"IFERROR(VLOOKUP(C144,'3)BAU排出量の推計'!$U$14:$W$35,3,FALSE),\"\")","v":""},null,null,""]
[null,126,null,null,null,null,null,{"$f":"IFERROR(VLOOKUP(C145,'3)BAU排出量の推計'!$U$14:$W$35,2,FALSE),\"\")","v":""},null,null,"",null,null,{"$f":"IFERROR(VLOOKUP(C145,'3)BAU排出量の推計'!$U$14:$W$35,3,FALSE),\"\")","v":""},null,null,""]
[null,127,null,null,null,null,null,{"$f":"IFERROR(VLOOKUP(C146,'3)BAU排出量の推計'!$U$14:$W$35,2,FALSE),\"\")","v":""},null,null,"",null,null,{"$f":"IFERROR(VLOOKUP(C146,'3)BAU排出量の推計'!$U$14:$W$35,3,FALSE),\"\")","v":""},null,null,""]
[null,128,null,null,null,null,null,{"$f":"IFERROR(VLOOKUP(C147,'3)BAU排出量の推計'!$U$14:$W$35,2,FALSE),\"\")","v":""},null,null,"",null,null,{"$f":"IFERROR(VLOOKUP(C147,'3)BAU排出量の推計'!$U$14:$W$35,3,FALSE),\"\")","v":""},null,null,""]
[null,129,null,null,null,null,null,{"$f":"IFERROR(VLOOKUP(C148,'3)BAU排出量の推計'!$U$14:$W$35,2,FALSE),\"\")","v":""},null,null,"",null,null,{"$f":"IFERROR(VLOOKUP(C148,'3)BAU排出量の推計'!$U$14:$W$35,3,FALSE),\"\")","v":""},null,null,""]
[null,130,null,null,null,null,null,{"$f":"IFERROR(VLOOKUP(C149,'3)BAU排出量の推計'!$U$14:$W$35,2,FALSE),\"\")","v":""},null,null,{"$f":"IF(I149>0,\"\",IF(OR(H149=0,H149=\"\"),\"\",IF(ISERROR(H149*J149),\"\",H149*J149)))","v":""},null,null,{"$f":"IFERROR(VLOOKUP(C149,'3)BAU排出量の推計'!$U$14:$W$35,3,FALSE),\"\")","v":""},null,null,{"$f":"IF(O149>0,\"\",IF(OR(N149=0,N149=\"\"),\"\",IF(ISERROR(N149*P149),\"\",N149*P149)))","v":""}]
[null,131,null,null,null,null,null,{"$f":"IFERROR(VLOOKUP(C150,'3)BAU排出量の推計'!$U$14:$W$35,2,FALSE),\"\")","v":""},null,null,"",null,null,{"$f":"IFERROR(VLOOKUP(C150,'3)BAU排出量の推計'!$U$14:$W$35,3,FALSE),\"\")","v":""},null,null,""]
[null,132,null,null,null,null,null,{"$f":"IFERROR(VLOOKUP(C151,'3)BAU排出量の推計'!$U$14:$W$35,2,FALSE),\"\")","v":""},null,null,"",null,null,{"$f":"IFERROR(VLOOKUP(C151,'3)BAU排出量の推計'!$U$14:$W$35,3,FALSE),\"\")","v":""},null,null,""]
[null,133,null,null,null,null,null,{"$f":"IFERROR(VLOOKUP(C152,'3)BAU排出量の推計'!$U$14:$W$35,2,FALSE),\"\")","v":""},null,null,"",null,null,{"$f":"IFERROR(VLOOKUP(C152,'3)BAU排出量の推計'!$U$14:$W$35,3,FALSE),\"\")","v":""},null,null,""]
[null,134,null,null,null,null,null,{"$f":"IFERROR(VLOOKUP(C153,'3)BAU排出量の推計'!$U$14:$W$35,2,FALSE),\"\")","v":""},null,null,"",null,null,{"$f":"IFERROR(VLOOKUP(C153,'3)BAU排出量の推計'!$U$14:$W$35,3,FALSE),\"\")","v":""},null,null,""]
[null,135,null,null,null,null,null,{"$f":"IFERROR(VLOOKUP(C154,'3)BAU排出量の推計'!$U$14:$W$35,2,FALSE),\"\")","v":""},null,null,"",null,null,{"$f":"IFERROR(VLOOKUP(C154,'3)BAU排出量の推計'!$U$14:$W$35,3,FALSE),\"\")","v":""},null,null,""]
[null,{"$f":"ROW()-$A$20+1","v":136},null,null,null,null,null,{"$f":"IFERROR(VLOOKUP(C155,'3)BAU排出量の推計'!$U$14:$W$35,2,FALSE),\"\")","v":""},null,null,"",null,null,{"$f":"IFERROR(VLOOKUP(C155,'3)BAU排出量の推計'!$U$14:$W$35,3,FALSE),\"\")","v":""},null,null,""]
[null,137,null,null,null,null,null,{"$f":"IFERROR(VLOOKUP(C156,'3)BAU排出量の推計'!$U$14:$W$35,2,FALSE),\"\")","v":""},null,null,"",null,null,{"$f":"IFERROR(VLOOKUP(C156,'3)BAU排出量の推計'!$U$14:$W$35,3,FALSE),\"\")","v":""},null,null,""]
[null,138,null,null,null,null,null,{"$f":"IFERROR(VLOOKUP(C157,'3)BAU排出量の推計'!$U$14:$W$35,2,FALSE),\"\")","v":""},null,null,"",null,null,{"$f":"IFERROR(VLOOKUP(C157,'3)BAU排出量の推計'!$U$14:$W$35,3,FALSE),\"\")","v":""},null,null,""]
[null,139,null,null,null,null,null,{"$f":"IFERROR(VLOOKUP(C158,'3)BAU排出量の推計'!$U$14:$W$35,2,FALSE),\"\")","v":""},null,null,"",null,null,{"$f":"IFERROR(VLOOKUP(C158,'3)BAU排出量の推計'!$U$14:$W$35,3,FALSE),\"\")","v":""},null,null,""]
[null,140,null,null,null,null,null,{"$f":"IFERROR(VLOOKUP(C159,'3)BAU排出量の推計'!$U$14:$W$35,2,FALSE),\"\")","v":""},null,null,"",null,null,{"$f":"IFERROR(VLOOKUP(C159,'3)BAU排出量の推計'!$U$14:$W$35,3,FALSE),\"\")","v":""},null,null,""]
[null,141,null,null,null,null,null,{"$f":"IFERROR(VLOOKUP(C160,'3)BAU排出量の推計'!$U$14:$W$35,2,FALSE),\"\")","v":""},null,null,"",null,null,{"$f":"IFERROR(VLOOKUP(C160,'3)BAU排出量の推計'!$U$14:$W$35,3,FALSE),\"\")","v":""},null,null,""]
[null,142,null,null,null,null,null,{"$f":"IFERROR(VLOOKUP(C161,'3)BAU排出量の推計'!$U$14:$W$35,2,FALSE),\"\")","v":""},null,null,"",null,null,{"$f":"IFERROR(VLOOKUP(C161,'3)BAU排出量の推計'!$U$14:$W$35,3,FALSE),\"\")","v":""},null,null,""]
[null,143,null,null,null,null,null,{"$f":"IFERROR(VLOOKUP(C162,'3)BAU排出量の推計'!$U$14:$W$35,2,FALSE),\"\")","v":""},null,null,"",null,null,{"$f":"IFERROR(VLOOKUP(C162,'3)BAU排出量の推計'!$U$14:$W$35,3,FALSE),\"\")","v":""},null,null,""]
[null,144,null,null,null,null,null,{"$f":"IFERROR(VLOOKUP(C163,'3)BAU排出量の推計'!$U$14:$W$35,2,FALSE),\"\")","v":""},null,null,"",null,null,{"$f":"IFERROR(VLOOKUP(C163,'3)BAU排出量の推計'!$U$14:$W$35,3,FALSE),\"\")","v":""},null,null,""]
[null,145,null,null,null,null,null,{"$f":"IFERROR(VLOOKUP(C164,'3)BAU排出量の推計'!$U$14:$W$35,2,FALSE),\"\")","v":""},null,null,"",null,null,{"$f":"IFERROR(VLOOKUP(C164,'3)BAU排出量の推計'!$U$14:$W$35,3,FALSE),\"\")","v":""},null,null,""]
[null,146,null,null,null,null,null,{"$f":"IFERROR(VLOOKUP(C165,'3)BAU排出量の推計'!$U$14:$W$35,2,FALSE),\"\")","v":""},null,null,"",null,null,{"$f":"IFERROR(VLOOKUP(C165,'3)BAU排出量の推計'!$U$14:$W$35,3,FALSE),\"\")","v":""},null,null,""]
[null,147,null,null,null,null,null,{"$f":"IFERROR(VLOOKUP(C166,'3)BAU排出量の推計'!$U$14:$W$35,2,FALSE),\"\")","v":""},null,null,"",null,null,{"$f":"IFERROR(VLOOKUP(C166,'3)BAU排出量の推計'!$U$14:$W$35,3,FALSE),\"\")","v":""},null,null,""]
[null,148,null,null,null,null,null,{"$f":"IFERROR(VLOOKUP(C167,'3)BAU排出量の推計'!$U$14:$W$35,2,FALSE),\"\")","v":""},null,null,"",null,null,{"$f":"IFERROR(VLOOKUP(C167,'3)BAU排出量の推計'!$U$14:$W$35,3,FALSE),\"\")","v":""},null,null,""]
[null,149,null,null,null,null,null,{"$f":"IFERROR(VLOOKUP(C168,'3)BAU排出量の推計'!$U$14:$W$35,2,FALSE),\"\")","v":""},null,null,"",null,null,{"$f":"IFERROR(VLOOKUP(C168,'3)BAU排出量の推計'!$U$14:$W$35,3,FALSE),\"\")","v":""},null,null,""]
[null,150,null,null,null,null,null,{"$f":"IFERROR(VLOOKUP(C169,'3)BAU排出量の推計'!$U$14:$W$35,2,FALSE),\"\")","v":""},null,null,"",null,null,{"$f":"IFERROR(VLOOKUP(C169,'3)BAU排出量の推計'!$U$14:$W$35,3,FALSE),\"\")","v":""},null,null,""]
[null,151,null,null,null,null,null,{"$f":"IFERROR(VLOOKUP(C170,'3)BAU排出量の推計'!$U$14:$W$35,2,FALSE),\"\")","v":""},null,null,"",null,null,{"$f":"IFERROR(VLOOKUP(C170,'3)BAU排出量の推計'!$U$14:$W$35,3,FALSE),\"\")","v":""},null,null,""]
[null,152,null,null,null,null,null,{"$f":"IFERROR(VLOOKUP(C171,'3)BAU排出量の推計'!$U$14:$W$35,2,FALSE),\"\")","v":""},null,null,"",null,null,{"$f":"IFERROR(VLOOKUP(C171,'3)BAU排出量の推計'!$U$14:$W$35,3,FALSE),\"\")","v":""},null,null,""]
[null,153,null,null,null,null,null,{"$f":"IFERROR(VLOOKUP(C172,'3)BAU排出量の推計'!$U$14:$W$35,2,FALSE),\"\")","v":""},null,null,"",null,null,{"$f":"IFERROR(VLOOKUP(C172,'3)BAU排出量の推計'!$U$14:$W$35,3,FALSE),\"\")","v":""},null,null,""]
[null,154,null,null,null,null,null,{"$f":"IFERROR(VLOOKUP(C173,'3)BAU排出量の推計'!$U$14:$W$35,2,FALSE),\"\")","v":""},null,null,"",null,null,{"$f":"IFERROR(VLOOKUP(C173,'3)BAU排出量の推計'!$U$14:$W$35,3,FALSE),\"\")","v":""},null,null,""]
[null,155,null,null,null,null,null,{"$f":"IFERROR(VLOOKUP(C174,'3)BAU排出量の推計'!$U$14:$W$35,2,FALSE),\"\")","v":""},null,null,"",null,null,{"$f":"IFERROR(VLOOKUP(C174,'3)BAU排出量の推計'!$U$14:$W$35,3,FALSE),\"\")","v":""},null,null,""]
[null,156,null,null,null,null,null,{"$f":"IFERROR(VLOOKUP(C175,'3)BAU排出量の推計'!$U$14:$W$35,2,FALSE),\"\")","v":""},null,null,"",null,null,{"$f":"IFERROR(VLOOKUP(C175,'3)BAU排出量の推計'!$U$14:$W$35,3,FALSE),\"\")","v":""},null,null,""]
[null,157,null,null,null,null,null,{"$f":"IFERROR(VLOOKUP(C176,'3)BAU排出量の推計'!$U$14:$W$35,2,FALSE),\"\")","v":""},null,null,"",null,null,{"$f":"IFERROR(VLOOKUP(C176,'3)BAU排出量の推計'!$U$14:$W$35,3,FALSE),\"\")","v":""},null,null,""]
[null,158,null,null,null,null,null,{"$f":"IFERROR(VLOOKUP(C177,'3)BAU排出量の推計'!$U$14:$W$35,2,FALSE),\"\")","v":""},null,null,"",null,null,{"$f":"IFERROR(VLOOKUP(C177,'3)BAU排出量の推計'!$U$14:$W$35,3,FALSE),\"\")","v":""},null,null,""]
[null,159,null,null,null,null,null,{"$f":"IFERROR(VLOOKUP(C178,'3)BAU排出量の推計'!$U$14:$W$35,2,FALSE),\"\")","v":""},null,null,"",null,null,{"$f":"IFERROR(VLOOKUP(C178,'3)BAU排出量の推計'!$U$14:$W$35,3,FALSE),\"\")","v":""},null,null,""]
[null,160,null,null,null,null,null,{"$f":"IFERROR(VLOOKUP(C179,'3)BAU排出量の推計'!$U$14:$W$35,2,FALSE),\"\")","v":""},null,null,"",null,null,{"$f":"IFERROR(VLOOKUP(C179,'3)BAU排出量の推計'!$U$14:$W$35,3,FALSE),\"\")","v":""},null,null,""]
[null,161,null,null,null,null,null,{"$f":"IFERROR(VLOOKUP(C180,'3)BAU排出量の推計'!$U$14:$W$35,2,FALSE),\"\")","v":""},null,null,"",null,null,{"$f":"IFERROR(VLOOKUP(C180,'3)BAU排出量の推計'!$U$14:$W$35,3,FALSE),\"\")","v":""},null,null,""]
[null,162,null,null,null,null,null,{"$f":"IFERROR(VLOOKUP(C181,'3)BAU排出量の推計'!$U$14:$W$35,2,FALSE),\"\")","v":""},null,null,"",null,null,{"$f":"IFERROR(VLOOKUP(C181,'3)BAU排出量の推計'!$U$14:$W$35,3,FALSE),\"\")","v":""},null,null,""]
[null,163,null,null,null,null,null,{"$f":"IFERROR(VLOOKUP(C182,'3)BAU排出量の推計'!$U$14:$W$35,2,FALSE),\"\")","v":""},null,null,"",null,null,{"$f":"IFERROR(VLOOKUP(C182,'3)BAU排出量の推計'!$U$14:$W$35,3,FALSE),\"\")","v":""},null,null,""]
[null,164,null,null,null,null,null,{"$f":"IFERROR(VLOOKUP(C183,'3)BAU排出量の推計'!$U$14:$W$35,2,FALSE),\"\")","v":""},null,null,"",null,null,{"$f":"IFERROR(VLOOKUP(C183,'3)BAU排出量の推計'!$U$14:$W$35,3,FALSE),\"\")","v":""},null,null,""]
[null,165,null,null,null,null,null,{"$f":"IFERROR(VLOOKUP(C184,'3)BAU排出量の推計'!$U$14:$W$35,2,FALSE),\"\")","v":""},null,null,"",null,null,{"$f":"IFERROR(VLOOKUP(C184,'3)BAU排出量の推計'!$U$14:$W$35,3,FALSE),\"\")","v":""},null,null,""]
[null,166,null,null,null,null,null,{"$f":"IFERROR(VLOOKUP(C185,'3)BAU排出量の推計'!$U$14:$W$35,2,FALSE),\"\")","v":""},null,null,"",null,null,{"$f":"IFERROR(VLOOKUP(C185,'3)BAU排出量の推計'!$U$14:$W$35,3,FALSE),\"\")","v":""},null,null,""]
[null,167,null,null,null,null,null,{"$f":"IFERROR(VLOOKUP(C186,'3)BAU排出量の推計'!$U$14:$W$35,2,FALSE),\"\")","v":""},null,null,"",null,null,{"$f":"IFERROR(VLOOKUP(C186,'3)BAU排出量の推計'!$U$14:$W$35,3,FALSE),\"\")","v":""},null,null,""]
[null,168,null,null,null,null,null,{"$f":"IFERROR(VLOOKUP(C187,'3)BAU排出量の推計'!$U$14:$W$35,2,FALSE),\"\")","v":""},null,null,"",null,null,{"$f":"IFERROR(VLOOKUP(C187,'3)BAU排出量の推計'!$U$14:$W$35,3,FALSE),\"\")","v":""},null,null,""]
[null,169,null,null,null,null,null,{"$f":"IFERROR(VLOOKUP(C188,'3)BAU排出量の推計'!$U$14:$W$35,2,FALSE),\"\")","v":""},null,null,"",null,null,{"$f":"IFERROR(VLOOKUP(C188,'3)BAU排出量の推計'!$U$14:$W$35,3,FALSE),\"\")","v":""},null,null,""]
[null,170,null,null,null,null,null,{"$f":"IFERROR(VLOOKUP(C189,'3)BAU排出量の推計'!$U$14:$W$35,2,FALSE),\"\")","v":""},null,null,"",null,null,{"$f":"IFERROR(VLOOKUP(C189,'3)BAU排出量の推計'!$U$14:$W$35,3,FALSE),\"\")","v":""},null,null,""]
[null,171,null,null,null,null,null,{"$f":"IFERROR(VLOOKUP(C190,'3)BAU排出量の推計'!$U$14:$W$35,2,FALSE),\"\")","v":""},null,null,"",null,null,{"$f":"IFERROR(VLOOKUP(C190,'3)BAU排出量の推計'!$U$14:$W$35,3,FALSE),\"\")","v":""},null,null,""]
[null,172,null,null,null,null,null,{"$f":"IFERROR(VLOOKUP(C191,'3)BAU排出量の推計'!$U$14:$W$35,2,FALSE),\"\")","v":""},null,null,"",null,null,{"$f":"IFERROR(VLOOKUP(C191,'3)BAU排出量の推計'!$U$14:$W$35,3,FALSE),\"\")","v":""},null,null,""]
[null,173,null,null,null,null,null,{"$f":"IFERROR(VLOOKUP(C192,'3)BAU排出量の推計'!$U$14:$W$35,2,FALSE),\"\")","v":""},null,null,"",null,null,{"$f":"IFERROR(VLOOKUP(C192,'3)BAU排出量の推計'!$U$14:$W$35,3,FALSE),\"\")","v":""},null,null,""]
[null,174,null,null,null,null,null,{"$f":"IFERROR(VLOOKUP(C193,'3)BAU排出量の推計'!$U$14:$W$35,2,FALSE),\"\")","v":""},null,null,"",null,null,{"$f":"IFERROR(VLOOKUP(C193,'3)BAU排出量の推計'!$U$14:$W$35,3,FALSE),\"\")","v":""},null,null,""]
[null,175,null,null,null,null,null,{"$f":"IFERROR(VLOOKUP(C194,'3)BAU排出量の推計'!$U$14:$W$35,2,FALSE),\"\")","v":""},null,null,"",null,null,{"$f":"IFERROR(VLOOKUP(C194,'3)BAU排出量の推計'!$U$14:$W$35,3,FALSE),\"\")","v":""},null,null,""]
[null,176,null,null,null,null,null,{"$f":"IFERROR(VLOOKUP(C195,'3)BAU排出量の推計'!$U$14:$W$35,2,FALSE),\"\")","v":""},null,null,"",null,null,{"$f":"IFERROR(VLOOKUP(C195,'3)BAU排出量の推計'!$U$14:$W$35,3,FALSE),\"\")","v":""},null,null,""]
[null,177,null,null,null,null,null,{"$f":"IFERROR(VLOOKUP(C196,'3)BAU排出量の推計'!$U$14:$W$35,2,FALSE),\"\")","v":""},null,null,"",null,null,{"$f":"IFERROR(VLOOKUP(C196,'3)BAU排出量の推計'!$U$14:$W$35,3,FALSE),\"\")","v":""},null,null,""]
[null,178,null,null,null,null,null,{"$f":"IFERROR(VLOOKUP(C197,'3)BAU排出量の推計'!$U$14:$W$35,2,FALSE),\"\")","v":""},null,null,"",null,null,{"$f":"IFERROR(VLOOKUP(C197,'3)BAU排出量の推計'!$U$14:$W$35,3,FALSE),\"\")","v":""},null,null,""]
[null,179,null,null,null,null,null,{"$f":"IFERROR(VLOOKUP(C198,'3)BAU排出量の推計'!$U$14:$W$35,2,FALSE),\"\")","v":""},null,null,"",null,null,{"$f":"IFERROR(VLOOKUP(C198,'3)BAU排出量の推計'!$U$14:$W$35,3,FALSE),\"\")","v":""},null,null,""]
[null,180,null,null,null,null,null,{"$f":"IFERROR(VLOOKUP(C199,'3)BAU排出量の推計'!$U$14:$W$35,2,FALSE),\"\")","v":""},null,null,"",null,null,{"$f":"IFERROR(VLOOKUP(C199,'3)BAU排出量の推計'!$U$14:$W$35,3,FALSE),\"\")","v":""},null,null,""]
[null,181,null,null,null,null,null,{"$f":"IFERROR(VLOOKUP(C200,'3)BAU排出量の推計'!$U$14:$W$35,2,FALSE),\"\")","v":""},null,null,"",null,null,{"$f":"IFERROR(VLOOKUP(C200,'3)BAU排出量の推計'!$U$14:$W$35,3,FALSE),\"\")","v":""},null,null,""]
[null,182,null,null,null,null,null,{"$f":"IFERROR(VLOOKUP(C201,'3)BAU排出量の推計'!$U$14:$W$35,2,FALSE),\"\")","v":""},null,null,"",null,null,{"$f":"IFERROR(VLOOKUP(C201,'3)BAU排出量の推計'!$U$14:$W$35,3,FALSE),\"\")","v":""},null,null,""]
[null,183,null,null,null,null,null,{"$f":"IFERROR(VLOOKUP(C202,'3)BAU排出量の推計'!$U$14:$W$35,2,FALSE),\"\")","v":""},null,null,"",null,null,{"$f":"IFERROR(VLOOKUP(C202,'3)BAU排出量の推計'!$U$14:$W$35,3,FALSE),\"\")","v":""},null,null,""]
[null,184,null,null,null,null,null,{"$f":"IFERROR(VLOOKUP(C203,'3)BAU排出量の推計'!$U$14:$W$35,2,FALSE),\"\")","v":""},null,null,"",null,null,{"$f":"IFERROR(VLOOKUP(C203,'3)BAU排出量の推計'!$U$14:$W$35,3,FALSE),\"\")","v":""},null,null,""]
[null,185,null,null,null,null,null,{"$f":"IFERROR(VLOOKUP(C204,'3)BAU排出量の推計'!$U$14:$W$35,2,FALSE),\"\")","v":""},null,null,"",null,null,{"$f":"IFERROR(VLOOKUP(C204,'3)BAU排出量の推計'!$U$14:$W$35,3,FALSE),\"\")","v":""},null,null,""]
[null,186,null,null,null,null,null,{"$f":"IFERROR(VLOOKUP(C205,'3)BAU排出量の推計'!$U$14:$W$35,2,FALSE),\"\")","v":""},null,null,"",null,null,{"$f":"IFERROR(VLOOKUP(C205,'3)BAU排出量の推計'!$U$14:$W$35,3,FALSE),\"\")","v":""},null,null,""]
[null,187,null,null,null,null,null,{"$f":"IFERROR(VLOOKUP(C206,'3)BAU排出量の推計'!$U$14:$W$35,2,FALSE),\"\")","v":""},null,null,"",null,null,{"$f":"IFERROR(VLOOKUP(C206,'3)BAU排出量の推計'!$U$14:$W$35,3,FALSE),\"\")","v":""},null,null,""]
[null,188,null,null,null,null,null,{"$f":"IFERROR(VLOOKUP(C207,'3)BAU排出量の推計'!$U$14:$W$35,2,FALSE),\"\")","v":""},null,null,"",null,null,{"$f":"IFERROR(VLOOKUP(C207,'3)BAU排出量の推計'!$U$14:$W$35,3,FALSE),\"\")","v":""},null,null,""]
[null,189,null,null,null,null,null,{"$f":"IFERROR(VLOOKUP(C208,'3)BAU排出量の推計'!$U$14:$W$35,2,FALSE),\"\")","v":""},null,null,"",null,null,{"$f":"IFERROR(VLOOKUP(C208,'3)BAU排出量の推計'!$U$14:$W$35,3,FALSE),\"\")","v":""},null,null,""]
[null,190,null,null,null,null,null,{"$f":"IFERROR(VLOOKUP(C209,'3)BAU排出量の推計'!$U$14:$W$35,2,FALSE),\"\")","v":""},null,null,"",null,null,{"$f":"IFERROR(VLOOKUP(C209,'3)BAU排出量の推計'!$U$14:$W$35,3,FALSE),\"\")","v":""},null,null,""]
[null,191,null,null,null,null,null,{"$f":"IFERROR(VLOOKUP(C210,'3)BAU排出量の推計'!$U$14:$W$35,2,FALSE),\"\")","v":""},null,null,"",null,null,{"$f":"IFERROR(VLOOKUP(C210,'3)BAU排出量の推計'!$U$14:$W$35,3,FALSE),\"\")","v":""},null,null,""]
[null,192,null,null,null,null,null,{"$f":"IFERROR(VLOOKUP(C211,'3)BAU排出量の推計'!$U$14:$W$35,2,FALSE),\"\")","v":""},null,null,"",null,null,{"$f":"IFERROR(VLOOKUP(C211,'3)BAU排出量の推計'!$U$14:$W$35,3,FALSE),\"\")","v":""},null,null,""]
[null,193,null,null,null,null,null,{"$f":"IFERROR(VLOOKUP(C212,'3)BAU排出量の推計'!$U$14:$W$35,2,FALSE),\"\")","v":""},null,null,"",null,null,{"$f":"IFERROR(VLOOKUP(C212,'3)BAU排出量の推計'!$U$14:$W$35,3,FALSE),\"\")","v":""},null,null,""]
[null,194,null,null,null,null,null,{"$f":"IFERROR(VLOOKUP(C213,'3)BAU排出量の推計'!$U$14:$W$35,2,FALSE),\"\")","v":""},null,null,{"$f":"IF(I213>0,\"\",IF(OR(H213=0,H213=\"\"),\"\",IF(ISERROR(H213*J213),\"\",H213*J213)))","v":""},null,null,{"$f":"IFERROR(VLOOKUP(C213,'3)BAU排出量の推計'!$U$14:$W$35,3,FALSE),\"\")","v":""},null,null,{"$f":"IF(O213>0,\"\",IF(OR(N213=0,N213=\"\"),\"\",IF(ISERROR(N213*P213),\"\",N213*P213)))","v":""}]
[null,195,null,null,null,null,null,{"$f":"IFERROR(VLOOKUP(C214,'3)BAU排出量の推計'!$U$14:$W$35,2,FALSE),\"\")","v":""},null,null,"",null,null,{"$f":"IFERROR(VLOOKUP(C214,'3)BAU排出量の推計'!$U$14:$W$35,3,FALSE),\"\")","v":""},null,null,""]
[null,196,null,null,null,null,null,{"$f":"IFERROR(VLOOKUP(C215,'3)BAU排出量の推計'!$U$14:$W$35,2,FALSE),\"\")","v":""},null,null,"",null,null,{"$f":"IFERROR(VLOOKUP(C215,'3)BAU排出量の推計'!$U$14:$W$35,3,FALSE),\"\")","v":""},null,null,""]
[null,197,null,null,null,null,null,{"$f":"IFERROR(VLOOKUP(C216,'3)BAU排出量の推計'!$U$14:$W$35,2,FALSE),\"\")","v":""},null,null,"",null,null,{"$f":"IFERROR(VLOOKUP(C216,'3)BAU排出量の推計'!$U$14:$W$35,3,FALSE),\"\")","v":""},null,null,""]
[null,198,null,null,null,null,null,{"$f":"IFERROR(VLOOKUP(C217,'3)BAU排出量の推計'!$U$14:$W$35,2,FALSE),\"\")","v":""},null,null,"",null,null,{"$f":"IFERROR(VLOOKUP(C217,'3)BAU排出量の推計'!$U$14:$W$35,3,FALSE),\"\")","v":""},null,null,""]
[null,199,null,null,null,null,null,{"$f":"IFERROR(VLOOKUP(C218,'3)BAU排出量の推計'!$U$14:$W$35,2,FALSE),\"\")","v":""},null,null,"",null,null,{"$f":"IFERROR(VLOOKUP(C218,'3)BAU排出量の推計'!$U$14:$W$35,3,FALSE),\"\")","v":""},null,null,""]
[null,{"$f":"ROW()-$A$20+1","v":200},null,null,null,null,null,{"$f":"IFERROR(VLOOKUP(C219,'3)BAU排出量の推計'!$U$14:$W$35,2,FALSE),\"\")","v":""},null,null,"",null,null,{"$f":"IFERROR(VLOOKUP(C219,'3)BAU排出量の推計'!$U$14:$W$35,3,FALSE),\"\")","v":""},null,null,""]
[null,201,null,null,null,null,null,{"$f":"IFERROR(VLOOKUP(C220,'3)BAU排出量の推計'!$U$14:$W$35,2,FALSE),\"\")","v":""},null,null,"",null,null,{"$f":"IFERROR(VLOOKUP(C220,'3)BAU排出量の推計'!$U$14:$W$35,3,FALSE),\"\")","v":""},null,null,""]
[null,202,null,null,null,null,null,{"$f":"IFERROR(VLOOKUP(C221,'3)BAU排出量の推計'!$U$14:$W$35,2,FALSE),\"\")","v":""},null,null,"",null,null,{"$f":"IFERROR(VLOOKUP(C221,'3)BAU排出量の推計'!$U$14:$W$35,3,FALSE),\"\")","v":""},null,null,""]
[null,203,null,null,null,null,null,{"$f":"IFERROR(VLOOKUP(C222,'3)BAU排出量の推計'!$U$14:$W$35,2,FALSE),\"\")","v":""},null,null,"",null,null,{"$f":"IFERROR(VLOOKUP(C222,'3)BAU排出量の推計'!$U$14:$W$35,3,FALSE),\"\")","v":""},null,null,""]
[null,204,null,null,null,null,null,{"$f":"IFERROR(VLOOKUP(C223,'3)BAU排出量の推計'!$U$14:$W$35,2,FALSE),\"\")","v":""},null,null,"",null,null,{"$f":"IFERROR(VLOOKUP(C223,'3)BAU排出量の推計'!$U$14:$W$35,3,FALSE),\"\")","v":""},null,null,""]
[null,205,null,null,null,null,null,{"$f":"IFERROR(VLOOKUP(C224,'3)BAU排出量の推計'!$U$14:$W$35,2,FALSE),\"\")","v":""},null,null,"",null,null,{"$f":"IFERROR(VLOOKUP(C224,'3)BAU排出量の推計'!$U$14:$W$35,3,FALSE),\"\")","v":""},null,null,""]
[null,206,null,null,null,null,null,{"$f":"IFERROR(VLOOKUP(C225,'3)BAU排出量の推計'!$U$14:$W$35,2,FALSE),\"\")","v":""},null,null,"",null,null,{"$f":"IFERROR(VLOOKUP(C225,'3)BAU排出量の推計'!$U$14:$W$35,3,FALSE),\"\")","v":""},null,null,""]
[null,207,null,null,null,null,null,{"$f":"IFERROR(VLOOKUP(C226,'3)BAU排出量の推計'!$U$14:$W$35,2,FALSE),\"\")","v":""},null,null,"",null,null,{"$f":"IFERROR(VLOOKUP(C226,'3)BAU排出量の推計'!$U$14:$W$35,3,FALSE),\"\")","v":""},null,null,""]
[null,208,null,null,null,null,null,{"$f":"IFERROR(VLOOKUP(C227,'3)BAU排出量の推計'!$U$14:$W$35,2,FALSE),\"\")","v":""},null,null,"",null,null,{"$f":"IFERROR(VLOOKUP(C227,'3)BAU排出量の推計'!$U$14:$W$35,3,FALSE),\"\")","v":""},null,null,""]
[null,209,null,null,null,null,null,{"$f":"IFERROR(VLOOKUP(C228,'3)BAU排出量の推計'!$U$14:$W$35,2,FALSE),\"\")","v":""},null,null,"",null,null,{"$f":"IFERROR(VLOOKUP(C228,'3)BAU排出量の推計'!$U$14:$W$35,3,FALSE),\"\")","v":""},null,null,""]
[null,210,null,null,null,null,null,{"$f":"IFERROR(VLOOKUP(C229,'3)BAU排出量の推計'!$U$14:$W$35,2,FALSE),\"\")","v":""},null,null,"",null,null,{"$f":"IFERROR(VLOOKUP(C229,'3)BAU排出量の推計'!$U$14:$W$35,3,FALSE),\"\")","v":""},null,null,""]
[null,211,null,null,null,null,null,{"$f":"IFERROR(VLOOKUP(C230,'3)BAU排出量の推計'!$U$14:$W$35,2,FALSE),\"\")","v":""},null,null,"",null,null,{"$f":"IFERROR(VLOOKUP(C230,'3)BAU排出量の推計'!$U$14:$W$35,3,FALSE),\"\")","v":""},null,null,""]
[null,212,null,null,null,null,null,{"$f":"IFERROR(VLOOKUP(C231,'3)BAU排出量の推計'!$U$14:$W$35,2,FALSE),\"\")","v":""},null,null,"",null,null,{"$f":"IFERROR(VLOOKUP(C231,'3)BAU排出量の推計'!$U$14:$W$35,3,FALSE),\"\")","v":""},null,null,""]
[null,213,null,null,null,null,null,{"$f":"IFERROR(VLOOKUP(C232,'3)BAU排出量の推計'!$U$14:$W$35,2,FALSE),\"\")","v":""},null,null,"",null,null,{"$f":"IFERROR(VLOOKUP(C232,'3)BAU排出量の推計'!$U$14:$W$35,3,FALSE),\"\")","v":""},null,null,""]
[null,214,null,null,null,null,null,{"$f":"IFERROR(VLOOKUP(C233,'3)BAU排出量の推計'!$U$14:$W$35,2,FALSE),\"\")","v":""},null,null,"",null,null,{"$f":"IFERROR(VLOOKUP(C233,'3)BAU排出量の推計'!$U$14:$W$35,3,FALSE),\"\")","v":""},null,null,""]
[null,215,null,null,null,null,null,{"$f":"IFERROR(VLOOKUP(C234,'3)BAU排出量の推計'!$U$14:$W$35,2,FALSE),\"\")","v":""},null,null,"",null,null,{"$f":"IFERROR(VLOOKUP(C234,'3)BAU排出量の推計'!$U$14:$W$35,3,FALSE),\"\")","v":""},null,null,""]
[null,216,null,null,null,null,null,{"$f":"IFERROR(VLOOKUP(C235,'3)BAU排出量の推計'!$U$14:$W$35,2,FALSE),\"\")","v":""},null,null,"",null,null,{"$f":"IFERROR(VLOOKUP(C235,'3)BAU排出量の推計'!$U$14:$W$35,3,FALSE),\"\")","v":""},null,null,""]
[null,217,null,null,null,null,null,{"$f":"IFERROR(VLOOKUP(C236,'3)BAU排出量の推計'!$U$14:$W$35,2,FALSE),\"\")","v":""},null,null,"",null,null,{"$f":"IFERROR(VLOOKUP(C236,'3)BAU排出量の推計'!$U$14:$W$35,3,FALSE),\"\")","v":""},null,null,""]
[null,218,null,null,null,null,null,{"$f":"IFERROR(VLOOKUP(C237,'3)BAU排出量の推計'!$U$14:$W$35,2,FALSE),\"\")","v":""},null,null,"",null,null,{"$f":"IFERROR(VLOOKUP(C237,'3)BAU排出量の推計'!$U$14:$W$35,3,FALSE),\"\")","v":""},null,null,""]
[null,219,null,null,null,null,null,{"$f":"IFERROR(VLOOKUP(C238,'3)BAU排出量の推計'!$U$14:$W$35,2,FALSE),\"\")","v":""},null,null,"",null,null,{"$f":"IFERROR(VLOOKUP(C238,'3)BAU排出量の推計'!$U$14:$W$35,3,FALSE),\"\")","v":""},null,null,""]
[null,220,null,null,null,null,null,{"$f":"IFERROR(VLOOKUP(C239,'3)BAU排出量の推計'!$U$14:$W$35,2,FALSE),\"\")","v":""},null,null,"",null,null,{"$f":"IFERROR(VLOOKUP(C239,'3)BAU排出量の推計'!$U$14:$W$35,3,FALSE),\"\")","v":""},null,null,""]
[null,221,null,null,null,null,null,{"$f":"IFERROR(VLOOKUP(C240,'3)BAU排出量の推計'!$U$14:$W$35,2,FALSE),\"\")","v":""},null,null,"",null,null,{"$f":"IFERROR(VLOOKUP(C240,'3)BAU排出量の推計'!$U$14:$W$35,3,FALSE),\"\")","v":""},null,null,""]
[null,222,null,null,null,null,null,{"$f":"IFERROR(VLOOKUP(C241,'3)BAU排出量の推計'!$U$14:$W$35,2,FALSE),\"\")","v":""},null,null,"",null,null,{"$f":"IFERROR(VLOOKUP(C241,'3)BAU排出量の推計'!$U$14:$W$35,3,FALSE),\"\")","v":""},null,null,""]
[null,223,null,null,null,null,null,{"$f":"IFERROR(VLOOKUP(C242,'3)BAU排出量の推計'!$U$14:$W$35,2,FALSE),\"\")","v":""},null,null,"",null,null,{"$f":"IFERROR(VLOOKUP(C242,'3)BAU排出量の推計'!$U$14:$W$35,3,FALSE),\"\")","v":""},null,null,""]
[null,224,null,null,null,null,null,{"$f":"IFERROR(VLOOKUP(C243,'3)BAU排出量の推計'!$U$14:$W$35,2,FALSE),\"\")","v":""},null,null,"",null,null,{"$f":"IFERROR(VLOOKUP(C243,'3)BAU排出量の推計'!$U$14:$W$35,3,FALSE),\"\")","v":""},null,null,""]
[null,225,null,null,null,null,null,{"$f":"IFERROR(VLOOKUP(C244,'3)BAU排出量の推計'!$U$14:$W$35,2,FALSE),\"\")","v":""},null,null,"",null,null,{"$f":"IFERROR(VLOOKUP(C244,'3)BAU排出量の推計'!$U$14:$W$35,3,FALSE),\"\")","v":""},null,null,""]
[null,226,null,null,null,null,null,{"$f":"IFERROR(VLOOKUP(C245,'3)BAU排出量の推計'!$U$14:$W$35,2,FALSE),\"\")","v":""},null,null,"",null,null,{"$f":"IFERROR(VLOOKUP(C245,'3)BAU排出量の推計'!$U$14:$W$35,3,FALSE),\"\")","v":""},null,null,""]
[null,227,null,null,null,null,null,{"$f":"IFERROR(VLOOKUP(C246,'3)BAU排出量の推計'!$U$14:$W$35,2,FALSE),\"\")","v":""},null,null,"",null,null,{"$f":"IFERROR(VLOOKUP(C246,'3)BAU排出量の推計'!$U$14:$W$35,3,FALSE),\"\")","v":""},null,null,""]
[null,228,null,null,null,null,null,{"$f":"IFERROR(VLOOKUP(C247,'3)BAU排出量の推計'!$U$14:$W$35,2,FALSE),\"\")","v":""},null,null,"",null,null,{"$f":"IFERROR(VLOOKUP(C247,'3)BAU排出量の推計'!$U$14:$W$35,3,FALSE),\"\")","v":""},null,null,""]
[null,229,null,null,null,null,null,{"$f":"IFERROR(VLOOKUP(C248,'3)BAU排出量の推計'!$U$14:$W$35,2,FALSE),\"\")","v":""},null,null,"",null,null,{"$f":"IFERROR(VLOOKUP(C248,'3)BAU排出量の推計'!$U$14:$W$35,3,FALSE),\"\")","v":""},null,null,""]
[null,230,null,null,null,null,null,{"$f":"IFERROR(VLOOKUP(C249,'3)BAU排出量の推計'!$U$14:$W$35,2,FALSE),\"\")","v":""},null,null,"",null,null,{"$f":"IFERROR(VLOOKUP(C249,'3)BAU排出量の推計'!$U$14:$W$35,3,FALSE),\"\")","v":""},null,null,""]
[null,231,null,null,null,null,null,{"$f":"IFERROR(VLOOKUP(C250,'3)BAU排出量の推計'!$U$14:$W$35,2,FALSE),\"\")","v":""},null,null,"",null,null,{"$f":"IFERROR(VLOOKUP(C250,'3)BAU排出量の推計'!$U$14:$W$35,3,FALSE),\"\")","v":""},null,null,""]
[null,232,null,null,null,null,null,{"$f":"IFERROR(VLOOKUP(C251,'3)BAU排出量の推計'!$U$14:$W$35,2,FALSE),\"\")","v":""},null,null,"",null,null,{"$f":"IFERROR(VLOOKUP(C251,'3)BAU排出量の推計'!$U$14:$W$35,3,FALSE),\"\")","v":""},null,null,""]
[null,233,null,null,null,null,null,{"$f":"IFERROR(VLOOKUP(C252,'3)BAU排出量の推計'!$U$14:$W$35,2,FALSE),\"\")","v":""},null,null,"",null,null,{"$f":"IFERROR(VLOOKUP(C252,'3)BAU排出量の推計'!$U$14:$W$35,3,FALSE),\"\")","v":""},null,null,""]
[null,234,null,null,null,null,null,{"$f":"IFERROR(VLOOKUP(C253,'3)BAU排出量の推計'!$U$14:$W$35,2,FALSE),\"\")","v":""},null,null,"",null,null,{"$f":"IFERROR(VLOOKUP(C253,'3)BAU排出量の推計'!$U$14:$W$35,3,FALSE),\"\")","v":""},null,null,""]
[null,235,null,null,null,null,null,{"$f":"IFERROR(VLOOKUP(C254,'3)BAU排出量の推計'!$U$14:$W$35,2,FALSE),\"\")","v":""},null,null,"",null,null,{"$f":"IFERROR(VLOOKUP(C254,'3)BAU排出量の推計'!$U$14:$W$35,3,FALSE),\"\")","v":""},null,null,""]
[null,236,null,null,null,null,null,{"$f":"IFERROR(VLOOKUP(C255,'3)BAU排出量の推計'!$U$14:$W$35,2,FALSE),\"\")","v":""},null,null,"",null,null,{"$f":"IFERROR(VLOOKUP(C255,'3)BAU排出量の推計'!$U$14:$W$35,3,FALSE),\"\")","v":""},null,null,""]
[null,237,null,null,null,null,null,{"$f":"IFERROR(VLOOKUP(C256,'3)BAU排出量の推計'!$U$14:$W$35,2,FALSE),\"\")","v":""},null,null,"",null,null,{"$f":"IFERROR(VLOOKUP(C256,'3)BAU排出量の推計'!$U$14:$W$35,3,FALSE),\"\")","v":""},null,null,""]
[null,238,null,null,null,null,null,{"$f":"IFERROR(VLOOKUP(C257,'3)BAU排出量の推計'!$U$14:$W$35,2,FALSE),\"\")","v":""},null,null,"",null,null,{"$f":"IFERROR(VLOOKUP(C257,'3)BAU排出量の推計'!$U$14:$W$35,3,FALSE),\"\")","v":""},null,null,""]
[null,239,null,null,null,null,null,{"$f":"IFERROR(VLOOKUP(C258,'3)BAU排出量の推計'!$U$14:$W$35,2,FALSE),\"\")","v":""},null,null,"",null,null,{"$f":"IFERROR(VLOOKUP(C258,'3)BAU排出量の推計'!$U$14:$W$35,3,FALSE),\"\")","v":""},null,null,""]
[null,240,null,null,null,null,null,{"$f":"IFERROR(VLOOKUP(C259,'3)BAU排出量の推計'!$U$14:$W$35,2,FALSE),\"\")","v":""},null,null,"",null,null,{"$f":"IFERROR(VLOOKUP(C259,'3)BAU排出量の推計'!$U$14:$W$35,3,FALSE),\"\")","v":""},null,null,""]
[null,241,null,null,null,null,null,{"$f":"IFERROR(VLOOKUP(C260,'3)BAU排出量の推計'!$U$14:$W$35,2,FALSE),\"\")","v":""},null,null,"",null,null,{"$f":"IFERROR(VLOOKUP(C260,'3)BAU排出量の推計'!$U$14:$W$35,3,FALSE),\"\")","v":""},null,null,""]
[null,242,null,null,null,null,null,{"$f":"IFERROR(VLOOKUP(C261,'3)BAU排出量の推計'!$U$14:$W$35,2,FALSE),\"\")","v":""},null,null,"",null,null,{"$f":"IFERROR(VLOOKUP(C261,'3)BAU排出量の推計'!$U$14:$W$35,3,FALSE),\"\")","v":""},null,null,""]
[null,243,null,null,null,null,null,{"$f":"IFERROR(VLOOKUP(C262,'3)BAU排出量の推計'!$U$14:$W$35,2,FALSE),\"\")","v":""},null,null,"",null,null,{"$f":"IFERROR(VLOOKUP(C262,'3)BAU排出量の推計'!$U$14:$W$35,3,FALSE),\"\")","v":""},null,null,""]
[null,244,null,null,null,null,null,{"$f":"IFERROR(VLOOKUP(C263,'3)BAU排出量の推計'!$U$14:$W$35,2,FALSE),\"\")","v":""},null,null,"",null,null,{"$f":"IFERROR(VLOOKUP(C263,'3)BAU排出量の推計'!$U$14:$W$35,3,FALSE),\"\")","v":""},null,null,""]
[null,245,null,null,null,null,null,{"$f":"IFERROR(VLOOKUP(C264,'3)BAU排出量の推計'!$U$14:$W$35,2,FALSE),\"\")","v":""},null,null,"",null,null,{"$f":"IFERROR(VLOOKUP(C264,'3)BAU排出量の推計'!$U$14:$W$35,3,FALSE),\"\")","v":""},null,null,""]
[null,246,null,null,null,null,null,{"$f":"IFERROR(VLOOKUP(C265,'3)BAU排出量の推計'!$U$14:$W$35,2,FALSE),\"\")","v":""},null,null,"",null,null,{"$f":"IFERROR(VLOOKUP(C265,'3)BAU排出量の推計'!$U$14:$W$35,3,FALSE),\"\")","v":""},null,null,""]
[null,247,null,null,null,null,null,{"$f":"IFERROR(VLOOKUP(C266,'3)BAU排出量の推計'!$U$14:$W$35,2,FALSE),\"\")","v":""},null,null,"",null,null,{"$f":"IFERROR(VLOOKUP(C266,'3)BAU排出量の推計'!$U$14:$W$35,3,FALSE),\"\")","v":""},null,null,""]
[null,248,null,null,null,null,null,{"$f":"IFERROR(VLOOKUP(C267,'3)BAU排出量の推計'!$U$14:$W$35,2,FALSE),\"\")","v":""},null,null,"",null,null,{"$f":"IFERROR(VLOOKUP(C267,'3)BAU排出量の推計'!$U$14:$W$35,3,FALSE),\"\")","v":""},null,null,""]
[null,249,null,null,null,null,null,{"$f":"IFERROR(VLOOKUP(C268,'3)BAU排出量の推計'!$U$14:$W$35,2,FALSE),\"\")","v":""},null,null,"",null,null,{"$f":"IFERROR(VLOOKUP(C268,'3)BAU排出量の推計'!$U$14:$W$35,3,FALSE),\"\")","v":""},null,null,""]
[null,250,null,null,null,null,null,{"$f":"IFERROR(VLOOKUP(C269,'3)BAU排出量の推計'!$U$14:$W$35,2,FALSE),\"\")","v":""},null,null,"",null,null,{"$f":"IFERROR(VLOOKUP(C269,'3)BAU排出量の推計'!$U$14:$W$35,3,FALSE),\"\")","v":""},null,null,""]
[null,251,null,null,null,null,null,{"$f":"IFERROR(VLOOKUP(C270,'3)BAU排出量の推計'!$U$14:$W$35,2,FALSE),\"\")","v":""},null,null,"",null,null,{"$f":"IFERROR(VLOOKUP(C270,'3)BAU排出量の推計'!$U$14:$W$35,3,FALSE),\"\")","v":""},null,null,""]
[null,252,null,null,null,null,null,{"$f":"IFERROR(VLOOKUP(C271,'3)BAU排出量の推計'!$U$14:$W$35,2,FALSE),\"\")","v":""},null,null,"",null,null,{"$f":"IFERROR(VLOOKUP(C271,'3)BAU排出量の推計'!$U$14:$W$35,3,FALSE),\"\")","v":""},null,null,""]
[null,253,null,null,null,null,null,{"$f":"IFERROR(VLOOKUP(C272,'3)BAU排出量の推計'!$U$14:$W$35,2,FALSE),\"\")","v":""},null,null,"",null,null,{"$f":"IFERROR(VLOOKUP(C272,'3)BAU排出量の推計'!$U$14:$W$35,3,FALSE),\"\")","v":""},null,null,""]
[null,254,null,null,null,null,null,{"$f":"IFERROR(VLOOKUP(C273,'3)BAU排出量の推計'!$U$14:$W$35,2,FALSE),\"\")","v":""},null,null,"",null,null,{"$f":"IFERROR(VLOOKUP(C273,'3)BAU排出量の推計'!$U$14:$W$35,3,FALSE),\"\")","v":""},null,null,""]
[null,255,null,null,null,null,null,{"$f":"IFERROR(VLOOKUP(C274,'3)BAU排出量の推計'!$U$14:$W$35,2,FALSE),\"\")","v":""},null,null,"",null,null,{"$f":"IFERROR(VLOOKUP(C274,'3)BAU排出量の推計'!$U$14:$W$35,3,FALSE),\"\")","v":""},null,null,""]
[null,256,null,null,null,null,null,{"$f":"IFERROR(VLOOKUP(C275,'3)BAU排出量の推計'!$U$14:$W$35,2,FALSE),\"\")","v":""},null,null,"",null,null,{"$f":"IFERROR(VLOOKUP(C275,'3)BAU排出量の推計'!$U$14:$W$35,3,FALSE),\"\")","v":""},null,null,""]
[null,257,null,null,null,null,null,{"$f":"IFERROR(VLOOKUP(C276,'3)BAU排出量の推計'!$U$14:$W$35,2,FALSE),\"\")","v":""},null,null,"",null,null,{"$f":"IFERROR(VLOOKUP(C276,'3)BAU排出量の推計'!$U$14:$W$35,3,FALSE),\"\")","v":""},null,null,""]
[null,258,null,null,null,null,null,{"$f":"IFERROR(VLOOKUP(C277,'3)BAU排出量の推計'!$U$14:$W$35,2,FALSE),\"\")","v":""},null,null,{"$f":"IF(I277>0,\"\",IF(OR(H277=0,H277=\"\"),\"\",IF(ISERROR(H277*J277),\"\",H277*J277)))","v":""},null,null,{"$f":"IFERROR(VLOOKUP(C277,'3)BAU排出量の推計'!$U$14:$W$35,3,FALSE),\"\")","v":""},null,null,{"$f":"IF(O277>0,\"\",IF(OR(N277=0,N277=\"\"),\"\",IF(ISERROR(N277*P277),\"\",N277*P277)))","v":""}]
[null,259,null,null,null,null,null,{"$f":"IFERROR(VLOOKUP(C278,'3)BAU排出量の推計'!$U$14:$W$35,2,FALSE),\"\")","v":""},null,null,"",null,null,{"$f":"IFERROR(VLOOKUP(C278,'3)BAU排出量の推計'!$U$14:$W$35,3,FALSE),\"\")","v":""},null,null,""]
[null,260,null,null,null,null,null,{"$f":"IFERROR(VLOOKUP(C279,'3)BAU排出量の推計'!$U$14:$W$35,2,FALSE),\"\")","v":""},null,null,"",null,null,{"$f":"IFERROR(VLOOKUP(C279,'3)BAU排出量の推計'!$U$14:$W$35,3,FALSE),\"\")","v":""},null,null,""]
[null,261,null,null,null,null,null,{"$f":"IFERROR(VLOOKUP(C280,'3)BAU排出量の推計'!$U$14:$W$35,2,FALSE),\"\")","v":""},null,null,"",null,null,{"$f":"IFERROR(VLOOKUP(C280,'3)BAU排出量の推計'!$U$14:$W$35,3,FALSE),\"\")","v":""},null,null,""]
[null,262,null,null,null,null,null,{"$f":"IFERROR(VLOOKUP(C281,'3)BAU排出量の推計'!$U$14:$W$35,2,FALSE),\"\")","v":""},null,null,"",null,null,{"$f":"IFERROR(VLOOKUP(C281,'3)BAU排出量の推計'!$U$14:$W$35,3,FALSE),\"\")","v":""},null,null,""]
[null,263,null,null,null,null,null,{"$f":"IFERROR(VLOOKUP(C282,'3)BAU排出量の推計'!$U$14:$W$35,2,FALSE),\"\")","v":""},null,null,"",null,null,{"$f":"IFERROR(VLOOKUP(C282,'3)BAU排出量の推計'!$U$14:$W$35,3,FALSE),\"\")","v":""},null,null,""]
[null,{"$f":"ROW()-$A$20+1","v":264},null,null,null,null,null,{"$f":"IFERROR(VLOOKUP(C283,'3)BAU排出量の推計'!$U$14:$W$35,2,FALSE),\"\")","v":""},null,null,"",null,null,{"$f":"IFERROR(VLOOKUP(C283,'3)BAU排出量の推計'!$U$14:$W$35,3,FALSE),\"\")","v":""},null,null,""]
[null,265,null,null,null,null,null,{"$f":"IFERROR(VLOOKUP(C284,'3)BAU排出量の推計'!$U$14:$W$35,2,FALSE),\"\")","v":""},null,null,"",null,null,{"$f":"IFERROR(VLOOKUP(C284,'3)BAU排出量の推計'!$U$14:$W$35,3,FALSE),\"\")","v":""},null,null,""]
[null,266,null,null,null,null,null,{"$f":"IFERROR(VLOOKUP(C285,'3)BAU排出量の推計'!$U$14:$W$35,2,FALSE),\"\")","v":""},null,null,"",null,null,{"$f":"IFERROR(VLOOKUP(C285,'3)BAU排出量の推計'!$U$14:$W$35,3,FALSE),\"\")","v":""},null,null,""]
[null,267,null,null,null,null,null,{"$f":"IFERROR(VLOOKUP(C286,'3)BAU排出量の推計'!$U$14:$W$35,2,FALSE),\"\")","v":""},null,null,"",null,null,{"$f":"IFERROR(VLOOKUP(C286,'3)BAU排出量の推計'!$U$14:$W$35,3,FALSE),\"\")","v":""},null,null,""]
[null,268,null,null,null,null,null,{"$f":"IFERROR(VLOOKUP(C287,'3)BAU排出量の推計'!$U$14:$W$35,2,FALSE),\"\")","v":""},null,null,"",null,null,{"$f":"IFERROR(VLOOKUP(C287,'3)BAU排出量の推計'!$U$14:$W$35,3,FALSE),\"\")","v":""},null,null,""]
[null,269,null,null,null,null,null,{"$f":"IFERROR(VLOOKUP(C288,'3)BAU排出量の推計'!$U$14:$W$35,2,FALSE),\"\")","v":""},null,null,"",null,null,{"$f":"IFERROR(VLOOKUP(C288,'3)BAU排出量の推計'!$U$14:$W$35,3,FALSE),\"\")","v":""},null,null,""]
[null,270,null,null,null,null,null,{"$f":"IFERROR(VLOOKUP(C289,'3)BAU排出量の推計'!$U$14:$W$35,2,FALSE),\"\")","v":""},null,null,"",null,null,{"$f":"IFERROR(VLOOKUP(C289,'3)BAU排出量の推計'!$U$14:$W$35,3,FALSE),\"\")","v":""},null,null,""]
[null,271,null,null,null,null,null,{"$f":"IFERROR(VLOOKUP(C290,'3)BAU排出量の推計'!$U$14:$W$35,2,FALSE),\"\")","v":""},null,null,"",null,null,{"$f":"IFERROR(VLOOKUP(C290,'3)BAU排出量の推計'!$U$14:$W$35,3,FALSE),\"\")","v":""},null,null,""]
[null,272,null,null,null,null,null,{"$f":"IFERROR(VLOOKUP(C291,'3)BAU排出量の推計'!$U$14:$W$35,2,FALSE),\"\")","v":""},null,null,"",null,null,{"$f":"IFERROR(VLOOKUP(C291,'3)BAU排出量の推計'!$U$14:$W$35,3,FALSE),\"\")","v":""},null,null,""]
[null,273,null,null,null,null,null,{"$f":"IFERROR(VLOOKUP(C292,'3)BAU排出量の推計'!$U$14:$W$35,2,FALSE),\"\")","v":""},null,null,"",null,null,{"$f":"IFERROR(VLOOKUP(C292,'3)BAU排出量の推計'!$U$14:$W$35,3,FALSE),\"\")","v":""},null,null,""]
[null,274,null,null,null,null,null,{"$f":"IFERROR(VLOOKUP(C293,'3)BAU排出量の推計'!$U$14:$W$35,2,FALSE),\"\")","v":""},null,null,"",null,null,{"$f":"IFERROR(VLOOKUP(C293,'3)BAU排出量の推計'!$U$14:$W$35,3,FALSE),\"\")","v":""},null,null,""]
[null,275,null,null,null,null,null,{"$f":"IFERROR(VLOOKUP(C294,'3)BAU排出量の推計'!$U$14:$W$35,2,FALSE),\"\")","v":""},null,null,"",null,null,{"$f":"IFERROR(VLOOKUP(C294,'3)BAU排出量の推計'!$U$14:$W$35,3,FALSE),\"\")","v":""},null,null,""]
[null,276,null,null,null,null,null,{"$f":"IFERROR(VLOOKUP(C295,'3)BAU排出量の推計'!$U$14:$W$35,2,FALSE),\"\")","v":""},null,null,"",null,null,{"$f":"IFERROR(VLOOKUP(C295,'3)BAU排出量の推計'!$U$14:$W$35,3,FALSE),\"\")","v":""},null,null,""]
[null,277,null,null,null,null,null,{"$f":"IFERROR(VLOOKUP(C296,'3)BAU排出量の推計'!$U$14:$W$35,2,FALSE),\"\")","v":""},null,null,"",null,null,{"$f":"IFERROR(VLOOKUP(C296,'3)BAU排出量の推計'!$U$14:$W$35,3,FALSE),\"\")","v":""},null,null,""]
[null,278,null,null,null,null,null,{"$f":"IFERROR(VLOOKUP(C297,'3)BAU排出量の推計'!$U$14:$W$35,2,FALSE),\"\")","v":""},null,null,"",null,null,{"$f":"IFERROR(VLOOKUP(C297,'3)BAU排出量の推計'!$U$14:$W$35,3,FALSE),\"\")","v":""},null,null,""]
[null,279,null,null,null,null,null,{"$f":"IFERROR(VLOOKUP(C298,'3)BAU排出量の推計'!$U$14:$W$35,2,FALSE),\"\")","v":""},null,null,"",null,null,{"$f":"IFERROR(VLOOKUP(C298,'3)BAU排出量の推計'!$U$14:$W$35,3,FALSE),\"\")","v":""},null,null,""]
[null,280,null,null,null,null,null,{"$f":"IFERROR(VLOOKUP(C299,'3)BAU排出量の推計'!$U$14:$W$35,2,FALSE),\"\")","v":""},null,null,"",null,null,{"$f":"IFERROR(VLOOKUP(C299,'3)BAU排出量の推計'!$U$14:$W$35,3,FALSE),\"\")","v":""},null,null,""]
[null,281,null,null,null,null,null,{"$f":"IFERROR(VLOOKUP(C300,'3)BAU排出量の推計'!$U$14:$W$35,2,FALSE),\"\")","v":""},null,null,"",null,null,{"$f":"IFERROR(VLOOKUP(C300,'3)BAU排出量の推計'!$U$14:$W$35,3,FALSE),\"\")","v":""},null,null,""]
[null,282,null,null,null,null,null,{"$f":"IFERROR(VLOOKUP(C301,'3)BAU排出量の推計'!$U$14:$W$35,2,FALSE),\"\")","v":""},null,null,"",null,null,{"$f":"IFERROR(VLOOKUP(C301,'3)BAU排出量の推計'!$U$14:$W$35,3,FALSE),\"\")","v":""},null,null,""]
[null,283,null,null,null,null,null,{"$f":"IFERROR(VLOOKUP(C302,'3)BAU排出量の推計'!$U$14:$W$35,2,FALSE),\"\")","v":""},null,null,"",null,null,{"$f":"IFERROR(VLOOKUP(C302,'3)BAU排出量の推計'!$U$14:$W$35,3,FALSE),\"\")","v":""},null,null,""]
[null,284,null,null,null,null,null,{"$f":"IFERROR(VLOOKUP(C303,'3)BAU排出量の推計'!$U$14:$W$35,2,FALSE),\"\")","v":""},null,null,"",null,null,{"$f":"IFERROR(VLOOKUP(C303,'3)BAU排出量の推計'!$U$14:$W$35,3,FALSE),\"\")","v":""},null,null,""]
[null,285,null,null,null,null,null,{"$f":"IFERROR(VLOOKUP(C304,'3)BAU排出量の推計'!$U$14:$W$35,2,FALSE),\"\")","v":""},null,null,"",null,null,{"$f":"IFERROR(VLOOKUP(C304,'3)BAU排出量の推計'!$U$14:$W$35,3,FALSE),\"\")","v":""},null,null,""]
[null,286,null,null,null,null,null,{"$f":"IFERROR(VLOOKUP(C305,'3)BAU排出量の推計'!$U$14:$W$35,2,FALSE),\"\")","v":""},null,null,"",null,null,{"$f":"IFERROR(VLOOKUP(C305,'3)BAU排出量の推計'!$U$14:$W$35,3,FALSE),\"\")","v":""},null,null,""]
[null,287,null,null,null,null,null,{"$f":"IFERROR(VLOOKUP(C306,'3)BAU排出量の推計'!$U$14:$W$35,2,FALSE),\"\")","v":""},null,null,"",null,null,{"$f":"IFERROR(VLOOKUP(C306,'3)BAU排出量の推計'!$U$14:$W$35,3,FALSE),\"\")","v":""},null,null,""]
[null,288,null,null,null,null,null,{"$f":"IFERROR(VLOOKUP(C307,'3)BAU排出量の推計'!$U$14:$W$35,2,FALSE),\"\")","v":""},null,null,"",null,null,{"$f":"IFERROR(VLOOKUP(C307,'3)BAU排出量の推計'!$U$14:$W$35,3,FALSE),\"\")","v":""},null,null,""]
[null,289,null,null,null,null,null,{"$f":"IFERROR(VLOOKUP(C308,'3)BAU排出量の推計'!$U$14:$W$35,2,FALSE),\"\")","v":""},null,null,"",null,null,{"$f":"IFERROR(VLOOKUP(C308,'3)BAU排出量の推計'!$U$14:$W$35,3,FALSE),\"\")","v":""},null,null,""]
[null,290,null,null,null,null,null,{"$f":"IFERROR(VLOOKUP(C309,'3)BAU排出量の推計'!$U$14:$W$35,2,FALSE),\"\")","v":""},null,null,"",null,null,{"$f":"IFERROR(VLOOKUP(C309,'3)BAU排出量の推計'!$U$14:$W$35,3,FALSE),\"\")","v":""},null,null,""]
[null,291,null,null,null,null,null,{"$f":"IFERROR(VLOOKUP(C310,'3)BAU排出量の推計'!$U$14:$W$35,2,FALSE),\"\")","v":""},null,null,"",null,null,{"$f":"IFERROR(VLOOKUP(C310,'3)BAU排出量の推計'!$U$14:$W$35,3,FALSE),\"\")","v":""},null,null,""]
[null,292,null,null,null,null,null,{"$f":"IFERROR(VLOOKUP(C311,'3)BAU排出量の推計'!$U$14:$W$35,2,FALSE),\"\")","v":""},null,null,"",null,null,{"$f":"IFERROR(VLOOKUP(C311,'3)BAU排出量の推計'!$U$14:$W$35,3,FALSE),\"\")","v":""},null,null,""]
[null,293,null,null,null,null,null,{"$f":"IFERROR(VLOOKUP(C312,'3)BAU排出量の推計'!$U$14:$W$35,2,FALSE),\"\")","v":""},null,null,"",null,null,{"$f":"IFERROR(VLOOKUP(C312,'3)BAU排出量の推計'!$U$14:$W$35,3,FALSE),\"\")","v":""},null,null,""]
[null,294,null,null,null,null,null,{"$f":"IFERROR(VLOOKUP(C313,'3)BAU排出量の推計'!$U$14:$W$35,2,FALSE),\"\")","v":""},null,null,"",null,null,{"$f":"IFERROR(VLOOKUP(C313,'3)BAU排出量の推計'!$U$14:$W$35,3,FALSE),\"\")","v":""},null,null,""]
[null,295,null,null,null,null,null,{"$f":"IFERROR(VLOOKUP(C314,'3)BAU排出量の推計'!$U$14:$W$35,2,FALSE),\"\")","v":""},null,null,"",null,null,{"$f":"IFERROR(VLOOKUP(C314,'3)BAU排出量の推計'!$U$14:$W$35,3,FALSE),\"\")","v":""},null,null,""]
[null,296,null,null,null,null,null,{"$f":"IFERROR(VLOOKUP(C315,'3)BAU排出量の推計'!$U$14:$W$35,2,FALSE),\"\")","v":""},null,null,"",null,null,{"$f":"IFERROR(VLOOKUP(C315,'3)BAU排出量の推計'!$U$14:$W$35,3,FALSE),\"\")","v":""},null,null,""]
[null,297,null,null,null,null,null,{"$f":"IFERROR(VLOOKUP(C316,'3)BAU排出量の推計'!$U$14:$W$35,2,FALSE),\"\")","v":""},null,null,"",null,null,{"$f":"IFERROR(VLOOKUP(C316,'3)BAU排出量の推計'!$U$14:$W$35,3,FALSE),\"\")","v":""},null,null,""]
[null,298,null,null,null,null,null,{"$f":"IFERROR(VLOOKUP(C317,'3)BAU排出量の推計'!$U$14:$W$35,2,FALSE),\"\")","v":""},null,null,"",null,null,{"$f":"IFERROR(VLOOKUP(C317,'3)BAU排出量の推計'!$U$14:$W$35,3,FALSE),\"\")","v":""},null,null,""]
[null,299,null,null,null,null,null,{"$f":"IFERROR(VLOOKUP(C318,'3)BAU排出量の推計'!$U$14:$W$35,2,FALSE),\"\")","v":""},null,null,"",null,null,{"$f":"IFERROR(VLOOKUP(C318,'3)BAU排出量の推計'!$U$14:$W$35,3,FALSE),\"\")","v":""},null,null,""]
[null,300,null,null,null,null,null,{"$f":"IFERROR(VLOOKUP(C319,'3)BAU排出量の推計'!$U$14:$W$35,2,FALSE),\"\")","v":""},null,null,"",null,null,{"$f":"IFERROR(VLOOKUP(C319,'3)BAU排出量の推計'!$U$14:$W$35,3,FALSE),\"\")","v":""},null,null,""]
[null,301,null,null,null,null,null,{"$f":"IFERROR(VLOOKUP(C320,'3)BAU排出量の推計'!$U$14:$W$35,2,FALSE),\"\")","v":""},null,null,"",null,null,{"$f":"IFERROR(VLOOKUP(C320,'3)BAU排出量の推計'!$U$14:$W$35,3,FALSE),\"\")","v":""},null,null,""]
[null,302,null,null,null,null,null,{"$f":"IFERROR(VLOOKUP(C321,'3)BAU排出量の推計'!$U$14:$W$35,2,FALSE),\"\")","v":""},null,null,"",null,null,{"$f":"IFERROR(VLOOKUP(C321,'3)BAU排出量の推計'!$U$14:$W$35,3,FALSE),\"\")","v":""},null,null,""]
[null,303,null,null,null,null,null,{"$f":"IFERROR(VLOOKUP(C322,'3)BAU排出量の推計'!$U$14:$W$35,2,FALSE),\"\")","v":""},null,null,"",null,null,{"$f":"IFERROR(VLOOKUP(C322,'3)BAU排出量の推計'!$U$14:$W$35,3,FALSE),\"\")","v":""},null,null,""]
[null,304,null,null,null,null,null,{"$f":"IFERROR(VLOOKUP(C323,'3)BAU排出量の推計'!$U$14:$W$35,2,FALSE),\"\")","v":""},null,null,"",null,null,{"$f":"IFERROR(VLOOKUP(C323,'3)BAU排出量の推計'!$U$14:$W$35,3,FALSE),\"\")","v":""},null,null,""]
[null,305,null,null,null,null,null,{"$f":"IFERROR(VLOOKUP(C324,'3)BAU排出量の推計'!$U$14:$W$35,2,FALSE),\"\")","v":""},null,null,"",null,null,{"$f":"IFERROR(VLOOKUP(C324,'3)BAU排出量の推計'!$U$14:$W$35,3,FALSE),\"\")","v":""},null,null,""]
[null,306,null,null,null,null,null,{"$f":"IFERROR(VLOOKUP(C325,'3)BAU排出量の推計'!$U$14:$W$35,2,FALSE),\"\")","v":""},null,null,"",null,null,{"$f":"IFERROR(VLOOKUP(C325,'3)BAU排出量の推計'!$U$14:$W$35,3,FALSE),\"\")","v":""},null,null,""]
[null,307,null,null,null,null,null,{"$f":"IFERROR(VLOOKUP(C326,'3)BAU排出量の推計'!$U$14:$W$35,2,FALSE),\"\")","v":""},null,null,"",null,null,{"$f":"IFERROR(VLOOKUP(C326,'3)BAU排出量の推計'!$U$14:$W$35,3,FALSE),\"\")","v":""},null,null,""]
[null,308,null,null,null,null,null,{"$f":"IFERROR(VLOOKUP(C327,'3)BAU排出量の推計'!$U$14:$W$35,2,FALSE),\"\")","v":""},null,null,"",null,null,{"$f":"IFERROR(VLOOKUP(C327,'3)BAU排出量の推計'!$U$14:$W$35,3,FALSE),\"\")","v":""},null,null,""]
[null,309,null,null,null,null,null,{"$f":"IFERROR(VLOOKUP(C328,'3)BAU排出量の推計'!$U$14:$W$35,2,FALSE),\"\")","v":""},null,null,"",null,null,{"$f":"IFERROR(VLOOKUP(C328,'3)BAU排出量の推計'!$U$14:$W$35,3,FALSE),\"\")","v":""},null,null,""]
[null,310,null,null,null,null,null,{"$f":"IFERROR(VLOOKUP(C329,'3)BAU排出量の推計'!$U$14:$W$35,2,FALSE),\"\")","v":""},null,null,"",null,null,{"$f":"IFERROR(VLOOKUP(C329,'3)BAU排出量の推計'!$U$14:$W$35,3,FALSE),\"\")","v":""},null,null,""]
[null,311,null,null,null,null,null,{"$f":"IFERROR(VLOOKUP(C330,'3)BAU排出量の推計'!$U$14:$W$35,2,FALSE),\"\")","v":""},null,null,"",null,null,{"$f":"IFERROR(VLOOKUP(C330,'3)BAU排出量の推計'!$U$14:$W$35,3,FALSE),\"\")","v":""},null,null,""]
[null,312,null,null,null,null,null,{"$f":"IFERROR(VLOOKUP(C331,'3)BAU排出量の推計'!$U$14:$W$35,2,FALSE),\"\")","v":""},null,null,"",null,null,{"$f":"IFERROR(VLOOKUP(C331,'3)BAU排出量の推計'!$U$14:$W$35,3,FALSE),\"\")","v":""},null,null,""]
[null,313,null,null,null,null,null,{"$f":"IFERROR(VLOOKUP(C332,'3)BAU排出量の推計'!$U$14:$W$35,2,FALSE),\"\")","v":""},null,null,"",null,null,{"$f":"IFERROR(VLOOKUP(C332,'3)BAU排出量の推計'!$U$14:$W$35,3,FALSE),\"\")","v":""},null,null,""]
[null,314,null,null,null,null,null,{"$f":"IFERROR(VLOOKUP(C333,'3)BAU排出量の推計'!$U$14:$W$35,2,FALSE),\"\")","v":""},null,null,"",null,null,{"$f":"IFERROR(VLOOKUP(C333,'3)BAU排出量の推計'!$U$14:$W$35,3,FALSE),\"\")","v":""},null,null,""]
[null,315,null,null,null,null,null,{"$f":"IFERROR(VLOOKUP(C334,'3)BAU排出量の推計'!$U$14:$W$35,2,FALSE),\"\")","v":""},null,null,"",null,null,{"$f":"IFERROR(VLOOKUP(C334,'3)BAU排出量の推計'!$U$14:$W$35,3,FALSE),\"\")","v":""},null,null,""]
[null,316,null,null,null,null,null,{"$f":"IFERROR(VLOOKUP(C335,'3)BAU排出量の推計'!$U$14:$W$35,2,FALSE),\"\")","v":""},null,null,"",null,null,{"$f":"IFERROR(VLOOKUP(C335,'3)BAU排出量の推計'!$U$14:$W$35,3,FALSE),\"\")","v":""},null,null,""]
[null,317,null,null,null,null,null,{"$f":"IFERROR(VLOOKUP(C336,'3)BAU排出量の推計'!$U$14:$W$35,2,FALSE),\"\")","v":""},null,null,"",null,null,{"$f":"IFERROR(VLOOKUP(C336,'3)BAU排出量の推計'!$U$14:$W$35,3,FALSE),\"\")","v":""},null,null,""]
[null,318,null,null,null,null,null,{"$f":"IFERROR(VLOOKUP(C337,'3)BAU排出量の推計'!$U$14:$W$35,2,FALSE),\"\")","v":""},null,null,"",null,null,{"$f":"IFERROR(VLOOKUP(C337,'3)BAU排出量の推計'!$U$14:$W$35,3,FALSE),\"\")","v":""},null,null,""]
[null,319,null,null,null,null,null,{"$f":"IFERROR(VLOOKUP(C338,'3)BAU排出量の推計'!$U$14:$W$35,2,FALSE),\"\")","v":""},null,null,"",null,null,{"$f":"IFERROR(VLOOKUP(C338,'3)BAU排出量の推計'!$U$14:$W$35,3,FALSE),\"\")","v":""},null,null,""]
[null,320,null,null,null,null,null,{"$f":"IFERROR(VLOOKUP(C339,'3)BAU排出量の推計'!$U$14:$W$35,2,FALSE),\"\")","v":""},null,null,"",null,null,{"$f":"IFERROR(VLOOKUP(C339,'3)BAU排出量の推計'!$U$14:$W$35,3,FALSE),\"\")","v":""},null,null,""]
[null,321,null,null,null,null,null,{"$f":"IFERROR(VLOOKUP(C340,'3)BAU排出量の推計'!$U$14:$W$35,2,FALSE),\"\")","v":""},null,null,"",null,null,{"$f":"IFERROR(VLOOKUP(C340,'3)BAU排出量の推計'!$U$14:$W$35,3,FALSE),\"\")","v":""},null,null,""]
[null,322,null,null,null,null,null,{"$f":"IFERROR(VLOOKUP(C341,'3)BAU排出量の推計'!$U$14:$W$35,2,FALSE),\"\")","v":""},null,null,{"$f":"IF(I341>0,\"\",IF(OR(H341=0,H341=\"\"),\"\",IF(ISERROR(H341*J341),\"\",H341*J341)))","v":""},null,null,{"$f":"IFERROR(VLOOKUP(C341,'3)BAU排出量の推計'!$U$14:$W$35,3,FALSE),\"\")","v":""},null,null,{"$f":"IF(O341>0,\"\",IF(OR(N341=0,N341=\"\"),\"\",IF(ISERROR(N341*P341),\"\",N341*P341)))","v":""}]
[null,323,null,null,null,null,null,{"$f":"IFERROR(VLOOKUP(C342,'3)BAU排出量の推計'!$U$14:$W$35,2,FALSE),\"\")","v":""},null,null,"",null,null,{"$f":"IFERROR(VLOOKUP(C342,'3)BAU排出量の推計'!$U$14:$W$35,3,FALSE),\"\")","v":""},null,null,""]
[null,324,null,null,null,null,null,{"$f":"IFERROR(VLOOKUP(C343,'3)BAU排出量の推計'!$U$14:$W$35,2,FALSE),\"\")","v":""},null,null,"",null,null,{"$f":"IFERROR(VLOOKUP(C343,'3)BAU排出量の推計'!$U$14:$W$35,3,FALSE),\"\")","v":""},null,null,""]
[null,325,null,null,null,null,null,{"$f":"IFERROR(VLOOKUP(C344,'3)BAU排出量の推計'!$U$14:$W$35,2,FALSE),\"\")","v":""},null,null,"",null,null,{"$f":"IFERROR(VLOOKUP(C344,'3)BAU排出量の推計'!$U$14:$W$35,3,FALSE),\"\")","v":""},null,null,""]
[null,326,null,null,null,null,null,{"$f":"IFERROR(VLOOKUP(C345,'3)BAU排出量の推計'!$U$14:$W$35,2,FALSE),\"\")","v":""},null,null,"",null,null,{"$f":"IFERROR(VLOOKUP(C345,'3)BAU排出量の推計'!$U$14:$W$35,3,FALSE),\"\")","v":""},null,null,""]
[null,327,null,null,null,null,null,{"$f":"IFERROR(VLOOKUP(C346,'3)BAU排出量の推計'!$U$14:$W$35,2,FALSE),\"\")","v":""},null,null,"",null,null,{"$f":"IFERROR(VLOOKUP(C346,'3)BAU排出量の推計'!$U$14:$W$35,3,FALSE),\"\")","v":""},null,null,""]
[null,{"$f":"ROW()-$A$20+1","v":328},null,null,null,null,null,{"$f":"IFERROR(VLOOKUP(C347,'3)BAU排出量の推計'!$U$14:$W$35,2,FALSE),\"\")","v":""},null,null,"",null,null,{"$f":"IFERROR(VLOOKUP(C347,'3)BAU排出量の推計'!$U$14:$W$35,3,FALSE),\"\")","v":""},null,null,""]
[null,329,null,null,null,null,null,{"$f":"IFERROR(VLOOKUP(C348,'3)BAU排出量の推計'!$U$14:$W$35,2,FALSE),\"\")","v":""},null,null,"",null,null,{"$f":"IFERROR(VLOOKUP(C348,'3)BAU排出量の推計'!$U$14:$W$35,3,FALSE),\"\")","v":""},null,null,""]
[null,330,null,null,null,null,null,{"$f":"IFERROR(VLOOKUP(C349,'3)BAU排出量の推計'!$U$14:$W$35,2,FALSE),\"\")","v":""},null,null,"",null,null,{"$f":"IFERROR(VLOOKUP(C349,'3)BAU排出量の推計'!$U$14:$W$35,3,FALSE),\"\")","v":""},null,null,""]
[null,331,null,null,null,null,null,{"$f":"IFERROR(VLOOKUP(C350,'3)BAU排出量の推計'!$U$14:$W$35,2,FALSE),\"\")","v":""},null,null,"",null,null,{"$f":"IFERROR(VLOOKUP(C350,'3)BAU排出量の推計'!$U$14:$W$35,3,FALSE),\"\")","v":""},null,null,""]
[null,332,null,null,null,null,null,{"$f":"IFERROR(VLOOKUP(C351,'3)BAU排出量の推計'!$U$14:$W$35,2,FALSE),\"\")","v":""},null,null,"",null,null,{"$f":"IFERROR(VLOOKUP(C351,'3)BAU排出量の推計'!$U$14:$W$35,3,FALSE),\"\")","v":""},null,null,""]
[null,333,null,null,null,null,null,{"$f":"IFERROR(VLOOKUP(C352,'3)BAU排出量の推計'!$U$14:$W$35,2,FALSE),\"\")","v":""},null,null,"",null,null,{"$f":"IFERROR(VLOOKUP(C352,'3)BAU排出量の推計'!$U$14:$W$35,3,FALSE),\"\")","v":""},null,null,""]
[null,334,null,null,null,null,null,{"$f":"IFERROR(VLOOKUP(C353,'3)BAU排出量の推計'!$U$14:$W$35,2,FALSE),\"\")","v":""},null,null,"",null,null,{"$f":"IFERROR(VLOOKUP(C353,'3)BAU排出量の推計'!$U$14:$W$35,3,FALSE),\"\")","v":""},null,null,""]
[null,335,null,null,null,null,null,{"$f":"IFERROR(VLOOKUP(C354,'3)BAU排出量の推計'!$U$14:$W$35,2,FALSE),\"\")","v":""},null,null,"",null,null,{"$f":"IFERROR(VLOOKUP(C354,'3)BAU排出量の推計'!$U$14:$W$35,3,FALSE),\"\")","v":""},null,null,""]
[null,336,null,null,null,null,null,{"$f":"IFERROR(VLOOKUP(C355,'3)BAU排出量の推計'!$U$14:$W$35,2,FALSE),\"\")","v":""},null,null,"",null,null,{"$f":"IFERROR(VLOOKUP(C355,'3)BAU排出量の推計'!$U$14:$W$35,3,FALSE),\"\")","v":""},null,null,""]
[null,337,null,null,null,null,null,{"$f":"IFERROR(VLOOKUP(C356,'3)BAU排出量の推計'!$U$14:$W$35,2,FALSE),\"\")","v":""},null,null,"",null,null,{"$f":"IFERROR(VLOOKUP(C356,'3)BAU排出量の推計'!$U$14:$W$35,3,FALSE),\"\")","v":""},null,null,""]
[null,338,null,null,null,null,null,{"$f":"IFERROR(VLOOKUP(C357,'3)BAU排出量の推計'!$U$14:$W$35,2,FALSE),\"\")","v":""},null,null,"",null,null,{"$f":"IFERROR(VLOOKUP(C357,'3)BAU排出量の推計'!$U$14:$W$35,3,FALSE),\"\")","v":""},null,null,""]
[null,339,null,null,null,null,null,{"$f":"IFERROR(VLOOKUP(C358,'3)BAU排出量の推計'!$U$14:$W$35,2,FALSE),\"\")","v":""},null,null,"",null,null,{"$f":"IFERROR(VLOOKUP(C358,'3)BAU排出量の推計'!$U$14:$W$35,3,FALSE),\"\")","v":""},null,null,""]
[null,340,null,null,null,null,null,{"$f":"IFERROR(VLOOKUP(C359,'3)BAU排出量の推計'!$U$14:$W$35,2,FALSE),\"\")","v":""},null,null,"",null,null,{"$f":"IFERROR(VLOOKUP(C359,'3)BAU排出量の推計'!$U$14:$W$35,3,FALSE),\"\")","v":""},null,null,""]
[null,341,null,null,null,null,null,{"$f":"IFERROR(VLOOKUP(C360,'3)BAU排出量の推計'!$U$14:$W$35,2,FALSE),\"\")","v":""},null,null,"",null,null,{"$f":"IFERROR(VLOOKUP(C360,'3)BAU排出量の推計'!$U$14:$W$35,3,FALSE),\"\")","v":""},null,null,""]
[null,342,null,null,null,null,null,{"$f":"IFERROR(VLOOKUP(C361,'3)BAU排出量の推計'!$U$14:$W$35,2,FALSE),\"\")","v":""},null,null,"",null,null,{"$f":"IFERROR(VLOOKUP(C361,'3)BAU排出量の推計'!$U$14:$W$35,3,FALSE),\"\")","v":""},null,null,""]
[null,343,null,null,null,null,null,{"$f":"IFERROR(VLOOKUP(C362,'3)BAU排出量の推計'!$U$14:$W$35,2,FALSE),\"\")","v":""},null,null,"",null,null,{"$f":"IFERROR(VLOOKUP(C362,'3)BAU排出量の推計'!$U$14:$W$35,3,FALSE),\"\")","v":""},null,null,""]
[null,344,null,null,null,null,null,{"$f":"IFERROR(VLOOKUP(C363,'3)BAU排出量の推計'!$U$14:$W$35,2,FALSE),\"\")","v":""},null,null,"",null,null,{"$f":"IFERROR(VLOOKUP(C363,'3)BAU排出量の推計'!$U$14:$W$35,3,FALSE),\"\")","v":""},null,null,""]
[null,345,null,null,null,null,null,{"$f":"IFERROR(VLOOKUP(C364,'3)BAU排出量の推計'!$U$14:$W$35,2,FALSE),\"\")","v":""},null,null,"",null,null,{"$f":"IFERROR(VLOOKUP(C364,'3)BAU排出量の推計'!$U$14:$W$35,3,FALSE),\"\")","v":""},null,null,""]
[null,346,null,null,null,null,null,{"$f":"IFERROR(VLOOKUP(C365,'3)BAU排出量の推計'!$U$14:$W$35,2,FALSE),\"\")","v":""},null,null,"",null,null,{"$f":"IFERROR(VLOOKUP(C365,'3)BAU排出量の推計'!$U$14:$W$35,3,FALSE),\"\")","v":""},null,null,""]
[null,347,null,null,null,null,null,{"$f":"IFERROR(VLOOKUP(C366,'3)BAU排出量の推計'!$U$14:$W$35,2,FALSE),\"\")","v":""},null,null,"",null,null,{"$f":"IFERROR(VLOOKUP(C366,'3)BAU排出量の推計'!$U$14:$W$35,3,FALSE),\"\")","v":""},null,null,""]
[null,348,null,null,null,null,null,{"$f":"IFERROR(VLOOKUP(C367,'3)BAU排出量の推計'!$U$14:$W$35,2,FALSE),\"\")","v":""},null,null,"",null,null,{"$f":"IFERROR(VLOOKUP(C367,'3)BAU排出量の推計'!$U$14:$W$35,3,FALSE),\"\")","v":""},null,null,""]
[null,349,null,null,null,null,null,{"$f":"IFERROR(VLOOKUP(C368,'3)BAU排出量の推計'!$U$14:$W$35,2,FALSE),\"\")","v":""},null,null,"",null,null,{"$f":"IFERROR(VLOOKUP(C368,'3)BAU排出量の推計'!$U$14:$W$35,3,FALSE),\"\")","v":""},null,null,""]
[null,350,null,null,null,null,null,{"$f":"IFERROR(VLOOKUP(C369,'3)BAU排出量の推計'!$U$14:$W$35,2,FALSE),\"\")","v":""},null,null,"",null,null,{"$f":"IFERROR(VLOOKUP(C369,'3)BAU排出量の推計'!$U$14:$W$35,3,FALSE),\"\")","v":""},null,null,""]
[null,351,null,null,null,null,null,{"$f":"IFERROR(VLOOKUP(C370,'3)BAU排出量の推計'!$U$14:$W$35,2,FALSE),\"\")","v":""},null,null,"",null,null,{"$f":"IFERROR(VLOOKUP(C370,'3)BAU排出量の推計'!$U$14:$W$35,3,FALSE),\"\")","v":""},null,null,""]
[null,352,null,null,null,null,null,{"$f":"IFERROR(VLOOKUP(C371,'3)BAU排出量の推計'!$U$14:$W$35,2,FALSE),\"\")","v":""},null,null,"",null,null,{"$f":"IFERROR(VLOOKUP(C371,'3)BAU排出量の推計'!$U$14:$W$35,3,FALSE),\"\")","v":""},null,null,""]
[null,353,null,null,null,null,null,{"$f":"IFERROR(VLOOKUP(C372,'3)BAU排出量の推計'!$U$14:$W$35,2,FALSE),\"\")","v":""},null,null,"",null,null,{"$f":"IFERROR(VLOOKUP(C372,'3)BAU排出量の推計'!$U$14:$W$35,3,FALSE),\"\")","v":""},null,null,""]
[null,354,null,null,null,null,null,{"$f":"IFERROR(VLOOKUP(C373,'3)BAU排出量の推計'!$U$14:$W$35,2,FALSE),\"\")","v":""},null,null,"",null,null,{"$f":"IFERROR(VLOOKUP(C373,'3)BAU排出量の推計'!$U$14:$W$35,3,FALSE),\"\")","v":""},null,null,""]
[null,355,null,null,null,null,null,{"$f":"IFERROR(VLOOKUP(C374,'3)BAU排出量の推計'!$U$14:$W$35,2,FALSE),\"\")","v":""},null,null,"",null,null,{"$f":"IFERROR(VLOOKUP(C374,'3)BAU排出量の推計'!$U$14:$W$35,3,FALSE),\"\")","v":""},null,null,""]
[null,356,null,null,null,null,null,{"$f":"IFERROR(VLOOKUP(C375,'3)BAU排出量の推計'!$U$14:$W$35,2,FALSE),\"\")","v":""},null,null,"",null,null,{"$f":"IFERROR(VLOOKUP(C375,'3)BAU排出量の推計'!$U$14:$W$35,3,FALSE),\"\")","v":""},null,null,""]
[null,357,null,null,null,null,null,{"$f":"IFERROR(VLOOKUP(C376,'3)BAU排出量の推計'!$U$14:$W$35,2,FALSE),\"\")","v":""},null,null,"",null,null,{"$f":"IFERROR(VLOOKUP(C376,'3)BAU排出量の推計'!$U$14:$W$35,3,FALSE),\"\")","v":""},null,null,""]
[null,358,null,null,null,null,null,{"$f":"IFERROR(VLOOKUP(C377,'3)BAU排出量の推計'!$U$14:$W$35,2,FALSE),\"\")","v":""},null,null,"",null,null,{"$f":"IFERROR(VLOOKUP(C377,'3)BAU排出量の推計'!$U$14:$W$35,3,FALSE),\"\")","v":""},null,null,""]
[null,359,null,null,null,null,null,{"$f":"IFERROR(VLOOKUP(C378,'3)BAU排出量の推計'!$U$14:$W$35,2,FALSE),\"\")","v":""},null,null,"",null,null,{"$f":"IFERROR(VLOOKUP(C378,'3)BAU排出量の推計'!$U$14:$W$35,3,FALSE),\"\")","v":""},null,null,""]
[null,360,null,null,null,null,null,{"$f":"IFERROR(VLOOKUP(C379,'3)BAU排出量の推計'!$U$14:$W$35,2,FALSE),\"\")","v":""},null,null,"",null,null,{"$f":"IFERROR(VLOOKUP(C379,'3)BAU排出量の推計'!$U$14:$W$35,3,FALSE),\"\")","v":""},null,null,""]
[null,361,null,null,null,null,null,{"$f":"IFERROR(VLOOKUP(C380,'3)BAU排出量の推計'!$U$14:$W$35,2,FALSE),\"\")","v":""},null,null,"",null,null,{"$f":"IFERROR(VLOOKUP(C380,'3)BAU排出量の推計'!$U$14:$W$35,3,FALSE),\"\")","v":""},null,null,""]
[null,362,null,null,null,null,null,{"$f":"IFERROR(VLOOKUP(C381,'3)BAU排出量の推計'!$U$14:$W$35,2,FALSE),\"\")","v":""},null,null,"",null,null,{"$f":"IFERROR(VLOOKUP(C381,'3)BAU排出量の推計'!$U$14:$W$35,3,FALSE),\"\")","v":""},null,null,""]
[null,363,null,null,null,null,null,{"$f":"IFERROR(VLOOKUP(C382,'3)BAU排出量の推計'!$U$14:$W$35,2,FALSE),\"\")","v":""},null,null,"",null,null,{"$f":"IFERROR(VLOOKUP(C382,'3)BAU排出量の推計'!$U$14:$W$35,3,FALSE),\"\")","v":""},null,null,""]
[null,364,null,null,null,null,null,{"$f":"IFERROR(VLOOKUP(C383,'3)BAU排出量の推計'!$U$14:$W$35,2,FALSE),\"\")","v":""},null,null,"",null,null,{"$f":"IFERROR(VLOOKUP(C383,'3)BAU排出量の推計'!$U$14:$W$35,3,FALSE),\"\")","v":""},null,null,""]
[null,365,null,null,null,null,null,{"$f":"IFERROR(VLOOKUP(C384,'3)BAU排出量の推計'!$U$14:$W$35,2,FALSE),\"\")","v":""},null,null,"",null,null,{"$f":"IFERROR(VLOOKUP(C384,'3)BAU排出量の推計'!$U$14:$W$35,3,FALSE),\"\")","v":""},null,null,""]
[null,366,null,null,null,null,null,{"$f":"IFERROR(VLOOKUP(C385,'3)BAU排出量の推計'!$U$14:$W$35,2,FALSE),\"\")","v":""},null,null,"",null,null,{"$f":"IFERROR(VLOOKUP(C385,'3)BAU排出量の推計'!$U$14:$W$35,3,FALSE),\"\")","v":""},null,null,""]
[null,367,null,null,null,null,null,{"$f":"IFERROR(VLOOKUP(C386,'3)BAU排出量の推計'!$U$14:$W$35,2,FALSE),\"\")","v":""},null,null,"",null,null,{"$f":"IFERROR(VLOOKUP(C386,'3)BAU排出量の推計'!$U$14:$W$35,3,FALSE),\"\")","v":""},null,null,""]
[null,368,null,null,null,null,null,{"$f":"IFERROR(VLOOKUP(C387,'3)BAU排出量の推計'!$U$14:$W$35,2,FALSE),\"\")","v":""},null,null,"",null,null,{"$f":"IFERROR(VLOOKUP(C387,'3)BAU排出量の推計'!$U$14:$W$35,3,FALSE),\"\")","v":""},null,null,""]
[null,369,null,null,null,null,null,{"$f":"IFERROR(VLOOKUP(C388,'3)BAU排出量の推計'!$U$14:$W$35,2,FALSE),\"\")","v":""},null,null,"",null,null,{"$f":"IFERROR(VLOOKUP(C388,'3)BAU排出量の推計'!$U$14:$W$35,3,FALSE),\"\")","v":""},null,null,""]
[null,370,null,null,null,null,null,{"$f":"IFERROR(VLOOKUP(C389,'3)BAU排出量の推計'!$U$14:$W$35,2,FALSE),\"\")","v":""},null,null,"",null,null,{"$f":"IFERROR(VLOOKUP(C389,'3)BAU排出量の推計'!$U$14:$W$35,3,FALSE),\"\")","v":""},null,null,""]
[null,371,null,null,null,null,null,{"$f":"IFERROR(VLOOKUP(C390,'3)BAU排出量の推計'!$U$14:$W$35,2,FALSE),\"\")","v":""},null,null,"",null,null,{"$f":"IFERROR(VLOOKUP(C390,'3)BAU排出量の推計'!$U$14:$W$35,3,FALSE),\"\")","v":""},null,null,""]
[null,372,null,null,null,null,null,{"$f":"IFERROR(VLOOKUP(C391,'3)BAU排出量の推計'!$U$14:$W$35,2,FALSE),\"\")","v":""},null,null,"",null,null,{"$f":"IFERROR(VLOOKUP(C391,'3)BAU排出量の推計'!$U$14:$W$35,3,FALSE),\"\")","v":""},null,null,""]
[null,373,null,null,null,null,null,{"$f":"IFERROR(VLOOKUP(C392,'3)BAU排出量の推計'!$U$14:$W$35,2,FALSE),\"\")","v":""},null,null,"",null,null,{"$f":"IFERROR(VLOOKUP(C392,'3)BAU排出量の推計'!$U$14:$W$35,3,FALSE),\"\")","v":""},null,null,""]
[null,374,null,null,null,null,null,{"$f":"IFERROR(VLOOKUP(C393,'3)BAU排出量の推計'!$U$14:$W$35,2,FALSE),\"\")","v":""},null,null,"",null,null,{"$f":"IFERROR(VLOOKUP(C393,'3)BAU排出量の推計'!$U$14:$W$35,3,FALSE),\"\")","v":""},null,null,""]
[null,375,null,null,null,null,null,{"$f":"IFERROR(VLOOKUP(C394,'3)BAU排出量の推計'!$U$14:$W$35,2,FALSE),\"\")","v":""},null,null,"",null,null,{"$f":"IFERROR(VLOOKUP(C394,'3)BAU排出量の推計'!$U$14:$W$35,3,FALSE),\"\")","v":""},null,null,""]
[null,376,null,null,null,null,null,{"$f":"IFERROR(VLOOKUP(C395,'3)BAU排出量の推計'!$U$14:$W$35,2,FALSE),\"\")","v":""},null,null,"",null,null,{"$f":"IFERROR(VLOOKUP(C395,'3)BAU排出量の推計'!$U$14:$W$35,3,FALSE),\"\")","v":""},null,null,""]
[null,377,null,null,null,null,null,{"$f":"IFERROR(VLOOKUP(C396,'3)BAU排出量の推計'!$U$14:$W$35,2,FALSE),\"\")","v":""},null,null,"",null,null,{"$f":"IFERROR(VLOOKUP(C396,'3)BAU排出量の推計'!$U$14:$W$35,3,FALSE),\"\")","v":""},null,null,""]
[null,378,null,null,null,null,null,{"$f":"IFERROR(VLOOKUP(C397,'3)BAU排出量の推計'!$U$14:$W$35,2,FALSE),\"\")","v":""},null,null,"",null,null,{"$f":"IFERROR(VLOOKUP(C397,'3)BAU排出量の推計'!$U$14:$W$35,3,FALSE),\"\")","v":""},null,null,""]
[null,379,null,null,null,null,null,{"$f":"IFERROR(VLOOKUP(C398,'3)BAU排出量の推計'!$U$14:$W$35,2,FALSE),\"\")","v":""},null,null,"",null,null,{"$f":"IFERROR(VLOOKUP(C398,'3)BAU排出量の推計'!$U$14:$W$35,3,FALSE),\"\")","v":""},null,null,""]
[null,380,null,null,null,null,null,{"$f":"IFERROR(VLOOKUP(C399,'3)BAU排出量の推計'!$U$14:$W$35,2,FALSE),\"\")","v":""},null,null,"",null,null,{"$f":"IFERROR(VLOOKUP(C399,'3)BAU排出量の推計'!$U$14:$W$35,3,FALSE),\"\")","v":""},null,null,""]
[null,381,null,null,null,null,null,{"$f":"IFERROR(VLOOKUP(C400,'3)BAU排出量の推計'!$U$14:$W$35,2,FALSE),\"\")","v":""},null,null,"",null,null,{"$f":"IFERROR(VLOOKUP(C400,'3)BAU排出量の推計'!$U$14:$W$35,3,FALSE),\"\")","v":""},null,null,""]
[null,382,null,null,null,null,null,{"$f":"IFERROR(VLOOKUP(C401,'3)BAU排出量の推計'!$U$14:$W$35,2,FALSE),\"\")","v":""},null,null,"",null,null,{"$f":"IFERROR(VLOOKUP(C401,'3)BAU排出量の推計'!$U$14:$W$35,3,FALSE),\"\")","v":""},null,null,""]
[null,383,null,null,null,null,null,{"$f":"IFERROR(VLOOKUP(C402,'3)BAU排出量の推計'!$U$14:$W$35,2,FALSE),\"\")","v":""},null,null,"",null,null,{"$f":"IFERROR(VLOOKUP(C402,'3)BAU排出量の推計'!$U$14:$W$35,3,FALSE),\"\")","v":""},null,null,""]
[null,384,null,null,null,null,null,{"$f":"IFERROR(VLOOKUP(C403,'3)BAU排出量の推計'!$U$14:$W$35,2,FALSE),\"\")","v":""},null,null,"",null,null,{"$f":"IFERROR(VLOOKUP(C403,'3)BAU排出量の推計'!$U$14:$W$35,3,FALSE),\"\")","v":""},null,null,""]
[null,385,null,null,null,null,null,{"$f":"IFERROR(VLOOKUP(C404,'3)BAU排出量の推計'!$U$14:$W$35,2,FALSE),\"\")","v":""},null,null,"",null,null,{"$f":"IFERROR(VLOOKUP(C404,'3)BAU排出量の推計'!$U$14:$W$35,3,FALSE),\"\")","v":""},null,null,""]
[null,386,null,null,null,null,null,{"$f":"IFERROR(VLOOKUP(C405,'3)BAU排出量の推計'!$U$14:$W$35,2,FALSE),\"\")","v":""},null,null,{"$f":"IF(I405>0,\"\",IF(OR(H405=0,H405=\"\"),\"\",IF(ISERROR(H405*J405),\"\",H405*J405)))","v":""},null,null,{"$f":"IFERROR(VLOOKUP(C405,'3)BAU排出量の推計'!$U$14:$W$35,3,FALSE),\"\")","v":""},null,null,{"$f":"IF(O405>0,\"\",IF(OR(N405=0,N405=\"\"),\"\",IF(ISERROR(N405*P405),\"\",N405*P405)))","v":""}]
[null,387,null,null,null,null,null,{"$f":"IFERROR(VLOOKUP(C406,'3)BAU排出量の推計'!$U$14:$W$35,2,FALSE),\"\")","v":""},null,null,"",null,null,{"$f":"IFERROR(VLOOKUP(C406,'3)BAU排出量の推計'!$U$14:$W$35,3,FALSE),\"\")","v":""},null,null,""]
[null,388,null,null,null,null,null,{"$f":"IFERROR(VLOOKUP(C407,'3)BAU排出量の推計'!$U$14:$W$35,2,FALSE),\"\")","v":""},null,null,"",null,null,{"$f":"IFERROR(VLOOKUP(C407,'3)BAU排出量の推計'!$U$14:$W$35,3,FALSE),\"\")","v":""},null,null,""]
[null,389,null,null,null,null,null,{"$f":"IFERROR(VLOOKUP(C408,'3)BAU排出量の推計'!$U$14:$W$35,2,FALSE),\"\")","v":""},null,null,"",null,null,{"$f":"IFERROR(VLOOKUP(C408,'3)BAU排出量の推計'!$U$14:$W$35,3,FALSE),\"\")","v":""},null,null,""]
[null,390,null,null,null,null,null,{"$f":"IFERROR(VLOOKUP(C409,'3)BAU排出量の推計'!$U$14:$W$35,2,FALSE),\"\")","v":""},null,null,"",null,null,{"$f":"IFERROR(VLOOKUP(C409,'3)BAU排出量の推計'!$U$14:$W$35,3,FALSE),\"\")","v":""},null,null,""]
[null,391,null,null,null,null,null,{"$f":"IFERROR(VLOOKUP(C410,'3)BAU排出量の推計'!$U$14:$W$35,2,FALSE),\"\")","v":""},null,null,"",null,null,{"$f":"IFERROR(VLOOKUP(C410,'3)BAU排出量の推計'!$U$14:$W$35,3,FALSE),\"\")","v":""},null,null,""]
[null,{"$f":"ROW()-$A$20+1","v":392},null,null,null,null,null,{"$f":"IFERROR(VLOOKUP(C411,'3)BAU排出量の推計'!$U$14:$W$35,2,FALSE),\"\")","v":""},null,null,"",null,null,{"$f":"IFERROR(VLOOKUP(C411,'3)BAU排出量の推計'!$U$14:$W$35,3,FALSE),\"\")","v":""},null,null,""]
[null,393,null,null,null,null,null,{"$f":"IFERROR(VLOOKUP(C412,'3)BAU排出量の推計'!$U$14:$W$35,2,FALSE),\"\")","v":""},null,null,"",null,null,{"$f":"IFERROR(VLOOKUP(C412,'3)BAU排出量の推計'!$U$14:$W$35,3,FALSE),\"\")","v":""},null,null,""]
[null,394,null,null,null,null,null,{"$f":"IFERROR(VLOOKUP(C413,'3)BAU排出量の推計'!$U$14:$W$35,2,FALSE),\"\")","v":""},null,null,"",null,null,{"$f":"IFERROR(VLOOKUP(C413,'3)BAU排出量の推計'!$U$14:$W$35,3,FALSE),\"\")","v":""},null,null,""]
[null,395,null,null,null,null,null,{"$f":"IFERROR(VLOOKUP(C414,'3)BAU排出量の推計'!$U$14:$W$35,2,FALSE),\"\")","v":""},null,null,"",null,null,{"$f":"IFERROR(VLOOKUP(C414,'3)BAU排出量の推計'!$U$14:$W$35,3,FALSE),\"\")","v":""},null,null,""]
[null,396,null,null,null,null,null,{"$f":"IFERROR(VLOOKUP(C415,'3)BAU排出量の推計'!$U$14:$W$35,2,FALSE),\"\")","v":""},null,null,"",null,null,{"$f":"IFERROR(VLOOKUP(C415,'3)BAU排出量の推計'!$U$14:$W$35,3,FALSE),\"\")","v":""},null,null,""]
[null,397,null,null,null,null,null,{"$f":"IFERROR(VLOOKUP(C416,'3)BAU排出量の推計'!$U$14:$W$35,2,FALSE),\"\")","v":""},null,null,"",null,null,{"$f":"IFERROR(VLOOKUP(C416,'3)BAU排出量の推計'!$U$14:$W$35,3,FALSE),\"\")","v":""},null,null,""]
[null,398,null,null,null,null,null,{"$f":"IFERROR(VLOOKUP(C417,'3)BAU排出量の推計'!$U$14:$W$35,2,FALSE),\"\")","v":""},null,null,"",null,null,{"$f":"IFERROR(VLOOKUP(C417,'3)BAU排出量の推計'!$U$14:$W$35,3,FALSE),\"\")","v":""},null,null,""]
[null,399,null,null,null,null,null,{"$f":"IFERROR(VLOOKUP(C418,'3)BAU排出量の推計'!$U$14:$W$35,2,FALSE),\"\")","v":""},null,null,"",null,null,{"$f":"IFERROR(VLOOKUP(C418,'3)BAU排出量の推計'!$U$14:$W$35,3,FALSE),\"\")","v":""},null,null,""]
[null,400,null,null,null,null,null,{"$f":"IFERROR(VLOOKUP(C419,'3)BAU排出量の推計'!$U$14:$W$35,2,FALSE),\"\")","v":""},null,null,"",null,null,{"$f":"IFERROR(VLOOKUP(C419,'3)BAU排出量の推計'!$U$14:$W$35,3,FALSE),\"\")","v":""},null,null,""]
[null,401,null,null,null,null,null,{"$f":"IFERROR(VLOOKUP(C420,'3)BAU排出量の推計'!$U$14:$W$35,2,FALSE),\"\")","v":""},null,null,"",null,null,{"$f":"IFERROR(VLOOKUP(C420,'3)BAU排出量の推計'!$U$14:$W$35,3,FALSE),\"\")","v":""},null,null,""]
[null,402,null,null,null,null,null,{"$f":"IFERROR(VLOOKUP(C421,'3)BAU排出量の推計'!$U$14:$W$35,2,FALSE),\"\")","v":""},null,null,"",null,null,{"$f":"IFERROR(VLOOKUP(C421,'3)BAU排出量の推計'!$U$14:$W$35,3,FALSE),\"\")","v":""},null,null,""]
[null,403,null,null,null,null,null,{"$f":"IFERROR(VLOOKUP(C422,'3)BAU排出量の推計'!$U$14:$W$35,2,FALSE),\"\")","v":""},null,null,"",null,null,{"$f":"IFERROR(VLOOKUP(C422,'3)BAU排出量の推計'!$U$14:$W$35,3,FALSE),\"\")","v":""},null,null,""]
[null,404,null,null,null,null,null,{"$f":"IFERROR(VLOOKUP(C423,'3)BAU排出量の推計'!$U$14:$W$35,2,FALSE),\"\")","v":""},null,null,"",null,null,{"$f":"IFERROR(VLOOKUP(C423,'3)BAU排出量の推計'!$U$14:$W$35,3,FALSE),\"\")","v":""},null,null,""]
[null,405,null,null,null,null,null,{"$f":"IFERROR(VLOOKUP(C424,'3)BAU排出量の推計'!$U$14:$W$35,2,FALSE),\"\")","v":""},null,null,"",null,null,{"$f":"IFERROR(VLOOKUP(C424,'3)BAU排出量の推計'!$U$14:$W$35,3,FALSE),\"\")","v":""},null,null,""]
[null,406,null,null,null,null,null,{"$f":"IFERROR(VLOOKUP(C425,'3)BAU排出量の推計'!$U$14:$W$35,2,FALSE),\"\")","v":""},null,null,"",null,null,{"$f":"IFERROR(VLOOKUP(C425,'3)BAU排出量の推計'!$U$14:$W$35,3,FALSE),\"\")","v":""},null,null,""]
[null,407,null,null,null,null,null,{"$f":"IFERROR(VLOOKUP(C426,'3)BAU排出量の推計'!$U$14:$W$35,2,FALSE),\"\")","v":""},null,null,"",null,null,{"$f":"IFERROR(VLOOKUP(C426,'3)BAU排出量の推計'!$U$14:$W$35,3,FALSE),\"\")","v":""},null,null,""]
[null,408,null,null,null,null,null,{"$f":"IFERROR(VLOOKUP(C427,'3)BAU排出量の推計'!$U$14:$W$35,2,FALSE),\"\")","v":""},null,null,"",null,null,{"$f":"IFERROR(VLOOKUP(C427,'3)BAU排出量の推計'!$U$14:$W$35,3,FALSE),\"\")","v":""},null,null,""]
[null,409,null,null,null,null,null,{"$f":"IFERROR(VLOOKUP(C428,'3)BAU排出量の推計'!$U$14:$W$35,2,FALSE),\"\")","v":""},null,null,"",null,null,{"$f":"IFERROR(VLOOKUP(C428,'3)BAU排出量の推計'!$U$14:$W$35,3,FALSE),\"\")","v":""},null,null,""]
[null,410,null,null,null,null,null,{"$f":"IFERROR(VLOOKUP(C429,'3)BAU排出量の推計'!$U$14:$W$35,2,FALSE),\"\")","v":""},null,null,"",null,null,{"$f":"IFERROR(VLOOKUP(C429,'3)BAU排出量の推計'!$U$14:$W$35,3,FALSE),\"\")","v":""},null,null,""]
[null,411,null,null,null,null,null,{"$f":"IFERROR(VLOOKUP(C430,'3)BAU排出量の推計'!$U$14:$W$35,2,FALSE),\"\")","v":""},null,null,"",null,null,{"$f":"IFERROR(VLOOKUP(C430,'3)BAU排出量の推計'!$U$14:$W$35,3,FALSE),\"\")","v":""},null,null,""]
[null,412,null,null,null,null,null,{"$f":"IFERROR(VLOOKUP(C431,'3)BAU排出量の推計'!$U$14:$W$35,2,FALSE),\"\")","v":""},null,null,"",null,null,{"$f":"IFERROR(VLOOKUP(C431,'3)BAU排出量の推計'!$U$14:$W$35,3,FALSE),\"\")","v":""},null,null,""]
[null,413,null,null,null,null,null,{"$f":"IFERROR(VLOOKUP(C432,'3)BAU排出量の推計'!$U$14:$W$35,2,FALSE),\"\")","v":""},null,null,"",null,null,{"$f":"IFERROR(VLOOKUP(C432,'3)BAU排出量の推計'!$U$14:$W$35,3,FALSE),\"\")","v":""},null,null,""]
[null,414,null,null,null,null,null,{"$f":"IFERROR(VLOOKUP(C433,'3)BAU排出量の推計'!$U$14:$W$35,2,FALSE),\"\")","v":""},null,null,"",null,null,{"$f":"IFERROR(VLOOKUP(C433,'3)BAU排出量の推計'!$U$14:$W$35,3,FALSE),\"\")","v":""},null,null,""]
[null,415,null,null,null,null,null,{"$f":"IFERROR(VLOOKUP(C434,'3)BAU排出量の推計'!$U$14:$W$35,2,FALSE),\"\")","v":""},null,null,"",null,null,{"$f":"IFERROR(VLOOKUP(C434,'3)BAU排出量の推計'!$U$14:$W$35,3,FALSE),\"\")","v":""},null,null,""]
[null,416,null,null,null,null,null,{"$f":"IFERROR(VLOOKUP(C435,'3)BAU排出量の推計'!$U$14:$W$35,2,FALSE),\"\")","v":""},null,null,"",null,null,{"$f":"IFERROR(VLOOKUP(C435,'3)BAU排出量の推計'!$U$14:$W$35,3,FALSE),\"\")","v":""},null,null,""]
[null,417,null,null,null,null,null,{"$f":"IFERROR(VLOOKUP(C436,'3)BAU排出量の推計'!$U$14:$W$35,2,FALSE),\"\")","v":""},null,null,"",null,null,{"$f":"IFERROR(VLOOKUP(C436,'3)BAU排出量の推計'!$U$14:$W$35,3,FALSE),\"\")","v":""},null,null,""]
[null,418,null,null,null,null,null,{"$f":"IFERROR(VLOOKUP(C437,'3)BAU排出量の推計'!$U$14:$W$35,2,FALSE),\"\")","v":""},null,null,"",null,null,{"$f":"IFERROR(VLOOKUP(C437,'3)BAU排出量の推計'!$U$14:$W$35,3,FALSE),\"\")","v":""},null,null,""]
[null,419,null,null,null,null,null,{"$f":"IFERROR(VLOOKUP(C438,'3)BAU排出量の推計'!$U$14:$W$35,2,FALSE),\"\")","v":""},null,null,"",null,null,{"$f":"IFERROR(VLOOKUP(C438,'3)BAU排出量の推計'!$U$14:$W$35,3,FALSE),\"\")","v":""},null,null,""]
[null,420,null,null,null,null,null,{"$f":"IFERROR(VLOOKUP(C439,'3)BAU排出量の推計'!$U$14:$W$35,2,FALSE),\"\")","v":""},null,null,"",null,null,{"$f":"IFERROR(VLOOKUP(C439,'3)BAU排出量の推計'!$U$14:$W$35,3,FALSE),\"\")","v":""},null,null,""]
[null,421,null,null,null,null,null,{"$f":"IFERROR(VLOOKUP(C440,'3)BAU排出量の推計'!$U$14:$W$35,2,FALSE),\"\")","v":""},null,null,"",null,null,{"$f":"IFERROR(VLOOKUP(C440,'3)BAU排出量の推計'!$U$14:$W$35,3,FALSE),\"\")","v":""},null,null,""]
[null,422,null,null,null,null,null,{"$f":"IFERROR(VLOOKUP(C441,'3)BAU排出量の推計'!$U$14:$W$35,2,FALSE),\"\")","v":""},null,null,"",null,null,{"$f":"IFERROR(VLOOKUP(C441,'3)BAU排出量の推計'!$U$14:$W$35,3,FALSE),\"\")","v":""},null,null,""]
[null,423,null,null,null,null,null,{"$f":"IFERROR(VLOOKUP(C442,'3)BAU排出量の推計'!$U$14:$W$35,2,FALSE),\"\")","v":""},null,null,"",null,null,{"$f":"IFERROR(VLOOKUP(C442,'3)BAU排出量の推計'!$U$14:$W$35,3,FALSE),\"\")","v":""},null,null,""]
[null,424,null,null,null,null,null,{"$f":"IFERROR(VLOOKUP(C443,'3)BAU排出量の推計'!$U$14:$W$35,2,FALSE),\"\")","v":""},null,null,"",null,null,{"$f":"IFERROR(VLOOKUP(C443,'3)BAU排出量の推計'!$U$14:$W$35,3,FALSE),\"\")","v":""},null,null,""]
[null,425,null,null,null,null,null,{"$f":"IFERROR(VLOOKUP(C444,'3)BAU排出量の推計'!$U$14:$W$35,2,FALSE),\"\")","v":""},null,null,"",null,null,{"$f":"IFERROR(VLOOKUP(C444,'3)BAU排出量の推計'!$U$14:$W$35,3,FALSE),\"\")","v":""},null,null,""]
[null,426,null,null,null,null,null,{"$f":"IFERROR(VLOOKUP(C445,'3)BAU排出量の推計'!$U$14:$W$35,2,FALSE),\"\")","v":""},null,null,"",null,null,{"$f":"IFERROR(VLOOKUP(C445,'3)BAU排出量の推計'!$U$14:$W$35,3,FALSE),\"\")","v":""},null,null,""]
[null,427,null,null,null,null,null,{"$f":"IFERROR(VLOOKUP(C446,'3)BAU排出量の推計'!$U$14:$W$35,2,FALSE),\"\")","v":""},null,null,"",null,null,{"$f":"IFERROR(VLOOKUP(C446,'3)BAU排出量の推計'!$U$14:$W$35,3,FALSE),\"\")","v":""},null,null,""]
[null,428,null,null,null,null,null,{"$f":"IFERROR(VLOOKUP(C447,'3)BAU排出量の推計'!$U$14:$W$35,2,FALSE),\"\")","v":""},null,null,"",null,null,{"$f":"IFERROR(VLOOKUP(C447,'3)BAU排出量の推計'!$U$14:$W$35,3,FALSE),\"\")","v":""},null,null,""]
[null,429,null,null,null,null,null,{"$f":"IFERROR(VLOOKUP(C448,'3)BAU排出量の推計'!$U$14:$W$35,2,FALSE),\"\")","v":""},null,null,"",null,null,{"$f":"IFERROR(VLOOKUP(C448,'3)BAU排出量の推計'!$U$14:$W$35,3,FALSE),\"\")","v":""},null,null,""]
[null,430,null,null,null,null,null,{"$f":"IFERROR(VLOOKUP(C449,'3)BAU排出量の推計'!$U$14:$W$35,2,FALSE),\"\")","v":""},null,null,"",null,null,{"$f":"IFERROR(VLOOKUP(C449,'3)BAU排出量の推計'!$U$14:$W$35,3,FALSE),\"\")","v":""},null,null,""]
[null,431,null,null,null,null,null,{"$f":"IFERROR(VLOOKUP(C450,'3)BAU排出量の推計'!$U$14:$W$35,2,FALSE),\"\")","v":""},null,null,"",null,null,{"$f":"IFERROR(VLOOKUP(C450,'3)BAU排出量の推計'!$U$14:$W$35,3,FALSE),\"\")","v":""},null,null,""]
[null,432,null,null,null,null,null,{"$f":"IFERROR(VLOOKUP(C451,'3)BAU排出量の推計'!$U$14:$W$35,2,FALSE),\"\")","v":""},null,null,"",null,null,{"$f":"IFERROR(VLOOKUP(C451,'3)BAU排出量の推計'!$U$14:$W$35,3,FALSE),\"\")","v":""},null,null,""]
[null,433,null,null,null,null,null,{"$f":"IFERROR(VLOOKUP(C452,'3)BAU排出量の推計'!$U$14:$W$35,2,FALSE),\"\")","v":""},null,null,"",null,null,{"$f":"IFERROR(VLOOKUP(C452,'3)BAU排出量の推計'!$U$14:$W$35,3,FALSE),\"\")","v":""},null,null,""]
[null,434,null,null,null,null,null,{"$f":"IFERROR(VLOOKUP(C453,'3)BAU排出量の推計'!$U$14:$W$35,2,FALSE),\"\")","v":""},null,null,"",null,null,{"$f":"IFERROR(VLOOKUP(C453,'3)BAU排出量の推計'!$U$14:$W$35,3,FALSE),\"\")","v":""},null,null,""]
[null,435,null,null,null,null,null,{"$f":"IFERROR(VLOOKUP(C454,'3)BAU排出量の推計'!$U$14:$W$35,2,FALSE),\"\")","v":""},null,null,"",null,null,{"$f":"IFERROR(VLOOKUP(C454,'3)BAU排出量の推計'!$U$14:$W$35,3,FALSE),\"\")","v":""},null,null,""]
[null,436,null,null,null,null,null,{"$f":"IFERROR(VLOOKUP(C455,'3)BAU排出量の推計'!$U$14:$W$35,2,FALSE),\"\")","v":""},null,null,"",null,null,{"$f":"IFERROR(VLOOKUP(C455,'3)BAU排出量の推計'!$U$14:$W$35,3,FALSE),\"\")","v":""},null,null,""]
[null,437,null,null,null,null,null,{"$f":"IFERROR(VLOOKUP(C456,'3)BAU排出量の推計'!$U$14:$W$35,2,FALSE),\"\")","v":""},null,null,"",null,null,{"$f":"IFERROR(VLOOKUP(C456,'3)BAU排出量の推計'!$U$14:$W$35,3,FALSE),\"\")","v":""},null,null,""]
[null,438,null,null,null,null,null,{"$f":"IFERROR(VLOOKUP(C457,'3)BAU排出量の推計'!$U$14:$W$35,2,FALSE),\"\")","v":""},null,null,"",null,null,{"$f":"IFERROR(VLOOKUP(C457,'3)BAU排出量の推計'!$U$14:$W$35,3,FALSE),\"\")","v":""},null,null,""]
[null,439,null,null,null,null,null,{"$f":"IFERROR(VLOOKUP(C458,'3)BAU排出量の推計'!$U$14:$W$35,2,FALSE),\"\")","v":""},null,null,"",null,null,{"$f":"IFERROR(VLOOKUP(C458,'3)BAU排出量の推計'!$U$14:$W$35,3,FALSE),\"\")","v":""},null,null,""]
[null,440,null,null,null,null,null,{"$f":"IFERROR(VLOOKUP(C459,'3)BAU排出量の推計'!$U$14:$W$35,2,FALSE),\"\")","v":""},null,null,"",null,null,{"$f":"IFERROR(VLOOKUP(C459,'3)BAU排出量の推計'!$U$14:$W$35,3,FALSE),\"\")","v":""},null,null,""]
[null,441,null,null,null,null,null,{"$f":"IFERROR(VLOOKUP(C460,'3)BAU排出量の推計'!$U$14:$W$35,2,FALSE),\"\")","v":""},null,null,"",null,null,{"$f":"IFERROR(VLOOKUP(C460,'3)BAU排出量の推計'!$U$14:$W$35,3,FALSE),\"\")","v":""},null,null,""]
[null,442,null,null,null,null,null,{"$f":"IFERROR(VLOOKUP(C461,'3)BAU排出量の推計'!$U$14:$W$35,2,FALSE),\"\")","v":""},null,null,"",null,null,{"$f":"IFERROR(VLOOKUP(C461,'3)BAU排出量の推計'!$U$14:$W$35,3,FALSE),\"\")","v":""},null,null,""]
[null,443,null,null,null,null,null,{"$f":"IFERROR(VLOOKUP(C462,'3)BAU排出量の推計'!$U$14:$W$35,2,FALSE),\"\")","v":""},null,null,"",null,null,{"$f":"IFERROR(VLOOKUP(C462,'3)BAU排出量の推計'!$U$14:$W$35,3,FALSE),\"\")","v":""},null,null,""]
[null,444,null,null,null,null,null,{"$f":"IFERROR(VLOOKUP(C463,'3)BAU排出量の推計'!$U$14:$W$35,2,FALSE),\"\")","v":""},null,null,"",null,null,{"$f":"IFERROR(VLOOKUP(C463,'3)BAU排出量の推計'!$U$14:$W$35,3,FALSE),\"\")","v":""},null,null,""]
[null,445,null,null,null,null,null,{"$f":"IFERROR(VLOOKUP(C464,'3)BAU排出量の推計'!$U$14:$W$35,2,FALSE),\"\")","v":""},null,null,"",null,null,{"$f":"IFERROR(VLOOKUP(C464,'3)BAU排出量の推計'!$U$14:$W$35,3,FALSE),\"\")","v":""},null,null,""]
[null,446,null,null,null,null,null,{"$f":"IFERROR(VLOOKUP(C465,'3)BAU排出量の推計'!$U$14:$W$35,2,FALSE),\"\")","v":""},null,null,"",null,null,{"$f":"IFERROR(VLOOKUP(C465,'3)BAU排出量の推計'!$U$14:$W$35,3,FALSE),\"\")","v":""},null,null,""]
[null,447,null,null,null,null,null,{"$f":"IFERROR(VLOOKUP(C466,'3)BAU排出量の推計'!$U$14:$W$35,2,FALSE),\"\")","v":""},null,null,"",null,null,{"$f":"IFERROR(VLOOKUP(C466,'3)BAU排出量の推計'!$U$14:$W$35,3,FALSE),\"\")","v":""},null,null,""]
[null,448,null,null,null,null,null,{"$f":"IFERROR(VLOOKUP(C467,'3)BAU排出量の推計'!$U$14:$W$35,2,FALSE),\"\")","v":""},null,null,"",null,null,{"$f":"IFERROR(VLOOKUP(C467,'3)BAU排出量の推計'!$U$14:$W$35,3,FALSE),\"\")","v":""},null,null,""]
[null,449,null,null,null,null,null,{"$f":"IFERROR(VLOOKUP(C468,'3)BAU排出量の推計'!$U$14:$W$35,2,FALSE),\"\")","v":""},null,null,"",null,null,{"$f":"IFERROR(VLOOKUP(C468,'3)BAU排出量の推計'!$U$14:$W$35,3,FALSE),\"\")","v":""},null,null,""]
[null,450,null,null,null,null,null,{"$f":"IFERROR(VLOOKUP(C469,'3)BAU排出量の推計'!$U$14:$W$35,2,FALSE),\"\")","v":""},null,null,{"$f":"IF(I469>0,\"\",IF(OR(H469=0,H469=\"\"),\"\",IF(ISERROR(H469*J469),\"\",H469*J469)))","v":""},null,null,{"$f":"IFERROR(VLOOKUP(C469,'3)BAU排出量の推計'!$U$14:$W$35,3,FALSE),\"\")","v":""},null,null,{"$f":"IF(O469>0,\"\",IF(OR(N469=0,N469=\"\"),\"\",IF(ISERROR(N469*P469),\"\",N469*P469)))","v":""}]
[null,451,null,null,null,null,null,{"$f":"IFERROR(VLOOKUP(C470,'3)BAU排出量の推計'!$U$14:$W$35,2,FALSE),\"\")","v":""},null,null,"",null,null,{"$f":"IFERROR(VLOOKUP(C470,'3)BAU排出量の推計'!$U$14:$W$35,3,FALSE),\"\")","v":""},null,null,""]
[null,452,null,null,null,null,null,{"$f":"IFERROR(VLOOKUP(C471,'3)BAU排出量の推計'!$U$14:$W$35,2,FALSE),\"\")","v":""},null,null,"",null,null,{"$f":"IFERROR(VLOOKUP(C471,'3)BAU排出量の推計'!$U$14:$W$35,3,FALSE),\"\")","v":""},null,null,""]
[null,453,null,null,null,null,null,{"$f":"IFERROR(VLOOKUP(C472,'3)BAU排出量の推計'!$U$14:$W$35,2,FALSE),\"\")","v":""},null,null,"",null,null,{"$f":"IFERROR(VLOOKUP(C472,'3)BAU排出量の推計'!$U$14:$W$35,3,FALSE),\"\")","v":""},null,null,""]
[null,454,null,null,null,null,null,{"$f":"IFERROR(VLOOKUP(C473,'3)BAU排出量の推計'!$U$14:$W$35,2,FALSE),\"\")","v":""},null,null,"",null,null,{"$f":"IFERROR(VLOOKUP(C473,'3)BAU排出量の推計'!$U$14:$W$35,3,FALSE),\"\")","v":""},null,null,""]
[null,455,null,null,null,null,null,{"$f":"IFERROR(VLOOKUP(C474,'3)BAU排出量の推計'!$U$14:$W$35,2,FALSE),\"\")","v":""},null,null,"",null,null,{"$f":"IFERROR(VLOOKUP(C474,'3)BAU排出量の推計'!$U$14:$W$35,3,FALSE),\"\")","v":""},null,null,""]
[null,{"$f":"ROW()-$A$20+1","v":456},null,null,null,null,null,{"$f":"IFERROR(VLOOKUP(C475,'3)BAU排出量の推計'!$U$14:$W$35,2,FALSE),\"\")","v":""},null,null,"",null,null,{"$f":"IFERROR(VLOOKUP(C475,'3)BAU排出量の推計'!$U$14:$W$35,3,FALSE),\"\")","v":""},null,null,""]
[null,457,null,null,null,null,null,{"$f":"IFERROR(VLOOKUP(C476,'3)BAU排出量の推計'!$U$14:$W$35,2,FALSE),\"\")","v":""},null,null,"",null,null,{"$f":"IFERROR(VLOOKUP(C476,'3)BAU排出量の推計'!$U$14:$W$35,3,FALSE),\"\")","v":""},null,null,""]
[null,458,null,null,null,null,null,{"$f":"IFERROR(VLOOKUP(C477,'3)BAU排出量の推計'!$U$14:$W$35,2,FALSE),\"\")","v":""},null,null,"",null,null,{"$f":"IFERROR(VLOOKUP(C477,'3)BAU排出量の推計'!$U$14:$W$35,3,FALSE),\"\")","v":""},null,null,""]
[null,459,null,null,null,null,null,{"$f":"IFERROR(VLOOKUP(C478,'3)BAU排出量の推計'!$U$14:$W$35,2,FALSE),\"\")","v":""},null,null,"",null,null,{"$f":"IFERROR(VLOOKUP(C478,'3)BAU排出量の推計'!$U$14:$W$35,3,FALSE),\"\")","v":""},null,null,""]
[null,460,null,null,null,null,null,{"$f":"IFERROR(VLOOKUP(C479,'3)BAU排出量の推計'!$U$14:$W$35,2,FALSE),\"\")","v":""},null,null,"",null,null,{"$f":"IFERROR(VLOOKUP(C479,'3)BAU排出量の推計'!$U$14:$W$35,3,FALSE),\"\")","v":""},null,null,""]
[null,461,null,null,null,null,null,{"$f":"IFERROR(VLOOKUP(C480,'3)BAU排出量の推計'!$U$14:$W$35,2,FALSE),\"\")","v":""},null,null,"",null,null,{"$f":"IFERROR(VLOOKUP(C480,'3)BAU排出量の推計'!$U$14:$W$35,3,FALSE),\"\")","v":""},null,null,""]
[null,462,null,null,null,null,null,{"$f":"IFERROR(VLOOKUP(C481,'3)BAU排出量の推計'!$U$14:$W$35,2,FALSE),\"\")","v":""},null,null,"",null,null,{"$f":"IFERROR(VLOOKUP(C481,'3)BAU排出量の推計'!$U$14:$W$35,3,FALSE),\"\")","v":""},null,null,""]
[null,463,null,null,null,null,null,{"$f":"IFERROR(VLOOKUP(C482,'3)BAU排出量の推計'!$U$14:$W$35,2,FALSE),\"\")","v":""},null,null,"",null,null,{"$f":"IFERROR(VLOOKUP(C482,'3)BAU排出量の推計'!$U$14:$W$35,3,FALSE),\"\")","v":""},null,null,""]
[null,464,null,null,null,null,null,{"$f":"IFERROR(VLOOKUP(C483,'3)BAU排出量の推計'!$U$14:$W$35,2,FALSE),\"\")","v":""},null,null,"",null,null,{"$f":"IFERROR(VLOOKUP(C483,'3)BAU排出量の推計'!$U$14:$W$35,3,FALSE),\"\")","v":""},null,null,""]
[null,465,null,null,null,null,null,{"$f":"IFERROR(VLOOKUP(C484,'3)BAU排出量の推計'!$U$14:$W$35,2,FALSE),\"\")","v":""},null,null,"",null,null,{"$f":"IFERROR(VLOOKUP(C484,'3)BAU排出量の推計'!$U$14:$W$35,3,FALSE),\"\")","v":""},null,null,""]
[null,466,null,null,null,null,null,{"$f":"IFERROR(VLOOKUP(C485,'3)BAU排出量の推計'!$U$14:$W$35,2,FALSE),\"\")","v":""},null,null,"",null,null,{"$f":"IFERROR(VLOOKUP(C485,'3)BAU排出量の推計'!$U$14:$W$35,3,FALSE),\"\")","v":""},null,null,""]
[null,467,null,null,null,null,null,{"$f":"IFERROR(VLOOKUP(C486,'3)BAU排出量の推計'!$U$14:$W$35,2,FALSE),\"\")","v":""},null,null,"",null,null,{"$f":"IFERROR(VLOOKUP(C486,'3)BAU排出量の推計'!$U$14:$W$35,3,FALSE),\"\")","v":""},null,null,""]
[null,468,null,null,null,null,null,{"$f":"IFERROR(VLOOKUP(C487,'3)BAU排出量の推計'!$U$14:$W$35,2,FALSE),\"\")","v":""},null,null,"",null,null,{"$f":"IFERROR(VLOOKUP(C487,'3)BAU排出量の推計'!$U$14:$W$35,3,FALSE),\"\")","v":""},null,null,""]
[null,469,null,null,null,null,null,{"$f":"IFERROR(VLOOKUP(C488,'3)BAU排出量の推計'!$U$14:$W$35,2,FALSE),\"\")","v":""},null,null,"",null,null,{"$f":"IFERROR(VLOOKUP(C488,'3)BAU排出量の推計'!$U$14:$W$35,3,FALSE),\"\")","v":""},null,null,""]
[null,470,null,null,null,null,null,{"$f":"IFERROR(VLOOKUP(C489,'3)BAU排出量の推計'!$U$14:$W$35,2,FALSE),\"\")","v":""},null,null,"",null,null,{"$f":"IFERROR(VLOOKUP(C489,'3)BAU排出量の推計'!$U$14:$W$35,3,FALSE),\"\")","v":""},null,null,""]
[null,471,null,null,null,null,null,{"$f":"IFERROR(VLOOKUP(C490,'3)BAU排出量の推計'!$U$14:$W$35,2,FALSE),\"\")","v":""},null,null,"",null,null,{"$f":"IFERROR(VLOOKUP(C490,'3)BAU排出量の推計'!$U$14:$W$35,3,FALSE),\"\")","v":""},null,null,""]
[null,472,null,null,null,null,null,{"$f":"IFERROR(VLOOKUP(C491,'3)BAU排出量の推計'!$U$14:$W$35,2,FALSE),\"\")","v":""},null,null,"",null,null,{"$f":"IFERROR(VLOOKUP(C491,'3)BAU排出量の推計'!$U$14:$W$35,3,FALSE),\"\")","v":""},null,null,""]
[null,473,null,null,null,null,null,{"$f":"IFERROR(VLOOKUP(C492,'3)BAU排出量の推計'!$U$14:$W$35,2,FALSE),\"\")","v":""},null,null,"",null,null,{"$f":"IFERROR(VLOOKUP(C492,'3)BAU排出量の推計'!$U$14:$W$35,3,FALSE),\"\")","v":""},null,null,""]
[null,474,null,null,null,null,null,{"$f":"IFERROR(VLOOKUP(C493,'3)BAU排出量の推計'!$U$14:$W$35,2,FALSE),\"\")","v":""},null,null,"",null,null,{"$f":"IFERROR(VLOOKUP(C493,'3)BAU排出量の推計'!$U$14:$W$35,3,FALSE),\"\")","v":""},null,null,""]
[null,475,null,null,null,null,null,{"$f":"IFERROR(VLOOKUP(C494,'3)BAU排出量の推計'!$U$14:$W$35,2,FALSE),\"\")","v":""},null,null,"",null,null,{"$f":"IFERROR(VLOOKUP(C494,'3)BAU排出量の推計'!$U$14:$W$35,3,FALSE),\"\")","v":""},null,null,""]
[null,476,null,null,null,null,null,{"$f":"IFERROR(VLOOKUP(C495,'3)BAU排出量の推計'!$U$14:$W$35,2,FALSE),\"\")","v":""},null,null,"",null,null,{"$f":"IFERROR(VLOOKUP(C495,'3)BAU排出量の推計'!$U$14:$W$35,3,FALSE),\"\")","v":""},null,null,""]
[null,477,null,null,null,null,null,{"$f":"IFERROR(VLOOKUP(C496,'3)BAU排出量の推計'!$U$14:$W$35,2,FALSE),\"\")","v":""},null,null,"",null,null,{"$f":"IFERROR(VLOOKUP(C496,'3)BAU排出量の推計'!$U$14:$W$35,3,FALSE),\"\")","v":""},null,null,""]
[null,478,null,null,null,null,null,{"$f":"IFERROR(VLOOKUP(C497,'3)BAU排出量の推計'!$U$14:$W$35,2,FALSE),\"\")","v":""},null,null,"",null,null,{"$f":"IFERROR(VLOOKUP(C497,'3)BAU排出量の推計'!$U$14:$W$35,3,FALSE),\"\")","v":""},null,null,""]
[null,479,null,null,null,null,null,{"$f":"IFERROR(VLOOKUP(C498,'3)BAU排出量の推計'!$U$14:$W$35,2,FALSE),\"\")","v":""},null,null,"",null,null,{"$f":"IFERROR(VLOOKUP(C498,'3)BAU排出量の推計'!$U$14:$W$35,3,FALSE),\"\")","v":""},null,null,""]
[null,{"$f":"ROW()-$A$20+1","v":480},null,null,null,null,null,{"$f":"IFERROR(VLOOKUP(C499,'3)BAU排出量の推計'!$U$14:$W$35,2,FALSE),\"\")","v":""},null,null,"",null,null,{"$f":"IFERROR(VLOOKUP(C499,'3)BAU排出量の推計'!$U$14:$W$35,3,FALSE),\"\")","v":""},null,null,""]
[null,481,null,null,null,null,null,{"$f":"IFERROR(VLOOKUP(C500,'3)BAU排出量の推計'!$U$14:$W$35,2,FALSE),\"\")","v":""},null,null,"",null,null,{"$f":"IFERROR(VLOOKUP(C500,'3)BAU排出量の推計'!$U$14:$W$35,3,FALSE),\"\")","v":""},null,null,""]
[null,482,null,null,null,null,null,{"$f":"IFERROR(VLOOKUP(C501,'3)BAU排出量の推計'!$U$14:$W$35,2,FALSE),\"\")","v":""},null,null,"",null,null,{"$f":"IFERROR(VLOOKUP(C501,'3)BAU排出量の推計'!$U$14:$W$35,3,FALSE),\"\")","v":""},null,null,""]
[null,483,null,null,null,null,null,{"$f":"IFERROR(VLOOKUP(C502,'3)BAU排出量の推計'!$U$14:$W$35,2,FALSE),\"\")","v":""},null,null,"",null,null,{"$f":"IFERROR(VLOOKUP(C502,'3)BAU排出量の推計'!$U$14:$W$35,3,FALSE),\"\")","v":""},null,null,""]
[null,484,null,null,null,null,null,{"$f":"IFERROR(VLOOKUP(C503,'3)BAU排出量の推計'!$U$14:$W$35,2,FALSE),\"\")","v":""},null,null,"",null,null,{"$f":"IFERROR(VLOOKUP(C503,'3)BAU排出量の推計'!$U$14:$W$35,3,FALSE),\"\")","v":""},null,null,""]
[null,485,null,null,null,null,null,{"$f":"IFERROR(VLOOKUP(C504,'3)BAU排出量の推計'!$U$14:$W$35,2,FALSE),\"\")","v":""},null,null,"",null,null,{"$f":"IFERROR(VLOOKUP(C504,'3)BAU排出量の推計'!$U$14:$W$35,3,FALSE),\"\")","v":""},null,null,""]
[null,486,null,null,null,null,null,{"$f":"IFERROR(VLOOKUP(C505,'3)BAU排出量の推計'!$U$14:$W$35,2,FALSE),\"\")","v":""},null,null,"",null,null,{"$f":"IFERROR(VLOOKUP(C505,'3)BAU排出量の推計'!$U$14:$W$35,3,FALSE),\"\")","v":""},null,null,""]
[null,487,null,null,null,null,null,{"$f":"IFERROR(VLOOKUP(C506,'3)BAU排出量の推計'!$U$14:$W$35,2,FALSE),\"\")","v":""},null,null,"",null,null,{"$f":"IFERROR(VLOOKUP(C506,'3)BAU排出量の推計'!$U$14:$W$35,3,FALSE),\"\")","v":""},null,null,""]
[null,488,null,null,null,null,null,{"$f":"IFERROR(VLOOKUP(C507,'3)BAU排出量の推計'!$U$14:$W$35,2,FALSE),\"\")","v":""},null,null,"",null,null,{"$f":"IFERROR(VLOOKUP(C507,'3)BAU排出量の推計'!$U$14:$W$35,3,FALSE),\"\")","v":""},null,null,""]
[null,489,null,null,null,null,null,{"$f":"IFERROR(VLOOKUP(C508,'3)BAU排出量の推計'!$U$14:$W$35,2,FALSE),\"\")","v":""},null,null,"",null,null,{"$f":"IFERROR(VLOOKUP(C508,'3)BAU排出量の推計'!$U$14:$W$35,3,FALSE),\"\")","v":""},null,null,""]
[null,490,null,null,null,null,null,{"$f":"IFERROR(VLOOKUP(C509,'3)BAU排出量の推計'!$U$14:$W$35,2,FALSE),\"\")","v":""},null,null,"",null,null,{"$f":"IFERROR(VLOOKUP(C509,'3)BAU排出量の推計'!$U$14:$W$35,3,FALSE),\"\")","v":""},null,null,""]
[null,491,null,null,null,null,null,{"$f":"IFERROR(VLOOKUP(C510,'3)BAU排出量の推計'!$U$14:$W$35,2,FALSE),\"\")","v":""},null,null,"",null,null,{"$f":"IFERROR(VLOOKUP(C510,'3)BAU排出量の推計'!$U$14:$W$35,3,FALSE),\"\")","v":""},null,null,""]
[null,492,null,null,null,null,null,{"$f":"IFERROR(VLOOKUP(C511,'3)BAU排出量の推計'!$U$14:$W$35,2,FALSE),\"\")","v":""},null,null,"",null,null,{"$f":"IFERROR(VLOOKUP(C511,'3)BAU排出量の推計'!$U$14:$W$35,3,FALSE),\"\")","v":""},null,null,""]
[null,493,null,null,null,null,null,{"$f":"IFERROR(VLOOKUP(C512,'3)BAU排出量の推計'!$U$14:$W$35,2,FALSE),\"\")","v":""},null,null,"",null,null,{"$f":"IFERROR(VLOOKUP(C512,'3)BAU排出量の推計'!$U$14:$W$35,3,FALSE),\"\")","v":""},null,null,""]
[null,494,null,null,null,null,null,{"$f":"IFERROR(VLOOKUP(C513,'3)BAU排出量の推計'!$U$14:$W$35,2,FALSE),\"\")","v":""},null,null,"",null,null,{"$f":"IFERROR(VLOOKUP(C513,'3)BAU排出量の推計'!$U$14:$W$35,3,FALSE),\"\")","v":""},null,null,""]
[null,495,null,null,null,null,null,{"$f":"IFERROR(VLOOKUP(C514,'3)BAU排出量の推計'!$U$14:$W$35,2,FALSE),\"\")","v":""},null,null,"",null,null,{"$f":"IFERROR(VLOOKUP(C514,'3)BAU排出量の推計'!$U$14:$W$35,3,FALSE),\"\")","v":""},null,null,""]
[null,496,null,null,null,null,null,{"$f":"IFERROR(VLOOKUP(C515,'3)BAU排出量の推計'!$U$14:$W$35,2,FALSE),\"\")","v":""},null,null,"",null,null,{"$f":"IFERROR(VLOOKUP(C515,'3)BAU排出量の推計'!$U$14:$W$35,3,FALSE),\"\")","v":""},null,null,""]
[null,497,null,null,null,null,null,{"$f":"IFERROR(VLOOKUP(C516,'3)BAU排出量の推計'!$U$14:$W$35,2,FALSE),\"\")","v":""},null,null,"",null,null,{"$f":"IFERROR(VLOOKUP(C516,'3)BAU排出量の推計'!$U$14:$W$35,3,FALSE),\"\")","v":""},null,null,""]
[null,498,null,null,null,null,null,{"$f":"IFERROR(VLOOKUP(C517,'3)BAU排出量の推計'!$U$14:$W$35,2,FALSE),\"\")","v":""},null,null,"",null,null,{"$f":"IFERROR(VLOOKUP(C517,'3)BAU排出量の推計'!$U$14:$W$35,3,FALSE),\"\")","v":""},null,null,""]
[null,499,null,null,null,null,null,{"$f":"IFERROR(VLOOKUP(C518,'3)BAU排出量の推計'!$U$14:$W$35,2,FALSE),\"\")","v":""},null,null,"",null,null,{"$f":"IFERROR(VLOOKUP(C518,'3)BAU排出量の推計'!$U$14:$W$35,3,FALSE),\"\")","v":""},null,null,""]
[null,500,null,null,null,null,null,{"$f":"IFERROR(VLOOKUP(C519,'3)BAU排出量の推計'!$U$14:$W$35,2,FALSE),\"\")","v":""},null,null,"",null,null,{"$f":"IFERROR(VLOOKUP(C519,'3)BAU排出量の推計'!$U$14:$W$35,3,FALSE),\"\")","v":""},null,null,""]

{"sheet":"5)長期目標の設定","index":9,"n_rows":12,"n_cols":8,"rows_kept":12,"cut":false,"hidden":true,"merged":[[3,1,3,11]]}
[null,"5)長期の削減目標値の設定"]
[null,"メインシートに戻る"]
[]
[null,"本シートでは長期目標の目標削減率を設定します。\n１）基本設定で長期目標年を設定しなければ本シートの設定は不要です。\n長期目標はBAU排出量推計や部門／分野別の目標設定は行いません。総排出量に対して削減率を設定します。\n削減率の基準年は「基準年／現状年」から選択することができます。"]
[]
[null,null,null,null,null,null,null,"長期目標削減率の基準"]
[null,"長期目標削減率の基準",null,null,"2005年度（平成17年度）"]
[null,"長期目標削減率の基準における総排出量",null,{"$f":"IF(D7=\"基準年\",'4)短期目標の設定'!F36,IF(D7=\"現状年\",'4)短期目標の設定'!G36,\"\"))","v":""}]
[]
[null,"長期目標削減率",null,null,"％"]
[]
[null,"長期目標年における削減目標量",null,{"$f":"IF(OR(D8=\"\",D10=\"\"),\"\",D8*D10/100)","v":""},"t-CO2"]

{"sheet":"6)中期目標の設定","index":10,"n_rows":36,"n_cols":26,"rows_kept":36,"cut":false,"hidden":true,"merged":[[29,1,34,1],[33,2,33,4],[34,2,34,4],[29,2,29,4],[30,2,31,2],[30,3,30,4],[31,3,31,4],[32,2,32,4],[35,2,35,4],[9,2,9,4],[19,2,19,4],[21,2,22,3],[24,2,28,2],[24,3,25,3],[26,3,26,4],[27,3,27,4],[28,3,28,4],[14,3,14,4],[20,2,20,4],[10,12,10,21],[11,19,11,21],[9,7,9,10],[9,12,9,21],[9,23,9,25],[11,16,11,18],[10,23,10,25],[11,13,11,15],[13,1,28,1],[13,2,18,2],[13,3,13,4],[23,2,23,4],[1,1,1,2],[3,1,3,10],[15,3,16,3],[17,3,17,4],[18,3,18,4],[10,7,10,10]]}
[null,"６)中期の排出削減対策及び削減目標値の設定"]
[null,"メインシートに戻る"]
[]
[null,"\n本シートには、入力欄はありません。中期目標年のBAU排出量、削減目標量、目標排出量、基準年比削減率、フォアキャスト中期目標とバックキャスト中期目標が確認できます。\n右の「部門別目標設定」ボタンを押して中期目標年の対策・施策及び削減目標を設定してください。\n１）基本設定で中期目標年を設定しなければ本シートの設定は不要です。"]
[]
[]
[]
[]
[null,null,null,{"$f":"'4)短期目標の設定'!D9","v":0},{"$f":"'4)短期目標の設定'!E9","v":0},{"$f":"IF(D9=1,\"※電力排出係数固定済\",IF(E9=1,\"※電力排出係数補正済\",\"\"))","v":""}]
[null,"ガス種","部門／分野",null,null,"基準年","現状年","短期目標年",null,null,null,null,"中期目標年",null,null,null,null,null,null,null,null,null,null,"長期目標年"]
[null,null,null,null,null,{"$f":"IF('1)基本設定'!F21=\"\",\"\",'1)基本設定'!F21 &\"年度\")","v":"2013年度"},{"$f":"IF('1)基本設定'!F22=\"\",\"\",'1)基本設定'!F22 &\"年度\")","v":"2014年度"},{"$f":"IF('1)基本設定'!F25=\"\",\"\",'1)基本設定'!F25 &\"年度\")","v":"2030年度"},null,null,null,null,{"$f":"IF('1)基本設定'!E27=\"設定しない\",\"\",IF('1)基本設定'!F27=\"\",\"\",'1)基本設定'!F27 &\"年度\"))","v":""},null,null,null,null,null,null,null,null,null,null,{"$f":"IF('1)基本設定'!E28=\"設定しない\",\"\",IF('1)基本設定'!F28=\"\",\"\",'1)基本設定'!F28 &\"年度\"))","v":""}]
[null,null,null,null,null,null,null,{"$f":"('1)基本設定'!F25-'1)基本設定'!F22)","v":16},null,null,null,null,{"$f":"('1)基本設定'!F27-'1)基本設定'!F22)","v":-2014},"フォアキャスト中期目標",null,null,"中期目標",null,null,"バックキャスト中期目標",null,null,null,{"$f":"('1)基本設定'!F28-'1)基本設定'!F22)","v":-2014}]
[null,null,null,null,null,"排出量","排出量","BAU排出量","削減目標量","目標排出量\n（BAU排出量-削減目標量）","基準年比\n削減率",null,"BAU排出量","削減目標量","目標排出量\n（BAU排出量-削減目標量）","基準年比\n削減率","削減目標量","目標排出量\n（BAU排出量-削減目標量）","基準年比\n削減率","削減目標量","目標排出量\n（BAU排出量-削減目標量）","基準年比\n削減率",null,"削減目標量","目標排出量","基準年比\n削減率"]
[{"$f":"'3)BAU排出量の推計'!A14","v":1},"エネルギー起源CO2","産業部門","製造業",null,{"$f":"IF('4)短期目標の設定'!F14=\"\",\"\",'4)短期目標の設定'!F14)","v":""},{"$f":"IF('4)短期目標の設定'!G14=\"\",\"\",'4)短期目標の設定'!G14)","v":""},{"$f":"IF('4)短期目標の設定'!H14=\"\",\"\",'4)短期目標の設定'!H14)","v":""},{"$f":"IF('4)短期目標の設定'!I14=\"\",\"\",'4)短期目標の設定'!I14)","v":0},{"$f":"IF('4)短期目標の設定'!J14=\"\",\"\",'4)短期目標の設定'!J14)","v":""},{"$f":"IF('4)短期目標の設定'!K14=\"\",\"\",'4)短期目標の設定'!K14)","v":""},null,{"$f":"IF($M$11=\"\",\"\",IF($E$9=1,IF('3)BAU排出量の推計'!P14=\"\",\"\",'3)BAU排出量の推計'!P14),IF('3)BAU排出量の推計'!M14=\"\",\"\",'3)BAU排出量の推計'!M14)))","v":""},{"$f":"IF($M$11=\"\",\"\",IF(OR(I14=\"\",H14=\"\"),\"\",IF(OR(I14=0,H14=0),0,((I14/H14)/$H$12)*$M$12*M14)))","v":""},{"$f":"IF(N14=\"\",M14,IF(ISERROR(M14-N14),\"\",M14-N14))","v":""},{"$f":"IF($M$11=\"\",\"\",IF(F14=\"\",\"\",IF(F14=0,0,IF(O14=\"\",\"\",(1-(O14/F14))))))","v":""},null,{"$f":"IF(ISERROR(M14-Q14),\"\",M14-Q14)","v":""},{"$f":"IF($M$11=\"\",\"\",IF(F14=\"\",\"\",IF(F14=0,0,IF(R14=\"\",\"\",(1-(R14/F14))))))","v":""},{"$f":"IF($X$11=\"\",\"\",IF($T$36=\"\",\"\",IF($T$36=0,0,IF(ISERROR((M14/$M$36)*$T$36),\"\",(M14/$M$36)*$T$36))))","v":""},{"$f":"IF($X$11=\"\",\"\",IF(T14=\"\",M14,IF(ISERROR(M14-T14),\"\",M14-T14)))","v":""},{"$f":"IF($X$11=\"\",\"\",IF($M$11=\"\",\"\",IF(F14=\"\",\"\",IF(F14=0,0,IF(U14=\"\",\"\",(1-(U14/F14)))))))","v":""}]
[{"$f":"'3)BAU排出量の推計'!A15","v":0},null,null,"製造業",null,{"$f":"IF('4)短期目標の設定'!F15=\"\",\"\",'4)短期目標の設定'!F15)","v":0},{"$f":"IF('4)短期目標の設定'!G15=\"\",\"\",'4)短期目標の設定'!G15)","v":0},{"$f":"IF('4)短期目標の設定'!H15=\"\",\"\",'4)短期目標の設定'!H15)","v":0},{"$f":"IF('4)短期目標の設定'!I15=\"\",\"\",'4)短期目標の設定'!I15)","v":0},{"$f":"IF('4)短期目標の設定'!J15=\"\",\"\",'4)短期目標の設定'!J15)","v":0},{"$f":"IF('4)短期目標の設定'!K15=\"\",\"\",'4)短期目標の設定'!K15)","v":0},null,{"$f":"IF($M$11=\"\",\"\",IF($E$9=1,IF('3)BAU排出量の推計'!P15=\"\",\"\",'3)BAU排出量の推計'!P15),IF('3)BAU排出量の推計'!M15=\"\",\"\",'3)BAU排出量の推計'!M15)))","v":""},{"$f":"IF($M$11=\"\",\"\",IF(OR(I15=\"\",H15=\"\"),\"\",IF(OR(I15=0,H15=0),0,((I15/H15)/$H$12)*$M$12*M15)))","v":""},{"$f":"IF(N15=\"\",M15,IF(ISERROR(M15-N15),\"\",M15-N15))","v":""},{"$f":"IF($M$11=\"\",\"\",IF(F15=\"\",\"\",IF(F15=0,0,IF(O15=\"\",\"\",(1-(O15/F15))))))","v":""},{"$f":"SUM(Q16:Q17)","v":0},{"$f":"IF(ISERROR(M15-Q15),\"\",M15-Q15)","v":""},{"$f":"IF($M$11=\"\",\"\",IF(F15=\"\",\"\",IF(F15=0,0,IF(R15=\"\",\"\",(1-(R15/F15))))))","v":""},{"$f":"IF($X$11=\"\",\"\",IF($T$36=\"\",\"\",IF($T$36=0,0,IF(ISERROR((M15/$M$36)*$T$36),\"\",(M15/$M$36)*$T$36))))","v":""},{"$f":"IF($X$11=\"\",\"\",IF(T15=\"\",M15,IF(ISERROR(M15-T15),\"\",M15-T15)))","v":""},{"$f":"IF($X$11=\"\",\"\",IF($M$11=\"\",\"\",IF(F15=\"\",\"\",IF(F15=0,0,IF(U15=\"\",\"\",(1-(U15/F15)))))))","v":""}]
[{"$f":"'3)BAU排出量の推計'!A16","v":0},null,null,null,"大規模",{"$f":"IF('4)短期目標の設定'!F16=\"\",\"\",'4)短期目標の設定'!F16)","v":""},{"$f":"IF('4)短期目標の設定'!G16=\"\",\"\",'4)短期目標の設定'!G16)","v":""},{"$f":"IF('4)短期目標の設定'!H16=\"\",\"\",'4)短期目標の設定'!H16)","v":""},{"$f":"IF('4)短期目標の設定'!I16=\"\",\"\",'4)短期目標の設定'!I16)","v":""},{"$f":"IF('4)短期目標の設定'!J16=\"\",\"\",'4)短期目標の設定'!J16)","v":""},{"$f":"IF('4)短期目標の設定'!K16=\"\",\"\",'4)短期目標の設定'!K16)","v":""},null,{"$f":"IF($M$11=\"\",\"\",IF($E$9=1,IF('3)BAU排出量の推計'!P16=\"\",\"\",'3)BAU排出量の推計'!P16),IF('3)BAU排出量の推計'!M16=\"\",\"\",'3)BAU排出量の推計'!M16)))","v":""},{"$f":"IF($M$11=\"\",\"\",IF(OR(I16=\"\",H16=\"\"),\"\",IF(OR(I16=0,H16=0),0,((I16/H16)/$H$12)*$M$12*M16)))","v":""},"","",null,"","","","",""]
[{"$f":"'3)BAU排出量の推計'!A17","v":0},null,null,null,"中小規模",{"$f":"IF('4)短期目標の設定'!F17=\"\",\"\",'4)短期目標の設定'!F17)","v":""},{"$f":"IF('4)短期目標の設定'!G17=\"\",\"\",'4)短期目標の設定'!G17)","v":""},{"$f":"IF('4)短期目標の設定'!H17=\"\",\"\",'4)短期目標の設定'!H17)","v":""},{"$f":"IF('4)短期目標の設定'!I17=\"\",\"\",'4)短期目標の設定'!I17)","v":""},{"$f":"IF('4)短期目標の設定'!J17=\"\",\"\",'4)短期目標の設定'!J17)","v":""},{"$f":"IF('4)短期目標の設定'!K17=\"\",\"\",'4)短期目標の設定'!K17)","v":""},null,{"$f":"IF($M$11=\"\",\"\",IF($E$9=1,IF('3)BAU排出量の推計'!P17=\"\",\"\",'3)BAU排出量の推計'!P17),IF('3)BAU排出量の推計'!M17=\"\",\"\",'3)BAU排出量の推計'!M17)))","v":""},"","","",null,"","","","",""]
[{"$f":"'3)BAU排出量の推計'!A18","v":1},null,null,"建設業・鉱業",null,{"$f":"IF('4)短期目標の設定'!F18=\"\",\"\",'4)短期目標の設定'!F18)","v":""},{"$f":"IF('4)短期目標の設定'!G18=\"\",\"\",'4)短期目標の設定'!G18)","v":""},{"$f":"IF('4)短期目標の設定'!H18=\"\",\"\",'4)短期目標の設定'!H18)","v":""},{"$f":"IF('4)短期目標の設定'!I18=\"\",\"\",'4)短期目標の設定'!I18)","v":0},{"$f":"IF('4)短期目標の設定'!J18=\"\",\"\",'4)短期目標の設定'!J18)","v":""},{"$f":"IF('4)短期目標の設定'!K18=\"\",\"\",'4)短期目標の設定'!K18)","v":""},null,{"$f":"IF($M$11=\"\",\"\",IF($E$9=1,IF('3)BAU排出量の推計'!P18=\"\",\"\",'3)BAU排出量の推計'!P18),IF('3)BAU排出量の推計'!M18=\"\",\"\",'3)BAU排出量の推計'!M18)))","v":""},"","","",null,"","","","",""]
[{"$f":"'3)BAU排出量の推計'!A19","v":1},null,null,"農林水産業",null,{"$f":"IF('4)短期目標の設定'!F19=\"\",\"\",'4)短期目標の設定'!F19)","v":""},{"$f":"IF('4)短期目標の設定'!G19=\"\",\"\",'4)短期目標の設定'!G19)","v":""},{"$f":"IF('4)短期目標の設定'!H19=\"\",\"\",'4)短期目標の設定'!H19)","v":""},{"$f":"IF('4)短期目標の設定'!I19=\"\",\"\",'4)短期目標の設定'!I19)","v":0},{"$f":"IF('4)短期目標の設定'!J19=\"\",\"\",'4)短期目標の設定'!J19)","v":""},{"$f":"IF('4)短期目標の設定'!K19=\"\",\"\",'4)短期目標の設定'!K19)","v":""},null,{"$f":"IF($M$11=\"\",\"\",IF($E$9=1,IF('3)BAU排出量の推計'!P19=\"\",\"\",'3)BAU排出量の推計'!P19),IF('3)BAU排出量の推計'!M19=\"\",\"\",'3)BAU排出量の推計'!M19)))","v":""},"","","",null,"","","","",""]
[{"$f":"'3)BAU排出量の推計'!A20","v":1},null,"業務その他部門",null,null,{"$f":"IF('4)短期目標の設定'!F20=\"\",\"\",'4)短期目標の設定'!F20)","v":""},{"$f":"IF('4)短期目標の設定'!G20=\"\",\"\",'4)短期目標の設定'!G20)","v":""},{"$f":"IF('4)短期目標の設定'!H20=\"\",\"\",'4)短期目標の設定'!H20)","v":""},{"$f":"IF('4)短期目標の設定'!I20=\"\",\"\",'4)短期目標の設定'!I20)","v":0},{"$f":"IF('4)短期目標の設定'!J20=\"\",\"\",'4)短期目標の設定'!J20)","v":""},{"$f":"IF('4)短期目標の設定'!K20=\"\",\"\",'4)短期目標の設定'!K20)","v":""},null,{"$f":"IF($M$11=\"\",\"\",IF($E$9=1,IF('3)BAU排出量の推計'!P20=\"\",\"\",'3)BAU排出量の推計'!P20),IF('3)BAU排出量の推計'!M20=\"\",\"\",'3)BAU排出量の推計'!M20)))","v":""},"","","",null,{"$f":"IF(ISERROR(M20-Q20),\"\",M20-Q20)","v":""},"","","",""]
[{"$f":"'3)BAU排出量の推計'!A21","v":0},null,"業務その他部門",null,null,{"$f":"IF('4)短期目標の設定'!F21=\"\",\"\",'4)短期目標の設定'!F21)","v":0},{"$f":"IF('4)短期目標の設定'!G21=\"\",\"\",'4)短期目標の設定'!G21)","v":0},{"$f":"IF('4)短期目標の設定'!H21=\"\",\"\",'4)短期目標の設定'!H21)","v":0},{"$f":"IF('4)短期目標の設定'!I21=\"\",\"\",'4)短期目標の設定'!I21)","v":0},{"$f":"IF('4)短期目標の設定'!J21=\"\",\"\",'4)短期目標の設定'!J21)","v":0},{"$f":"IF('4)短期目標の設定'!K21=\"\",\"\",'4)短期目標の設定'!K21)","v":0},null,{"$f":"IF($M$11=\"\",\"\",IF($E$9=1,IF('3)BAU排出量の推計'!P21=\"\",\"\",'3)BAU排出量の推計'!P21),IF('3)BAU排出量の推計'!M21=\"\",\"\",'3)BAU排出量の推計'!M21)))","v":""},"","","",{"$f":"SUM(Q22:Q23)","v":0},{"$f":"IF(ISERROR(M21-Q21),\"\",M21-Q21)","v":""},"","","",""]
[{"$f":"'3)BAU排出量の推計'!A22","v":0},null,null,null,"大規模",{"$f":"IF('4)短期目標の設定'!F22=\"\",\"\",'4)短期目標の設定'!F22)","v":""},{"$f":"IF('4)短期目標の設定'!G22=\"\",\"\",'4)短期目標の設定'!G22)","v":""},{"$f":"IF('4)短期目標の設定'!H22=\"\",\"\",'4)短期目標の設定'!H22)","v":""},{"$f":"IF('4)短期目標の設定'!I22=\"\",\"\",'4)短期目標の設定'!I22)","v":""},{"$f":"IF('4)短期目標の設定'!J22=\"\",\"\",'4)短期目標の設定'!J22)","v":""},{"$f":"IF('4)短期目標の設定'!K22=\"\",\"\",'4)短期目標の設定'!K22)","v":""},null,{"$f":"IF($M$11=\"\",\"\",IF($E$9=1,IF('3)BAU排出量の推計'!P22=\"\",\"\",'3)BAU排出量の推計'!P22),IF('3)BAU排出量の推計'!M22=\"\",\"\",'3)BAU排出量の推計'!M22)))","v":""},"","","",null,{"$f":"IF(ISERROR(M22-Q22),\"\",M22-Q22)","v":""},"","","",""]
[{"$f":"'3)BAU排出量の推計'!A23","v":0},null,null,null,"中小規模",{"$f":"IF('4)短期目標の設定'!F23=\"\",\"\",'4)短期目標の設定'!F23)","v":""},{"$f":"IF('4)短期目標の設定'!G23=\"\",\"\",'4)短期目標の設定'!G23)","v":""},{"$f":"IF('4)短期目標の設定'!H23=\"\",\"\",'4)短期目標の設定'!H23)","v":""},{"$f":"IF('4)短期目標の設定'!I23=\"\",\"\",'4)短期目標の設定'!I23)","v":""},{"$f":"IF('4)短期目標の設定'!J23=\"\",\"\",'4)短期目標の設定'!J23)","v":""},{"$f":"IF('4)短期目標の設定'!K23=\"\",\"\",'4)短期目標の設定'!K23)","v":""},null,{"$f":"IF($M$11=\"\",\"\",IF($E$9=1,IF('3)BAU排出量の推計'!P23=\"\",\"\",'3)BAU排出量の推計'!P23),IF('3)BAU排出量の推計'!M23=\"\",\"\",'3)BAU排出量の推計'!M23)))","v":""},"","","",null,{"$f":"IF(ISERROR(M23-Q23),\"\",M23-Q23)","v":""},"","","",""]
[{"$f":"'3)BAU排出量の推計'!A24","v":1},null,"家庭部門",null,null,{"$f":"IF('4)短期目標の設定'!F24=\"\",\"\",'4)短期目標の設定'!F24)","v":""},{"$f":"IF('4)短期目標の設定'!G24=\"\",\"\",'4)短期目標の設定'!G24)","v":""},{"$f":"IF('4)短期目標の設定'!H24=\"\",\"\",'4)短期目標の設定'!H24)","v":""},{"$f":"IF('4)短期目標の設定'!I24=\"\",\"\",'4)短期目標の設定'!I24)","v":0},{"$f":"IF('4)短期目標の設定'!J24=\"\",\"\",'4)短期目標の設定'!J24)","v":""},{"$f":"IF('4)短期目標の設定'!K24=\"\",\"\",'4)短期目標の設定'!K24)","v":""},null,{"$f":"IF($M$11=\"\",\"\",IF($E$9=1,IF('3)BAU排出量の推計'!P24=\"\",\"\",'3)BAU排出量の推計'!P24),IF('3)BAU排出量の推計'!M24=\"\",\"\",'3)BAU排出量の推計'!M24)))","v":""},"","","",null,"","","","",""]
[{"$f":"'3)BAU排出量の推計'!A25","v":1},null,"運輸部門","自動車","旅客",{"$f":"IF('4)短期目標の設定'!F25=\"\",\"\",'4)短期目標の設定'!F25)","v":""},{"$f":"IF('4)短期目標の設定'!G25=\"\",\"\",'4)短期目標の設定'!G25)","v":""},{"$f":"IF('4)短期目標の設定'!H25=\"\",\"\",'4)短期目標の設定'!H25)","v":""},{"$f":"IF('4)短期目標の設定'!I25=\"\",\"\",'4)短期目標の設定'!I25)","v":0},{"$f":"IF('4)短期目標の設定'!J25=\"\",\"\",'4)短期目標の設定'!J25)","v":""},{"$f":"IF('4)短期目標の設定'!K25=\"\",\"\",'4)短期目標の設定'!K25)","v":""},null,{"$f":"IF($M$11=\"\",\"\",IF($E$9=1,IF('3)BAU排出量の推計'!P25=\"\",\"\",'3)BAU排出量の推計'!P25),IF('3)BAU排出量の推計'!M25=\"\",\"\",'3)BAU排出量の推計'!M25)))","v":""},"","","",null,"","","","",""]
[{"$f":"'3)BAU排出量の推計'!A26","v":1},null,null,null,"貨物",{"$f":"IF('4)短期目標の設定'!F26=\"\",\"\",'4)短期目標の設定'!F26)","v":""},{"$f":"IF('4)短期目標の設定'!G26=\"\",\"\",'4)短期目標の設定'!G26)","v":""},{"$f":"IF('4)短期目標の設定'!H26=\"\",\"\",'4)短期目標の設定'!H26)","v":""},{"$f":"IF('4)短期目標の設定'!I26=\"\",\"\",'4)短期目標の設定'!I26)","v":0},{"$f":"IF('4)短期目標の設定'!J26=\"\",\"\",'4)短期目標の設定'!J26)","v":""},{"$f":"IF('4)短期目標の設定'!K26=\"\",\"\",'4)短期目標の設定'!K26)","v":""},null,{"$f":"IF($M$11=\"\",\"\",IF($E$9=1,IF('3)BAU排出量の推計'!P26=\"\",\"\",'3)BAU排出量の推計'!P26),IF('3)BAU排出量の推計'!M26=\"\",\"\",'3)BAU排出量の推計'!M26)))","v":""},"","","",null,"","","","",""]
[{"$f":"'3)BAU排出量の推計'!A27","v":1},null,null,"鉄道",null,{"$f":"IF('4)短期目標の設定'!F27=\"\",\"\",'4)短期目標の設定'!F27)","v":""},{"$f":"IF('4)短期目標の設定'!G27=\"\",\"\",'4)短期目標の設定'!G27)","v":""},{"$f":"IF('4)短期目標の設定'!H27=\"\",\"\",'4)短期目標の設定'!H27)","v":""},{"$f":"IF('4)短期目標の設定'!I27=\"\",\"\",'4)短期目標の設定'!I27)","v":0},{"$f":"IF('4)短期目標の設定'!J27=\"\",\"\",'4)短期目標の設定'!J27)","v":""},{"$f":"IF('4)短期目標の設定'!K27=\"\",\"\",'4)短期目標の設定'!K27)","v":""},null,{"$f":"IF($M$11=\"\",\"\",IF($E$9=1,IF('3)BAU排出量の推計'!P27=\"\",\"\",'3)BAU排出量の推計'!P27),IF('3)BAU排出量の推計'!M27=\"\",\"\",'3)BAU排出量の推計'!M27)))","v":""},"","","",null,"","","","",""]
[{"$f":"'3)BAU排出量の推計'!A28","v":1},null,null,"船舶",null,{"$f":"IF('4)短期目標の設定'!F28=\"\",\"\",'4)短期目標の設定'!F28)","v":""},{"$f":"IF('4)短期目標の設定'!G28=\"\",\"\",'4)短期目標の設定'!G28)","v":""},{"$f":"IF('4)短期目標の設定'!H28=\"\",\"\",'4)短期目標の設定'!H28)","v":""},{"$f":"IF('4)短期目標の設定'!I28=\"\",\"\",'4)短期目標の設定'!I28)","v":0},{"$f":"IF('4)短期目標の設定'!J28=\"\",\"\",'4)短期目標の設定'!J28)","v":""},{"$f":"IF('4)短期目標の設定'!K28=\"\",\"\",'4)短期目標の設定'!K28)","v":""},null,{"$f":"IF($M$11=\"\",\"\",IF($E$9=1,IF('3)BAU排出量の推計'!P28=\"\",\"\",'3)BAU排出量の推計'!P28),IF('3)BAU排出量の推計'!M28=\"\",\"\",'3)BAU排出量の推計'!M28)))","v":""},"","","",null,"","","","",""]
[{"$f":"'3)BAU排出量の推計'!A29","v":1},null,null,"航空",null,{"$f":"IF('4)短期目標の設定'!F29=\"\",\"\",'4)短期目標の設定'!F29)","v":""},{"$f":"IF('4)短期目標の設定'!G29=\"\",\"\",'4)短期目標の設定'!G29)","v":""},{"$f":"IF('4)短期目標の設定'!H29=\"\",\"\",'4)短期目標の設定'!H29)","v":""},{"$f":"IF('4)短期目標の設定'!I29=\"\",\"\",'4)短期目標の設定'!I29)","v":0},{"$f":"IF('4)短期目標の設定'!J29=\"\",\"\",'4)短期目標の設定'!J29)","v":""},{"$f":"IF('4)短期目標の設定'!K29=\"\",\"\",'4)短期目標の設定'!K29)","v":""},null,{"$f":"IF($M$11=\"\",\"\",IF($E$9=1,IF('3)BAU排出量の推計'!P29=\"\",\"\",'3)BAU排出量の推計'!P29),IF('3)BAU排出量の推計'!M29=\"\",\"\",'3)BAU排出量の推計'!M29)))","v":""},"","","",null,"","","","",""]
[{"$f":"'3)BAU排出量の推計'!A30","v":1},"エネルギー起源CO2以外","工業プロセス分野",null,null,{"$f":"IF('4)短期目標の設定'!F30=\"\",\"\",'4)短期目標の設定'!F30)","v":""},{"$f":"IF('4)短期目標の設定'!G30=\"\",\"\",'4)短期目標の設定'!G30)","v":""},{"$f":"IF('4)短期目標の設定'!H30=\"\",\"\",'4)短期目標の設定'!H30)","v":""},{"$f":"IF('4)短期目標の設定'!I30=\"\",\"\",'4)短期目標の設定'!I30)","v":0},{"$f":"IF('4)短期目標の設定'!J30=\"\",\"\",'4)短期目標の設定'!J30)","v":""},{"$f":"IF('4)短期目標の設定'!K30=\"\",\"\",'4)短期目標の設定'!K30)","v":""},null,{"$f":"IF($M$11=\"\",\"\",IF($E$9=1,IF('3)BAU排出量の推計'!P30=\"\",\"\",'3)BAU排出量の推計'!P30),IF('3)BAU排出量の推計'!M30=\"\",\"\",'3)BAU排出量の推計'!M30)))","v":""},"","","",null,"","","","",""]
[{"$f":"'3)BAU排出量の推計'!A31","v":1},null,"廃棄物分野","一般廃棄物",null,{"$f":"IF('4)短期目標の設定'!F31=\"\",\"\",'4)短期目標の設定'!F31)","v":""},{"$f":"IF('4)短期目標の設定'!G31=\"\",\"\",'4)短期目標の設定'!G31)","v":""},{"$f":"IF('4)短期目標の設定'!H31=\"\",\"\",'4)短期目標の設定'!H31)","v":""},{"$f":"IF('4)短期目標の設定'!I31=\"\",\"\",'4)短期目標の設定'!I31)","v":0},{"$f":"IF('4)短期目標の設定'!J31=\"\",\"\",'4)短期目標の設定'!J31)","v":""},{"$f":"IF('4)短期目標の設定'!K31=\"\",\"\",'4)短期目標の設定'!K31)","v":""},null,{"$f":"IF($M$11=\"\",\"\",IF($E$9=1,IF('3)BAU排出量の推計'!P31=\"\",\"\",'3)BAU排出量の推計'!P31),IF('3)BAU排出量の推計'!M31=\"\",\"\",'3)BAU排出量の推計'!M31)))","v":""},"","","",null,"","","","",""]
[{"$f":"'3)BAU排出量の推計'!A32","v":1},null,null,"産業廃棄物",null,{"$f":"IF('4)短期目標の設定'!F32=\"\",\"\",'4)短期目標の設定'!F32)","v":""},{"$f":"IF('4)短期目標の設定'!G32=\"\",\"\",'4)短期目標の設定'!G32)","v":""},{"$f":"IF('4)短期目標の設定'!H32=\"\",\"\",'4)短期目標の設定'!H32)","v":""},{"$f":"IF('4)短期目標の設定'!I32=\"\",\"\",'4)短期目標の設定'!I32)","v":0},{"$f":"IF('4)短期目標の設定'!J32=\"\",\"\",'4)短期目標の設定'!J32)","v":""},{"$f":"IF('4)短期目標の設定'!K32=\"\",\"\",'4)短期目標の設定'!K32)","v":""},null,{"$f":"IF($M$11=\"\",\"\",IF($E$9=1,IF('3)BAU排出量の推計'!P32=\"\",\"\",'3)BAU排出量の推計'!P32),IF('3)BAU排出量の推計'!M32=\"\",\"\",'3)BAU排出量の推計'!M32)))","v":""},"","","",null,"","","","",""]
[{"$f":"'3)BAU排出量の推計'!A33","v":1},null,"農業分野",null,null,{"$f":"IF('4)短期目標の設定'!F33=\"\",\"\",'4)短期目標の設定'!F33)","v":""},{"$f":"IF('4)短期目標の設定'!G33=\"\",\"\",'4)短期目標の設定'!G33)","v":""},{"$f":"IF('4)短期目標の設定'!H33=\"\",\"\",'4)短期目標の設定'!H33)","v":""},{"$f":"IF('4)短期目標の設定'!I33=\"\",\"\",'4)短期目標の設定'!I33)","v":0},{"$f":"IF('4)短期目標の設定'!J33=\"\",\"\",'4)短期目標の設定'!J33)","v":""},{"$f":"IF('4)短期目標の設定'!K33=\"\",\"\",'4)短期目標の設定'!K33)","v":""},null,{"$f":"IF($M$11=\"\",\"\",IF($E$9=1,IF('3)BAU排出量の推計'!P33=\"\",\"\",'3)BAU排出量の推計'!P33),IF('3)BAU排出量の推計'!M33=\"\",\"\",'3)BAU排出量の推計'!M33)))","v":""},"","","",null,"","","","",""]
[{"$f":"'3)BAU排出量の推計'!A34","v":1},null,"代替フロン等4ガス分野",null,null,{"$f":"IF('4)短期目標の設定'!F34=\"\",\"\",'4)短期目標の設定'!F34)","v":""},{"$f":"IF('4)短期目標の設定'!G34=\"\",\"\",'4)短期目標の設定'!G34)","v":""},{"$f":"IF('4)短期目標の設定'!H34=\"\",\"\",'4)短期目標の設定'!H34)","v":""},{"$f":"IF('4)短期目標の設定'!I34=\"\",\"\",'4)短期目標の設定'!I34)","v":0},{"$f":"IF('4)短期目標の設定'!J34=\"\",\"\",'4)短期目標の設定'!J34)","v":""},{"$f":"IF('4)短期目標の設定'!K34=\"\",\"\",'4)短期目標の設定'!K34)","v":""},null,{"$f":"IF($M$11=\"\",\"\",IF($E$9=1,IF('3)BAU排出量の推計'!P34=\"\",\"\",'3)BAU排出量の推計'!P34),IF('3)BAU排出量の推計'!M34=\"\",\"\",'3)BAU排出量の推計'!M34)))","v":""},{"$f":"IF($M$11=\"\",\"\",IF(OR(I34=\"\",H34=\"\"),\"\",IF(OR(I34=0,H34=0),0,((I34/H34)/$H$12)*$M$12*M34)))","v":""},"","",null,"","","","",""]
[1,null,"吸収",null,null,null,null,null,{"$f":"IF('4)短期目標の設定'!I35=\"\",\"\",'4)短期目標の設定'!I35)","v":0}]
[null,"合計",null,null,null,{"$f":"SUM(F14:F35)-F15-F21","v":0},{"$f":"SUM(G14:G35)-G15-G21","v":0},{"$f":"SUM(H14:H35)-H15-H21","v":0},{"$f":"SUM(I14:I35)-I15-I21","v":0},{"$f":"SUM(J14:J35)-J15-J21","v":0},{"$f":"IF('4)短期目標の設定'!K36=\"\",\"\",'4)短期目標の設定'!K36)","v":0},null,{"$f":"IF($M$11=\"\",\"\",SUM(M14:M35)-SUM(M15)-SUM(M21))","v":""},{"$f":"IF($M$11=\"\",\"\",SUM(N14:N35)-SUM(N15)-SUM(N21))","v":""},{"$f":"IF($M$11=\"\",\"\",SUM(O14:O35)-SUM(O15)-SUM(O21))","v":""},"",{"$f":"IF($M$11=\"\",\"\",SUM(Q14:Q35)-SUM(Q15)-SUM(Q21))","v":""},{"$f":"IF($M$11=\"\",\"\",SUM(R14:R35)-SUM(R15)-SUM(R21))","v":""},"",{"$f":"IF($X$11=\"\",\"\",IF($M$11=\"\",\"\",SUM(M36)-(U36)))","v":""},{"$f":"IF($X$11=\"\",\"\",IF($M$11=\"\",\"\",(G36-((G36-Y36)/X12*M12))))","v":""},{"$f":"IF($X$11=\"\",\"\",IF($M$11=\"\",\"\",IF(F36=\"\",\"\",IF(F36=0,0,IF(U36=\"\",\"\",(1-(U36/F36)))))))","v":""},null,{"$f":"IF(X11=\"\",\"\",IF('5)長期目標の設定'!D12=\"\",\"\",'5)長期目標の設定'!D12))","v":""},{"$f":"IF(X11=\"\",\"\",IF(OR('5)長期目標の設定'!D8=\"\",'5)長期目標の設定'!D12=\"\"),\"\",'5)長期目標の設定'!D8-'5)長期目標の設定'!D12))","v":""},{"$f":"IF(X11=\"\",\"\",IF(OR(Y36=\"\",F36=\"\"),\"\",IF(OR(Y36=0,F36=0),0,IF(ISERROR(1-(Y36/F36)),\"\",1-(Y36/F36)))))","v":""}]

{"sheet":"7)目標設定結果とグラフ","index":11,"n_rows":171,"n_cols":32,"rows_kept":171,"cut":false,"hidden":true,"merged":[[13,1,30,1],[14,31,16,31],[21,31,23,31],[3,1,3,13],[8,2,8,4],[8,5,8,19],[10,5,10,6],[10,7,10,8],[10,9,10,12],[10,13,10,16],[10,17,10,19],[9,5,9,6],[9,7,9,8],[10,23,10,26],[10,27,10,30],[11,5,11,6],[11,7,11,8],[11,9,12,9],[11,10,12,10],[11,11,12,11],[11,28,12,28],[11,16,12,16],[11,29,12,29],[11,19,12,19],[11,23,12,23],[11,24,12,24],[8,21,8,31],[11,30,12,30],[11,25,12,25],[11,26,12,26],[11,27,12,27],[11,21,12,21],[11,22,12,22],[9,9,9,12],[9,13,9,16],[9,17,9,19],[9,23,9,26],[9,27,9,30],[24,2,24,4],[11,17,12,17],[11,18,12,18],[13,3,13,4],[15,3,16,3],[17,3,17,4],[18,3,18,4],[11,12,12,12],[11,13,12,13],[11,14,12,14],[11,15,12,15],[13,2,19,2],[22,2,23,3],[21,2,21,4],[14,3,14,4],[20,2,20,4],[38,2,38,4],[25,2,30,2],[25,3,26,3],[27,3,27,4],[28,3,28,4],[29,3,29,4],[31,1,37,1],[31,2,31,4],[32,3,32,4],[33,3,33,4],[35,2,35,4],[32,2,34,2],[36,2,36,4],[37,2,37,4],[41,17,41,19],[42,1,42,4],[41,1,41,4],[41,5,41,6],[44,1,46,13],[45,14,45,19],[41,7,41,8],[41,9,41,12],[41,13,41,16]]}
[1,"7)目標設定結果とグラフ"]
[null,"メインシートに戻る"]
[]
[null,"\n本シートでは１）～６）シートで入力・設定した内容を自動で一覧に表示、グラフ化します。\n１）シートで人口を入力している場合には人口１人当たりの総排出量を自動算出します。\n目標年の排出量合計値は合計と合計（森林吸収による削減量を加味しない場合）の両方を表示しています。\n基準年と現状年の電力排出係数固定をしている場合には、電力排出係数固定前の列に電力排出係数を固定する前の排出量が転記されます。"]
[]
[]
[]
[]
[null,"ガス種","部門／分野",null,null,"総量目標",null,null,null,null,null,null,null,null,null,null,null,null,null,null,null,"原単位目標"]
[null,null,null,null,null,"基準年",null,"現状年",null,"短期目標年",null,null,null,"中期目標",null,null,null,"長期目標",null,null,null,"基準年","現状年","短期目標",null,null,null,"中期目標",null,null,null,"活動量"]
[null,null,null,null,null,{"$f":"IF('1)基本設定'!F21=\"\",\"\",'1)基本設定'!F21 &\"年度\")","v":"2013年度"},null,{"$f":"IF('1)基本設定'!F22=\"\",\"\",'1)基本設定'!F22 &\"年度\")","v":"2014年度"},null,{"$f":"IF('1)基本設定'!F25=\"\",\"\",'1)基本設定'!F25 &\"年度\")","v":"2030年度"},null,null,null,{"$f":"IF('1)基本設定'!E27=\"設定しない\",\"\",IF('1)基本設定'!F27=\"\",\"\",'1)基本設定'!F27 &\"年度\"))","v":""},null,null,null,{"$f":"IF('1)基本設定'!E28=\"設定しない\",\"\",IF('1)基本設定'!F28=\"\",\"\",'1)基本設定'!F28 &\"年度\"))","v":""},null,null,null,{"$f":"IF('1)基本設定'!F21=\"\",\"\",'1)基本設定'!F21 &\"年度\")","v":"2013年度"},{"$f":"IF('1)基本設定'!F22=\"\",\"\",'1)基本設定'!F22 &\"年度\")","v":"2014年度"},{"$f":"IF('1)基本設定'!F25=\"\",\"\",'1)基本設定'!F25 &\"年度\")","v":"2030年度"},null,null,null,{"$f":"IF('1)基本設定'!E27=\"設定しない\",\"\",IF('1)基本設定'!F27=\"\",\"\",'1)基本設定'!F27 &\"年度\"))","v":""}]
[null,null,null,null,null,"排出量",null,"排出量",null,"BAU排出量","削減目標量","目標排出量","基準年比\n削減率","BAU排出量","削減目標量","目標排出量","基準年比\n削減率","削減目標量","目標排出量","基準年比\n削減率",null,"原単位","原単位","BAU原単位","原単位\n削減目標量","目標原単位","基準年比\n原単位削減率","BAU原単位","原単位\n削減目標量","目標原単位","基準年比\n原単位削減率","単位"]
[null,null,null,null,null,null,"電力排出係数固定前",null,"電力排出係数固定前"]
[{"$f":"'3)BAU排出量の推計'!A14","v":1},"エネルギー起源CO2","産業部門","製造業",null,{"$f":"IF('2)現況推計結果の入力'!$M$9=1,IF('2)現況推計結果の入力'!M14=\"\",\"\",'2)現況推計結果の入力'!M14),IF('2)現況推計結果の入力'!F14=\"\",\"\",'2)現況推計結果の入力'!F14))","v":""},{"$f":"IF(F14=\"\",\"\",IF('2)現況推計結果の入力'!$M$9=1,'2)現況推計結果の入力'!F14,\"\"))","v":""},{"$f":"IF('3)BAU排出量の推計'!F14=\"\",\"\",'3)BAU排出量の推計'!F14)","v":""},{"$f":"IF(H14=\"\",\"\",IF('2)現況推計結果の入力'!$M$9=1,'2)現況推計結果の入力'!J14,\"\"))","v":""},{"$f":"IF('6)中期目標の設定'!H14=\"\",\"\",'6)中期目標の設定'!H14)","v":""},{"$f":"IF('6)中期目標の設定'!I14=\"\",\"\",'6)中期目標の設定'!I14)","v":0},{"$f":"IF('6)中期目標の設定'!J14=\"\",\"\",'6)中期目標の設定'!J14)","v":""},{"$f":"IF('6)中期目標の設定'!K14=\"\",\"\",'6)中期目標の設定'!K14)","v":""},{"$f":"IF('6)中期目標の設定'!M14=\"\",\"\",'6)中期目標の設定'!M14)","v":""},{"$f":"IF('6)中期目標の設定'!Q14=\"\",\"\",'6)中期目標の設定'!Q14)","v":""},{"$f":"IF('6)中期目標の設定'!R14=\"\",\"\",'6)中期目標の設定'!R14)","v":""},{"$f":"IF('6)中期目標の設定'!S14=\"\",\"\",'6)中期目標の設定'!S14)","v":""},null,null,null,null,{"$f":"IF('4)短期目標の設定'!M14=\"\",\"\",'4)短期目標の設定'!M14)","v":""},{"$f":"IF('4)短期目標の設定'!N14=\"\",\"\",'4)短期目標の設定'!N14)","v":""},{"$f":"IF('4)短期目標の設定'!O14=\"\",\"\",'4)短期目標の設定'!O14)","v":""},{"$f":"IF('4)短期目標の設定'!P14=\"\",\"\",'4)短期目標の設定'!P14)","v":""},{"$f":"IF('4)短期目標の設定'!Q14=\"\",\"\",'4)短期目標の設定'!Q14)","v":""},{"$f":"IF('4)短期目標の設定'!R14=\"\",\"\",'4)短期目標の設定'!R14)","v":""},{"$f":"IF($AB$11=\"\",\"\",IF('3)BAU排出量の推計'!$R$10=1,'3)BAU排出量の推計'!Q14,'3)BAU排出量の推計'!I14))","v":""},{"$f":"IF($AB$11=\"\",\"\",IF(ISERROR(AB14-AD14),\"\",AB14-AD14))","v":""},{"$f":"IF($AB$11=\"\",\"\",IF(AND('3)BAU排出量の推計'!L14=\"\",'2)現況推計結果の入力'!K14=\"\"),\"\",IF('3)BAU排出量の推計'!L14<>\"\",IF('3)BAU排出量の推計'!L14=0,0,IF(P14=\"\",\"\",P14/'3)BAU排出量の推計'!L14)),IF('2)現況推計結果の入力'!K14=0,0,IF(P14=\"\",\"\",P14/'2)現況推計結果の入力'!K14)))))","v":""},{"$f":"IF($AB$11=\"\",\"\",IF(V14=\"\",\"\",IF(V14=0,0,IF(AD14=\"\",\"\",1-(AD14/V14)))))","v":""},{"$f":"IF($AB$11=\"\",\"\",'4)短期目標の設定'!S14)","v":""}]
[{"$f":"'3)BAU排出量の推計'!A15","v":0},null,null,"製造業",null,{"$f":"SUM(F16:F17)","v":0},{"$f":"IF('2)現況推計結果の入力'!$M$9=1,SUM(G16:G17),\"\")","v":""},{"$f":"SUM(H16:H17)","v":0},{"$f":"IF('2)現況推計結果の入力'!$M$9=1,SUM(I16:I17),\"\")","v":""},{"$f":"IF('6)中期目標の設定'!H15=\"\",\"\",'6)中期目標の設定'!H15)","v":0},{"$f":"IF('6)中期目標の設定'!I15=\"\",\"\",'6)中期目標の設定'!I15)","v":0},{"$f":"IF('6)中期目標の設定'!J15=\"\",\"\",'6)中期目標の設定'!J15)","v":0},{"$f":"IF('6)中期目標の設定'!K15=\"\",\"\",'6)中期目標の設定'!K15)","v":0},{"$f":"IF('6)中期目標の設定'!M15=\"\",\"\",'6)中期目標の設定'!M15)","v":""},{"$f":"IF('6)中期目標の設定'!Q15=\"\",\"\",'6)中期目標の設定'!Q15)","v":0},{"$f":"IF('6)中期目標の設定'!R15=\"\",\"\",'6)中期目標の設定'!R15)","v":""},{"$f":"IF('6)中期目標の設定'!S15=\"\",\"\",'6)中期目標の設定'!S15)","v":""},null,null,null,null,{"$f":"IF('4)短期目標の設定'!M15=\"\",\"\",'4)短期目標の設定'!M15)","v":0},{"$f":"IF('4)短期目標の設定'!N15=\"\",\"\",'4)短期目標の設定'!N15)","v":0},{"$f":"IF('4)短期目標の設定'!O15=\"\",\"\",'4)短期目標の設定'!O15)","v":0},{"$f":"IF('4)短期目標の設定'!P15=\"\",\"\",'4)短期目標の設定'!P15)","v":0},{"$f":"IF('4)短期目標の設定'!Q15=\"\",\"\",'4)短期目標の設定'!Q15)","v":0},{"$f":"IF('4)短期目標の設定'!R15=\"\",\"\",'4)短期目標の設定'!R15)","v":0},{"$f":"IF($AB$11=\"\",\"\",IF('3)BAU排出量の推計'!$R$10=1,'3)BAU排出量の推計'!Q15,'3)BAU排出量の推計'!I15))","v":""},{"$f":"IF($AB$11=\"\",\"\",IF(ISERROR(AB15-AD15),\"\",AB15-AD15))","v":""},{"$f":"IF($AB$11=\"\",\"\",IF(AND('3)BAU排出量の推計'!L15=\"\",'2)現況推計結果の入力'!K15=\"\"),\"\",IF('3)BAU排出量の推計'!L15<>\"\",IF('3)BAU排出量の推計'!L15=0,0,IF(P15=\"\",\"\",P15/'3)BAU排出量の推計'!L15)),IF('2)現況推計結果の入力'!K15=0,0,IF(P15=\"\",\"\",P15/'2)現況推計結果の入力'!K15)))))","v":""},{"$f":"IF($AB$11=\"\",\"\",IF(V15=\"\",\"\",IF(V15=0,0,IF(AD15=\"\",\"\",1-(AD15/V15)))))","v":""},{"$f":"IF($AB$11=\"\",\"\",'4)短期目標の設定'!S15)","v":""}]
[{"$f":"'3)BAU排出量の推計'!A16","v":0},null,null,null,"大規模",{"$f":"IF('2)現況推計結果の入力'!$M$9=1,IF('2)現況推計結果の入力'!M16=\"\",\"\",'2)現況推計結果の入力'!M16),IF('2)現況推計結果の入力'!F16=\"\",\"\",'2)現況推計結果の入力'!F16))","v":""},{"$f":"IF(F16=\"\",\"\",IF('2)現況推計結果の入力'!$M$9=1,'2)現況推計結果の入力'!F16,\"\"))","v":""},{"$f":"IF('3)BAU排出量の推計'!F16=\"\",\"\",'3)BAU排出量の推計'!F16)","v":""},{"$f":"IF(H16=\"\",\"\",IF('2)現況推計結果の入力'!$M$9=1,'2)現況推計結果の入力'!J16,\"\"))","v":""},{"$f":"IF('6)中期目標の設定'!H16=\"\",\"\",'6)中期目標の設定'!H16)","v":""},{"$f":"IF('6)中期目標の設定'!I16=\"\",\"\",'6)中期目標の設定'!I16)","v":""},{"$f":"IF('6)中期目標の設定'!J16=\"\",\"\",'6)中期目標の設定'!J16)","v":""},{"$f":"IF('6)中期目標の設定'!K16=\"\",\"\",'6)中期目標の設定'!K16)","v":""},{"$f":"IF('6)中期目標の設定'!M16=\"\",\"\",'6)中期目標の設定'!M16)","v":""},{"$f":"IF('6)中期目標の設定'!Q16=\"\",\"\",'6)中期目標の設定'!Q16)","v":""},{"$f":"IF('6)中期目標の設定'!R16=\"\",\"\",'6)中期目標の設定'!R16)","v":""},{"$f":"IF('6)中期目標の設定'!S16=\"\",\"\",'6)中期目標の設定'!S16)","v":""},null,null,null,null,{"$f":"IF('4)短期目標の設定'!M16=\"\",\"\",'4)短期目標の設定'!M16)","v":""},{"$f":"IF('4)短期目標の設定'!N16=\"\",\"\",'4)短期目標の設定'!N16)","v":""},{"$f":"IF('4)短期目標の設定'!O16=\"\",\"\",'4)短期目標の設定'!O16)","v":""},{"$f":"IF('4)短期目標の設定'!P16=\"\",\"\",'4)短期目標の設定'!P16)","v":""},{"$f":"IF('4)短期目標の設定'!Q16=\"\",\"\",'4)短期目標の設定'!Q16)","v":""},{"$f":"IF('4)短期目標の設定'!R16=\"\",\"\",'4)短期目標の設定'!R16)","v":""},{"$f":"IF($AB$11=\"\",\"\",IF('3)BAU排出量の推計'!$R$10=1,'3)BAU排出量の推計'!Q16,'3)BAU排出量の推計'!I16))","v":""},"",{"$f":"IF($AB$11=\"\",\"\",IF(AND('3)BAU排出量の推計'!L16=\"\",'2)現況推計結果の入力'!K16=\"\"),\"\",IF('3)BAU排出量の推計'!L16<>\"\",IF('3)BAU排出量の推計'!L16=0,0,IF(P16=\"\",\"\",P16/'3)BAU排出量の推計'!L16)),IF('2)現況推計結果の入力'!K16=0,0,IF(P16=\"\",\"\",P16/'2)現況推計結果の入力'!K16)))))","v":""},""]
[{"$f":"'3)BAU排出量の推計'!A17","v":0},null,null,null,"中小規模",{"$f":"IF('2)現況推計結果の入力'!$M$9=1,IF('2)現況推計結果の入力'!M17=\"\",\"\",'2)現況推計結果の入力'!M17),IF('2)現況推計結果の入力'!F17=\"\",\"\",'2)現況推計結果の入力'!F17))","v":""},{"$f":"IF(F17=\"\",\"\",IF('2)現況推計結果の入力'!$M$9=1,'2)現況推計結果の入力'!F17,\"\"))","v":""},{"$f":"IF('3)BAU排出量の推計'!F17=\"\",\"\",'3)BAU排出量の推計'!F17)","v":""},{"$f":"IF(H17=\"\",\"\",IF('2)現況推計結果の入力'!$M$9=1,'2)現況推計結果の入力'!J17,\"\"))","v":""},{"$f":"IF('6)中期目標の設定'!H17=\"\",\"\",'6)中期目標の設定'!H17)","v":""},{"$f":"IF('6)中期目標の設定'!I17=\"\",\"\",'6)中期目標の設定'!I17)","v":""},{"$f":"IF('6)中期目標の設定'!J17=\"\",\"\",'6)中期目標の設定'!J17)","v":""},{"$f":"IF('6)中期目標の設定'!K17=\"\",\"\",'6)中期目標の設定'!K17)","v":""},{"$f":"IF('6)中期目標の設定'!M17=\"\",\"\",'6)中期目標の設定'!M17)","v":""},{"$f":"IF('6)中期目標の設定'!Q17=\"\",\"\",'6)中期目標の設定'!Q17)","v":""},{"$f":"IF('6)中期目標の設定'!R17=\"\",\"\",'6)中期目標の設定'!R17)","v":""},{"$f":"IF('6)中期目標の設定'!S17=\"\",\"\",'6)中期目標の設定'!S17)","v":""},null,null,null,null,{"$f":"IF('4)短期目標の設定'!M17=\"\",\"\",'4)短期目標の設定'!M17)","v":""},{"$f":"IF('4)短期目標の設定'!N17=\"\",\"\",'4)短期目標の設定'!N17)","v":""},{"$f":"IF('4)短期目標の設定'!O17=\"\",\"\",'4)短期目標の設定'!O17)","v":""},{"$f":"IF('4)短期目標の設定'!P17=\"\",\"\",'4)短期目標の設定'!P17)","v":""},{"$f":"IF('4)短期目標の設定'!Q17=\"\",\"\",'4)短期目標の設定'!Q17)","v":""},{"$f":"IF('4)短期目標の設定'!R17=\"\",\"\",'4)短期目標の設定'!R17)","v":""},{"$f":"IF($AB$11=\"\",\"\",IF('3)BAU排出量の推計'!$R$10=1,'3)BAU排出量の推計'!Q17,'3)BAU排出量の推計'!I17))","v":""},"",{"$f":"IF($AB$11=\"\",\"\",IF(AND('3)BAU排出量の推計'!L17=\"\",'2)現況推計結果の入力'!K17=\"\"),\"\",IF('3)BAU排出量の推計'!L17<>\"\",IF('3)BAU排出量の推計'!L17=0,0,IF(P17=\"\",\"\",P17/'3)BAU排出量の推計'!L17)),IF('2)現況推計結果の入力'!K17=0,0,IF(P17=\"\",\"\",P17/'2)現況推計結果の入力'!K17)))))","v":""},""]
[{"$f":"'3)BAU排出量の推計'!A18","v":1},null,null,"建設業・鉱業",null,{"$f":"IF('2)現況推計結果の入力'!$M$9=1,IF('2)現況推計結果の入力'!M18=\"\",\"\",'2)現況推計結果の入力'!M18),IF('2)現況推計結果の入力'!F18=\"\",\"\",'2)現況推計結果の入力'!F18))","v":""},{"$f":"IF(F18=\"\",\"\",IF('2)現況推計結果の入力'!$M$9=1,'2)現況推計結果の入力'!F18,\"\"))","v":""},{"$f":"IF('3)BAU排出量の推計'!F18=\"\",\"\",'3)BAU排出量の推計'!F18)","v":""},{"$f":"IF(H18=\"\",\"\",IF('2)現況推計結果の入力'!$M$9=1,'2)現況推計結果の入力'!J18,\"\"))","v":""},{"$f":"IF('6)中期目標の設定'!H18=\"\",\"\",'6)中期目標の設定'!H18)","v":""},{"$f":"IF('6)中期目標の設定'!I18=\"\",\"\",'6)中期目標の設定'!I18)","v":0},{"$f":"IF('6)中期目標の設定'!J18=\"\",\"\",'6)中期目標の設定'!J18)","v":""},{"$f":"IF('6)中期目標の設定'!K18=\"\",\"\",'6)中期目標の設定'!K18)","v":""},{"$f":"IF('6)中期目標の設定'!M18=\"\",\"\",'6)中期目標の設定'!M18)","v":""},{"$f":"IF('6)中期目標の設定'!Q18=\"\",\"\",'6)中期目標の設定'!Q18)","v":""},{"$f":"IF('6)中期目標の設定'!R18=\"\",\"\",'6)中期目標の設定'!R18)","v":""},{"$f":"IF('6)中期目標の設定'!S18=\"\",\"\",'6)中期目標の設定'!S18)","v":""},null,null,null,null,{"$f":"IF('4)短期目標の設定'!M18=\"\",\"\",'4)短期目標の設定'!M18)","v":""},{"$f":"IF('4)短期目標の設定'!N18=\"\",\"\",'4)短期目標の設定'!N18)","v":""},{"$f":"IF('4)短期目標の設定'!O18=\"\",\"\",'4)短期目標の設定'!O18)","v":""},{"$f":"IF('4)短期目標の設定'!P18=\"\",\"\",'4)短期目標の設定'!P18)","v":""},{"$f":"IF('4)短期目標の設定'!Q18=\"\",\"\",'4)短期目標の設定'!Q18)","v":""},{"$f":"IF('4)短期目標の設定'!R18=\"\",\"\",'4)短期目標の設定'!R18)","v":""},{"$f":"IF($AB$11=\"\",\"\",IF('3)BAU排出量の推計'!$R$10=1,'3)BAU排出量の推計'!Q18,'3)BAU排出量の推計'!I18))","v":""},"",{"$f":"IF($AB$11=\"\",\"\",IF(AND('3)BAU排出量の推計'!L18=\"\",'2)現況推計結果の入力'!K18=\"\"),\"\",IF('3)BAU排出量の推計'!L18<>\"\",IF('3)BAU排出量の推計'!L18=0,0,IF(P18=\"\",\"\",P18/'3)BAU排出量の推計'!L18)),IF('2)現況推計結果の入力'!K18=0,0,IF(P18=\"\",\"\",P18/'2)現況推計結果の入力'!K18)))))","v":""},"",{"$f":"IF($AB$11=\"\",\"\",'4)短期目標の設定'!S18)","v":""}]
[{"$f":"'3)BAU排出量の推計'!A19","v":1},null,null,"農林水産業",null,{"$f":"IF('2)現況推計結果の入力'!$M$9=1,IF('2)現況推計結果の入力'!M19=\"\",\"\",'2)現況推計結果の入力'!M19),IF('2)現況推計結果の入力'!F19=\"\",\"\",'2)現況推計結果の入力'!F19))","v":""},{"$f":"IF(F19=\"\",\"\",IF('2)現況推計結果の入力'!$M$9=1,'2)現況推計結果の入力'!F19,\"\"))","v":""},{"$f":"IF('3)BAU排出量の推計'!F19=\"\",\"\",'3)BAU排出量の推計'!F19)","v":""},{"$f":"IF(H19=\"\",\"\",IF('2)現況推計結果の入力'!$M$9=1,'2)現況推計結果の入力'!J19,\"\"))","v":""},{"$f":"IF('6)中期目標の設定'!H19=\"\",\"\",'6)中期目標の設定'!H19)","v":""},{"$f":"IF('6)中期目標の設定'!I19=\"\",\"\",'6)中期目標の設定'!I19)","v":0},{"$f":"IF('6)中期目標の設定'!J19=\"\",\"\",'6)中期目標の設定'!J19)","v":""},{"$f":"IF('6)中期目標の設定'!K19=\"\",\"\",'6)中期目標の設定'!K19)","v":""},{"$f":"IF('6)中期目標の設定'!M19=\"\",\"\",'6)中期目標の設定'!M19)","v":""},{"$f":"IF('6)中期目標の設定'!Q19=\"\",\"\",'6)中期目標の設定'!Q19)","v":""},{"$f":"IF('6)中期目標の設定'!R19=\"\",\"\",'6)中期目標の設定'!R19)","v":""},{"$f":"IF('6)中期目標の設定'!S19=\"\",\"\",'6)中期目標の設定'!S19)","v":""},null,null,null,null,{"$f":"IF('4)短期目標の設定'!M19=\"\",\"\",'4)短期目標の設定'!M19)","v":""},{"$f":"IF('4)短期目標の設定'!N19=\"\",\"\",'4)短期目標の設定'!N19)","v":""},{"$f":"IF('4)短期目標の設定'!O19=\"\",\"\",'4)短期目標の設定'!O19)","v":""},{"$f":"IF('4)短期目標の設定'!P19=\"\",\"\",'4)短期目標の設定'!P19)","v":""},{"$f":"IF('4)短期目標の設定'!Q19=\"\",\"\",'4)短期目標の設定'!Q19)","v":""},{"$f":"IF('4)短期目標の設定'!R19=\"\",\"\",'4)短期目標の設定'!R19)","v":""},{"$f":"IF($AB$11=\"\",\"\",IF('3)BAU排出量の推計'!$R$10=1,'3)BAU排出量の推計'!Q19,'3)BAU排出量の推計'!I19))","v":""},"",{"$f":"IF($AB$11=\"\",\"\",IF(AND('3)BAU排出量の推計'!L19=\"\",'2)現況推計結果の入力'!K19=\"\"),\"\",IF('3)BAU排出量の推計'!L19<>\"\",IF('3)BAU排出量の推計'!L19=0,0,IF(P19=\"\",\"\",P19/'3)BAU排出量の推計'!L19)),IF('2)現況推計結果の入力'!K19=0,0,IF(P19=\"\",\"\",P19/'2)現況推計結果の入力'!K19)))))","v":""},"",{"$f":"IF($AB$11=\"\",\"\",'4)短期目標の設定'!S19)","v":""}]
[{"$f":"SUM(A14:A19)","v":3},null,null,"小計",null,{"$f":"SUM(F14:F19)-SUM(F15)","v":0},{"$f":"IF('2)現況推計結果の入力'!$M$9=1,SUM(G14:G19)-SUM(G15),\"\")","v":""},{"$f":"SUM(H14:H19)-SUM(H15)","v":0},{"$f":"IF('2)現況推計結果の入力'!$M$9=1,SUM(I14:I19)-SUM(I15),\"\")","v":""},{"$f":"SUM(J14:J19)-SUM(J15)","v":0},{"$f":"SUM(K14:K19)-SUM(K15)","v":0},{"$f":"SUM(L14:L19)-SUM(L15)","v":0},{"$f":"IF($F20=\"\",\"\",IF($F20=0,0,IF(L20=\"\",\"\",(1-(L20/$F20)))))","v":0},{"$f":"IF($N$11=\"\",\"\",SUM(N14:N19)-SUM(N15))","v":""},{"$f":"IF($N$11=\"\",\"\",SUM(O14:O19)-SUM(O15))","v":""},{"$f":"IF($N$11=\"\",\"\",SUM(P14:P19)-SUM(P15))","v":""},{"$f":"IF($N$11=\"\",\"\",IF($F20=\"\",\"\",IF($F20=0,0,IF(P20=\"\",\"\",(1-(P20/$F20))))))","v":""}]
[{"$f":"'3)BAU排出量の推計'!A20","v":1},null,"業務その他部門",null,null,{"$f":"IF('2)現況推計結果の入力'!$M$9=1,IF('2)現況推計結果の入力'!M20=\"\",\"\",'2)現況推計結果の入力'!M20),IF('2)現況推計結果の入力'!F20=\"\",\"\",'2)現況推計結果の入力'!F20))","v":""},{"$f":"IF(F21=\"\",\"\",IF('2)現況推計結果の入力'!$M$9=1,'2)現況推計結果の入力'!F20,\"\"))","v":""},{"$f":"IF('3)BAU排出量の推計'!F20=\"\",\"\",'3)BAU排出量の推計'!F20)","v":""},{"$f":"IF(H21=\"\",\"\",IF('2)現況推計結果の入力'!$M$9=1,'2)現況推計結果の入力'!J20,\"\"))","v":""},{"$f":"IF('6)中期目標の設定'!H20=\"\",\"\",'6)中期目標の設定'!H20)","v":""},{"$f":"IF('6)中期目標の設定'!I20=\"\",\"\",'6)中期目標の設定'!I20)","v":0},{"$f":"IF('6)中期目標の設定'!J20=\"\",\"\",'6)中期目標の設定'!J20)","v":""},{"$f":"IF('6)中期目標の設定'!K20=\"\",\"\",'6)中期目標の設定'!K20)","v":""},{"$f":"IF('6)中期目標の設定'!M20=\"\",\"\",'6)中期目標の設定'!M20)","v":""},{"$f":"IF('6)中期目標の設定'!Q20=\"\",\"\",'6)中期目標の設定'!Q20)","v":""},{"$f":"IF('6)中期目標の設定'!R20=\"\",\"\",'6)中期目標の設定'!R20)","v":""},{"$f":"IF('6)中期目標の設定'!S20=\"\",\"\",'6)中期目標の設定'!S20)","v":""},null,null,null,null,{"$f":"IF('4)短期目標の設定'!M20=\"\",\"\",'4)短期目標の設定'!M20)","v":""},{"$f":"IF('4)短期目標の設定'!N20=\"\",\"\",'4)短期目標の設定'!N20)","v":""},{"$f":"IF('4)短期目標の設定'!O20=\"\",\"\",'4)短期目標の設定'!O20)","v":""},{"$f":"IF('4)短期目標の設定'!P20=\"\",\"\",'4)短期目標の設定'!P20)","v":""},{"$f":"IF('4)短期目標の設定'!Q20=\"\",\"\",'4)短期目標の設定'!Q20)","v":""},{"$f":"IF('4)短期目標の設定'!R20=\"\",\"\",'4)短期目標の設定'!R20)","v":""},{"$f":"IF($AB$11=\"\",\"\",IF('3)BAU排出量の推計'!$R$10=1,'3)BAU排出量の推計'!Q20,'3)BAU排出量の推計'!I20))","v":""},"",{"$f":"IF($AB$11=\"\",\"\",IF(AND('3)BAU排出量の推計'!L20=\"\",'2)現況推計結果の入力'!K20=\"\"),\"\",IF('3)BAU排出量の推計'!L20<>\"\",IF('3)BAU排出量の推計'!L20=0,0,IF(P21=\"\",\"\",P21/'3)BAU排出量の推計'!L20)),IF('2)現況推計結果の入力'!K20=0,0,IF(P21=\"\",\"\",P21/'2)現況推計結果の入力'!K20)))))","v":""},"",{"$f":"IF($AB$11=\"\",\"\",'4)短期目標の設定'!S20)","v":""}]
[{"$f":"'3)BAU排出量の推計'!A21","v":0},null,"業務その他部門",null,null,{"$f":"SUM(F23:F24)","v":0},{"$f":"IF('2)現況推計結果の入力'!$M$9=1,SUM(G23:G24),\"\")","v":""},{"$f":"SUM(H23:H24)","v":0},{"$f":"IF('2)現況推計結果の入力'!$M$9=1,SUM(I23:I24),\"\")","v":""},{"$f":"IF('6)中期目標の設定'!H21=\"\",\"\",'6)中期目標の設定'!H21)","v":0},{"$f":"IF('6)中期目標の設定'!I21=\"\",\"\",'6)中期目標の設定'!I21)","v":0},{"$f":"IF('6)中期目標の設定'!J21=\"\",\"\",'6)中期目標の設定'!J21)","v":0},{"$f":"IF('6)中期目標の設定'!K21=\"\",\"\",'6)中期目標の設定'!K21)","v":0},{"$f":"IF('6)中期目標の設定'!M21=\"\",\"\",'6)中期目標の設定'!M21)","v":""},{"$f":"IF('6)中期目標の設定'!Q21=\"\",\"\",'6)中期目標の設定'!Q21)","v":0},{"$f":"IF('6)中期目標の設定'!R21=\"\",\"\",'6)中期目標の設定'!R21)","v":""},{"$f":"IF('6)中期目標の設定'!S21=\"\",\"\",'6)中期目標の設定'!S21)","v":""},null,null,null,null,{"$f":"IF('4)短期目標の設定'!M21=\"\",\"\",'4)短期目標の設定'!M21)","v":0},{"$f":"IF('4)短期目標の設定'!N21=\"\",\"\",'4)短期目標の設定'!N21)","v":0},{"$f":"IF('4)短期目標の設定'!O21=\"\",\"\",'4)短期目標の設定'!O21)","v":0},{"$f":"IF('4)短期目標の設定'!P21=\"\",\"\",'4)短期目標の設定'!P21)","v":0},{"$f":"IF('4)短期目標の設定'!Q21=\"\",\"\",'4)短期目標の設定'!Q21)","v":0},{"$f":"IF('4)短期目標の設定'!R21=\"\",\"\",'4)短期目標の設定'!R21)","v":0},{"$f":"IF($AB$11=\"\",\"\",IF('3)BAU排出量の推計'!$R$10=1,'3)BAU排出量の推計'!Q21,'3)BAU排出量の推計'!I21))","v":""},"",{"$f":"IF($AB$11=\"\",\"\",IF(AND('3)BAU排出量の推計'!L21=\"\",'2)現況推計結果の入力'!K21=\"\"),\"\",IF('3)BAU排出量の推計'!L21<>\"\",IF('3)BAU排出量の推計'!L21=0,0,IF(P22=\"\",\"\",P22/'3)BAU排出量の推計'!L21)),IF('2)現況推計結果の入力'!K21=0,0,IF(P22=\"\",\"\",P22/'2)現況推計結果の入力'!K21)))))","v":""},"",{"$f":"IF($AB$11=\"\",\"\",'4)短期目標の設定'!S21)","v":""}]
[{"$f":"'3)BAU排出量の推計'!A22","v":0},null,null,null,"大規模",{"$f":"IF('2)現況推計結果の入力'!$M$9=1,IF('2)現況推計結果の入力'!M22=\"\",\"\",'2)現況推計結果の入力'!M22),IF('2)現況推計結果の入力'!F22=\"\",\"\",'2)現況推計結果の入力'!F22))","v":""},{"$f":"IF(F23=\"\",\"\",IF('2)現況推計結果の入力'!$M$9=1,'2)現況推計結果の入力'!F22,\"\"))","v":""},{"$f":"IF('3)BAU排出量の推計'!F22=\"\",\"\",'3)BAU排出量の推計'!F22)","v":""},{"$f":"IF(H23=\"\",\"\",IF('2)現況推計結果の入力'!$M$9=1,'2)現況推計結果の入力'!J22,\"\"))","v":""},{"$f":"IF('6)中期目標の設定'!H22=\"\",\"\",'6)中期目標の設定'!H22)","v":""},{"$f":"IF('6)中期目標の設定'!I22=\"\",\"\",'6)中期目標の設定'!I22)","v":""},{"$f":"IF('6)中期目標の設定'!J22=\"\",\"\",'6)中期目標の設定'!J22)","v":""},{"$f":"IF('6)中期目標の設定'!K22=\"\",\"\",'6)中期目標の設定'!K22)","v":""},{"$f":"IF('6)中期目標の設定'!M22=\"\",\"\",'6)中期目標の設定'!M22)","v":""},{"$f":"IF('6)中期目標の設定'!Q22=\"\",\"\",'6)中期目標の設定'!Q22)","v":""},{"$f":"IF('6)中期目標の設定'!R22=\"\",\"\",'6)中期目標の設定'!R22)","v":""},{"$f":"IF('6)中期目標の設定'!S22=\"\",\"\",'6)中期目標の設定'!S22)","v":""},null,null,null,null,{"$f":"IF('4)短期目標の設定'!M22=\"\",\"\",'4)短期目標の設定'!M22)","v":""},{"$f":"IF('4)短期目標の設定'!N22=\"\",\"\",'4)短期目標の設定'!N22)","v":""},{"$f":"IF('4)短期目標の設定'!O22=\"\",\"\",'4)短期目標の設定'!O22)","v":""},{"$f":"IF('4)短期目標の設定'!P22=\"\",\"\",'4)短期目標の設定'!P22)","v":""},{"$f":"IF('4)短期目標の設定'!Q22=\"\",\"\",'4)短期目標の設定'!Q22)","v":""},{"$f":"IF('4)短期目標の設定'!R22=\"\",\"\",'4)短期目標の設定'!R22)","v":""},{"$f":"IF($AB$11=\"\",\"\",IF('3)BAU排出量の推計'!$R$10=1,'3)BAU排出量の推計'!Q22,'3)BAU排出量の推計'!I22))","v":""},"",{"$f":"IF($AB$11=\"\",\"\",IF(AND('3)BAU排出量の推計'!L22=\"\",'2)現況推計結果の入力'!K22=\"\"),\"\",IF('3)BAU排出量の推計'!L22<>\"\",IF('3)BAU排出量の推計'!L22=0,0,IF(P23=\"\",\"\",P23/'3)BAU排出量の推計'!L22)),IF('2)現況推計結果の入力'!K22=0,0,IF(P23=\"\",\"\",P23/'2)現況推計結果の入力'!K22)))))","v":""},""]
[{"$f":"'3)BAU排出量の推計'!A23","v":0},null,null,null,"中小規模",{"$f":"IF('2)現況推計結果の入力'!$M$9=1,IF('2)現況推計結果の入力'!M23=\"\",\"\",'2)現況推計結果の入力'!M23),IF('2)現況推計結果の入力'!F23=\"\",\"\",'2)現況推計結果の入力'!F23))","v":""},{"$f":"IF(F24=\"\",\"\",IF('2)現況推計結果の入力'!$M$9=1,'2)現況推計結果の入力'!F23,\"\"))","v":""},{"$f":"IF('3)BAU排出量の推計'!F23=\"\",\"\",'3)BAU排出量の推計'!F23)","v":""},{"$f":"IF(H24=\"\",\"\",IF('2)現況推計結果の入力'!$M$9=1,'2)現況推計結果の入力'!J23,\"\"))","v":""},{"$f":"IF('6)中期目標の設定'!H23=\"\",\"\",'6)中期目標の設定'!H23)","v":""},{"$f":"IF('6)中期目標の設定'!I23=\"\",\"\",'6)中期目標の設定'!I23)","v":""},{"$f":"IF('6)中期目標の設定'!J23=\"\",\"\",'6)中期目標の設定'!J23)","v":""},{"$f":"IF('6)中期目標の設定'!K23=\"\",\"\",'6)中期目標の設定'!K23)","v":""},{"$f":"IF('6)中期目標の設定'!M23=\"\",\"\",'6)中期目標の設定'!M23)","v":""},{"$f":"IF('6)中期目標の設定'!Q23=\"\",\"\",'6)中期目標の設定'!Q23)","v":""},{"$f":"IF('6)中期目標の設定'!R23=\"\",\"\",'6)中期目標の設定'!R23)","v":""},{"$f":"IF('6)中期目標の設定'!S23=\"\",\"\",'6)中期目標の設定'!S23)","v":""},null,null,null,null,{"$f":"IF('4)短期目標の設定'!M23=\"\",\"\",'4)短期目標の設定'!M23)","v":""},{"$f":"IF('4)短期目標の設定'!N23=\"\",\"\",'4)短期目標の設定'!N23)","v":""},{"$f":"IF('4)短期目標の設定'!O23=\"\",\"\",'4)短期目標の設定'!O23)","v":""},{"$f":"IF('4)短期目標の設定'!P23=\"\",\"\",'4)短期目標の設定'!P23)","v":""},{"$f":"IF('4)短期目標の設定'!Q23=\"\",\"\",'4)短期目標の設定'!Q23)","v":""},{"$f":"IF('4)短期目標の設定'!R23=\"\",\"\",'4)短期目標の設定'!R23)","v":""},{"$f":"IF($AB$11=\"\",\"\",IF('3)BAU排出量の推計'!$R$10=1,'3)BAU排出量の推計'!Q23,'3)BAU排出量の推計'!I23))","v":""},"",{"$f":"IF($AB$11=\"\",\"\",IF(AND('3)BAU排出量の推計'!L23=\"\",'2)現況推計結果の入力'!K23=\"\"),\"\",IF('3)BAU排出量の推計'!L23<>\"\",IF('3)BAU排出量の推計'!L23=0,0,IF(P24=\"\",\"\",P24/'3)BAU排出量の推計'!L23)),IF('2)現況推計結果の入力'!K23=0,0,IF(P24=\"\",\"\",P24/'2)現況推計結果の入力'!K23)))))","v":""},""]
[{"$f":"'3)BAU排出量の推計'!A24","v":1},null,"家庭部門",null,null,{"$f":"IF('2)現況推計結果の入力'!$M$9=1,IF('2)現況推計結果の入力'!M24=\"\",\"\",'2)現況推計結果の入力'!M24),IF('2)現況推計結果の入力'!F24=\"\",\"\",'2)現況推計結果の入力'!F24))","v":""},{"$f":"IF(F25=\"\",\"\",IF('2)現況推計結果の入力'!$M$9=1,'2)現況推計結果の入力'!F24,\"\"))","v":""},{"$f":"IF('3)BAU排出量の推計'!F24=\"\",\"\",'3)BAU排出量の推計'!F24)","v":""},{"$f":"IF(H25=\"\",\"\",IF('2)現況推計結果の入力'!$M$9=1,'2)現況推計結果の入力'!J24,\"\"))","v":""},{"$f":"IF('6)中期目標の設定'!H24=\"\",\"\",'6)中期目標の設定'!H24)","v":""},{"$f":"IF('6)中期目標の設定'!I24=\"\",\"\",'6)中期目標の設定'!I24)","v":0},{"$f":"IF('6)中期目標の設定'!J24=\"\",\"\",'6)中期目標の設定'!J24)","v":""},{"$f":"IF('6)中期目標の設定'!K24=\"\",\"\",'6)中期目標の設定'!K24)","v":""},{"$f":"IF('6)中期目標の設定'!M24=\"\",\"\",'6)中期目標の設定'!M24)","v":""},{"$f":"IF('6)中期目標の設定'!Q24=\"\",\"\",'6)中期目標の設定'!Q24)","v":""},{"$f":"IF('6)中期目標の設定'!R24=\"\",\"\",'6)中期目標の設定'!R24)","v":""},{"$f":"IF('6)中期目標の設定'!S24=\"\",\"\",'6)中期目標の設定'!S24)","v":""},null,null,null,null,{"$f":"IF('4)短期目標の設定'!M24=\"\",\"\",'4)短期目標の設定'!M24)","v":""},{"$f":"IF('4)短期目標の設定'!N24=\"\",\"\",'4)短期目標の設定'!N24)","v":""},{"$f":"IF('4)短期目標の設定'!O24=\"\",\"\",'4)短期目標の設定'!O24)","v":""},{"$f":"IF('4)短期目標の設定'!P24=\"\",\"\",'4)短期目標の設定'!P24)","v":""},{"$f":"IF('4)短期目標の設定'!Q24=\"\",\"\",'4)短期目標の設定'!Q24)","v":""},{"$f":"IF('4)短期目標の設定'!R24=\"\",\"\",'4)短期目標の設定'!R24)","v":""},{"$f":"IF($AB$11=\"\",\"\",IF('3)BAU排出量の推計'!$R$10=1,'3)BAU排出量の推計'!Q24,'3)BAU排出量の推計'!I24))","v":""},"",{"$f":"IF($AB$11=\"\",\"\",IF(AND('3)BAU排出量の推計'!L24=\"\",'2)現況推計結果の入力'!K24=\"\"),\"\",IF('3)BAU排出量の推計'!L24<>\"\",IF('3)BAU排出量の推計'!L24=0,0,IF(P25=\"\",\"\",P25/'3)BAU排出量の推計'!L24)),IF('2)現況推計結果の入力'!K24=0,0,IF(P25=\"\",\"\",P25/'2)現況推計結果の入力'!K24)))))","v":""},"",{"$f":"IF($AB$11=\"\",\"\",'4)短期目標の設定'!S24)","v":""}]
[{"$f":"'3)BAU排出量の推計'!A25","v":1},null,"運輸部門","自動車","旅客",{"$f":"IF('2)現況推計結果の入力'!$M$9=1,IF('2)現況推計結果の入力'!M25=\"\",\"\",'2)現況推計結果の入力'!M25),IF('2)現況推計結果の入力'!F25=\"\",\"\",'2)現況推計結果の入力'!F25))","v":""},{"$f":"IF(F26=\"\",\"\",IF('2)現況推計結果の入力'!$M$9=1,'2)現況推計結果の入力'!F25,\"\"))","v":""},{"$f":"IF('3)BAU排出量の推計'!F25=\"\",\"\",'3)BAU排出量の推計'!F25)","v":""},{"$f":"IF(H26=\"\",\"\",IF('2)現況推計結果の入力'!$M$9=1,'2)現況推計結果の入力'!J25,\"\"))","v":""},{"$f":"IF('6)中期目標の設定'!H25=\"\",\"\",'6)中期目標の設定'!H25)","v":""},{"$f":"IF('6)中期目標の設定'!I25=\"\",\"\",'6)中期目標の設定'!I25)","v":0},{"$f":"IF('6)中期目標の設定'!J25=\"\",\"\",'6)中期目標の設定'!J25)","v":""},{"$f":"IF('6)中期目標の設定'!K25=\"\",\"\",'6)中期目標の設定'!K25)","v":""},{"$f":"IF('6)中期目標の設定'!M25=\"\",\"\",'6)中期目標の設定'!M25)","v":""},{"$f":"IF('6)中期目標の設定'!Q25=\"\",\"\",'6)中期目標の設定'!Q25)","v":""},{"$f":"IF('6)中期目標の設定'!R25=\"\",\"\",'6)中期目標の設定'!R25)","v":""},{"$f":"IF('6)中期目標の設定'!S25=\"\",\"\",'6)中期目標の設定'!S25)","v":""},null,null,null,null,{"$f":"IF('4)短期目標の設定'!M25=\"\",\"\",'4)短期目標の設定'!M25)","v":""},{"$f":"IF('4)短期目標の設定'!N25=\"\",\"\",'4)短期目標の設定'!N25)","v":""},{"$f":"IF('4)短期目標の設定'!O25=\"\",\"\",'4)短期目標の設定'!O25)","v":""},{"$f":"IF('4)短期目標の設定'!P25=\"\",\"\",'4)短期目標の設定'!P25)","v":""},{"$f":"IF('4)短期目標の設定'!Q25=\"\",\"\",'4)短期目標の設定'!Q25)","v":""},{"$f":"IF('4)短期目標の設定'!R25=\"\",\"\",'4)短期目標の設定'!R25)","v":""},{"$f":"IF($AB$11=\"\",\"\",IF('3)BAU排出量の推計'!$R$10=1,'3)BAU排出量の推計'!Q25,'3)BAU排出量の推計'!I25))","v":""},"",{"$f":"IF($AB$11=\"\",\"\",IF(AND('3)BAU排出量の推計'!L25=\"\",'2)現況推計結果の入力'!K25=\"\"),\"\",IF('3)BAU排出量の推計'!L25<>\"\",IF('3)BAU排出量の推計'!L25=0,0,IF(P26=\"\",\"\",P26/'3)BAU排出量の推計'!L25)),IF('2)現況推計結果の入力'!K25=0,0,IF(P26=\"\",\"\",P26/'2)現況推計結果の入力'!K25)))))","v":""},"",{"$f":"IF($AB$11=\"\",\"\",'4)短期目標の設定'!S25)","v":""}]
[{"$f":"'3)BAU排出量の推計'!A26","v":1},null,null,null,"貨物",{"$f":"IF('2)現況推計結果の入力'!$M$9=1,IF('2)現況推計結果の入力'!M26=\"\",\"\",'2)現況推計結果の入力'!M26),IF('2)現況推計結果の入力'!F26=\"\",\"\",'2)現況推計結果の入力'!F26))","v":""},{"$f":"IF(F27=\"\",\"\",IF('2)現況推計結果の入力'!$M$9=1,'2)現況推計結果の入力'!F26,\"\"))","v":""},{"$f":"IF('3)BAU排出量の推計'!F26=\"\",\"\",'3)BAU排出量の推計'!F26)","v":""},{"$f":"IF(H27=\"\",\"\",IF('2)現況推計結果の入力'!$M$9=1,'2)現況推計結果の入力'!J26,\"\"))","v":""},{"$f":"IF('6)中期目標の設定'!H26=\"\",\"\",'6)中期目標の設定'!H26)","v":""},{"$f":"IF('6)中期目標の設定'!I26=\"\",\"\",'6)中期目標の設定'!I26)","v":0},{"$f":"IF('6)中期目標の設定'!J26=\"\",\"\",'6)中期目標の設定'!J26)","v":""},{"$f":"IF('6)中期目標の設定'!K26=\"\",\"\",'6)中期目標の設定'!K26)","v":""},{"$f":"IF('6)中期目標の設定'!M26=\"\",\"\",'6)中期目標の設定'!M26)","v":""},{"$f":"IF('6)中期目標の設定'!Q26=\"\",\"\",'6)中期目標の設定'!Q26)","v":""},{"$f":"IF('6)中期目標の設定'!R26=\"\",\"\",'6)中期目標の設定'!R26)","v":""},{"$f":"IF('6)中期目標の設定'!S26=\"\",\"\",'6)中期目標の設定'!S26)","v":""},null,null,null,null,{"$f":"IF('4)短期目標の設定'!M26=\"\",\"\",'4)短期目標の設定'!M26)","v":""},{"$f":"IF('4)短期目標の設定'!N26=\"\",\"\",'4)短期目標の設定'!N26)","v":""},{"$f":"IF('4)短期目標の設定'!O26=\"\",\"\",'4)短期目標の設定'!O26)","v":""},{"$f":"IF('4)短期目標の設定'!P26=\"\",\"\",'4)短期目標の設定'!P26)","v":""},{"$f":"IF('4)短期目標の設定'!Q26=\"\",\"\",'4)短期目標の設定'!Q26)","v":""},{"$f":"IF('4)短期目標の設定'!R26=\"\",\"\",'4)短期目標の設定'!R26)","v":""},{"$f":"IF($AB$11=\"\",\"\",IF('3)BAU排出量の推計'!$R$10=1,'3)BAU排出量の推計'!Q26,'3)BAU排出量の推計'!I26))","v":""},"",{"$f":"IF($AB$11=\"\",\"\",IF(AND('3)BAU排出量の推計'!L26=\"\",'2)現況推計結果の入力'!K26=\"\"),\"\",IF('3)BAU排出量の推計'!L26<>\"\",IF('3)BAU排出量の推計'!L26=0,0,IF(P27=\"\",\"\",P27/'3)BAU排出量の推計'!L26)),IF('2)現況推計結果の入力'!K26=0,0,IF(P27=\"\",\"\",P27/'2)現況推計結果の入力'!K26)))))","v":""},"",{"$f":"IF($AB$11=\"\",\"\",'4)短期目標の設定'!S26)","v":""}]
[{"$f":"'3)BAU排出量の推計'!A27","v":1},null,null,"鉄道",null,{"$f":"IF('2)現況推計結果の入力'!$M$9=1,IF('2)現況推計結果の入力'!M27=\"\",\"\",'2)現況推計結果の入力'!M27),IF('2)現況推計結果の入力'!F27=\"\",\"\",'2)現況推計結果の入力'!F27))","v":""},{"$f":"IF(F28=\"\",\"\",IF('2)現況推計結果の入力'!$M$9=1,'2)現況推計結果の入力'!F27,\"\"))","v":""},{"$f":"IF('3)BAU排出量の推計'!F27=\"\",\"\",'3)BAU排出量の推計'!F27)","v":""},{"$f":"IF(H28=\"\",\"\",IF('2)現況推計結果の入力'!$M$9=1,'2)現況推計結果の入力'!J27,\"\"))","v":""},{"$f":"IF('6)中期目標の設定'!H27=\"\",\"\",'6)中期目標の設定'!H27)","v":""},{"$f":"IF('6)中期目標の設定'!I27=\"\",\"\",'6)中期目標の設定'!I27)","v":0},{"$f":"IF('6)中期目標の設定'!J27=\"\",\"\",'6)中期目標の設定'!J27)","v":""},{"$f":"IF('6)中期目標の設定'!K27=\"\",\"\",'6)中期目標の設定'!K27)","v":""},{"$f":"IF('6)中期目標の設定'!M27=\"\",\"\",'6)中期目標の設定'!M27)","v":""},{"$f":"IF('6)中期目標の設定'!Q27=\"\",\"\",'6)中期目標の設定'!Q27)","v":""},{"$f":"IF('6)中期目標の設定'!R27=\"\",\"\",'6)中期目標の設定'!R27)","v":""},{"$f":"IF('6)中期目標の設定'!S27=\"\",\"\",'6)中期目標の設定'!S27)","v":""},null,null,null,null,{"$f":"IF('4)短期目標の設定'!M27=\"\",\"\",'4)短期目標の設定'!M27)","v":""},{"$f":"IF('4)短期目標の設定'!N27=\"\",\"\",'4)短期目標の設定'!N27)","v":""},{"$f":"IF('4)短期目標の設定'!O27=\"\",\"\",'4)短期目標の設定'!O27)","v":""},{"$f":"IF('4)短期目標の設定'!P27=\"\",\"\",'4)短期目標の設定'!P27)","v":""},{"$f":"IF('4)短期目標の設定'!Q27=\"\",\"\",'4)短期目標の設定'!Q27)","v":""},{"$f":"IF('4)短期目標の設定'!R27=\"\",\"\",'4)短期目標の設定'!R27)","v":""},{"$f":"IF($AB$11=\"\",\"\",IF('3)BAU排出量の推計'!$R$10=1,'3)BAU排出量の推計'!Q27,'3)BAU排出量の推計'!I27))","v":""},"",{"$f":"IF($AB$11=\"\",\"\",IF(AND('3)BAU排出量の推計'!L27=\"\",'2)現況推計結果の入力'!K27=\"\"),\"\",IF('3)BAU排出量の推計'!L27<>\"\",IF('3)BAU排出量の推計'!L27=0,0,IF(P28=\"\",\"\",P28/'3)BAU排出量の推計'!L27)),IF('2)現況推計結果の入力'!K27=0,0,IF(P28=\"\",\"\",P28/'2)現況推計結果の入力'!K27)))))","v":""},"",{"$f":"IF($AB$11=\"\",\"\",'4)短期目標の設定'!S27)","v":""}]
[{"$f":"'3)BAU排出量の推計'!A28","v":1},null,null,"船舶",null,{"$f":"IF('2)現況推計結果の入力'!$M$9=1,IF('2)現況推計結果の入力'!M28=\"\",\"\",'2)現況推計結果の入力'!M28),IF('2)現況推計結果の入力'!F28=\"\",\"\",'2)現況推計結果の入力'!F28))","v":""},{"$f":"IF(F29=\"\",\"\",IF('2)現況推計結果の入力'!$M$9=1,'2)現況推計結果の入力'!F28,\"\"))","v":""},{"$f":"IF('3)BAU排出量の推計'!F28=\"\",\"\",'3)BAU排出量の推計'!F28)","v":""},{"$f":"IF(H29=\"\",\"\",IF('2)現況推計結果の入力'!$M$9=1,'2)現況推計結果の入力'!J28,\"\"))","v":""},{"$f":"IF('6)中期目標の設定'!H28=\"\",\"\",'6)中期目標の設定'!H28)","v":""},{"$f":"IF('6)中期目標の設定'!I28=\"\",\"\",'6)中期目標の設定'!I28)","v":0},{"$f":"IF('6)中期目標の設定'!J28=\"\",\"\",'6)中期目標の設定'!J28)","v":""},{"$f":"IF('6)中期目標の設定'!K28=\"\",\"\",'6)中期目標の設定'!K28)","v":""},{"$f":"IF('6)中期目標の設定'!M28=\"\",\"\",'6)中期目標の設定'!M28)","v":""},{"$f":"IF('6)中期目標の設定'!Q28=\"\",\"\",'6)中期目標の設定'!Q28)","v":""},{"$f":"IF('6)中期目標の設定'!R28=\"\",\"\",'6)中期目標の設定'!R28)","v":""},{"$f":"IF('6)中期目標の設定'!S28=\"\",\"\",'6)中期目標の設定'!S28)","v":""},null,null,null,null,{"$f":"IF('4)短期目標の設定'!M28=\"\",\"\",'4)短期目標の設定'!M28)","v":""},{"$f":"IF('4)短期目標の設定'!N28=\"\",\"\",'4)短期目標の設定'!N28)","v":""},{"$f":"IF('4)短期目標の設定'!O28=\"\",\"\",'4)短期目標の設定'!O28)","v":""},{"$f":"IF('4)短期目標の設定'!P28=\"\",\"\",'4)短期目標の設定'!P28)","v":""},{"$f":"IF('4)短期目標の設定'!Q28=\"\",\"\",'4)短期目標の設定'!Q28)","v":""},{"$f":"IF('4)短期目標の設定'!R28=\"\",\"\",'4)短期目標の設定'!R28)","v":""},{"$f":"IF($AB$11=\"\",\"\",IF('3)BAU排出量の推計'!$R$10=1,'3)BAU排出量の推計'!Q28,'3)BAU排出量の推計'!I28))","v":""},"",{"$f":"IF($AB$11=\"\",\"\",IF(AND('3)BAU排出量の推計'!L28=\"\",'2)現況推計結果の入力'!K28=\"\"),\"\",IF('3)BAU排出量の推計'!L28<>\"\",IF('3)BAU排出量の推計'!L28=0,0,IF(P29=\"\",\"\",P29/'3)BAU排出量の推計'!L28)),IF('2)現況推計結果の入力'!K28=0,0,IF(P29=\"\",\"\",P29/'2)現況推計結果の入力'!K28)))))","v":""},"",{"$f":"IF($AB$11=\"\",\"\",'4)短期目標の設定'!S28)","v":""}]
[{"$f":"'3)BAU排出量の推計'!A29","v":1},null,null,"航空",null,{"$f":"IF('2)現況推計結果の入力'!$M$9=1,IF('2)現況推計結果の入力'!M29=\"\",\"\",'2)現況推計結果の入力'!M29),IF('2)現況推計結果の入力'!F29=\"\",\"\",'2)現況推計結果の入力'!F29))","v":""},{"$f":"IF(F30=\"\",\"\",IF('2)現況推計結果の入力'!$M$9=1,'2)現況推計結果の入力'!F29,\"\"))","v":""},{"$f":"IF('3)BAU排出量の推計'!F29=\"\",\"\",'3)BAU排出量の推計'!F29)","v":""},{"$f":"IF(H30=\"\",\"\",IF('2)現況推計結果の入力'!$M$9=1,'2)現況推計結果の入力'!J29,\"\"))","v":""},{"$f":"IF('6)中期目標の設定'!H29=\"\",\"\",'6)中期目標の設定'!H29)","v":""},{"$f":"IF('6)中期目標の設定'!I29=\"\",\"\",'6)中期目標の設定'!I29)","v":0},{"$f":"IF('6)中期目標の設定'!J29=\"\",\"\",'6)中期目標の設定'!J29)","v":""},{"$f":"IF('6)中期目標の設定'!K29=\"\",\"\",'6)中期目標の設定'!K29)","v":""},{"$f":"IF('6)中期目標の設定'!M29=\"\",\"\",'6)中期目標の設定'!M29)","v":""},{"$f":"IF('6)中期目標の設定'!Q29=\"\",\"\",'6)中期目標の設定'!Q29)","v":""},{"$f":"IF('6)中期目標の設定'!R29=\"\",\"\",'6)中期目標の設定'!R29)","v":""},{"$f":"IF('6)中期目標の設定'!S29=\"\",\"\",'6)中期目標の設定'!S29)","v":""},null,null,null,null,{"$f":"IF('4)短期目標の設定'!M29=\"\",\"\",'4)短期目標の設定'!M29)","v":""},{"$f":"IF('4)短期目標の設定'!N29=\"\",\"\",'4)短期目標の設定'!N29)","v":""},{"$f":"IF('4)短期目標の設定'!O29=\"\",\"\",'4)短期目標の設定'!O29)","v":""},{"$f":"IF('4)短期目標の設定'!P29=\"\",\"\",'4)短期目標の設定'!P29)","v":""},{"$f":"IF('4)短期目標の設定'!Q29=\"\",\"\",'4)短期目標の設定'!Q29)","v":""},{"$f":"IF('4)短期目標の設定'!R29=\"\",\"\",'4)短期目標の設定'!R29)","v":""},{"$f":"IF($AB$11=\"\",\"\",IF('3)BAU排出量の推計'!$R$10=1,'3)BAU排出量の推計'!Q29,'3)BAU排出量の推計'!I29))","v":""},"",{"$f":"IF($AB$11=\"\",\"\",IF(AND('3)BAU排出量の推計'!L29=\"\",'2)現況推計結果の入力'!K29=\"\"),\"\",IF('3)BAU排出量の推計'!L29<>\"\",IF('3)BAU排出量の推計'!L29=0,0,IF(P30=\"\",\"\",P30/'3)BAU排出量の推計'!L29)),IF('2)現況推計結果の入力'!K29=0,0,IF(P30=\"\",\"\",P30/'2)現況推計結果の入力'!K29)))))","v":""},"",{"$f":"IF($AB$11=\"\",\"\",'4)短期目標の設定'!S29)","v":""}]
[{"$f":"SUM(A26:A30)","v":5},null,null,"小計",null,{"$f":"SUM(F26:F30)","v":0},{"$f":"IF('2)現況推計結果の入力'!$M$9=1,SUM(G26:G30),\"\")","v":""},{"$f":"SUM(H26:H30)","v":0},{"$f":"IF('2)現況推計結果の入力'!$M$9=1,SUM(I26:I30),\"\")","v":""},{"$f":"SUM(J26:J30)","v":0},{"$f":"SUM(K26:K30)","v":0},{"$f":"SUM(L26:L30)","v":0},{"$f":"IF(F31=\"\",\"\",IF(F31=0,0,IF(L31=\"\",\"\",(1-(L31/F31)))))","v":0},{"$f":"IF($N$11=\"\",\"\",SUM(N26:N30))","v":""},{"$f":"IF($N$11=\"\",\"\",SUM(O26:O30))","v":""},{"$f":"IF($N$11=\"\",\"\",SUM(P26:P30))","v":""},{"$f":"IF($N$11=\"\",\"\",IF($F31=\"\",\"\",IF($F31=0,0,IF(P31=\"\",\"\",(1-(P31/$F31))))))","v":""}]
[{"$f":"'3)BAU排出量の推計'!A30","v":1},"エネルギー起源CO2以外","工業プロセス分野",null,null,{"$f":"IF('2)現況推計結果の入力'!$M$9=1,IF('2)現況推計結果の入力'!M30=\"\",\"\",'2)現況推計結果の入力'!M30),IF('2)現況推計結果の入力'!F30=\"\",\"\",'2)現況推計結果の入力'!F30))","v":""},{"$f":"IF(F32=\"\",\"\",IF('2)現況推計結果の入力'!$M$9=1,'2)現況推計結果の入力'!F30,\"\"))","v":""},{"$f":"IF('3)BAU排出量の推計'!F30=\"\",\"\",'3)BAU排出量の推計'!F30)","v":""},{"$f":"IF(H32=\"\",\"\",IF('2)現況推計結果の入力'!$M$9=1,'2)現況推計結果の入力'!J30,\"\"))","v":""},{"$f":"IF('6)中期目標の設定'!H30=\"\",\"\",'6)中期目標の設定'!H30)","v":""},{"$f":"IF('6)中期目標の設定'!I30=\"\",\"\",'6)中期目標の設定'!I30)","v":0},{"$f":"IF('6)中期目標の設定'!J30=\"\",\"\",'6)中期目標の設定'!J30)","v":""},{"$f":"IF('6)中期目標の設定'!K30=\"\",\"\",'6)中期目標の設定'!K30)","v":""},{"$f":"IF('6)中期目標の設定'!M30=\"\",\"\",'6)中期目標の設定'!M30)","v":""},{"$f":"IF('6)中期目標の設定'!Q30=\"\",\"\",'6)中期目標の設定'!Q30)","v":""},{"$f":"IF('6)中期目標の設定'!R30=\"\",\"\",'6)中期目標の設定'!R30)","v":""},{"$f":"IF('6)中期目標の設定'!S30=\"\",\"\",'6)中期目標の設定'!S30)","v":""},null,null,null,null,{"$f":"IF('4)短期目標の設定'!M30=\"\",\"\",'4)短期目標の設定'!M30)","v":""},{"$f":"IF('4)短期目標の設定'!N30=\"\",\"\",'4)短期目標の設定'!N30)","v":""},{"$f":"IF('4)短期目標の設定'!O30=\"\",\"\",'4)短期目標の設定'!O30)","v":""},{"$f":"IF('4)短期目標の設定'!P30=\"\",\"\",'4)短期目標の設定'!P30)","v":""},{"$f":"IF('4)短期目標の設定'!Q30=\"\",\"\",'4)短期目標の設定'!Q30)","v":""},{"$f":"IF('4)短期目標の設定'!R30=\"\",\"\",'4)短期目標の設定'!R30)","v":""},{"$f":"IF($AB$11=\"\",\"\",IF('3)BAU排出量の推計'!$R$10=1,'3)BAU排出量の推計'!Q30,'3)BAU排出量の推計'!I30))","v":""},"",{"$f":"IF($AB$11=\"\",\"\",IF(AND('3)BAU排出量の推計'!L30=\"\",'2)現況推計結果の入力'!K30=\"\"),\"\",IF('3)BAU排出量の推計'!L30<>\"\",IF('3)BAU排出量の推計'!L30=0,0,IF(P32=\"\",\"\",P32/'3)BAU排出量の推計'!L30)),IF('2)現況推計結果の入力'!K30=0,0,IF(P32=\"\",\"\",P32/'2)現況推計結果の入力'!K30)))))","v":""},"",{"$f":"IF($AB$11=\"\",\"\",'4)短期目標の設定'!S30)","v":""}]
[{"$f":"'3)BAU排出量の推計'!A31","v":1},null,"廃棄物分野","一般廃棄物",null,{"$f":"IF('2)現況推計結果の入力'!$M$9=1,IF('2)現況推計結果の入力'!M31=\"\",\"\",'2)現況推計結果の入力'!M31),IF('2)現況推計結果の入力'!F31=\"\",\"\",'2)現況推計結果の入力'!F31))","v":""},{"$f":"IF(F33=\"\",\"\",IF('2)現況推計結果の入力'!$M$9=1,'2)現況推計結果の入力'!F31,\"\"))","v":""},{"$f":"IF('3)BAU排出量の推計'!F31=\"\",\"\",'3)BAU排出量の推計'!F31)","v":""},{"$f":"IF(H33=\"\",\"\",IF('2)現況推計結果の入力'!$M$9=1,'2)現況推計結果の入力'!J31,\"\"))","v":""},{"$f":"IF('6)中期目標の設定'!H31=\"\",\"\",'6)中期目標の設定'!H31)","v":""},{"$f":"IF('6)中期目標の設定'!I31=\"\",\"\",'6)中期目標の設定'!I31)","v":0},{"$f":"IF('6)中期目標の設定'!J31=\"\",\"\",'6)中期目標の設定'!J31)","v":""},{"$f":"IF('6)中期目標の設定'!K31=\"\",\"\",'6)中期目標の設定'!K31)","v":""},{"$f":"IF('6)中期目標の設定'!M31=\"\",\"\",'6)中期目標の設定'!M31)","v":""},{"$f":"IF('6)中期目標の設定'!Q31=\"\",\"\",'6)中期目標の設定'!Q31)","v":""},{"$f":"IF('6)中期目標の設定'!R31=\"\",\"\",'6)中期目標の設定'!R31)","v":""},{"$f":"IF('6)中期目標の設定'!S31=\"\",\"\",'6)中期目標の設定'!S31)","v":""},null,null,null,null,{"$f":"IF('4)短期目標の設定'!M31=\"\",\"\",'4)短期目標の設定'!M31)","v":""},{"$f":"IF('4)短期目標の設定'!N31=\"\",\"\",'4)短期目標の設定'!N31)","v":""},{"$f":"IF('4)短期目標の設定'!O31=\"\",\"\",'4)短期目標の設定'!O31)","v":""},{"$f":"IF('4)短期目標の設定'!P31=\"\",\"\",'4)短期目標の設定'!P31)","v":""},{"$f":"IF('4)短期目標の設定'!Q31=\"\",\"\",'4)短期目標の設定'!Q31)","v":""},{"$f":"IF('4)短期目標の設定'!R31=\"\",\"\",'4)短期目標の設定'!R31)","v":""},{"$f":"IF($AB$11=\"\",\"\",IF('3)BAU排出量の推計'!$R$10=1,'3)BAU排出量の推計'!Q31,'3)BAU排出量の推計'!I31))","v":""},"",{"$f":"IF($AB$11=\"\",\"\",IF(AND('3)BAU排出量の推計'!L31=\"\",'2)現況推計結果の入力'!K31=\"\"),\"\",IF('3)BAU排出量の推計'!L31<>\"\",IF('3)BAU排出量の推計'!L31=0,0,IF(P33=\"\",\"\",P33/'3)BAU排出量の推計'!L31)),IF('2)現況推計結果の入力'!K31=0,0,IF(P33=\"\",\"\",P33/'2)現況推計結果の入力'!K31)))))","v":""},"",{"$f":"IF($AB$11=\"\",\"\",'4)短期目標の設定'!S31)","v":""}]
[{"$f":"'3)BAU排出量の推計'!A32","v":1},null,null,"産業廃棄物",null,{"$f":"IF('2)現況推計結果の入力'!$M$9=1,IF('2)現況推計結果の入力'!M32=\"\",\"\",'2)現況推計結果の入力'!M32),IF('2)現況推計結果の入力'!F32=\"\",\"\",'2)現況推計結果の入力'!F32))","v":""},{"$f":"IF(F34=\"\",\"\",IF('2)現況推計結果の入力'!$M$9=1,'2)現況推計結果の入力'!F32,\"\"))","v":""},{"$f":"IF('3)BAU排出量の推計'!F32=\"\",\"\",'3)BAU排出量の推計'!F32)","v":""},{"$f":"IF(H34=\"\",\"\",IF('2)現況推計結果の入力'!$M$9=1,'2)現況推計結果の入力'!J32,\"\"))","v":""},{"$f":"IF('6)中期目標の設定'!H32=\"\",\"\",'6)中期目標の設定'!H32)","v":""},{"$f":"IF('6)中期目標の設定'!I32=\"\",\"\",'6)中期目標の設定'!I32)","v":0},{"$f":"IF('6)中期目標の設定'!J32=\"\",\"\",'6)中期目標の設定'!J32)","v":""},{"$f":"IF('6)中期目標の設定'!K32=\"\",\"\",'6)中期目標の設定'!K32)","v":""},{"$f":"IF('6)中期目標の設定'!M32=\"\",\"\",'6)中期目標の設定'!M32)","v":""},{"$f":"IF('6)中期目標の設定'!Q32=\"\",\"\",'6)中期目標の設定'!Q32)","v":""},{"$f":"IF('6)中期目標の設定'!R32=\"\",\"\",'6)中期目標の設定'!R32)","v":""},{"$f":"IF('6)中期目標の設定'!S32=\"\",\"\",'6)中期目標の設定'!S32)","v":""},null,null,null,null,{"$f":"IF('4)短期目標の設定'!M32=\"\",\"\",'4)短期目標の設定'!M32)","v":""},{"$f":"IF('4)短期目標の設定'!N32=\"\",\"\",'4)短期目標の設定'!N32)","v":""},{"$f":"IF('4)短期目標の設定'!O32=\"\",\"\",'4)短期目標の設定'!O32)","v":""},{"$f":"IF('4)短期目標の設定'!P32=\"\",\"\",'4)短期目標の設定'!P32)","v":""},{"$f":"IF('4)短期目標の設定'!Q32=\"\",\"\",'4)短期目標の設定'!Q32)","v":""},{"$f":"IF('4)短期目標の設定'!R32=\"\",\"\",'4)短期目標の設定'!R32)","v":""},{"$f":"IF($AB$11=\"\",\"\",IF('3)BAU排出量の推計'!$R$10=1,'3)BAU排出量の推計'!Q32,'3)BAU排出量の推計'!I32))","v":""},"",{"$f":"IF($AB$11=\"\",\"\",IF(AND('3)BAU排出量の推計'!L32=\"\",'2)現況推計結果の入力'!K32=\"\"),\"\",IF('3)BAU排出量の推計'!L32<>\"\",IF('3)BAU排出量の推計'!L32=0,0,IF(P34=\"\",\"\",P34/'3)BAU排出量の推計'!L32)),IF('2)現況推計結果の入力'!K32=0,0,IF(P34=\"\",\"\",P34/'2)現況推計結果の入力'!K32)))))","v":""},"",{"$f":"IF($AB$11=\"\",\"\",'4)短期目標の設定'!S32)","v":""}]
[{"$f":"SUM(A33:A34)","v":2},null,null,"小計",null,{"$f":"SUM(F33:F34)","v":0},{"$f":"IF('2)現況推計結果の入力'!$M$9=1,SUM(G33:G34),\"\")","v":""},{"$f":"SUM(H33:H34)","v":0},{"$f":"IF('2)現況推計結果の入力'!$M$9=1,SUM(I33:I34),\"\")","v":""},{"$f":"SUM(J33:J34)","v":0},{"$f":"SUM(K33:K34)","v":0},{"$f":"SUM(L33:L34)","v":0},{"$f":"IF(F35=\"\",\"\",IF(F35=0,0,IF(L35=\"\",\"\",(1-(L35/F35)))))","v":0},{"$f":"IF($N$11=\"\",\"\",SUM(N33:N34))","v":""},{"$f":"IF($N$11=\"\",\"\",SUM(O33:O34))","v":""},{"$f":"IF($N$11=\"\",\"\",SUM(P33:P34))","v":""},{"$f":"IF($N$11=\"\",\"\",IF($F35=\"\",\"\",IF($F35=0,0,IF(P35=\"\",\"\",(1-(P35/$F35))))))","v":""}]
[{"$f":"'3)BAU排出量の推計'!A33","v":1},null,"農業分野",null,null,{"$f":"IF('2)現況推計結果の入力'!$M$9=1,IF('2)現況推計結果の入力'!M33=\"\",\"\",'2)現況推計結果の入力'!M33),IF('2)現況推計結果の入力'!F33=\"\",\"\",'2)現況推計結果の入力'!F33))","v":""},{"$f":"IF(F36=\"\",\"\",IF('2)現況推計結果の入力'!$M$9=1,'2)現況推計結果の入力'!F33,\"\"))","v":""},{"$f":"IF('3)BAU排出量の推計'!F33=\"\",\"\",'3)BAU排出量の推計'!F33)","v":""},{"$f":"IF(H36=\"\",\"\",IF('2)現況推計結果の入力'!$M$9=1,'2)現況推計結果の入力'!J33,\"\"))","v":""},{"$f":"IF('6)中期目標の設定'!H33=\"\",\"\",'6)中期目標の設定'!H33)","v":""},{"$f":"IF('6)中期目標の設定'!I33=\"\",\"\",'6)中期目標の設定'!I33)","v":0},{"$f":"IF('6)中期目標の設定'!J33=\"\",\"\",'6)中期目標の設定'!J33)","v":""},{"$f":"IF('6)中期目標の設定'!K33=\"\",\"\",'6)中期目標の設定'!K33)","v":""},{"$f":"IF('6)中期目標の設定'!M33=\"\",\"\",'6)中期目標の設定'!M33)","v":""},{"$f":"IF('6)中期目標の設定'!Q33=\"\",\"\",'6)中期目標の設定'!Q33)","v":""},{"$f":"IF('6)中期目標の設定'!R33=\"\",\"\",'6)中期目標の設定'!R33)","v":""},{"$f":"IF('6)中期目標の設定'!S33=\"\",\"\",'6)中期目標の設定'!S33)","v":""},null,null,null,null,{"$f":"IF('4)短期目標の設定'!M33=\"\",\"\",'4)短期目標の設定'!M33)","v":""},{"$f":"IF('4)短期目標の設定'!N33=\"\",\"\",'4)短期目標の設定'!N33)","v":""},{"$f":"IF('4)短期目標の設定'!O33=\"\",\"\",'4)短期目標の設定'!O33)","v":""},{"$f":"IF('4)短期目標の設定'!P33=\"\",\"\",'4)短期目標の設定'!P33)","v":""},{"$f":"IF('4)短期目標の設定'!Q33=\"\",\"\",'4)短期目標の設定'!Q33)","v":""},{"$f":"IF('4)短期目標の設定'!R33=\"\",\"\",'4)短期目標の設定'!R33)","v":""},{"$f":"IF($AB$11=\"\",\"\",IF('3)BAU排出量の推計'!$R$10=1,'3)BAU排出量の推計'!Q33,'3)BAU排出量の推計'!I33))","v":""},"",{"$f":"IF($AB$11=\"\",\"\",IF(AND('3)BAU排出量の推計'!L33=\"\",'2)現況推計結果の入力'!K33=\"\"),\"\",IF('3)BAU排出量の推計'!L33<>\"\",IF('3)BAU排出量の推計'!L33=0,0,IF(P36=\"\",\"\",P36/'3)BAU排出量の推計'!L33)),IF('2)現況推計結果の入力'!K33=0,0,IF(P36=\"\",\"\",P36/'2)現況推計結果の入力'!K33)))))","v":""},"",{"$f":"IF($AB$11=\"\",\"\",'4)短期目標の設定'!S33)","v":""}]
[{"$f":"'3)BAU排出量の推計'!A34","v":1},null,"代替フロン等4ガス分野",null,null,{"$f":"IF('2)現況推計結果の入力'!$M$9=1,IF('2)現況推計結果の入力'!M34=\"\",\"\",'2)現況推計結果の入力'!M34),IF('2)現況推計結果の入力'!F34=\"\",\"\",'2)現況推計結果の入力'!F34))","v":""},{"$f":"IF(F37=\"\",\"\",IF('2)現況推計結果の入力'!$M$9=1,'2)現況推計結果の入力'!F34,\"\"))","v":""},{"$f":"IF('3)BAU排出量の推計'!F34=\"\",\"\",'3)BAU排出量の推計'!F34)","v":""},{"$f":"IF(H37=\"\",\"\",IF('2)現況推計結果の入力'!$M$9=1,'2)現況推計結果の入力'!J34,\"\"))","v":""},{"$f":"IF('6)中期目標の設定'!H34=\"\",\"\",'6)中期目標の設定'!H34)","v":""},{"$f":"IF('6)中期目標の設定'!I34=\"\",\"\",'6)中期目標の設定'!I34)","v":0},{"$f":"IF('6)中期目標の設定'!J34=\"\",\"\",'6)中期目標の設定'!J34)","v":""},{"$f":"IF('6)中期目標の設定'!K34=\"\",\"\",'6)中期目標の設定'!K34)","v":""},{"$f":"IF('6)中期目標の設定'!M34=\"\",\"\",'6)中期目標の設定'!M34)","v":""},{"$f":"IF('6)中期目標の設定'!Q34=\"\",\"\",'6)中期目標の設定'!Q34)","v":""},{"$f":"IF('6)中期目標の設定'!R34=\"\",\"\",'6)中期目標の設定'!R34)","v":""},{"$f":"IF('6)中期目標の設定'!S34=\"\",\"\",'6)中期目標の設定'!S34)","v":""},null,null,null,null,{"$f":"IF('4)短期目標の設定'!M34=\"\",\"\",'4)短期目標の設定'!M34)","v":""},{"$f":"IF('4)短期目標の設定'!N34=\"\",\"\",'4)短期目標の設定'!N34)","v":""},{"$f":"IF('4)短期目標の設定'!O34=\"\",\"\",'4)短期目標の設定'!O34)","v":""},{"$f":"IF('4)短期目標の設定'!P34=\"\",\"\",'4)短期目標の設定'!P34)","v":""},{"$f":"IF('4)短期目標の設定'!Q34=\"\",\"\",'4)短期目標の設定'!Q34)","v":""},{"$f":"IF('4)短期目標の設定'!R34=\"\",\"\",'4)短期目標の設定'!R34)","v":""},{"$f":"IF($AB$11=\"\",\"\",IF('3)BAU排出量の推計'!$R$10=1,'3)BAU排出量の推計'!Q34,'3)BAU排出量の推計'!I34))","v":""},"",{"$f":"IF($AB$11=\"\",\"\",IF(AND('3)BAU排出量の推計'!L34=\"\",'2)現況推計結果の入力'!K34=\"\"),\"\",IF('3)BAU排出量の推計'!L34<>\"\",IF('3)BAU排出量の推計'!L34=0,0,IF(P37=\"\",\"\",P37/'3)BAU排出量の推計'!L34)),IF('2)現況推計結果の入力'!K34=0,0,IF(P37=\"\",\"\",P37/'2)現況推計結果の入力'!K34)))))","v":""},{"$f":"IF($AB$11=\"\",\"\",IF(V37=\"\",\"\",IF(V37=0,0,IF(AD37=\"\",\"\",1-(AD37/V37)))))","v":""},{"$f":"IF($AB$11=\"\",\"\",'4)短期目標の設定'!S34)","v":""}]
[null,null,"吸収",null,null,null,null,null,null,null,{"$f":"IF('6)中期目標の設定'!I35=\"\",\"\",'6)中期目標の設定'!I35)","v":0},null,null,null,{"$f":"IF('6)中期目標の設定'!Q35=\"\",\"\",'6)中期目標の設定'!Q35)","v":""}]
[null,"合計",null,null,null,{"$f":"SUM(F14,F16:F19,F21,F23:F24,F25,F26:F30,F32:F34,F36:F37,F38)","v":0},{"$f":"IF('2)現況推計結果の入力'!$M$9=1,SUM(G14,G16:G19,G21,G23:G24,G25,G26:G30,G32:G34,G36:G37,G38),\"\")","v":""},{"$f":"SUM(H14,H16:H19,H21,H23:H24,H25,H26:H30,H32:H34,H36:H37,H38)","v":0},{"$f":"IF('2)現況推計結果の入力'!$M$9=1,SUM(I14,I16:I19,I21,I23:I24,I25,I26:I30,I32:I34,I36:I37,I38),\"\")","v":""},{"$f":"SUM(J14,J16:J19,J21,J23:J24,J25,J26:J30,J32:J34,J36:J37,J38)","v":0},{"$f":"SUM(K14,K16:K19,K21,K23:K24,K25,K26:K30,K32:K34,K36:K37,K38)","v":0},{"$f":"SUM(L14,L16:L19,L21,L23:L24,L25,L26:L30,L32:L34,L36:L37,L38)","v":0},{"$f":"IF(F39=\"\",\"\",IF(F39=0,0,IF(L39=\"\",\"\",(1-(L39/F39)))))","v":0},{"$f":"IF($N$11=\"\",\"\",SUM(N14,N16:N19,N21,N23:N24,N25,N26:N30,N32:N34,N36:N37,N38))","v":""},{"$f":"IF($N$11=\"\",\"\",SUM(O14,O16:O19,O21,O23:O24,O25,O26:O30,O32:O34,O36:O37,O38))","v":""},{"$f":"IF($N$11=\"\",\"\",SUM(P14,P16:P19,P21,P23:P24,P25,P26:P30,P32:P34,P36:P37,P38))","v":""},{"$f":"IF($N$11=\"\",\"\",IF($F39=\"\",\"\",IF($F39=0,0,IF(P39=\"\",\"\",(1-(P39/$F39))))))","v":""},{"$f":"IF('6)中期目標の設定'!X36=\"\",\"\",'6)中期目標の設定'!X36)","v":""},{"$f":"IF('6)中期目標の設定'!Y36=\"\",\"\",'6)中期目標の設定'!Y36)","v":""},{"$f":"IF(R11=\"\",\"\",IF(F39=\"\",\"\",IF(F39=0,0,IF(ISERROR(R39/F39),\"\",R39/F39))))","v":""}]
[null,"合計　（吸収による削減量を加味しない場合）",null,null,null,{"$f":"F39","v":0},{"$f":"G39","v":""},{"$f":"H39","v":0},{"$f":"I39","v":""},{"$f":"J39","v":0},{"$f":"SUM(K14,K16:K19,K21,K23:K24,K25,K26:K30,K32:K34,K36:K37)","v":0},{"$f":"L39","v":0},{"$f":"IF(F40=\"\",\"\",IF(F40=0,0,IF(L40=\"\",\"\",(1-(L40/F40)))))","v":0},{"$f":"N39","v":""},{"$f":"IF($N$11=\"\",\"\",SUM(O14,O16:O19,O21,O23:O24,O25,O26:O30,O32:O34,O36:O37))","v":""},{"$f":"P39","v":""},{"$f":"IF($N$11=\"\",\"\",IF($F40=\"\",\"\",IF($F40=0,0,IF(P40=\"\",\"\",(1-(P40/$F40))))))","v":""},{"$f":"R39","v":""},{"$f":"S39","v":""},{"$f":"T39","v":""}]
[]
[null,"人口",null,null,null,{"$f":"IF('1)基本設定'!$I$21=\"\",\"\",'1)基本設定'!$I$21)","v":""},null,{"$f":"IF('1)基本設定'!$I$22=\"\",\"\",'1)基本設定'!$I$22)","v":""},null,{"$f":"IF('1)基本設定'!$I$25=\"\",\"\",'1)基本設定'!$I$25)","v":""},null,null,null,{"$f":"IF(N11=\"\",\"\",IF('1)基本設定'!$I$27=\"\",\"\",'1)基本設定'!$I$27))","v":""},null,null,null,{"$f":"IF(R11=\"\",\"\",IF('1)基本設定'!$I$28=\"\",\"\",'1)基本設定'!$I$28))","v":""}]
[null,"人口１人当たりの総排出量（t-CO2/人）：",null,null,null,{"$f":"IF(ISERROR(F39/F42),\"\",F39/F42)","v":""},{"$f":"IF(ISERROR(G39/F42),\"\",G39/F42)","v":""},{"$f":"IF(ISERROR(H39/H42),\"\",H39/H42)","v":""},{"$f":"IF(ISERROR(I39/H42),\"\",I39/H42)","v":""},{"$f":"IF(ISERROR(J39/J42),\"\",J39/J42)","v":""},null,{"$f":"IF(ISERROR(L39/J42),\"\",L39/J42)","v":""},null,{"$f":"IF(ISERROR(N39/N42),\"\",N39/N42)","v":""},null,{"$f":"IF(ISERROR(P39/N42),\"\",P39/N42)","v":""},null,null,{"$f":"IF(ISERROR(S39/R42),\"\",S39/R42)","v":""}]
[]
[null,"\n本シートでは5種類のグラフを自動出力します。グラフサイズやデザインは自由に変更できます。\n本シートで出力するグラフは１）基本設定シートで設定した部門／分野を対象としています。\nなお、対策として森林吸収を設定している場合はこれを除いた目標量をグラフ化しています。\n"]
[null,null,null,null,null,null,null,null,null,null,null,null,null,null,"\n※基準年や現状年、目標年等は自由に設定できるため、グラフの横軸は実際の時間軸の長さとは一致していません。そのため線形に引かれたフォアキャスト中期目標やバックキャスト中期目標の補助線が直線にならない場合があります。\n\n実際の時間軸の長さでグラフを出力したい場合には以下のグラフ（実際の年間隔）出力ボタンを押してください。別シートでグラフが出力されます。"]
[]
[]
[]
[]
[null,"①温室効果ガス排出量の実績と目標（中期目標確認時）",null,null,null,null,null,null,null,null,null,null,"②温室効果ガス排出量の実績と目標",null,null,null,null,null,null,null,null,null,null,"③温室効果ガス排出量の実績と目標（大分類）"]
[]
[]
[]
[]
[]
[]
[]
[]
[]
[]
[]
[]
[]
[]
[]
[]
[]
[]
[]
[]
[]
[null,"④ 1人当たりの排出量の実績と目標",null,null,null,null,null,null,null,null,null,null,"⑤排出原単位の実績と目標"]
[]
[]
[]
[]
[]
[]
[]
[]
[]
[]
[]
[]
[]
[]
[]
[]
[]
[]
[null,null,null,null,null,null,null,null,null,null,null,null,"※基準年を100とした場合の部門／分野別の排出原単位（排出量÷活動量）を表示しています。"]
[]
[]
[]
[]
[null,"＜グラフ出力用＞"]
[null,"■排出量の実績と目標（部門/分野ごと）"]
[null,null,null,"グラフラベル用",null,{"$f":"IF('1)基本設定'!F21=\"\",\"\",'1)基本設定'!F21)","v":2013},null,null,null,{"$f":"IF('1)基本設定'!F22=\"\",\"\",'1)基本設定'!F22 )","v":2014},null,null,null,null,{"$f":"IF('1)基本設定'!F25=\"\",\"\",'1)基本設定'!F25)","v":2030},null,{"$f":"IF('1)基本設定'!E27=\"設定しない\",\"\",IF('1)基本設定'!F27=\"\",\"\",'1)基本設定'!F27))","v":""},null,{"$f":"IF('1)基本設定'!E28=\"設定しない\",\"\",IF('1)基本設定'!F28=\"\",\"\",'1)基本設定'!F28 ))","v":""}]
[null,"産業","製造業","産業（製造業）",null,{"$f":"SUM(F14:F15)","v":0},null,null,null,{"$f":"SUM(H14:H15)","v":0},null,null,null,null,{"$f":"SUM(L14:L15)","v":0},null,{"$f":"SUM(P14:P15)","v":0}]
[null,null,"建設・鉱業","産業（建設業・鉱業）",null,{"$f":"F18","v":""},null,null,null,{"$f":"H18","v":""},null,null,null,null,{"$f":"L18","v":""},null,{"$f":"P18","v":""}]
[null,null,"農林水産業","産業（農林水産業）",null,{"$f":"F19","v":""},null,null,null,{"$f":"H19","v":""},null,null,null,null,{"$f":"L19","v":""},null,{"$f":"P19","v":""}]
[null,"業務",null,"業務その他",null,{"$f":"SUM(F21:F22)","v":0},null,null,null,{"$f":"SUM(H21:H22)","v":0},null,null,null,null,{"$f":"SUM(L21:L22)","v":0},null,{"$f":"SUM(P21:P22)","v":0}]
[null,"家庭",null,"家庭",null,{"$f":"SUM(F25)","v":0},null,null,null,{"$f":"SUM(H25)","v":0},null,null,null,null,{"$f":"L25","v":""},null,{"$f":"P25","v":""}]
[null,"運輸","自動車","運輸（自動車）",null,{"$f":"SUM(F26:F27)","v":0},null,null,null,{"$f":"SUM(H26:H27)","v":0},null,null,null,null,{"$f":"SUM(L26:L27)","v":0},null,{"$f":"SUM(P26:P27)","v":0}]
[null,null,"鉄道","運輸（鉄道）",null,{"$f":"F28","v":""},null,null,null,{"$f":"H28","v":""},null,null,null,null,{"$f":"L28","v":""},null,{"$f":"P28","v":""}]
[null,null,"船舶","運輸（船舶）",null,{"$f":"F29","v":""},null,null,null,{"$f":"H29","v":""},null,null,null,null,{"$f":"L29","v":""},null,{"$f":"P29","v":""}]
[null,null,"航空","運輸（航空）",null,{"$f":"F30","v":""},null,null,null,{"$f":"H30","v":""},null,null,null,null,{"$f":"L30","v":""},null,{"$f":"P30","v":""}]
[null,"工業プロセス",null,"工業プロセス",null,{"$f":"F32","v":""},null,null,null,{"$f":"H32","v":""},null,null,null,null,{"$f":"L32","v":""},null,{"$f":"P32","v":""}]
[null,"廃棄物",null,"廃棄物",null,{"$f":"SUM(F33:F34)","v":0},null,null,null,{"$f":"SUM(H33:H34)","v":0},null,null,null,null,{"$f":"SUM(L33:L34)","v":0},null,{"$f":"SUM(P33:P34)","v":0}]
[null,"農業",null,"農業",null,{"$f":"F36","v":""},null,null,null,{"$f":"H36","v":""},null,null,null,null,{"$f":"L36","v":""},null,{"$f":"P36","v":""}]
[null,"代替フロン等4ガス",null,"代替フロン等4ガス",null,{"$f":"F37","v":""},null,null,null,{"$f":"H37","v":""},null,null,null,null,{"$f":"L37","v":""},null,{"$f":"P37","v":""}]
[null,"長期目標",null,"長期目標",null,null,null,null,null,null,null,null,null,null,null,null,null,null,{"$f":"IF(S40=\"\",NA(),S40)","v":{"$error":"#N/A"}}]
[null,"BAU排出量",null,"BAU排出量",null,null,null,null,null,{"$f":"SUM(J100:J112)","v":0},null,null,null,null,{"$f":"SUM(J40)","v":0},null,{"$f":"IF(OR(N40=0,N40=\"\"),NA(),N40)","v":{"$error":"#N/A"}}]
[null,"フォアキャスト中期目標",null,"フォアキャスト中期目標",null,null,null,null,null,{"$f":"IF(Q99=\"\",NA(),SUM(J100:J112))","v":{"$error":"#N/A"}},null,null,null,null,{"$f":"IF(Q99=\"\",NA(),SUM(O100:O112))","v":{"$error":"#N/A"}},null,{"$f":"IF('6)中期目標の設定'!O36=\"\",NA(),'6)中期目標の設定'!O36)","v":{"$error":"#N/A"}}]
[null,"バックキャスト中期目標",null,"バックキャスト中期目標",null,null,null,null,null,{"$f":"IF(OR(Q99=\"\",S99=\"\"),NA(),SUM(J100:J112))","v":{"$error":"#N/A"}},null,null,null,null,null,null,{"$f":"IF('6)中期目標の設定'!U36=\"\",NA(),'6)中期目標の設定'!U36)","v":{"$error":"#N/A"}},null,{"$f":"IF(S113=\"\",NA(),S113)","v":{"$error":"#N/A"}}]
[]
[null,"■排出量の実績と目標（部門ごと）"]
[null,null,null,"グラフラベル用",null,{"$f":"F99","v":2013},null,null,null,{"$f":"J99","v":2014},null,null,null,null,{"$f":"O99","v":2030},null,{"$f":"Q99","v":""},null,{"$f":"S99","v":""}]
[null,null,null,"産業部門",null,{"$f":"IF(SUM(F100:F102)=0,\"\",SUM(F100:F102))","v":""},null,null,null,{"$f":"IF(SUM(J100:J102)=0,\"\",SUM(J100:J102))","v":""},null,null,null,null,{"$f":"IF(SUM(O100:O102)=0,\"\",SUM(O100:O102))","v":""},null,{"$f":"IF(SUM(Q100:Q102)=0,\"\",SUM(Q100:Q102))","v":""},null,{"$f":"IF(SUM(S100:S102)=0,\"\",SUM(S100:S102))","v":""}]
[null,null,null,"業務その他部門",null,{"$f":"IF(F103=0,\"\",F103)","v":""},null,null,null,{"$f":"IF(J103=0,\"\",J103)","v":""},null,null,null,null,{"$f":"IF(O103=0,\"\",O103)","v":""},null,{"$f":"IF(Q103=0,\"\",Q103)","v":""},null,{"$f":"IF(S103=0,\"\",S103)","v":""}]
[null,null,null,"家庭部門",null,{"$f":"IF(F104=0,\"\",F104)","v":""},null,null,null,{"$f":"IF(J104=0,\"\",J104)","v":""},null,null,null,null,{"$f":"IF(O104=0,\"\",O104)","v":""},null,{"$f":"IF(Q104=0,\"\",Q104)","v":""},null,{"$f":"IF(S104=0,\"\",S104)","v":""}]
[null,null,null,"運輸部門",null,{"$f":"IF(SUM(F105:F108)=0,\"\",SUM(F105:F108))","v":""},null,null,null,{"$f":"IF(SUM(J105:J108)=0,\"\",SUM(J105:J108))","v":""},null,null,null,null,{"$f":"IF(SUM(O105:O108)=0,\"\",SUM(O105:O108))","v":""},null,{"$f":"IF(SUM(Q105:Q108)=0,\"\",SUM(Q105:Q108))","v":""},null,{"$f":"IF(SUM(S105:S108)=0,\"\",SUM(S105:S108))","v":""}]
[null,null,null,"工業プロセス分野",null,{"$f":"IF(F109=0,\"\",F109)","v":""},null,null,null,{"$f":"IF(J109=0,\"\",J109)","v":""},null,null,null,null,{"$f":"IF(O109=0,\"\",O109)","v":""},null,{"$f":"IF(Q109=0,\"\",Q109)","v":""},null,{"$f":"IF(S109=0,\"\",S109)","v":""}]
[null,null,null,"廃棄物分野",null,{"$f":"IF(F110=0,\"\",F110)","v":""},null,null,null,{"$f":"IF(J110=0,\"\",J110)","v":""},null,null,null,null,{"$f":"IF(O110=0,\"\",O110)","v":""},null,{"$f":"IF(Q110=0,\"\",Q110)","v":""},null,{"$f":"IF(S110=0,\"\",S110)","v":""}]
[null,null,null,"農業分野",null,{"$f":"IF(F111=0,\"\",F111)","v":""},null,null,null,{"$f":"IF(J111=0,\"\",J111)","v":""},null,null,null,null,{"$f":"IF(O111=0,\"\",O111)","v":""},null,{"$f":"IF(Q111=0,\"\",Q111)","v":""},null,{"$f":"IF(S111=0,\"\",S111)","v":""}]
[null,null,null,"代替フロン等4ガス分野",null,{"$f":"IF(F112=0,\"\",F112)","v":""},null,null,null,{"$f":"IF(J112=0,\"\",J112)","v":""},null,null,null,null,{"$f":"IF(O112=0,\"\",O112)","v":""},null,{"$f":"IF(Q112=0,\"\",Q112)","v":""},null,{"$f":"IF(S112=0,\"\",S112)","v":""}]
[null,null,null,"長期目標",null,{"$f":"IF(F113=0,NA(),F113)","v":{"$error":"#N/A"}},null,null,null,{"$f":"IF(J113=0,NA(),J113)","v":{"$error":"#N/A"}},null,null,null,null,{"$f":"IF(O113=0,NA(),O113)","v":{"$error":"#N/A"}},null,{"$f":"IF(Q113=0,NA(),Q113)","v":{"$error":"#N/A"}},null,{"$f":"IF(S113=0,NA(),S113)","v":{"$error":"#N/A"}}]
[null,null,null,"BAU排出量",null,null,null,null,null,{"$f":"IF(J114=0,NA(),J114)","v":{"$error":"#N/A"}},null,null,null,null,{"$f":"IF(O114=0,NA(),O114)","v":{"$error":"#N/A"}},null,{"$f":"IF(Q114=0,NA(),Q114)","v":{"$error":"#N/A"}},null,{"$f":"IF(S114=0,NA(),S114)","v":{"$error":"#N/A"}}]
[]
[null,"■1人当たりの排出量の実績と目標"]
[null,null,null,null,null,{"$f":"F99","v":2013},null,null,null,{"$f":"J99","v":2014},null,null,null,null,{"$f":"O99","v":2030},null,{"$f":"Q99","v":""},null,{"$f":"S99","v":""}]
[null,"1人当たり排出量（実績）",null,"1人当たり排出量（実績）",null,{"$f":"IF(F43=0,NA(),F43)","v":""},null,null,null,{"$f":"IF(H43=0,NA(),H43)","v":""}]
[null,"1人当たり排出量（目標）",null,"1人当たり排出量（目標）",null,null,null,null,null,null,null,null,null,null,{"$f":"IF(L43=0,NA(),L43)","v":""},null,{"$f":"IF(P43=0,NA(),P43)","v":""},null,{"$f":"IF(S43=0,NA(),S43)","v":""}]
[]
[null,"■原単位の実績と目標"]
[null,null,null,null,null,{"$f":"F99","v":2013},null,null,null,{"$f":"J99","v":2014},null,null,null,null,{"$f":"O99","v":2030},null,{"$f":"Q99","v":""}]
[null,"産業","製造業","産業（製造業）",null,{"$f":"IF(OR(F157=\"\",F157=0),NA(),100)","v":{"$error":"#N/A"}},null,null,null,{"$f":"IF(OR($F157=\"\",J157=\"\",$F157=0),NA(),(J157/$F157*100))","v":{"$error":"#N/A"}},null,null,null,null,{"$f":"IF(OR($F157=\"\",O157=\"\",$F157=0),NA(),(O157/$F157*100))","v":{"$error":"#N/A"}},null,{"$f":"IF($Q$137=\"\",NA(),IF(OR($F157=\"\",Q157=\"\",$F157=0),NA(),(Q157/$F157*100)))","v":{"$error":"#N/A"}}]
[null,null,"建設・鉱業","産業（建設業・鉱業）",null,{"$f":"IF(OR(F158=\"\",F158=0),NA(),100)","v":{"$error":"#N/A"}},null,null,null,{"$f":"IF(OR(F158=\"\",J158=\"\",F158=0),NA(),(J158/F158*100))","v":{"$error":"#N/A"}},null,null,null,null,{"$f":"IF(OR($F158=\"\",O158=\"\",$F158=0),NA(),(O158/$F158*100))","v":{"$error":"#N/A"}},null,{"$f":"IF($Q$137=\"\",NA(),IF(OR($F158=\"\",Q158=\"\",$F158=0),NA(),(Q158/$F158*100)))","v":{"$error":"#N/A"}}]
[null,null,"農林水産業","産業（農林水産業）",null,{"$error":"#N/A"},null,null,null,{"$error":"#N/A"},null,null,null,null,{"$error":"#N/A"},null,{"$error":"#N/A"}]
[null,"業務",null,"業務その他",null,{"$error":"#N/A"},null,null,null,{"$error":"#N/A"},null,null,null,null,{"$error":"#N/A"},null,{"$error":"#N/A"}]
[null,"家庭",null,"家庭",null,{"$error":"#N/A"},null,null,null,{"$error":"#N/A"},null,null,null,null,{"$error":"#N/A"},null,{"$error":"#N/A"}]
[null,"運輸","自動車","運輸（自動車（旅客））",null,{"$error":"#N/A"},null,null,null,{"$error":"#N/A"},null,null,null,null,{"$error":"#N/A"},null,{"$error":"#N/A"}]
[null,null,null,"運輸（自動車（貨物））",null,{"$error":"#N/A"},null,null,null,{"$error":"#N/A"},null,null,null,null,{"$error":"#N/A"},null,{"$error":"#N/A"}]
[null,null,"鉄道","運輸（鉄道）",null,{"$error":"#N/A"},null,null,null,{"$error":"#N/A"},null,null,null,null,{"$error":"#N/A"},null,{"$error":"#N/A"}]
[null,null,"船舶","運輸（船舶）",null,{"$error":"#N/A"},null,null,null,{"$error":"#N/A"},null,null,null,null,{"$error":"#N/A"},null,{"$error":"#N/A"}]
[null,null,"航空","運輸（航空）",null,{"$error":"#N/A"},null,null,null,{"$error":"#N/A"},null,null,null,null,{"$error":"#N/A"},null,{"$error":"#N/A"}]
[null,"工業プロセス",null,"工業プロセス",null,{"$error":"#N/A"},null,null,null,{"$error":"#N/A"},null,null,null,null,{"$error":"#N/A"},null,{"$error":"#N/A"}]
[null,"廃棄物",null,"廃棄物（一廃）",null,{"$error":"#N/A"},null,null,null,{"$error":"#N/A"},null,null,null,null,{"$error":"#N/A"},null,{"$error":"#N/A"}]
[null,null,null,"廃棄物（産廃）",null,{"$error":"#N/A"},null,null,null,{"$error":"#N/A"},null,null,null,null,{"$error":"#N/A"},null,{"$error":"#N/A"}]
[null,"農業",null,"農業",null,{"$error":"#N/A"},null,null,null,{"$error":"#N/A"},null,null,null,null,{"$error":"#N/A"},null,{"$error":"#N/A"}]
[null,"代替フロン等4ガス",null,"代替フロン等4ガス",null,{"$error":"#N/A"},null,null,null,{"$error":"#N/A"},null,null,null,null,{"$error":"#N/A"},null,{"$error":"#N/A"}]
[]
[]
[]
[]
[null,"産業","製造業","産業（製造業）",null,{"$f":"SUM(V14:V15)","v":0},null,null,null,{"$f":"SUM(W14:W15)","v":0},null,null,null,null,{"$f":"SUM(Z14:Z15)","v":0},null,{"$f":"SUM(AD14:AD15)","v":0}]
[null,null,"建設・鉱業","産業（建設業・鉱業）",null,{"$f":"V18","v":""},null,null,null,{"$f":"W18","v":""},null,null,null,null,{"$f":"Z18","v":""},null,{"$f":"AD18","v":""}]
[null,null,"農林水産業","産業（農林水産業）",null,{"$f":"V19","v":""},null,null,null,{"$f":"W19","v":""},null,null,null,null,{"$f":"Z19","v":""},null,{"$f":"AD19","v":""}]
[null,"業務",null,"業務その他",null,{"$f":"SUM(V21:V22)","v":0},null,null,null,{"$f":"SUM(W21:W22)","v":0},null,null,null,null,{"$f":"SUM(Z21:Z22)","v":0},null,{"$f":"SUM(AD21:AD22)","v":0}]
[null,"家庭",null,"家庭",null,{"$f":"V25","v":""},null,null,null,{"$f":"W25","v":""},null,null,null,null,{"$f":"Z25","v":""},null,{"$f":"AD25","v":""}]
[null,"運輸","自動車","運輸（自動車（旅客））",null,"",null,null,null,"",null,null,null,null,"",null,""]
[null,null,null,"運輸（自動車（貨物））",null,"",null,null,null,"",null,null,null,null,"",null,""]
[null,null,"鉄道","運輸（鉄道）",null,"",null,null,null,"",null,null,null,null,"",null,""]
[null,null,"船舶","運輸（船舶）",null,"",null,null,null,"",null,null,null,null,"",null,""]
[null,null,"航空","運輸（航空）",null,"",null,null,null,"",null,null,null,null,"",null,""]
[null,"工業プロセス",null,"工業プロセス",null,{"$f":"V32","v":""},null,null,null,{"$f":"W32","v":""},null,null,null,null,{"$f":"Z32","v":""},null,{"$f":"AD32","v":""}]
[null,"廃棄物",null,"廃棄物（一廃）",null,{"$f":"V33","v":""},null,null,null,{"$f":"W33","v":""},null,null,null,null,{"$f":"Z33","v":""},null,{"$f":"AD33","v":""}]
[null,null,null,"廃棄物（産廃）",null,{"$f":"V34","v":""},null,null,null,{"$f":"W34","v":""},null,null,null,null,{"$f":"Z34","v":""},null,{"$f":"AD34","v":""}]
[null,"農業",null,"農業",null,{"$f":"V36","v":""},null,null,null,{"$f":"W36","v":""},null,null,null,null,{"$f":"Z36","v":""},null,{"$f":"AD36","v":""}]
[null,"代替フロン等4ガス",null,"代替フロン等4ガス",null,{"$f":"V37","v":""},null,null,null,{"$f":"W37","v":""},null,null,null,null,{"$f":"Z37","v":""},null,{"$f":"AD37","v":""}]

{"sheet":"7)目標設定結果とグラフ_bk","index":12,"n_rows":171,"n_cols":30,"rows_kept":171,"cut":false,"hidden":true,"merged":[[10,5,10,6],[11,5,11,6],[11,7,12,7],[11,8,12,8],[11,9,12,9],[10,7,10,10],[11,10,12,10],[41,15,41,17],[14,29,16,29],[21,29,23,29],[11,28,12,28],[11,16,12,16],[11,24,12,24],[11,25,12,25],[11,26,12,26],[11,27,12,27],[11,17,12,17],[11,19,12,19],[11,20,12,20],[11,21,12,21],[11,22,12,22],[11,23,12,23],[11,11,12,11],[11,12,12,12],[11,13,12,13],[11,14,12,14],[11,15,12,15],[42,1,42,4],[44,1,46,13],[45,14,45,19],[35,2,35,4],[36,2,36,4],[37,2,37,4],[38,2,38,4],[41,1,41,4],[41,5,41,6],[31,1,37,1],[31,2,31,4],[32,2,34,2],[32,3,32,4],[33,3,33,4],[41,7,41,10],[41,11,41,14],[13,1,30,1],[13,2,19,2],[13,3,13,4],[14,3,14,4],[24,2,24,4],[22,2,23,3],[15,3,16,3],[17,3,17,4],[18,3,18,4],[20,2,20,4],[21,2,21,4],[25,2,30,2],[25,3,26,3],[27,3,27,4],[28,3,28,4],[29,3,29,4],[10,11,10,14],[10,15,10,17],[10,21,10,24],[10,25,10,28],[9,15,9,17],[9,21,9,24],[8,19,8,29],[9,25,9,28],[3,1,3,13],[8,2,8,4],[9,5,9,6],[9,7,9,10],[9,11,9,14],[8,5,8,17]]}
[1,"7)目標設定結果とグラフ"]
[null,"メインシートに戻る"]
[]
[null,"\n本シートでは１）～６）シートで入力・設定した内容を自動で一覧に表示、グラフ化します。\n１）シートで人口を入力している場合には人口１人当たりの総排出量を自動算出します。\n目標年の排出量合計値は合計と合計（森林吸収による削減量を加味しない場合）の両方を表示しています。\n基準年と現状年の電力排出係数固定をしている場合には、電力排出係数固定前の列に電力排出係数を固定する前の排出量が転記されます。"]
[]
[]
[]
[]
[null,"ガス種","部門／分野",null,null,"総量目標",null,null,null,null,null,null,null,null,null,null,null,null,null,"原単位目標"]
[null,null,null,null,null,"基準年/現状年",null,"短期目標年",null,null,null,"中期目標",null,null,null,"長期目標",null,null,null,"基準年","現状年","短期目標",null,null,null,"中期目標",null,null,null,"活動量"]
[null,null,null,null,null,{"$f":"IF('1)基本設定'!F21=\"\",\"\",'1)基本設定'!F21 &\"年度\")","v":"2013年度"},null,{"$f":"IF('1)基本設定'!F25=\"\",\"\",'1)基本設定'!F25 &\"年度\")","v":"2030年度"},null,null,null,{"$f":"IF('1)基本設定'!E27=\"設定しない\",\"\",IF('1)基本設定'!F27=\"\",\"\",'1)基本設定'!F27 &\"年度\"))","v":""},null,null,null,{"$f":"IF('1)基本設定'!E28=\"設定しない\",\"\",IF('1)基本設定'!F28=\"\",\"\",'1)基本設定'!F28 &\"年度\"))","v":""},null,null,null,{"$f":"IF('1)基本設定'!F21=\"\",\"\",'1)基本設定'!F21 &\"年度\")","v":"2013年度"},{"$f":"IF('1)基本設定'!F22=\"\",\"\",'1)基本設定'!F22 &\"年度\")","v":"2014年度"},{"$f":"IF('1)基本設定'!F25=\"\",\"\",'1)基本設定'!F25 &\"年度\")","v":"2030年度"},null,null,null,{"$f":"IF('1)基本設定'!E27=\"設定しない\",\"\",IF('1)基本設定'!F27=\"\",\"\",'1)基本設定'!F27 &\"年度\"))","v":""}]
[null,null,null,null,null,"排出量",null,"BAU排出量","削減目標量","目標排出量","基準年比\n削減率","BAU排出量","削減目標量","目標排出量","基準年比\n削減率","削減目標量","目標排出量","基準年比\n削減率",null,"原単位","原単位","BAU原単位","原単位\n削減目標量","目標原単位","基準年比\n原単位削減率","BAU原単位","原単位\n削減目標量","目標原単位","基準年比\n原単位削減率","単位"]
[null,null,null,null,null,null,"電力排出係数固定前"]
[{"$f":"'3)BAU排出量の推計'!A14","v":1},"エネルギー起源CO2","産業部門","製造業",null,{"$f":"IF('2)現況推計結果の入力'!$M$9=1,IF('2)現況推計結果の入力'!M14=\"\",\"\",'2)現況推計結果の入力'!M14),IF('2)現況推計結果の入力'!F14=\"\",\"\",'2)現況推計結果の入力'!F14))","v":""},{"$f":"IF(F14=\"\",\"\",IF('2)現況推計結果の入力'!$M$9=1,'2)現況推計結果の入力'!F14,\"\"))","v":""},{"$f":"IF('6)中期目標の設定'!H14=\"\",\"\",'6)中期目標の設定'!H14)","v":""},{"$f":"IF('6)中期目標の設定'!I14=\"\",\"\",'6)中期目標の設定'!I14)","v":0},{"$f":"IF('6)中期目標の設定'!J14=\"\",\"\",'6)中期目標の設定'!J14)","v":""},{"$f":"IF('6)中期目標の設定'!K14=\"\",\"\",'6)中期目標の設定'!K14)","v":""},{"$f":"IF('6)中期目標の設定'!M14=\"\",\"\",'6)中期目標の設定'!M14)","v":""},{"$f":"IF('6)中期目標の設定'!Q14=\"\",\"\",'6)中期目標の設定'!Q14)","v":""},{"$f":"IF('6)中期目標の設定'!R14=\"\",\"\",'6)中期目標の設定'!R14)","v":""},{"$f":"IF('6)中期目標の設定'!S14=\"\",\"\",'6)中期目標の設定'!S14)","v":""},null,null,null,null,{"$f":"IF('4)短期目標の設定'!M14=\"\",\"\",'4)短期目標の設定'!M14)","v":""},{"$f":"IF('4)短期目標の設定'!N14=\"\",\"\",'4)短期目標の設定'!N14)","v":""},{"$f":"IF('4)短期目標の設定'!O14=\"\",\"\",'4)短期目標の設定'!O14)","v":""},{"$f":"IF('4)短期目標の設定'!P14=\"\",\"\",'4)短期目標の設定'!P14)","v":""},{"$f":"IF('4)短期目標の設定'!Q14=\"\",\"\",'4)短期目標の設定'!Q14)","v":""},{"$f":"IF('4)短期目標の設定'!R14=\"\",\"\",'4)短期目標の設定'!R14)","v":""},{"$f":"IF($Z$11=\"\",\"\",IF('3)BAU排出量の推計'!$R$10=1,'3)BAU排出量の推計'!Q14,'3)BAU排出量の推計'!I14))","v":""},{"$f":"IF($Z$11=\"\",\"\",IF(ISERROR(Z14-AB14),\"\",Z14-AB14))","v":""},{"$f":"IF($Z$11=\"\",\"\",IF(AND('3)BAU排出量の推計'!L14=\"\",'2)現況推計結果の入力'!K14=\"\"),\"\",IF('3)BAU排出量の推計'!L14<>\"\",IF('3)BAU排出量の推計'!L14=0,0,IF(N14=\"\",\"\",N14/'3)BAU排出量の推計'!L14)),IF('2)現況推計結果の入力'!K14=0,0,IF(N14=\"\",\"\",N14/'2)現況推計結果の入力'!K14)))))","v":""},{"$f":"IF($Z$11=\"\",\"\",IF(T14=\"\",\"\",IF(T14=0,0,IF(AB14=\"\",\"\",1-(AB14/T14)))))","v":""},{"$f":"IF($Z$11=\"\",\"\",'4)短期目標の設定'!S14)","v":""}]
[{"$f":"'3)BAU排出量の推計'!A15","v":0},null,null,"製造業",null,{"$f":"SUM(F16:F17)","v":0},{"$f":"IF('2)現況推計結果の入力'!$M$9=1,SUM(G16:G17),\"\")","v":""},{"$f":"IF('6)中期目標の設定'!H15=\"\",\"\",'6)中期目標の設定'!H15)","v":0},{"$f":"IF('6)中期目標の設定'!I15=\"\",\"\",'6)中期目標の設定'!I15)","v":0},{"$f":"IF('6)中期目標の設定'!J15=\"\",\"\",'6)中期目標の設定'!J15)","v":0},{"$f":"IF('6)中期目標の設定'!K15=\"\",\"\",'6)中期目標の設定'!K15)","v":0},{"$f":"IF('6)中期目標の設定'!M15=\"\",\"\",'6)中期目標の設定'!M15)","v":""},{"$f":"IF('6)中期目標の設定'!Q15=\"\",\"\",'6)中期目標の設定'!Q15)","v":0},{"$f":"IF('6)中期目標の設定'!R15=\"\",\"\",'6)中期目標の設定'!R15)","v":""},{"$f":"IF('6)中期目標の設定'!S15=\"\",\"\",'6)中期目標の設定'!S15)","v":""},null,null,null,null,{"$f":"IF('4)短期目標の設定'!M15=\"\",\"\",'4)短期目標の設定'!M15)","v":0},{"$f":"IF('4)短期目標の設定'!N15=\"\",\"\",'4)短期目標の設定'!N15)","v":0},{"$f":"IF('4)短期目標の設定'!O15=\"\",\"\",'4)短期目標の設定'!O15)","v":0},{"$f":"IF('4)短期目標の設定'!P15=\"\",\"\",'4)短期目標の設定'!P15)","v":0},{"$f":"IF('4)短期目標の設定'!Q15=\"\",\"\",'4)短期目標の設定'!Q15)","v":0},{"$f":"IF('4)短期目標の設定'!R15=\"\",\"\",'4)短期目標の設定'!R15)","v":0},{"$f":"IF($Z$11=\"\",\"\",IF('3)BAU排出量の推計'!$R$10=1,'3)BAU排出量の推計'!Q15,'3)BAU排出量の推計'!I15))","v":""},"",{"$f":"IF($Z$11=\"\",\"\",IF(AND('3)BAU排出量の推計'!L15=\"\",'2)現況推計結果の入力'!K15=\"\"),\"\",IF('3)BAU排出量の推計'!L15<>\"\",IF('3)BAU排出量の推計'!L15=0,0,IF(N15=\"\",\"\",N15/'3)BAU排出量の推計'!L15)),IF('2)現況推計結果の入力'!K15=0,0,IF(N15=\"\",\"\",N15/'2)現況推計結果の入力'!K15)))))","v":""},"",{"$f":"IF($Z$11=\"\",\"\",'4)短期目標の設定'!S15)","v":""}]
[{"$f":"'3)BAU排出量の推計'!A16","v":0},null,null,null,"大規模",{"$f":"IF('2)現況推計結果の入力'!$M$9=1,IF('2)現況推計結果の入力'!M16=\"\",\"\",'2)現況推計結果の入力'!M16),IF('2)現況推計結果の入力'!F16=\"\",\"\",'2)現況推計結果の入力'!F16))","v":""},{"$f":"IF(F16=\"\",\"\",IF('2)現況推計結果の入力'!$M$9=1,'2)現況推計結果の入力'!F16,\"\"))","v":""},{"$f":"IF('6)中期目標の設定'!H16=\"\",\"\",'6)中期目標の設定'!H16)","v":""},{"$f":"IF('6)中期目標の設定'!I16=\"\",\"\",'6)中期目標の設定'!I16)","v":""},{"$f":"IF('6)中期目標の設定'!J16=\"\",\"\",'6)中期目標の設定'!J16)","v":""},{"$f":"IF('6)中期目標の設定'!K16=\"\",\"\",'6)中期目標の設定'!K16)","v":""},{"$f":"IF('6)中期目標の設定'!M16=\"\",\"\",'6)中期目標の設定'!M16)","v":""},{"$f":"IF('6)中期目標の設定'!Q16=\"\",\"\",'6)中期目標の設定'!Q16)","v":""},{"$f":"IF('6)中期目標の設定'!R16=\"\",\"\",'6)中期目標の設定'!R16)","v":""},{"$f":"IF('6)中期目標の設定'!S16=\"\",\"\",'6)中期目標の設定'!S16)","v":""},null,null,null,null,{"$f":"IF('4)短期目標の設定'!M16=\"\",\"\",'4)短期目標の設定'!M16)","v":""},{"$f":"IF('4)短期目標の設定'!N16=\"\",\"\",'4)短期目標の設定'!N16)","v":""},{"$f":"IF('4)短期目標の設定'!O16=\"\",\"\",'4)短期目標の設定'!O16)","v":""},{"$f":"IF('4)短期目標の設定'!P16=\"\",\"\",'4)短期目標の設定'!P16)","v":""},{"$f":"IF('4)短期目標の設定'!Q16=\"\",\"\",'4)短期目標の設定'!Q16)","v":""},{"$f":"IF('4)短期目標の設定'!R16=\"\",\"\",'4)短期目標の設定'!R16)","v":""},{"$f":"IF($Z$11=\"\",\"\",IF('3)BAU排出量の推計'!$R$10=1,'3)BAU排出量の推計'!Q16,'3)BAU排出量の推計'!I16))","v":""},"",{"$f":"IF($Z$11=\"\",\"\",IF(AND('3)BAU排出量の推計'!L16=\"\",'2)現況推計結果の入力'!K16=\"\"),\"\",IF('3)BAU排出量の推計'!L16<>\"\",IF('3)BAU排出量の推計'!L16=0,0,IF(N16=\"\",\"\",N16/'3)BAU排出量の推計'!L16)),IF('2)現況推計結果の入力'!K16=0,0,IF(N16=\"\",\"\",N16/'2)現況推計結果の入力'!K16)))))","v":""},""]
[{"$f":"'3)BAU排出量の推計'!A17","v":0},null,null,null,"中小規模",{"$f":"IF('2)現況推計結果の入力'!$M$9=1,IF('2)現況推計結果の入力'!M17=\"\",\"\",'2)現況推計結果の入力'!M17),IF('2)現況推計結果の入力'!F17=\"\",\"\",'2)現況推計結果の入力'!F17))","v":""},{"$f":"IF(F17=\"\",\"\",IF('2)現況推計結果の入力'!$M$9=1,'2)現況推計結果の入力'!F17,\"\"))","v":""},{"$f":"IF('6)中期目標の設定'!H17=\"\",\"\",'6)中期目標の設定'!H17)","v":""},{"$f":"IF('6)中期目標の設定'!I17=\"\",\"\",'6)中期目標の設定'!I17)","v":""},{"$f":"IF('6)中期目標の設定'!J17=\"\",\"\",'6)中期目標の設定'!J17)","v":""},{"$f":"IF('6)中期目標の設定'!K17=\"\",\"\",'6)中期目標の設定'!K17)","v":""},{"$f":"IF('6)中期目標の設定'!M17=\"\",\"\",'6)中期目標の設定'!M17)","v":""},{"$f":"IF('6)中期目標の設定'!Q17=\"\",\"\",'6)中期目標の設定'!Q17)","v":""},{"$f":"IF('6)中期目標の設定'!R17=\"\",\"\",'6)中期目標の設定'!R17)","v":""},{"$f":"IF('6)中期目標の設定'!S17=\"\",\"\",'6)中期目標の設定'!S17)","v":""},null,null,null,null,{"$f":"IF('4)短期目標の設定'!M17=\"\",\"\",'4)短期目標の設定'!M17)","v":""},{"$f":"IF('4)短期目標の設定'!N17=\"\",\"\",'4)短期目標の設定'!N17)","v":""},{"$f":"IF('4)短期目標の設定'!O17=\"\",\"\",'4)短期目標の設定'!O17)","v":""},{"$f":"IF('4)短期目標の設定'!P17=\"\",\"\",'4)短期目標の設定'!P17)","v":""},{"$f":"IF('4)短期目標の設定'!Q17=\"\",\"\",'4)短期目標の設定'!Q17)","v":""},{"$f":"IF('4)短期目標の設定'!R17=\"\",\"\",'4)短期目標の設定'!R17)","v":""},{"$f":"IF($Z$11=\"\",\"\",IF('3)BAU排出量の推計'!$R$10=1,'3)BAU排出量の推計'!Q17,'3)BAU排出量の推計'!I17))","v":""},"",{"$f":"IF($Z$11=\"\",\"\",IF(AND('3)BAU排出量の推計'!L17=\"\",'2)現況推計結果の入力'!K17=\"\"),\"\",IF('3)BAU排出量の推計'!L17<>\"\",IF('3)BAU排出量の推計'!L17=0,0,IF(N17=\"\",\"\",N17/'3)BAU排出量の推計'!L17)),IF('2)現況推計結果の入力'!K17=0,0,IF(N17=\"\",\"\",N17/'2)現況推計結果の入力'!K17)))))","v":""},""]
[{"$f":"'3)BAU排出量の推計'!A18","v":1},null,null,"建設業・鉱業",null,{"$f":"IF('2)現況推計結果の入力'!$M$9=1,IF('2)現況推計結果の入力'!M18=\"\",\"\",'2)現況推計結果の入力'!M18),IF('2)現況推計結果の入力'!F18=\"\",\"\",'2)現況推計結果の入力'!F18))","v":""},{"$f":"IF(F18=\"\",\"\",IF('2)現況推計結果の入力'!$M$9=1,'2)現況推計結果の入力'!F18,\"\"))","v":""},{"$f":"IF('6)中期目標の設定'!H18=\"\",\"\",'6)中期目標の設定'!H18)","v":""},{"$f":"IF('6)中期目標の設定'!I18=\"\",\"\",'6)中期目標の設定'!I18)","v":0},{"$f":"IF('6)中期目標の設定'!J18=\"\",\"\",'6)中期目標の設定'!J18)","v":""},{"$f":"IF('6)中期目標の設定'!K18=\"\",\"\",'6)中期目標の設定'!K18)","v":""},{"$f":"IF('6)中期目標の設定'!M18=\"\",\"\",'6)中期目標の設定'!M18)","v":""},{"$f":"IF('6)中期目標の設定'!Q18=\"\",\"\",'6)中期目標の設定'!Q18)","v":""},{"$f":"IF('6)中期目標の設定'!R18=\"\",\"\",'6)中期目標の設定'!R18)","v":""},{"$f":"IF('6)中期目標の設定'!S18=\"\",\"\",'6)中期目標の設定'!S18)","v":""},null,null,null,null,{"$f":"IF('4)短期目標の設定'!M18=\"\",\"\",'4)短期目標の設定'!M18)","v":""},{"$f":"IF('4)短期目標の設定'!N18=\"\",\"\",'4)短期目標の設定'!N18)","v":""},{"$f":"IF('4)短期目標の設定'!O18=\"\",\"\",'4)短期目標の設定'!O18)","v":""},{"$f":"IF('4)短期目標の設定'!P18=\"\",\"\",'4)短期目標の設定'!P18)","v":""},{"$f":"IF('4)短期目標の設定'!Q18=\"\",\"\",'4)短期目標の設定'!Q18)","v":""},{"$f":"IF('4)短期目標の設定'!R18=\"\",\"\",'4)短期目標の設定'!R18)","v":""},{"$f":"IF($Z$11=\"\",\"\",IF('3)BAU排出量の推計'!$R$10=1,'3)BAU排出量の推計'!Q18,'3)BAU排出量の推計'!I18))","v":""},"",{"$f":"IF($Z$11=\"\",\"\",IF(AND('3)BAU排出量の推計'!L18=\"\",'2)現況推計結果の入力'!K18=\"\"),\"\",IF('3)BAU排出量の推計'!L18<>\"\",IF('3)BAU排出量の推計'!L18=0,0,IF(N18=\"\",\"\",N18/'3)BAU排出量の推計'!L18)),IF('2)現況推計結果の入力'!K18=0,0,IF(N18=\"\",\"\",N18/'2)現況推計結果の入力'!K18)))))","v":""},"",{"$f":"IF($Z$11=\"\",\"\",'4)短期目標の設定'!S18)","v":""}]
[{"$f":"'3)BAU排出量の推計'!A19","v":1},null,null,"農林水産業",null,{"$f":"IF('2)現況推計結果の入力'!$M$9=1,IF('2)現況推計結果の入力'!M19=\"\",\"\",'2)現況推計結果の入力'!M19),IF('2)現況推計結果の入力'!F19=\"\",\"\",'2)現況推計結果の入力'!F19))","v":""},{"$f":"IF(F19=\"\",\"\",IF('2)現況推計結果の入力'!$M$9=1,'2)現況推計結果の入力'!F19,\"\"))","v":""},{"$f":"IF('6)中期目標の設定'!H19=\"\",\"\",'6)中期目標の設定'!H19)","v":""},{"$f":"IF('6)中期目標の設定'!I19=\"\",\"\",'6)中期目標の設定'!I19)","v":0},{"$f":"IF('6)中期目標の設定'!J19=\"\",\"\",'6)中期目標の設定'!J19)","v":""},{"$f":"IF('6)中期目標の設定'!K19=\"\",\"\",'6)中期目標の設定'!K19)","v":""},{"$f":"IF('6)中期目標の設定'!M19=\"\",\"\",'6)中期目標の設定'!M19)","v":""},{"$f":"IF('6)中期目標の設定'!Q19=\"\",\"\",'6)中期目標の設定'!Q19)","v":""},{"$f":"IF('6)中期目標の設定'!R19=\"\",\"\",'6)中期目標の設定'!R19)","v":""},{"$f":"IF('6)中期目標の設定'!S19=\"\",\"\",'6)中期目標の設定'!S19)","v":""},null,null,null,null,{"$f":"IF('4)短期目標の設定'!M19=\"\",\"\",'4)短期目標の設定'!M19)","v":""},{"$f":"IF('4)短期目標の設定'!N19=\"\",\"\",'4)短期目標の設定'!N19)","v":""},{"$f":"IF('4)短期目標の設定'!O19=\"\",\"\",'4)短期目標の設定'!O19)","v":""},{"$f":"IF('4)短期目標の設定'!P19=\"\",\"\",'4)短期目標の設定'!P19)","v":""},{"$f":"IF('4)短期目標の設定'!Q19=\"\",\"\",'4)短期目標の設定'!Q19)","v":""},{"$f":"IF('4)短期目標の設定'!R19=\"\",\"\",'4)短期目標の設定'!R19)","v":""},{"$f":"IF($Z$11=\"\",\"\",IF('3)BAU排出量の推計'!$R$10=1,'3)BAU排出量の推計'!Q19,'3)BAU排出量の推計'!I19))","v":""},"",{"$f":"IF($Z$11=\"\",\"\",IF(AND('3)BAU排出量の推計'!L19=\"\",'2)現況推計結果の入力'!K19=\"\"),\"\",IF('3)BAU排出量の推計'!L19<>\"\",IF('3)BAU排出量の推計'!L19=0,0,IF(N19=\"\",\"\",N19/'3)BAU排出量の推計'!L19)),IF('2)現況推計結果の入力'!K19=0,0,IF(N19=\"\",\"\",N19/'2)現況推計結果の入力'!K19)))))","v":""},"",{"$f":"IF($Z$11=\"\",\"\",'4)短期目標の設定'!S19)","v":""}]
[{"$f":"SUM(A14:A19)","v":3},null,null,"小計",null,{"$f":"SUM(F14:F19)-SUM(F15)","v":0},{"$f":"IF('2)現況推計結果の入力'!$M$9=1,SUM(G14:G19)-SUM(G15),\"\")","v":""},{"$f":"SUM(H14:H19)-SUM(H15)","v":0},{"$f":"SUM(I14:I19)-SUM(I15)","v":0},{"$f":"SUM(J14:J19)-SUM(J15)","v":0},{"$f":"IF($F20=\"\",\"\",IF($F20=0,0,IF(J20=\"\",\"\",(1-(J20/$F20)))))","v":0},{"$f":"IF($L$11=\"\",\"\",SUM(L14:L19)-SUM(L15))","v":""},{"$f":"IF($L$11=\"\",\"\",SUM(M14:M19)-SUM(M15))","v":""},{"$f":"IF($L$11=\"\",\"\",SUM(N14:N19)-SUM(N15))","v":""},{"$f":"IF($L$11=\"\",\"\",IF($F20=\"\",\"\",IF($F20=0,0,IF(N20=\"\",\"\",(1-(N20/$F20))))))","v":""},null,null,null,null,null,null,null,null,null,null,null,""]
[{"$f":"'3)BAU排出量の推計'!A20","v":1},null,"業務その他部門",null,null,{"$f":"IF('2)現況推計結果の入力'!$M$9=1,IF('2)現況推計結果の入力'!M20=\"\",\"\",'2)現況推計結果の入力'!M20),IF('2)現況推計結果の入力'!F20=\"\",\"\",'2)現況推計結果の入力'!F20))","v":""},{"$f":"IF(F21=\"\",\"\",IF('2)現況推計結果の入力'!$M$9=1,'2)現況推計結果の入力'!F20,\"\"))","v":""},{"$f":"IF('6)中期目標の設定'!H20=\"\",\"\",'6)中期目標の設定'!H20)","v":""},{"$f":"IF('6)中期目標の設定'!I20=\"\",\"\",'6)中期目標の設定'!I20)","v":0},{"$f":"IF('6)中期目標の設定'!J20=\"\",\"\",'6)中期目標の設定'!J20)","v":""},{"$f":"IF('6)中期目標の設定'!K20=\"\",\"\",'6)中期目標の設定'!K20)","v":""},{"$f":"IF('6)中期目標の設定'!M20=\"\",\"\",'6)中期目標の設定'!M20)","v":""},{"$f":"IF('6)中期目標の設定'!Q20=\"\",\"\",'6)中期目標の設定'!Q20)","v":""},{"$f":"IF('6)中期目標の設定'!R20=\"\",\"\",'6)中期目標の設定'!R20)","v":""},{"$f":"IF('6)中期目標の設定'!S20=\"\",\"\",'6)中期目標の設定'!S20)","v":""},null,null,null,null,{"$f":"IF('4)短期目標の設定'!M20=\"\",\"\",'4)短期目標の設定'!M20)","v":""},{"$f":"IF('4)短期目標の設定'!N20=\"\",\"\",'4)短期目標の設定'!N20)","v":""},{"$f":"IF('4)短期目標の設定'!O20=\"\",\"\",'4)短期目標の設定'!O20)","v":""},{"$f":"IF('4)短期目標の設定'!P20=\"\",\"\",'4)短期目標の設定'!P20)","v":""},{"$f":"IF('4)短期目標の設定'!Q20=\"\",\"\",'4)短期目標の設定'!Q20)","v":""},{"$f":"IF('4)短期目標の設定'!R20=\"\",\"\",'4)短期目標の設定'!R20)","v":""},{"$f":"IF($Z$11=\"\",\"\",IF('3)BAU排出量の推計'!$R$10=1,'3)BAU排出量の推計'!Q20,'3)BAU排出量の推計'!I20))","v":""},"",{"$f":"IF($Z$11=\"\",\"\",IF(AND('3)BAU排出量の推計'!L20=\"\",'2)現況推計結果の入力'!K20=\"\"),\"\",IF('3)BAU排出量の推計'!L20<>\"\",IF('3)BAU排出量の推計'!L20=0,0,IF(N21=\"\",\"\",N21/'3)BAU排出量の推計'!L20)),IF('2)現況推計結果の入力'!K20=0,0,IF(N21=\"\",\"\",N21/'2)現況推計結果の入力'!K20)))))","v":""},{"$f":"IF($Z$11=\"\",\"\",IF(T21=\"\",\"\",IF(T21=0,0,IF(AB21=\"\",\"\",1-(AB21/T21)))))","v":""},{"$f":"IF($Z$11=\"\",\"\",'4)短期目標の設定'!S20)","v":""}]
[{"$f":"'3)BAU排出量の推計'!A21","v":0},null,"業務その他部門",null,null,{"$f":"SUM(F23:F24)","v":0},{"$f":"IF('2)現況推計結果の入力'!$M$9=1,SUM(G23:G24),\"\")","v":""},{"$f":"IF('6)中期目標の設定'!H21=\"\",\"\",'6)中期目標の設定'!H21)","v":0},{"$f":"IF('6)中期目標の設定'!I21=\"\",\"\",'6)中期目標の設定'!I21)","v":0},{"$f":"IF('6)中期目標の設定'!J21=\"\",\"\",'6)中期目標の設定'!J21)","v":0},{"$f":"IF('6)中期目標の設定'!K21=\"\",\"\",'6)中期目標の設定'!K21)","v":0},{"$f":"IF('6)中期目標の設定'!M21=\"\",\"\",'6)中期目標の設定'!M21)","v":""},{"$f":"IF('6)中期目標の設定'!Q21=\"\",\"\",'6)中期目標の設定'!Q21)","v":0},{"$f":"IF('6)中期目標の設定'!R21=\"\",\"\",'6)中期目標の設定'!R21)","v":""},{"$f":"IF('6)中期目標の設定'!S21=\"\",\"\",'6)中期目標の設定'!S21)","v":""},null,null,null,null,{"$f":"IF('4)短期目標の設定'!M21=\"\",\"\",'4)短期目標の設定'!M21)","v":0},{"$f":"IF('4)短期目標の設定'!N21=\"\",\"\",'4)短期目標の設定'!N21)","v":0},{"$f":"IF('4)短期目標の設定'!O21=\"\",\"\",'4)短期目標の設定'!O21)","v":0},{"$f":"IF('4)短期目標の設定'!P21=\"\",\"\",'4)短期目標の設定'!P21)","v":0},{"$f":"IF('4)短期目標の設定'!Q21=\"\",\"\",'4)短期目標の設定'!Q21)","v":0},{"$f":"IF('4)短期目標の設定'!R21=\"\",\"\",'4)短期目標の設定'!R21)","v":0},{"$f":"IF($Z$11=\"\",\"\",IF('3)BAU排出量の推計'!$R$10=1,'3)BAU排出量の推計'!Q21,'3)BAU排出量の推計'!I21))","v":""},"",{"$f":"IF($Z$11=\"\",\"\",IF(AND('3)BAU排出量の推計'!L21=\"\",'2)現況推計結果の入力'!K21=\"\"),\"\",IF('3)BAU排出量の推計'!L21<>\"\",IF('3)BAU排出量の推計'!L21=0,0,IF(N22=\"\",\"\",N22/'3)BAU排出量の推計'!L21)),IF('2)現況推計結果の入力'!K21=0,0,IF(N22=\"\",\"\",N22/'2)現況推計結果の入力'!K21)))))","v":""},"",{"$f":"IF($Z$11=\"\",\"\",'4)短期目標の設定'!S21)","v":""}]
[{"$f":"'3)BAU排出量の推計'!A22","v":0},null,null,null,"大規模",{"$f":"IF('2)現況推計結果の入力'!$M$9=1,IF('2)現況推計結果の入力'!M22=\"\",\"\",'2)現況推計結果の入力'!M22),IF('2)現況推計結果の入力'!F22=\"\",\"\",'2)現況推計結果の入力'!F22))","v":""},{"$f":"IF(F23=\"\",\"\",IF('2)現況推計結果の入力'!$M$9=1,'2)現況推計結果の入力'!F22,\"\"))","v":""},{"$f":"IF('6)中期目標の設定'!H22=\"\",\"\",'6)中期目標の設定'!H22)","v":""},{"$f":"IF('6)中期目標の設定'!I22=\"\",\"\",'6)中期目標の設定'!I22)","v":""},{"$f":"IF('6)中期目標の設定'!J22=\"\",\"\",'6)中期目標の設定'!J22)","v":""},{"$f":"IF('6)中期目標の設定'!K22=\"\",\"\",'6)中期目標の設定'!K22)","v":""},{"$f":"IF('6)中期目標の設定'!M22=\"\",\"\",'6)中期目標の設定'!M22)","v":""},{"$f":"IF('6)中期目標の設定'!Q22=\"\",\"\",'6)中期目標の設定'!Q22)","v":""},{"$f":"IF('6)中期目標の設定'!R22=\"\",\"\",'6)中期目標の設定'!R22)","v":""},{"$f":"IF('6)中期目標の設定'!S22=\"\",\"\",'6)中期目標の設定'!S22)","v":""},null,null,null,null,{"$f":"IF('4)短期目標の設定'!M22=\"\",\"\",'4)短期目標の設定'!M22)","v":""},{"$f":"IF('4)短期目標の設定'!N22=\"\",\"\",'4)短期目標の設定'!N22)","v":""},{"$f":"IF('4)短期目標の設定'!O22=\"\",\"\",'4)短期目標の設定'!O22)","v":""},{"$f":"IF('4)短期目標の設定'!P22=\"\",\"\",'4)短期目標の設定'!P22)","v":""},{"$f":"IF('4)短期目標の設定'!Q22=\"\",\"\",'4)短期目標の設定'!Q22)","v":""},{"$f":"IF('4)短期目標の設定'!R22=\"\",\"\",'4)短期目標の設定'!R22)","v":""},{"$f":"IF($Z$11=\"\",\"\",IF('3)BAU排出量の推計'!$R$10=1,'3)BAU排出量の推計'!Q22,'3)BAU排出量の推計'!I22))","v":""},"",{"$f":"IF($Z$11=\"\",\"\",IF(AND('3)BAU排出量の推計'!L22=\"\",'2)現況推計結果の入力'!K22=\"\"),\"\",IF('3)BAU排出量の推計'!L22<>\"\",IF('3)BAU排出量の推計'!L22=0,0,IF(N23=\"\",\"\",N23/'3)BAU排出量の推計'!L22)),IF('2)現況推計結果の入力'!K22=0,0,IF(N23=\"\",\"\",N23/'2)現況推計結果の入力'!K22)))))","v":""},""]
[{"$f":"'3)BAU排出量の推計'!A23","v":0},null,null,null,"中小規模",{"$f":"IF('2)現況推計結果の入力'!$M$9=1,IF('2)現況推計結果の入力'!M23=\"\",\"\",'2)現況推計結果の入力'!M23),IF('2)現況推計結果の入力'!F23=\"\",\"\",'2)現況推計結果の入力'!F23))","v":""},{"$f":"IF(F24=\"\",\"\",IF('2)現況推計結果の入力'!$M$9=1,'2)現況推計結果の入力'!F23,\"\"))","v":""},{"$f":"IF('6)中期目標の設定'!H23=\"\",\"\",'6)中期目標の設定'!H23)","v":""},{"$f":"IF('6)中期目標の設定'!I23=\"\",\"\",'6)中期目標の設定'!I23)","v":""},{"$f":"IF('6)中期目標の設定'!J23=\"\",\"\",'6)中期目標の設定'!J23)","v":""},{"$f":"IF('6)中期目標の設定'!K23=\"\",\"\",'6)中期目標の設定'!K23)","v":""},{"$f":"IF('6)中期目標の設定'!M23=\"\",\"\",'6)中期目標の設定'!M23)","v":""},{"$f":"IF('6)中期目標の設定'!Q23=\"\",\"\",'6)中期目標の設定'!Q23)","v":""},{"$f":"IF('6)中期目標の設定'!R23=\"\",\"\",'6)中期目標の設定'!R23)","v":""},{"$f":"IF('6)中期目標の設定'!S23=\"\",\"\",'6)中期目標の設定'!S23)","v":""},null,null,null,null,{"$f":"IF('4)短期目標の設定'!M23=\"\",\"\",'4)短期目標の設定'!M23)","v":""},{"$f":"IF('4)短期目標の設定'!N23=\"\",\"\",'4)短期目標の設定'!N23)","v":""},{"$f":"IF('4)短期目標の設定'!O23=\"\",\"\",'4)短期目標の設定'!O23)","v":""},{"$f":"IF('4)短期目標の設定'!P23=\"\",\"\",'4)短期目標の設定'!P23)","v":""},{"$f":"IF('4)短期目標の設定'!Q23=\"\",\"\",'4)短期目標の設定'!Q23)","v":""},{"$f":"IF('4)短期目標の設定'!R23=\"\",\"\",'4)短期目標の設定'!R23)","v":""},{"$f":"IF($Z$11=\"\",\"\",IF('3)BAU排出量の推計'!$R$10=1,'3)BAU排出量の推計'!Q23,'3)BAU排出量の推計'!I23))","v":""},"",{"$f":"IF($Z$11=\"\",\"\",IF(AND('3)BAU排出量の推計'!L23=\"\",'2)現況推計結果の入力'!K23=\"\"),\"\",IF('3)BAU排出量の推計'!L23<>\"\",IF('3)BAU排出量の推計'!L23=0,0,IF(N24=\"\",\"\",N24/'3)BAU排出量の推計'!L23)),IF('2)現況推計結果の入力'!K23=0,0,IF(N24=\"\",\"\",N24/'2)現況推計結果の入力'!K23)))))","v":""},""]
[{"$f":"'3)BAU排出量の推計'!A24","v":1},null,"家庭部門",null,null,{"$f":"IF('2)現況推計結果の入力'!$M$9=1,IF('2)現況推計結果の入力'!M24=\"\",\"\",'2)現況推計結果の入力'!M24),IF('2)現況推計結果の入力'!F24=\"\",\"\",'2)現況推計結果の入力'!F24))","v":""},{"$f":"IF(F25=\"\",\"\",IF('2)現況推計結果の入力'!$M$9=1,'2)現況推計結果の入力'!F24,\"\"))","v":""},{"$f":"IF('6)中期目標の設定'!H24=\"\",\"\",'6)中期目標の設定'!H24)","v":""},{"$f":"IF('6)中期目標の設定'!I24=\"\",\"\",'6)中期目標の設定'!I24)","v":0},{"$f":"IF('6)中期目標の設定'!J24=\"\",\"\",'6)中期目標の設定'!J24)","v":""},{"$f":"IF('6)中期目標の設定'!K24=\"\",\"\",'6)中期目標の設定'!K24)","v":""},{"$f":"IF('6)中期目標の設定'!M24=\"\",\"\",'6)中期目標の設定'!M24)","v":""},{"$f":"IF('6)中期目標の設定'!Q24=\"\",\"\",'6)中期目標の設定'!Q24)","v":""},{"$f":"IF('6)中期目標の設定'!R24=\"\",\"\",'6)中期目標の設定'!R24)","v":""},{"$f":"IF('6)中期目標の設定'!S24=\"\",\"\",'6)中期目標の設定'!S24)","v":""},null,null,null,null,{"$f":"IF('4)短期目標の設定'!M24=\"\",\"\",'4)短期目標の設定'!M24)","v":""},{"$f":"IF('4)短期目標の設定'!N24=\"\",\"\",'4)短期目標の設定'!N24)","v":""},{"$f":"IF('4)短期目標の設定'!O24=\"\",\"\",'4)短期目標の設定'!O24)","v":""},{"$f":"IF('4)短期目標の設定'!P24=\"\",\"\",'4)短期目標の設定'!P24)","v":""},{"$f":"IF('4)短期目標の設定'!Q24=\"\",\"\",'4)短期目標の設定'!Q24)","v":""},{"$f":"IF('4)短期目標の設定'!R24=\"\",\"\",'4)短期目標の設定'!R24)","v":""},{"$f":"IF($Z$11=\"\",\"\",IF('3)BAU排出量の推計'!$R$10=1,'3)BAU排出量の推計'!Q24,'3)BAU排出量の推計'!I24))","v":""},"",{"$f":"IF($Z$11=\"\",\"\",IF(AND('3)BAU排出量の推計'!L24=\"\",'2)現況推計結果の入力'!K24=\"\"),\"\",IF('3)BAU排出量の推計'!L24<>\"\",IF('3)BAU排出量の推計'!L24=0,0,IF(N25=\"\",\"\",N25/'3)BAU排出量の推計'!L24)),IF('2)現況推計結果の入力'!K24=0,0,IF(N25=\"\",\"\",N25/'2)現況推計結果の入力'!K24)))))","v":""},"",{"$f":"IF($Z$11=\"\",\"\",'4)短期目標の設定'!S24)","v":""}]
[{"$f":"'3)BAU排出量の推計'!A25","v":1},null,"運輸部門","自動車","旅客",{"$f":"IF('2)現況推計結果の入力'!$M$9=1,IF('2)現況推計結果の入力'!M25=\"\",\"\",'2)現況推計結果の入力'!M25),IF('2)現況推計結果の入力'!F25=\"\",\"\",'2)現況推計結果の入力'!F25))","v":""},{"$f":"IF(F26=\"\",\"\",IF('2)現況推計結果の入力'!$M$9=1,'2)現況推計結果の入力'!F25,\"\"))","v":""},{"$f":"IF('6)中期目標の設定'!H25=\"\",\"\",'6)中期目標の設定'!H25)","v":""},{"$f":"IF('6)中期目標の設定'!I25=\"\",\"\",'6)中期目標の設定'!I25)","v":0},{"$f":"IF('6)中期目標の設定'!J25=\"\",\"\",'6)中期目標の設定'!J25)","v":""},{"$f":"IF('6)中期目標の設定'!K25=\"\",\"\",'6)中期目標の設定'!K25)","v":""},{"$f":"IF('6)中期目標の設定'!M25=\"\",\"\",'6)中期目標の設定'!M25)","v":""},{"$f":"IF('6)中期目標の設定'!Q25=\"\",\"\",'6)中期目標の設定'!Q25)","v":""},{"$f":"IF('6)中期目標の設定'!R25=\"\",\"\",'6)中期目標の設定'!R25)","v":""},{"$f":"IF('6)中期目標の設定'!S25=\"\",\"\",'6)中期目標の設定'!S25)","v":""},null,null,null,null,{"$f":"IF('4)短期目標の設定'!M25=\"\",\"\",'4)短期目標の設定'!M25)","v":""},{"$f":"IF('4)短期目標の設定'!N25=\"\",\"\",'4)短期目標の設定'!N25)","v":""},{"$f":"IF('4)短期目標の設定'!O25=\"\",\"\",'4)短期目標の設定'!O25)","v":""},{"$f":"IF('4)短期目標の設定'!P25=\"\",\"\",'4)短期目標の設定'!P25)","v":""},{"$f":"IF('4)短期目標の設定'!Q25=\"\",\"\",'4)短期目標の設定'!Q25)","v":""},{"$f":"IF('4)短期目標の設定'!R25=\"\",\"\",'4)短期目標の設定'!R25)","v":""},{"$f":"IF($Z$11=\"\",\"\",IF('3)BAU排出量の推計'!$R$10=1,'3)BAU排出量の推計'!Q25,'3)BAU排出量の推計'!I25))","v":""},"",{"$f":"IF($Z$11=\"\",\"\",IF(AND('3)BAU排出量の推計'!L25=\"\",'2)現況推計結果の入力'!K25=\"\"),\"\",IF('3)BAU排出量の推計'!L25<>\"\",IF('3)BAU排出量の推計'!L25=0,0,IF(N26=\"\",\"\",N26/'3)BAU排出量の推計'!L25)),IF('2)現況推計結果の入力'!K25=0,0,IF(N26=\"\",\"\",N26/'2)現況推計結果の入力'!K25)))))","v":""},"",{"$f":"IF($Z$11=\"\",\"\",'4)短期目標の設定'!S25)","v":""}]
[{"$f":"'3)BAU排出量の推計'!A26","v":1},null,null,null,"貨物",{"$f":"IF('2)現況推計結果の入力'!$M$9=1,IF('2)現況推計結果の入力'!M26=\"\",\"\",'2)現況推計結果の入力'!M26),IF('2)現況推計結果の入力'!F26=\"\",\"\",'2)現況推計結果の入力'!F26))","v":""},{"$f":"IF(F27=\"\",\"\",IF('2)現況推計結果の入力'!$M$9=1,'2)現況推計結果の入力'!F26,\"\"))","v":""},{"$f":"IF('6)中期目標の設定'!H26=\"\",\"\",'6)中期目標の設定'!H26)","v":""},{"$f":"IF('6)中期目標の設定'!I26=\"\",\"\",'6)中期目標の設定'!I26)","v":0},{"$f":"IF('6)中期目標の設定'!J26=\"\",\"\",'6)中期目標の設定'!J26)","v":""},{"$f":"IF('6)中期目標の設定'!K26=\"\",\"\",'6)中期目標の設定'!K26)","v":""},{"$f":"IF('6)中期目標の設定'!M26=\"\",\"\",'6)中期目標の設定'!M26)","v":""},{"$f":"IF('6)中期目標の設定'!Q26=\"\",\"\",'6)中期目標の設定'!Q26)","v":""},{"$f":"IF('6)中期目標の設定'!R26=\"\",\"\",'6)中期目標の設定'!R26)","v":""},{"$f":"IF('6)中期目標の設定'!S26=\"\",\"\",'6)中期目標の設定'!S26)","v":""},null,null,null,null,{"$f":"IF('4)短期目標の設定'!M26=\"\",\"\",'4)短期目標の設定'!M26)","v":""},{"$f":"IF('4)短期目標の設定'!N26=\"\",\"\",'4)短期目標の設定'!N26)","v":""},{"$f":"IF('4)短期目標の設定'!O26=\"\",\"\",'4)短期目標の設定'!O26)","v":""},{"$f":"IF('4)短期目標の設定'!P26=\"\",\"\",'4)短期目標の設定'!P26)","v":""},{"$f":"IF('4)短期目標の設定'!Q26=\"\",\"\",'4)短期目標の設定'!Q26)","v":""},{"$f":"IF('4)短期目標の設定'!R26=\"\",\"\",'4)短期目標の設定'!R26)","v":""},{"$f":"IF($Z$11=\"\",\"\",IF('3)BAU排出量の推計'!$R$10=1,'3)BAU排出量の推計'!Q26,'3)BAU排出量の推計'!I26))","v":""},"",{"$f":"IF($Z$11=\"\",\"\",IF(AND('3)BAU排出量の推計'!L26=\"\",'2)現況推計結果の入力'!K26=\"\"),\"\",IF('3)BAU排出量の推計'!L26<>\"\",IF('3)BAU排出量の推計'!L26=0,0,IF(N27=\"\",\"\",N27/'3)BAU排出量の推計'!L26)),IF('2)現況推計結果の入力'!K26=0,0,IF(N27=\"\",\"\",N27/'2)現況推計結果の入力'!K26)))))","v":""},"",{"$f":"IF($Z$11=\"\",\"\",'4)短期目標の設定'!S26)","v":""}]
[{"$f":"'3)BAU排出量の推計'!A27","v":1},null,null,"鉄道",null,{"$f":"IF('2)現況推計結果の入力'!$M$9=1,IF('2)現況推計結果の入力'!M27=\"\",\"\",'2)現況推計結果の入力'!M27),IF('2)現況推計結果の入力'!F27=\"\",\"\",'2)現況推計結果の入力'!F27))","v":""},{"$f":"IF(F28=\"\",\"\",IF('2)現況推計結果の入力'!$M$9=1,'2)現況推計結果の入力'!F27,\"\"))","v":""},{"$f":"IF('6)中期目標の設定'!H27=\"\",\"\",'6)中期目標の設定'!H27)","v":""},{"$f":"IF('6)中期目標の設定'!I27=\"\",\"\",'6)中期目標の設定'!I27)","v":0},{"$f":"IF('6)中期目標の設定'!J27=\"\",\"\",'6)中期目標の設定'!J27)","v":""},{"$f":"IF('6)中期目標の設定'!K27=\"\",\"\",'6)中期目標の設定'!K27)","v":""},{"$f":"IF('6)中期目標の設定'!M27=\"\",\"\",'6)中期目標の設定'!M27)","v":""},{"$f":"IF('6)中期目標の設定'!Q27=\"\",\"\",'6)中期目標の設定'!Q27)","v":""},{"$f":"IF('6)中期目標の設定'!R27=\"\",\"\",'6)中期目標の設定'!R27)","v":""},{"$f":"IF('6)中期目標の設定'!S27=\"\",\"\",'6)中期目標の設定'!S27)","v":""},null,null,null,null,{"$f":"IF('4)短期目標の設定'!M27=\"\",\"\",'4)短期目標の設定'!M27)","v":""},{"$f":"IF('4)短期目標の設定'!N27=\"\",\"\",'4)短期目標の設定'!N27)","v":""},{"$f":"IF('4)短期目標の設定'!O27=\"\",\"\",'4)短期目標の設定'!O27)","v":""},{"$f":"IF('4)短期目標の設定'!P27=\"\",\"\",'4)短期目標の設定'!P27)","v":""},{"$f":"IF('4)短期目標の設定'!Q27=\"\",\"\",'4)短期目標の設定'!Q27)","v":""},{"$f":"IF('4)短期目標の設定'!R27=\"\",\"\",'4)短期目標の設定'!R27)","v":""},{"$f":"IF($Z$11=\"\",\"\",IF('3)BAU排出量の推計'!$R$10=1,'3)BAU排出量の推計'!Q27,'3)BAU排出量の推計'!I27))","v":""},"",{"$f":"IF($Z$11=\"\",\"\",IF(AND('3)BAU排出量の推計'!L27=\"\",'2)現況推計結果の入力'!K27=\"\"),\"\",IF('3)BAU排出量の推計'!L27<>\"\",IF('3)BAU排出量の推計'!L27=0,0,IF(N28=\"\",\"\",N28/'3)BAU排出量の推計'!L27)),IF('2)現況推計結果の入力'!K27=0,0,IF(N28=\"\",\"\",N28/'2)現況推計結果の入力'!K27)))))","v":""},"",{"$f":"IF($Z$11=\"\",\"\",'4)短期目標の設定'!S27)","v":""}]
[{"$f":"'3)BAU排出量の推計'!A28","v":1},null,null,"船舶",null,{"$f":"IF('2)現況推計結果の入力'!$M$9=1,IF('2)現況推計結果の入力'!M28=\"\",\"\",'2)現況推計結果の入力'!M28),IF('2)現況推計結果の入力'!F28=\"\",\"\",'2)現況推計結果の入力'!F28))","v":""},{"$f":"IF(F29=\"\",\"\",IF('2)現況推計結果の入力'!$M$9=1,'2)現況推計結果の入力'!F28,\"\"))","v":""},{"$f":"IF('6)中期目標の設定'!H28=\"\",\"\",'6)中期目標の設定'!H28)","v":""},{"$f":"IF('6)中期目標の設定'!I28=\"\",\"\",'6)中期目標の設定'!I28)","v":0},{"$f":"IF('6)中期目標の設定'!J28=\"\",\"\",'6)中期目標の設定'!J28)","v":""},{"$f":"IF('6)中期目標の設定'!K28=\"\",\"\",'6)中期目標の設定'!K28)","v":""},{"$f":"IF('6)中期目標の設定'!M28=\"\",\"\",'6)中期目標の設定'!M28)","v":""},{"$f":"IF('6)中期目標の設定'!Q28=\"\",\"\",'6)中期目標の設定'!Q28)","v":""},{"$f":"IF('6)中期目標の設定'!R28=\"\",\"\",'6)中期目標の設定'!R28)","v":""},{"$f":"IF('6)中期目標の設定'!S28=\"\",\"\",'6)中期目標の設定'!S28)","v":""},null,null,null,null,{"$f":"IF('4)短期目標の設定'!M28=\"\",\"\",'4)短期目標の設定'!M28)","v":""},{"$f":"IF('4)短期目標の設定'!N28=\"\",\"\",'4)短期目標の設定'!N28)","v":""},{"$f":"IF('4)短期目標の設定'!O28=\"\",\"\",'4)短期目標の設定'!O28)","v":""},{"$f":"IF('4)短期目標の設定'!P28=\"\",\"\",'4)短期目標の設定'!P28)","v":""},{"$f":"IF('4)短期目標の設定'!Q28=\"\",\"\",'4)短期目標の設定'!Q28)","v":""},{"$f":"IF('4)短期目標の設定'!R28=\"\",\"\",'4)短期目標の設定'!R28)","v":""},{"$f":"IF($Z$11=\"\",\"\",IF('3)BAU排出量の推計'!$R$10=1,'3)BAU排出量の推計'!Q28,'3)BAU排出量の推計'!I28))","v":""},"",{"$f":"IF($Z$11=\"\",\"\",IF(AND('3)BAU排出量の推計'!L28=\"\",'2)現況推計結果の入力'!K28=\"\"),\"\",IF('3)BAU排出量の推計'!L28<>\"\",IF('3)BAU排出量の推計'!L28=0,0,IF(N29=\"\",\"\",N29/'3)BAU排出量の推計'!L28)),IF('2)現況推計結果の入力'!K28=0,0,IF(N29=\"\",\"\",N29/'2)現況推計結果の入力'!K28)))))","v":""},"",{"$f":"IF($Z$11=\"\",\"\",'4)短期目標の設定'!S28)","v":""}]
[{"$f":"'3)BAU排出量の推計'!A29","v":1},null,null,"航空",null,{"$f":"IF('2)現況推計結果の入力'!$M$9=1,IF('2)現況推計結果の入力'!M29=\"\",\"\",'2)現況推計結果の入力'!M29),IF('2)現況推計結果の入力'!F29=\"\",\"\",'2)現況推計結果の入力'!F29))","v":""},{"$f":"IF(F30=\"\",\"\",IF('2)現況推計結果の入力'!$M$9=1,'2)現況推計結果の入力'!F29,\"\"))","v":""},{"$f":"IF('6)中期目標の設定'!H29=\"\",\"\",'6)中期目標の設定'!H29)","v":""},{"$f":"IF('6)中期目標の設定'!I29=\"\",\"\",'6)中期目標の設定'!I29)","v":0},{"$f":"IF('6)中期目標の設定'!J29=\"\",\"\",'6)中期目標の設定'!J29)","v":""},{"$f":"IF('6)中期目標の設定'!K29=\"\",\"\",'6)中期目標の設定'!K29)","v":""},{"$f":"IF('6)中期目標の設定'!M29=\"\",\"\",'6)中期目標の設定'!M29)","v":""},{"$f":"IF('6)中期目標の設定'!Q29=\"\",\"\",'6)中期目標の設定'!Q29)","v":""},{"$f":"IF('6)中期目標の設定'!R29=\"\",\"\",'6)中期目標の設定'!R29)","v":""},{"$f":"IF('6)中期目標の設定'!S29=\"\",\"\",'6)中期目標の設定'!S29)","v":""},null,null,null,null,{"$f":"IF('4)短期目標の設定'!M29=\"\",\"\",'4)短期目標の設定'!M29)","v":""},{"$f":"IF('4)短期目標の設定'!N29=\"\",\"\",'4)短期目標の設定'!N29)","v":""},{"$f":"IF('4)短期目標の設定'!O29=\"\",\"\",'4)短期目標の設定'!O29)","v":""},{"$f":"IF('4)短期目標の設定'!P29=\"\",\"\",'4)短期目標の設定'!P29)","v":""},{"$f":"IF('4)短期目標の設定'!Q29=\"\",\"\",'4)短期目標の設定'!Q29)","v":""},{"$f":"IF('4)短期目標の設定'!R29=\"\",\"\",'4)短期目標の設定'!R29)","v":""},{"$f":"IF($Z$11=\"\",\"\",IF('3)BAU排出量の推計'!$R$10=1,'3)BAU排出量の推計'!Q29,'3)BAU排出量の推計'!I29))","v":""},"",{"$f":"IF($Z$11=\"\",\"\",IF(AND('3)BAU排出量の推計'!L29=\"\",'2)現況推計結果の入力'!K29=\"\"),\"\",IF('3)BAU排出量の推計'!L29<>\"\",IF('3)BAU排出量の推計'!L29=0,0,IF(N30=\"\",\"\",N30/'3)BAU排出量の推計'!L29)),IF('2)現況推計結果の入力'!K29=0,0,IF(N30=\"\",\"\",N30/'2)現況推計結果の入力'!K29)))))","v":""},"",{"$f":"IF($Z$11=\"\",\"\",'4)短期目標の設定'!S29)","v":""}]
[{"$f":"SUM(A26:A30)","v":5},null,null,"小計",null,{"$f":"SUM(F26:F30)","v":0},{"$f":"IF('2)現況推計結果の入力'!$M$9=1,SUM(G26:G30),\"\")","v":""},{"$f":"SUM(H26:H30)","v":0},{"$f":"SUM(I26:I30)","v":0},{"$f":"SUM(J26:J30)","v":0},{"$f":"IF(F31=\"\",\"\",IF(F31=0,0,IF(J31=\"\",\"\",(1-(J31/F31)))))","v":0},{"$f":"IF($L$11=\"\",\"\",SUM(L26:L30))","v":""},{"$f":"IF($L$11=\"\",\"\",SUM(M26:M30))","v":""},{"$f":"IF($L$11=\"\",\"\",SUM(N26:N30))","v":""},{"$f":"IF($L$11=\"\",\"\",IF($F31=\"\",\"\",IF($F31=0,0,IF(N31=\"\",\"\",(1-(N31/$F31))))))","v":""}]
[{"$f":"'3)BAU排出量の推計'!A30","v":1},"エネルギー起源CO2以外","工業プロセス分野",null,null,{"$f":"IF('2)現況推計結果の入力'!$M$9=1,IF('2)現況推計結果の入力'!M30=\"\",\"\",'2)現況推計結果の入力'!M30),IF('2)現況推計結果の入力'!F30=\"\",\"\",'2)現況推計結果の入力'!F30))","v":""},{"$f":"IF(F32=\"\",\"\",IF('2)現況推計結果の入力'!$M$9=1,'2)現況推計結果の入力'!F30,\"\"))","v":""},{"$f":"IF('6)中期目標の設定'!H30=\"\",\"\",'6)中期目標の設定'!H30)","v":""},{"$f":"IF('6)中期目標の設定'!I30=\"\",\"\",'6)中期目標の設定'!I30)","v":0},{"$f":"IF('6)中期目標の設定'!J30=\"\",\"\",'6)中期目標の設定'!J30)","v":""},{"$f":"IF('6)中期目標の設定'!K30=\"\",\"\",'6)中期目標の設定'!K30)","v":""},{"$f":"IF('6)中期目標の設定'!M30=\"\",\"\",'6)中期目標の設定'!M30)","v":""},{"$f":"IF('6)中期目標の設定'!Q30=\"\",\"\",'6)中期目標の設定'!Q30)","v":""},{"$f":"IF('6)中期目標の設定'!R30=\"\",\"\",'6)中期目標の設定'!R30)","v":""},{"$f":"IF('6)中期目標の設定'!S30=\"\",\"\",'6)中期目標の設定'!S30)","v":""},null,null,null,null,{"$f":"IF('4)短期目標の設定'!M30=\"\",\"\",'4)短期目標の設定'!M30)","v":""},{"$f":"IF('4)短期目標の設定'!N30=\"\",\"\",'4)短期目標の設定'!N30)","v":""},{"$f":"IF('4)短期目標の設定'!O30=\"\",\"\",'4)短期目標の設定'!O30)","v":""},{"$f":"IF('4)短期目標の設定'!P30=\"\",\"\",'4)短期目標の設定'!P30)","v":""},{"$f":"IF('4)短期目標の設定'!Q30=\"\",\"\",'4)短期目標の設定'!Q30)","v":""},{"$f":"IF('4)短期目標の設定'!R30=\"\",\"\",'4)短期目標の設定'!R30)","v":""},{"$f":"IF($Z$11=\"\",\"\",IF('3)BAU排出量の推計'!$R$10=1,'3)BAU排出量の推計'!Q30,'3)BAU排出量の推計'!I30))","v":""},{"$f":"IF($Z$11=\"\",\"\",IF(ISERROR(Z32-AB32),\"\",Z32-AB32))","v":""},{"$f":"IF($Z$11=\"\",\"\",IF(AND('3)BAU排出量の推計'!L30=\"\",'2)現況推計結果の入力'!K30=\"\"),\"\",IF('3)BAU排出量の推計'!L30<>\"\",IF('3)BAU排出量の推計'!L30=0,0,IF(N32=\"\",\"\",N32/'3)BAU排出量の推計'!L30)),IF('2)現況推計結果の入力'!K30=0,0,IF(N32=\"\",\"\",N32/'2)現況推計結果の入力'!K30)))))","v":""},{"$f":"IF($Z$11=\"\",\"\",IF(T32=\"\",\"\",IF(T32=0,0,IF(AB32=\"\",\"\",1-(AB32/T32)))))","v":""},{"$f":"IF($Z$11=\"\",\"\",'4)短期目標の設定'!S30)","v":""}]
[{"$f":"'3)BAU排出量の推計'!A31","v":1},null,"廃棄物分野","一般廃棄物",null,{"$f":"IF('2)現況推計結果の入力'!$M$9=1,IF('2)現況推計結果の入力'!M31=\"\",\"\",'2)現況推計結果の入力'!M31),IF('2)現況推計結果の入力'!F31=\"\",\"\",'2)現況推計結果の入力'!F31))","v":""},{"$f":"IF(F33=\"\",\"\",IF('2)現況推計結果の入力'!$M$9=1,'2)現況推計結果の入力'!F31,\"\"))","v":""},{"$f":"IF('6)中期目標の設定'!H31=\"\",\"\",'6)中期目標の設定'!H31)","v":""},{"$f":"IF('6)中期目標の設定'!I31=\"\",\"\",'6)中期目標の設定'!I31)","v":0},{"$f":"IF('6)中期目標の設定'!J31=\"\",\"\",'6)中期目標の設定'!J31)","v":""},{"$f":"IF('6)中期目標の設定'!K31=\"\",\"\",'6)中期目標の設定'!K31)","v":""},{"$f":"IF('6)中期目標の設定'!M31=\"\",\"\",'6)中期目標の設定'!M31)","v":""},{"$f":"IF('6)中期目標の設定'!Q31=\"\",\"\",'6)中期目標の設定'!Q31)","v":""},{"$f":"IF('6)中期目標の設定'!R31=\"\",\"\",'6)中期目標の設定'!R31)","v":""},{"$f":"IF('6)中期目標の設定'!S31=\"\",\"\",'6)中期目標の設定'!S31)","v":""},null,null,null,null,{"$f":"IF('4)短期目標の設定'!M31=\"\",\"\",'4)短期目標の設定'!M31)","v":""},{"$f":"IF('4)短期目標の設定'!N31=\"\",\"\",'4)短期目標の設定'!N31)","v":""},{"$f":"IF('4)短期目標の設定'!O31=\"\",\"\",'4)短期目標の設定'!O31)","v":""},{"$f":"IF('4)短期目標の設定'!P31=\"\",\"\",'4)短期目標の設定'!P31)","v":""},{"$f":"IF('4)短期目標の設定'!Q31=\"\",\"\",'4)短期目標の設定'!Q31)","v":""},{"$f":"IF('4)短期目標の設定'!R31=\"\",\"\",'4)短期目標の設定'!R31)","v":""},{"$f":"IF($Z$11=\"\",\"\",IF('3)BAU排出量の推計'!$R$10=1,'3)BAU排出量の推計'!Q31,'3)BAU排出量の推計'!I31))","v":""},{"$f":"IF($Z$11=\"\",\"\",IF(ISERROR(Z33-AB33),\"\",Z33-AB33))","v":""},{"$f":"IF($Z$11=\"\",\"\",IF(AND('3)BAU排出量の推計'!L31=\"\",'2)現況推計結果の入力'!K31=\"\"),\"\",IF('3)BAU排出量の推計'!L31<>\"\",IF('3)BAU排出量の推計'!L31=0,0,IF(N33=\"\",\"\",N33/'3)BAU排出量の推計'!L31)),IF('2)現況推計結果の入力'!K31=0,0,IF(N33=\"\",\"\",N33/'2)現況推計結果の入力'!K31)))))","v":""},{"$f":"IF($Z$11=\"\",\"\",IF(T33=\"\",\"\",IF(T33=0,0,IF(AB33=\"\",\"\",1-(AB33/T33)))))","v":""},{"$f":"IF($Z$11=\"\",\"\",'4)短期目標の設定'!S31)","v":""}]
[{"$f":"'3)BAU排出量の推計'!A32","v":1},null,null,"産業廃棄物",null,{"$f":"IF('2)現況推計結果の入力'!$M$9=1,IF('2)現況推計結果の入力'!M32=\"\",\"\",'2)現況推計結果の入力'!M32),IF('2)現況推計結果の入力'!F32=\"\",\"\",'2)現況推計結果の入力'!F32))","v":""},{"$f":"IF(F34=\"\",\"\",IF('2)現況推計結果の入力'!$M$9=1,'2)現況推計結果の入力'!F32,\"\"))","v":""},{"$f":"IF('6)中期目標の設定'!H32=\"\",\"\",'6)中期目標の設定'!H32)","v":""},{"$f":"IF('6)中期目標の設定'!I32=\"\",\"\",'6)中期目標の設定'!I32)","v":0},{"$f":"IF('6)中期目標の設定'!J32=\"\",\"\",'6)中期目標の設定'!J32)","v":""},{"$f":"IF('6)中期目標の設定'!K32=\"\",\"\",'6)中期目標の設定'!K32)","v":""},{"$f":"IF('6)中期目標の設定'!M32=\"\",\"\",'6)中期目標の設定'!M32)","v":""},{"$f":"IF('6)中期目標の設定'!Q32=\"\",\"\",'6)中期目標の設定'!Q32)","v":""},{"$f":"IF('6)中期目標の設定'!R32=\"\",\"\",'6)中期目標の設定'!R32)","v":""},{"$f":"IF('6)中期目標の設定'!S32=\"\",\"\",'6)中期目標の設定'!S32)","v":""},null,null,null,null,{"$f":"IF('4)短期目標の設定'!M32=\"\",\"\",'4)短期目標の設定'!M32)","v":""},{"$f":"IF('4)短期目標の設定'!N32=\"\",\"\",'4)短期目標の設定'!N32)","v":""},{"$f":"IF('4)短期目標の設定'!O32=\"\",\"\",'4)短期目標の設定'!O32)","v":""},{"$f":"IF('4)短期目標の設定'!P32=\"\",\"\",'4)短期目標の設定'!P32)","v":""},{"$f":"IF('4)短期目標の設定'!Q32=\"\",\"\",'4)短期目標の設定'!Q32)","v":""},{"$f":"IF('4)短期目標の設定'!R32=\"\",\"\",'4)短期目標の設定'!R32)","v":""},{"$f":"IF($Z$11=\"\",\"\",IF('3)BAU排出量の推計'!$R$10=1,'3)BAU排出量の推計'!Q32,'3)BAU排出量の推計'!I32))","v":""},{"$f":"IF($Z$11=\"\",\"\",IF(ISERROR(Z34-AB34),\"\",Z34-AB34))","v":""},{"$f":"IF($Z$11=\"\",\"\",IF(AND('3)BAU排出量の推計'!L32=\"\",'2)現況推計結果の入力'!K32=\"\"),\"\",IF('3)BAU排出量の推計'!L32<>\"\",IF('3)BAU排出量の推計'!L32=0,0,IF(N34=\"\",\"\",N34/'3)BAU排出量の推計'!L32)),IF('2)現況推計結果の入力'!K32=0,0,IF(N34=\"\",\"\",N34/'2)現況推計結果の入力'!K32)))))","v":""},{"$f":"IF($Z$11=\"\",\"\",IF(T34=\"\",\"\",IF(T34=0,0,IF(AB34=\"\",\"\",1-(AB34/T34)))))","v":""},{"$f":"IF($Z$11=\"\",\"\",'4)短期目標の設定'!S32)","v":""}]
[{"$f":"SUM(A33:A34)","v":2},null,null,"小計",null,{"$f":"SUM(F33:F34)","v":0},{"$f":"IF('2)現況推計結果の入力'!$M$9=1,SUM(G33:G34),\"\")","v":""},{"$f":"SUM(H33:H34)","v":0},{"$f":"SUM(I33:I34)","v":0},{"$f":"SUM(J33:J34)","v":0},{"$f":"IF(F35=\"\",\"\",IF(F35=0,0,IF(J35=\"\",\"\",(1-(J35/F35)))))","v":0},{"$f":"IF($L$11=\"\",\"\",SUM(L33:L34))","v":""},{"$f":"IF($L$11=\"\",\"\",SUM(M33:M34))","v":""},{"$f":"IF($L$11=\"\",\"\",SUM(N33:N34))","v":""},{"$f":"IF($L$11=\"\",\"\",IF($F35=\"\",\"\",IF($F35=0,0,IF(N35=\"\",\"\",(1-(N35/$F35))))))","v":""}]
[{"$f":"'3)BAU排出量の推計'!A33","v":1},null,"農業分野",null,null,{"$f":"IF('2)現況推計結果の入力'!$M$9=1,IF('2)現況推計結果の入力'!M33=\"\",\"\",'2)現況推計結果の入力'!M33),IF('2)現況推計結果の入力'!F33=\"\",\"\",'2)現況推計結果の入力'!F33))","v":""},{"$f":"IF(F36=\"\",\"\",IF('2)現況推計結果の入力'!$M$9=1,'2)現況推計結果の入力'!F33,\"\"))","v":""},{"$f":"IF('6)中期目標の設定'!H33=\"\",\"\",'6)中期目標の設定'!H33)","v":""},{"$f":"IF('6)中期目標の設定'!I33=\"\",\"\",'6)中期目標の設定'!I33)","v":0},{"$f":"IF('6)中期目標の設定'!J33=\"\",\"\",'6)中期目標の設定'!J33)","v":""},{"$f":"IF('6)中期目標の設定'!K33=\"\",\"\",'6)中期目標の設定'!K33)","v":""},{"$f":"IF('6)中期目標の設定'!M33=\"\",\"\",'6)中期目標の設定'!M33)","v":""},{"$f":"IF('6)中期目標の設定'!Q33=\"\",\"\",'6)中期目標の設定'!Q33)","v":""},{"$f":"IF('6)中期目標の設定'!R33=\"\",\"\",'6)中期目標の設定'!R33)","v":""},{"$f":"IF('6)中期目標の設定'!S33=\"\",\"\",'6)中期目標の設定'!S33)","v":""},null,null,null,null,{"$f":"IF('4)短期目標の設定'!M33=\"\",\"\",'4)短期目標の設定'!M33)","v":""},{"$f":"IF('4)短期目標の設定'!N33=\"\",\"\",'4)短期目標の設定'!N33)","v":""},{"$f":"IF('4)短期目標の設定'!O33=\"\",\"\",'4)短期目標の設定'!O33)","v":""},{"$f":"IF('4)短期目標の設定'!P33=\"\",\"\",'4)短期目標の設定'!P33)","v":""},{"$f":"IF('4)短期目標の設定'!Q33=\"\",\"\",'4)短期目標の設定'!Q33)","v":""},{"$f":"IF('4)短期目標の設定'!R33=\"\",\"\",'4)短期目標の設定'!R33)","v":""},{"$f":"IF($Z$11=\"\",\"\",IF('3)BAU排出量の推計'!$R$10=1,'3)BAU排出量の推計'!Q33,'3)BAU排出量の推計'!I33))","v":""},{"$f":"IF($Z$11=\"\",\"\",IF(ISERROR(Z36-AB36),\"\",Z36-AB36))","v":""},{"$f":"IF($Z$11=\"\",\"\",IF(AND('3)BAU排出量の推計'!L33=\"\",'2)現況推計結果の入力'!K33=\"\"),\"\",IF('3)BAU排出量の推計'!L33<>\"\",IF('3)BAU排出量の推計'!L33=0,0,IF(N36=\"\",\"\",N36/'3)BAU排出量の推計'!L33)),IF('2)現況推計結果の入力'!K33=0,0,IF(N36=\"\",\"\",N36/'2)現況推計結果の入力'!K33)))))","v":""},{"$f":"IF($Z$11=\"\",\"\",IF(T36=\"\",\"\",IF(T36=0,0,IF(AB36=\"\",\"\",1-(AB36/T36)))))","v":""},{"$f":"IF($Z$11=\"\",\"\",'4)短期目標の設定'!S33)","v":""}]
[{"$f":"'3)BAU排出量の推計'!A34","v":1},null,"代替フロン等4ガス分野",null,null,{"$f":"IF('2)現況推計結果の入力'!$M$9=1,IF('2)現況推計結果の入力'!M34=\"\",\"\",'2)現況推計結果の入力'!M34),IF('2)現況推計結果の入力'!F34=\"\",\"\",'2)現況推計結果の入力'!F34))","v":""},{"$f":"IF(F37=\"\",\"\",IF('2)現況推計結果の入力'!$M$9=1,'2)現況推計結果の入力'!F34,\"\"))","v":""},{"$f":"IF('6)中期目標の設定'!H34=\"\",\"\",'6)中期目標の設定'!H34)","v":""},{"$f":"IF('6)中期目標の設定'!I34=\"\",\"\",'6)中期目標の設定'!I34)","v":0},{"$f":"IF('6)中期目標の設定'!J34=\"\",\"\",'6)中期目標の設定'!J34)","v":""},{"$f":"IF('6)中期目標の設定'!K34=\"\",\"\",'6)中期目標の設定'!K34)","v":""},{"$f":"IF('6)中期目標の設定'!M34=\"\",\"\",'6)中期目標の設定'!M34)","v":""},{"$f":"IF('6)中期目標の設定'!Q34=\"\",\"\",'6)中期目標の設定'!Q34)","v":""},{"$f":"IF('6)中期目標の設定'!R34=\"\",\"\",'6)中期目標の設定'!R34)","v":""},{"$f":"IF('6)中期目標の設定'!S34=\"\",\"\",'6)中期目標の設定'!S34)","v":""},null,null,null,null,{"$f":"IF('4)短期目標の設定'!M34=\"\",\"\",'4)短期目標の設定'!M34)","v":""},{"$f":"IF('4)短期目標の設定'!N34=\"\",\"\",'4)短期目標の設定'!N34)","v":""},{"$f":"IF('4)短期目標の設定'!O34=\"\",\"\",'4)短期目標の設定'!O34)","v":""},{"$f":"IF('4)短期目標の設定'!P34=\"\",\"\",'4)短期目標の設定'!P34)","v":""},{"$f":"IF('4)短期目標の設定'!Q34=\"\",\"\",'4)短期目標の設定'!Q34)","v":""},{"$f":"IF('4)短期目標の設定'!R34=\"\",\"\",'4)短期目標の設定'!R34)","v":""},{"$f":"IF($Z$11=\"\",\"\",IF('3)BAU排出量の推計'!$R$10=1,'3)BAU排出量の推計'!Q34,'3)BAU排出量の推計'!I34))","v":""},{"$f":"IF($Z$11=\"\",\"\",IF(ISERROR(Z37-AB37),\"\",Z37-AB37))","v":""},{"$f":"IF($Z$11=\"\",\"\",IF(AND('3)BAU排出量の推計'!L34=\"\",'2)現況推計結果の入力'!K34=\"\"),\"\",IF('3)BAU排出量の推計'!L34<>\"\",IF('3)BAU排出量の推計'!L34=0,0,IF(N37=\"\",\"\",N37/'3)BAU排出量の推計'!L34)),IF('2)現況推計結果の入力'!K34=0,0,IF(N37=\"\",\"\",N37/'2)現況推計結果の入力'!K34)))))","v":""},{"$f":"IF($Z$11=\"\",\"\",IF(T37=\"\",\"\",IF(T37=0,0,IF(AB37=\"\",\"\",1-(AB37/T37)))))","v":""},{"$f":"IF($Z$11=\"\",\"\",'4)短期目標の設定'!S34)","v":""}]
[null,null,"吸収",null,null,null,null,null,{"$f":"IF('6)中期目標の設定'!I35=\"\",\"\",'6)中期目標の設定'!I35)","v":0},null,null,null,{"$f":"IF('6)中期目標の設定'!Q35=\"\",\"\",'6)中期目標の設定'!Q35)","v":""}]
[null,"合計",null,null,null,{"$f":"SUM(F14,F16:F19,F21,F23:F24,F25,F26:F30,F32:F34,F36:F37,F38)","v":0},{"$f":"IF('2)現況推計結果の入力'!$M$9=1,SUM(G14,G16:G19,G21,G23:G24,G25,G26:G30,G32:G34,G36:G37,G38),\"\")","v":""},{"$f":"SUM(H14,H16:H19,H21,H23:H24,H25,H26:H30,H32:H34,H36:H37,H38)","v":0},{"$f":"SUM(I14,I16:I19,I21,I23:I24,I25,I26:I30,I32:I34,I36:I37,I38)","v":0},{"$f":"SUM(J14,J16:J19,J21,J23:J24,J25,J26:J30,J32:J34,J36:J37,J38)","v":0},{"$f":"IF(F39=\"\",\"\",IF(F39=0,0,IF(J39=\"\",\"\",(1-(J39/F39)))))","v":0},{"$f":"IF($L$11=\"\",\"\",SUM(L14,L16:L19,L21,L23:L24,L25,L26:L30,L32:L34,L36:L37,L38))","v":""},{"$f":"IF($L$11=\"\",\"\",SUM(M14,M16:M19,M21,M23:M24,M25,M26:M30,M32:M34,M36:M37,M38))","v":""},{"$f":"IF($L$11=\"\",\"\",SUM(N14,N16:N19,N21,N23:N24,N25,N26:N30,N32:N34,N36:N37,N38))","v":""},{"$f":"IF($L$11=\"\",\"\",IF($F39=\"\",\"\",IF($F39=0,0,IF(N39=\"\",\"\",(1-(N39/$F39))))))","v":""},{"$f":"IF('6)中期目標の設定'!X36=\"\",\"\",'6)中期目標の設定'!X36)","v":""},{"$f":"IF('6)中期目標の設定'!Y36=\"\",\"\",'6)中期目標の設定'!Y36)","v":""},{"$f":"IF(P11=\"\",\"\",IF(F39=\"\",\"\",IF(F39=0,0,IF(ISERROR(P39/F39),\"\",P39/F39))))","v":""}]
[null,"合計　（吸収による削減量を加味しない場合）",null,null,null,{"$f":"F39","v":0},{"$f":"G39","v":""},{"$f":"H39","v":0},{"$f":"SUM(I14,I16:I19,I21,I23:I24,I25,I26:I30,I32:I34,I36:I37)","v":0},{"$f":"J39","v":0},{"$f":"IF(F40=\"\",\"\",IF(F40=0,0,IF(J40=\"\",\"\",(1-(J40/F40)))))","v":0},{"$f":"L39","v":""},{"$f":"IF($L$11=\"\",\"\",SUM(M14,M16:M19,M21,M23:M24,M25,M26:M30,M32:M34,M36:M37))","v":""},{"$f":"N39","v":""},{"$f":"IF($L$11=\"\",\"\",IF($F40=\"\",\"\",IF($F40=0,0,IF(N40=\"\",\"\",(1-(N40/$F40))))))","v":""},{"$f":"P39","v":""},{"$f":"Q39","v":""},{"$f":"R39","v":""}]
[]
[null,"人口",null,null,null,{"$f":"IF('1)基本設定'!$I$21=\"\",\"\",'1)基本設定'!$I$21)","v":""},null,{"$f":"IF('1)基本設定'!$I$25=\"\",\"\",'1)基本設定'!$I$25)","v":""},null,null,null,{"$f":"IF(L11=\"\",\"\",IF('1)基本設定'!$I$27=\"\",\"\",'1)基本設定'!$I$27))","v":""},null,null,null,{"$f":"IF(P11=\"\",\"\",IF('1)基本設定'!$I$28=\"\",\"\",'1)基本設定'!$I$28))","v":""}]
[null,"人口１人当たりの総排出量（t-CO2/人）：",null,null,null,{"$f":"IF(ISERROR(F39/F42),\"\",F39/F42)","v":""},{"$f":"IF(ISERROR(G39/F42),\"\",G39/F42)","v":""},{"$f":"IF(ISERROR(H39/H42),\"\",H39/H42)","v":""},null,{"$f":"IF(ISERROR(J39/H42),\"\",J39/H42)","v":""},null,{"$f":"IF(ISERROR(L39/L42),\"\",L39/L42)","v":""},null,{"$f":"IF(ISERROR(N39/L42),\"\",N39/L42)","v":""},null,null,{"$f":"IF(ISERROR(Q39/P42),\"\",Q39/P42)","v":""}]
[]
[null,"\n本シートでは5種類のグラフを自動出力します。グラフサイズやデザインは自由に変更できます。\n本シートで出力するグラフは１）基本設定シートで設定した部門／分野を対象としています。\nなお、対策として森林吸収を設定している場合はこれを除いた目標量をグラフ化しています。\n"]
[null,null,null,null,null,null,null,null,null,null,null,null,null,null,"\n※基準年や現状年、目標年等は自由に設定できるため、グラフの横軸は実際の時間軸の長さとは一致していません。そのため線形に引かれたフォアキャスト中期目標やバックキャスト中期目標の補助線が直線にならない場合があります。\n\n実際の時間軸の長さでグラフを出力したい場合には以下のグラフ（実際の年間隔）出力ボタンを押してください。別シートでグラフが出力されます。"]
[]
[]
[]
[]
[null,"①温室効果ガス排出量の実績と目標（中期目標確認時）",null,null,null,null,null,null,null,null,null,null,"②温室効果ガス排出量の実績と目標",null,null,null,null,null,null,null,null,null,null,"③温室効果ガス排出量の実績と目標（大分類）"]
[]
[]
[]
[]
[]
[]
[]
[]
[]
[]
[]
[]
[]
[]
[]
[]
[]
[]
[]
[]
[]
[null,"④ 1人当たりの排出量の実績と目標",null,null,null,null,null,null,null,null,null,null,"⑤排出原単位の実績と目標"]
[]
[]
[]
[]
[]
[]
[]
[]
[]
[]
[]
[]
[]
[]
[]
[]
[]
[]
[null,null,null,null,null,null,null,null,null,null,null,null,"※基準年を100とした場合の部門／分野別の排出原単位（排出量÷活動量）を表示しています。"]
[]
[]
[]
[]
[null,"＜グラフ出力用＞"]
[null,"■排出量の実績と目標（部門/分野ごと）"]
[null,null,null,"グラフラベル用",null,{"$f":"IF('1)基本設定'!F21=\"\",\"\",'1)基本設定'!F21)","v":2013},null,null,null,null,{"$f":"IF('1)基本設定'!F25=\"\",\"\",'1)基本設定'!F25)","v":2030},null,{"$f":"IF('1)基本設定'!E27=\"設定しない\",\"\",IF('1)基本設定'!F27=\"\",\"\",'1)基本設定'!F27))","v":""},null,{"$f":"IF('1)基本設定'!E28=\"設定しない\",\"\",IF('1)基本設定'!F28=\"\",\"\",'1)基本設定'!F28 ))","v":""}]
[null,"産業","製造業","産業（製造業）",null,{"$f":"SUM(F14:F15)","v":0},null,null,null,null,{"$f":"SUM(J14:J15)","v":0},null,{"$f":"SUM(N14:N15)","v":0}]
[null,null,"建設・鉱業","産業（建設業・鉱業）",null,{"$f":"F18","v":""},null,null,null,null,{"$f":"J18","v":""},null,{"$f":"N18","v":""}]
[null,null,"農林水産業","産業（農林水産業）",null,{"$f":"F19","v":""},null,null,null,null,{"$f":"J19","v":""},null,{"$f":"N19","v":""}]
[null,"業務",null,"業務その他",null,{"$f":"SUM(F21:F22)","v":0},null,null,null,null,{"$f":"SUM(J21:J22)","v":0},null,{"$f":"SUM(N21:N22)","v":0}]
[null,"家庭",null,"家庭",null,{"$f":"SUM(F25)","v":0},null,null,null,null,{"$f":"J25","v":""},null,{"$f":"N25","v":""}]
[null,"運輸","自動車","運輸（自動車）",null,{"$f":"SUM(F26:F27)","v":0},null,null,null,null,{"$f":"SUM(J26:J27)","v":0},null,{"$f":"SUM(N26:N27)","v":0}]
[null,null,"鉄道","運輸（鉄道）",null,{"$f":"F28","v":""},null,null,null,null,{"$f":"J28","v":""},null,{"$f":"N28","v":""}]
[null,null,"船舶","運輸（船舶）",null,{"$f":"F29","v":""},null,null,null,null,{"$f":"J29","v":""},null,{"$f":"N29","v":""}]
[null,null,"航空","運輸（航空）",null,{"$f":"F30","v":""},null,null,null,null,{"$f":"J30","v":""},null,{"$f":"N30","v":""}]
[null,"工業プロセス",null,"工業プロセス",null,{"$f":"F32","v":""},null,null,null,null,{"$f":"J32","v":""},null,{"$f":"N32","v":""}]
[null,"廃棄物",null,"廃棄物",null,{"$f":"SUM(F33:F34)","v":0},null,null,null,null,{"$f":"SUM(J33:J34)","v":0},null,{"$f":"SUM(N33:N34)","v":0}]
[null,"農業",null,"農業",null,{"$f":"F36","v":""},null,null,null,null,{"$f":"J36","v":""},null,{"$f":"N36","v":""}]
[null,"代替フロン等4ガス",null,"代替フロン等4ガス",null,{"$f":"F37","v":""},null,null,null,null,{"$f":"J37","v":""},null,{"$f":"N37","v":""}]
[null,"長期目標",null,"長期目標",null,null,null,null,null,null,null,null,null,null,{"$f":"IF(Q40=\"\",NA(),Q40)","v":{"$error":"#N/A"}}]
[null,"BAU排出量",null,"BAU排出量",null,{"$f":"SUM(F100:F112)","v":0},null,null,null,null,{"$f":"SUM(H40)","v":0},null,{"$f":"IF(OR(L40=0,L40=\"\"),NA(),L40)","v":{"$error":"#N/A"}}]
[null,"フォアキャスト中期目標",null,"フォアキャスト中期目標",null,{"$f":"IF(M99=\"\",NA(),SUM(F100:F112))","v":{"$error":"#N/A"}},null,null,null,null,{"$f":"IF(M99=\"\",NA(),SUM(K100:K112))","v":{"$error":"#N/A"}},null,{"$f":"IF('6)中期目標の設定'!O36=\"\",NA(),'6)中期目標の設定'!O36)","v":{"$error":"#N/A"}}]
[null,"バックキャスト中期目標",null,"バックキャスト中期目標",null,{"$f":"IF(OR(M99=\"\",O99=\"\"),NA(),SUM(F100:F112))","v":{"$error":"#N/A"}},null,null,null,null,null,null,{"$f":"IF('6)中期目標の設定'!U36=\"\",NA(),'6)中期目標の設定'!U36)","v":{"$error":"#N/A"}},null,{"$f":"IF(O113=\"\",NA(),O113)","v":{"$error":"#N/A"}}]
[]
[null,"■排出量の実績と目標（部門ごと）"]
[null,null,null,"グラフラベル用",null,{"$f":"F99","v":2013},null,null,null,null,{"$f":"K99","v":2030},null,{"$f":"M99","v":""},null,{"$f":"O99","v":""}]
[null,null,null,"産業部門",null,{"$f":"IF(SUM(F100:F102)=0,\"\",SUM(F100:F102))","v":""},null,null,null,null,{"$f":"IF(SUM(K100:K102)=0,\"\",SUM(K100:K102))","v":""},null,{"$f":"IF(SUM(M100:M102)=0,\"\",SUM(M100:M102))","v":""},null,{"$f":"IF(SUM(O100:O102)=0,\"\",SUM(O100:O102))","v":""}]
[null,null,null,"業務その他部門",null,{"$f":"IF(F103=0,\"\",F103)","v":""},null,null,null,null,{"$f":"IF(K103=0,\"\",K103)","v":""},null,{"$f":"IF(M103=0,\"\",M103)","v":""},null,{"$f":"IF(O103=0,\"\",O103)","v":""}]
[null,null,null,"家庭部門",null,{"$f":"IF(F104=0,\"\",F104)","v":""},null,null,null,null,{"$f":"IF(K104=0,\"\",K104)","v":""},null,{"$f":"IF(M104=0,\"\",M104)","v":""},null,{"$f":"IF(O104=0,\"\",O104)","v":""}]
[null,null,null,"運輸部門",null,{"$f":"IF(SUM(F105:F108)=0,\"\",SUM(F105:F108))","v":""},null,null,null,null,{"$f":"IF(SUM(K105:K108)=0,\"\",SUM(K105:K108))","v":""},null,{"$f":"IF(SUM(M105:M108)=0,\"\",SUM(M105:M108))","v":""},null,{"$f":"IF(SUM(O105:O108)=0,\"\",SUM(O105:O108))","v":""}]
[null,null,null,"工業プロセス分野",null,{"$f":"IF(F109=0,\"\",F109)","v":""},null,null,null,null,{"$f":"IF(K109=0,\"\",K109)","v":""},null,{"$f":"IF(M109=0,\"\",M109)","v":""},null,{"$f":"IF(O109=0,\"\",O109)","v":""}]
[null,null,null,"廃棄物分野",null,{"$f":"IF(F110=0,\"\",F110)","v":""},null,null,null,null,{"$f":"IF(K110=0,\"\",K110)","v":""},null,{"$f":"IF(M110=0,\"\",M110)","v":""},null,{"$f":"IF(O110=0,\"\",O110)","v":""}]
[null,null,null,"農業分野",null,{"$f":"IF(F111=0,\"\",F111)","v":""},null,null,null,null,{"$f":"IF(K111=0,\"\",K111)","v":""},null,{"$f":"IF(M111=0,\"\",M111)","v":""},null,{"$f":"IF(O111=0,\"\",O111)","v":""}]
[null,null,null,"代替フロン等4ガス分野",null,{"$f":"IF(F112=0,\"\",F112)","v":""},null,null,null,null,{"$f":"IF(K112=0,\"\",K112)","v":""},null,{"$f":"IF(M112=0,\"\",M112)","v":""},null,{"$f":"IF(O112=0,\"\",O112)","v":""}]
[null,null,null,"長期目標",null,{"$f":"IF(F113=0,NA(),F113)","v":{"$error":"#N/A"}},null,null,null,null,{"$f":"IF(K113=0,NA(),K113)","v":{"$error":"#N/A"}},null,{"$f":"IF(M113=0,NA(),M113)","v":{"$error":"#N/A"}},null,{"$f":"IF(O113=0,NA(),O113)","v":{"$error":"#N/A"}}]
[null,null,null,"BAU排出量",null,{"$f":"IF(F114=0,NA(),F114)","v":{"$error":"#N/A"}},null,null,null,null,{"$f":"IF(K114=0,NA(),K114)","v":{"$error":"#N/A"}},null,{"$f":"IF(M114=0,NA(),M114)","v":{"$error":"#N/A"}},null,{"$f":"IF(O114=0,NA(),O114)","v":{"$error":"#N/A"}}]
[]
[null,"■1人あたりの排出量の実績と目標"]
[null,null,null,null,null,{"$f":"F99","v":2013},null,null,null,null,{"$f":"K99","v":2030},null,{"$f":"M99","v":""},null,{"$f":"O99","v":""}]
[null,"1人当たり排出量（実績）",null,"1人当たり排出量（実績）",null,{"$f":"IF(F43=0,NA(),F43)","v":""}]
[null,"1人当たり排出量（目標）",null,"1人当たり排出量（目標）",null,null,null,null,null,null,{"$f":"IF(J43=0,NA(),J43)","v":""},null,{"$f":"IF(N43=0,NA(),N43)","v":""},null,{"$f":"IF(Q43=0,NA(),Q43)","v":""}]
[]
[null,"■原単位の実績と目標"]
[null,null,null,null,null,{"$f":"F99","v":2013},null,null,null,null,{"$f":"K99","v":2030},null,{"$f":"M99","v":""}]
[null,"産業","製造業","産業（製造業）",null,{"$f":"IF(OR(F157=\"\",F157=0),NA(),100)","v":{"$error":"#N/A"}},null,null,null,null,{"$f":"IF(OR($F157=\"\",K157=\"\",$F157=0),NA(),(K157/$F157*100))","v":{"$error":"#N/A"}},null,{"$f":"IF($M$137=\"\",NA(),IF(OR($F157=\"\",M157=\"\",$F157=0),NA(),(M157/$F157*100)))","v":{"$error":"#N/A"}}]
[null,null,"建設・鉱業","産業（建設業・鉱業）",null,{"$f":"IF(OR(F158=\"\",F158=0),NA(),100)","v":{"$error":"#N/A"}},null,null,null,null,{"$f":"IF(OR($F158=\"\",K158=\"\",$F158=0),NA(),(K158/$F158*100))","v":{"$error":"#N/A"}},null,{"$f":"IF($M$137=\"\",NA(),IF(OR($F158=\"\",M158=\"\",$F158=0),NA(),(M158/$F158*100)))","v":{"$error":"#N/A"}}]
[null,null,"農林水産業","産業（農林水産業）",null,{"$error":"#N/A"},null,null,null,null,{"$error":"#N/A"},null,{"$error":"#N/A"}]
[null,"業務",null,"業務その他",null,{"$error":"#N/A"},null,null,null,null,{"$error":"#N/A"},null,{"$error":"#N/A"}]
[null,"家庭",null,"家庭",null,{"$error":"#N/A"},null,null,null,null,{"$error":"#N/A"},null,{"$error":"#N/A"}]
[null,"運輸","自動車","運輸（自動車（旅客））",null,{"$error":"#N/A"},null,null,null,null,{"$error":"#N/A"},null,{"$error":"#N/A"}]
[null,null,null,"運輸（自動車（貨物））",null,{"$error":"#N/A"},null,null,null,null,{"$error":"#N/A"},null,{"$error":"#N/A"}]
[null,null,"鉄道","運輸（鉄道）",null,{"$error":"#N/A"},null,null,null,null,{"$error":"#N/A"},null,{"$error":"#N/A"}]
[null,null,"船舶","運輸（船舶）",null,{"$error":"#N/A"},null,null,null,null,{"$error":"#N/A"},null,{"$error":"#N/A"}]
[null,null,"航空","運輸（航空）",null,{"$error":"#N/A"},null,null,null,null,{"$error":"#N/A"},null,{"$error":"#N/A"}]
[null,"工業プロセス",null,"工業プロセス",null,{"$error":"#N/A"},null,null,null,null,{"$error":"#N/A"},null,{"$error":"#N/A"}]
[null,"廃棄物",null,"廃棄物（一廃）",null,{"$error":"#N/A"},null,null,null,null,{"$error":"#N/A"},null,{"$error":"#N/A"}]
[null,null,null,"廃棄物（産廃）",null,{"$error":"#N/A"},null,null,null,null,{"$error":"#N/A"},null,{"$error":"#N/A"}]
[null,"農業",null,"農業",null,{"$error":"#N/A"},null,null,null,null,{"$error":"#N/A"},null,{"$error":"#N/A"}]
[null,"代替フロン等4ガス",null,"代替フロン等4ガス",null,{"$error":"#N/A"},null,null,null,null,{"$error":"#N/A"},null,{"$error":"#N/A"}]
[]
[]
[]
[]
[null,"産業","製造業","産業（製造業）",null,{"$f":"SUM(T14:T15)","v":0},null,null,null,null,{"$f":"SUM(X14:X15)","v":0},null,{"$f":"SUM(AB14:AB15)","v":0}]
[null,null,"建設・鉱業","産業（建設業・鉱業）",null,{"$f":"T18","v":""},null,null,null,null,{"$f":"X18","v":""},null,{"$f":"AB18","v":""}]
[null,null,"農林水産業","産業（農林水産業）",null,{"$f":"T19","v":""},null,null,null,null,{"$f":"X19","v":""},null,{"$f":"AB19","v":""}]
[null,"業務",null,"業務その他",null,{"$f":"SUM(T21:T22)","v":0},null,null,null,null,{"$f":"SUM(X21:X22)","v":0},null,{"$f":"SUM(AB21:AB22)","v":0}]
[null,"家庭",null,"家庭",null,{"$f":"T25","v":""},null,null,null,null,{"$f":"X25","v":""},null,{"$f":"AB25","v":""}]
[null,"運輸","自動車","運輸（自動車（旅客））",null,"",null,null,null,null,"",null,""]
[null,null,null,"運輸（自動車（貨物））",null,"",null,null,null,null,"",null,""]
[null,null,"鉄道","運輸（鉄道）",null,"",null,null,null,null,"",null,""]
[null,null,"船舶","運輸（船舶）",null,"",null,null,null,null,"",null,""]
[null,null,"航空","運輸（航空）",null,"",null,null,null,null,"",null,""]
[null,"工業プロセス",null,"工業プロセス",null,{"$f":"T32","v":""},null,null,null,null,{"$f":"X32","v":""},null,{"$f":"AB32","v":""}]
[null,"廃棄物",null,"廃棄物（一廃）",null,{"$f":"T33","v":""},null,null,null,null,{"$f":"X33","v":""},null,{"$f":"AB33","v":""}]
[null,null,null,"廃棄物（産廃）",null,{"$f":"T34","v":""},null,null,null,null,{"$f":"X34","v":""},null,{"$f":"AB34","v":""}]
[null,"農業",null,"農業",null,{"$f":"T36","v":""},null,null,null,null,{"$f":"X36","v":""},null,{"$f":"AB36","v":""}]
[null,"代替フロン等4ガス",null,"代替フロン等4ガス",null,{"$f":"T37","v":""},null,null,null,null,{"$f":"X37","v":""},null,{"$f":"AB37","v":""}]

{"sheet":"グラフ（実際の年間隔）","index":13,"n_rows":152,"n_cols":11,"rows_kept":152,"cut":false,"hidden":true,"merged":[[2,1,2,31]]}
[null,"グラフ（実際の年間隔表示）"]
[null,"メインシートに戻る"]
[null,"本シートでは、7)シートで出力したグラフを実際の年間隔で出力します。長期目標を設定している場合は、基準年から長期目標へ線形な補助線を引いているため、現状年や各目標年が計画通りに進捗するかの確認・検討に活用してください。"]
[]
[null,"排出量の実績と目標（実際の年間隔）"]
[]
[]
[]
[]
[]
[]
[]
[]
[]
[]
[]
[]
[]
[]
[]
[]
[]
[null,"部門／分野別排出原単位の実績と目標（実際の年間隔）"]
[]
[]
[]
[]
[]
[]
[]
[]
[]
[]
[]
[]
[]
[]
[]
[]
[]
[]
[]
[]
[]
[]
[]
[]
[]
[]
[]
[]
[]
[]
[]
[]
[]
[]
[]
[]
[]
[]
[]
[]
[]
[]
[]
[]
[]
[]
[]
[]
[]
[]
[]
[]
[]
[]
[]
[]
[]
[]
[]
[]
[]
[]
[]
[]
[]
[]
[]
[]
[]
[]
[]
[]
[]
[null,"＜グラフ出力用＞"]
[null,"■排出量の実績と目標（部門/分野ごと）"]
[8]
[null,"産業（製造業）"]
[null,"産業（建設業・鉱業）"]
[null,"産業（農林水産業）"]
[null,"業務その他"]
[null,"家庭"]
[null,"運輸（自動車）"]
[null,"運輸（鉄道）"]
[null,"運輸（船舶）"]
[null,"運輸（航空）"]
[null,"工業プロセス"]
[null,"廃棄物"]
[null,"農業"]
[null,"代替フロン等4ガス"]
[null,"長期目標"]
[null,"長期目標②",null,{"$f":"IF(D115=1,D113,IF(D115=2,SUM(D100:D112),NA()))","v":0},{"$f":"IF(E115=1,E113,IF(E115=2,SUM(E100:E112),NA()))","v":{"$error":"#N/A"}},{"$error":"#N/A"},{"$error":"#N/A"},{"$error":"#N/A"},{"$error":"#N/A"},{"$error":"#N/A"},0]
[null,null,null,2,null,null,null,null,0,0,1]
[]
[]
[]
[]
[]
[]
[]
[]
[]
[]
[]
[]
[]
[]
[]
[]
[]
[]
[]
[]
[]
[]
[null,"産業（製造業）"]
[null,"産業（建設業・鉱業）"]
[null,"産業（農林水産業）"]
[null,"業務その他"]
[null,"家庭"]
[null,"運輸（自動車（旅客））"]
[null,"運輸（自動車（貨物））"]
[null,"運輸（鉄道）"]
[null,"運輸（船舶）"]
[null,"運輸（航空）"]
[null,"工業プロセス"]
[null,"廃棄物（一廃）"]
[null,"廃棄物（産廃）"]
[null,"農業"]
[null,"代替フロン等4ガス"]

{"sheet":"F進捗管理表","index":14,"n_rows":514,"n_cols":23,"rows_kept":514,"cut":false,"hidden":true,"merged":[[10,7,10,14],[10,15,10,21],[11,13,11,14],[11,20,11,21],[2,2,2,12],[4,2,8,12]]}
[null,"進捗管理表"]
[]
[null,null,"本シートは「区域施策編」目標設定・進捗管理支援ツールで設定された短期目標の対策・施策情報を元に出力されます。地方公共団体実行計画（区域施策編）の進捗管理に活用してください。\n内容は自由に編集することができます。"]
[]
[null,null,"\n"]
[]
[]
[]
[]
[]
[null,"No","部門／分野","法に定められた\n４つの施策分野","施策名※２","対策名※３","対策の内容※３","対策・施策目標（進捗管理目標）※４",null,null,null,null,null,null,null,"削減量（t-CO2）※６",null,null,null,null,null,null,"備考"]
[null,null,null,"※１",null,null,null,"指標","年度を入れてください","年度を入れてください","年度を入れてください","年度を入れてください","年度を入れてください",{"$f":"IF('7)目標設定結果とグラフ'!J11=\"\",\"\",'7)目標設定結果とグラフ'!J11)","v":"2030年度"},null,"年度を入れてください","年度を入れてください","年度を入れてください","年度を入れてください","年度を入れてください",{"$f":"IF('7)目標設定結果とグラフ'!J11=\"\",\"\",'7)目標設定結果とグラフ'!J11)","v":"2030年度"}]
[null,null,null,null,null,null,null,"（単位）","実績","実績","実績","実績","実績","短期目標",null,"実績","実績","実績","実績","実績","短期目標"]
[null,null,null,null,null,null,null,null,null,null,null,null,null,null,"対短期目標達成率※５",null,null,null,null,null,null,"対短期目標達成率"]
[null,{"$f":"部門別目標設定!B20","v":1},{"$f":"IF(部門別目標設定!C20=\"\",\"\",部門別目標設定!C20)","v":""},{"$f":"IF(部門別目標設定!D20=\"\",\"\",部門別目標設定!D20)","v":""},{"$f":"IF(部門別目標設定!E20=\"\",\"\",部門別目標設定!E20)","v":""},{"$f":"IF(部門別目標設定!F20=\"\",\"\",部門別目標設定!F20)","v":""},{"$f":"IF(部門別目標設定!G20=\"\",\"\",部門別目標設定!G20)","v":""},{"$f":"IF(部門別目標設定!M20=\"\",\"\",部門別目標設定!M20)","v":""},null,null,null,null,null,{"$f":"部門別目標設定!L20","v":0},{"$f":"IF(OR(I15=\"\",N15=\"\"),\"\",IF(ISERROR(INDEX(I15:M15,MATCH(MAX(I15:M15)+1,I15:M15,1))/N15),\"\",INDEX(I15:M15,MATCH(MAX(I15:M15)+1,I15:M15,1))/N15))","v":""},null,null,null,null,null,{"$f":"IF(OR(部門別目標設定!I20=0,部門別目標設定!I20=\"\"),部門別目標設定!K20,部門別目標設定!I20)","v":""},{"$f":"IF(OR(P15=\"\",U15=\"\"),\"\",INDEX(P15:T15,MATCH(MAX(P15:T15)+1,P15:T15,1))/U15)","v":""},{"$f":"IF(部門別目標設定!T20=\"\",\"\",(部門別目標設定!T20))","v":""}]
[null,{"$f":"部門別目標設定!B21","v":2},{"$f":"IF(部門別目標設定!C21=\"\",\"\",部門別目標設定!C21)","v":""},{"$f":"IF(部門別目標設定!D21=\"\",\"\",部門別目標設定!D21)","v":""},{"$f":"IF(部門別目標設定!E21=\"\",\"\",部門別目標設定!E21)","v":""},{"$f":"IF(部門別目標設定!F21=\"\",\"\",部門別目標設定!F21)","v":""},{"$f":"IF(部門別目標設定!G21=\"\",\"\",部門別目標設定!G21)","v":""},{"$f":"IF(部門別目標設定!M21=\"\",\"\",部門別目標設定!M21)","v":""},null,null,null,null,null,{"$f":"部門別目標設定!L21","v":0},{"$f":"IF(OR(I16=\"\",N16=\"\"),\"\",IF(ISERROR(INDEX(I16:M16,MATCH(MAX(I16:M16)+1,I16:M16,1))/N16),\"\",INDEX(I16:M16,MATCH(MAX(I16:M16)+1,I16:M16,1))/N16))","v":""},null,null,null,null,null,{"$f":"IF(OR(部門別目標設定!I21=0,部門別目標設定!I21=\"\"),部門別目標設定!K21,部門別目標設定!I21)","v":""},"",{"$f":"IF(部門別目標設定!T21=\"\",\"\",(部門別目標設定!T21))","v":""}]
[null,{"$f":"部門別目標設定!B22","v":3},{"$f":"IF(部門別目標設定!C22=\"\",\"\",部門別目標設定!C22)","v":""},{"$f":"IF(部門別目標設定!D22=\"\",\"\",部門別目標設定!D22)","v":""},{"$f":"IF(部門別目標設定!E22=\"\",\"\",部門別目標設定!E22)","v":""},{"$f":"IF(部門別目標設定!F22=\"\",\"\",部門別目標設定!F22)","v":""},{"$f":"IF(部門別目標設定!G22=\"\",\"\",部門別目標設定!G22)","v":""},{"$f":"IF(部門別目標設定!M22=\"\",\"\",部門別目標設定!M22)","v":""},null,null,null,null,null,{"$f":"部門別目標設定!L22","v":0},"",null,null,null,null,null,{"$f":"IF(OR(部門別目標設定!I22=0,部門別目標設定!I22=\"\"),部門別目標設定!K22,部門別目標設定!I22)","v":""},"",{"$f":"IF(部門別目標設定!T22=\"\",\"\",(部門別目標設定!T22))","v":""}]
[null,{"$f":"部門別目標設定!B23","v":4},{"$f":"IF(部門別目標設定!C23=\"\",\"\",部門別目標設定!C23)","v":""},{"$f":"IF(部門別目標設定!D23=\"\",\"\",部門別目標設定!D23)","v":""},{"$f":"IF(部門別目標設定!E23=\"\",\"\",部門別目標設定!E23)","v":""},{"$f":"IF(部門別目標設定!F23=\"\",\"\",部門別目標設定!F23)","v":""},{"$f":"IF(部門別目標設定!G23=\"\",\"\",部門別目標設定!G23)","v":""},{"$f":"IF(部門別目標設定!M23=\"\",\"\",部門別目標設定!M23)","v":""},null,null,null,null,null,{"$f":"部門別目標設定!L23","v":0},"",null,null,null,null,null,{"$f":"IF(OR(部門別目標設定!I23=0,部門別目標設定!I23=\"\"),部門別目標設定!K23,部門別目標設定!I23)","v":""},"",{"$f":"IF(部門別目標設定!T23=\"\",\"\",(部門別目標設定!T23))","v":""}]
[null,{"$f":"部門別目標設定!B24","v":5},{"$f":"IF(部門別目標設定!C24=\"\",\"\",部門別目標設定!C24)","v":""},{"$f":"IF(部門別目標設定!D24=\"\",\"\",部門別目標設定!D24)","v":""},{"$f":"IF(部門別目標設定!E24=\"\",\"\",部門別目標設定!E24)","v":""},{"$f":"IF(部門別目標設定!F24=\"\",\"\",部門別目標設定!F24)","v":""},{"$f":"IF(部門別目標設定!G24=\"\",\"\",部門別目標設定!G24)","v":""},{"$f":"IF(部門別目標設定!M24=\"\",\"\",部門別目標設定!M24)","v":""},null,null,null,null,null,{"$f":"部門別目標設定!L24","v":0},"",null,null,null,null,null,{"$f":"IF(OR(部門別目標設定!I24=0,部門別目標設定!I24=\"\"),部門別目標設定!K24,部門別目標設定!I24)","v":""},"",{"$f":"IF(部門別目標設定!T24=\"\",\"\",(部門別目標設定!T24))","v":""}]
[null,{"$f":"部門別目標設定!B25","v":6},{"$f":"IF(部門別目標設定!C25=\"\",\"\",部門別目標設定!C25)","v":""},{"$f":"IF(部門別目標設定!D25=\"\",\"\",部門別目標設定!D25)","v":""},{"$f":"IF(部門別目標設定!E25=\"\",\"\",部門別目標設定!E25)","v":""},{"$f":"IF(部門別目標設定!F25=\"\",\"\",部門別目標設定!F25)","v":""},{"$f":"IF(部門別目標設定!G25=\"\",\"\",部門別目標設定!G25)","v":""},{"$f":"IF(部門別目標設定!M25=\"\",\"\",部門別目標設定!M25)","v":""},null,null,null,null,null,{"$f":"部門別目標設定!L25","v":0},"",null,null,null,null,null,{"$f":"IF(OR(部門別目標設定!I25=0,部門別目標設定!I25=\"\"),部門別目標設定!K25,部門別目標設定!I25)","v":""},"",{"$f":"IF(部門別目標設定!T25=\"\",\"\",(部門別目標設定!T25))","v":""}]
[null,{"$f":"部門別目標設定!B26","v":7},{"$f":"IF(部門別目標設定!C26=\"\",\"\",部門別目標設定!C26)","v":""},{"$f":"IF(部門別目標設定!D26=\"\",\"\",部門別目標設定!D26)","v":""},{"$f":"IF(部門別目標設定!E26=\"\",\"\",部門別目標設定!E26)","v":""},{"$f":"IF(部門別目標設定!F26=\"\",\"\",部門別目標設定!F26)","v":""},{"$f":"IF(部門別目標設定!G26=\"\",\"\",部門別目標設定!G26)","v":""},{"$f":"IF(部門別目標設定!M26=\"\",\"\",部門別目標設定!M26)","v":""},null,null,null,null,null,{"$f":"部門別目標設定!L26","v":0},"",null,null,null,null,null,{"$f":"IF(OR(部門別目標設定!I26=0,部門別目標設定!I26=\"\"),部門別目標設定!K26,部門別目標設定!I26)","v":""},"",{"$f":"IF(部門別目標設定!T26=\"\",\"\",(部門別目標設定!T26))","v":""}]
[null,{"$f":"部門別目標設定!B27","v":8},{"$f":"IF(部門別目標設定!C27=\"\",\"\",部門別目標設定!C27)","v":""},{"$f":"IF(部門別目標設定!D27=\"\",\"\",部門別目標設定!D27)","v":""},{"$f":"IF(部門別目標設定!E27=\"\",\"\",部門別目標設定!E27)","v":""},{"$f":"IF(部門別目標設定!F27=\"\",\"\",部門別目標設定!F27)","v":""},{"$f":"IF(部門別目標設定!G27=\"\",\"\",部門別目標設定!G27)","v":""},{"$f":"IF(部門別目標設定!M27=\"\",\"\",部門別目標設定!M27)","v":""},null,null,null,null,null,{"$f":"部門別目標設定!L27","v":0},"",null,null,null,null,null,{"$f":"IF(OR(部門別目標設定!I27=0,部門別目標設定!I27=\"\"),部門別目標設定!K27,部門別目標設定!I27)","v":""},"",{"$f":"IF(部門別目標設定!T27=\"\",\"\",(部門別目標設定!T27))","v":""}]
[null,{"$f":"部門別目標設定!B28","v":9},{"$f":"IF(部門別目標設定!C28=\"\",\"\",部門別目標設定!C28)","v":""},{"$f":"IF(部門別目標設定!D28=\"\",\"\",部門別目標設定!D28)","v":""},{"$f":"IF(部門別目標設定!E28=\"\",\"\",部門別目標設定!E28)","v":""},{"$f":"IF(部門別目標設定!F28=\"\",\"\",部門別目標設定!F28)","v":""},{"$f":"IF(部門別目標設定!G28=\"\",\"\",部門別目標設定!G28)","v":""},{"$f":"IF(部門別目標設定!M28=\"\",\"\",部門別目標設定!M28)","v":""},null,null,null,null,null,{"$f":"部門別目標設定!L28","v":0},"",null,null,null,null,null,{"$f":"IF(OR(部門別目標設定!I28=0,部門別目標設定!I28=\"\"),部門別目標設定!K28,部門別目標設定!I28)","v":""},"",{"$f":"IF(部門別目標設定!T28=\"\",\"\",(部門別目標設定!T28))","v":""}]
[null,{"$f":"部門別目標設定!B29","v":10},{"$f":"IF(部門別目標設定!C29=\"\",\"\",部門別目標設定!C29)","v":""},{"$f":"IF(部門別目標設定!D29=\"\",\"\",部門別目標設定!D29)","v":""},{"$f":"IF(部門別目標設定!E29=\"\",\"\",部門別目標設定!E29)","v":""},{"$f":"IF(部門別目標設定!F29=\"\",\"\",部門別目標設定!F29)","v":""},{"$f":"IF(部門別目標設定!G29=\"\",\"\",部門別目標設定!G29)","v":""},{"$f":"IF(部門別目標設定!M29=\"\",\"\",部門別目標設定!M29)","v":""},null,null,null,null,null,{"$f":"部門別目標設定!L29","v":0},"",null,null,null,null,null,{"$f":"IF(OR(部門別目標設定!I29=0,部門別目標設定!I29=\"\"),部門別目標設定!K29,部門別目標設定!I29)","v":""},"",{"$f":"IF(部門別目標設定!T29=\"\",\"\",(部門別目標設定!T29))","v":""}]
[null,{"$f":"部門別目標設定!B30","v":11},{"$f":"IF(部門別目標設定!C30=\"\",\"\",部門別目標設定!C30)","v":""},{"$f":"IF(部門別目標設定!D30=\"\",\"\",部門別目標設定!D30)","v":""},{"$f":"IF(部門別目標設定!E30=\"\",\"\",部門別目標設定!E30)","v":""},{"$f":"IF(部門別目標設定!F30=\"\",\"\",部門別目標設定!F30)","v":""},{"$f":"IF(部門別目標設定!G30=\"\",\"\",部門別目標設定!G30)","v":""},{"$f":"IF(部門別目標設定!M30=\"\",\"\",部門別目標設定!M30)","v":""},null,null,null,null,null,{"$f":"部門別目標設定!L30","v":0},"",null,null,null,null,null,{"$f":"IF(OR(部門別目標設定!I30=0,部門別目標設定!I30=\"\"),部門別目標設定!K30,部門別目標設定!I30)","v":""},"",{"$f":"IF(部門別目標設定!T30=\"\",\"\",(部門別目標設定!T30))","v":""}]
[null,{"$f":"部門別目標設定!B31","v":12},{"$f":"IF(部門別目標設定!C31=\"\",\"\",部門別目標設定!C31)","v":""},{"$f":"IF(部門別目標設定!D31=\"\",\"\",部門別目標設定!D31)","v":""},{"$f":"IF(部門別目標設定!E31=\"\",\"\",部門別目標設定!E31)","v":""},{"$f":"IF(部門別目標設定!F31=\"\",\"\",部門別目標設定!F31)","v":""},{"$f":"IF(部門別目標設定!G31=\"\",\"\",部門別目標設定!G31)","v":""},{"$f":"IF(部門別目標設定!M31=\"\",\"\",部門別目標設定!M31)","v":""},null,null,null,null,null,{"$f":"部門別目標設定!L31","v":0},"",null,null,null,null,null,{"$f":"IF(OR(部門別目標設定!I31=0,部門別目標設定!I31=\"\"),部門別目標設定!K31,部門別目標設定!I31)","v":""},"",{"$f":"IF(部門別目標設定!T31=\"\",\"\",(部門別目標設定!T31))","v":""}]
[null,{"$f":"部門別目標設定!B32","v":13},{"$f":"IF(部門別目標設定!C32=\"\",\"\",部門別目標設定!C32)","v":""},{"$f":"IF(部門別目標設定!D32=\"\",\"\",部門別目標設定!D32)","v":""},{"$f":"IF(部門別目標設定!E32=\"\",\"\",部門別目標設定!E32)","v":""},{"$f":"IF(部門別目標設定!F32=\"\",\"\",部門別目標設定!F32)","v":""},{"$f":"IF(部門別目標設定!G32=\"\",\"\",部門別目標設定!G32)","v":""},{"$f":"IF(部門別目標設定!M32=\"\",\"\",部門別目標設定!M32)","v":""},null,null,null,null,null,{"$f":"部門別目標設定!L32","v":0},"",null,null,null,null,null,{"$f":"IF(OR(部門別目標設定!I32=0,部門別目標設定!I32=\"\"),部門別目標設定!K32,部門別目標設定!I32)","v":""},"",{"$f":"IF(部門別目標設定!T32=\"\",\"\",(部門別目標設定!T32))","v":""}]
[null,{"$f":"部門別目標設定!B33","v":14},{"$f":"IF(部門別目標設定!C33=\"\",\"\",部門別目標設定!C33)","v":""},{"$f":"IF(部門別目標設定!D33=\"\",\"\",部門別目標設定!D33)","v":""},{"$f":"IF(部門別目標設定!E33=\"\",\"\",部門別目標設定!E33)","v":""},{"$f":"IF(部門別目標設定!F33=\"\",\"\",部門別目標設定!F33)","v":""},{"$f":"IF(部門別目標設定!G33=\"\",\"\",部門別目標設定!G33)","v":""},{"$f":"IF(部門別目標設定!M33=\"\",\"\",部門別目標設定!M33)","v":""},null,null,null,null,null,{"$f":"部門別目標設定!L33","v":0},"",null,null,null,null,null,{"$f":"IF(OR(部門別目標設定!I33=0,部門別目標設定!I33=\"\"),部門別目標設定!K33,部門別目標設定!I33)","v":""},"",{"$f":"IF(部門別目標設定!T33=\"\",\"\",(部門別目標設定!T33))","v":""}]
[null,{"$f":"部門別目標設定!B34","v":15},{"$f":"IF(部門別目標設定!C34=\"\",\"\",部門別目標設定!C34)","v":""},{"$f":"IF(部門別目標設定!D34=\"\",\"\",部門別目標設定!D34)","v":""},{"$f":"IF(部門別目標設定!E34=\"\",\"\",部門別目標設定!E34)","v":""},{"$f":"IF(部門別目標設定!F34=\"\",\"\",部門別目標設定!F34)","v":""},{"$f":"IF(部門別目標設定!G34=\"\",\"\",部門別目標設定!G34)","v":""},{"$f":"IF(部門別目標設定!M34=\"\",\"\",部門別目標設定!M34)","v":""},null,null,null,null,null,{"$f":"部門別目標設定!L34","v":0},"",null,null,null,null,null,{"$f":"IF(OR(部門別目標設定!I34=0,部門別目標設定!I34=\"\"),部門別目標設定!K34,部門別目標設定!I34)","v":""},"",{"$f":"IF(部門別目標設定!T34=\"\",\"\",(部門別目標設定!T34))","v":""}]
[null,{"$f":"部門別目標設定!B35","v":16},{"$f":"IF(部門別目標設定!C35=\"\",\"\",部門別目標設定!C35)","v":""},{"$f":"IF(部門別目標設定!D35=\"\",\"\",部門別目標設定!D35)","v":""},{"$f":"IF(部門別目標設定!E35=\"\",\"\",部門別目標設定!E35)","v":""},{"$f":"IF(部門別目標設定!F35=\"\",\"\",部門別目標設定!F35)","v":""},{"$f":"IF(部門別目標設定!G35=\"\",\"\",部門別目標設定!G35)","v":""},{"$f":"IF(部門別目標設定!M35=\"\",\"\",部門別目標設定!M35)","v":""},null,null,null,null,null,{"$f":"部門別目標設定!L35","v":0},"",null,null,null,null,null,{"$f":"IF(OR(部門別目標設定!I35=0,部門別目標設定!I35=\"\"),部門別目標設定!K35,部門別目標設定!I35)","v":""},"",{"$f":"IF(部門別目標設定!T35=\"\",\"\",(部門別目標設定!T35))","v":""}]
[null,{"$f":"部門別目標設定!B36","v":17},{"$f":"IF(部門別目標設定!C36=\"\",\"\",部門別目標設定!C36)","v":""},{"$f":"IF(部門別目標設定!D36=\"\",\"\",部門別目標設定!D36)","v":""},{"$f":"IF(部門別目標設定!E36=\"\",\"\",部門別目標設定!E36)","v":""},{"$f":"IF(部門別目標設定!F36=\"\",\"\",部門別目標設定!F36)","v":""},{"$f":"IF(部門別目標設定!G36=\"\",\"\",部門別目標設定!G36)","v":""},{"$f":"IF(部門別目標設定!M36=\"\",\"\",部門別目標設定!M36)","v":""},null,null,null,null,null,{"$f":"部門別目標設定!L36","v":0},"",null,null,null,null,null,{"$f":"IF(OR(部門別目標設定!I36=0,部門別目標設定!I36=\"\"),部門別目標設定!K36,部門別目標設定!I36)","v":""},"",{"$f":"IF(部門別目標設定!T36=\"\",\"\",(部門別目標設定!T36))","v":""}]
[null,{"$f":"部門別目標設定!B37","v":18},{"$f":"IF(部門別目標設定!C37=\"\",\"\",部門別目標設定!C37)","v":""},{"$f":"IF(部門別目標設定!D37=\"\",\"\",部門別目標設定!D37)","v":""},{"$f":"IF(部門別目標設定!E37=\"\",\"\",部門別目標設定!E37)","v":""},{"$f":"IF(部門別目標設定!F37=\"\",\"\",部門別目標設定!F37)","v":""},{"$f":"IF(部門別目標設定!G37=\"\",\"\",部門別目標設定!G37)","v":""},{"$f":"IF(部門別目標設定!M37=\"\",\"\",部門別目標設定!M37)","v":""},null,null,null,null,null,{"$f":"部門別目標設定!L37","v":0},"",null,null,null,null,null,{"$f":"IF(OR(部門別目標設定!I37=0,部門別目標設定!I37=\"\"),部門別目標設定!K37,部門別目標設定!I37)","v":""},"",{"$f":"IF(部門別目標設定!T37=\"\",\"\",(部門別目標設定!T37))","v":""}]
[null,{"$f":"部門別目標設定!B38","v":19},{"$f":"IF(部門別目標設定!C38=\"\",\"\",部門別目標設定!C38)","v":""},{"$f":"IF(部門別目標設定!D38=\"\",\"\",部門別目標設定!D38)","v":""},{"$f":"IF(部門別目標設定!E38=\"\",\"\",部門別目標設定!E38)","v":""},{"$f":"IF(部門別目標設定!F38=\"\",\"\",部門別目標設定!F38)","v":""},{"$f":"IF(部門別目標設定!G38=\"\",\"\",部門別目標設定!G38)","v":""},{"$f":"IF(部門別目標設定!M38=\"\",\"\",部門別目標設定!M38)","v":""},null,null,null,null,null,{"$f":"部門別目標設定!L38","v":0},"",null,null,null,null,null,{"$f":"IF(OR(部門別目標設定!I38=0,部門別目標設定!I38=\"\"),部門別目標設定!K38,部門別目標設定!I38)","v":""},null,{"$f":"IF(部門別目標設定!T38=\"\",\"\",(部門別目標設定!T38))","v":""}]
[null,{"$f":"部門別目標設定!B39","v":20},{"$f":"IF(部門別目標設定!C39=\"\",\"\",部門別目標設定!C39)","v":""},{"$f":"IF(部門別目標設定!D39=\"\",\"\",部門別目標設定!D39)","v":""},{"$f":"IF(部門別目標設定!E39=\"\",\"\",部門別目標設定!E39)","v":""},{"$f":"IF(部門別目標設定!F39=\"\",\"\",部門別目標設定!F39)","v":""},{"$f":"IF(部門別目標設定!G39=\"\",\"\",部門別目標設定!G39)","v":""},{"$f":"IF(部門別目標設定!M39=\"\",\"\",部門別目標設定!M39)","v":""},null,null,null,null,null,{"$f":"部門別目標設定!L39","v":0},"",null,null,null,null,null,{"$f":"IF(OR(部門別目標設定!I39=0,部門別目標設定!I39=\"\"),部門別目標設定!K39,部門別目標設定!I39)","v":""},null,{"$f":"IF(部門別目標設定!T39=\"\",\"\",(部門別目標設定!T39))","v":""}]
[null,{"$f":"部門別目標設定!B40","v":21},{"$f":"IF(部門別目標設定!C40=\"\",\"\",部門別目標設定!C40)","v":""},{"$f":"IF(部門別目標設定!D40=\"\",\"\",部門別目標設定!D40)","v":""},{"$f":"IF(部門別目標設定!E40=\"\",\"\",部門別目標設定!E40)","v":""},{"$f":"IF(部門別目標設定!F40=\"\",\"\",部門別目標設定!F40)","v":""},{"$f":"IF(部門別目標設定!G40=\"\",\"\",部門別目標設定!G40)","v":""},{"$f":"IF(部門別目標設定!M40=\"\",\"\",部門別目標設定!M40)","v":""},null,null,null,null,null,{"$f":"部門別目標設定!L40","v":0},"",null,null,null,null,null,{"$f":"IF(OR(部門別目標設定!I40=0,部門別目標設定!I40=\"\"),部門別目標設定!K40,部門別目標設定!I40)","v":""},null,{"$f":"IF(部門別目標設定!T40=\"\",\"\",(部門別目標設定!T40))","v":""}]
[null,{"$f":"部門別目標設定!B41","v":22},{"$f":"IF(部門別目標設定!C41=\"\",\"\",部門別目標設定!C41)","v":""},{"$f":"IF(部門別目標設定!D41=\"\",\"\",部門別目標設定!D41)","v":""},{"$f":"IF(部門別目標設定!E41=\"\",\"\",部門別目標設定!E41)","v":""},{"$f":"IF(部門別目標設定!F41=\"\",\"\",部門別目標設定!F41)","v":""},{"$f":"IF(部門別目標設定!G41=\"\",\"\",部門別目標設定!G41)","v":""},{"$f":"IF(部門別目標設定!M41=\"\",\"\",部門別目標設定!M41)","v":""},null,null,null,null,null,{"$f":"部門別目標設定!L41","v":0},"",null,null,null,null,null,{"$f":"IF(OR(部門別目標設定!I41=0,部門別目標設定!I41=\"\"),部門別目標設定!K41,部門別目標設定!I41)","v":""},null,{"$f":"IF(部門別目標設定!T41=\"\",\"\",(部門別目標設定!T41))","v":""}]
[null,{"$f":"部門別目標設定!B42","v":23},{"$f":"IF(部門別目標設定!C42=\"\",\"\",部門別目標設定!C42)","v":""},{"$f":"IF(部門別目標設定!D42=\"\",\"\",部門別目標設定!D42)","v":""},{"$f":"IF(部門別目標設定!E42=\"\",\"\",部門別目標設定!E42)","v":""},{"$f":"IF(部門別目標設定!F42=\"\",\"\",部門別目標設定!F42)","v":""},{"$f":"IF(部門別目標設定!G42=\"\",\"\",部門別目標設定!G42)","v":""},{"$f":"IF(部門別目標設定!M42=\"\",\"\",部門別目標設定!M42)","v":""},null,null,null,null,null,{"$f":"部門別目標設定!L42","v":0},"",null,null,null,null,null,{"$f":"IF(OR(部門別目標設定!I42=0,部門別目標設定!I42=\"\"),部門別目標設定!K42,部門別目標設定!I42)","v":""},null,{"$f":"IF(部門別目標設定!T42=\"\",\"\",(部門別目標設定!T42))","v":""}]
[null,{"$f":"部門別目標設定!B43","v":24},{"$f":"IF(部門別目標設定!C43=\"\",\"\",部門別目標設定!C43)","v":""},{"$f":"IF(部門別目標設定!D43=\"\",\"\",部門別目標設定!D43)","v":""},{"$f":"IF(部門別目標設定!E43=\"\",\"\",部門別目標設定!E43)","v":""},{"$f":"IF(部門別目標設定!F43=\"\",\"\",部門別目標設定!F43)","v":""},{"$f":"IF(部門別目標設定!G43=\"\",\"\",部門別目標設定!G43)","v":""},{"$f":"IF(部門別目標設定!M43=\"\",\"\",部門別目標設定!M43)","v":""},null,null,null,null,null,{"$f":"部門別目標設定!L43","v":0},"",null,null,null,null,null,{"$f":"IF(OR(部門別目標設定!I43=0,部門別目標設定!I43=\"\"),部門別目標設定!K43,部門別目標設定!I43)","v":""},null,{"$f":"IF(部門別目標設定!T43=\"\",\"\",(部門別目標設定!T43))","v":""}]
[null,{"$f":"部門別目標設定!B44","v":25},{"$f":"IF(部門別目標設定!C44=\"\",\"\",部門別目標設定!C44)","v":""},{"$f":"IF(部門別目標設定!D44=\"\",\"\",部門別目標設定!D44)","v":""},{"$f":"IF(部門別目標設定!E44=\"\",\"\",部門別目標設定!E44)","v":""},{"$f":"IF(部門別目標設定!F44=\"\",\"\",部門別目標設定!F44)","v":""},{"$f":"IF(部門別目標設定!G44=\"\",\"\",部門別目標設定!G44)","v":""},{"$f":"IF(部門別目標設定!M44=\"\",\"\",部門別目標設定!M44)","v":""},null,null,null,null,null,{"$f":"部門別目標設定!L44","v":0},"",null,null,null,null,null,{"$f":"IF(OR(部門別目標設定!I44=0,部門別目標設定!I44=\"\"),部門別目標設定!K44,部門別目標設定!I44)","v":""},null,{"$f":"IF(部門別目標設定!T44=\"\",\"\",(部門別目標設定!T44))","v":""}]
[null,{"$f":"部門別目標設定!B45","v":26},{"$f":"IF(部門別目標設定!C45=\"\",\"\",部門別目標設定!C45)","v":""},{"$f":"IF(部門別目標設定!D45=\"\",\"\",部門別目標設定!D45)","v":""},{"$f":"IF(部門別目標設定!E45=\"\",\"\",部門別目標設定!E45)","v":""},{"$f":"IF(部門別目標設定!F45=\"\",\"\",部門別目標設定!F45)","v":""},{"$f":"IF(部門別目標設定!G45=\"\",\"\",部門別目標設定!G45)","v":""},{"$f":"IF(部門別目標設定!M45=\"\",\"\",部門別目標設定!M45)","v":""},null,null,null,null,null,{"$f":"部門別目標設定!L45","v":0},"",null,null,null,null,null,{"$f":"IF(OR(部門別目標設定!I45=0,部門別目標設定!I45=\"\"),部門別目標設定!K45,部門別目標設定!I45)","v":""},null,{"$f":"IF(部門別目標設定!T45=\"\",\"\",(部門別目標設定!T45))","v":""}]
[null,{"$f":"部門別目標設定!B46","v":27},{"$f":"IF(部門別目標設定!C46=\"\",\"\",部門別目標設定!C46)","v":""},{"$f":"IF(部門別目標設定!D46=\"\",\"\",部門別目標設定!D46)","v":""},{"$f":"IF(部門別目標設定!E46=\"\",\"\",部門別目標設定!E46)","v":""},{"$f":"IF(部門別目標設定!F46=\"\",\"\",部門別目標設定!F46)","v":""},{"$f":"IF(部門別目標設定!G46=\"\",\"\",部門別目標設定!G46)","v":""},{"$f":"IF(部門別目標設定!M46=\"\",\"\",部門別目標設定!M46)","v":""},null,null,null,null,null,{"$f":"部門別目標設定!L46","v":0},"",null,null,null,null,null,{"$f":"IF(OR(部門別目標設定!I46=0,部門別目標設定!I46=\"\"),部門別目標設定!K46,部門別目標設定!I46)","v":""},null,{"$f":"IF(部門別目標設定!T46=\"\",\"\",(部門別目標設定!T46))","v":""}]
[null,{"$f":"部門別目標設定!B47","v":28},{"$f":"IF(部門別目標設定!C47=\"\",\"\",部門別目標設定!C47)","v":""},{"$f":"IF(部門別目標設定!D47=\"\",\"\",部門別目標設定!D47)","v":""},{"$f":"IF(部門別目標設定!E47=\"\",\"\",部門別目標設定!E47)","v":""},{"$f":"IF(部門別目標設定!F47=\"\",\"\",部門別目標設定!F47)","v":""},{"$f":"IF(部門別目標設定!G47=\"\",\"\",部門別目標設定!G47)","v":""},{"$f":"IF(部門別目標設定!M47=\"\",\"\",部門別目標設定!M47)","v":""},null,null,null,null,null,{"$f":"部門別目標設定!L47","v":0},"",null,null,null,null,null,{"$f":"IF(OR(部門別目標設定!I47=0,部門別目標設定!I47=\"\"),部門別目標設定!K47,部門別目標設定!I47)","v":""},null,{"$f":"IF(部門別目標設定!T47=\"\",\"\",(部門別目標設定!T47))","v":""}]
[null,{"$f":"部門別目標設定!B48","v":29},{"$f":"IF(部門別目標設定!C48=\"\",\"\",部門別目標設定!C48)","v":""},{"$f":"IF(部門別目標設定!D48=\"\",\"\",部門別目標設定!D48)","v":""},{"$f":"IF(部門別目標設定!E48=\"\",\"\",部門別目標設定!E48)","v":""},{"$f":"IF(部門別目標設定!F48=\"\",\"\",部門別目標設定!F48)","v":""},{"$f":"IF(部門別目標設定!G48=\"\",\"\",部門別目標設定!G48)","v":""},{"$f":"IF(部門別目標設定!M48=\"\",\"\",部門別目標設定!M48)","v":""},null,null,null,null,null,{"$f":"部門別目標設定!L48","v":0},"",null,null,null,null,null,{"$f":"IF(OR(部門別目標設定!I48=0,部門別目標設定!I48=\"\"),部門別目標設定!K48,部門別目標設定!I48)","v":""},null,{"$f":"IF(部門別目標設定!T48=\"\",\"\",(部門別目標設定!T48))","v":""}]
[null,{"$f":"部門別目標設定!B49","v":30},{"$f":"IF(部門別目標設定!C49=\"\",\"\",部門別目標設定!C49)","v":""},{"$f":"IF(部門別目標設定!D49=\"\",\"\",部門別目標設定!D49)","v":""},{"$f":"IF(部門別目標設定!E49=\"\",\"\",部門別目標設定!E49)","v":""},{"$f":"IF(部門別目標設定!F49=\"\",\"\",部門別目標設定!F49)","v":""},{"$f":"IF(部門別目標設定!G49=\"\",\"\",部門別目標設定!G49)","v":""},{"$f":"IF(部門別目標設定!M49=\"\",\"\",部門別目標設定!M49)","v":""},null,null,null,null,null,{"$f":"部門別目標設定!L49","v":0},"",null,null,null,null,null,{"$f":"IF(OR(部門別目標設定!I49=0,部門別目標設定!I49=\"\"),部門別目標設定!K49,部門別目標設定!I49)","v":""},null,{"$f":"IF(部門別目標設定!T49=\"\",\"\",(部門別目標設定!T49))","v":""}]
[null,{"$f":"部門別目標設定!B50","v":31},{"$f":"IF(部門別目標設定!C50=\"\",\"\",部門別目標設定!C50)","v":""},{"$f":"IF(部門別目標設定!D50=\"\",\"\",部門別目標設定!D50)","v":""},{"$f":"IF(部門別目標設定!E50=\"\",\"\",部門別目標設定!E50)","v":""},{"$f":"IF(部門別目標設定!F50=\"\",\"\",部門別目標設定!F50)","v":""},{"$f":"IF(部門別目標設定!G50=\"\",\"\",部門別目標設定!G50)","v":""},{"$f":"IF(部門別目標設定!M50=\"\",\"\",部門別目標設定!M50)","v":""},null,null,null,null,null,{"$f":"部門別目標設定!L50","v":0},"",null,null,null,null,null,{"$f":"IF(OR(部門別目標設定!I50=0,部門別目標設定!I50=\"\"),部門別目標設定!K50,部門別目標設定!I50)","v":""},null,{"$f":"IF(部門別目標設定!T50=\"\",\"\",(部門別目標設定!T50))","v":""}]
[null,{"$f":"部門別目標設定!B51","v":32},{"$f":"IF(部門別目標設定!C51=\"\",\"\",部門別目標設定!C51)","v":""},{"$f":"IF(部門別目標設定!D51=\"\",\"\",部門別目標設定!D51)","v":""},{"$f":"IF(部門別目標設定!E51=\"\",\"\",部門別目標設定!E51)","v":""},{"$f":"IF(部門別目標設定!F51=\"\",\"\",部門別目標設定!F51)","v":""},{"$f":"IF(部門別目標設定!G51=\"\",\"\",部門別目標設定!G51)","v":""},{"$f":"IF(部門別目標設定!M51=\"\",\"\",部門別目標設定!M51)","v":""},null,null,null,null,null,{"$f":"部門別目標設定!L51","v":0},"",null,null,null,null,null,{"$f":"IF(OR(部門別目標設定!I51=0,部門別目標設定!I51=\"\"),部門別目標設定!K51,部門別目標設定!I51)","v":""},null,{"$f":"IF(部門別目標設定!T51=\"\",\"\",(部門別目標設定!T51))","v":""}]
[null,{"$f":"部門別目標設定!B52","v":33},{"$f":"IF(部門別目標設定!C52=\"\",\"\",部門別目標設定!C52)","v":""},{"$f":"IF(部門別目標設定!D52=\"\",\"\",部門別目標設定!D52)","v":""},{"$f":"IF(部門別目標設定!E52=\"\",\"\",部門別目標設定!E52)","v":""},{"$f":"IF(部門別目標設定!F52=\"\",\"\",部門別目標設定!F52)","v":""},{"$f":"IF(部門別目標設定!G52=\"\",\"\",部門別目標設定!G52)","v":""},{"$f":"IF(部門別目標設定!M52=\"\",\"\",部門別目標設定!M52)","v":""},null,null,null,null,null,{"$f":"部門別目標設定!L52","v":0},"",null,null,null,null,null,{"$f":"IF(OR(部門別目標設定!I52=0,部門別目標設定!I52=\"\"),部門別目標設定!K52,部門別目標設定!I52)","v":""},null,{"$f":"IF(部門別目標設定!T52=\"\",\"\",(部門別目標設定!T52))","v":""}]
[null,{"$f":"部門別目標設定!B53","v":34},{"$f":"IF(部門別目標設定!C53=\"\",\"\",部門別目標設定!C53)","v":""},{"$f":"IF(部門別目標設定!D53=\"\",\"\",部門別目標設定!D53)","v":""},{"$f":"IF(部門別目標設定!E53=\"\",\"\",部門別目標設定!E53)","v":""},{"$f":"IF(部門別目標設定!F53=\"\",\"\",部門別目標設定!F53)","v":""},{"$f":"IF(部門別目標設定!G53=\"\",\"\",部門別目標設定!G53)","v":""},{"$f":"IF(部門別目標設定!M53=\"\",\"\",部門別目標設定!M53)","v":""},null,null,null,null,null,{"$f":"部門別目標設定!L53","v":0},"",null,null,null,null,null,{"$f":"IF(OR(部門別目標設定!I53=0,部門別目標設定!I53=\"\"),部門別目標設定!K53,部門別目標設定!I53)","v":""},null,{"$f":"IF(部門別目標設定!T53=\"\",\"\",(部門別目標設定!T53))","v":""}]
[null,{"$f":"部門別目標設定!B54","v":35},{"$f":"IF(部門別目標設定!C54=\"\",\"\",部門別目標設定!C54)","v":""},{"$f":"IF(部門別目標設定!D54=\"\",\"\",部門別目標設定!D54)","v":""},{"$f":"IF(部門別目標設定!E54=\"\",\"\",部門別目標設定!E54)","v":""},{"$f":"IF(部門別目標設定!F54=\"\",\"\",部門別目標設定!F54)","v":""},{"$f":"IF(部門別目標設定!G54=\"\",\"\",部門別目標設定!G54)","v":""},{"$f":"IF(部門別目標設定!M54=\"\",\"\",部門別目標設定!M54)","v":""},null,null,null,null,null,{"$f":"部門別目標設定!L54","v":0},"",null,null,null,null,null,{"$f":"IF(OR(部門別目標設定!I54=0,部門別目標設定!I54=\"\"),部門別目標設定!K54,部門別目標設定!I54)","v":""},null,{"$f":"IF(部門別目標設定!T54=\"\",\"\",(部門別目標設定!T54))","v":""}]
[null,{"$f":"部門別目標設定!B55","v":36},{"$f":"IF(部門別目標設定!C55=\"\",\"\",部門別目標設定!C55)","v":""},{"$f":"IF(部門別目標設定!D55=\"\",\"\",部門別目標設定!D55)","v":""},{"$f":"IF(部門別目標設定!E55=\"\",\"\",部門別目標設定!E55)","v":""},{"$f":"IF(部門別目標設定!F55=\"\",\"\",部門別目標設定!F55)","v":""},{"$f":"IF(部門別目標設定!G55=\"\",\"\",部門別目標設定!G55)","v":""},{"$f":"IF(部門別目標設定!M55=\"\",\"\",部門別目標設定!M55)","v":""},null,null,null,null,null,{"$f":"部門別目標設定!L55","v":0},"",null,null,null,null,null,{"$f":"IF(OR(部門別目標設定!I55=0,部門別目標設定!I55=\"\"),部門別目標設定!K55,部門別目標設定!I55)","v":""},null,{"$f":"IF(部門別目標設定!T55=\"\",\"\",(部門別目標設定!T55))","v":""}]
[null,{"$f":"部門別目標設定!B56","v":37},{"$f":"IF(部門別目標設定!C56=\"\",\"\",部門別目標設定!C56)","v":""},{"$f":"IF(部門別目標設定!D56=\"\",\"\",部門別目標設定!D56)","v":""},{"$f":"IF(部門別目標設定!E56=\"\",\"\",部門別目標設定!E56)","v":""},{"$f":"IF(部門別目標設定!F56=\"\",\"\",部門別目標設定!F56)","v":""},{"$f":"IF(部門別目標設定!G56=\"\",\"\",部門別目標設定!G56)","v":""},{"$f":"IF(部門別目標設定!M56=\"\",\"\",部門別目標設定!M56)","v":""},null,null,null,null,null,{"$f":"部門別目標設定!L56","v":0},"",null,null,null,null,null,{"$f":"IF(OR(部門別目標設定!I56=0,部門別目標設定!I56=\"\"),部門別目標設定!K56,部門別目標設定!I56)","v":""},null,{"$f":"IF(部門別目標設定!T56=\"\",\"\",(部門別目標設定!T56))","v":""}]
[null,{"$f":"部門別目標設定!B57","v":38},{"$f":"IF(部門別目標設定!C57=\"\",\"\",部門別目標設定!C57)","v":""},{"$f":"IF(部門別目標設定!D57=\"\",\"\",部門別目標設定!D57)","v":""},{"$f":"IF(部門別目標設定!E57=\"\",\"\",部門別目標設定!E57)","v":""},{"$f":"IF(部門別目標設定!F57=\"\",\"\",部門別目標設定!F57)","v":""},{"$f":"IF(部門別目標設定!G57=\"\",\"\",部門別目標設定!G57)","v":""},{"$f":"IF(部門別目標設定!M57=\"\",\"\",部門別目標設定!M57)","v":""},null,null,null,null,null,{"$f":"部門別目標設定!L57","v":0},"",null,null,null,null,null,{"$f":"IF(OR(部門別目標設定!I57=0,部門別目標設定!I57=\"\"),部門別目標設定!K57,部門別目標設定!I57)","v":""},null,{"$f":"IF(部門別目標設定!T57=\"\",\"\",(部門別目標設定!T57))","v":""}]
[null,{"$f":"部門別目標設定!B58","v":39},{"$f":"IF(部門別目標設定!C58=\"\",\"\",部門別目標設定!C58)","v":""},{"$f":"IF(部門別目標設定!D58=\"\",\"\",部門別目標設定!D58)","v":""},{"$f":"IF(部門別目標設定!E58=\"\",\"\",部門別目標設定!E58)","v":""},{"$f":"IF(部門別目標設定!F58=\"\",\"\",部門別目標設定!F58)","v":""},{"$f":"IF(部門別目標設定!G58=\"\",\"\",部門別目標設定!G58)","v":""},{"$f":"IF(部門別目標設定!M58=\"\",\"\",部門別目標設定!M58)","v":""},null,null,null,null,null,{"$f":"部門別目標設定!L58","v":0},"",null,null,null,null,null,{"$f":"IF(OR(部門別目標設定!I58=0,部門別目標設定!I58=\"\"),部門別目標設定!K58,部門別目標設定!I58)","v":""},null,{"$f":"IF(部門別目標設定!T58=\"\",\"\",(部門別目標設定!T58))","v":""}]
[null,{"$f":"部門別目標設定!B59","v":40},{"$f":"IF(部門別目標設定!C59=\"\",\"\",部門別目標設定!C59)","v":""},{"$f":"IF(部門別目標設定!D59=\"\",\"\",部門別目標設定!D59)","v":""},{"$f":"IF(部門別目標設定!E59=\"\",\"\",部門別目標設定!E59)","v":""},{"$f":"IF(部門別目標設定!F59=\"\",\"\",部門別目標設定!F59)","v":""},{"$f":"IF(部門別目標設定!G59=\"\",\"\",部門別目標設定!G59)","v":""},{"$f":"IF(部門別目標設定!M59=\"\",\"\",部門別目標設定!M59)","v":""},null,null,null,null,null,{"$f":"部門別目標設定!L59","v":0},"",null,null,null,null,null,{"$f":"IF(OR(部門別目標設定!I59=0,部門別目標設定!I59=\"\"),部門別目標設定!K59,部門別目標設定!I59)","v":""},null,{"$f":"IF(部門別目標設定!T59=\"\",\"\",(部門別目標設定!T59))","v":""}]
[null,{"$f":"部門別目標設定!B60","v":41},{"$f":"IF(部門別目標設定!C60=\"\",\"\",部門別目標設定!C60)","v":""},{"$f":"IF(部門別目標設定!D60=\"\",\"\",部門別目標設定!D60)","v":""},{"$f":"IF(部門別目標設定!E60=\"\",\"\",部門別目標設定!E60)","v":""},{"$f":"IF(部門別目標設定!F60=\"\",\"\",部門別目標設定!F60)","v":""},{"$f":"IF(部門別目標設定!G60=\"\",\"\",部門別目標設定!G60)","v":""},{"$f":"IF(部門別目標設定!M60=\"\",\"\",部門別目標設定!M60)","v":""},null,null,null,null,null,{"$f":"部門別目標設定!L60","v":0},"",null,null,null,null,null,{"$f":"IF(OR(部門別目標設定!I60=0,部門別目標設定!I60=\"\"),部門別目標設定!K60,部門別目標設定!I60)","v":""},null,{"$f":"IF(部門別目標設定!T60=\"\",\"\",(部門別目標設定!T60))","v":""}]
[null,{"$f":"部門別目標設定!B61","v":42},{"$f":"IF(部門別目標設定!C61=\"\",\"\",部門別目標設定!C61)","v":""},{"$f":"IF(部門別目標設定!D61=\"\",\"\",部門別目標設定!D61)","v":""},{"$f":"IF(部門別目標設定!E61=\"\",\"\",部門別目標設定!E61)","v":""},{"$f":"IF(部門別目標設定!F61=\"\",\"\",部門別目標設定!F61)","v":""},{"$f":"IF(部門別目標設定!G61=\"\",\"\",部門別目標設定!G61)","v":""},{"$f":"IF(部門別目標設定!M61=\"\",\"\",部門別目標設定!M61)","v":""},null,null,null,null,null,{"$f":"部門別目標設定!L61","v":0},"",null,null,null,null,null,{"$f":"IF(OR(部門別目標設定!I61=0,部門別目標設定!I61=\"\"),部門別目標設定!K61,部門別目標設定!I61)","v":""},null,{"$f":"IF(部門別目標設定!T61=\"\",\"\",(部門別目標設定!T61))","v":""}]
[null,{"$f":"部門別目標設定!B62","v":43},{"$f":"IF(部門別目標設定!C62=\"\",\"\",部門別目標設定!C62)","v":""},{"$f":"IF(部門別目標設定!D62=\"\",\"\",部門別目標設定!D62)","v":""},{"$f":"IF(部門別目標設定!E62=\"\",\"\",部門別目標設定!E62)","v":""},{"$f":"IF(部門別目標設定!F62=\"\",\"\",部門別目標設定!F62)","v":""},{"$f":"IF(部門別目標設定!G62=\"\",\"\",部門別目標設定!G62)","v":""},{"$f":"IF(部門別目標設定!M62=\"\",\"\",部門別目標設定!M62)","v":""},null,null,null,null,null,{"$f":"部門別目標設定!L62","v":0},"",null,null,null,null,null,{"$f":"IF(OR(部門別目標設定!I62=0,部門別目標設定!I62=\"\"),部門別目標設定!K62,部門別目標設定!I62)","v":""},null,{"$f":"IF(部門別目標設定!T62=\"\",\"\",(部門別目標設定!T62))","v":""}]
[null,{"$f":"部門別目標設定!B63","v":44},{"$f":"IF(部門別目標設定!C63=\"\",\"\",部門別目標設定!C63)","v":""},{"$f":"IF(部門別目標設定!D63=\"\",\"\",部門別目標設定!D63)","v":""},{"$f":"IF(部門別目標設定!E63=\"\",\"\",部門別目標設定!E63)","v":""},{"$f":"IF(部門別目標設定!F63=\"\",\"\",部門別目標設定!F63)","v":""},{"$f":"IF(部門別目標設定!G63=\"\",\"\",部門別目標設定!G63)","v":""},{"$f":"IF(部門別目標設定!M63=\"\",\"\",部門別目標設定!M63)","v":""},null,null,null,null,null,{"$f":"部門別目標設定!L63","v":0},"",null,null,null,null,null,{"$f":"IF(OR(部門別目標設定!I63=0,部門別目標設定!I63=\"\"),部門別目標設定!K63,部門別目標設定!I63)","v":""},null,{"$f":"IF(部門別目標設定!T63=\"\",\"\",(部門別目標設定!T63))","v":""}]
[null,{"$f":"部門別目標設定!B64","v":45},{"$f":"IF(部門別目標設定!C64=\"\",\"\",部門別目標設定!C64)","v":""},{"$f":"IF(部門別目標設定!D64=\"\",\"\",部門別目標設定!D64)","v":""},{"$f":"IF(部門別目標設定!E64=\"\",\"\",部門別目標設定!E64)","v":""},{"$f":"IF(部門別目標設定!F64=\"\",\"\",部門別目標設定!F64)","v":""},{"$f":"IF(部門別目標設定!G64=\"\",\"\",部門別目標設定!G64)","v":""},{"$f":"IF(部門別目標設定!M64=\"\",\"\",部門別目標設定!M64)","v":""},null,null,null,null,null,{"$f":"部門別目標設定!L64","v":0},"",null,null,null,null,null,{"$f":"IF(OR(部門別目標設定!I64=0,部門別目標設定!I64=\"\"),部門別目標設定!K64,部門別目標設定!I64)","v":""},null,{"$f":"IF(部門別目標設定!T64=\"\",\"\",(部門別目標設定!T64))","v":""}]
[null,{"$f":"部門別目標設定!B65","v":46},{"$f":"IF(部門別目標設定!C65=\"\",\"\",部門別目標設定!C65)","v":""},{"$f":"IF(部門別目標設定!D65=\"\",\"\",部門別目標設定!D65)","v":""},{"$f":"IF(部門別目標設定!E65=\"\",\"\",部門別目標設定!E65)","v":""},{"$f":"IF(部門別目標設定!F65=\"\",\"\",部門別目標設定!F65)","v":""},{"$f":"IF(部門別目標設定!G65=\"\",\"\",部門別目標設定!G65)","v":""},{"$f":"IF(部門別目標設定!M65=\"\",\"\",部門別目標設定!M65)","v":""},null,null,null,null,null,{"$f":"部門別目標設定!L65","v":0},"",null,null,null,null,null,{"$f":"IF(OR(部門別目標設定!I65=0,部門別目標設定!I65=\"\"),部門別目標設定!K65,部門別目標設定!I65)","v":""},null,{"$f":"IF(部門別目標設定!T65=\"\",\"\",(部門別目標設定!T65))","v":""}]
[null,{"$f":"部門別目標設定!B66","v":47},{"$f":"IF(部門別目標設定!C66=\"\",\"\",部門別目標設定!C66)","v":""},{"$f":"IF(部門別目標設定!D66=\"\",\"\",部門別目標設定!D66)","v":""},{"$f":"IF(部門別目標設定!E66=\"\",\"\",部門別目標設定!E66)","v":""},{"$f":"IF(部門別目標設定!F66=\"\",\"\",部門別目標設定!F66)","v":""},{"$f":"IF(部門別目標設定!G66=\"\",\"\",部門別目標設定!G66)","v":""},{"$f":"IF(部門別目標設定!M66=\"\",\"\",部門別目標設定!M66)","v":""},null,null,null,null,null,{"$f":"部門別目標設定!L66","v":0},"",null,null,null,null,null,{"$f":"IF(OR(部門別目標設定!I66=0,部門別目標設定!I66=\"\"),部門別目標設定!K66,部門別目標設定!I66)","v":""},null,{"$f":"IF(部門別目標設定!T66=\"\",\"\",(部門別目標設定!T66))","v":""}]
[null,{"$f":"部門別目標設定!B67","v":48},{"$f":"IF(部門別目標設定!C67=\"\",\"\",部門別目標設定!C67)","v":""},{"$f":"IF(部門別目標設定!D67=\"\",\"\",部門別目標設定!D67)","v":""},{"$f":"IF(部門別目標設定!E67=\"\",\"\",部門別目標設定!E67)","v":""},{"$f":"IF(部門別目標設定!F67=\"\",\"\",部門別目標設定!F67)","v":""},{"$f":"IF(部門別目標設定!G67=\"\",\"\",部門別目標設定!G67)","v":""},{"$f":"IF(部門別目標設定!M67=\"\",\"\",部門別目標設定!M67)","v":""},null,null,null,null,null,{"$f":"部門別目標設定!L67","v":0},"",null,null,null,null,null,{"$f":"IF(OR(部門別目標設定!I67=0,部門別目標設定!I67=\"\"),部門別目標設定!K67,部門別目標設定!I67)","v":""},null,{"$f":"IF(部門別目標設定!T67=\"\",\"\",(部門別目標設定!T67))","v":""}]
[null,{"$f":"部門別目標設定!B68","v":49},{"$f":"IF(部門別目標設定!C68=\"\",\"\",部門別目標設定!C68)","v":""},{"$f":"IF(部門別目標設定!D68=\"\",\"\",部門別目標設定!D68)","v":""},{"$f":"IF(部門別目標設定!E68=\"\",\"\",部門別目標設定!E68)","v":""},{"$f":"IF(部門別目標設定!F68=\"\",\"\",部門別目標設定!F68)","v":""},{"$f":"IF(部門別目標設定!G68=\"\",\"\",部門別目標設定!G68)","v":""},{"$f":"IF(部門別目標設定!M68=\"\",\"\",部門別目標設定!M68)","v":""},null,null,null,null,null,{"$f":"部門別目標設定!L68","v":0},"",null,null,null,null,null,{"$f":"IF(OR(部門別目標設定!I68=0,部門別目標設定!I68=\"\"),部門別目標設定!K68,部門別目標設定!I68)","v":""},null,{"$f":"IF(部門別目標設定!T68=\"\",\"\",(部門別目標設定!T68))","v":""}]
[null,{"$f":"部門別目標設定!B69","v":50},{"$f":"IF(部門別目標設定!C69=\"\",\"\",部門別目標設定!C69)","v":""},{"$f":"IF(部門別目標設定!D69=\"\",\"\",部門別目標設定!D69)","v":""},{"$f":"IF(部門別目標設定!E69=\"\",\"\",部門別目標設定!E69)","v":""},{"$f":"IF(部門別目標設定!F69=\"\",\"\",部門別目標設定!F69)","v":""},{"$f":"IF(部門別目標設定!G69=\"\",\"\",部門別目標設定!G69)","v":""},{"$f":"IF(部門別目標設定!M69=\"\",\"\",部門別目標設定!M69)","v":""},null,null,null,null,null,{"$f":"部門別目標設定!L69","v":0},"",null,null,null,null,null,{"$f":"IF(OR(部門別目標設定!I69=0,部門別目標設定!I69=\"\"),部門別目標設定!K69,部門別目標設定!I69)","v":""},null,{"$f":"IF(部門別目標設定!T69=\"\",\"\",(部門別目標設定!T69))","v":""}]
[null,{"$f":"部門別目標設定!B70","v":51},{"$f":"IF(部門別目標設定!C70=\"\",\"\",部門別目標設定!C70)","v":""},{"$f":"IF(部門別目標設定!D70=\"\",\"\",部門別目標設定!D70)","v":""},{"$f":"IF(部門別目標設定!E70=\"\",\"\",部門別目標設定!E70)","v":""},{"$f":"IF(部門別目標設定!F70=\"\",\"\",部門別目標設定!F70)","v":""},{"$f":"IF(部門別目標設定!G70=\"\",\"\",部門別目標設定!G70)","v":""},{"$f":"IF(部門別目標設定!M70=\"\",\"\",部門別目標設定!M70)","v":""},null,null,null,null,null,{"$f":"部門別目標設定!L70","v":0},"",null,null,null,null,null,{"$f":"IF(OR(部門別目標設定!I70=0,部門別目標設定!I70=\"\"),部門別目標設定!K70,部門別目標設定!I70)","v":""},null,{"$f":"IF(部門別目標設定!T70=\"\",\"\",(部門別目標設定!T70))","v":""}]
[null,{"$f":"部門別目標設定!B71","v":52},{"$f":"IF(部門別目標設定!C71=\"\",\"\",部門別目標設定!C71)","v":""},{"$f":"IF(部門別目標設定!D71=\"\",\"\",部門別目標設定!D71)","v":""},{"$f":"IF(部門別目標設定!E71=\"\",\"\",部門別目標設定!E71)","v":""},{"$f":"IF(部門別目標設定!F71=\"\",\"\",部門別目標設定!F71)","v":""},{"$f":"IF(部門別目標設定!G71=\"\",\"\",部門別目標設定!G71)","v":""},{"$f":"IF(部門別目標設定!M71=\"\",\"\",部門別目標設定!M71)","v":""},null,null,null,null,null,{"$f":"部門別目標設定!L71","v":0},"",null,null,null,null,null,{"$f":"IF(OR(部門別目標設定!I71=0,部門別目標設定!I71=\"\"),部門別目標設定!K71,部門別目標設定!I71)","v":""},null,{"$f":"IF(部門別目標設定!T71=\"\",\"\",(部門別目標設定!T71))","v":""}]
[null,{"$f":"部門別目標設定!B72","v":53},{"$f":"IF(部門別目標設定!C72=\"\",\"\",部門別目標設定!C72)","v":""},{"$f":"IF(部門別目標設定!D72=\"\",\"\",部門別目標設定!D72)","v":""},{"$f":"IF(部門別目標設定!E72=\"\",\"\",部門別目標設定!E72)","v":""},{"$f":"IF(部門別目標設定!F72=\"\",\"\",部門別目標設定!F72)","v":""},{"$f":"IF(部門別目標設定!G72=\"\",\"\",部門別目標設定!G72)","v":""},{"$f":"IF(部門別目標設定!M72=\"\",\"\",部門別目標設定!M72)","v":""},null,null,null,null,null,{"$f":"部門別目標設定!L72","v":0},"",null,null,null,null,null,{"$f":"IF(OR(部門別目標設定!I72=0,部門別目標設定!I72=\"\"),部門別目標設定!K72,部門別目標設定!I72)","v":""},null,{"$f":"IF(部門別目標設定!T72=\"\",\"\",(部門別目標設定!T72))","v":""}]
[null,{"$f":"部門別目標設定!B73","v":54},{"$f":"IF(部門別目標設定!C73=\"\",\"\",部門別目標設定!C73)","v":""},{"$f":"IF(部門別目標設定!D73=\"\",\"\",部門別目標設定!D73)","v":""},{"$f":"IF(部門別目標設定!E73=\"\",\"\",部門別目標設定!E73)","v":""},{"$f":"IF(部門別目標設定!F73=\"\",\"\",部門別目標設定!F73)","v":""},{"$f":"IF(部門別目標設定!G73=\"\",\"\",部門別目標設定!G73)","v":""},{"$f":"IF(部門別目標設定!M73=\"\",\"\",部門別目標設定!M73)","v":""},null,null,null,null,null,{"$f":"部門別目標設定!L73","v":0},"",null,null,null,null,null,{"$f":"IF(OR(部門別目標設定!I73=0,部門別目標設定!I73=\"\"),部門別目標設定!K73,部門別目標設定!I73)","v":""},null,{"$f":"IF(部門別目標設定!T73=\"\",\"\",(部門別目標設定!T73))","v":""}]
[null,{"$f":"部門別目標設定!B74","v":55},{"$f":"IF(部門別目標設定!C74=\"\",\"\",部門別目標設定!C74)","v":""},{"$f":"IF(部門別目標設定!D74=\"\",\"\",部門別目標設定!D74)","v":""},{"$f":"IF(部門別目標設定!E74=\"\",\"\",部門別目標設定!E74)","v":""},{"$f":"IF(部門別目標設定!F74=\"\",\"\",部門別目標設定!F74)","v":""},{"$f":"IF(部門別目標設定!G74=\"\",\"\",部門別目標設定!G74)","v":""},{"$f":"IF(部門別目標設定!M74=\"\",\"\",部門別目標設定!M74)","v":""},null,null,null,null,null,{"$f":"部門別目標設定!L74","v":0},"",null,null,null,null,null,{"$f":"IF(OR(部門別目標設定!I74=0,部門別目標設定!I74=\"\"),部門別目標設定!K74,部門別目標設定!I74)","v":""},null,{"$f":"IF(部門別目標設定!T74=\"\",\"\",(部門別目標設定!T74))","v":""}]
[null,{"$f":"部門別目標設定!B75","v":56},{"$f":"IF(部門別目標設定!C75=\"\",\"\",部門別目標設定!C75)","v":""},{"$f":"IF(部門別目標設定!D75=\"\",\"\",部門別目標設定!D75)","v":""},{"$f":"IF(部門別目標設定!E75=\"\",\"\",部門別目標設定!E75)","v":""},{"$f":"IF(部門別目標設定!F75=\"\",\"\",部門別目標設定!F75)","v":""},{"$f":"IF(部門別目標設定!G75=\"\",\"\",部門別目標設定!G75)","v":""},{"$f":"IF(部門別目標設定!M75=\"\",\"\",部門別目標設定!M75)","v":""},null,null,null,null,null,{"$f":"部門別目標設定!L75","v":0},"",null,null,null,null,null,{"$f":"IF(OR(部門別目標設定!I75=0,部門別目標設定!I75=\"\"),部門別目標設定!K75,部門別目標設定!I75)","v":""},null,{"$f":"IF(部門別目標設定!T75=\"\",\"\",(部門別目標設定!T75))","v":""}]
[null,{"$f":"部門別目標設定!B76","v":57},{"$f":"IF(部門別目標設定!C76=\"\",\"\",部門別目標設定!C76)","v":""},{"$f":"IF(部門別目標設定!D76=\"\",\"\",部門別目標設定!D76)","v":""},{"$f":"IF(部門別目標設定!E76=\"\",\"\",部門別目標設定!E76)","v":""},{"$f":"IF(部門別目標設定!F76=\"\",\"\",部門別目標設定!F76)","v":""},{"$f":"IF(部門別目標設定!G76=\"\",\"\",部門別目標設定!G76)","v":""},{"$f":"IF(部門別目標設定!M76=\"\",\"\",部門別目標設定!M76)","v":""},null,null,null,null,null,{"$f":"部門別目標設定!L76","v":0},"",null,null,null,null,null,{"$f":"IF(OR(部門別目標設定!I76=0,部門別目標設定!I76=\"\"),部門別目標設定!K76,部門別目標設定!I76)","v":""},null,{"$f":"IF(部門別目標設定!T76=\"\",\"\",(部門別目標設定!T76))","v":""}]
[null,{"$f":"部門別目標設定!B77","v":58},{"$f":"IF(部門別目標設定!C77=\"\",\"\",部門別目標設定!C77)","v":""},{"$f":"IF(部門別目標設定!D77=\"\",\"\",部門別目標設定!D77)","v":""},{"$f":"IF(部門別目標設定!E77=\"\",\"\",部門別目標設定!E77)","v":""},{"$f":"IF(部門別目標設定!F77=\"\",\"\",部門別目標設定!F77)","v":""},{"$f":"IF(部門別目標設定!G77=\"\",\"\",部門別目標設定!G77)","v":""},{"$f":"IF(部門別目標設定!M77=\"\",\"\",部門別目標設定!M77)","v":""},null,null,null,null,null,{"$f":"部門別目標設定!L77","v":0},"",null,null,null,null,null,{"$f":"IF(OR(部門別目標設定!I77=0,部門別目標設定!I77=\"\"),部門別目標設定!K77,部門別目標設定!I77)","v":""},null,{"$f":"IF(部門別目標設定!T77=\"\",\"\",(部門別目標設定!T77))","v":""}]
[null,{"$f":"部門別目標設定!B78","v":59},{"$f":"IF(部門別目標設定!C78=\"\",\"\",部門別目標設定!C78)","v":""},{"$f":"IF(部門別目標設定!D78=\"\",\"\",部門別目標設定!D78)","v":""},{"$f":"IF(部門別目標設定!E78=\"\",\"\",部門別目標設定!E78)","v":""},{"$f":"IF(部門別目標設定!F78=\"\",\"\",部門別目標設定!F78)","v":""},{"$f":"IF(部門別目標設定!G78=\"\",\"\",部門別目標設定!G78)","v":""},{"$f":"IF(部門別目標設定!M78=\"\",\"\",部門別目標設定!M78)","v":""},null,null,null,null,null,{"$f":"部門別目標設定!L78","v":0},"",null,null,null,null,null,{"$f":"IF(OR(部門別目標設定!I78=0,部門別目標設定!I78=\"\"),部門別目標設定!K78,部門別目標設定!I78)","v":""},null,{"$f":"IF(部門別目標設定!T78=\"\",\"\",(部門別目標設定!T78))","v":""}]
[null,{"$f":"部門別目標設定!B79","v":60},{"$f":"IF(部門別目標設定!C79=\"\",\"\",部門別目標設定!C79)","v":""},{"$f":"IF(部門別目標設定!D79=\"\",\"\",部門別目標設定!D79)","v":""},{"$f":"IF(部門別目標設定!E79=\"\",\"\",部門別目標設定!E79)","v":""},{"$f":"IF(部門別目標設定!F79=\"\",\"\",部門別目標設定!F79)","v":""},{"$f":"IF(部門別目標設定!G79=\"\",\"\",部門別目標設定!G79)","v":""},{"$f":"IF(部門別目標設定!M79=\"\",\"\",部門別目標設定!M79)","v":""},null,null,null,null,null,{"$f":"部門別目標設定!L79","v":0},"",null,null,null,null,null,{"$f":"IF(OR(部門別目標設定!I79=0,部門別目標設定!I79=\"\"),部門別目標設定!K79,部門別目標設定!I79)","v":""},null,{"$f":"IF(部門別目標設定!T79=\"\",\"\",(部門別目標設定!T79))","v":""}]
[null,{"$f":"部門別目標設定!B80","v":61},{"$f":"IF(部門別目標設定!C80=\"\",\"\",部門別目標設定!C80)","v":""},{"$f":"IF(部門別目標設定!D80=\"\",\"\",部門別目標設定!D80)","v":""},{"$f":"IF(部門別目標設定!E80=\"\",\"\",部門別目標設定!E80)","v":""},{"$f":"IF(部門別目標設定!F80=\"\",\"\",部門別目標設定!F80)","v":""},{"$f":"IF(部門別目標設定!G80=\"\",\"\",部門別目標設定!G80)","v":""},{"$f":"IF(部門別目標設定!M80=\"\",\"\",部門別目標設定!M80)","v":""},null,null,null,null,null,{"$f":"部門別目標設定!L80","v":0},"",null,null,null,null,null,{"$f":"IF(OR(部門別目標設定!I80=0,部門別目標設定!I80=\"\"),部門別目標設定!K80,部門別目標設定!I80)","v":""},null,{"$f":"IF(部門別目標設定!T80=\"\",\"\",(部門別目標設定!T80))","v":""}]
[null,{"$f":"部門別目標設定!B81","v":62},{"$f":"IF(部門別目標設定!C81=\"\",\"\",部門別目標設定!C81)","v":""},{"$f":"IF(部門別目標設定!D81=\"\",\"\",部門別目標設定!D81)","v":""},{"$f":"IF(部門別目標設定!E81=\"\",\"\",部門別目標設定!E81)","v":""},{"$f":"IF(部門別目標設定!F81=\"\",\"\",部門別目標設定!F81)","v":""},{"$f":"IF(部門別目標設定!G81=\"\",\"\",部門別目標設定!G81)","v":""},{"$f":"IF(部門別目標設定!M81=\"\",\"\",部門別目標設定!M81)","v":""},null,null,null,null,null,{"$f":"部門別目標設定!L81","v":0},"",null,null,null,null,null,{"$f":"IF(OR(部門別目標設定!I81=0,部門別目標設定!I81=\"\"),部門別目標設定!K81,部門別目標設定!I81)","v":""},null,{"$f":"IF(部門別目標設定!T81=\"\",\"\",(部門別目標設定!T81))","v":""}]
[null,{"$f":"部門別目標設定!B82","v":63},{"$f":"IF(部門別目標設定!C82=\"\",\"\",部門別目標設定!C82)","v":""},{"$f":"IF(部門別目標設定!D82=\"\",\"\",部門別目標設定!D82)","v":""},{"$f":"IF(部門別目標設定!E82=\"\",\"\",部門別目標設定!E82)","v":""},{"$f":"IF(部門別目標設定!F82=\"\",\"\",部門別目標設定!F82)","v":""},{"$f":"IF(部門別目標設定!G82=\"\",\"\",部門別目標設定!G82)","v":""},{"$f":"IF(部門別目標設定!M82=\"\",\"\",部門別目標設定!M82)","v":""},null,null,null,null,null,{"$f":"部門別目標設定!L82","v":0},"",null,null,null,null,null,{"$f":"IF(OR(部門別目標設定!I82=0,部門別目標設定!I82=\"\"),部門別目標設定!K82,部門別目標設定!I82)","v":""},null,{"$f":"IF(部門別目標設定!T82=\"\",\"\",(部門別目標設定!T82))","v":""}]
[null,{"$f":"部門別目標設定!B83","v":64},{"$f":"IF(部門別目標設定!C83=\"\",\"\",部門別目標設定!C83)","v":""},{"$f":"IF(部門別目標設定!D83=\"\",\"\",部門別目標設定!D83)","v":""},{"$f":"IF(部門別目標設定!E83=\"\",\"\",部門別目標設定!E83)","v":""},{"$f":"IF(部門別目標設定!F83=\"\",\"\",部門別目標設定!F83)","v":""},{"$f":"IF(部門別目標設定!G83=\"\",\"\",部門別目標設定!G83)","v":""},{"$f":"IF(部門別目標設定!M83=\"\",\"\",部門別目標設定!M83)","v":""},null,null,null,null,null,{"$f":"部門別目標設定!L83","v":0},"",null,null,null,null,null,{"$f":"IF(OR(部門別目標設定!I83=0,部門別目標設定!I83=\"\"),部門別目標設定!K83,部門別目標設定!I83)","v":""},null,{"$f":"IF(部門別目標設定!T83=\"\",\"\",(部門別目標設定!T83))","v":""}]
[null,{"$f":"部門別目標設定!B84","v":65},{"$f":"IF(部門別目標設定!C84=\"\",\"\",部門別目標設定!C84)","v":""},{"$f":"IF(部門別目標設定!D84=\"\",\"\",部門別目標設定!D84)","v":""},{"$f":"IF(部門別目標設定!E84=\"\",\"\",部門別目標設定!E84)","v":""},{"$f":"IF(部門別目標設定!F84=\"\",\"\",部門別目標設定!F84)","v":""},{"$f":"IF(部門別目標設定!G84=\"\",\"\",部門別目標設定!G84)","v":""},{"$f":"IF(部門別目標設定!M84=\"\",\"\",部門別目標設定!M84)","v":""},null,null,null,null,null,{"$f":"部門別目標設定!L84","v":0},"",null,null,null,null,null,{"$f":"IF(OR(部門別目標設定!I84=0,部門別目標設定!I84=\"\"),部門別目標設定!K84,部門別目標設定!I84)","v":""},null,{"$f":"IF(部門別目標設定!T84=\"\",\"\",(部門別目標設定!T84))","v":""}]
[null,{"$f":"部門別目標設定!B85","v":66},{"$f":"IF(部門別目標設定!C85=\"\",\"\",部門別目標設定!C85)","v":""},{"$f":"IF(部門別目標設定!D85=\"\",\"\",部門別目標設定!D85)","v":""},{"$f":"IF(部門別目標設定!E85=\"\",\"\",部門別目標設定!E85)","v":""},{"$f":"IF(部門別目標設定!F85=\"\",\"\",部門別目標設定!F85)","v":""},{"$f":"IF(部門別目標設定!G85=\"\",\"\",部門別目標設定!G85)","v":""},{"$f":"IF(部門別目標設定!M85=\"\",\"\",部門別目標設定!M85)","v":""},null,null,null,null,null,{"$f":"部門別目標設定!L85","v":0},{"$f":"IF(OR(I80=\"\",N80=\"\"),\"\",IF(ISERROR(INDEX(I80:M80,MATCH(MAX(I80:M80)+1,I80:M80,1))/N80),\"\",INDEX(I80:M80,MATCH(MAX(I80:M80)+1,I80:M80,1))/N80))","v":""},null,null,null,null,null,{"$f":"IF(OR(部門別目標設定!I85=0,部門別目標設定!I85=\"\"),部門別目標設定!K85,部門別目標設定!I85)","v":""},null,{"$f":"IF(部門別目標設定!T85=\"\",\"\",(部門別目標設定!T85))","v":""}]
[null,{"$f":"部門別目標設定!B86","v":67},{"$f":"IF(部門別目標設定!C86=\"\",\"\",部門別目標設定!C86)","v":""},{"$f":"IF(部門別目標設定!D86=\"\",\"\",部門別目標設定!D86)","v":""},{"$f":"IF(部門別目標設定!E86=\"\",\"\",部門別目標設定!E86)","v":""},{"$f":"IF(部門別目標設定!F86=\"\",\"\",部門別目標設定!F86)","v":""},{"$f":"IF(部門別目標設定!G86=\"\",\"\",部門別目標設定!G86)","v":""},{"$f":"IF(部門別目標設定!M86=\"\",\"\",部門別目標設定!M86)","v":""},null,null,null,null,null,{"$f":"部門別目標設定!L86","v":0},"",null,null,null,null,null,{"$f":"IF(OR(部門別目標設定!I86=0,部門別目標設定!I86=\"\"),部門別目標設定!K86,部門別目標設定!I86)","v":""},null,{"$f":"IF(部門別目標設定!T86=\"\",\"\",(部門別目標設定!T86))","v":""}]
[null,{"$f":"部門別目標設定!B87","v":68},{"$f":"IF(部門別目標設定!C87=\"\",\"\",部門別目標設定!C87)","v":""},{"$f":"IF(部門別目標設定!D87=\"\",\"\",部門別目標設定!D87)","v":""},{"$f":"IF(部門別目標設定!E87=\"\",\"\",部門別目標設定!E87)","v":""},{"$f":"IF(部門別目標設定!F87=\"\",\"\",部門別目標設定!F87)","v":""},{"$f":"IF(部門別目標設定!G87=\"\",\"\",部門別目標設定!G87)","v":""},{"$f":"IF(部門別目標設定!M87=\"\",\"\",部門別目標設定!M87)","v":""},null,null,null,null,null,{"$f":"部門別目標設定!L87","v":0},"",null,null,null,null,null,{"$f":"IF(OR(部門別目標設定!I87=0,部門別目標設定!I87=\"\"),部門別目標設定!K87,部門別目標設定!I87)","v":""},null,{"$f":"IF(部門別目標設定!T87=\"\",\"\",(部門別目標設定!T87))","v":""}]
[null,{"$f":"部門別目標設定!B88","v":69},{"$f":"IF(部門別目標設定!C88=\"\",\"\",部門別目標設定!C88)","v":""},{"$f":"IF(部門別目標設定!D88=\"\",\"\",部門別目標設定!D88)","v":""},{"$f":"IF(部門別目標設定!E88=\"\",\"\",部門別目標設定!E88)","v":""},{"$f":"IF(部門別目標設定!F88=\"\",\"\",部門別目標設定!F88)","v":""},{"$f":"IF(部門別目標設定!G88=\"\",\"\",部門別目標設定!G88)","v":""},{"$f":"IF(部門別目標設定!M88=\"\",\"\",部門別目標設定!M88)","v":""},null,null,null,null,null,{"$f":"部門別目標設定!L88","v":0},"",null,null,null,null,null,{"$f":"IF(OR(部門別目標設定!I88=0,部門別目標設定!I88=\"\"),部門別目標設定!K88,部門別目標設定!I88)","v":""},null,{"$f":"IF(部門別目標設定!T88=\"\",\"\",(部門別目標設定!T88))","v":""}]
[null,{"$f":"部門別目標設定!B89","v":70},{"$f":"IF(部門別目標設定!C89=\"\",\"\",部門別目標設定!C89)","v":""},{"$f":"IF(部門別目標設定!D89=\"\",\"\",部門別目標設定!D89)","v":""},{"$f":"IF(部門別目標設定!E89=\"\",\"\",部門別目標設定!E89)","v":""},{"$f":"IF(部門別目標設定!F89=\"\",\"\",部門別目標設定!F89)","v":""},{"$f":"IF(部門別目標設定!G89=\"\",\"\",部門別目標設定!G89)","v":""},{"$f":"IF(部門別目標設定!M89=\"\",\"\",部門別目標設定!M89)","v":""},null,null,null,null,null,{"$f":"部門別目標設定!L89","v":0},"",null,null,null,null,null,{"$f":"IF(OR(部門別目標設定!I89=0,部門別目標設定!I89=\"\"),部門別目標設定!K89,部門別目標設定!I89)","v":""},null,{"$f":"IF(部門別目標設定!T89=\"\",\"\",(部門別目標設定!T89))","v":""}]
[null,{"$f":"部門別目標設定!B90","v":71},{"$f":"IF(部門別目標設定!C90=\"\",\"\",部門別目標設定!C90)","v":""},{"$f":"IF(部門別目標設定!D90=\"\",\"\",部門別目標設定!D90)","v":""},{"$f":"IF(部門別目標設定!E90=\"\",\"\",部門別目標設定!E90)","v":""},{"$f":"IF(部門別目標設定!F90=\"\",\"\",部門別目標設定!F90)","v":""},{"$f":"IF(部門別目標設定!G90=\"\",\"\",部門別目標設定!G90)","v":""},{"$f":"IF(部門別目標設定!M90=\"\",\"\",部門別目標設定!M90)","v":""},null,null,null,null,null,{"$f":"部門別目標設定!L90","v":0},"",null,null,null,null,null,{"$f":"IF(OR(部門別目標設定!I90=0,部門別目標設定!I90=\"\"),部門別目標設定!K90,部門別目標設定!I90)","v":""},null,{"$f":"IF(部門別目標設定!T90=\"\",\"\",(部門別目標設定!T90))","v":""}]
[null,{"$f":"部門別目標設定!B91","v":72},{"$f":"IF(部門別目標設定!C91=\"\",\"\",部門別目標設定!C91)","v":""},{"$f":"IF(部門別目標設定!D91=\"\",\"\",部門別目標設定!D91)","v":""},{"$f":"IF(部門別目標設定!E91=\"\",\"\",部門別目標設定!E91)","v":""},{"$f":"IF(部門別目標設定!F91=\"\",\"\",部門別目標設定!F91)","v":""},{"$f":"IF(部門別目標設定!G91=\"\",\"\",部門別目標設定!G91)","v":""},{"$f":"IF(部門別目標設定!M91=\"\",\"\",部門別目標設定!M91)","v":""},null,null,null,null,null,{"$f":"部門別目標設定!L91","v":0},"",null,null,null,null,null,{"$f":"IF(OR(部門別目標設定!I91=0,部門別目標設定!I91=\"\"),部門別目標設定!K91,部門別目標設定!I91)","v":""},null,{"$f":"IF(部門別目標設定!T91=\"\",\"\",(部門別目標設定!T91))","v":""}]
[null,{"$f":"部門別目標設定!B92","v":73},{"$f":"IF(部門別目標設定!C92=\"\",\"\",部門別目標設定!C92)","v":""},{"$f":"IF(部門別目標設定!D92=\"\",\"\",部門別目標設定!D92)","v":""},{"$f":"IF(部門別目標設定!E92=\"\",\"\",部門別目標設定!E92)","v":""},{"$f":"IF(部門別目標設定!F92=\"\",\"\",部門別目標設定!F92)","v":""},{"$f":"IF(部門別目標設定!G92=\"\",\"\",部門別目標設定!G92)","v":""},{"$f":"IF(部門別目標設定!M92=\"\",\"\",部門別目標設定!M92)","v":""},null,null,null,null,null,{"$f":"部門別目標設定!L92","v":0},"",null,null,null,null,null,{"$f":"IF(OR(部門別目標設定!I92=0,部門別目標設定!I92=\"\"),部門別目標設定!K92,部門別目標設定!I92)","v":""},null,{"$f":"IF(部門別目標設定!T92=\"\",\"\",(部門別目標設定!T92))","v":""}]
[null,{"$f":"部門別目標設定!B93","v":74},{"$f":"IF(部門別目標設定!C93=\"\",\"\",部門別目標設定!C93)","v":""},{"$f":"IF(部門別目標設定!D93=\"\",\"\",部門別目標設定!D93)","v":""},{"$f":"IF(部門別目標設定!E93=\"\",\"\",部門別目標設定!E93)","v":""},{"$f":"IF(部門別目標設定!F93=\"\",\"\",部門別目標設定!F93)","v":""},{"$f":"IF(部門別目標設定!G93=\"\",\"\",部門別目標設定!G93)","v":""},{"$f":"IF(部門別目標設定!M93=\"\",\"\",部門別目標設定!M93)","v":""},null,null,null,null,null,{"$f":"部門別目標設定!L93","v":0},"",null,null,null,null,null,{"$f":"IF(OR(部門別目標設定!I93=0,部門別目標設定!I93=\"\"),部門別目標設定!K93,部門別目標設定!I93)","v":""},null,{"$f":"IF(部門別目標設定!T93=\"\",\"\",(部門別目標設定!T93))","v":""}]
[null,{"$f":"部門別目標設定!B94","v":75},{"$f":"IF(部門別目標設定!C94=\"\",\"\",部門別目標設定!C94)","v":""},{"$f":"IF(部門別目標設定!D94=\"\",\"\",部門別目標設定!D94)","v":""},{"$f":"IF(部門別目標設定!E94=\"\",\"\",部門別目標設定!E94)","v":""},{"$f":"IF(部門別目標設定!F94=\"\",\"\",部門別目標設定!F94)","v":""},{"$f":"IF(部門別目標設定!G94=\"\",\"\",部門別目標設定!G94)","v":""},{"$f":"IF(部門別目標設定!M94=\"\",\"\",部門別目標設定!M94)","v":""},null,null,null,null,null,{"$f":"部門別目標設定!L94","v":0},"",null,null,null,null,null,{"$f":"IF(OR(部門別目標設定!I94=0,部門別目標設定!I94=\"\"),部門別目標設定!K94,部門別目標設定!I94)","v":""},null,{"$f":"IF(部門別目標設定!T94=\"\",\"\",(部門別目標設定!T94))","v":""}]
[null,{"$f":"部門別目標設定!B95","v":76},{"$f":"IF(部門別目標設定!C95=\"\",\"\",部門別目標設定!C95)","v":""},{"$f":"IF(部門別目標設定!D95=\"\",\"\",部門別目標設定!D95)","v":""},{"$f":"IF(部門別目標設定!E95=\"\",\"\",部門別目標設定!E95)","v":""},{"$f":"IF(部門別目標設定!F95=\"\",\"\",部門別目標設定!F95)","v":""},{"$f":"IF(部門別目標設定!G95=\"\",\"\",部門別目標設定!G95)","v":""},{"$f":"IF(部門別目標設定!M95=\"\",\"\",部門別目標設定!M95)","v":""},null,null,null,null,null,{"$f":"部門別目標設定!L95","v":0},"",null,null,null,null,null,{"$f":"IF(OR(部門別目標設定!I95=0,部門別目標設定!I95=\"\"),部門別目標設定!K95,部門別目標設定!I95)","v":""},null,{"$f":"IF(部門別目標設定!T95=\"\",\"\",(部門別目標設定!T95))","v":""}]
[null,{"$f":"部門別目標設定!B96","v":77},{"$f":"IF(部門別目標設定!C96=\"\",\"\",部門別目標設定!C96)","v":""},{"$f":"IF(部門別目標設定!D96=\"\",\"\",部門別目標設定!D96)","v":""},{"$f":"IF(部門別目標設定!E96=\"\",\"\",部門別目標設定!E96)","v":""},{"$f":"IF(部門別目標設定!F96=\"\",\"\",部門別目標設定!F96)","v":""},{"$f":"IF(部門別目標設定!G96=\"\",\"\",部門別目標設定!G96)","v":""},{"$f":"IF(部門別目標設定!M96=\"\",\"\",部門別目標設定!M96)","v":""},null,null,null,null,null,{"$f":"部門別目標設定!L96","v":0},"",null,null,null,null,null,{"$f":"IF(OR(部門別目標設定!I96=0,部門別目標設定!I96=\"\"),部門別目標設定!K96,部門別目標設定!I96)","v":""},null,{"$f":"IF(部門別目標設定!T96=\"\",\"\",(部門別目標設定!T96))","v":""}]
[null,{"$f":"部門別目標設定!B97","v":78},{"$f":"IF(部門別目標設定!C97=\"\",\"\",部門別目標設定!C97)","v":""},{"$f":"IF(部門別目標設定!D97=\"\",\"\",部門別目標設定!D97)","v":""},{"$f":"IF(部門別目標設定!E97=\"\",\"\",部門別目標設定!E97)","v":""},{"$f":"IF(部門別目標設定!F97=\"\",\"\",部門別目標設定!F97)","v":""},{"$f":"IF(部門別目標設定!G97=\"\",\"\",部門別目標設定!G97)","v":""},{"$f":"IF(部門別目標設定!M97=\"\",\"\",部門別目標設定!M97)","v":""},null,null,null,null,null,{"$f":"部門別目標設定!L97","v":0},"",null,null,null,null,null,{"$f":"IF(OR(部門別目標設定!I97=0,部門別目標設定!I97=\"\"),部門別目標設定!K97,部門別目標設定!I97)","v":""},null,{"$f":"IF(部門別目標設定!T97=\"\",\"\",(部門別目標設定!T97))","v":""}]
[null,{"$f":"部門別目標設定!B98","v":79},{"$f":"IF(部門別目標設定!C98=\"\",\"\",部門別目標設定!C98)","v":""},{"$f":"IF(部門別目標設定!D98=\"\",\"\",部門別目標設定!D98)","v":""},{"$f":"IF(部門別目標設定!E98=\"\",\"\",部門別目標設定!E98)","v":""},{"$f":"IF(部門別目標設定!F98=\"\",\"\",部門別目標設定!F98)","v":""},{"$f":"IF(部門別目標設定!G98=\"\",\"\",部門別目標設定!G98)","v":""},{"$f":"IF(部門別目標設定!M98=\"\",\"\",部門別目標設定!M98)","v":""},null,null,null,null,null,{"$f":"部門別目標設定!L98","v":0},"",null,null,null,null,null,{"$f":"IF(OR(部門別目標設定!I98=0,部門別目標設定!I98=\"\"),部門別目標設定!K98,部門別目標設定!I98)","v":""},null,{"$f":"IF(部門別目標設定!T98=\"\",\"\",(部門別目標設定!T98))","v":""}]
[null,{"$f":"部門別目標設定!B99","v":80},{"$f":"IF(部門別目標設定!C99=\"\",\"\",部門別目標設定!C99)","v":""},{"$f":"IF(部門別目標設定!D99=\"\",\"\",部門別目標設定!D99)","v":""},{"$f":"IF(部門別目標設定!E99=\"\",\"\",部門別目標設定!E99)","v":""},{"$f":"IF(部門別目標設定!F99=\"\",\"\",部門別目標設定!F99)","v":""},{"$f":"IF(部門別目標設定!G99=\"\",\"\",部門別目標設定!G99)","v":""},{"$f":"IF(部門別目標設定!M99=\"\",\"\",部門別目標設定!M99)","v":""},null,null,null,null,null,{"$f":"部門別目標設定!L99","v":0},"",null,null,null,null,null,{"$f":"IF(OR(部門別目標設定!I99=0,部門別目標設定!I99=\"\"),部門別目標設定!K99,部門別目標設定!I99)","v":""},null,{"$f":"IF(部門別目標設定!T99=\"\",\"\",(部門別目標設定!T99))","v":""}]
[null,{"$f":"部門別目標設定!B100","v":81},{"$f":"IF(部門別目標設定!C100=\"\",\"\",部門別目標設定!C100)","v":""},{"$f":"IF(部門別目標設定!D100=\"\",\"\",部門別目標設定!D100)","v":""},{"$f":"IF(部門別目標設定!E100=\"\",\"\",部門別目標設定!E100)","v":""},{"$f":"IF(部門別目標設定!F100=\"\",\"\",部門別目標設定!F100)","v":""},{"$f":"IF(部門別目標設定!G100=\"\",\"\",部門別目標設定!G100)","v":""},{"$f":"IF(部門別目標設定!M100=\"\",\"\",部門別目標設定!M100)","v":""},null,null,null,null,null,{"$f":"部門別目標設定!L100","v":0},"",null,null,null,null,null,{"$f":"IF(OR(部門別目標設定!I100=0,部門別目標設定!I100=\"\"),部門別目標設定!K100,部門別目標設定!I100)","v":""},null,{"$f":"IF(部門別目標設定!T100=\"\",\"\",(部門別目標設定!T100))","v":""}]
[null,{"$f":"部門別目標設定!B101","v":82},{"$f":"IF(部門別目標設定!C101=\"\",\"\",部門別目標設定!C101)","v":""},{"$f":"IF(部門別目標設定!D101=\"\",\"\",部門別目標設定!D101)","v":""},{"$f":"IF(部門別目標設定!E101=\"\",\"\",部門別目標設定!E101)","v":""},{"$f":"IF(部門別目標設定!F101=\"\",\"\",部門別目標設定!F101)","v":""},{"$f":"IF(部門別目標設定!G101=\"\",\"\",部門別目標設定!G101)","v":""},{"$f":"IF(部門別目標設定!M101=\"\",\"\",部門別目標設定!M101)","v":""},null,null,null,null,null,{"$f":"部門別目標設定!L101","v":0},"",null,null,null,null,null,{"$f":"IF(OR(部門別目標設定!I101=0,部門別目標設定!I101=\"\"),部門別目標設定!K101,部門別目標設定!I101)","v":""},null,{"$f":"IF(部門別目標設定!T101=\"\",\"\",(部門別目標設定!T101))","v":""}]
[null,{"$f":"部門別目標設定!B102","v":83},{"$f":"IF(部門別目標設定!C102=\"\",\"\",部門別目標設定!C102)","v":""},{"$f":"IF(部門別目標設定!D102=\"\",\"\",部門別目標設定!D102)","v":""},{"$f":"IF(部門別目標設定!E102=\"\",\"\",部門別目標設定!E102)","v":""},{"$f":"IF(部門別目標設定!F102=\"\",\"\",部門別目標設定!F102)","v":""},{"$f":"IF(部門別目標設定!G102=\"\",\"\",部門別目標設定!G102)","v":""},{"$f":"IF(部門別目標設定!M102=\"\",\"\",部門別目標設定!M102)","v":""},null,null,null,null,null,{"$f":"部門別目標設定!L102","v":0},"",null,null,null,null,null,{"$f":"IF(OR(部門別目標設定!I102=0,部門別目標設定!I102=\"\"),部門別目標設定!K102,部門別目標設定!I102)","v":""},null,{"$f":"IF(部門別目標設定!T102=\"\",\"\",(部門別目標設定!T102))","v":""}]
[null,{"$f":"部門別目標設定!B103","v":84},{"$f":"IF(部門別目標設定!C103=\"\",\"\",部門別目標設定!C103)","v":""},{"$f":"IF(部門別目標設定!D103=\"\",\"\",部門別目標設定!D103)","v":""},{"$f":"IF(部門別目標設定!E103=\"\",\"\",部門別目標設定!E103)","v":""},{"$f":"IF(部門別目標設定!F103=\"\",\"\",部門別目標設定!F103)","v":""},{"$f":"IF(部門別目標設定!G103=\"\",\"\",部門別目標設定!G103)","v":""},{"$f":"IF(部門別目標設定!M103=\"\",\"\",部門別目標設定!M103)","v":""},null,null,null,null,null,{"$f":"部門別目標設定!L103","v":0},"",null,null,null,null,null,{"$f":"IF(OR(部門別目標設定!I103=0,部門別目標設定!I103=\"\"),部門別目標設定!K103,部門別目標設定!I103)","v":""},null,{"$f":"IF(部門別目標設定!T103=\"\",\"\",(部門別目標設定!T103))","v":""}]
[null,{"$f":"部門別目標設定!B104","v":85},{"$f":"IF(部門別目標設定!C104=\"\",\"\",部門別目標設定!C104)","v":""},{"$f":"IF(部門別目標設定!D104=\"\",\"\",部門別目標設定!D104)","v":""},{"$f":"IF(部門別目標設定!E104=\"\",\"\",部門別目標設定!E104)","v":""},{"$f":"IF(部門別目標設定!F104=\"\",\"\",部門別目標設定!F104)","v":""},{"$f":"IF(部門別目標設定!G104=\"\",\"\",部門別目標設定!G104)","v":""},{"$f":"IF(部門別目標設定!M104=\"\",\"\",部門別目標設定!M104)","v":""},null,null,null,null,null,{"$f":"部門別目標設定!L104","v":0},"",null,null,null,null,null,{"$f":"IF(OR(部門別目標設定!I104=0,部門別目標設定!I104=\"\"),部門別目標設定!K104,部門別目標設定!I104)","v":""},null,{"$f":"IF(部門別目標設定!T104=\"\",\"\",(部門別目標設定!T104))","v":""}]
[null,{"$f":"部門別目標設定!B105","v":86},{"$f":"IF(部門別目標設定!C105=\"\",\"\",部門別目標設定!C105)","v":""},{"$f":"IF(部門別目標設定!D105=\"\",\"\",部門別目標設定!D105)","v":""},{"$f":"IF(部門別目標設定!E105=\"\",\"\",部門別目標設定!E105)","v":""},{"$f":"IF(部門別目標設定!F105=\"\",\"\",部門別目標設定!F105)","v":""},{"$f":"IF(部門別目標設定!G105=\"\",\"\",部門別目標設定!G105)","v":""},{"$f":"IF(部門別目標設定!M105=\"\",\"\",部門別目標設定!M105)","v":""},null,null,null,null,null,{"$f":"部門別目標設定!L105","v":0},"",null,null,null,null,null,{"$f":"IF(OR(部門別目標設定!I105=0,部門別目標設定!I105=\"\"),部門別目標設定!K105,部門別目標設定!I105)","v":""},null,{"$f":"IF(部門別目標設定!T105=\"\",\"\",(部門別目標設定!T105))","v":""}]
[null,{"$f":"部門別目標設定!B106","v":87},{"$f":"IF(部門別目標設定!C106=\"\",\"\",部門別目標設定!C106)","v":""},{"$f":"IF(部門別目標設定!D106=\"\",\"\",部門別目標設定!D106)","v":""},{"$f":"IF(部門別目標設定!E106=\"\",\"\",部門別目標設定!E106)","v":""},{"$f":"IF(部門別目標設定!F106=\"\",\"\",部門別目標設定!F106)","v":""},{"$f":"IF(部門別目標設定!G106=\"\",\"\",部門別目標設定!G106)","v":""},{"$f":"IF(部門別目標設定!M106=\"\",\"\",部門別目標設定!M106)","v":""},null,null,null,null,null,{"$f":"部門別目標設定!L106","v":0},"",null,null,null,null,null,{"$f":"IF(OR(部門別目標設定!I106=0,部門別目標設定!I106=\"\"),部門別目標設定!K106,部門別目標設定!I106)","v":""},null,{"$f":"IF(部門別目標設定!T106=\"\",\"\",(部門別目標設定!T106))","v":""}]
[null,{"$f":"部門別目標設定!B107","v":88},{"$f":"IF(部門別目標設定!C107=\"\",\"\",部門別目標設定!C107)","v":""},{"$f":"IF(部門別目標設定!D107=\"\",\"\",部門別目標設定!D107)","v":""},{"$f":"IF(部門別目標設定!E107=\"\",\"\",部門別目標設定!E107)","v":""},{"$f":"IF(部門別目標設定!F107=\"\",\"\",部門別目標設定!F107)","v":""},{"$f":"IF(部門別目標設定!G107=\"\",\"\",部門別目標設定!G107)","v":""},{"$f":"IF(部門別目標設定!M107=\"\",\"\",部門別目標設定!M107)","v":""},null,null,null,null,null,{"$f":"部門別目標設定!L107","v":0},"",null,null,null,null,null,{"$f":"IF(OR(部門別目標設定!I107=0,部門別目標設定!I107=\"\"),部門別目標設定!K107,部門別目標設定!I107)","v":""},null,{"$f":"IF(部門別目標設定!T107=\"\",\"\",(部門別目標設定!T107))","v":""}]
[null,{"$f":"部門別目標設定!B108","v":89},{"$f":"IF(部門別目標設定!C108=\"\",\"\",部門別目標設定!C108)","v":""},{"$f":"IF(部門別目標設定!D108=\"\",\"\",部門別目標設定!D108)","v":""},{"$f":"IF(部門別目標設定!E108=\"\",\"\",部門別目標設定!E108)","v":""},{"$f":"IF(部門別目標設定!F108=\"\",\"\",部門別目標設定!F108)","v":""},{"$f":"IF(部門別目標設定!G108=\"\",\"\",部門別目標設定!G108)","v":""},{"$f":"IF(部門別目標設定!M108=\"\",\"\",部門別目標設定!M108)","v":""},null,null,null,null,null,{"$f":"部門別目標設定!L108","v":0},"",null,null,null,null,null,{"$f":"IF(OR(部門別目標設定!I108=0,部門別目標設定!I108=\"\"),部門別目標設定!K108,部門別目標設定!I108)","v":""},null,{"$f":"IF(部門別目標設定!T108=\"\",\"\",(部門別目標設定!T108))","v":""}]
[null,{"$f":"部門別目標設定!B109","v":90},{"$f":"IF(部門別目標設定!C109=\"\",\"\",部門別目標設定!C109)","v":""},{"$f":"IF(部門別目標設定!D109=\"\",\"\",部門別目標設定!D109)","v":""},{"$f":"IF(部門別目標設定!E109=\"\",\"\",部門別目標設定!E109)","v":""},{"$f":"IF(部門別目標設定!F109=\"\",\"\",部門別目標設定!F109)","v":""},{"$f":"IF(部門別目標設定!G109=\"\",\"\",部門別目標設定!G109)","v":""},{"$f":"IF(部門別目標設定!M109=\"\",\"\",部門別目標設定!M109)","v":""},null,null,null,null,null,{"$f":"部門別目標設定!L109","v":0},"",null,null,null,null,null,{"$f":"IF(OR(部門別目標設定!I109=0,部門別目標設定!I109=\"\"),部門別目標設定!K109,部門別目標設定!I109)","v":""},null,{"$f":"IF(部門別目標設定!T109=\"\",\"\",(部門別目標設定!T109))","v":""}]
[null,{"$f":"部門別目標設定!B110","v":91},{"$f":"IF(部門別目標設定!C110=\"\",\"\",部門別目標設定!C110)","v":""},{"$f":"IF(部門別目標設定!D110=\"\",\"\",部門別目標設定!D110)","v":""},{"$f":"IF(部門別目標設定!E110=\"\",\"\",部門別目標設定!E110)","v":""},{"$f":"IF(部門別目標設定!F110=\"\",\"\",部門別目標設定!F110)","v":""},{"$f":"IF(部門別目標設定!G110=\"\",\"\",部門別目標設定!G110)","v":""},{"$f":"IF(部門別目標設定!M110=\"\",\"\",部門別目標設定!M110)","v":""},null,null,null,null,null,{"$f":"部門別目標設定!L110","v":0},"",null,null,null,null,null,{"$f":"IF(OR(部門別目標設定!I110=0,部門別目標設定!I110=\"\"),部門別目標設定!K110,部門別目標設定!I110)","v":""},null,{"$f":"IF(部門別目標設定!T110=\"\",\"\",(部門別目標設定!T110))","v":""}]
[null,{"$f":"部門別目標設定!B111","v":92},{"$f":"IF(部門別目標設定!C111=\"\",\"\",部門別目標設定!C111)","v":""},{"$f":"IF(部門別目標設定!D111=\"\",\"\",部門別目標設定!D111)","v":""},{"$f":"IF(部門別目標設定!E111=\"\",\"\",部門別目標設定!E111)","v":""},{"$f":"IF(部門別目標設定!F111=\"\",\"\",部門別目標設定!F111)","v":""},{"$f":"IF(部門別目標設定!G111=\"\",\"\",部門別目標設定!G111)","v":""},{"$f":"IF(部門別目標設定!M111=\"\",\"\",部門別目標設定!M111)","v":""},null,null,null,null,null,{"$f":"部門別目標設定!L111","v":0},"",null,null,null,null,null,{"$f":"IF(OR(部門別目標設定!I111=0,部門別目標設定!I111=\"\"),部門別目標設定!K111,部門別目標設定!I111)","v":""},null,{"$f":"IF(部門別目標設定!T111=\"\",\"\",(部門別目標設定!T111))","v":""}]
[null,{"$f":"部門別目標設定!B112","v":93},{"$f":"IF(部門別目標設定!C112=\"\",\"\",部門別目標設定!C112)","v":""},{"$f":"IF(部門別目標設定!D112=\"\",\"\",部門別目標設定!D112)","v":""},{"$f":"IF(部門別目標設定!E112=\"\",\"\",部門別目標設定!E112)","v":""},{"$f":"IF(部門別目標設定!F112=\"\",\"\",部門別目標設定!F112)","v":""},{"$f":"IF(部門別目標設定!G112=\"\",\"\",部門別目標設定!G112)","v":""},{"$f":"IF(部門別目標設定!M112=\"\",\"\",部門別目標設定!M112)","v":""},null,null,null,null,null,{"$f":"部門別目標設定!L112","v":0},"",null,null,null,null,null,{"$f":"IF(OR(部門別目標設定!I112=0,部門別目標設定!I112=\"\"),部門別目標設定!K112,部門別目標設定!I112)","v":""},null,{"$f":"IF(部門別目標設定!T112=\"\",\"\",(部門別目標設定!T112))","v":""}]
[null,{"$f":"部門別目標設定!B113","v":94},{"$f":"IF(部門別目標設定!C113=\"\",\"\",部門別目標設定!C113)","v":""},{"$f":"IF(部門別目標設定!D113=\"\",\"\",部門別目標設定!D113)","v":""},{"$f":"IF(部門別目標設定!E113=\"\",\"\",部門別目標設定!E113)","v":""},{"$f":"IF(部門別目標設定!F113=\"\",\"\",部門別目標設定!F113)","v":""},{"$f":"IF(部門別目標設定!G113=\"\",\"\",部門別目標設定!G113)","v":""},{"$f":"IF(部門別目標設定!M113=\"\",\"\",部門別目標設定!M113)","v":""},null,null,null,null,null,{"$f":"部門別目標設定!L113","v":0},"",null,null,null,null,null,{"$f":"IF(OR(部門別目標設定!I113=0,部門別目標設定!I113=\"\"),部門別目標設定!K113,部門別目標設定!I113)","v":""},null,{"$f":"IF(部門別目標設定!T113=\"\",\"\",(部門別目標設定!T113))","v":""}]
[null,{"$f":"部門別目標設定!B114","v":95},{"$f":"IF(部門別目標設定!C114=\"\",\"\",部門別目標設定!C114)","v":""},{"$f":"IF(部門別目標設定!D114=\"\",\"\",部門別目標設定!D114)","v":""},{"$f":"IF(部門別目標設定!E114=\"\",\"\",部門別目標設定!E114)","v":""},{"$f":"IF(部門別目標設定!F114=\"\",\"\",部門別目標設定!F114)","v":""},{"$f":"IF(部門別目標設定!G114=\"\",\"\",部門別目標設定!G114)","v":""},{"$f":"IF(部門別目標設定!M114=\"\",\"\",部門別目標設定!M114)","v":""},null,null,null,null,null,{"$f":"部門別目標設定!L114","v":0},"",null,null,null,null,null,{"$f":"IF(OR(部門別目標設定!I114=0,部門別目標設定!I114=\"\"),部門別目標設定!K114,部門別目標設定!I114)","v":""},null,{"$f":"IF(部門別目標設定!T114=\"\",\"\",(部門別目標設定!T114))","v":""}]
[null,{"$f":"部門別目標設定!B115","v":96},{"$f":"IF(部門別目標設定!C115=\"\",\"\",部門別目標設定!C115)","v":""},{"$f":"IF(部門別目標設定!D115=\"\",\"\",部門別目標設定!D115)","v":""},{"$f":"IF(部門別目標設定!E115=\"\",\"\",部門別目標設定!E115)","v":""},{"$f":"IF(部門別目標設定!F115=\"\",\"\",部門別目標設定!F115)","v":""},{"$f":"IF(部門別目標設定!G115=\"\",\"\",部門別目標設定!G115)","v":""},{"$f":"IF(部門別目標設定!M115=\"\",\"\",部門別目標設定!M115)","v":""},null,null,null,null,null,{"$f":"部門別目標設定!L115","v":0},"",null,null,null,null,null,{"$f":"IF(OR(部門別目標設定!I115=0,部門別目標設定!I115=\"\"),部門別目標設定!K115,部門別目標設定!I115)","v":""},null,{"$f":"IF(部門別目標設定!T115=\"\",\"\",(部門別目標設定!T115))","v":""}]
[null,{"$f":"部門別目標設定!B116","v":97},{"$f":"IF(部門別目標設定!C116=\"\",\"\",部門別目標設定!C116)","v":""},{"$f":"IF(部門別目標設定!D116=\"\",\"\",部門別目標設定!D116)","v":""},{"$f":"IF(部門別目標設定!E116=\"\",\"\",部門別目標設定!E116)","v":""},{"$f":"IF(部門別目標設定!F116=\"\",\"\",部門別目標設定!F116)","v":""},{"$f":"IF(部門別目標設定!G116=\"\",\"\",部門別目標設定!G116)","v":""},{"$f":"IF(部門別目標設定!M116=\"\",\"\",部門別目標設定!M116)","v":""},null,null,null,null,null,{"$f":"部門別目標設定!L116","v":0},"",null,null,null,null,null,{"$f":"IF(OR(部門別目標設定!I116=0,部門別目標設定!I116=\"\"),部門別目標設定!K116,部門別目標設定!I116)","v":""},null,{"$f":"IF(部門別目標設定!T116=\"\",\"\",(部門別目標設定!T116))","v":""}]
[null,{"$f":"部門別目標設定!B117","v":98},{"$f":"IF(部門別目標設定!C117=\"\",\"\",部門別目標設定!C117)","v":""},{"$f":"IF(部門別目標設定!D117=\"\",\"\",部門別目標設定!D117)","v":""},{"$f":"IF(部門別目標設定!E117=\"\",\"\",部門別目標設定!E117)","v":""},{"$f":"IF(部門別目標設定!F117=\"\",\"\",部門別目標設定!F117)","v":""},{"$f":"IF(部門別目標設定!G117=\"\",\"\",部門別目標設定!G117)","v":""},{"$f":"IF(部門別目標設定!M117=\"\",\"\",部門別目標設定!M117)","v":""},null,null,null,null,null,{"$f":"部門別目標設定!L117","v":0},"",null,null,null,null,null,{"$f":"IF(OR(部門別目標設定!I117=0,部門別目標設定!I117=\"\"),部門別目標設定!K117,部門別目標設定!I117)","v":""},null,{"$f":"IF(部門別目標設定!T117=\"\",\"\",(部門別目標設定!T117))","v":""}]
[null,{"$f":"部門別目標設定!B118","v":99},{"$f":"IF(部門別目標設定!C118=\"\",\"\",部門別目標設定!C118)","v":""},{"$f":"IF(部門別目標設定!D118=\"\",\"\",部門別目標設定!D118)","v":""},{"$f":"IF(部門別目標設定!E118=\"\",\"\",部門別目標設定!E118)","v":""},{"$f":"IF(部門別目標設定!F118=\"\",\"\",部門別目標設定!F118)","v":""},{"$f":"IF(部門別目標設定!G118=\"\",\"\",部門別目標設定!G118)","v":""},{"$f":"IF(部門別目標設定!M118=\"\",\"\",部門別目標設定!M118)","v":""},null,null,null,null,null,{"$f":"部門別目標設定!L118","v":0},"",null,null,null,null,null,{"$f":"IF(OR(部門別目標設定!I118=0,部門別目標設定!I118=\"\"),部門別目標設定!K118,部門別目標設定!I118)","v":""},null,{"$f":"IF(部門別目標設定!T118=\"\",\"\",(部門別目標設定!T118))","v":""}]
[null,{"$f":"部門別目標設定!B119","v":100},{"$f":"IF(部門別目標設定!C119=\"\",\"\",部門別目標設定!C119)","v":""},{"$f":"IF(部門別目標設定!D119=\"\",\"\",部門別目標設定!D119)","v":""},{"$f":"IF(部門別目標設定!E119=\"\",\"\",部門別目標設定!E119)","v":""},{"$f":"IF(部門別目標設定!F119=\"\",\"\",部門別目標設定!F119)","v":""},{"$f":"IF(部門別目標設定!G119=\"\",\"\",部門別目標設定!G119)","v":""},{"$f":"IF(部門別目標設定!M119=\"\",\"\",部門別目標設定!M119)","v":""},null,null,null,null,null,{"$f":"部門別目標設定!L119","v":0},"",null,null,null,null,null,{"$f":"IF(OR(部門別目標設定!I119=0,部門別目標設定!I119=\"\"),部門別目標設定!K119,部門別目標設定!I119)","v":""},null,{"$f":"IF(部門別目標設定!T119=\"\",\"\",(部門別目標設定!T119))","v":""}]
[null,{"$f":"部門別目標設定!B120","v":101},{"$f":"IF(部門別目標設定!C120=\"\",\"\",部門別目標設定!C120)","v":""},{"$f":"IF(部門別目標設定!D120=\"\",\"\",部門別目標設定!D120)","v":""},{"$f":"IF(部門別目標設定!E120=\"\",\"\",部門別目標設定!E120)","v":""},{"$f":"IF(部門別目標設定!F120=\"\",\"\",部門別目標設定!F120)","v":""},{"$f":"IF(部門別目標設定!G120=\"\",\"\",部門別目標設定!G120)","v":""},{"$f":"IF(部門別目標設定!M120=\"\",\"\",部門別目標設定!M120)","v":""},null,null,null,null,null,{"$f":"部門別目標設定!L120","v":0},"",null,null,null,null,null,{"$f":"IF(OR(部門別目標設定!I120=0,部門別目標設定!I120=\"\"),部門別目標設定!K120,部門別目標設定!I120)","v":""},null,{"$f":"IF(部門別目標設定!T120=\"\",\"\",(部門別目標設定!T120))","v":""}]
[null,{"$f":"部門別目標設定!B121","v":102},{"$f":"IF(部門別目標設定!C121=\"\",\"\",部門別目標設定!C121)","v":""},{"$f":"IF(部門別目標設定!D121=\"\",\"\",部門別目標設定!D121)","v":""},{"$f":"IF(部門別目標設定!E121=\"\",\"\",部門別目標設定!E121)","v":""},{"$f":"IF(部門別目標設定!F121=\"\",\"\",部門別目標設定!F121)","v":""},{"$f":"IF(部門別目標設定!G121=\"\",\"\",部門別目標設定!G121)","v":""},{"$f":"IF(部門別目標設定!M121=\"\",\"\",部門別目標設定!M121)","v":""},null,null,null,null,null,{"$f":"部門別目標設定!L121","v":0},"",null,null,null,null,null,{"$f":"IF(OR(部門別目標設定!I121=0,部門別目標設定!I121=\"\"),部門別目標設定!K121,部門別目標設定!I121)","v":""},null,{"$f":"IF(部門別目標設定!T121=\"\",\"\",(部門別目標設定!T121))","v":""}]
[null,{"$f":"部門別目標設定!B122","v":103},{"$f":"IF(部門別目標設定!C122=\"\",\"\",部門別目標設定!C122)","v":""},{"$f":"IF(部門別目標設定!D122=\"\",\"\",部門別目標設定!D122)","v":""},{"$f":"IF(部門別目標設定!E122=\"\",\"\",部門別目標設定!E122)","v":""},{"$f":"IF(部門別目標設定!F122=\"\",\"\",部門別目標設定!F122)","v":""},{"$f":"IF(部門別目標設定!G122=\"\",\"\",部門別目標設定!G122)","v":""},{"$f":"IF(部門別目標設定!M122=\"\",\"\",部門別目標設定!M122)","v":""},null,null,null,null,null,{"$f":"部門別目標設定!L122","v":0},"",null,null,null,null,null,{"$f":"IF(OR(部門別目標設定!I122=0,部門別目標設定!I122=\"\"),部門別目標設定!K122,部門別目標設定!I122)","v":""},null,{"$f":"IF(部門別目標設定!T122=\"\",\"\",(部門別目標設定!T122))","v":""}]
[null,{"$f":"部門別目標設定!B123","v":104},{"$f":"IF(部門別目標設定!C123=\"\",\"\",部門別目標設定!C123)","v":""},{"$f":"IF(部門別目標設定!D123=\"\",\"\",部門別目標設定!D123)","v":""},{"$f":"IF(部門別目標設定!E123=\"\",\"\",部門別目標設定!E123)","v":""},{"$f":"IF(部門別目標設定!F123=\"\",\"\",部門別目標設定!F123)","v":""},{"$f":"IF(部門別目標設定!G123=\"\",\"\",部門別目標設定!G123)","v":""},{"$f":"IF(部門別目標設定!M123=\"\",\"\",部門別目標設定!M123)","v":""},null,null,null,null,null,{"$f":"部門別目標設定!L123","v":0},"",null,null,null,null,null,{"$f":"IF(OR(部門別目標設定!I123=0,部門別目標設定!I123=\"\"),部門別目標設定!K123,部門別目標設定!I123)","v":""},null,{"$f":"IF(部門別目標設定!T123=\"\",\"\",(部門別目標設定!T123))","v":""}]
[null,{"$f":"部門別目標設定!B124","v":105},{"$f":"IF(部門別目標設定!C124=\"\",\"\",部門別目標設定!C124)","v":""},{"$f":"IF(部門別目標設定!D124=\"\",\"\",部門別目標設定!D124)","v":""},{"$f":"IF(部門別目標設定!E124=\"\",\"\",部門別目標設定!E124)","v":""},{"$f":"IF(部門別目標設定!F124=\"\",\"\",部門別目標設定!F124)","v":""},{"$f":"IF(部門別目標設定!G124=\"\",\"\",部門別目標設定!G124)","v":""},{"$f":"IF(部門別目標設定!M124=\"\",\"\",部門別目標設定!M124)","v":""},null,null,null,null,null,{"$f":"部門別目標設定!L124","v":0},"",null,null,null,null,null,{"$f":"IF(OR(部門別目標設定!I124=0,部門別目標設定!I124=\"\"),部門別目標設定!K124,部門別目標設定!I124)","v":""},null,{"$f":"IF(部門別目標設定!T124=\"\",\"\",(部門別目標設定!T124))","v":""}]
[null,{"$f":"部門別目標設定!B125","v":106},{"$f":"IF(部門別目標設定!C125=\"\",\"\",部門別目標設定!C125)","v":""},{"$f":"IF(部門別目標設定!D125=\"\",\"\",部門別目標設定!D125)","v":""},{"$f":"IF(部門別目標設定!E125=\"\",\"\",部門別目標設定!E125)","v":""},{"$f":"IF(部門別目標設定!F125=\"\",\"\",部門別目標設定!F125)","v":""},{"$f":"IF(部門別目標設定!G125=\"\",\"\",部門別目標設定!G125)","v":""},{"$f":"IF(部門別目標設定!M125=\"\",\"\",部門別目標設定!M125)","v":""},null,null,null,null,null,{"$f":"部門別目標設定!L125","v":0},"",null,null,null,null,null,{"$f":"IF(OR(部門別目標設定!I125=0,部門別目標設定!I125=\"\"),部門別目標設定!K125,部門別目標設定!I125)","v":""},null,{"$f":"IF(部門別目標設定!T125=\"\",\"\",(部門別目標設定!T125))","v":""}]
[null,{"$f":"部門別目標設定!B126","v":107},{"$f":"IF(部門別目標設定!C126=\"\",\"\",部門別目標設定!C126)","v":""},{"$f":"IF(部門別目標設定!D126=\"\",\"\",部門別目標設定!D126)","v":""},{"$f":"IF(部門別目標設定!E126=\"\",\"\",部門別目標設定!E126)","v":""},{"$f":"IF(部門別目標設定!F126=\"\",\"\",部門別目標設定!F126)","v":""},{"$f":"IF(部門別目標設定!G126=\"\",\"\",部門別目標設定!G126)","v":""},{"$f":"IF(部門別目標設定!M126=\"\",\"\",部門別目標設定!M126)","v":""},null,null,null,null,null,{"$f":"部門別目標設定!L126","v":0},"",null,null,null,null,null,{"$f":"IF(OR(部門別目標設定!I126=0,部門別目標設定!I126=\"\"),部門別目標設定!K126,部門別目標設定!I126)","v":""},null,{"$f":"IF(部門別目標設定!T126=\"\",\"\",(部門別目標設定!T126))","v":""}]
[null,{"$f":"部門別目標設定!B127","v":108},{"$f":"IF(部門別目標設定!C127=\"\",\"\",部門別目標設定!C127)","v":""},{"$f":"IF(部門別目標設定!D127=\"\",\"\",部門別目標設定!D127)","v":""},{"$f":"IF(部門別目標設定!E127=\"\",\"\",部門別目標設定!E127)","v":""},{"$f":"IF(部門別目標設定!F127=\"\",\"\",部門別目標設定!F127)","v":""},{"$f":"IF(部門別目標設定!G127=\"\",\"\",部門別目標設定!G127)","v":""},{"$f":"IF(部門別目標設定!M127=\"\",\"\",部門別目標設定!M127)","v":""},null,null,null,null,null,{"$f":"部門別目標設定!L127","v":0},"",null,null,null,null,null,{"$f":"IF(OR(部門別目標設定!I127=0,部門別目標設定!I127=\"\"),部門別目標設定!K127,部門別目標設定!I127)","v":""},null,{"$f":"IF(部門別目標設定!T127=\"\",\"\",(部門別目標設定!T127))","v":""}]
[null,{"$f":"部門別目標設定!B128","v":109},{"$f":"IF(部門別目標設定!C128=\"\",\"\",部門別目標設定!C128)","v":""},{"$f":"IF(部門別目標設定!D128=\"\",\"\",部門別目標設定!D128)","v":""},{"$f":"IF(部門別目標設定!E128=\"\",\"\",部門別目標設定!E128)","v":""},{"$f":"IF(部門別目標設定!F128=\"\",\"\",部門別目標設定!F128)","v":""},{"$f":"IF(部門別目標設定!G128=\"\",\"\",部門別目標設定!G128)","v":""},{"$f":"IF(部門別目標設定!M128=\"\",\"\",部門別目標設定!M128)","v":""},null,null,null,null,null,{"$f":"部門別目標設定!L128","v":0},"",null,null,null,null,null,{"$f":"IF(OR(部門別目標設定!I128=0,部門別目標設定!I128=\"\"),部門別目標設定!K128,部門別目標設定!I128)","v":""},null,{"$f":"IF(部門別目標設定!T128=\"\",\"\",(部門別目標設定!T128))","v":""}]
[null,{"$f":"部門別目標設定!B129","v":110},{"$f":"IF(部門別目標設定!C129=\"\",\"\",部門別目標設定!C129)","v":""},{"$f":"IF(部門別目標設定!D129=\"\",\"\",部門別目標設定!D129)","v":""},{"$f":"IF(部門別目標設定!E129=\"\",\"\",部門別目標設定!E129)","v":""},{"$f":"IF(部門別目標設定!F129=\"\",\"\",部門別目標設定!F129)","v":""},{"$f":"IF(部門別目標設定!G129=\"\",\"\",部門別目標設定!G129)","v":""},{"$f":"IF(部門別目標設定!M129=\"\",\"\",部門別目標設定!M129)","v":""},null,null,null,null,null,{"$f":"部門別目標設定!L129","v":0},"",null,null,null,null,null,{"$f":"IF(OR(部門別目標設定!I129=0,部門別目標設定!I129=\"\"),部門別目標設定!K129,部門別目標設定!I129)","v":""},null,{"$f":"IF(部門別目標設定!T129=\"\",\"\",(部門別目標設定!T129))","v":""}]
[null,{"$f":"部門別目標設定!B130","v":111},{"$f":"IF(部門別目標設定!C130=\"\",\"\",部門別目標設定!C130)","v":""},{"$f":"IF(部門別目標設定!D130=\"\",\"\",部門別目標設定!D130)","v":""},{"$f":"IF(部門別目標設定!E130=\"\",\"\",部門別目標設定!E130)","v":""},{"$f":"IF(部門別目標設定!F130=\"\",\"\",部門別目標設定!F130)","v":""},{"$f":"IF(部門別目標設定!G130=\"\",\"\",部門別目標設定!G130)","v":""},{"$f":"IF(部門別目標設定!M130=\"\",\"\",部門別目標設定!M130)","v":""},null,null,null,null,null,{"$f":"部門別目標設定!L130","v":0},"",null,null,null,null,null,{"$f":"IF(OR(部門別目標設定!I130=0,部門別目標設定!I130=\"\"),部門別目標設定!K130,部門別目標設定!I130)","v":""},null,{"$f":"IF(部門別目標設定!T130=\"\",\"\",(部門別目標設定!T130))","v":""}]
[null,{"$f":"部門別目標設定!B131","v":112},{"$f":"IF(部門別目標設定!C131=\"\",\"\",部門別目標設定!C131)","v":""},{"$f":"IF(部門別目標設定!D131=\"\",\"\",部門別目標設定!D131)","v":""},{"$f":"IF(部門別目標設定!E131=\"\",\"\",部門別目標設定!E131)","v":""},{"$f":"IF(部門別目標設定!F131=\"\",\"\",部門別目標設定!F131)","v":""},{"$f":"IF(部門別目標設定!G131=\"\",\"\",部門別目標設定!G131)","v":""},{"$f":"IF(部門別目標設定!M131=\"\",\"\",部門別目標設定!M131)","v":""},null,null,null,null,null,{"$f":"部門別目標設定!L131","v":0},"",null,null,null,null,null,{"$f":"IF(OR(部門別目標設定!I131=0,部門別目標設定!I131=\"\"),部門別目標設定!K131,部門別目標設定!I131)","v":""},null,{"$f":"IF(部門別目標設定!T131=\"\",\"\",(部門別目標設定!T131))","v":""}]
[null,{"$f":"部門別目標設定!B132","v":113},{"$f":"IF(部門別目標設定!C132=\"\",\"\",部門別目標設定!C132)","v":""},{"$f":"IF(部門別目標設定!D132=\"\",\"\",部門別目標設定!D132)","v":""},{"$f":"IF(部門別目標設定!E132=\"\",\"\",部門別目標設定!E132)","v":""},{"$f":"IF(部門別目標設定!F132=\"\",\"\",部門別目標設定!F132)","v":""},{"$f":"IF(部門別目標設定!G132=\"\",\"\",部門別目標設定!G132)","v":""},{"$f":"IF(部門別目標設定!M132=\"\",\"\",部門別目標設定!M132)","v":""},null,null,null,null,null,{"$f":"部門別目標設定!L132","v":0},"",null,null,null,null,null,{"$f":"IF(OR(部門別目標設定!I132=0,部門別目標設定!I132=\"\"),部門別目標設定!K132,部門別目標設定!I132)","v":""},null,{"$f":"IF(部門別目標設定!T132=\"\",\"\",(部門別目標設定!T132))","v":""}]
[null,{"$f":"部門別目標設定!B133","v":114},{"$f":"IF(部門別目標設定!C133=\"\",\"\",部門別目標設定!C133)","v":""},{"$f":"IF(部門別目標設定!D133=\"\",\"\",部門別目標設定!D133)","v":""},{"$f":"IF(部門別目標設定!E133=\"\",\"\",部門別目標設定!E133)","v":""},{"$f":"IF(部門別目標設定!F133=\"\",\"\",部門別目標設定!F133)","v":""},{"$f":"IF(部門別目標設定!G133=\"\",\"\",部門別目標設定!G133)","v":""},{"$f":"IF(部門別目標設定!M133=\"\",\"\",部門別目標設定!M133)","v":""},null,null,null,null,null,{"$f":"部門別目標設定!L133","v":0},"",null,null,null,null,null,{"$f":"IF(OR(部門別目標設定!I133=0,部門別目標設定!I133=\"\"),部門別目標設定!K133,部門別目標設定!I133)","v":""},null,{"$f":"IF(部門別目標設定!T133=\"\",\"\",(部門別目標設定!T133))","v":""}]
[null,{"$f":"部門別目標設定!B134","v":115},{"$f":"IF(部門別目標設定!C134=\"\",\"\",部門別目標設定!C134)","v":""},{"$f":"IF(部門別目標設定!D134=\"\",\"\",部門別目標設定!D134)","v":""},{"$f":"IF(部門別目標設定!E134=\"\",\"\",部門別目標設定!E134)","v":""},{"$f":"IF(部門別目標設定!F134=\"\",\"\",部門別目標設定!F134)","v":""},{"$f":"IF(部門別目標設定!G134=\"\",\"\",部門別目標設定!G134)","v":""},{"$f":"IF(部門別目標設定!M134=\"\",\"\",部門別目標設定!M134)","v":""},null,null,null,null,null,{"$f":"部門別目標設定!L134","v":0},"",null,null,null,null,null,{"$f":"IF(OR(部門別目標設定!I134=0,部門別目標設定!I134=\"\"),部門別目標設定!K134,部門別目標設定!I134)","v":""},null,{"$f":"IF(部門別目標設定!T134=\"\",\"\",(部門別目標設定!T134))","v":""}]
[null,{"$f":"部門別目標設定!B135","v":116},{"$f":"IF(部門別目標設定!C135=\"\",\"\",部門別目標設定!C135)","v":""},{"$f":"IF(部門別目標設定!D135=\"\",\"\",部門別目標設定!D135)","v":""},{"$f":"IF(部門別目標設定!E135=\"\",\"\",部門別目標設定!E135)","v":""},{"$f":"IF(部門別目標設定!F135=\"\",\"\",部門別目標設定!F135)","v":""},{"$f":"IF(部門別目標設定!G135=\"\",\"\",部門別目標設定!G135)","v":""},{"$f":"IF(部門別目標設定!M135=\"\",\"\",部門別目標設定!M135)","v":""},null,null,null,null,null,{"$f":"部門別目標設定!L135","v":0},"",null,null,null,null,null,{"$f":"IF(OR(部門別目標設定!I135=0,部門別目標設定!I135=\"\"),部門別目標設定!K135,部門別目標設定!I135)","v":""},null,{"$f":"IF(部門別目標設定!T135=\"\",\"\",(部門別目標設定!T135))","v":""}]
[null,{"$f":"部門別目標設定!B136","v":117},{"$f":"IF(部門別目標設定!C136=\"\",\"\",部門別目標設定!C136)","v":""},{"$f":"IF(部門別目標設定!D136=\"\",\"\",部門別目標設定!D136)","v":""},{"$f":"IF(部門別目標設定!E136=\"\",\"\",部門別目標設定!E136)","v":""},{"$f":"IF(部門別目標設定!F136=\"\",\"\",部門別目標設定!F136)","v":""},{"$f":"IF(部門別目標設定!G136=\"\",\"\",部門別目標設定!G136)","v":""},{"$f":"IF(部門別目標設定!M136=\"\",\"\",部門別目標設定!M136)","v":""},null,null,null,null,null,{"$f":"部門別目標設定!L136","v":0},"",null,null,null,null,null,{"$f":"IF(OR(部門別目標設定!I136=0,部門別目標設定!I136=\"\"),部門別目標設定!K136,部門別目標設定!I136)","v":""},null,{"$f":"IF(部門別目標設定!T136=\"\",\"\",(部門別目標設定!T136))","v":""}]
[null,{"$f":"部門別目標設定!B137","v":118},{"$f":"IF(部門別目標設定!C137=\"\",\"\",部門別目標設定!C137)","v":""},{"$f":"IF(部門別目標設定!D137=\"\",\"\",部門別目標設定!D137)","v":""},{"$f":"IF(部門別目標設定!E137=\"\",\"\",部門別目標設定!E137)","v":""},{"$f":"IF(部門別目標設定!F137=\"\",\"\",部門別目標設定!F137)","v":""},{"$f":"IF(部門別目標設定!G137=\"\",\"\",部門別目標設定!G137)","v":""},{"$f":"IF(部門別目標設定!M137=\"\",\"\",部門別目標設定!M137)","v":""},null,null,null,null,null,{"$f":"部門別目標設定!L137","v":0},"",null,null,null,null,null,{"$f":"IF(OR(部門別目標設定!I137=0,部門別目標設定!I137=\"\"),部門別目標設定!K137,部門別目標設定!I137)","v":""},null,{"$f":"IF(部門別目標設定!T137=\"\",\"\",(部門別目標設定!T137))","v":""}]
[null,{"$f":"部門別目標設定!B138","v":119},{"$f":"IF(部門別目標設定!C138=\"\",\"\",部門別目標設定!C138)","v":""},{"$f":"IF(部門別目標設定!D138=\"\",\"\",部門別目標設定!D138)","v":""},{"$f":"IF(部門別目標設定!E138=\"\",\"\",部門別目標設定!E138)","v":""},{"$f":"IF(部門別目標設定!F138=\"\",\"\",部門別目標設定!F138)","v":""},{"$f":"IF(部門別目標設定!G138=\"\",\"\",部門別目標設定!G138)","v":""},{"$f":"IF(部門別目標設定!M138=\"\",\"\",部門別目標設定!M138)","v":""},null,null,null,null,null,{"$f":"部門別目標設定!L138","v":0},"",null,null,null,null,null,{"$f":"IF(OR(部門別目標設定!I138=0,部門別目標設定!I138=\"\"),部門別目標設定!K138,部門別目標設定!I138)","v":""},null,{"$f":"IF(部門別目標設定!T138=\"\",\"\",(部門別目標設定!T138))","v":""}]
[null,{"$f":"部門別目標設定!B139","v":120},{"$f":"IF(部門別目標設定!C139=\"\",\"\",部門別目標設定!C139)","v":""},{"$f":"IF(部門別目標設定!D139=\"\",\"\",部門別目標設定!D139)","v":""},{"$f":"IF(部門別目標設定!E139=\"\",\"\",部門別目標設定!E139)","v":""},{"$f":"IF(部門別目標設定!F139=\"\",\"\",部門別目標設定!F139)","v":""},{"$f":"IF(部門別目標設定!G139=\"\",\"\",部門別目標設定!G139)","v":""},{"$f":"IF(部門別目標設定!M139=\"\",\"\",部門別目標設定!M139)","v":""},null,null,null,null,null,{"$f":"部門別目標設定!L139","v":0},"",null,null,null,null,null,{"$f":"IF(OR(部門別目標設定!I139=0,部門別目標設定!I139=\"\"),部門別目標設定!K139,部門別目標設定!I139)","v":""},null,{"$f":"IF(部門別目標設定!T139=\"\",\"\",(部門別目標設定!T139))","v":""}]
[null,{"$f":"部門別目標設定!B140","v":121},{"$f":"IF(部門別目標設定!C140=\"\",\"\",部門別目標設定!C140)","v":""},{"$f":"IF(部門別目標設定!D140=\"\",\"\",部門別目標設定!D140)","v":""},{"$f":"IF(部門別目標設定!E140=\"\",\"\",部門別目標設定!E140)","v":""},{"$f":"IF(部門別目標設定!F140=\"\",\"\",部門別目標設定!F140)","v":""},{"$f":"IF(部門別目標設定!G140=\"\",\"\",部門別目標設定!G140)","v":""},{"$f":"IF(部門別目標設定!M140=\"\",\"\",部門別目標設定!M140)","v":""},null,null,null,null,null,{"$f":"部門別目標設定!L140","v":0},"",null,null,null,null,null,{"$f":"IF(OR(部門別目標設定!I140=0,部門別目標設定!I140=\"\"),部門別目標設定!K140,部門別目標設定!I140)","v":""},null,{"$f":"IF(部門別目標設定!T140=\"\",\"\",(部門別目標設定!T140))","v":""}]
[null,{"$f":"部門別目標設定!B141","v":122},{"$f":"IF(部門別目標設定!C141=\"\",\"\",部門別目標設定!C141)","v":""},{"$f":"IF(部門別目標設定!D141=\"\",\"\",部門別目標設定!D141)","v":""},{"$f":"IF(部門別目標設定!E141=\"\",\"\",部門別目標設定!E141)","v":""},{"$f":"IF(部門別目標設定!F141=\"\",\"\",部門別目標設定!F141)","v":""},{"$f":"IF(部門別目標設定!G141=\"\",\"\",部門別目標設定!G141)","v":""},{"$f":"IF(部門別目標設定!M141=\"\",\"\",部門別目標設定!M141)","v":""},null,null,null,null,null,{"$f":"部門別目標設定!L141","v":0},"",null,null,null,null,null,{"$f":"IF(OR(部門別目標設定!I141=0,部門別目標設定!I141=\"\"),部門別目標設定!K141,部門別目標設定!I141)","v":""},null,{"$f":"IF(部門別目標設定!T141=\"\",\"\",(部門別目標設定!T141))","v":""}]
[null,{"$f":"部門別目標設定!B142","v":123},{"$f":"IF(部門別目標設定!C142=\"\",\"\",部門別目標設定!C142)","v":""},{"$f":"IF(部門別目標設定!D142=\"\",\"\",部門別目標設定!D142)","v":""},{"$f":"IF(部門別目標設定!E142=\"\",\"\",部門別目標設定!E142)","v":""},{"$f":"IF(部門別目標設定!F142=\"\",\"\",部門別目標設定!F142)","v":""},{"$f":"IF(部門別目標設定!G142=\"\",\"\",部門別目標設定!G142)","v":""},{"$f":"IF(部門別目標設定!M142=\"\",\"\",部門別目標設定!M142)","v":""},null,null,null,null,null,{"$f":"部門別目標設定!L142","v":0},"",null,null,null,null,null,{"$f":"IF(OR(部門別目標設定!I142=0,部門別目標設定!I142=\"\"),部門別目標設定!K142,部門別目標設定!I142)","v":""},null,{"$f":"IF(部門別目標設定!T142=\"\",\"\",(部門別目標設定!T142))","v":""}]
[null,{"$f":"部門別目標設定!B143","v":124},{"$f":"IF(部門別目標設定!C143=\"\",\"\",部門別目標設定!C143)","v":""},{"$f":"IF(部門別目標設定!D143=\"\",\"\",部門別目標設定!D143)","v":""},{"$f":"IF(部門別目標設定!E143=\"\",\"\",部門別目標設定!E143)","v":""},{"$f":"IF(部門別目標設定!F143=\"\",\"\",部門別目標設定!F143)","v":""},{"$f":"IF(部門別目標設定!G143=\"\",\"\",部門別目標設定!G143)","v":""},{"$f":"IF(部門別目標設定!M143=\"\",\"\",部門別目標設定!M143)","v":""},null,null,null,null,null,{"$f":"部門別目標設定!L143","v":0},"",null,null,null,null,null,{"$f":"IF(OR(部門別目標設定!I143=0,部門別目標設定!I143=\"\"),部門別目標設定!K143,部門別目標設定!I143)","v":""},null,{"$f":"IF(部門別目標設定!T143=\"\",\"\",(部門別目標設定!T143))","v":""}]
[null,{"$f":"部門別目標設定!B144","v":125},{"$f":"IF(部門別目標設定!C144=\"\",\"\",部門別目標設定!C144)","v":""},{"$f":"IF(部門別目標設定!D144=\"\",\"\",部門別目標設定!D144)","v":""},{"$f":"IF(部門別目標設定!E144=\"\",\"\",部門別目標設定!E144)","v":""},{"$f":"IF(部門別目標設定!F144=\"\",\"\",部門別目標設定!F144)","v":""},{"$f":"IF(部門別目標設定!G144=\"\",\"\",部門別目標設定!G144)","v":""},{"$f":"IF(部門別目標設定!M144=\"\",\"\",部門別目標設定!M144)","v":""},null,null,null,null,null,{"$f":"部門別目標設定!L144","v":0},"",null,null,null,null,null,{"$f":"IF(OR(部門別目標設定!I144=0,部門別目標設定!I144=\"\"),部門別目標設定!K144,部門別目標設定!I144)","v":""},null,{"$f":"IF(部門別目標設定!T144=\"\",\"\",(部門別目標設定!T144))","v":""}]
[null,{"$f":"部門別目標設定!B145","v":126},{"$f":"IF(部門別目標設定!C145=\"\",\"\",部門別目標設定!C145)","v":""},{"$f":"IF(部門別目標設定!D145=\"\",\"\",部門別目標設定!D145)","v":""},{"$f":"IF(部門別目標設定!E145=\"\",\"\",部門別目標設定!E145)","v":""},{"$f":"IF(部門別目標設定!F145=\"\",\"\",部門別目標設定!F145)","v":""},{"$f":"IF(部門別目標設定!G145=\"\",\"\",部門別目標設定!G145)","v":""},{"$f":"IF(部門別目標設定!M145=\"\",\"\",部門別目標設定!M145)","v":""},null,null,null,null,null,{"$f":"部門別目標設定!L145","v":0},"",null,null,null,null,null,{"$f":"IF(OR(部門別目標設定!I145=0,部門別目標設定!I145=\"\"),部門別目標設定!K145,部門別目標設定!I145)","v":""},null,{"$f":"IF(部門別目標設定!T145=\"\",\"\",(部門別目標設定!T145))","v":""}]
[null,{"$f":"部門別目標設定!B146","v":127},{"$f":"IF(部門別目標設定!C146=\"\",\"\",部門別目標設定!C146)","v":""},{"$f":"IF(部門別目標設定!D146=\"\",\"\",部門別目標設定!D146)","v":""},{"$f":"IF(部門別目標設定!E146=\"\",\"\",部門別目標設定!E146)","v":""},{"$f":"IF(部門別目標設定!F146=\"\",\"\",部門別目標設定!F146)","v":""},{"$f":"IF(部門別目標設定!G146=\"\",\"\",部門別目標設定!G146)","v":""},{"$f":"IF(部門別目標設定!M146=\"\",\"\",部門別目標設定!M146)","v":""},null,null,null,null,null,{"$f":"部門別目標設定!L146","v":0},"",null,null,null,null,null,{"$f":"IF(OR(部門別目標設定!I146=0,部門別目標設定!I146=\"\"),部門別目標設定!K146,部門別目標設定!I146)","v":""},null,{"$f":"IF(部門別目標設定!T146=\"\",\"\",(部門別目標設定!T146))","v":""}]
[null,{"$f":"部門別目標設定!B147","v":128},{"$f":"IF(部門別目標設定!C147=\"\",\"\",部門別目標設定!C147)","v":""},{"$f":"IF(部門別目標設定!D147=\"\",\"\",部門別目標設定!D147)","v":""},{"$f":"IF(部門別目標設定!E147=\"\",\"\",部門別目標設定!E147)","v":""},{"$f":"IF(部門別目標設定!F147=\"\",\"\",部門別目標設定!F147)","v":""},{"$f":"IF(部門別目標設定!G147=\"\",\"\",部門別目標設定!G147)","v":""},{"$f":"IF(部門別目標設定!M147=\"\",\"\",部門別目標設定!M147)","v":""},null,null,null,null,null,{"$f":"部門別目標設定!L147","v":0},"",null,null,null,null,null,{"$f":"IF(OR(部門別目標設定!I147=0,部門別目標設定!I147=\"\"),部門別目標設定!K147,部門別目標設定!I147)","v":""},null,{"$f":"IF(部門別目標設定!T147=\"\",\"\",(部門別目標設定!T147))","v":""}]
[null,{"$f":"部門別目標設定!B148","v":129},{"$f":"IF(部門別目標設定!C148=\"\",\"\",部門別目標設定!C148)","v":""},{"$f":"IF(部門別目標設定!D148=\"\",\"\",部門別目標設定!D148)","v":""},{"$f":"IF(部門別目標設定!E148=\"\",\"\",部門別目標設定!E148)","v":""},{"$f":"IF(部門別目標設定!F148=\"\",\"\",部門別目標設定!F148)","v":""},{"$f":"IF(部門別目標設定!G148=\"\",\"\",部門別目標設定!G148)","v":""},{"$f":"IF(部門別目標設定!M148=\"\",\"\",部門別目標設定!M148)","v":""},null,null,null,null,null,{"$f":"部門別目標設定!L148","v":0},"",null,null,null,null,null,{"$f":"IF(OR(部門別目標設定!I148=0,部門別目標設定!I148=\"\"),部門別目標設定!K148,部門別目標設定!I148)","v":""},null,{"$f":"IF(部門別目標設定!T148=\"\",\"\",(部門別目標設定!T148))","v":""}]
[null,{"$f":"部門別目標設定!B149","v":130},{"$f":"IF(部門別目標設定!C149=\"\",\"\",部門別目標設定!C149)","v":""},{"$f":"IF(部門別目標設定!D149=\"\",\"\",部門別目標設定!D149)","v":""},{"$f":"IF(部門別目標設定!E149=\"\",\"\",部門別目標設定!E149)","v":""},{"$f":"IF(部門別目標設定!F149=\"\",\"\",部門別目標設定!F149)","v":""},{"$f":"IF(部門別目標設定!G149=\"\",\"\",部門別目標設定!G149)","v":""},{"$f":"IF(部門別目標設定!M149=\"\",\"\",部門別目標設定!M149)","v":""},null,null,null,null,null,{"$f":"部門別目標設定!L149","v":0},{"$f":"IF(OR(I144=\"\",N144=\"\"),\"\",IF(ISERROR(INDEX(I144:M144,MATCH(MAX(I144:M144)+1,I144:M144,1))/N144),\"\",INDEX(I144:M144,MATCH(MAX(I144:M144)+1,I144:M144,1))/N144))","v":""},null,null,null,null,null,{"$f":"IF(OR(部門別目標設定!I149=0,部門別目標設定!I149=\"\"),部門別目標設定!K149,部門別目標設定!I149)","v":""},null,{"$f":"IF(部門別目標設定!T149=\"\",\"\",(部門別目標設定!T149))","v":""}]
[null,{"$f":"部門別目標設定!B150","v":131},{"$f":"IF(部門別目標設定!C150=\"\",\"\",部門別目標設定!C150)","v":""},{"$f":"IF(部門別目標設定!D150=\"\",\"\",部門別目標設定!D150)","v":""},{"$f":"IF(部門別目標設定!E150=\"\",\"\",部門別目標設定!E150)","v":""},{"$f":"IF(部門別目標設定!F150=\"\",\"\",部門別目標設定!F150)","v":""},{"$f":"IF(部門別目標設定!G150=\"\",\"\",部門別目標設定!G150)","v":""},{"$f":"IF(部門別目標設定!M150=\"\",\"\",部門別目標設定!M150)","v":""},null,null,null,null,null,{"$f":"部門別目標設定!L150","v":0},"",null,null,null,null,null,{"$f":"IF(OR(部門別目標設定!I150=0,部門別目標設定!I150=\"\"),部門別目標設定!K150,部門別目標設定!I150)","v":""},null,{"$f":"IF(部門別目標設定!T150=\"\",\"\",(部門別目標設定!T150))","v":""}]
[null,{"$f":"部門別目標設定!B151","v":132},{"$f":"IF(部門別目標設定!C151=\"\",\"\",部門別目標設定!C151)","v":""},{"$f":"IF(部門別目標設定!D151=\"\",\"\",部門別目標設定!D151)","v":""},{"$f":"IF(部門別目標設定!E151=\"\",\"\",部門別目標設定!E151)","v":""},{"$f":"IF(部門別目標設定!F151=\"\",\"\",部門別目標設定!F151)","v":""},{"$f":"IF(部門別目標設定!G151=\"\",\"\",部門別目標設定!G151)","v":""},{"$f":"IF(部門別目標設定!M151=\"\",\"\",部門別目標設定!M151)","v":""},null,null,null,null,null,{"$f":"部門別目標設定!L151","v":0},"",null,null,null,null,null,{"$f":"IF(OR(部門別目標設定!I151=0,部門別目標設定!I151=\"\"),部門別目標設定!K151,部門別目標設定!I151)","v":""},null,{"$f":"IF(部門別目標設定!T151=\"\",\"\",(部門別目標設定!T151))","v":""}]
[null,{"$f":"部門別目標設定!B152","v":133},{"$f":"IF(部門別目標設定!C152=\"\",\"\",部門別目標設定!C152)","v":""},{"$f":"IF(部門別目標設定!D152=\"\",\"\",部門別目標設定!D152)","v":""},{"$f":"IF(部門別目標設定!E152=\"\",\"\",部門別目標設定!E152)","v":""},{"$f":"IF(部門別目標設定!F152=\"\",\"\",部門別目標設定!F152)","v":""},{"$f":"IF(部門別目標設定!G152=\"\",\"\",部門別目標設定!G152)","v":""},{"$f":"IF(部門別目標設定!M152=\"\",\"\",部門別目標設定!M152)","v":""},null,null,null,null,null,{"$f":"部門別目標設定!L152","v":0},"",null,null,null,null,null,{"$f":"IF(OR(部門別目標設定!I152=0,部門別目標設定!I152=\"\"),部門別目標設定!K152,部門別目標設定!I152)","v":""},null,{"$f":"IF(部門別目標設定!T152=\"\",\"\",(部門別目標設定!T152))","v":""}]
[null,{"$f":"部門別目標設定!B153","v":134},{"$f":"IF(部門別目標設定!C153=\"\",\"\",部門別目標設定!C153)","v":""},{"$f":"IF(部門別目標設定!D153=\"\",\"\",部門別目標設定!D153)","v":""},{"$f":"IF(部門別目標設定!E153=\"\",\"\",部門別目標設定!E153)","v":""},{"$f":"IF(部門別目標設定!F153=\"\",\"\",部門別目標設定!F153)","v":""},{"$f":"IF(部門別目標設定!G153=\"\",\"\",部門別目標設定!G153)","v":""},{"$f":"IF(部門別目標設定!M153=\"\",\"\",部門別目標設定!M153)","v":""},null,null,null,null,null,{"$f":"部門別目標設定!L153","v":0},"",null,null,null,null,null,{"$f":"IF(OR(部門別目標設定!I153=0,部門別目標設定!I153=\"\"),部門別目標設定!K153,部門別目標設定!I153)","v":""},null,{"$f":"IF(部門別目標設定!T153=\"\",\"\",(部門別目標設定!T153))","v":""}]
[null,{"$f":"部門別目標設定!B154","v":135},{"$f":"IF(部門別目標設定!C154=\"\",\"\",部門別目標設定!C154)","v":""},{"$f":"IF(部門別目標設定!D154=\"\",\"\",部門別目標設定!D154)","v":""},{"$f":"IF(部門別目標設定!E154=\"\",\"\",部門別目標設定!E154)","v":""},{"$f":"IF(部門別目標設定!F154=\"\",\"\",部門別目標設定!F154)","v":""},{"$f":"IF(部門別目標設定!G154=\"\",\"\",部門別目標設定!G154)","v":""},{"$f":"IF(部門別目標設定!M154=\"\",\"\",部門別目標設定!M154)","v":""},null,null,null,null,null,{"$f":"部門別目標設定!L154","v":0},"",null,null,null,null,null,{"$f":"IF(OR(部門別目標設定!I154=0,部門別目標設定!I154=\"\"),部門別目標設定!K154,部門別目標設定!I154)","v":""},null,{"$f":"IF(部門別目標設定!T154=\"\",\"\",(部門別目標設定!T154))","v":""}]
[null,{"$f":"部門別目標設定!B155","v":136},{"$f":"IF(部門別目標設定!C155=\"\",\"\",部門別目標設定!C155)","v":""},{"$f":"IF(部門別目標設定!D155=\"\",\"\",部門別目標設定!D155)","v":""},{"$f":"IF(部門別目標設定!E155=\"\",\"\",部門別目標設定!E155)","v":""},{"$f":"IF(部門別目標設定!F155=\"\",\"\",部門別目標設定!F155)","v":""},{"$f":"IF(部門別目標設定!G155=\"\",\"\",部門別目標設定!G155)","v":""},{"$f":"IF(部門別目標設定!M155=\"\",\"\",部門別目標設定!M155)","v":""},null,null,null,null,null,{"$f":"部門別目標設定!L155","v":0},"",null,null,null,null,null,{"$f":"IF(OR(部門別目標設定!I155=0,部門別目標設定!I155=\"\"),部門別目標設定!K155,部門別目標設定!I155)","v":""},null,{"$f":"IF(部門別目標設定!T155=\"\",\"\",(部門別目標設定!T155))","v":""}]
[null,{"$f":"部門別目標設定!B156","v":137},{"$f":"IF(部門別目標設定!C156=\"\",\"\",部門別目標設定!C156)","v":""},{"$f":"IF(部門別目標設定!D156=\"\",\"\",部門別目標設定!D156)","v":""},{"$f":"IF(部門別目標設定!E156=\"\",\"\",部門別目標設定!E156)","v":""},{"$f":"IF(部門別目標設定!F156=\"\",\"\",部門別目標設定!F156)","v":""},{"$f":"IF(部門別目標設定!G156=\"\",\"\",部門別目標設定!G156)","v":""},{"$f":"IF(部門別目標設定!M156=\"\",\"\",部門別目標設定!M156)","v":""},null,null,null,null,null,{"$f":"部門別目標設定!L156","v":0},"",null,null,null,null,null,{"$f":"IF(OR(部門別目標設定!I156=0,部門別目標設定!I156=\"\"),部門別目標設定!K156,部門別目標設定!I156)","v":""},null,{"$f":"IF(部門別目標設定!T156=\"\",\"\",(部門別目標設定!T156))","v":""}]
[null,{"$f":"部門別目標設定!B157","v":138},{"$f":"IF(部門別目標設定!C157=\"\",\"\",部門別目標設定!C157)","v":""},{"$f":"IF(部門別目標設定!D157=\"\",\"\",部門別目標設定!D157)","v":""},{"$f":"IF(部門別目標設定!E157=\"\",\"\",部門別目標設定!E157)","v":""},{"$f":"IF(部門別目標設定!F157=\"\",\"\",部門別目標設定!F157)","v":""},{"$f":"IF(部門別目標設定!G157=\"\",\"\",部門別目標設定!G157)","v":""},{"$f":"IF(部門別目標設定!M157=\"\",\"\",部門別目標設定!M157)","v":""},null,null,null,null,null,{"$f":"部門別目標設定!L157","v":0},"",null,null,null,null,null,{"$f":"IF(OR(部門別目標設定!I157=0,部門別目標設定!I157=\"\"),部門別目標設定!K157,部門別目標設定!I157)","v":""},null,{"$f":"IF(部門別目標設定!T157=\"\",\"\",(部門別目標設定!T157))","v":""}]
[null,{"$f":"部門別目標設定!B158","v":139},{"$f":"IF(部門別目標設定!C158=\"\",\"\",部門別目標設定!C158)","v":""},{"$f":"IF(部門別目標設定!D158=\"\",\"\",部門別目標設定!D158)","v":""},{"$f":"IF(部門別目標設定!E158=\"\",\"\",部門別目標設定!E158)","v":""},{"$f":"IF(部門別目標設定!F158=\"\",\"\",部門別目標設定!F158)","v":""},{"$f":"IF(部門別目標設定!G158=\"\",\"\",部門別目標設定!G158)","v":""},{"$f":"IF(部門別目標設定!M158=\"\",\"\",部門別目標設定!M158)","v":""},null,null,null,null,null,{"$f":"部門別目標設定!L158","v":0},"",null,null,null,null,null,{"$f":"IF(OR(部門別目標設定!I158=0,部門別目標設定!I158=\"\"),部門別目標設定!K158,部門別目標設定!I158)","v":""},null,{"$f":"IF(部門別目標設定!T158=\"\",\"\",(部門別目標設定!T158))","v":""}]
[null,{"$f":"部門別目標設定!B159","v":140},{"$f":"IF(部門別目標設定!C159=\"\",\"\",部門別目標設定!C159)","v":""},{"$f":"IF(部門別目標設定!D159=\"\",\"\",部門別目標設定!D159)","v":""},{"$f":"IF(部門別目標設定!E159=\"\",\"\",部門別目標設定!E159)","v":""},{"$f":"IF(部門別目標設定!F159=\"\",\"\",部門別目標設定!F159)","v":""},{"$f":"IF(部門別目標設定!G159=\"\",\"\",部門別目標設定!G159)","v":""},{"$f":"IF(部門別目標設定!M159=\"\",\"\",部門別目標設定!M159)","v":""},null,null,null,null,null,{"$f":"部門別目標設定!L159","v":0},"",null,null,null,null,null,{"$f":"IF(OR(部門別目標設定!I159=0,部門別目標設定!I159=\"\"),部門別目標設定!K159,部門別目標設定!I159)","v":""},null,{"$f":"IF(部門別目標設定!T159=\"\",\"\",(部門別目標設定!T159))","v":""}]
[null,{"$f":"部門別目標設定!B160","v":141},{"$f":"IF(部門別目標設定!C160=\"\",\"\",部門別目標設定!C160)","v":""},{"$f":"IF(部門別目標設定!D160=\"\",\"\",部門別目標設定!D160)","v":""},{"$f":"IF(部門別目標設定!E160=\"\",\"\",部門別目標設定!E160)","v":""},{"$f":"IF(部門別目標設定!F160=\"\",\"\",部門別目標設定!F160)","v":""},{"$f":"IF(部門別目標設定!G160=\"\",\"\",部門別目標設定!G160)","v":""},{"$f":"IF(部門別目標設定!M160=\"\",\"\",部門別目標設定!M160)","v":""},null,null,null,null,null,{"$f":"部門別目標設定!L160","v":0},"",null,null,null,null,null,{"$f":"IF(OR(部門別目標設定!I160=0,部門別目標設定!I160=\"\"),部門別目標設定!K160,部門別目標設定!I160)","v":""},null,{"$f":"IF(部門別目標設定!T160=\"\",\"\",(部門別目標設定!T160))","v":""}]
[null,{"$f":"部門別目標設定!B161","v":142},{"$f":"IF(部門別目標設定!C161=\"\",\"\",部門別目標設定!C161)","v":""},{"$f":"IF(部門別目標設定!D161=\"\",\"\",部門別目標設定!D161)","v":""},{"$f":"IF(部門別目標設定!E161=\"\",\"\",部門別目標設定!E161)","v":""},{"$f":"IF(部門別目標設定!F161=\"\",\"\",部門別目標設定!F161)","v":""},{"$f":"IF(部門別目標設定!G161=\"\",\"\",部門別目標設定!G161)","v":""},{"$f":"IF(部門別目標設定!M161=\"\",\"\",部門別目標設定!M161)","v":""},null,null,null,null,null,{"$f":"部門別目標設定!L161","v":0},"",null,null,null,null,null,{"$f":"IF(OR(部門別目標設定!I161=0,部門別目標設定!I161=\"\"),部門別目標設定!K161,部門別目標設定!I161)","v":""},null,{"$f":"IF(部門別目標設定!T161=\"\",\"\",(部門別目標設定!T161))","v":""}]
[null,{"$f":"部門別目標設定!B162","v":143},{"$f":"IF(部門別目標設定!C162=\"\",\"\",部門別目標設定!C162)","v":""},{"$f":"IF(部門別目標設定!D162=\"\",\"\",部門別目標設定!D162)","v":""},{"$f":"IF(部門別目標設定!E162=\"\",\"\",部門別目標設定!E162)","v":""},{"$f":"IF(部門別目標設定!F162=\"\",\"\",部門別目標設定!F162)","v":""},{"$f":"IF(部門別目標設定!G162=\"\",\"\",部門別目標設定!G162)","v":""},{"$f":"IF(部門別目標設定!M162=\"\",\"\",部門別目標設定!M162)","v":""},null,null,null,null,null,{"$f":"部門別目標設定!L162","v":0},"",null,null,null,null,null,{"$f":"IF(OR(部門別目標設定!I162=0,部門別目標設定!I162=\"\"),部門別目標設定!K162,部門別目標設定!I162)","v":""},null,{"$f":"IF(部門別目標設定!T162=\"\",\"\",(部門別目標設定!T162))","v":""}]
[null,{"$f":"部門別目標設定!B163","v":144},{"$f":"IF(部門別目標設定!C163=\"\",\"\",部門別目標設定!C163)","v":""},{"$f":"IF(部門別目標設定!D163=\"\",\"\",部門別目標設定!D163)","v":""},{"$f":"IF(部門別目標設定!E163=\"\",\"\",部門別目標設定!E163)","v":""},{"$f":"IF(部門別目標設定!F163=\"\",\"\",部門別目標設定!F163)","v":""},{"$f":"IF(部門別目標設定!G163=\"\",\"\",部門別目標設定!G163)","v":""},{"$f":"IF(部門別目標設定!M163=\"\",\"\",部門別目標設定!M163)","v":""},null,null,null,null,null,{"$f":"部門別目標設定!L163","v":0},"",null,null,null,null,null,{"$f":"IF(OR(部門別目標設定!I163=0,部門別目標設定!I163=\"\"),部門別目標設定!K163,部門別目標設定!I163)","v":""},null,{"$f":"IF(部門別目標設定!T163=\"\",\"\",(部門別目標設定!T163))","v":""}]
[null,{"$f":"部門別目標設定!B164","v":145},{"$f":"IF(部門別目標設定!C164=\"\",\"\",部門別目標設定!C164)","v":""},{"$f":"IF(部門別目標設定!D164=\"\",\"\",部門別目標設定!D164)","v":""},{"$f":"IF(部門別目標設定!E164=\"\",\"\",部門別目標設定!E164)","v":""},{"$f":"IF(部門別目標設定!F164=\"\",\"\",部門別目標設定!F164)","v":""},{"$f":"IF(部門別目標設定!G164=\"\",\"\",部門別目標設定!G164)","v":""},{"$f":"IF(部門別目標設定!M164=\"\",\"\",部門別目標設定!M164)","v":""},null,null,null,null,null,{"$f":"部門別目標設定!L164","v":0},"",null,null,null,null,null,{"$f":"IF(OR(部門別目標設定!I164=0,部門別目標設定!I164=\"\"),部門別目標設定!K164,部門別目標設定!I164)","v":""},null,{"$f":"IF(部門別目標設定!T164=\"\",\"\",(部門別目標設定!T164))","v":""}]
[null,{"$f":"部門別目標設定!B165","v":146},{"$f":"IF(部門別目標設定!C165=\"\",\"\",部門別目標設定!C165)","v":""},{"$f":"IF(部門別目標設定!D165=\"\",\"\",部門別目標設定!D165)","v":""},{"$f":"IF(部門別目標設定!E165=\"\",\"\",部門別目標設定!E165)","v":""},{"$f":"IF(部門別目標設定!F165=\"\",\"\",部門別目標設定!F165)","v":""},{"$f":"IF(部門別目標設定!G165=\"\",\"\",部門別目標設定!G165)","v":""},{"$f":"IF(部門別目標設定!M165=\"\",\"\",部門別目標設定!M165)","v":""},null,null,null,null,null,{"$f":"部門別目標設定!L165","v":0},"",null,null,null,null,null,{"$f":"IF(OR(部門別目標設定!I165=0,部門別目標設定!I165=\"\"),部門別目標設定!K165,部門別目標設定!I165)","v":""},null,{"$f":"IF(部門別目標設定!T165=\"\",\"\",(部門別目標設定!T165))","v":""}]
[null,{"$f":"部門別目標設定!B166","v":147},{"$f":"IF(部門別目標設定!C166=\"\",\"\",部門別目標設定!C166)","v":""},{"$f":"IF(部門別目標設定!D166=\"\",\"\",部門別目標設定!D166)","v":""},{"$f":"IF(部門別目標設定!E166=\"\",\"\",部門別目標設定!E166)","v":""},{"$f":"IF(部門別目標設定!F166=\"\",\"\",部門別目標設定!F166)","v":""},{"$f":"IF(部門別目標設定!G166=\"\",\"\",部門別目標設定!G166)","v":""},{"$f":"IF(部門別目標設定!M166=\"\",\"\",部門別目標設定!M166)","v":""},null,null,null,null,null,{"$f":"部門別目標設定!L166","v":0},"",null,null,null,null,null,{"$f":"IF(OR(部門別目標設定!I166=0,部門別目標設定!I166=\"\"),部門別目標設定!K166,部門別目標設定!I166)","v":""},null,{"$f":"IF(部門別目標設定!T166=\"\",\"\",(部門別目標設定!T166))","v":""}]
[null,{"$f":"部門別目標設定!B167","v":148},{"$f":"IF(部門別目標設定!C167=\"\",\"\",部門別目標設定!C167)","v":""},{"$f":"IF(部門別目標設定!D167=\"\",\"\",部門別目標設定!D167)","v":""},{"$f":"IF(部門別目標設定!E167=\"\",\"\",部門別目標設定!E167)","v":""},{"$f":"IF(部門別目標設定!F167=\"\",\"\",部門別目標設定!F167)","v":""},{"$f":"IF(部門別目標設定!G167=\"\",\"\",部門別目標設定!G167)","v":""},{"$f":"IF(部門別目標設定!M167=\"\",\"\",部門別目標設定!M167)","v":""},null,null,null,null,null,{"$f":"部門別目標設定!L167","v":0},"",null,null,null,null,null,{"$f":"IF(OR(部門別目標設定!I167=0,部門別目標設定!I167=\"\"),部門別目標設定!K167,部門別目標設定!I167)","v":""},null,{"$f":"IF(部門別目標設定!T167=\"\",\"\",(部門別目標設定!T167))","v":""}]
[null,{"$f":"部門別目標設定!B168","v":149},{"$f":"IF(部門別目標設定!C168=\"\",\"\",部門別目標設定!C168)","v":""},{"$f":"IF(部門別目標設定!D168=\"\",\"\",部門別目標設定!D168)","v":""},{"$f":"IF(部門別目標設定!E168=\"\",\"\",部門別目標設定!E168)","v":""},{"$f":"IF(部門別目標設定!F168=\"\",\"\",部門別目標設定!F168)","v":""},{"$f":"IF(部門別目標設定!G168=\"\",\"\",部門別目標設定!G168)","v":""},{"$f":"IF(部門別目標設定!M168=\"\",\"\",部門別目標設定!M168)","v":""},null,null,null,null,null,{"$f":"部門別目標設定!L168","v":0},"",null,null,null,null,null,{"$f":"IF(OR(部門別目標設定!I168=0,部門別目標設定!I168=\"\"),部門別目標設定!K168,部門別目標設定!I168)","v":""},null,{"$f":"IF(部門別目標設定!T168=\"\",\"\",(部門別目標設定!T168))","v":""}]
[null,{"$f":"部門別目標設定!B169","v":150},{"$f":"IF(部門別目標設定!C169=\"\",\"\",部門別目標設定!C169)","v":""},{"$f":"IF(部門別目標設定!D169=\"\",\"\",部門別目標設定!D169)","v":""},{"$f":"IF(部門別目標設定!E169=\"\",\"\",部門別目標設定!E169)","v":""},{"$f":"IF(部門別目標設定!F169=\"\",\"\",部門別目標設定!F169)","v":""},{"$f":"IF(部門別目標設定!G169=\"\",\"\",部門別目標設定!G169)","v":""},{"$f":"IF(部門別目標設定!M169=\"\",\"\",部門別目標設定!M169)","v":""},null,null,null,null,null,{"$f":"部門別目標設定!L169","v":0},"",null,null,null,null,null,{"$f":"IF(OR(部門別目標設定!I169=0,部門別目標設定!I169=\"\"),部門別目標設定!K169,部門別目標設定!I169)","v":""},null,{"$f":"IF(部門別目標設定!T169=\"\",\"\",(部門別目標設定!T169))","v":""}]
[null,{"$f":"部門別目標設定!B170","v":151},{"$f":"IF(部門別目標設定!C170=\"\",\"\",部門別目標設定!C170)","v":""},{"$f":"IF(部門別目標設定!D170=\"\",\"\",部門別目標設定!D170)","v":""},{"$f":"IF(部門別目標設定!E170=\"\",\"\",部門別目標設定!E170)","v":""},{"$f":"IF(部門別目標設定!F170=\"\",\"\",部門別目標設定!F170)","v":""},{"$f":"IF(部門別目標設定!G170=\"\",\"\",部門別目標設定!G170)","v":""},{"$f":"IF(部門別目標設定!M170=\"\",\"\",部門別目標設定!M170)","v":""},null,null,null,null,null,{"$f":"部門別目標設定!L170","v":0},"",null,null,null,null,null,{"$f":"IF(OR(部門別目標設定!I170=0,部門別目標設定!I170=\"\"),部門別目標設定!K170,部門別目標設定!I170)","v":""},null,{"$f":"IF(部門別目標設定!T170=\"\",\"\",(部門別目標設定!T170))","v":""}]
[null,{"$f":"部門別目標設定!B171","v":152},{"$f":"IF(部門別目標設定!C171=\"\",\"\",部門別目標設定!C171)","v":""},{"$f":"IF(部門別目標設定!D171=\"\",\"\",部門別目標設定!D171)","v":""},{"$f":"IF(部門別目標設定!E171=\"\",\"\",部門別目標設定!E171)","v":""},{"$f":"IF(部門別目標設定!F171=\"\",\"\",部門別目標設定!F171)","v":""},{"$f":"IF(部門別目標設定!G171=\"\",\"\",部門別目標設定!G171)","v":""},{"$f":"IF(部門別目標設定!M171=\"\",\"\",部門別目標設定!M171)","v":""},null,null,null,null,null,{"$f":"部門別目標設定!L171","v":0},"",null,null,null,null,null,{"$f":"IF(OR(部門別目標設定!I171=0,部門別目標設定!I171=\"\"),部門別目標設定!K171,部門別目標設定!I171)","v":""},null,{"$f":"IF(部門別目標設定!T171=\"\",\"\",(部門別目標設定!T171))","v":""}]
[null,{"$f":"部門別目標設定!B172","v":153},{"$f":"IF(部門別目標設定!C172=\"\",\"\",部門別目標設定!C172)","v":""},{"$f":"IF(部門別目標設定!D172=\"\",\"\",部門別目標設定!D172)","v":""},{"$f":"IF(部門別目標設定!E172=\"\",\"\",部門別目標設定!E172)","v":""},{"$f":"IF(部門別目標設定!F172=\"\",\"\",部門別目標設定!F172)","v":""},{"$f":"IF(部門別目標設定!G172=\"\",\"\",部門別目標設定!G172)","v":""},{"$f":"IF(部門別目標設定!M172=\"\",\"\",部門別目標設定!M172)","v":""},null,null,null,null,null,{"$f":"部門別目標設定!L172","v":0},"",null,null,null,null,null,{"$f":"IF(OR(部門別目標設定!I172=0,部門別目標設定!I172=\"\"),部門別目標設定!K172,部門別目標設定!I172)","v":""},null,{"$f":"IF(部門別目標設定!T172=\"\",\"\",(部門別目標設定!T172))","v":""}]
[null,{"$f":"部門別目標設定!B173","v":154},{"$f":"IF(部門別目標設定!C173=\"\",\"\",部門別目標設定!C173)","v":""},{"$f":"IF(部門別目標設定!D173=\"\",\"\",部門別目標設定!D173)","v":""},{"$f":"IF(部門別目標設定!E173=\"\",\"\",部門別目標設定!E173)","v":""},{"$f":"IF(部門別目標設定!F173=\"\",\"\",部門別目標設定!F173)","v":""},{"$f":"IF(部門別目標設定!G173=\"\",\"\",部門別目標設定!G173)","v":""},{"$f":"IF(部門別目標設定!M173=\"\",\"\",部門別目標設定!M173)","v":""},null,null,null,null,null,{"$f":"部門別目標設定!L173","v":0},"",null,null,null,null,null,{"$f":"IF(OR(部門別目標設定!I173=0,部門別目標設定!I173=\"\"),部門別目標設定!K173,部門別目標設定!I173)","v":""},null,{"$f":"IF(部門別目標設定!T173=\"\",\"\",(部門別目標設定!T173))","v":""}]
[null,{"$f":"部門別目標設定!B174","v":155},{"$f":"IF(部門別目標設定!C174=\"\",\"\",部門別目標設定!C174)","v":""},{"$f":"IF(部門別目標設定!D174=\"\",\"\",部門別目標設定!D174)","v":""},{"$f":"IF(部門別目標設定!E174=\"\",\"\",部門別目標設定!E174)","v":""},{"$f":"IF(部門別目標設定!F174=\"\",\"\",部門別目標設定!F174)","v":""},{"$f":"IF(部門別目標設定!G174=\"\",\"\",部門別目標設定!G174)","v":""},{"$f":"IF(部門別目標設定!M174=\"\",\"\",部門別目標設定!M174)","v":""},null,null,null,null,null,{"$f":"部門別目標設定!L174","v":0},"",null,null,null,null,null,{"$f":"IF(OR(部門別目標設定!I174=0,部門別目標設定!I174=\"\"),部門別目標設定!K174,部門別目標設定!I174)","v":""},null,{"$f":"IF(部門別目標設定!T174=\"\",\"\",(部門別目標設定!T174))","v":""}]
[null,{"$f":"部門別目標設定!B175","v":156},{"$f":"IF(部門別目標設定!C175=\"\",\"\",部門別目標設定!C175)","v":""},{"$f":"IF(部門別目標設定!D175=\"\",\"\",部門別目標設定!D175)","v":""},{"$f":"IF(部門別目標設定!E175=\"\",\"\",部門別目標設定!E175)","v":""},{"$f":"IF(部門別目標設定!F175=\"\",\"\",部門別目標設定!F175)","v":""},{"$f":"IF(部門別目標設定!G175=\"\",\"\",部門別目標設定!G175)","v":""},{"$f":"IF(部門別目標設定!M175=\"\",\"\",部門別目標設定!M175)","v":""},null,null,null,null,null,{"$f":"部門別目標設定!L175","v":0},"",null,null,null,null,null,{"$f":"IF(OR(部門別目標設定!I175=0,部門別目標設定!I175=\"\"),部門別目標設定!K175,部門別目標設定!I175)","v":""},null,{"$f":"IF(部門別目標設定!T175=\"\",\"\",(部門別目標設定!T175))","v":""}]
[null,{"$f":"部門別目標設定!B176","v":157},{"$f":"IF(部門別目標設定!C176=\"\",\"\",部門別目標設定!C176)","v":""},{"$f":"IF(部門別目標設定!D176=\"\",\"\",部門別目標設定!D176)","v":""},{"$f":"IF(部門別目標設定!E176=\"\",\"\",部門別目標設定!E176)","v":""},{"$f":"IF(部門別目標設定!F176=\"\",\"\",部門別目標設定!F176)","v":""},{"$f":"IF(部門別目標設定!G176=\"\",\"\",部門別目標設定!G176)","v":""},{"$f":"IF(部門別目標設定!M176=\"\",\"\",部門別目標設定!M176)","v":""},null,null,null,null,null,{"$f":"部門別目標設定!L176","v":0},"",null,null,null,null,null,{"$f":"IF(OR(部門別目標設定!I176=0,部門別目標設定!I176=\"\"),部門別目標設定!K176,部門別目標設定!I176)","v":""},null,{"$f":"IF(部門別目標設定!T176=\"\",\"\",(部門別目標設定!T176))","v":""}]
[null,{"$f":"部門別目標設定!B177","v":158},{"$f":"IF(部門別目標設定!C177=\"\",\"\",部門別目標設定!C177)","v":""},{"$f":"IF(部門別目標設定!D177=\"\",\"\",部門別目標設定!D177)","v":""},{"$f":"IF(部門別目標設定!E177=\"\",\"\",部門別目標設定!E177)","v":""},{"$f":"IF(部門別目標設定!F177=\"\",\"\",部門別目標設定!F177)","v":""},{"$f":"IF(部門別目標設定!G177=\"\",\"\",部門別目標設定!G177)","v":""},{"$f":"IF(部門別目標設定!M177=\"\",\"\",部門別目標設定!M177)","v":""},null,null,null,null,null,{"$f":"部門別目標設定!L177","v":0},"",null,null,null,null,null,{"$f":"IF(OR(部門別目標設定!I177=0,部門別目標設定!I177=\"\"),部門別目標設定!K177,部門別目標設定!I177)","v":""},null,{"$f":"IF(部門別目標設定!T177=\"\",\"\",(部門別目標設定!T177))","v":""}]
[null,{"$f":"部門別目標設定!B178","v":159},{"$f":"IF(部門別目標設定!C178=\"\",\"\",部門別目標設定!C178)","v":""},{"$f":"IF(部門別目標設定!D178=\"\",\"\",部門別目標設定!D178)","v":""},{"$f":"IF(部門別目標設定!E178=\"\",\"\",部門別目標設定!E178)","v":""},{"$f":"IF(部門別目標設定!F178=\"\",\"\",部門別目標設定!F178)","v":""},{"$f":"IF(部門別目標設定!G178=\"\",\"\",部門別目標設定!G178)","v":""},{"$f":"IF(部門別目標設定!M178=\"\",\"\",部門別目標設定!M178)","v":""},null,null,null,null,null,{"$f":"部門別目標設定!L178","v":0},"",null,null,null,null,null,{"$f":"IF(OR(部門別目標設定!I178=0,部門別目標設定!I178=\"\"),部門別目標設定!K178,部門別目標設定!I178)","v":""},null,{"$f":"IF(部門別目標設定!T178=\"\",\"\",(部門別目標設定!T178))","v":""}]
[null,{"$f":"部門別目標設定!B179","v":160},{"$f":"IF(部門別目標設定!C179=\"\",\"\",部門別目標設定!C179)","v":""},{"$f":"IF(部門別目標設定!D179=\"\",\"\",部門別目標設定!D179)","v":""},{"$f":"IF(部門別目標設定!E179=\"\",\"\",部門別目標設定!E179)","v":""},{"$f":"IF(部門別目標設定!F179=\"\",\"\",部門別目標設定!F179)","v":""},{"$f":"IF(部門別目標設定!G179=\"\",\"\",部門別目標設定!G179)","v":""},{"$f":"IF(部門別目標設定!M179=\"\",\"\",部門別目標設定!M179)","v":""},null,null,null,null,null,{"$f":"部門別目標設定!L179","v":0},"",null,null,null,null,null,{"$f":"IF(OR(部門別目標設定!I179=0,部門別目標設定!I179=\"\"),部門別目標設定!K179,部門別目標設定!I179)","v":""},null,{"$f":"IF(部門別目標設定!T179=\"\",\"\",(部門別目標設定!T179))","v":""}]
[null,{"$f":"部門別目標設定!B180","v":161},{"$f":"IF(部門別目標設定!C180=\"\",\"\",部門別目標設定!C180)","v":""},{"$f":"IF(部門別目標設定!D180=\"\",\"\",部門別目標設定!D180)","v":""},{"$f":"IF(部門別目標設定!E180=\"\",\"\",部門別目標設定!E180)","v":""},{"$f":"IF(部門別目標設定!F180=\"\",\"\",部門別目標設定!F180)","v":""},{"$f":"IF(部門別目標設定!G180=\"\",\"\",部門別目標設定!G180)","v":""},{"$f":"IF(部門別目標設定!M180=\"\",\"\",部門別目標設定!M180)","v":""},null,null,null,null,null,{"$f":"部門別目標設定!L180","v":0},"",null,null,null,null,null,{"$f":"IF(OR(部門別目標設定!I180=0,部門別目標設定!I180=\"\"),部門別目標設定!K180,部門別目標設定!I180)","v":""},null,{"$f":"IF(部門別目標設定!T180=\"\",\"\",(部門別目標設定!T180))","v":""}]
[null,{"$f":"部門別目標設定!B181","v":162},{"$f":"IF(部門別目標設定!C181=\"\",\"\",部門別目標設定!C181)","v":""},{"$f":"IF(部門別目標設定!D181=\"\",\"\",部門別目標設定!D181)","v":""},{"$f":"IF(部門別目標設定!E181=\"\",\"\",部門別目標設定!E181)","v":""},{"$f":"IF(部門別目標設定!F181=\"\",\"\",部門別目標設定!F181)","v":""},{"$f":"IF(部門別目標設定!G181=\"\",\"\",部門別目標設定!G181)","v":""},{"$f":"IF(部門別目標設定!M181=\"\",\"\",部門別目標設定!M181)","v":""},null,null,null,null,null,{"$f":"部門別目標設定!L181","v":0},"",null,null,null,null,null,{"$f":"IF(OR(部門別目標設定!I181=0,部門別目標設定!I181=\"\"),部門別目標設定!K181,部門別目標設定!I181)","v":""},null,{"$f":"IF(部門別目標設定!T181=\"\",\"\",(部門別目標設定!T181))","v":""}]
[null,{"$f":"部門別目標設定!B182","v":163},{"$f":"IF(部門別目標設定!C182=\"\",\"\",部門別目標設定!C182)","v":""},{"$f":"IF(部門別目標設定!D182=\"\",\"\",部門別目標設定!D182)","v":""},{"$f":"IF(部門別目標設定!E182=\"\",\"\",部門別目標設定!E182)","v":""},{"$f":"IF(部門別目標設定!F182=\"\",\"\",部門別目標設定!F182)","v":""},{"$f":"IF(部門別目標設定!G182=\"\",\"\",部門別目標設定!G182)","v":""},{"$f":"IF(部門別目標設定!M182=\"\",\"\",部門別目標設定!M182)","v":""},null,null,null,null,null,{"$f":"部門別目標設定!L182","v":0},"",null,null,null,null,null,{"$f":"IF(OR(部門別目標設定!I182=0,部門別目標設定!I182=\"\"),部門別目標設定!K182,部門別目標設定!I182)","v":""},null,{"$f":"IF(部門別目標設定!T182=\"\",\"\",(部門別目標設定!T182))","v":""}]
[null,{"$f":"部門別目標設定!B183","v":164},{"$f":"IF(部門別目標設定!C183=\"\",\"\",部門別目標設定!C183)","v":""},{"$f":"IF(部門別目標設定!D183=\"\",\"\",部門別目標設定!D183)","v":""},{"$f":"IF(部門別目標設定!E183=\"\",\"\",部門別目標設定!E183)","v":""},{"$f":"IF(部門別目標設定!F183=\"\",\"\",部門別目標設定!F183)","v":""},{"$f":"IF(部門別目標設定!G183=\"\",\"\",部門別目標設定!G183)","v":""},{"$f":"IF(部門別目標設定!M183=\"\",\"\",部門別目標設定!M183)","v":""},null,null,null,null,null,{"$f":"部門別目標設定!L183","v":0},"",null,null,null,null,null,{"$f":"IF(OR(部門別目標設定!I183=0,部門別目標設定!I183=\"\"),部門別目標設定!K183,部門別目標設定!I183)","v":""},null,{"$f":"IF(部門別目標設定!T183=\"\",\"\",(部門別目標設定!T183))","v":""}]
[null,{"$f":"部門別目標設定!B184","v":165},{"$f":"IF(部門別目標設定!C184=\"\",\"\",部門別目標設定!C184)","v":""},{"$f":"IF(部門別目標設定!D184=\"\",\"\",部門別目標設定!D184)","v":""},{"$f":"IF(部門別目標設定!E184=\"\",\"\",部門別目標設定!E184)","v":""},{"$f":"IF(部門別目標設定!F184=\"\",\"\",部門別目標設定!F184)","v":""},{"$f":"IF(部門別目標設定!G184=\"\",\"\",部門別目標設定!G184)","v":""},{"$f":"IF(部門別目標設定!M184=\"\",\"\",部門別目標設定!M184)","v":""},null,null,null,null,null,{"$f":"部門別目標設定!L184","v":0},"",null,null,null,null,null,{"$f":"IF(OR(部門別目標設定!I184=0,部門別目標設定!I184=\"\"),部門別目標設定!K184,部門別目標設定!I184)","v":""},null,{"$f":"IF(部門別目標設定!T184=\"\",\"\",(部門別目標設定!T184))","v":""}]
[null,{"$f":"部門別目標設定!B185","v":166},{"$f":"IF(部門別目標設定!C185=\"\",\"\",部門別目標設定!C185)","v":""},{"$f":"IF(部門別目標設定!D185=\"\",\"\",部門別目標設定!D185)","v":""},{"$f":"IF(部門別目標設定!E185=\"\",\"\",部門別目標設定!E185)","v":""},{"$f":"IF(部門別目標設定!F185=\"\",\"\",部門別目標設定!F185)","v":""},{"$f":"IF(部門別目標設定!G185=\"\",\"\",部門別目標設定!G185)","v":""},{"$f":"IF(部門別目標設定!M185=\"\",\"\",部門別目標設定!M185)","v":""},null,null,null,null,null,{"$f":"部門別目標設定!L185","v":0},"",null,null,null,null,null,{"$f":"IF(OR(部門別目標設定!I185=0,部門別目標設定!I185=\"\"),部門別目標設定!K185,部門別目標設定!I185)","v":""},null,{"$f":"IF(部門別目標設定!T185=\"\",\"\",(部門別目標設定!T185))","v":""}]
[null,{"$f":"部門別目標設定!B186","v":167},{"$f":"IF(部門別目標設定!C186=\"\",\"\",部門別目標設定!C186)","v":""},{"$f":"IF(部門別目標設定!D186=\"\",\"\",部門別目標設定!D186)","v":""},{"$f":"IF(部門別目標設定!E186=\"\",\"\",部門別目標設定!E186)","v":""},{"$f":"IF(部門別目標設定!F186=\"\",\"\",部門別目標設定!F186)","v":""},{"$f":"IF(部門別目標設定!G186=\"\",\"\",部門別目標設定!G186)","v":""},{"$f":"IF(部門別目標設定!M186=\"\",\"\",部門別目標設定!M186)","v":""},null,null,null,null,null,{"$f":"部門別目標設定!L186","v":0},"",null,null,null,null,null,{"$f":"IF(OR(部門別目標設定!I186=0,部門別目標設定!I186=\"\"),部門別目標設定!K186,部門別目標設定!I186)","v":""},null,{"$f":"IF(部門別目標設定!T186=\"\",\"\",(部門別目標設定!T186))","v":""}]
[null,{"$f":"部門別目標設定!B187","v":168},{"$f":"IF(部門別目標設定!C187=\"\",\"\",部門別目標設定!C187)","v":""},{"$f":"IF(部門別目標設定!D187=\"\",\"\",部門別目標設定!D187)","v":""},{"$f":"IF(部門別目標設定!E187=\"\",\"\",部門別目標設定!E187)","v":""},{"$f":"IF(部門別目標設定!F187=\"\",\"\",部門別目標設定!F187)","v":""},{"$f":"IF(部門別目標設定!G187=\"\",\"\",部門別目標設定!G187)","v":""},{"$f":"IF(部門別目標設定!M187=\"\",\"\",部門別目標設定!M187)","v":""},null,null,null,null,null,{"$f":"部門別目標設定!L187","v":0},"",null,null,null,null,null,{"$f":"IF(OR(部門別目標設定!I187=0,部門別目標設定!I187=\"\"),部門別目標設定!K187,部門別目標設定!I187)","v":""},null,{"$f":"IF(部門別目標設定!T187=\"\",\"\",(部門別目標設定!T187))","v":""}]
[null,{"$f":"部門別目標設定!B188","v":169},{"$f":"IF(部門別目標設定!C188=\"\",\"\",部門別目標設定!C188)","v":""},{"$f":"IF(部門別目標設定!D188=\"\",\"\",部門別目標設定!D188)","v":""},{"$f":"IF(部門別目標設定!E188=\"\",\"\",部門別目標設定!E188)","v":""},{"$f":"IF(部門別目標設定!F188=\"\",\"\",部門別目標設定!F188)","v":""},{"$f":"IF(部門別目標設定!G188=\"\",\"\",部門別目標設定!G188)","v":""},{"$f":"IF(部門別目標設定!M188=\"\",\"\",部門別目標設定!M188)","v":""},null,null,null,null,null,{"$f":"部門別目標設定!L188","v":0},"",null,null,null,null,null,{"$f":"IF(OR(部門別目標設定!I188=0,部門別目標設定!I188=\"\"),部門別目標設定!K188,部門別目標設定!I188)","v":""},null,{"$f":"IF(部門別目標設定!T188=\"\",\"\",(部門別目標設定!T188))","v":""}]
[null,{"$f":"部門別目標設定!B189","v":170},{"$f":"IF(部門別目標設定!C189=\"\",\"\",部門別目標設定!C189)","v":""},{"$f":"IF(部門別目標設定!D189=\"\",\"\",部門別目標設定!D189)","v":""},{"$f":"IF(部門別目標設定!E189=\"\",\"\",部門別目標設定!E189)","v":""},{"$f":"IF(部門別目標設定!F189=\"\",\"\",部門別目標設定!F189)","v":""},{"$f":"IF(部門別目標設定!G189=\"\",\"\",部門別目標設定!G189)","v":""},{"$f":"IF(部門別目標設定!M189=\"\",\"\",部門別目標設定!M189)","v":""},null,null,null,null,null,{"$f":"部門別目標設定!L189","v":0},"",null,null,null,null,null,{"$f":"IF(OR(部門別目標設定!I189=0,部門別目標設定!I189=\"\"),部門別目標設定!K189,部門別目標設定!I189)","v":""},null,{"$f":"IF(部門別目標設定!T189=\"\",\"\",(部門別目標設定!T189))","v":""}]
[null,{"$f":"部門別目標設定!B190","v":171},{"$f":"IF(部門別目標設定!C190=\"\",\"\",部門別目標設定!C190)","v":""},{"$f":"IF(部門別目標設定!D190=\"\",\"\",部門別目標設定!D190)","v":""},{"$f":"IF(部門別目標設定!E190=\"\",\"\",部門別目標設定!E190)","v":""},{"$f":"IF(部門別目標設定!F190=\"\",\"\",部門別目標設定!F190)","v":""},{"$f":"IF(部門別目標設定!G190=\"\",\"\",部門別目標設定!G190)","v":""},{"$f":"IF(部門別目標設定!M190=\"\",\"\",部門別目標設定!M190)","v":""},null,null,null,null,null,{"$f":"部門別目標設定!L190","v":0},"",null,null,null,null,null,{"$f":"IF(OR(部門別目標設定!I190=0,部門別目標設定!I190=\"\"),部門別目標設定!K190,部門別目標設定!I190)","v":""},null,{"$f":"IF(部門別目標設定!T190=\"\",\"\",(部門別目標設定!T190))","v":""}]
[null,{"$f":"部門別目標設定!B191","v":172},{"$f":"IF(部門別目標設定!C191=\"\",\"\",部門別目標設定!C191)","v":""},{"$f":"IF(部門別目標設定!D191=\"\",\"\",部門別目標設定!D191)","v":""},{"$f":"IF(部門別目標設定!E191=\"\",\"\",部門別目標設定!E191)","v":""},{"$f":"IF(部門別目標設定!F191=\"\",\"\",部門別目標設定!F191)","v":""},{"$f":"IF(部門別目標設定!G191=\"\",\"\",部門別目標設定!G191)","v":""},{"$f":"IF(部門別目標設定!M191=\"\",\"\",部門別目標設定!M191)","v":""},null,null,null,null,null,{"$f":"部門別目標設定!L191","v":0},"",null,null,null,null,null,{"$f":"IF(OR(部門別目標設定!I191=0,部門別目標設定!I191=\"\"),部門別目標設定!K191,部門別目標設定!I191)","v":""},null,{"$f":"IF(部門別目標設定!T191=\"\",\"\",(部門別目標設定!T191))","v":""}]
[null,{"$f":"部門別目標設定!B192","v":173},{"$f":"IF(部門別目標設定!C192=\"\",\"\",部門別目標設定!C192)","v":""},{"$f":"IF(部門別目標設定!D192=\"\",\"\",部門別目標設定!D192)","v":""},{"$f":"IF(部門別目標設定!E192=\"\",\"\",部門別目標設定!E192)","v":""},{"$f":"IF(部門別目標設定!F192=\"\",\"\",部門別目標設定!F192)","v":""},{"$f":"IF(部門別目標設定!G192=\"\",\"\",部門別目標設定!G192)","v":""},{"$f":"IF(部門別目標設定!M192=\"\",\"\",部門別目標設定!M192)","v":""},null,null,null,null,null,{"$f":"部門別目標設定!L192","v":0},"",null,null,null,null,null,{"$f":"IF(OR(部門別目標設定!I192=0,部門別目標設定!I192=\"\"),部門別目標設定!K192,部門別目標設定!I192)","v":""},null,{"$f":"IF(部門別目標設定!T192=\"\",\"\",(部門別目標設定!T192))","v":""}]
[null,{"$f":"部門別目標設定!B193","v":174},{"$f":"IF(部門別目標設定!C193=\"\",\"\",部門別目標設定!C193)","v":""},{"$f":"IF(部門別目標設定!D193=\"\",\"\",部門別目標設定!D193)","v":""},{"$f":"IF(部門別目標設定!E193=\"\",\"\",部門別目標設定!E193)","v":""},{"$f":"IF(部門別目標設定!F193=\"\",\"\",部門別目標設定!F193)","v":""},{"$f":"IF(部門別目標設定!G193=\"\",\"\",部門別目標設定!G193)","v":""},{"$f":"IF(部門別目標設定!M193=\"\",\"\",部門別目標設定!M193)","v":""},null,null,null,null,null,{"$f":"部門別目標設定!L193","v":0},"",null,null,null,null,null,{"$f":"IF(OR(部門別目標設定!I193=0,部門別目標設定!I193=\"\"),部門別目標設定!K193,部門別目標設定!I193)","v":""},null,{"$f":"IF(部門別目標設定!T193=\"\",\"\",(部門別目標設定!T193))","v":""}]
[null,{"$f":"部門別目標設定!B194","v":175},{"$f":"IF(部門別目標設定!C194=\"\",\"\",部門別目標設定!C194)","v":""},{"$f":"IF(部門別目標設定!D194=\"\",\"\",部門別目標設定!D194)","v":""},{"$f":"IF(部門別目標設定!E194=\"\",\"\",部門別目標設定!E194)","v":""},{"$f":"IF(部門別目標設定!F194=\"\",\"\",部門別目標設定!F194)","v":""},{"$f":"IF(部門別目標設定!G194=\"\",\"\",部門別目標設定!G194)","v":""},{"$f":"IF(部門別目標設定!M194=\"\",\"\",部門別目標設定!M194)","v":""},null,null,null,null,null,{"$f":"部門別目標設定!L194","v":0},"",null,null,null,null,null,{"$f":"IF(OR(部門別目標設定!I194=0,部門別目標設定!I194=\"\"),部門別目標設定!K194,部門別目標設定!I194)","v":""},null,{"$f":"IF(部門別目標設定!T194=\"\",\"\",(部門別目標設定!T194))","v":""}]
[null,{"$f":"部門別目標設定!B195","v":176},{"$f":"IF(部門別目標設定!C195=\"\",\"\",部門別目標設定!C195)","v":""},{"$f":"IF(部門別目標設定!D195=\"\",\"\",部門別目標設定!D195)","v":""},{"$f":"IF(部門別目標設定!E195=\"\",\"\",部門別目標設定!E195)","v":""},{"$f":"IF(部門別目標設定!F195=\"\",\"\",部門別目標設定!F195)","v":""},{"$f":"IF(部門別目標設定!G195=\"\",\"\",部門別目標設定!G195)","v":""},{"$f":"IF(部門別目標設定!M195=\"\",\"\",部門別目標設定!M195)","v":""},null,null,null,null,null,{"$f":"部門別目標設定!L195","v":0},"",null,null,null,null,null,{"$f":"IF(OR(部門別目標設定!I195=0,部門別目標設定!I195=\"\"),部門別目標設定!K195,部門別目標設定!I195)","v":""},null,{"$f":"IF(部門別目標設定!T195=\"\",\"\",(部門別目標設定!T195))","v":""}]
[null,{"$f":"部門別目標設定!B196","v":177},{"$f":"IF(部門別目標設定!C196=\"\",\"\",部門別目標設定!C196)","v":""},{"$f":"IF(部門別目標設定!D196=\"\",\"\",部門別目標設定!D196)","v":""},{"$f":"IF(部門別目標設定!E196=\"\",\"\",部門別目標設定!E196)","v":""},{"$f":"IF(部門別目標設定!F196=\"\",\"\",部門別目標設定!F196)","v":""},{"$f":"IF(部門別目標設定!G196=\"\",\"\",部門別目標設定!G196)","v":""},{"$f":"IF(部門別目標設定!M196=\"\",\"\",部門別目標設定!M196)","v":""},null,null,null,null,null,{"$f":"部門別目標設定!L196","v":0},"",null,null,null,null,null,{"$f":"IF(OR(部門別目標設定!I196=0,部門別目標設定!I196=\"\"),部門別目標設定!K196,部門別目標設定!I196)","v":""},null,{"$f":"IF(部門別目標設定!T196=\"\",\"\",(部門別目標設定!T196))","v":""}]
[null,{"$f":"部門別目標設定!B197","v":178},{"$f":"IF(部門別目標設定!C197=\"\",\"\",部門別目標設定!C197)","v":""},{"$f":"IF(部門別目標設定!D197=\"\",\"\",部門別目標設定!D197)","v":""},{"$f":"IF(部門別目標設定!E197=\"\",\"\",部門別目標設定!E197)","v":""},{"$f":"IF(部門別目標設定!F197=\"\",\"\",部門別目標設定!F197)","v":""},{"$f":"IF(部門別目標設定!G197=\"\",\"\",部門別目標設定!G197)","v":""},{"$f":"IF(部門別目標設定!M197=\"\",\"\",部門別目標設定!M197)","v":""},null,null,null,null,null,{"$f":"部門別目標設定!L197","v":0},"",null,null,null,null,null,{"$f":"IF(OR(部門別目標設定!I197=0,部門別目標設定!I197=\"\"),部門別目標設定!K197,部門別目標設定!I197)","v":""},null,{"$f":"IF(部門別目標設定!T197=\"\",\"\",(部門別目標設定!T197))","v":""}]
[null,{"$f":"部門別目標設定!B198","v":179},{"$f":"IF(部門別目標設定!C198=\"\",\"\",部門別目標設定!C198)","v":""},{"$f":"IF(部門別目標設定!D198=\"\",\"\",部門別目標設定!D198)","v":""},{"$f":"IF(部門別目標設定!E198=\"\",\"\",部門別目標設定!E198)","v":""},{"$f":"IF(部門別目標設定!F198=\"\",\"\",部門別目標設定!F198)","v":""},{"$f":"IF(部門別目標設定!G198=\"\",\"\",部門別目標設定!G198)","v":""},{"$f":"IF(部門別目標設定!M198=\"\",\"\",部門別目標設定!M198)","v":""},null,null,null,null,null,{"$f":"部門別目標設定!L198","v":0},"",null,null,null,null,null,{"$f":"IF(OR(部門別目標設定!I198=0,部門別目標設定!I198=\"\"),部門別目標設定!K198,部門別目標設定!I198)","v":""},null,{"$f":"IF(部門別目標設定!T198=\"\",\"\",(部門別目標設定!T198))","v":""}]
[null,{"$f":"部門別目標設定!B199","v":180},{"$f":"IF(部門別目標設定!C199=\"\",\"\",部門別目標設定!C199)","v":""},{"$f":"IF(部門別目標設定!D199=\"\",\"\",部門別目標設定!D199)","v":""},{"$f":"IF(部門別目標設定!E199=\"\",\"\",部門別目標設定!E199)","v":""},{"$f":"IF(部門別目標設定!F199=\"\",\"\",部門別目標設定!F199)","v":""},{"$f":"IF(部門別目標設定!G199=\"\",\"\",部門別目標設定!G199)","v":""},{"$f":"IF(部門別目標設定!M199=\"\",\"\",部門別目標設定!M199)","v":""},null,null,null,null,null,{"$f":"部門別目標設定!L199","v":0},"",null,null,null,null,null,{"$f":"IF(OR(部門別目標設定!I199=0,部門別目標設定!I199=\"\"),部門別目標設定!K199,部門別目標設定!I199)","v":""},null,{"$f":"IF(部門別目標設定!T199=\"\",\"\",(部門別目標設定!T199))","v":""}]
[null,{"$f":"部門別目標設定!B200","v":181},{"$f":"IF(部門別目標設定!C200=\"\",\"\",部門別目標設定!C200)","v":""},{"$f":"IF(部門別目標設定!D200=\"\",\"\",部門別目標設定!D200)","v":""},{"$f":"IF(部門別目標設定!E200=\"\",\"\",部門別目標設定!E200)","v":""},{"$f":"IF(部門別目標設定!F200=\"\",\"\",部門別目標設定!F200)","v":""},{"$f":"IF(部門別目標設定!G200=\"\",\"\",部門別目標設定!G200)","v":""},{"$f":"IF(部門別目標設定!M200=\"\",\"\",部門別目標設定!M200)","v":""},null,null,null,null,null,{"$f":"部門別目標設定!L200","v":0},"",null,null,null,null,null,{"$f":"IF(OR(部門別目標設定!I200=0,部門別目標設定!I200=\"\"),部門別目標設定!K200,部門別目標設定!I200)","v":""},null,{"$f":"IF(部門別目標設定!T200=\"\",\"\",(部門別目標設定!T200))","v":""}]
[null,{"$f":"部門別目標設定!B201","v":182},{"$f":"IF(部門別目標設定!C201=\"\",\"\",部門別目標設定!C201)","v":""},{"$f":"IF(部門別目標設定!D201=\"\",\"\",部門別目標設定!D201)","v":""},{"$f":"IF(部門別目標設定!E201=\"\",\"\",部門別目標設定!E201)","v":""},{"$f":"IF(部門別目標設定!F201=\"\",\"\",部門別目標設定!F201)","v":""},{"$f":"IF(部門別目標設定!G201=\"\",\"\",部門別目標設定!G201)","v":""},{"$f":"IF(部門別目標設定!M201=\"\",\"\",部門別目標設定!M201)","v":""},null,null,null,null,null,{"$f":"部門別目標設定!L201","v":0},"",null,null,null,null,null,{"$f":"IF(OR(部門別目標設定!I201=0,部門別目標設定!I201=\"\"),部門別目標設定!K201,部門別目標設定!I201)","v":""},null,{"$f":"IF(部門別目標設定!T201=\"\",\"\",(部門別目標設定!T201))","v":""}]
[null,{"$f":"部門別目標設定!B202","v":183},{"$f":"IF(部門別目標設定!C202=\"\",\"\",部門別目標設定!C202)","v":""},{"$f":"IF(部門別目標設定!D202=\"\",\"\",部門別目標設定!D202)","v":""},{"$f":"IF(部門別目標設定!E202=\"\",\"\",部門別目標設定!E202)","v":""},{"$f":"IF(部門別目標設定!F202=\"\",\"\",部門別目標設定!F202)","v":""},{"$f":"IF(部門別目標設定!G202=\"\",\"\",部門別目標設定!G202)","v":""},{"$f":"IF(部門別目標設定!M202=\"\",\"\",部門別目標設定!M202)","v":""},null,null,null,null,null,{"$f":"部門別目標設定!L202","v":0},"",null,null,null,null,null,{"$f":"IF(OR(部門別目標設定!I202=0,部門別目標設定!I202=\"\"),部門別目標設定!K202,部門別目標設定!I202)","v":""},null,{"$f":"IF(部門別目標設定!T202=\"\",\"\",(部門別目標設定!T202))","v":""}]
[null,{"$f":"部門別目標設定!B203","v":184},{"$f":"IF(部門別目標設定!C203=\"\",\"\",部門別目標設定!C203)","v":""},{"$f":"IF(部門別目標設定!D203=\"\",\"\",部門別目標設定!D203)","v":""},{"$f":"IF(部門別目標設定!E203=\"\",\"\",部門別目標設定!E203)","v":""},{"$f":"IF(部門別目標設定!F203=\"\",\"\",部門別目標設定!F203)","v":""},{"$f":"IF(部門別目標設定!G203=\"\",\"\",部門別目標設定!G203)","v":""},{"$f":"IF(部門別目標設定!M203=\"\",\"\",部門別目標設定!M203)","v":""},null,null,null,null,null,{"$f":"部門別目標設定!L203","v":0},"",null,null,null,null,null,{"$f":"IF(OR(部門別目標設定!I203=0,部門別目標設定!I203=\"\"),部門別目標設定!K203,部門別目標設定!I203)","v":""},null,{"$f":"IF(部門別目標設定!T203=\"\",\"\",(部門別目標設定!T203))","v":""}]
[null,{"$f":"部門別目標設定!B204","v":185},{"$f":"IF(部門別目標設定!C204=\"\",\"\",部門別目標設定!C204)","v":""},{"$f":"IF(部門別目標設定!D204=\"\",\"\",部門別目標設定!D204)","v":""},{"$f":"IF(部門別目標設定!E204=\"\",\"\",部門別目標設定!E204)","v":""},{"$f":"IF(部門別目標設定!F204=\"\",\"\",部門別目標設定!F204)","v":""},{"$f":"IF(部門別目標設定!G204=\"\",\"\",部門別目標設定!G204)","v":""},{"$f":"IF(部門別目標設定!M204=\"\",\"\",部門別目標設定!M204)","v":""},null,null,null,null,null,{"$f":"部門別目標設定!L204","v":0},"",null,null,null,null,null,{"$f":"IF(OR(部門別目標設定!I204=0,部門別目標設定!I204=\"\"),部門別目標設定!K204,部門別目標設定!I204)","v":""},null,{"$f":"IF(部門別目標設定!T204=\"\",\"\",(部門別目標設定!T204))","v":""}]
[null,{"$f":"部門別目標設定!B205","v":186},{"$f":"IF(部門別目標設定!C205=\"\",\"\",部門別目標設定!C205)","v":""},{"$f":"IF(部門別目標設定!D205=\"\",\"\",部門別目標設定!D205)","v":""},{"$f":"IF(部門別目標設定!E205=\"\",\"\",部門別目標設定!E205)","v":""},{"$f":"IF(部門別目標設定!F205=\"\",\"\",部門別目標設定!F205)","v":""},{"$f":"IF(部門別目標設定!G205=\"\",\"\",部門別目標設定!G205)","v":""},{"$f":"IF(部門別目標設定!M205=\"\",\"\",部門別目標設定!M205)","v":""},null,null,null,null,null,{"$f":"部門別目標設定!L205","v":0},"",null,null,null,null,null,{"$f":"IF(OR(部門別目標設定!I205=0,部門別目標設定!I205=\"\"),部門別目標設定!K205,部門別目標設定!I205)","v":""},null,{"$f":"IF(部門別目標設定!T205=\"\",\"\",(部門別目標設定!T205))","v":""}]
[null,{"$f":"部門別目標設定!B206","v":187},{"$f":"IF(部門別目標設定!C206=\"\",\"\",部門別目標設定!C206)","v":""},{"$f":"IF(部門別目標設定!D206=\"\",\"\",部門別目標設定!D206)","v":""},{"$f":"IF(部門別目標設定!E206=\"\",\"\",部門別目標設定!E206)","v":""},{"$f":"IF(部門別目標設定!F206=\"\",\"\",部門別目標設定!F206)","v":""},{"$f":"IF(部門別目標設定!G206=\"\",\"\",部門別目標設定!G206)","v":""},{"$f":"IF(部門別目標設定!M206=\"\",\"\",部門別目標設定!M206)","v":""},null,null,null,null,null,{"$f":"部門別目標設定!L206","v":0},"",null,null,null,null,null,{"$f":"IF(OR(部門別目標設定!I206=0,部門別目標設定!I206=\"\"),部門別目標設定!K206,部門別目標設定!I206)","v":""},null,{"$f":"IF(部門別目標設定!T206=\"\",\"\",(部門別目標設定!T206))","v":""}]
[null,{"$f":"部門別目標設定!B207","v":188},{"$f":"IF(部門別目標設定!C207=\"\",\"\",部門別目標設定!C207)","v":""},{"$f":"IF(部門別目標設定!D207=\"\",\"\",部門別目標設定!D207)","v":""},{"$f":"IF(部門別目標設定!E207=\"\",\"\",部門別目標設定!E207)","v":""},{"$f":"IF(部門別目標設定!F207=\"\",\"\",部門別目標設定!F207)","v":""},{"$f":"IF(部門別目標設定!G207=\"\",\"\",部門別目標設定!G207)","v":""},{"$f":"IF(部門別目標設定!M207=\"\",\"\",部門別目標設定!M207)","v":""},null,null,null,null,null,{"$f":"部門別目標設定!L207","v":0},"",null,null,null,null,null,{"$f":"IF(OR(部門別目標設定!I207=0,部門別目標設定!I207=\"\"),部門別目標設定!K207,部門別目標設定!I207)","v":""},null,{"$f":"IF(部門別目標設定!T207=\"\",\"\",(部門別目標設定!T207))","v":""}]
[null,{"$f":"部門別目標設定!B208","v":189},{"$f":"IF(部門別目標設定!C208=\"\",\"\",部門別目標設定!C208)","v":""},{"$f":"IF(部門別目標設定!D208=\"\",\"\",部門別目標設定!D208)","v":""},{"$f":"IF(部門別目標設定!E208=\"\",\"\",部門別目標設定!E208)","v":""},{"$f":"IF(部門別目標設定!F208=\"\",\"\",部門別目標設定!F208)","v":""},{"$f":"IF(部門別目標設定!G208=\"\",\"\",部門別目標設定!G208)","v":""},{"$f":"IF(部門別目標設定!M208=\"\",\"\",部門別目標設定!M208)","v":""},null,null,null,null,null,{"$f":"部門別目標設定!L208","v":0},"",null,null,null,null,null,{"$f":"IF(OR(部門別目標設定!I208=0,部門別目標設定!I208=\"\"),部門別目標設定!K208,部門別目標設定!I208)","v":""},null,{"$f":"IF(部門別目標設定!T208=\"\",\"\",(部門別目標設定!T208))","v":""}]
[null,{"$f":"部門別目標設定!B209","v":190},{"$f":"IF(部門別目標設定!C209=\"\",\"\",部門別目標設定!C209)","v":""},{"$f":"IF(部門別目標設定!D209=\"\",\"\",部門別目標設定!D209)","v":""},{"$f":"IF(部門別目標設定!E209=\"\",\"\",部門別目標設定!E209)","v":""},{"$f":"IF(部門別目標設定!F209=\"\",\"\",部門別目標設定!F209)","v":""},{"$f":"IF(部門別目標設定!G209=\"\",\"\",部門別目標設定!G209)","v":""},{"$f":"IF(部門別目標設定!M209=\"\",\"\",部門別目標設定!M209)","v":""},null,null,null,null,null,{"$f":"部門別目標設定!L209","v":0},"",null,null,null,null,null,{"$f":"IF(OR(部門別目標設定!I209=0,部門別目標設定!I209=\"\"),部門別目標設定!K209,部門別目標設定!I209)","v":""},null,{"$f":"IF(部門別目標設定!T209=\"\",\"\",(部門別目標設定!T209))","v":""}]
[null,{"$f":"部門別目標設定!B210","v":191},{"$f":"IF(部門別目標設定!C210=\"\",\"\",部門別目標設定!C210)","v":""},{"$f":"IF(部門別目標設定!D210=\"\",\"\",部門別目標設定!D210)","v":""},{"$f":"IF(部門別目標設定!E210=\"\",\"\",部門別目標設定!E210)","v":""},{"$f":"IF(部門別目標設定!F210=\"\",\"\",部門別目標設定!F210)","v":""},{"$f":"IF(部門別目標設定!G210=\"\",\"\",部門別目標設定!G210)","v":""},{"$f":"IF(部門別目標設定!M210=\"\",\"\",部門別目標設定!M210)","v":""},null,null,null,null,null,{"$f":"部門別目標設定!L210","v":0},"",null,null,null,null,null,{"$f":"IF(OR(部門別目標設定!I210=0,部門別目標設定!I210=\"\"),部門別目標設定!K210,部門別目標設定!I210)","v":""},null,{"$f":"IF(部門別目標設定!T210=\"\",\"\",(部門別目標設定!T210))","v":""}]
[null,{"$f":"部門別目標設定!B211","v":192},{"$f":"IF(部門別目標設定!C211=\"\",\"\",部門別目標設定!C211)","v":""},{"$f":"IF(部門別目標設定!D211=\"\",\"\",部門別目標設定!D211)","v":""},{"$f":"IF(部門別目標設定!E211=\"\",\"\",部門別目標設定!E211)","v":""},{"$f":"IF(部門別目標設定!F211=\"\",\"\",部門別目標設定!F211)","v":""},{"$f":"IF(部門別目標設定!G211=\"\",\"\",部門別目標設定!G211)","v":""},{"$f":"IF(部門別目標設定!M211=\"\",\"\",部門別目標設定!M211)","v":""},null,null,null,null,null,{"$f":"部門別目標設定!L211","v":0},"",null,null,null,null,null,{"$f":"IF(OR(部門別目標設定!I211=0,部門別目標設定!I211=\"\"),部門別目標設定!K211,部門別目標設定!I211)","v":""},null,{"$f":"IF(部門別目標設定!T211=\"\",\"\",(部門別目標設定!T211))","v":""}]
[null,{"$f":"部門別目標設定!B212","v":193},{"$f":"IF(部門別目標設定!C212=\"\",\"\",部門別目標設定!C212)","v":""},{"$f":"IF(部門別目標設定!D212=\"\",\"\",部門別目標設定!D212)","v":""},{"$f":"IF(部門別目標設定!E212=\"\",\"\",部門別目標設定!E212)","v":""},{"$f":"IF(部門別目標設定!F212=\"\",\"\",部門別目標設定!F212)","v":""},{"$f":"IF(部門別目標設定!G212=\"\",\"\",部門別目標設定!G212)","v":""},{"$f":"IF(部門別目標設定!M212=\"\",\"\",部門別目標設定!M212)","v":""},null,null,null,null,null,{"$f":"部門別目標設定!L212","v":0},"",null,null,null,null,null,{"$f":"IF(OR(部門別目標設定!I212=0,部門別目標設定!I212=\"\"),部門別目標設定!K212,部門別目標設定!I212)","v":""},null,{"$f":"IF(部門別目標設定!T212=\"\",\"\",(部門別目標設定!T212))","v":""}]
[null,{"$f":"部門別目標設定!B213","v":194},{"$f":"IF(部門別目標設定!C213=\"\",\"\",部門別目標設定!C213)","v":""},{"$f":"IF(部門別目標設定!D213=\"\",\"\",部門別目標設定!D213)","v":""},{"$f":"IF(部門別目標設定!E213=\"\",\"\",部門別目標設定!E213)","v":""},{"$f":"IF(部門別目標設定!F213=\"\",\"\",部門別目標設定!F213)","v":""},{"$f":"IF(部門別目標設定!G213=\"\",\"\",部門別目標設定!G213)","v":""},{"$f":"IF(部門別目標設定!M213=\"\",\"\",部門別目標設定!M213)","v":""},null,null,null,null,null,{"$f":"部門別目標設定!L213","v":0},{"$f":"IF(OR(I208=\"\",N208=\"\"),\"\",IF(ISERROR(INDEX(I208:M208,MATCH(MAX(I208:M208)+1,I208:M208,1))/N208),\"\",INDEX(I208:M208,MATCH(MAX(I208:M208)+1,I208:M208,1))/N208))","v":""},null,null,null,null,null,{"$f":"IF(OR(部門別目標設定!I213=0,部門別目標設定!I213=\"\"),部門別目標設定!K213,部門別目標設定!I213)","v":""},null,{"$f":"IF(部門別目標設定!T213=\"\",\"\",(部門別目標設定!T213))","v":""}]
[null,{"$f":"部門別目標設定!B214","v":195},{"$f":"IF(部門別目標設定!C214=\"\",\"\",部門別目標設定!C214)","v":""},{"$f":"IF(部門別目標設定!D214=\"\",\"\",部門別目標設定!D214)","v":""},{"$f":"IF(部門別目標設定!E214=\"\",\"\",部門別目標設定!E214)","v":""},{"$f":"IF(部門別目標設定!F214=\"\",\"\",部門別目標設定!F214)","v":""},{"$f":"IF(部門別目標設定!G214=\"\",\"\",部門別目標設定!G214)","v":""},{"$f":"IF(部門別目標設定!M214=\"\",\"\",部門別目標設定!M214)","v":""},null,null,null,null,null,{"$f":"部門別目標設定!L214","v":0},"",null,null,null,null,null,{"$f":"IF(OR(部門別目標設定!I214=0,部門別目標設定!I214=\"\"),部門別目標設定!K214,部門別目標設定!I214)","v":""},null,{"$f":"IF(部門別目標設定!T214=\"\",\"\",(部門別目標設定!T214))","v":""}]
[null,{"$f":"部門別目標設定!B215","v":196},{"$f":"IF(部門別目標設定!C215=\"\",\"\",部門別目標設定!C215)","v":""},{"$f":"IF(部門別目標設定!D215=\"\",\"\",部門別目標設定!D215)","v":""},{"$f":"IF(部門別目標設定!E215=\"\",\"\",部門別目標設定!E215)","v":""},{"$f":"IF(部門別目標設定!F215=\"\",\"\",部門別目標設定!F215)","v":""},{"$f":"IF(部門別目標設定!G215=\"\",\"\",部門別目標設定!G215)","v":""},{"$f":"IF(部門別目標設定!M215=\"\",\"\",部門別目標設定!M215)","v":""},null,null,null,null,null,{"$f":"部門別目標設定!L215","v":0},"",null,null,null,null,null,{"$f":"IF(OR(部門別目標設定!I215=0,部門別目標設定!I215=\"\"),部門別目標設定!K215,部門別目標設定!I215)","v":""},null,{"$f":"IF(部門別目標設定!T215=\"\",\"\",(部門別目標設定!T215))","v":""}]
[null,{"$f":"部門別目標設定!B216","v":197},{"$f":"IF(部門別目標設定!C216=\"\",\"\",部門別目標設定!C216)","v":""},{"$f":"IF(部門別目標設定!D216=\"\",\"\",部門別目標設定!D216)","v":""},{"$f":"IF(部門別目標設定!E216=\"\",\"\",部門別目標設定!E216)","v":""},{"$f":"IF(部門別目標設定!F216=\"\",\"\",部門別目標設定!F216)","v":""},{"$f":"IF(部門別目標設定!G216=\"\",\"\",部門別目標設定!G216)","v":""},{"$f":"IF(部門別目標設定!M216=\"\",\"\",部門別目標設定!M216)","v":""},null,null,null,null,null,{"$f":"部門別目標設定!L216","v":0},"",null,null,null,null,null,{"$f":"IF(OR(部門別目標設定!I216=0,部門別目標設定!I216=\"\"),部門別目標設定!K216,部門別目標設定!I216)","v":""},null,{"$f":"IF(部門別目標設定!T216=\"\",\"\",(部門別目標設定!T216))","v":""}]
[null,{"$f":"部門別目標設定!B217","v":198},{"$f":"IF(部門別目標設定!C217=\"\",\"\",部門別目標設定!C217)","v":""},{"$f":"IF(部門別目標設定!D217=\"\",\"\",部門別目標設定!D217)","v":""},{"$f":"IF(部門別目標設定!E217=\"\",\"\",部門別目標設定!E217)","v":""},{"$f":"IF(部門別目標設定!F217=\"\",\"\",部門別目標設定!F217)","v":""},{"$f":"IF(部門別目標設定!G217=\"\",\"\",部門別目標設定!G217)","v":""},{"$f":"IF(部門別目標設定!M217=\"\",\"\",部門別目標設定!M217)","v":""},null,null,null,null,null,{"$f":"部門別目標設定!L217","v":0},"",null,null,null,null,null,{"$f":"IF(OR(部門別目標設定!I217=0,部門別目標設定!I217=\"\"),部門別目標設定!K217,部門別目標設定!I217)","v":""},null,{"$f":"IF(部門別目標設定!T217=\"\",\"\",(部門別目標設定!T217))","v":""}]
[null,{"$f":"部門別目標設定!B218","v":199},{"$f":"IF(部門別目標設定!C218=\"\",\"\",部門別目標設定!C218)","v":""},{"$f":"IF(部門別目標設定!D218=\"\",\"\",部門別目標設定!D218)","v":""},{"$f":"IF(部門別目標設定!E218=\"\",\"\",部門別目標設定!E218)","v":""},{"$f":"IF(部門別目標設定!F218=\"\",\"\",部門別目標設定!F218)","v":""},{"$f":"IF(部門別目標設定!G218=\"\",\"\",部門別目標設定!G218)","v":""},{"$f":"IF(部門別目標設定!M218=\"\",\"\",部門別目標設定!M218)","v":""},null,null,null,null,null,{"$f":"部門別目標設定!L218","v":0},"",null,null,null,null,null,{"$f":"IF(OR(部門別目標設定!I218=0,部門別目標設定!I218=\"\"),部門別目標設定!K218,部門別目標設定!I218)","v":""},null,{"$f":"IF(部門別目標設定!T218=\"\",\"\",(部門別目標設定!T218))","v":""}]
[null,{"$f":"部門別目標設定!B219","v":200},{"$f":"IF(部門別目標設定!C219=\"\",\"\",部門別目標設定!C219)","v":""},{"$f":"IF(部門別目標設定!D219=\"\",\"\",部門別目標設定!D219)","v":""},{"$f":"IF(部門別目標設定!E219=\"\",\"\",部門別目標設定!E219)","v":""},{"$f":"IF(部門別目標設定!F219=\"\",\"\",部門別目標設定!F219)","v":""},{"$f":"IF(部門別目標設定!G219=\"\",\"\",部門別目標設定!G219)","v":""},{"$f":"IF(部門別目標設定!M219=\"\",\"\",部門別目標設定!M219)","v":""},null,null,null,null,null,{"$f":"部門別目標設定!L219","v":0},"",null,null,null,null,null,{"$f":"IF(OR(部門別目標設定!I219=0,部門別目標設定!I219=\"\"),部門別目標設定!K219,部門別目標設定!I219)","v":""},null,{"$f":"IF(部門別目標設定!T219=\"\",\"\",(部門別目標設定!T219))","v":""}]
[null,{"$f":"部門別目標設定!B220","v":201},{"$f":"IF(部門別目標設定!C220=\"\",\"\",部門別目標設定!C220)","v":""},{"$f":"IF(部門別目標設定!D220=\"\",\"\",部門別目標設定!D220)","v":""},{"$f":"IF(部門別目標設定!E220=\"\",\"\",部門別目標設定!E220)","v":""},{"$f":"IF(部門別目標設定!F220=\"\",\"\",部門別目標設定!F220)","v":""},{"$f":"IF(部門別目標設定!G220=\"\",\"\",部門別目標設定!G220)","v":""},{"$f":"IF(部門別目標設定!M220=\"\",\"\",部門別目標設定!M220)","v":""},null,null,null,null,null,{"$f":"部門別目標設定!L220","v":0},"",null,null,null,null,null,{"$f":"IF(OR(部門別目標設定!I220=0,部門別目標設定!I220=\"\"),部門別目標設定!K220,部門別目標設定!I220)","v":""},null,{"$f":"IF(部門別目標設定!T220=\"\",\"\",(部門別目標設定!T220))","v":""}]
[null,{"$f":"部門別目標設定!B221","v":202},{"$f":"IF(部門別目標設定!C221=\"\",\"\",部門別目標設定!C221)","v":""},{"$f":"IF(部門別目標設定!D221=\"\",\"\",部門別目標設定!D221)","v":""},{"$f":"IF(部門別目標設定!E221=\"\",\"\",部門別目標設定!E221)","v":""},{"$f":"IF(部門別目標設定!F221=\"\",\"\",部門別目標設定!F221)","v":""},{"$f":"IF(部門別目標設定!G221=\"\",\"\",部門別目標設定!G221)","v":""},{"$f":"IF(部門別目標設定!M221=\"\",\"\",部門別目標設定!M221)","v":""},null,null,null,null,null,{"$f":"部門別目標設定!L221","v":0},"",null,null,null,null,null,{"$f":"IF(OR(部門別目標設定!I221=0,部門別目標設定!I221=\"\"),部門別目標設定!K221,部門別目標設定!I221)","v":""},null,{"$f":"IF(部門別目標設定!T221=\"\",\"\",(部門別目標設定!T221))","v":""}]
[null,{"$f":"部門別目標設定!B222","v":203},{"$f":"IF(部門別目標設定!C222=\"\",\"\",部門別目標設定!C222)","v":""},{"$f":"IF(部門別目標設定!D222=\"\",\"\",部門別目標設定!D222)","v":""},{"$f":"IF(部門別目標設定!E222=\"\",\"\",部門別目標設定!E222)","v":""},{"$f":"IF(部門別目標設定!F222=\"\",\"\",部門別目標設定!F222)","v":""},{"$f":"IF(部門別目標設定!G222=\"\",\"\",部門別目標設定!G222)","v":""},{"$f":"IF(部門別目標設定!M222=\"\",\"\",部門別目標設定!M222)","v":""},null,null,null,null,null,{"$f":"部門別目標設定!L222","v":0},"",null,null,null,null,null,{"$f":"IF(OR(部門別目標設定!I222=0,部門別目標設定!I222=\"\"),部門別目標設定!K222,部門別目標設定!I222)","v":""},null,{"$f":"IF(部門別目標設定!T222=\"\",\"\",(部門別目標設定!T222))","v":""}]
[null,{"$f":"部門別目標設定!B223","v":204},{"$f":"IF(部門別目標設定!C223=\"\",\"\",部門別目標設定!C223)","v":""},{"$f":"IF(部門別目標設定!D223=\"\",\"\",部門別目標設定!D223)","v":""},{"$f":"IF(部門別目標設定!E223=\"\",\"\",部門別目標設定!E223)","v":""},{"$f":"IF(部門別目標設定!F223=\"\",\"\",部門別目標設定!F223)","v":""},{"$f":"IF(部門別目標設定!G223=\"\",\"\",部門別目標設定!G223)","v":""},{"$f":"IF(部門別目標設定!M223=\"\",\"\",部門別目標設定!M223)","v":""},null,null,null,null,null,{"$f":"部門別目標設定!L223","v":0},"",null,null,null,null,null,{"$f":"IF(OR(部門別目標設定!I223=0,部門別目標設定!I223=\"\"),部門別目標設定!K223,部門別目標設定!I223)","v":""},null,{"$f":"IF(部門別目標設定!T223=\"\",\"\",(部門別目標設定!T223))","v":""}]
[null,{"$f":"部門別目標設定!B224","v":205},{"$f":"IF(部門別目標設定!C224=\"\",\"\",部門別目標設定!C224)","v":""},{"$f":"IF(部門別目標設定!D224=\"\",\"\",部門別目標設定!D224)","v":""},{"$f":"IF(部門別目標設定!E224=\"\",\"\",部門別目標設定!E224)","v":""},{"$f":"IF(部門別目標設定!F224=\"\",\"\",部門別目標設定!F224)","v":""},{"$f":"IF(部門別目標設定!G224=\"\",\"\",部門別目標設定!G224)","v":""},{"$f":"IF(部門別目標設定!M224=\"\",\"\",部門別目標設定!M224)","v":""},null,null,null,null,null,{"$f":"部門別目標設定!L224","v":0},"",null,null,null,null,null,{"$f":"IF(OR(部門別目標設定!I224=0,部門別目標設定!I224=\"\"),部門別目標設定!K224,部門別目標設定!I224)","v":""},null,{"$f":"IF(部門別目標設定!T224=\"\",\"\",(部門別目標設定!T224))","v":""}]
[null,{"$f":"部門別目標設定!B225","v":206},{"$f":"IF(部門別目標設定!C225=\"\",\"\",部門別目標設定!C225)","v":""},{"$f":"IF(部門別目標設定!D225=\"\",\"\",部門別目標設定!D225)","v":""},{"$f":"IF(部門別目標設定!E225=\"\",\"\",部門別目標設定!E225)","v":""},{"$f":"IF(部門別目標設定!F225=\"\",\"\",部門別目標設定!F225)","v":""},{"$f":"IF(部門別目標設定!G225=\"\",\"\",部門別目標設定!G225)","v":""},{"$f":"IF(部門別目標設定!M225=\"\",\"\",部門別目標設定!M225)","v":""},null,null,null,null,null,{"$f":"部門別目標設定!L225","v":0},"",null,null,null,null,null,{"$f":"IF(OR(部門別目標設定!I225=0,部門別目標設定!I225=\"\"),部門別目標設定!K225,部門別目標設定!I225)","v":""},null,{"$f":"IF(部門別目標設定!T225=\"\",\"\",(部門別目標設定!T225))","v":""}]
[null,{"$f":"部門別目標設定!B226","v":207},{"$f":"IF(部門別目標設定!C226=\"\",\"\",部門別目標設定!C226)","v":""},{"$f":"IF(部門別目標設定!D226=\"\",\"\",部門別目標設定!D226)","v":""},{"$f":"IF(部門別目標設定!E226=\"\",\"\",部門別目標設定!E226)","v":""},{"$f":"IF(部門別目標設定!F226=\"\",\"\",部門別目標設定!F226)","v":""},{"$f":"IF(部門別目標設定!G226=\"\",\"\",部門別目標設定!G226)","v":""},{"$f":"IF(部門別目標設定!M226=\"\",\"\",部門別目標設定!M226)","v":""},null,null,null,null,null,{"$f":"部門別目標設定!L226","v":0},"",null,null,null,null,null,{"$f":"IF(OR(部門別目標設定!I226=0,部門別目標設定!I226=\"\"),部門別目標設定!K226,部門別目標設定!I226)","v":""},null,{"$f":"IF(部門別目標設定!T226=\"\",\"\",(部門別目標設定!T226))","v":""}]
[null,{"$f":"部門別目標設定!B227","v":208},{"$f":"IF(部門別目標設定!C227=\"\",\"\",部門別目標設定!C227)","v":""},{"$f":"IF(部門別目標設定!D227=\"\",\"\",部門別目標設定!D227)","v":""},{"$f":"IF(部門別目標設定!E227=\"\",\"\",部門別目標設定!E227)","v":""},{"$f":"IF(部門別目標設定!F227=\"\",\"\",部門別目標設定!F227)","v":""},{"$f":"IF(部門別目標設定!G227=\"\",\"\",部門別目標設定!G227)","v":""},{"$f":"IF(部門別目標設定!M227=\"\",\"\",部門別目標設定!M227)","v":""},null,null,null,null,null,{"$f":"部門別目標設定!L227","v":0},"",null,null,null,null,null,{"$f":"IF(OR(部門別目標設定!I227=0,部門別目標設定!I227=\"\"),部門別目標設定!K227,部門別目標設定!I227)","v":""},null,{"$f":"IF(部門別目標設定!T227=\"\",\"\",(部門別目標設定!T227))","v":""}]
[null,{"$f":"部門別目標設定!B228","v":209},{"$f":"IF(部門別目標設定!C228=\"\",\"\",部門別目標設定!C228)","v":""},{"$f":"IF(部門別目標設定!D228=\"\",\"\",部門別目標設定!D228)","v":""},{"$f":"IF(部門別目標設定!E228=\"\",\"\",部門別目標設定!E228)","v":""},{"$f":"IF(部門別目標設定!F228=\"\",\"\",部門別目標設定!F228)","v":""},{"$f":"IF(部門別目標設定!G228=\"\",\"\",部門別目標設定!G228)","v":""},{"$f":"IF(部門別目標設定!M228=\"\",\"\",部門別目標設定!M228)","v":""},null,null,null,null,null,{"$f":"部門別目標設定!L228","v":0},"",null,null,null,null,null,{"$f":"IF(OR(部門別目標設定!I228=0,部門別目標設定!I228=\"\"),部門別目標設定!K228,部門別目標設定!I228)","v":""},null,{"$f":"IF(部門別目標設定!T228=\"\",\"\",(部門別目標設定!T228))","v":""}]
[null,{"$f":"部門別目標設定!B229","v":210},{"$f":"IF(部門別目標設定!C229=\"\",\"\",部門別目標設定!C229)","v":""},{"$f":"IF(部門別目標設定!D229=\"\",\"\",部門別目標設定!D229)","v":""},{"$f":"IF(部門別目標設定!E229=\"\",\"\",部門別目標設定!E229)","v":""},{"$f":"IF(部門別目標設定!F229=\"\",\"\",部門別目標設定!F229)","v":""},{"$f":"IF(部門別目標設定!G229=\"\",\"\",部門別目標設定!G229)","v":""},{"$f":"IF(部門別目標設定!M229=\"\",\"\",部門別目標設定!M229)","v":""},null,null,null,null,null,{"$f":"部門別目標設定!L229","v":0},"",null,null,null,null,null,{"$f":"IF(OR(部門別目標設定!I229=0,部門別目標設定!I229=\"\"),部門別目標設定!K229,部門別目標設定!I229)","v":""},null,{"$f":"IF(部門別目標設定!T229=\"\",\"\",(部門別目標設定!T229))","v":""}]
[null,{"$f":"部門別目標設定!B230","v":211},{"$f":"IF(部門別目標設定!C230=\"\",\"\",部門別目標設定!C230)","v":""},{"$f":"IF(部門別目標設定!D230=\"\",\"\",部門別目標設定!D230)","v":""},{"$f":"IF(部門別目標設定!E230=\"\",\"\",部門別目標設定!E230)","v":""},{"$f":"IF(部門別目標設定!F230=\"\",\"\",部門別目標設定!F230)","v":""},{"$f":"IF(部門別目標設定!G230=\"\",\"\",部門別目標設定!G230)","v":""},{"$f":"IF(部門別目標設定!M230=\"\",\"\",部門別目標設定!M230)","v":""},null,null,null,null,null,{"$f":"部門別目標設定!L230","v":0},"",null,null,null,null,null,{"$f":"IF(OR(部門別目標設定!I230=0,部門別目標設定!I230=\"\"),部門別目標設定!K230,部門別目標設定!I230)","v":""},null,{"$f":"IF(部門別目標設定!T230=\"\",\"\",(部門別目標設定!T230))","v":""}]
[null,{"$f":"部門別目標設定!B231","v":212},{"$f":"IF(部門別目標設定!C231=\"\",\"\",部門別目標設定!C231)","v":""},{"$f":"IF(部門別目標設定!D231=\"\",\"\",部門別目標設定!D231)","v":""},{"$f":"IF(部門別目標設定!E231=\"\",\"\",部門別目標設定!E231)","v":""},{"$f":"IF(部門別目標設定!F231=\"\",\"\",部門別目標設定!F231)","v":""},{"$f":"IF(部門別目標設定!G231=\"\",\"\",部門別目標設定!G231)","v":""},{"$f":"IF(部門別目標設定!M231=\"\",\"\",部門別目標設定!M231)","v":""},null,null,null,null,null,{"$f":"部門別目標設定!L231","v":0},"",null,null,null,null,null,{"$f":"IF(OR(部門別目標設定!I231=0,部門別目標設定!I231=\"\"),部門別目標設定!K231,部門別目標設定!I231)","v":""},null,{"$f":"IF(部門別目標設定!T231=\"\",\"\",(部門別目標設定!T231))","v":""}]
[null,{"$f":"部門別目標設定!B232","v":213},{"$f":"IF(部門別目標設定!C232=\"\",\"\",部門別目標設定!C232)","v":""},{"$f":"IF(部門別目標設定!D232=\"\",\"\",部門別目標設定!D232)","v":""},{"$f":"IF(部門別目標設定!E232=\"\",\"\",部門別目標設定!E232)","v":""},{"$f":"IF(部門別目標設定!F232=\"\",\"\",部門別目標設定!F232)","v":""},{"$f":"IF(部門別目標設定!G232=\"\",\"\",部門別目標設定!G232)","v":""},{"$f":"IF(部門別目標設定!M232=\"\",\"\",部門別目標設定!M232)","v":""},null,null,null,null,null,{"$f":"部門別目標設定!L232","v":0},"",null,null,null,null,null,{"$f":"IF(OR(部門別目標設定!I232=0,部門別目標設定!I232=\"\"),部門別目標設定!K232,部門別目標設定!I232)","v":""},null,{"$f":"IF(部門別目標設定!T232=\"\",\"\",(部門別目標設定!T232))","v":""}]
[null,{"$f":"部門別目標設定!B233","v":214},{"$f":"IF(部門別目標設定!C233=\"\",\"\",部門別目標設定!C233)","v":""},{"$f":"IF(部門別目標設定!D233=\"\",\"\",部門別目標設定!D233)","v":""},{"$f":"IF(部門別目標設定!E233=\"\",\"\",部門別目標設定!E233)","v":""},{"$f":"IF(部門別目標設定!F233=\"\",\"\",部門別目標設定!F233)","v":""},{"$f":"IF(部門別目標設定!G233=\"\",\"\",部門別目標設定!G233)","v":""},{"$f":"IF(部門別目標設定!M233=\"\",\"\",部門別目標設定!M233)","v":""},null,null,null,null,null,{"$f":"部門別目標設定!L233","v":0},"",null,null,null,null,null,{"$f":"IF(OR(部門別目標設定!I233=0,部門別目標設定!I233=\"\"),部門別目標設定!K233,部門別目標設定!I233)","v":""},null,{"$f":"IF(部門別目標設定!T233=\"\",\"\",(部門別目標設定!T233))","v":""}]
[null,{"$f":"部門別目標設定!B234","v":215},{"$f":"IF(部門別目標設定!C234=\"\",\"\",部門別目標設定!C234)","v":""},{"$f":"IF(部門別目標設定!D234=\"\",\"\",部門別目標設定!D234)","v":""},{"$f":"IF(部門別目標設定!E234=\"\",\"\",部門別目標設定!E234)","v":""},{"$f":"IF(部門別目標設定!F234=\"\",\"\",部門別目標設定!F234)","v":""},{"$f":"IF(部門別目標設定!G234=\"\",\"\",部門別目標設定!G234)","v":""},{"$f":"IF(部門別目標設定!M234=\"\",\"\",部門別目標設定!M234)","v":""},null,null,null,null,null,{"$f":"部門別目標設定!L234","v":0},"",null,null,null,null,null,{"$f":"IF(OR(部門別目標設定!I234=0,部門別目標設定!I234=\"\"),部門別目標設定!K234,部門別目標設定!I234)","v":""},null,{"$f":"IF(部門別目標設定!T234=\"\",\"\",(部門別目標設定!T234))","v":""}]
[null,{"$f":"部門別目標設定!B235","v":216},{"$f":"IF(部門別目標設定!C235=\"\",\"\",部門別目標設定!C235)","v":""},{"$f":"IF(部門別目標設定!D235=\"\",\"\",部門別目標設定!D235)","v":""},{"$f":"IF(部門別目標設定!E235=\"\",\"\",部門別目標設定!E235)","v":""},{"$f":"IF(部門別目標設定!F235=\"\",\"\",部門別目標設定!F235)","v":""},{"$f":"IF(部門別目標設定!G235=\"\",\"\",部門別目標設定!G235)","v":""},{"$f":"IF(部門別目標設定!M235=\"\",\"\",部門別目標設定!M235)","v":""},null,null,null,null,null,{"$f":"部門別目標設定!L235","v":0},"",null,null,null,null,null,{"$f":"IF(OR(部門別目標設定!I235=0,部門別目標設定!I235=\"\"),部門別目標設定!K235,部門別目標設定!I235)","v":""},null,{"$f":"IF(部門別目標設定!T235=\"\",\"\",(部門別目標設定!T235))","v":""}]
[null,{"$f":"部門別目標設定!B236","v":217},{"$f":"IF(部門別目標設定!C236=\"\",\"\",部門別目標設定!C236)","v":""},{"$f":"IF(部門別目標設定!D236=\"\",\"\",部門別目標設定!D236)","v":""},{"$f":"IF(部門別目標設定!E236=\"\",\"\",部門別目標設定!E236)","v":""},{"$f":"IF(部門別目標設定!F236=\"\",\"\",部門別目標設定!F236)","v":""},{"$f":"IF(部門別目標設定!G236=\"\",\"\",部門別目標設定!G236)","v":""},{"$f":"IF(部門別目標設定!M236=\"\",\"\",部門別目標設定!M236)","v":""},null,null,null,null,null,{"$f":"部門別目標設定!L236","v":0},"",null,null,null,null,null,{"$f":"IF(OR(部門別目標設定!I236=0,部門別目標設定!I236=\"\"),部門別目標設定!K236,部門別目標設定!I236)","v":""},null,{"$f":"IF(部門別目標設定!T236=\"\",\"\",(部門別目標設定!T236))","v":""}]
[null,{"$f":"部門別目標設定!B237","v":218},{"$f":"IF(部門別目標設定!C237=\"\",\"\",部門別目標設定!C237)","v":""},{"$f":"IF(部門別目標設定!D237=\"\",\"\",部門別目標設定!D237)","v":""},{"$f":"IF(部門別目標設定!E237=\"\",\"\",部門別目標設定!E237)","v":""},{"$f":"IF(部門別目標設定!F237=\"\",\"\",部門別目標設定!F237)","v":""},{"$f":"IF(部門別目標設定!G237=\"\",\"\",部門別目標設定!G237)","v":""},{"$f":"IF(部門別目標設定!M237=\"\",\"\",部門別目標設定!M237)","v":""},null,null,null,null,null,{"$f":"部門別目標設定!L237","v":0},"",null,null,null,null,null,{"$f":"IF(OR(部門別目標設定!I237=0,部門別目標設定!I237=\"\"),部門別目標設定!K237,部門別目標設定!I237)","v":""},null,{"$f":"IF(部門別目標設定!T237=\"\",\"\",(部門別目標設定!T237))","v":""}]
[null,{"$f":"部門別目標設定!B238","v":219},{"$f":"IF(部門別目標設定!C238=\"\",\"\",部門別目標設定!C238)","v":""},{"$f":"IF(部門別目標設定!D238=\"\",\"\",部門別目標設定!D238)","v":""},{"$f":"IF(部門別目標設定!E238=\"\",\"\",部門別目標設定!E238)","v":""},{"$f":"IF(部門別目標設定!F238=\"\",\"\",部門別目標設定!F238)","v":""},{"$f":"IF(部門別目標設定!G238=\"\",\"\",部門別目標設定!G238)","v":""},{"$f":"IF(部門別目標設定!M238=\"\",\"\",部門別目標設定!M238)","v":""},null,null,null,null,null,{"$f":"部門別目標設定!L238","v":0},"",null,null,null,null,null,{"$f":"IF(OR(部門別目標設定!I238=0,部門別目標設定!I238=\"\"),部門別目標設定!K238,部門別目標設定!I238)","v":""},null,{"$f":"IF(部門別目標設定!T238=\"\",\"\",(部門別目標設定!T238))","v":""}]
[null,{"$f":"部門別目標設定!B239","v":220},{"$f":"IF(部門別目標設定!C239=\"\",\"\",部門別目標設定!C239)","v":""},{"$f":"IF(部門別目標設定!D239=\"\",\"\",部門別目標設定!D239)","v":""},{"$f":"IF(部門別目標設定!E239=\"\",\"\",部門別目標設定!E239)","v":""},{"$f":"IF(部門別目標設定!F239=\"\",\"\",部門別目標設定!F239)","v":""},{"$f":"IF(部門別目標設定!G239=\"\",\"\",部門別目標設定!G239)","v":""},{"$f":"IF(部門別目標設定!M239=\"\",\"\",部門別目標設定!M239)","v":""},null,null,null,null,null,{"$f":"部門別目標設定!L239","v":0},"",null,null,null,null,null,{"$f":"IF(OR(部門別目標設定!I239=0,部門別目標設定!I239=\"\"),部門別目標設定!K239,部門別目標設定!I239)","v":""},null,{"$f":"IF(部門別目標設定!T239=\"\",\"\",(部門別目標設定!T239))","v":""}]
[null,{"$f":"部門別目標設定!B240","v":221},{"$f":"IF(部門別目標設定!C240=\"\",\"\",部門別目標設定!C240)","v":""},{"$f":"IF(部門別目標設定!D240=\"\",\"\",部門別目標設定!D240)","v":""},{"$f":"IF(部門別目標設定!E240=\"\",\"\",部門別目標設定!E240)","v":""},{"$f":"IF(部門別目標設定!F240=\"\",\"\",部門別目標設定!F240)","v":""},{"$f":"IF(部門別目標設定!G240=\"\",\"\",部門別目標設定!G240)","v":""},{"$f":"IF(部門別目標設定!M240=\"\",\"\",部門別目標設定!M240)","v":""},null,null,null,null,null,{"$f":"部門別目標設定!L240","v":0},"",null,null,null,null,null,{"$f":"IF(OR(部門別目標設定!I240=0,部門別目標設定!I240=\"\"),部門別目標設定!K240,部門別目標設定!I240)","v":""},null,{"$f":"IF(部門別目標設定!T240=\"\",\"\",(部門別目標設定!T240))","v":""}]
[null,{"$f":"部門別目標設定!B241","v":222},{"$f":"IF(部門別目標設定!C241=\"\",\"\",部門別目標設定!C241)","v":""},{"$f":"IF(部門別目標設定!D241=\"\",\"\",部門別目標設定!D241)","v":""},{"$f":"IF(部門別目標設定!E241=\"\",\"\",部門別目標設定!E241)","v":""},{"$f":"IF(部門別目標設定!F241=\"\",\"\",部門別目標設定!F241)","v":""},{"$f":"IF(部門別目標設定!G241=\"\",\"\",部門別目標設定!G241)","v":""},{"$f":"IF(部門別目標設定!M241=\"\",\"\",部門別目標設定!M241)","v":""},null,null,null,null,null,{"$f":"部門別目標設定!L241","v":0},"",null,null,null,null,null,{"$f":"IF(OR(部門別目標設定!I241=0,部門別目標設定!I241=\"\"),部門別目標設定!K241,部門別目標設定!I241)","v":""},null,{"$f":"IF(部門別目標設定!T241=\"\",\"\",(部門別目標設定!T241))","v":""}]
[null,{"$f":"部門別目標設定!B242","v":223},{"$f":"IF(部門別目標設定!C242=\"\",\"\",部門別目標設定!C242)","v":""},{"$f":"IF(部門別目標設定!D242=\"\",\"\",部門別目標設定!D242)","v":""},{"$f":"IF(部門別目標設定!E242=\"\",\"\",部門別目標設定!E242)","v":""},{"$f":"IF(部門別目標設定!F242=\"\",\"\",部門別目標設定!F242)","v":""},{"$f":"IF(部門別目標設定!G242=\"\",\"\",部門別目標設定!G242)","v":""},{"$f":"IF(部門別目標設定!M242=\"\",\"\",部門別目標設定!M242)","v":""},null,null,null,null,null,{"$f":"部門別目標設定!L242","v":0},"",null,null,null,null,null,{"$f":"IF(OR(部門別目標設定!I242=0,部門別目標設定!I242=\"\"),部門別目標設定!K242,部門別目標設定!I242)","v":""},null,{"$f":"IF(部門別目標設定!T242=\"\",\"\",(部門別目標設定!T242))","v":""}]
[null,{"$f":"部門別目標設定!B243","v":224},{"$f":"IF(部門別目標設定!C243=\"\",\"\",部門別目標設定!C243)","v":""},{"$f":"IF(部門別目標設定!D243=\"\",\"\",部門別目標設定!D243)","v":""},{"$f":"IF(部門別目標設定!E243=\"\",\"\",部門別目標設定!E243)","v":""},{"$f":"IF(部門別目標設定!F243=\"\",\"\",部門別目標設定!F243)","v":""},{"$f":"IF(部門別目標設定!G243=\"\",\"\",部門別目標設定!G243)","v":""},{"$f":"IF(部門別目標設定!M243=\"\",\"\",部門別目標設定!M243)","v":""},null,null,null,null,null,{"$f":"部門別目標設定!L243","v":0},"",null,null,null,null,null,{"$f":"IF(OR(部門別目標設定!I243=0,部門別目標設定!I243=\"\"),部門別目標設定!K243,部門別目標設定!I243)","v":""},null,{"$f":"IF(部門別目標設定!T243=\"\",\"\",(部門別目標設定!T243))","v":""}]
[null,{"$f":"部門別目標設定!B244","v":225},{"$f":"IF(部門別目標設定!C244=\"\",\"\",部門別目標設定!C244)","v":""},{"$f":"IF(部門別目標設定!D244=\"\",\"\",部門別目標設定!D244)","v":""},{"$f":"IF(部門別目標設定!E244=\"\",\"\",部門別目標設定!E244)","v":""},{"$f":"IF(部門別目標設定!F244=\"\",\"\",部門別目標設定!F244)","v":""},{"$f":"IF(部門別目標設定!G244=\"\",\"\",部門別目標設定!G244)","v":""},{"$f":"IF(部門別目標設定!M244=\"\",\"\",部門別目標設定!M244)","v":""},null,null,null,null,null,{"$f":"部門別目標設定!L244","v":0},"",null,null,null,null,null,{"$f":"IF(OR(部門別目標設定!I244=0,部門別目標設定!I244=\"\"),部門別目標設定!K244,部門別目標設定!I244)","v":""},null,{"$f":"IF(部門別目標設定!T244=\"\",\"\",(部門別目標設定!T244))","v":""}]
[null,{"$f":"部門別目標設定!B245","v":226},{"$f":"IF(部門別目標設定!C245=\"\",\"\",部門別目標設定!C245)","v":""},{"$f":"IF(部門別目標設定!D245=\"\",\"\",部門別目標設定!D245)","v":""},{"$f":"IF(部門別目標設定!E245=\"\",\"\",部門別目標設定!E245)","v":""},{"$f":"IF(部門別目標設定!F245=\"\",\"\",部門別目標設定!F245)","v":""},{"$f":"IF(部門別目標設定!G245=\"\",\"\",部門別目標設定!G245)","v":""},{"$f":"IF(部門別目標設定!M245=\"\",\"\",部門別目標設定!M245)","v":""},null,null,null,null,null,{"$f":"部門別目標設定!L245","v":0},"",null,null,null,null,null,{"$f":"IF(OR(部門別目標設定!I245=0,部門別目標設定!I245=\"\"),部門別目標設定!K245,部門別目標設定!I245)","v":""},null,{"$f":"IF(部門別目標設定!T245=\"\",\"\",(部門別目標設定!T245))","v":""}]
[null,{"$f":"部門別目標設定!B246","v":227},{"$f":"IF(部門別目標設定!C246=\"\",\"\",部門別目標設定!C246)","v":""},{"$f":"IF(部門別目標設定!D246=\"\",\"\",部門別目標設定!D246)","v":""},{"$f":"IF(部門別目標設定!E246=\"\",\"\",部門別目標設定!E246)","v":""},{"$f":"IF(部門別目標設定!F246=\"\",\"\",部門別目標設定!F246)","v":""},{"$f":"IF(部門別目標設定!G246=\"\",\"\",部門別目標設定!G246)","v":""},{"$f":"IF(部門別目標設定!M246=\"\",\"\",部門別目標設定!M246)","v":""},null,null,null,null,null,{"$f":"部門別目標設定!L246","v":0},"",null,null,null,null,null,{"$f":"IF(OR(部門別目標設定!I246=0,部門別目標設定!I246=\"\"),部門別目標設定!K246,部門別目標設定!I246)","v":""},null,{"$f":"IF(部門別目標設定!T246=\"\",\"\",(部門別目標設定!T246))","v":""}]
[null,{"$f":"部門別目標設定!B247","v":228},{"$f":"IF(部門別目標設定!C247=\"\",\"\",部門別目標設定!C247)","v":""},{"$f":"IF(部門別目標設定!D247=\"\",\"\",部門別目標設定!D247)","v":""},{"$f":"IF(部門別目標設定!E247=\"\",\"\",部門別目標設定!E247)","v":""},{"$f":"IF(部門別目標設定!F247=\"\",\"\",部門別目標設定!F247)","v":""},{"$f":"IF(部門別目標設定!G247=\"\",\"\",部門別目標設定!G247)","v":""},{"$f":"IF(部門別目標設定!M247=\"\",\"\",部門別目標設定!M247)","v":""},null,null,null,null,null,{"$f":"部門別目標設定!L247","v":0},"",null,null,null,null,null,{"$f":"IF(OR(部門別目標設定!I247=0,部門別目標設定!I247=\"\"),部門別目標設定!K247,部門別目標設定!I247)","v":""},null,{"$f":"IF(部門別目標設定!T247=\"\",\"\",(部門別目標設定!T247))","v":""}]
[null,{"$f":"部門別目標設定!B248","v":229},{"$f":"IF(部門別目標設定!C248=\"\",\"\",部門別目標設定!C248)","v":""},{"$f":"IF(部門別目標設定!D248=\"\",\"\",部門別目標設定!D248)","v":""},{"$f":"IF(部門別目標設定!E248=\"\",\"\",部門別目標設定!E248)","v":""},{"$f":"IF(部門別目標設定!F248=\"\",\"\",部門別目標設定!F248)","v":""},{"$f":"IF(部門別目標設定!G248=\"\",\"\",部門別目標設定!G248)","v":""},{"$f":"IF(部門別目標設定!M248=\"\",\"\",部門別目標設定!M248)","v":""},null,null,null,null,null,{"$f":"部門別目標設定!L248","v":0},"",null,null,null,null,null,{"$f":"IF(OR(部門別目標設定!I248=0,部門別目標設定!I248=\"\"),部門別目標設定!K248,部門別目標設定!I248)","v":""},null,{"$f":"IF(部門別目標設定!T248=\"\",\"\",(部門別目標設定!T248))","v":""}]
[null,{"$f":"部門別目標設定!B249","v":230},{"$f":"IF(部門別目標設定!C249=\"\",\"\",部門別目標設定!C249)","v":""},{"$f":"IF(部門別目標設定!D249=\"\",\"\",部門別目標設定!D249)","v":""},{"$f":"IF(部門別目標設定!E249=\"\",\"\",部門別目標設定!E249)","v":""},{"$f":"IF(部門別目標設定!F249=\"\",\"\",部門別目標設定!F249)","v":""},{"$f":"IF(部門別目標設定!G249=\"\",\"\",部門別目標設定!G249)","v":""},{"$f":"IF(部門別目標設定!M249=\"\",\"\",部門別目標設定!M249)","v":""},null,null,null,null,null,{"$f":"部門別目標設定!L249","v":0},"",null,null,null,null,null,{"$f":"IF(OR(部門別目標設定!I249=0,部門別目標設定!I249=\"\"),部門別目標設定!K249,部門別目標設定!I249)","v":""},null,{"$f":"IF(部門別目標設定!T249=\"\",\"\",(部門別目標設定!T249))","v":""}]
[null,{"$f":"部門別目標設定!B250","v":231},{"$f":"IF(部門別目標設定!C250=\"\",\"\",部門別目標設定!C250)","v":""},{"$f":"IF(部門別目標設定!D250=\"\",\"\",部門別目標設定!D250)","v":""},{"$f":"IF(部門別目標設定!E250=\"\",\"\",部門別目標設定!E250)","v":""},{"$f":"IF(部門別目標設定!F250=\"\",\"\",部門別目標設定!F250)","v":""},{"$f":"IF(部門別目標設定!G250=\"\",\"\",部門別目標設定!G250)","v":""},{"$f":"IF(部門別目標設定!M250=\"\",\"\",部門別目標設定!M250)","v":""},null,null,null,null,null,{"$f":"部門別目標設定!L250","v":0},"",null,null,null,null,null,{"$f":"IF(OR(部門別目標設定!I250=0,部門別目標設定!I250=\"\"),部門別目標設定!K250,部門別目標設定!I250)","v":""},null,{"$f":"IF(部門別目標設定!T250=\"\",\"\",(部門別目標設定!T250))","v":""}]
[null,{"$f":"部門別目標設定!B251","v":232},{"$f":"IF(部門別目標設定!C251=\"\",\"\",部門別目標設定!C251)","v":""},{"$f":"IF(部門別目標設定!D251=\"\",\"\",部門別目標設定!D251)","v":""},{"$f":"IF(部門別目標設定!E251=\"\",\"\",部門別目標設定!E251)","v":""},{"$f":"IF(部門別目標設定!F251=\"\",\"\",部門別目標設定!F251)","v":""},{"$f":"IF(部門別目標設定!G251=\"\",\"\",部門別目標設定!G251)","v":""},{"$f":"IF(部門別目標設定!M251=\"\",\"\",部門別目標設定!M251)","v":""},null,null,null,null,null,{"$f":"部門別目標設定!L251","v":0},"",null,null,null,null,null,{"$f":"IF(OR(部門別目標設定!I251=0,部門別目標設定!I251=\"\"),部門別目標設定!K251,部門別目標設定!I251)","v":""},null,{"$f":"IF(部門別目標設定!T251=\"\",\"\",(部門別目標設定!T251))","v":""}]
[null,{"$f":"部門別目標設定!B252","v":233},{"$f":"IF(部門別目標設定!C252=\"\",\"\",部門別目標設定!C252)","v":""},{"$f":"IF(部門別目標設定!D252=\"\",\"\",部門別目標設定!D252)","v":""},{"$f":"IF(部門別目標設定!E252=\"\",\"\",部門別目標設定!E252)","v":""},{"$f":"IF(部門別目標設定!F252=\"\",\"\",部門別目標設定!F252)","v":""},{"$f":"IF(部門別目標設定!G252=\"\",\"\",部門別目標設定!G252)","v":""},{"$f":"IF(部門別目標設定!M252=\"\",\"\",部門別目標設定!M252)","v":""},null,null,null,null,null,{"$f":"部門別目標設定!L252","v":0},"",null,null,null,null,null,{"$f":"IF(OR(部門別目標設定!I252=0,部門別目標設定!I252=\"\"),部門別目標設定!K252,部門別目標設定!I252)","v":""},null,{"$f":"IF(部門別目標設定!T252=\"\",\"\",(部門別目標設定!T252))","v":""}]
[null,{"$f":"部門別目標設定!B253","v":234},{"$f":"IF(部門別目標設定!C253=\"\",\"\",部門別目標設定!C253)","v":""},{"$f":"IF(部門別目標設定!D253=\"\",\"\",部門別目標設定!D253)","v":""},{"$f":"IF(部門別目標設定!E253=\"\",\"\",部門別目標設定!E253)","v":""},{"$f":"IF(部門別目標設定!F253=\"\",\"\",部門別目標設定!F253)","v":""},{"$f":"IF(部門別目標設定!G253=\"\",\"\",部門別目標設定!G253)","v":""},{"$f":"IF(部門別目標設定!M253=\"\",\"\",部門別目標設定!M253)","v":""},null,null,null,null,null,{"$f":"部門別目標設定!L253","v":0},"",null,null,null,null,null,{"$f":"IF(OR(部門別目標設定!I253=0,部門別目標設定!I253=\"\"),部門別目標設定!K253,部門別目標設定!I253)","v":""},null,{"$f":"IF(部門別目標設定!T253=\"\",\"\",(部門別目標設定!T253))","v":""}]
[null,{"$f":"部門別目標設定!B254","v":235},{"$f":"IF(部門別目標設定!C254=\"\",\"\",部門別目標設定!C254)","v":""},{"$f":"IF(部門別目標設定!D254=\"\",\"\",部門別目標設定!D254)","v":""},{"$f":"IF(部門別目標設定!E254=\"\",\"\",部門別目標設定!E254)","v":""},{"$f":"IF(部門別目標設定!F254=\"\",\"\",部門別目標設定!F254)","v":""},{"$f":"IF(部門別目標設定!G254=\"\",\"\",部門別目標設定!G254)","v":""},{"$f":"IF(部門別目標設定!M254=\"\",\"\",部門別目標設定!M254)","v":""},null,null,null,null,null,{"$f":"部門別目標設定!L254","v":0},"",null,null,null,null,null,{"$f":"IF(OR(部門別目標設定!I254=0,部門別目標設定!I254=\"\"),部門別目標設定!K254,部門別目標設定!I254)","v":""},null,{"$f":"IF(部門別目標設定!T254=\"\",\"\",(部門別目標設定!T254))","v":""}]
[null,{"$f":"部門別目標設定!B255","v":236},{"$f":"IF(部門別目標設定!C255=\"\",\"\",部門別目標設定!C255)","v":""},{"$f":"IF(部門別目標設定!D255=\"\",\"\",部門別目標設定!D255)","v":""},{"$f":"IF(部門別目標設定!E255=\"\",\"\",部門別目標設定!E255)","v":""},{"$f":"IF(部門別目標設定!F255=\"\",\"\",部門別目標設定!F255)","v":""},{"$f":"IF(部門別目標設定!G255=\"\",\"\",部門別目標設定!G255)","v":""},{"$f":"IF(部門別目標設定!M255=\"\",\"\",部門別目標設定!M255)","v":""},null,null,null,null,null,{"$f":"部門別目標設定!L255","v":0},"",null,null,null,null,null,{"$f":"IF(OR(部門別目標設定!I255=0,部門別目標設定!I255=\"\"),部門別目標設定!K255,部門別目標設定!I255)","v":""},null,{"$f":"IF(部門別目標設定!T255=\"\",\"\",(部門別目標設定!T255))","v":""}]
[null,{"$f":"部門別目標設定!B256","v":237},{"$f":"IF(部門別目標設定!C256=\"\",\"\",部門別目標設定!C256)","v":""},{"$f":"IF(部門別目標設定!D256=\"\",\"\",部門別目標設定!D256)","v":""},{"$f":"IF(部門別目標設定!E256=\"\",\"\",部門別目標設定!E256)","v":""},{"$f":"IF(部門別目標設定!F256=\"\",\"\",部門別目標設定!F256)","v":""},{"$f":"IF(部門別目標設定!G256=\"\",\"\",部門別目標設定!G256)","v":""},{"$f":"IF(部門別目標設定!M256=\"\",\"\",部門別目標設定!M256)","v":""},null,null,null,null,null,{"$f":"部門別目標設定!L256","v":0},"",null,null,null,null,null,{"$f":"IF(OR(部門別目標設定!I256=0,部門別目標設定!I256=\"\"),部門別目標設定!K256,部門別目標設定!I256)","v":""},null,{"$f":"IF(部門別目標設定!T256=\"\",\"\",(部門別目標設定!T256))","v":""}]
[null,{"$f":"部門別目標設定!B257","v":238},{"$f":"IF(部門別目標設定!C257=\"\",\"\",部門別目標設定!C257)","v":""},{"$f":"IF(部門別目標設定!D257=\"\",\"\",部門別目標設定!D257)","v":""},{"$f":"IF(部門別目標設定!E257=\"\",\"\",部門別目標設定!E257)","v":""},{"$f":"IF(部門別目標設定!F257=\"\",\"\",部門別目標設定!F257)","v":""},{"$f":"IF(部門別目標設定!G257=\"\",\"\",部門別目標設定!G257)","v":""},{"$f":"IF(部門別目標設定!M257=\"\",\"\",部門別目標設定!M257)","v":""},null,null,null,null,null,{"$f":"部門別目標設定!L257","v":0},"",null,null,null,null,null,{"$f":"IF(OR(部門別目標設定!I257=0,部門別目標設定!I257=\"\"),部門別目標設定!K257,部門別目標設定!I257)","v":""},null,{"$f":"IF(部門別目標設定!T257=\"\",\"\",(部門別目標設定!T257))","v":""}]
[null,{"$f":"部門別目標設定!B258","v":239},{"$f":"IF(部門別目標設定!C258=\"\",\"\",部門別目標設定!C258)","v":""},{"$f":"IF(部門別目標設定!D258=\"\",\"\",部門別目標設定!D258)","v":""},{"$f":"IF(部門別目標設定!E258=\"\",\"\",部門別目標設定!E258)","v":""},{"$f":"IF(部門別目標設定!F258=\"\",\"\",部門別目標設定!F258)","v":""},{"$f":"IF(部門別目標設定!G258=\"\",\"\",部門別目標設定!G258)","v":""},{"$f":"IF(部門別目標設定!M258=\"\",\"\",部門別目標設定!M258)","v":""},null,null,null,null,null,{"$f":"部門別目標設定!L258","v":0},"",null,null,null,null,null,{"$f":"IF(OR(部門別目標設定!I258=0,部門別目標設定!I258=\"\"),部門別目標設定!K258,部門別目標設定!I258)","v":""},null,{"$f":"IF(部門別目標設定!T258=\"\",\"\",(部門別目標設定!T258))","v":""}]
[null,{"$f":"部門別目標設定!B259","v":240},{"$f":"IF(部門別目標設定!C259=\"\",\"\",部門別目標設定!C259)","v":""},{"$f":"IF(部門別目標設定!D259=\"\",\"\",部門別目標設定!D259)","v":""},{"$f":"IF(部門別目標設定!E259=\"\",\"\",部門別目標設定!E259)","v":""},{"$f":"IF(部門別目標設定!F259=\"\",\"\",部門別目標設定!F259)","v":""},{"$f":"IF(部門別目標設定!G259=\"\",\"\",部門別目標設定!G259)","v":""},{"$f":"IF(部門別目標設定!M259=\"\",\"\",部門別目標設定!M259)","v":""},null,null,null,null,null,{"$f":"部門別目標設定!L259","v":0},"",null,null,null,null,null,{"$f":"IF(OR(部門別目標設定!I259=0,部門別目標設定!I259=\"\"),部門別目標設定!K259,部門別目標設定!I259)","v":""},null,{"$f":"IF(部門別目標設定!T259=\"\",\"\",(部門別目標設定!T259))","v":""}]
[null,{"$f":"部門別目標設定!B260","v":241},{"$f":"IF(部門別目標設定!C260=\"\",\"\",部門別目標設定!C260)","v":""},{"$f":"IF(部門別目標設定!D260=\"\",\"\",部門別目標設定!D260)","v":""},{"$f":"IF(部門別目標設定!E260=\"\",\"\",部門別目標設定!E260)","v":""},{"$f":"IF(部門別目標設定!F260=\"\",\"\",部門別目標設定!F260)","v":""},{"$f":"IF(部門別目標設定!G260=\"\",\"\",部門別目標設定!G260)","v":""},{"$f":"IF(部門別目標設定!M260=\"\",\"\",部門別目標設定!M260)","v":""},null,null,null,null,null,{"$f":"部門別目標設定!L260","v":0},"",null,null,null,null,null,{"$f":"IF(OR(部門別目標設定!I260=0,部門別目標設定!I260=\"\"),部門別目標設定!K260,部門別目標設定!I260)","v":""},null,{"$f":"IF(部門別目標設定!T260=\"\",\"\",(部門別目標設定!T260))","v":""}]
[null,{"$f":"部門別目標設定!B261","v":242},{"$f":"IF(部門別目標設定!C261=\"\",\"\",部門別目標設定!C261)","v":""},{"$f":"IF(部門別目標設定!D261=\"\",\"\",部門別目標設定!D261)","v":""},{"$f":"IF(部門別目標設定!E261=\"\",\"\",部門別目標設定!E261)","v":""},{"$f":"IF(部門別目標設定!F261=\"\",\"\",部門別目標設定!F261)","v":""},{"$f":"IF(部門別目標設定!G261=\"\",\"\",部門別目標設定!G261)","v":""},{"$f":"IF(部門別目標設定!M261=\"\",\"\",部門別目標設定!M261)","v":""},null,null,null,null,null,{"$f":"部門別目標設定!L261","v":0},"",null,null,null,null,null,{"$f":"IF(OR(部門別目標設定!I261=0,部門別目標設定!I261=\"\"),部門別目標設定!K261,部門別目標設定!I261)","v":""},null,{"$f":"IF(部門別目標設定!T261=\"\",\"\",(部門別目標設定!T261))","v":""}]
[null,{"$f":"部門別目標設定!B262","v":243},{"$f":"IF(部門別目標設定!C262=\"\",\"\",部門別目標設定!C262)","v":""},{"$f":"IF(部門別目標設定!D262=\"\",\"\",部門別目標設定!D262)","v":""},{"$f":"IF(部門別目標設定!E262=\"\",\"\",部門別目標設定!E262)","v":""},{"$f":"IF(部門別目標設定!F262=\"\",\"\",部門別目標設定!F262)","v":""},{"$f":"IF(部門別目標設定!G262=\"\",\"\",部門別目標設定!G262)","v":""},{"$f":"IF(部門別目標設定!M262=\"\",\"\",部門別目標設定!M262)","v":""},null,null,null,null,null,{"$f":"部門別目標設定!L262","v":0},"",null,null,null,null,null,{"$f":"IF(OR(部門別目標設定!I262=0,部門別目標設定!I262=\"\"),部門別目標設定!K262,部門別目標設定!I262)","v":""},null,{"$f":"IF(部門別目標設定!T262=\"\",\"\",(部門別目標設定!T262))","v":""}]
[null,{"$f":"部門別目標設定!B263","v":244},{"$f":"IF(部門別目標設定!C263=\"\",\"\",部門別目標設定!C263)","v":""},{"$f":"IF(部門別目標設定!D263=\"\",\"\",部門別目標設定!D263)","v":""},{"$f":"IF(部門別目標設定!E263=\"\",\"\",部門別目標設定!E263)","v":""},{"$f":"IF(部門別目標設定!F263=\"\",\"\",部門別目標設定!F263)","v":""},{"$f":"IF(部門別目標設定!G263=\"\",\"\",部門別目標設定!G263)","v":""},{"$f":"IF(部門別目標設定!M263=\"\",\"\",部門別目標設定!M263)","v":""},null,null,null,null,null,{"$f":"部門別目標設定!L263","v":0},"",null,null,null,null,null,{"$f":"IF(OR(部門別目標設定!I263=0,部門別目標設定!I263=\"\"),部門別目標設定!K263,部門別目標設定!I263)","v":""},null,{"$f":"IF(部門別目標設定!T263=\"\",\"\",(部門別目標設定!T263))","v":""}]
[null,{"$f":"部門別目標設定!B264","v":245},{"$f":"IF(部門別目標設定!C264=\"\",\"\",部門別目標設定!C264)","v":""},{"$f":"IF(部門別目標設定!D264=\"\",\"\",部門別目標設定!D264)","v":""},{"$f":"IF(部門別目標設定!E264=\"\",\"\",部門別目標設定!E264)","v":""},{"$f":"IF(部門別目標設定!F264=\"\",\"\",部門別目標設定!F264)","v":""},{"$f":"IF(部門別目標設定!G264=\"\",\"\",部門別目標設定!G264)","v":""},{"$f":"IF(部門別目標設定!M264=\"\",\"\",部門別目標設定!M264)","v":""},null,null,null,null,null,{"$f":"部門別目標設定!L264","v":0},"",null,null,null,null,null,{"$f":"IF(OR(部門別目標設定!I264=0,部門別目標設定!I264=\"\"),部門別目標設定!K264,部門別目標設定!I264)","v":""},null,{"$f":"IF(部門別目標設定!T264=\"\",\"\",(部門別目標設定!T264))","v":""}]
[null,{"$f":"部門別目標設定!B265","v":246},{"$f":"IF(部門別目標設定!C265=\"\",\"\",部門別目標設定!C265)","v":""},{"$f":"IF(部門別目標設定!D265=\"\",\"\",部門別目標設定!D265)","v":""},{"$f":"IF(部門別目標設定!E265=\"\",\"\",部門別目標設定!E265)","v":""},{"$f":"IF(部門別目標設定!F265=\"\",\"\",部門別目標設定!F265)","v":""},{"$f":"IF(部門別目標設定!G265=\"\",\"\",部門別目標設定!G265)","v":""},{"$f":"IF(部門別目標設定!M265=\"\",\"\",部門別目標設定!M265)","v":""},null,null,null,null,null,{"$f":"部門別目標設定!L265","v":0},"",null,null,null,null,null,{"$f":"IF(OR(部門別目標設定!I265=0,部門別目標設定!I265=\"\"),部門別目標設定!K265,部門別目標設定!I265)","v":""},null,{"$f":"IF(部門別目標設定!T265=\"\",\"\",(部門別目標設定!T265))","v":""}]
[null,{"$f":"部門別目標設定!B266","v":247},{"$f":"IF(部門別目標設定!C266=\"\",\"\",部門別目標設定!C266)","v":""},{"$f":"IF(部門別目標設定!D266=\"\",\"\",部門別目標設定!D266)","v":""},{"$f":"IF(部門別目標設定!E266=\"\",\"\",部門別目標設定!E266)","v":""},{"$f":"IF(部門別目標設定!F266=\"\",\"\",部門別目標設定!F266)","v":""},{"$f":"IF(部門別目標設定!G266=\"\",\"\",部門別目標設定!G266)","v":""},{"$f":"IF(部門別目標設定!M266=\"\",\"\",部門別目標設定!M266)","v":""},null,null,null,null,null,{"$f":"部門別目標設定!L266","v":0},"",null,null,null,null,null,{"$f":"IF(OR(部門別目標設定!I266=0,部門別目標設定!I266=\"\"),部門別目標設定!K266,部門別目標設定!I266)","v":""},null,{"$f":"IF(部門別目標設定!T266=\"\",\"\",(部門別目標設定!T266))","v":""}]
[null,{"$f":"部門別目標設定!B267","v":248},{"$f":"IF(部門別目標設定!C267=\"\",\"\",部門別目標設定!C267)","v":""},{"$f":"IF(部門別目標設定!D267=\"\",\"\",部門別目標設定!D267)","v":""},{"$f":"IF(部門別目標設定!E267=\"\",\"\",部門別目標設定!E267)","v":""},{"$f":"IF(部門別目標設定!F267=\"\",\"\",部門別目標設定!F267)","v":""},{"$f":"IF(部門別目標設定!G267=\"\",\"\",部門別目標設定!G267)","v":""},{"$f":"IF(部門別目標設定!M267=\"\",\"\",部門別目標設定!M267)","v":""},null,null,null,null,null,{"$f":"部門別目標設定!L267","v":0},"",null,null,null,null,null,{"$f":"IF(OR(部門別目標設定!I267=0,部門別目標設定!I267=\"\"),部門別目標設定!K267,部門別目標設定!I267)","v":""},null,{"$f":"IF(部門別目標設定!T267=\"\",\"\",(部門別目標設定!T267))","v":""}]
[null,{"$f":"部門別目標設定!B268","v":249},{"$f":"IF(部門別目標設定!C268=\"\",\"\",部門別目標設定!C268)","v":""},{"$f":"IF(部門別目標設定!D268=\"\",\"\",部門別目標設定!D268)","v":""},{"$f":"IF(部門別目標設定!E268=\"\",\"\",部門別目標設定!E268)","v":""},{"$f":"IF(部門別目標設定!F268=\"\",\"\",部門別目標設定!F268)","v":""},{"$f":"IF(部門別目標設定!G268=\"\",\"\",部門別目標設定!G268)","v":""},{"$f":"IF(部門別目標設定!M268=\"\",\"\",部門別目標設定!M268)","v":""},null,null,null,null,null,{"$f":"部門別目標設定!L268","v":0},"",null,null,null,null,null,{"$f":"IF(OR(部門別目標設定!I268=0,部門別目標設定!I268=\"\"),部門別目標設定!K268,部門別目標設定!I268)","v":""},null,{"$f":"IF(部門別目標設定!T268=\"\",\"\",(部門別目標設定!T268))","v":""}]
[null,{"$f":"部門別目標設定!B269","v":250},{"$f":"IF(部門別目標設定!C269=\"\",\"\",部門別目標設定!C269)","v":""},{"$f":"IF(部門別目標設定!D269=\"\",\"\",部門別目標設定!D269)","v":""},{"$f":"IF(部門別目標設定!E269=\"\",\"\",部門別目標設定!E269)","v":""},{"$f":"IF(部門別目標設定!F269=\"\",\"\",部門別目標設定!F269)","v":""},{"$f":"IF(部門別目標設定!G269=\"\",\"\",部門別目標設定!G269)","v":""},{"$f":"IF(部門別目標設定!M269=\"\",\"\",部門別目標設定!M269)","v":""},null,null,null,null,null,{"$f":"部門別目標設定!L269","v":0},"",null,null,null,null,null,{"$f":"IF(OR(部門別目標設定!I269=0,部門別目標設定!I269=\"\"),部門別目標設定!K269,部門別目標設定!I269)","v":""},null,{"$f":"IF(部門別目標設定!T269=\"\",\"\",(部門別目標設定!T269))","v":""}]
[null,{"$f":"部門別目標設定!B270","v":251},{"$f":"IF(部門別目標設定!C270=\"\",\"\",部門別目標設定!C270)","v":""},{"$f":"IF(部門別目標設定!D270=\"\",\"\",部門別目標設定!D270)","v":""},{"$f":"IF(部門別目標設定!E270=\"\",\"\",部門別目標設定!E270)","v":""},{"$f":"IF(部門別目標設定!F270=\"\",\"\",部門別目標設定!F270)","v":""},{"$f":"IF(部門別目標設定!G270=\"\",\"\",部門別目標設定!G270)","v":""},{"$f":"IF(部門別目標設定!M270=\"\",\"\",部門別目標設定!M270)","v":""},null,null,null,null,null,{"$f":"部門別目標設定!L270","v":0},"",null,null,null,null,null,{"$f":"IF(OR(部門別目標設定!I270=0,部門別目標設定!I270=\"\"),部門別目標設定!K270,部門別目標設定!I270)","v":""},null,{"$f":"IF(部門別目標設定!T270=\"\",\"\",(部門別目標設定!T270))","v":""}]
[null,{"$f":"部門別目標設定!B271","v":252},{"$f":"IF(部門別目標設定!C271=\"\",\"\",部門別目標設定!C271)","v":""},{"$f":"IF(部門別目標設定!D271=\"\",\"\",部門別目標設定!D271)","v":""},{"$f":"IF(部門別目標設定!E271=\"\",\"\",部門別目標設定!E271)","v":""},{"$f":"IF(部門別目標設定!F271=\"\",\"\",部門別目標設定!F271)","v":""},{"$f":"IF(部門別目標設定!G271=\"\",\"\",部門別目標設定!G271)","v":""},{"$f":"IF(部門別目標設定!M271=\"\",\"\",部門別目標設定!M271)","v":""},null,null,null,null,null,{"$f":"部門別目標設定!L271","v":0},"",null,null,null,null,null,{"$f":"IF(OR(部門別目標設定!I271=0,部門別目標設定!I271=\"\"),部門別目標設定!K271,部門別目標設定!I271)","v":""},null,{"$f":"IF(部門別目標設定!T271=\"\",\"\",(部門別目標設定!T271))","v":""}]
[null,{"$f":"部門別目標設定!B272","v":253},{"$f":"IF(部門別目標設定!C272=\"\",\"\",部門別目標設定!C272)","v":""},{"$f":"IF(部門別目標設定!D272=\"\",\"\",部門別目標設定!D272)","v":""},{"$f":"IF(部門別目標設定!E272=\"\",\"\",部門別目標設定!E272)","v":""},{"$f":"IF(部門別目標設定!F272=\"\",\"\",部門別目標設定!F272)","v":""},{"$f":"IF(部門別目標設定!G272=\"\",\"\",部門別目標設定!G272)","v":""},{"$f":"IF(部門別目標設定!M272=\"\",\"\",部門別目標設定!M272)","v":""},null,null,null,null,null,{"$f":"部門別目標設定!L272","v":0},"",null,null,null,null,null,{"$f":"IF(OR(部門別目標設定!I272=0,部門別目標設定!I272=\"\"),部門別目標設定!K272,部門別目標設定!I272)","v":""},null,{"$f":"IF(部門別目標設定!T272=\"\",\"\",(部門別目標設定!T272))","v":""}]
[null,{"$f":"部門別目標設定!B273","v":254},{"$f":"IF(部門別目標設定!C273=\"\",\"\",部門別目標設定!C273)","v":""},{"$f":"IF(部門別目標設定!D273=\"\",\"\",部門別目標設定!D273)","v":""},{"$f":"IF(部門別目標設定!E273=\"\",\"\",部門別目標設定!E273)","v":""},{"$f":"IF(部門別目標設定!F273=\"\",\"\",部門別目標設定!F273)","v":""},{"$f":"IF(部門別目標設定!G273=\"\",\"\",部門別目標設定!G273)","v":""},{"$f":"IF(部門別目標設定!M273=\"\",\"\",部門別目標設定!M273)","v":""},null,null,null,null,null,{"$f":"部門別目標設定!L273","v":0},"",null,null,null,null,null,{"$f":"IF(OR(部門別目標設定!I273=0,部門別目標設定!I273=\"\"),部門別目標設定!K273,部門別目標設定!I273)","v":""},null,{"$f":"IF(部門別目標設定!T273=\"\",\"\",(部門別目標設定!T273))","v":""}]
[null,{"$f":"部門別目標設定!B274","v":255},{"$f":"IF(部門別目標設定!C274=\"\",\"\",部門別目標設定!C274)","v":""},{"$f":"IF(部門別目標設定!D274=\"\",\"\",部門別目標設定!D274)","v":""},{"$f":"IF(部門別目標設定!E274=\"\",\"\",部門別目標設定!E274)","v":""},{"$f":"IF(部門別目標設定!F274=\"\",\"\",部門別目標設定!F274)","v":""},{"$f":"IF(部門別目標設定!G274=\"\",\"\",部門別目標設定!G274)","v":""},{"$f":"IF(部門別目標設定!M274=\"\",\"\",部門別目標設定!M274)","v":""},null,null,null,null,null,{"$f":"部門別目標設定!L274","v":0},"",null,null,null,null,null,{"$f":"IF(OR(部門別目標設定!I274=0,部門別目標設定!I274=\"\"),部門別目標設定!K274,部門別目標設定!I274)","v":""},null,{"$f":"IF(部門別目標設定!T274=\"\",\"\",(部門別目標設定!T274))","v":""}]
[null,{"$f":"部門別目標設定!B275","v":256},{"$f":"IF(部門別目標設定!C275=\"\",\"\",部門別目標設定!C275)","v":""},{"$f":"IF(部門別目標設定!D275=\"\",\"\",部門別目標設定!D275)","v":""},{"$f":"IF(部門別目標設定!E275=\"\",\"\",部門別目標設定!E275)","v":""},{"$f":"IF(部門別目標設定!F275=\"\",\"\",部門別目標設定!F275)","v":""},{"$f":"IF(部門別目標設定!G275=\"\",\"\",部門別目標設定!G275)","v":""},{"$f":"IF(部門別目標設定!M275=\"\",\"\",部門別目標設定!M275)","v":""},null,null,null,null,null,{"$f":"部門別目標設定!L275","v":0},"",null,null,null,null,null,{"$f":"IF(OR(部門別目標設定!I275=0,部門別目標設定!I275=\"\"),部門別目標設定!K275,部門別目標設定!I275)","v":""},null,{"$f":"IF(部門別目標設定!T275=\"\",\"\",(部門別目標設定!T275))","v":""}]
[null,{"$f":"部門別目標設定!B276","v":257},{"$f":"IF(部門別目標設定!C276=\"\",\"\",部門別目標設定!C276)","v":""},{"$f":"IF(部門別目標設定!D276=\"\",\"\",部門別目標設定!D276)","v":""},{"$f":"IF(部門別目標設定!E276=\"\",\"\",部門別目標設定!E276)","v":""},{"$f":"IF(部門別目標設定!F276=\"\",\"\",部門別目標設定!F276)","v":""},{"$f":"IF(部門別目標設定!G276=\"\",\"\",部門別目標設定!G276)","v":""},{"$f":"IF(部門別目標設定!M276=\"\",\"\",部門別目標設定!M276)","v":""},null,null,null,null,null,{"$f":"部門別目標設定!L276","v":0},"",null,null,null,null,null,{"$f":"IF(OR(部門別目標設定!I276=0,部門別目標設定!I276=\"\"),部門別目標設定!K276,部門別目標設定!I276)","v":""},null,{"$f":"IF(部門別目標設定!T276=\"\",\"\",(部門別目標設定!T276))","v":""}]
[null,{"$f":"部門別目標設定!B277","v":258},{"$f":"IF(部門別目標設定!C277=\"\",\"\",部門別目標設定!C277)","v":""},{"$f":"IF(部門別目標設定!D277=\"\",\"\",部門別目標設定!D277)","v":""},{"$f":"IF(部門別目標設定!E277=\"\",\"\",部門別目標設定!E277)","v":""},{"$f":"IF(部門別目標設定!F277=\"\",\"\",部門別目標設定!F277)","v":""},{"$f":"IF(部門別目標設定!G277=\"\",\"\",部門別目標設定!G277)","v":""},{"$f":"IF(部門別目標設定!M277=\"\",\"\",部門別目標設定!M277)","v":""},null,null,null,null,null,{"$f":"部門別目標設定!L277","v":0},{"$f":"IF(OR(I272=\"\",N272=\"\"),\"\",IF(ISERROR(INDEX(I272:M272,MATCH(MAX(I272:M272)+1,I272:M272,1))/N272),\"\",INDEX(I272:M272,MATCH(MAX(I272:M272)+1,I272:M272,1))/N272))","v":""},null,null,null,null,null,{"$f":"IF(OR(部門別目標設定!I277=0,部門別目標設定!I277=\"\"),部門別目標設定!K277,部門別目標設定!I277)","v":""},null,{"$f":"IF(部門別目標設定!T277=\"\",\"\",(部門別目標設定!T277))","v":""}]
[null,{"$f":"部門別目標設定!B278","v":259},{"$f":"IF(部門別目標設定!C278=\"\",\"\",部門別目標設定!C278)","v":""},{"$f":"IF(部門別目標設定!D278=\"\",\"\",部門別目標設定!D278)","v":""},{"$f":"IF(部門別目標設定!E278=\"\",\"\",部門別目標設定!E278)","v":""},{"$f":"IF(部門別目標設定!F278=\"\",\"\",部門別目標設定!F278)","v":""},{"$f":"IF(部門別目標設定!G278=\"\",\"\",部門別目標設定!G278)","v":""},{"$f":"IF(部門別目標設定!M278=\"\",\"\",部門別目標設定!M278)","v":""},null,null,null,null,null,{"$f":"部門別目標設定!L278","v":0},"",null,null,null,null,null,{"$f":"IF(OR(部門別目標設定!I278=0,部門別目標設定!I278=\"\"),部門別目標設定!K278,部門別目標設定!I278)","v":""},null,{"$f":"IF(部門別目標設定!T278=\"\",\"\",(部門別目標設定!T278))","v":""}]
[null,{"$f":"部門別目標設定!B279","v":260},{"$f":"IF(部門別目標設定!C279=\"\",\"\",部門別目標設定!C279)","v":""},{"$f":"IF(部門別目標設定!D279=\"\",\"\",部門別目標設定!D279)","v":""},{"$f":"IF(部門別目標設定!E279=\"\",\"\",部門別目標設定!E279)","v":""},{"$f":"IF(部門別目標設定!F279=\"\",\"\",部門別目標設定!F279)","v":""},{"$f":"IF(部門別目標設定!G279=\"\",\"\",部門別目標設定!G279)","v":""},{"$f":"IF(部門別目標設定!M279=\"\",\"\",部門別目標設定!M279)","v":""},null,null,null,null,null,{"$f":"部門別目標設定!L279","v":0},"",null,null,null,null,null,{"$f":"IF(OR(部門別目標設定!I279=0,部門別目標設定!I279=\"\"),部門別目標設定!K279,部門別目標設定!I279)","v":""},null,{"$f":"IF(部門別目標設定!T279=\"\",\"\",(部門別目標設定!T279))","v":""}]
[null,{"$f":"部門別目標設定!B280","v":261},{"$f":"IF(部門別目標設定!C280=\"\",\"\",部門別目標設定!C280)","v":""},{"$f":"IF(部門別目標設定!D280=\"\",\"\",部門別目標設定!D280)","v":""},{"$f":"IF(部門別目標設定!E280=\"\",\"\",部門別目標設定!E280)","v":""},{"$f":"IF(部門別目標設定!F280=\"\",\"\",部門別目標設定!F280)","v":""},{"$f":"IF(部門別目標設定!G280=\"\",\"\",部門別目標設定!G280)","v":""},{"$f":"IF(部門別目標設定!M280=\"\",\"\",部門別目標設定!M280)","v":""},null,null,null,null,null,{"$f":"部門別目標設定!L280","v":0},"",null,null,null,null,null,{"$f":"IF(OR(部門別目標設定!I280=0,部門別目標設定!I280=\"\"),部門別目標設定!K280,部門別目標設定!I280)","v":""},null,{"$f":"IF(部門別目標設定!T280=\"\",\"\",(部門別目標設定!T280))","v":""}]
[null,{"$f":"部門別目標設定!B281","v":262},{"$f":"IF(部門別目標設定!C281=\"\",\"\",部門別目標設定!C281)","v":""},{"$f":"IF(部門別目標設定!D281=\"\",\"\",部門別目標設定!D281)","v":""},{"$f":"IF(部門別目標設定!E281=\"\",\"\",部門別目標設定!E281)","v":""},{"$f":"IF(部門別目標設定!F281=\"\",\"\",部門別目標設定!F281)","v":""},{"$f":"IF(部門別目標設定!G281=\"\",\"\",部門別目標設定!G281)","v":""},{"$f":"IF(部門別目標設定!M281=\"\",\"\",部門別目標設定!M281)","v":""},null,null,null,null,null,{"$f":"部門別目標設定!L281","v":0},"",null,null,null,null,null,{"$f":"IF(OR(部門別目標設定!I281=0,部門別目標設定!I281=\"\"),部門別目標設定!K281,部門別目標設定!I281)","v":""},null,{"$f":"IF(部門別目標設定!T281=\"\",\"\",(部門別目標設定!T281))","v":""}]
[null,{"$f":"部門別目標設定!B282","v":263},{"$f":"IF(部門別目標設定!C282=\"\",\"\",部門別目標設定!C282)","v":""},{"$f":"IF(部門別目標設定!D282=\"\",\"\",部門別目標設定!D282)","v":""},{"$f":"IF(部門別目標設定!E282=\"\",\"\",部門別目標設定!E282)","v":""},{"$f":"IF(部門別目標設定!F282=\"\",\"\",部門別目標設定!F282)","v":""},{"$f":"IF(部門別目標設定!G282=\"\",\"\",部門別目標設定!G282)","v":""},{"$f":"IF(部門別目標設定!M282=\"\",\"\",部門別目標設定!M282)","v":""},null,null,null,null,null,{"$f":"部門別目標設定!L282","v":0},"",null,null,null,null,null,{"$f":"IF(OR(部門別目標設定!I282=0,部門別目標設定!I282=\"\"),部門別目標設定!K282,部門別目標設定!I282)","v":""},null,{"$f":"IF(部門別目標設定!T282=\"\",\"\",(部門別目標設定!T282))","v":""}]
[null,{"$f":"部門別目標設定!B283","v":264},{"$f":"IF(部門別目標設定!C283=\"\",\"\",部門別目標設定!C283)","v":""},{"$f":"IF(部門別目標設定!D283=\"\",\"\",部門別目標設定!D283)","v":""},{"$f":"IF(部門別目標設定!E283=\"\",\"\",部門別目標設定!E283)","v":""},{"$f":"IF(部門別目標設定!F283=\"\",\"\",部門別目標設定!F283)","v":""},{"$f":"IF(部門別目標設定!G283=\"\",\"\",部門別目標設定!G283)","v":""},{"$f":"IF(部門別目標設定!M283=\"\",\"\",部門別目標設定!M283)","v":""},null,null,null,null,null,{"$f":"部門別目標設定!L283","v":0},"",null,null,null,null,null,{"$f":"IF(OR(部門別目標設定!I283=0,部門別目標設定!I283=\"\"),部門別目標設定!K283,部門別目標設定!I283)","v":""},null,{"$f":"IF(部門別目標設定!T283=\"\",\"\",(部門別目標設定!T283))","v":""}]
[null,{"$f":"部門別目標設定!B284","v":265},{"$f":"IF(部門別目標設定!C284=\"\",\"\",部門別目標設定!C284)","v":""},{"$f":"IF(部門別目標設定!D284=\"\",\"\",部門別目標設定!D284)","v":""},{"$f":"IF(部門別目標設定!E284=\"\",\"\",部門別目標設定!E284)","v":""},{"$f":"IF(部門別目標設定!F284=\"\",\"\",部門別目標設定!F284)","v":""},{"$f":"IF(部門別目標設定!G284=\"\",\"\",部門別目標設定!G284)","v":""},{"$f":"IF(部門別目標設定!M284=\"\",\"\",部門別目標設定!M284)","v":""},null,null,null,null,null,{"$f":"部門別目標設定!L284","v":0},"",null,null,null,null,null,{"$f":"IF(OR(部門別目標設定!I284=0,部門別目標設定!I284=\"\"),部門別目標設定!K284,部門別目標設定!I284)","v":""},null,{"$f":"IF(部門別目標設定!T284=\"\",\"\",(部門別目標設定!T284))","v":""}]
[null,{"$f":"部門別目標設定!B285","v":266},{"$f":"IF(部門別目標設定!C285=\"\",\"\",部門別目標設定!C285)","v":""},{"$f":"IF(部門別目標設定!D285=\"\",\"\",部門別目標設定!D285)","v":""},{"$f":"IF(部門別目標設定!E285=\"\",\"\",部門別目標設定!E285)","v":""},{"$f":"IF(部門別目標設定!F285=\"\",\"\",部門別目標設定!F285)","v":""},{"$f":"IF(部門別目標設定!G285=\"\",\"\",部門別目標設定!G285)","v":""},{"$f":"IF(部門別目標設定!M285=\"\",\"\",部門別目標設定!M285)","v":""},null,null,null,null,null,{"$f":"部門別目標設定!L285","v":0},"",null,null,null,null,null,{"$f":"IF(OR(部門別目標設定!I285=0,部門別目標設定!I285=\"\"),部門別目標設定!K285,部門別目標設定!I285)","v":""},null,{"$f":"IF(部門別目標設定!T285=\"\",\"\",(部門別目標設定!T285))","v":""}]
[null,{"$f":"部門別目標設定!B286","v":267},{"$f":"IF(部門別目標設定!C286=\"\",\"\",部門別目標設定!C286)","v":""},{"$f":"IF(部門別目標設定!D286=\"\",\"\",部門別目標設定!D286)","v":""},{"$f":"IF(部門別目標設定!E286=\"\",\"\",部門別目標設定!E286)","v":""},{"$f":"IF(部門別目標設定!F286=\"\",\"\",部門別目標設定!F286)","v":""},{"$f":"IF(部門別目標設定!G286=\"\",\"\",部門別目標設定!G286)","v":""},{"$f":"IF(部門別目標設定!M286=\"\",\"\",部門別目標設定!M286)","v":""},null,null,null,null,null,{"$f":"部門別目標設定!L286","v":0},"",null,null,null,null,null,{"$f":"IF(OR(部門別目標設定!I286=0,部門別目標設定!I286=\"\"),部門別目標設定!K286,部門別目標設定!I286)","v":""},null,{"$f":"IF(部門別目標設定!T286=\"\",\"\",(部門別目標設定!T286))","v":""}]
[null,{"$f":"部門別目標設定!B287","v":268},{"$f":"IF(部門別目標設定!C287=\"\",\"\",部門別目標設定!C287)","v":""},{"$f":"IF(部門別目標設定!D287=\"\",\"\",部門別目標設定!D287)","v":""},{"$f":"IF(部門別目標設定!E287=\"\",\"\",部門別目標設定!E287)","v":""},{"$f":"IF(部門別目標設定!F287=\"\",\"\",部門別目標設定!F287)","v":""},{"$f":"IF(部門別目標設定!G287=\"\",\"\",部門別目標設定!G287)","v":""},{"$f":"IF(部門別目標設定!M287=\"\",\"\",部門別目標設定!M287)","v":""},null,null,null,null,null,{"$f":"部門別目標設定!L287","v":0},"",null,null,null,null,null,{"$f":"IF(OR(部門別目標設定!I287=0,部門別目標設定!I287=\"\"),部門別目標設定!K287,部門別目標設定!I287)","v":""},null,{"$f":"IF(部門別目標設定!T287=\"\",\"\",(部門別目標設定!T287))","v":""}]
[null,{"$f":"部門別目標設定!B288","v":269},{"$f":"IF(部門別目標設定!C288=\"\",\"\",部門別目標設定!C288)","v":""},{"$f":"IF(部門別目標設定!D288=\"\",\"\",部門別目標設定!D288)","v":""},{"$f":"IF(部門別目標設定!E288=\"\",\"\",部門別目標設定!E288)","v":""},{"$f":"IF(部門別目標設定!F288=\"\",\"\",部門別目標設定!F288)","v":""},{"$f":"IF(部門別目標設定!G288=\"\",\"\",部門別目標設定!G288)","v":""},{"$f":"IF(部門別目標設定!M288=\"\",\"\",部門別目標設定!M288)","v":""},null,null,null,null,null,{"$f":"部門別目標設定!L288","v":0},"",null,null,null,null,null,{"$f":"IF(OR(部門別目標設定!I288=0,部門別目標設定!I288=\"\"),部門別目標設定!K288,部門別目標設定!I288)","v":""},null,{"$f":"IF(部門別目標設定!T288=\"\",\"\",(部門別目標設定!T288))","v":""}]
[null,{"$f":"部門別目標設定!B289","v":270},{"$f":"IF(部門別目標設定!C289=\"\",\"\",部門別目標設定!C289)","v":""},{"$f":"IF(部門別目標設定!D289=\"\",\"\",部門別目標設定!D289)","v":""},{"$f":"IF(部門別目標設定!E289=\"\",\"\",部門別目標設定!E289)","v":""},{"$f":"IF(部門別目標設定!F289=\"\",\"\",部門別目標設定!F289)","v":""},{"$f":"IF(部門別目標設定!G289=\"\",\"\",部門別目標設定!G289)","v":""},{"$f":"IF(部門別目標設定!M289=\"\",\"\",部門別目標設定!M289)","v":""},null,null,null,null,null,{"$f":"部門別目標設定!L289","v":0},"",null,null,null,null,null,{"$f":"IF(OR(部門別目標設定!I289=0,部門別目標設定!I289=\"\"),部門別目標設定!K289,部門別目標設定!I289)","v":""},null,{"$f":"IF(部門別目標設定!T289=\"\",\"\",(部門別目標設定!T289))","v":""}]
[null,{"$f":"部門別目標設定!B290","v":271},{"$f":"IF(部門別目標設定!C290=\"\",\"\",部門別目標設定!C290)","v":""},{"$f":"IF(部門別目標設定!D290=\"\",\"\",部門別目標設定!D290)","v":""},{"$f":"IF(部門別目標設定!E290=\"\",\"\",部門別目標設定!E290)","v":""},{"$f":"IF(部門別目標設定!F290=\"\",\"\",部門別目標設定!F290)","v":""},{"$f":"IF(部門別目標設定!G290=\"\",\"\",部門別目標設定!G290)","v":""},{"$f":"IF(部門別目標設定!M290=\"\",\"\",部門別目標設定!M290)","v":""},null,null,null,null,null,{"$f":"部門別目標設定!L290","v":0},"",null,null,null,null,null,{"$f":"IF(OR(部門別目標設定!I290=0,部門別目標設定!I290=\"\"),部門別目標設定!K290,部門別目標設定!I290)","v":""},null,{"$f":"IF(部門別目標設定!T290=\"\",\"\",(部門別目標設定!T290))","v":""}]
[null,{"$f":"部門別目標設定!B291","v":272},{"$f":"IF(部門別目標設定!C291=\"\",\"\",部門別目標設定!C291)","v":""},{"$f":"IF(部門別目標設定!D291=\"\",\"\",部門別目標設定!D291)","v":""},{"$f":"IF(部門別目標設定!E291=\"\",\"\",部門別目標設定!E291)","v":""},{"$f":"IF(部門別目標設定!F291=\"\",\"\",部門別目標設定!F291)","v":""},{"$f":"IF(部門別目標設定!G291=\"\",\"\",部門別目標設定!G291)","v":""},{"$f":"IF(部門別目標設定!M291=\"\",\"\",部門別目標設定!M291)","v":""},null,null,null,null,null,{"$f":"部門別目標設定!L291","v":0},"",null,null,null,null,null,{"$f":"IF(OR(部門別目標設定!I291=0,部門別目標設定!I291=\"\"),部門別目標設定!K291,部門別目標設定!I291)","v":""},null,{"$f":"IF(部門別目標設定!T291=\"\",\"\",(部門別目標設定!T291))","v":""}]
[null,{"$f":"部門別目標設定!B292","v":273},{"$f":"IF(部門別目標設定!C292=\"\",\"\",部門別目標設定!C292)","v":""},{"$f":"IF(部門別目標設定!D292=\"\",\"\",部門別目標設定!D292)","v":""},{"$f":"IF(部門別目標設定!E292=\"\",\"\",部門別目標設定!E292)","v":""},{"$f":"IF(部門別目標設定!F292=\"\",\"\",部門別目標設定!F292)","v":""},{"$f":"IF(部門別目標設定!G292=\"\",\"\",部門別目標設定!G292)","v":""},{"$f":"IF(部門別目標設定!M292=\"\",\"\",部門別目標設定!M292)","v":""},null,null,null,null,null,{"$f":"部門別目標設定!L292","v":0},"",null,null,null,null,null,{"$f":"IF(OR(部門別目標設定!I292=0,部門別目標設定!I292=\"\"),部門別目標設定!K292,部門別目標設定!I292)","v":""},null,{"$f":"IF(部門別目標設定!T292=\"\",\"\",(部門別目標設定!T292))","v":""}]
[null,{"$f":"部門別目標設定!B293","v":274},{"$f":"IF(部門別目標設定!C293=\"\",\"\",部門別目標設定!C293)","v":""},{"$f":"IF(部門別目標設定!D293=\"\",\"\",部門別目標設定!D293)","v":""},{"$f":"IF(部門別目標設定!E293=\"\",\"\",部門別目標設定!E293)","v":""},{"$f":"IF(部門別目標設定!F293=\"\",\"\",部門別目標設定!F293)","v":""},{"$f":"IF(部門別目標設定!G293=\"\",\"\",部門別目標設定!G293)","v":""},{"$f":"IF(部門別目標設定!M293=\"\",\"\",部門別目標設定!M293)","v":""},null,null,null,null,null,{"$f":"部門別目標設定!L293","v":0},"",null,null,null,null,null,{"$f":"IF(OR(部門別目標設定!I293=0,部門別目標設定!I293=\"\"),部門別目標設定!K293,部門別目標設定!I293)","v":""},null,{"$f":"IF(部門別目標設定!T293=\"\",\"\",(部門別目標設定!T293))","v":""}]
[null,{"$f":"部門別目標設定!B294","v":275},{"$f":"IF(部門別目標設定!C294=\"\",\"\",部門別目標設定!C294)","v":""},{"$f":"IF(部門別目標設定!D294=\"\",\"\",部門別目標設定!D294)","v":""},{"$f":"IF(部門別目標設定!E294=\"\",\"\",部門別目標設定!E294)","v":""},{"$f":"IF(部門別目標設定!F294=\"\",\"\",部門別目標設定!F294)","v":""},{"$f":"IF(部門別目標設定!G294=\"\",\"\",部門別目標設定!G294)","v":""},{"$f":"IF(部門別目標設定!M294=\"\",\"\",部門別目標設定!M294)","v":""},null,null,null,null,null,{"$f":"部門別目標設定!L294","v":0},"",null,null,null,null,null,{"$f":"IF(OR(部門別目標設定!I294=0,部門別目標設定!I294=\"\"),部門別目標設定!K294,部門別目標設定!I294)","v":""},null,{"$f":"IF(部門別目標設定!T294=\"\",\"\",(部門別目標設定!T294))","v":""}]
[null,{"$f":"部門別目標設定!B295","v":276},{"$f":"IF(部門別目標設定!C295=\"\",\"\",部門別目標設定!C295)","v":""},{"$f":"IF(部門別目標設定!D295=\"\",\"\",部門別目標設定!D295)","v":""},{"$f":"IF(部門別目標設定!E295=\"\",\"\",部門別目標設定!E295)","v":""},{"$f":"IF(部門別目標設定!F295=\"\",\"\",部門別目標設定!F295)","v":""},{"$f":"IF(部門別目標設定!G295=\"\",\"\",部門別目標設定!G295)","v":""},{"$f":"IF(部門別目標設定!M295=\"\",\"\",部門別目標設定!M295)","v":""},null,null,null,null,null,{"$f":"部門別目標設定!L295","v":0},"",null,null,null,null,null,{"$f":"IF(OR(部門別目標設定!I295=0,部門別目標設定!I295=\"\"),部門別目標設定!K295,部門別目標設定!I295)","v":""},null,{"$f":"IF(部門別目標設定!T295=\"\",\"\",(部門別目標設定!T295))","v":""}]
[null,{"$f":"部門別目標設定!B296","v":277},{"$f":"IF(部門別目標設定!C296=\"\",\"\",部門別目標設定!C296)","v":""},{"$f":"IF(部門別目標設定!D296=\"\",\"\",部門別目標設定!D296)","v":""},{"$f":"IF(部門別目標設定!E296=\"\",\"\",部門別目標設定!E296)","v":""},{"$f":"IF(部門別目標設定!F296=\"\",\"\",部門別目標設定!F296)","v":""},{"$f":"IF(部門別目標設定!G296=\"\",\"\",部門別目標設定!G296)","v":""},{"$f":"IF(部門別目標設定!M296=\"\",\"\",部門別目標設定!M296)","v":""},null,null,null,null,null,{"$f":"部門別目標設定!L296","v":0},"",null,null,null,null,null,{"$f":"IF(OR(部門別目標設定!I296=0,部門別目標設定!I296=\"\"),部門別目標設定!K296,部門別目標設定!I296)","v":""},null,{"$f":"IF(部門別目標設定!T296=\"\",\"\",(部門別目標設定!T296))","v":""}]
[null,{"$f":"部門別目標設定!B297","v":278},{"$f":"IF(部門別目標設定!C297=\"\",\"\",部門別目標設定!C297)","v":""},{"$f":"IF(部門別目標設定!D297=\"\",\"\",部門別目標設定!D297)","v":""},{"$f":"IF(部門別目標設定!E297=\"\",\"\",部門別目標設定!E297)","v":""},{"$f":"IF(部門別目標設定!F297=\"\",\"\",部門別目標設定!F297)","v":""},{"$f":"IF(部門別目標設定!G297=\"\",\"\",部門別目標設定!G297)","v":""},{"$f":"IF(部門別目標設定!M297=\"\",\"\",部門別目標設定!M297)","v":""},null,null,null,null,null,{"$f":"部門別目標設定!L297","v":0},"",null,null,null,null,null,{"$f":"IF(OR(部門別目標設定!I297=0,部門別目標設定!I297=\"\"),部門別目標設定!K297,部門別目標設定!I297)","v":""},null,{"$f":"IF(部門別目標設定!T297=\"\",\"\",(部門別目標設定!T297))","v":""}]
[null,{"$f":"部門別目標設定!B298","v":279},{"$f":"IF(部門別目標設定!C298=\"\",\"\",部門別目標設定!C298)","v":""},{"$f":"IF(部門別目標設定!D298=\"\",\"\",部門別目標設定!D298)","v":""},{"$f":"IF(部門別目標設定!E298=\"\",\"\",部門別目標設定!E298)","v":""},{"$f":"IF(部門別目標設定!F298=\"\",\"\",部門別目標設定!F298)","v":""},{"$f":"IF(部門別目標設定!G298=\"\",\"\",部門別目標設定!G298)","v":""},{"$f":"IF(部門別目標設定!M298=\"\",\"\",部門別目標設定!M298)","v":""},null,null,null,null,null,{"$f":"部門別目標設定!L298","v":0},"",null,null,null,null,null,{"$f":"IF(OR(部門別目標設定!I298=0,部門別目標設定!I298=\"\"),部門別目標設定!K298,部門別目標設定!I298)","v":""},null,{"$f":"IF(部門別目標設定!T298=\"\",\"\",(部門別目標設定!T298))","v":""}]
[null,{"$f":"部門別目標設定!B299","v":280},{"$f":"IF(部門別目標設定!C299=\"\",\"\",部門別目標設定!C299)","v":""},{"$f":"IF(部門別目標設定!D299=\"\",\"\",部門別目標設定!D299)","v":""},{"$f":"IF(部門別目標設定!E299=\"\",\"\",部門別目標設定!E299)","v":""},{"$f":"IF(部門別目標設定!F299=\"\",\"\",部門別目標設定!F299)","v":""},{"$f":"IF(部門別目標設定!G299=\"\",\"\",部門別目標設定!G299)","v":""},{"$f":"IF(部門別目標設定!M299=\"\",\"\",部門別目標設定!M299)","v":""},null,null,null,null,null,{"$f":"部門別目標設定!L299","v":0},"",null,null,null,null,null,{"$f":"IF(OR(部門別目標設定!I299=0,部門別目標設定!I299=\"\"),部門別目標設定!K299,部門別目標設定!I299)","v":""},null,{"$f":"IF(部門別目標設定!T299=\"\",\"\",(部門別目標設定!T299))","v":""}]
[null,{"$f":"部門別目標設定!B300","v":281},{"$f":"IF(部門別目標設定!C300=\"\",\"\",部門別目標設定!C300)","v":""},{"$f":"IF(部門別目標設定!D300=\"\",\"\",部門別目標設定!D300)","v":""},{"$f":"IF(部門別目標設定!E300=\"\",\"\",部門別目標設定!E300)","v":""},{"$f":"IF(部門別目標設定!F300=\"\",\"\",部門別目標設定!F300)","v":""},{"$f":"IF(部門別目標設定!G300=\"\",\"\",部門別目標設定!G300)","v":""},{"$f":"IF(部門別目標設定!M300=\"\",\"\",部門別目標設定!M300)","v":""},null,null,null,null,null,{"$f":"部門別目標設定!L300","v":0},"",null,null,null,null,null,{"$f":"IF(OR(部門別目標設定!I300=0,部門別目標設定!I300=\"\"),部門別目標設定!K300,部門別目標設定!I300)","v":""},null,{"$f":"IF(部門別目標設定!T300=\"\",\"\",(部門別目標設定!T300))","v":""}]
[null,{"$f":"部門別目標設定!B301","v":282},{"$f":"IF(部門別目標設定!C301=\"\",\"\",部門別目標設定!C301)","v":""},{"$f":"IF(部門別目標設定!D301=\"\",\"\",部門別目標設定!D301)","v":""},{"$f":"IF(部門別目標設定!E301=\"\",\"\",部門別目標設定!E301)","v":""},{"$f":"IF(部門別目標設定!F301=\"\",\"\",部門別目標設定!F301)","v":""},{"$f":"IF(部門別目標設定!G301=\"\",\"\",部門別目標設定!G301)","v":""},{"$f":"IF(部門別目標設定!M301=\"\",\"\",部門別目標設定!M301)","v":""},null,null,null,null,null,{"$f":"部門別目標設定!L301","v":0},"",null,null,null,null,null,{"$f":"IF(OR(部門別目標設定!I301=0,部門別目標設定!I301=\"\"),部門別目標設定!K301,部門別目標設定!I301)","v":""},null,{"$f":"IF(部門別目標設定!T301=\"\",\"\",(部門別目標設定!T301))","v":""}]
[null,{"$f":"部門別目標設定!B302","v":283},{"$f":"IF(部門別目標設定!C302=\"\",\"\",部門別目標設定!C302)","v":""},{"$f":"IF(部門別目標設定!D302=\"\",\"\",部門別目標設定!D302)","v":""},{"$f":"IF(部門別目標設定!E302=\"\",\"\",部門別目標設定!E302)","v":""},{"$f":"IF(部門別目標設定!F302=\"\",\"\",部門別目標設定!F302)","v":""},{"$f":"IF(部門別目標設定!G302=\"\",\"\",部門別目標設定!G302)","v":""},{"$f":"IF(部門別目標設定!M302=\"\",\"\",部門別目標設定!M302)","v":""},null,null,null,null,null,{"$f":"部門別目標設定!L302","v":0},"",null,null,null,null,null,{"$f":"IF(OR(部門別目標設定!I302=0,部門別目標設定!I302=\"\"),部門別目標設定!K302,部門別目標設定!I302)","v":""},null,{"$f":"IF(部門別目標設定!T302=\"\",\"\",(部門別目標設定!T302))","v":""}]
[null,{"$f":"部門別目標設定!B303","v":284},{"$f":"IF(部門別目標設定!C303=\"\",\"\",部門別目標設定!C303)","v":""},{"$f":"IF(部門別目標設定!D303=\"\",\"\",部門別目標設定!D303)","v":""},{"$f":"IF(部門別目標設定!E303=\"\",\"\",部門別目標設定!E303)","v":""},{"$f":"IF(部門別目標設定!F303=\"\",\"\",部門別目標設定!F303)","v":""},{"$f":"IF(部門別目標設定!G303=\"\",\"\",部門別目標設定!G303)","v":""},{"$f":"IF(部門別目標設定!M303=\"\",\"\",部門別目標設定!M303)","v":""},null,null,null,null,null,{"$f":"部門別目標設定!L303","v":0},"",null,null,null,null,null,{"$f":"IF(OR(部門別目標設定!I303=0,部門別目標設定!I303=\"\"),部門別目標設定!K303,部門別目標設定!I303)","v":""},null,{"$f":"IF(部門別目標設定!T303=\"\",\"\",(部門別目標設定!T303))","v":""}]
[null,{"$f":"部門別目標設定!B304","v":285},{"$f":"IF(部門別目標設定!C304=\"\",\"\",部門別目標設定!C304)","v":""},{"$f":"IF(部門別目標設定!D304=\"\",\"\",部門別目標設定!D304)","v":""},{"$f":"IF(部門別目標設定!E304=\"\",\"\",部門別目標設定!E304)","v":""},{"$f":"IF(部門別目標設定!F304=\"\",\"\",部門別目標設定!F304)","v":""},{"$f":"IF(部門別目標設定!G304=\"\",\"\",部門別目標設定!G304)","v":""},{"$f":"IF(部門別目標設定!M304=\"\",\"\",部門別目標設定!M304)","v":""},null,null,null,null,null,{"$f":"部門別目標設定!L304","v":0},"",null,null,null,null,null,{"$f":"IF(OR(部門別目標設定!I304=0,部門別目標設定!I304=\"\"),部門別目標設定!K304,部門別目標設定!I304)","v":""},null,{"$f":"IF(部門別目標設定!T304=\"\",\"\",(部門別目標設定!T304))","v":""}]
[null,{"$f":"部門別目標設定!B305","v":286},{"$f":"IF(部門別目標設定!C305=\"\",\"\",部門別目標設定!C305)","v":""},{"$f":"IF(部門別目標設定!D305=\"\",\"\",部門別目標設定!D305)","v":""},{"$f":"IF(部門別目標設定!E305=\"\",\"\",部門別目標設定!E305)","v":""},{"$f":"IF(部門別目標設定!F305=\"\",\"\",部門別目標設定!F305)","v":""},{"$f":"IF(部門別目標設定!G305=\"\",\"\",部門別目標設定!G305)","v":""},{"$f":"IF(部門別目標設定!M305=\"\",\"\",部門別目標設定!M305)","v":""},null,null,null,null,null,{"$f":"部門別目標設定!L305","v":0},"",null,null,null,null,null,{"$f":"IF(OR(部門別目標設定!I305=0,部門別目標設定!I305=\"\"),部門別目標設定!K305,部門別目標設定!I305)","v":""},null,{"$f":"IF(部門別目標設定!T305=\"\",\"\",(部門別目標設定!T305))","v":""}]
[null,{"$f":"部門別目標設定!B306","v":287},{"$f":"IF(部門別目標設定!C306=\"\",\"\",部門別目標設定!C306)","v":""},{"$f":"IF(部門別目標設定!D306=\"\",\"\",部門別目標設定!D306)","v":""},{"$f":"IF(部門別目標設定!E306=\"\",\"\",部門別目標設定!E306)","v":""},{"$f":"IF(部門別目標設定!F306=\"\",\"\",部門別目標設定!F306)","v":""},{"$f":"IF(部門別目標設定!G306=\"\",\"\",部門別目標設定!G306)","v":""},{"$f":"IF(部門別目標設定!M306=\"\",\"\",部門別目標設定!M306)","v":""},null,null,null,null,null,{"$f":"部門別目標設定!L306","v":0},"",null,null,null,null,null,{"$f":"IF(OR(部門別目標設定!I306=0,部門別目標設定!I306=\"\"),部門別目標設定!K306,部門別目標設定!I306)","v":""},null,{"$f":"IF(部門別目標設定!T306=\"\",\"\",(部門別目標設定!T306))","v":""}]
[null,{"$f":"部門別目標設定!B307","v":288},{"$f":"IF(部門別目標設定!C307=\"\",\"\",部門別目標設定!C307)","v":""},{"$f":"IF(部門別目標設定!D307=\"\",\"\",部門別目標設定!D307)","v":""},{"$f":"IF(部門別目標設定!E307=\"\",\"\",部門別目標設定!E307)","v":""},{"$f":"IF(部門別目標設定!F307=\"\",\"\",部門別目標設定!F307)","v":""},{"$f":"IF(部門別目標設定!G307=\"\",\"\",部門別目標設定!G307)","v":""},{"$f":"IF(部門別目標設定!M307=\"\",\"\",部門別目標設定!M307)","v":""},null,null,null,null,null,{"$f":"部門別目標設定!L307","v":0},"",null,null,null,null,null,{"$f":"IF(OR(部門別目標設定!I307=0,部門別目標設定!I307=\"\"),部門別目標設定!K307,部門別目標設定!I307)","v":""},null,{"$f":"IF(部門別目標設定!T307=\"\",\"\",(部門別目標設定!T307))","v":""}]
[null,{"$f":"部門別目標設定!B308","v":289},{"$f":"IF(部門別目標設定!C308=\"\",\"\",部門別目標設定!C308)","v":""},{"$f":"IF(部門別目標設定!D308=\"\",\"\",部門別目標設定!D308)","v":""},{"$f":"IF(部門別目標設定!E308=\"\",\"\",部門別目標設定!E308)","v":""},{"$f":"IF(部門別目標設定!F308=\"\",\"\",部門別目標設定!F308)","v":""},{"$f":"IF(部門別目標設定!G308=\"\",\"\",部門別目標設定!G308)","v":""},{"$f":"IF(部門別目標設定!M308=\"\",\"\",部門別目標設定!M308)","v":""},null,null,null,null,null,{"$f":"部門別目標設定!L308","v":0},"",null,null,null,null,null,{"$f":"IF(OR(部門別目標設定!I308=0,部門別目標設定!I308=\"\"),部門別目標設定!K308,部門別目標設定!I308)","v":""},null,{"$f":"IF(部門別目標設定!T308=\"\",\"\",(部門別目標設定!T308))","v":""}]
[null,{"$f":"部門別目標設定!B309","v":290},{"$f":"IF(部門別目標設定!C309=\"\",\"\",部門別目標設定!C309)","v":""},{"$f":"IF(部門別目標設定!D309=\"\",\"\",部門別目標設定!D309)","v":""},{"$f":"IF(部門別目標設定!E309=\"\",\"\",部門別目標設定!E309)","v":""},{"$f":"IF(部門別目標設定!F309=\"\",\"\",部門別目標設定!F309)","v":""},{"$f":"IF(部門別目標設定!G309=\"\",\"\",部門別目標設定!G309)","v":""},{"$f":"IF(部門別目標設定!M309=\"\",\"\",部門別目標設定!M309)","v":""},null,null,null,null,null,{"$f":"部門別目標設定!L309","v":0},"",null,null,null,null,null,{"$f":"IF(OR(部門別目標設定!I309=0,部門別目標設定!I309=\"\"),部門別目標設定!K309,部門別目標設定!I309)","v":""},null,{"$f":"IF(部門別目標設定!T309=\"\",\"\",(部門別目標設定!T309))","v":""}]
[null,{"$f":"部門別目標設定!B310","v":291},{"$f":"IF(部門別目標設定!C310=\"\",\"\",部門別目標設定!C310)","v":""},{"$f":"IF(部門別目標設定!D310=\"\",\"\",部門別目標設定!D310)","v":""},{"$f":"IF(部門別目標設定!E310=\"\",\"\",部門別目標設定!E310)","v":""},{"$f":"IF(部門別目標設定!F310=\"\",\"\",部門別目標設定!F310)","v":""},{"$f":"IF(部門別目標設定!G310=\"\",\"\",部門別目標設定!G310)","v":""},{"$f":"IF(部門別目標設定!M310=\"\",\"\",部門別目標設定!M310)","v":""},null,null,null,null,null,{"$f":"部門別目標設定!L310","v":0},"",null,null,null,null,null,{"$f":"IF(OR(部門別目標設定!I310=0,部門別目標設定!I310=\"\"),部門別目標設定!K310,部門別目標設定!I310)","v":""},null,{"$f":"IF(部門別目標設定!T310=\"\",\"\",(部門別目標設定!T310))","v":""}]
[null,{"$f":"部門別目標設定!B311","v":292},{"$f":"IF(部門別目標設定!C311=\"\",\"\",部門別目標設定!C311)","v":""},{"$f":"IF(部門別目標設定!D311=\"\",\"\",部門別目標設定!D311)","v":""},{"$f":"IF(部門別目標設定!E311=\"\",\"\",部門別目標設定!E311)","v":""},{"$f":"IF(部門別目標設定!F311=\"\",\"\",部門別目標設定!F311)","v":""},{"$f":"IF(部門別目標設定!G311=\"\",\"\",部門別目標設定!G311)","v":""},{"$f":"IF(部門別目標設定!M311=\"\",\"\",部門別目標設定!M311)","v":""},null,null,null,null,null,{"$f":"部門別目標設定!L311","v":0},"",null,null,null,null,null,{"$f":"IF(OR(部門別目標設定!I311=0,部門別目標設定!I311=\"\"),部門別目標設定!K311,部門別目標設定!I311)","v":""},null,{"$f":"IF(部門別目標設定!T311=\"\",\"\",(部門別目標設定!T311))","v":""}]
[null,{"$f":"部門別目標設定!B312","v":293},{"$f":"IF(部門別目標設定!C312=\"\",\"\",部門別目標設定!C312)","v":""},{"$f":"IF(部門別目標設定!D312=\"\",\"\",部門別目標設定!D312)","v":""},{"$f":"IF(部門別目標設定!E312=\"\",\"\",部門別目標設定!E312)","v":""},{"$f":"IF(部門別目標設定!F312=\"\",\"\",部門別目標設定!F312)","v":""},{"$f":"IF(部門別目標設定!G312=\"\",\"\",部門別目標設定!G312)","v":""},{"$f":"IF(部門別目標設定!M312=\"\",\"\",部門別目標設定!M312)","v":""},null,null,null,null,null,{"$f":"部門別目標設定!L312","v":0},"",null,null,null,null,null,{"$f":"IF(OR(部門別目標設定!I312=0,部門別目標設定!I312=\"\"),部門別目標設定!K312,部門別目標設定!I312)","v":""},null,{"$f":"IF(部門別目標設定!T312=\"\",\"\",(部門別目標設定!T312))","v":""}]
[null,{"$f":"部門別目標設定!B313","v":294},{"$f":"IF(部門別目標設定!C313=\"\",\"\",部門別目標設定!C313)","v":""},{"$f":"IF(部門別目標設定!D313=\"\",\"\",部門別目標設定!D313)","v":""},{"$f":"IF(部門別目標設定!E313=\"\",\"\",部門別目標設定!E313)","v":""},{"$f":"IF(部門別目標設定!F313=\"\",\"\",部門別目標設定!F313)","v":""},{"$f":"IF(部門別目標設定!G313=\"\",\"\",部門別目標設定!G313)","v":""},{"$f":"IF(部門別目標設定!M313=\"\",\"\",部門別目標設定!M313)","v":""},null,null,null,null,null,{"$f":"部門別目標設定!L313","v":0},"",null,null,null,null,null,{"$f":"IF(OR(部門別目標設定!I313=0,部門別目標設定!I313=\"\"),部門別目標設定!K313,部門別目標設定!I313)","v":""},null,{"$f":"IF(部門別目標設定!T313=\"\",\"\",(部門別目標設定!T313))","v":""}]
[null,{"$f":"部門別目標設定!B314","v":295},{"$f":"IF(部門別目標設定!C314=\"\",\"\",部門別目標設定!C314)","v":""},{"$f":"IF(部門別目標設定!D314=\"\",\"\",部門別目標設定!D314)","v":""},{"$f":"IF(部門別目標設定!E314=\"\",\"\",部門別目標設定!E314)","v":""},{"$f":"IF(部門別目標設定!F314=\"\",\"\",部門別目標設定!F314)","v":""},{"$f":"IF(部門別目標設定!G314=\"\",\"\",部門別目標設定!G314)","v":""},{"$f":"IF(部門別目標設定!M314=\"\",\"\",部門別目標設定!M314)","v":""},null,null,null,null,null,{"$f":"部門別目標設定!L314","v":0},"",null,null,null,null,null,{"$f":"IF(OR(部門別目標設定!I314=0,部門別目標設定!I314=\"\"),部門別目標設定!K314,部門別目標設定!I314)","v":""},null,{"$f":"IF(部門別目標設定!T314=\"\",\"\",(部門別目標設定!T314))","v":""}]
[null,{"$f":"部門別目標設定!B315","v":296},{"$f":"IF(部門別目標設定!C315=\"\",\"\",部門別目標設定!C315)","v":""},{"$f":"IF(部門別目標設定!D315=\"\",\"\",部門別目標設定!D315)","v":""},{"$f":"IF(部門別目標設定!E315=\"\",\"\",部門別目標設定!E315)","v":""},{"$f":"IF(部門別目標設定!F315=\"\",\"\",部門別目標設定!F315)","v":""},{"$f":"IF(部門別目標設定!G315=\"\",\"\",部門別目標設定!G315)","v":""},{"$f":"IF(部門別目標設定!M315=\"\",\"\",部門別目標設定!M315)","v":""},null,null,null,null,null,{"$f":"部門別目標設定!L315","v":0},"",null,null,null,null,null,{"$f":"IF(OR(部門別目標設定!I315=0,部門別目標設定!I315=\"\"),部門別目標設定!K315,部門別目標設定!I315)","v":""},null,{"$f":"IF(部門別目標設定!T315=\"\",\"\",(部門別目標設定!T315))","v":""}]
[null,{"$f":"部門別目標設定!B316","v":297},{"$f":"IF(部門別目標設定!C316=\"\",\"\",部門別目標設定!C316)","v":""},{"$f":"IF(部門別目標設定!D316=\"\",\"\",部門別目標設定!D316)","v":""},{"$f":"IF(部門別目標設定!E316=\"\",\"\",部門別目標設定!E316)","v":""},{"$f":"IF(部門別目標設定!F316=\"\",\"\",部門別目標設定!F316)","v":""},{"$f":"IF(部門別目標設定!G316=\"\",\"\",部門別目標設定!G316)","v":""},{"$f":"IF(部門別目標設定!M316=\"\",\"\",部門別目標設定!M316)","v":""},null,null,null,null,null,{"$f":"部門別目標設定!L316","v":0},"",null,null,null,null,null,{"$f":"IF(OR(部門別目標設定!I316=0,部門別目標設定!I316=\"\"),部門別目標設定!K316,部門別目標設定!I316)","v":""},null,{"$f":"IF(部門別目標設定!T316=\"\",\"\",(部門別目標設定!T316))","v":""}]
[null,{"$f":"部門別目標設定!B317","v":298},{"$f":"IF(部門別目標設定!C317=\"\",\"\",部門別目標設定!C317)","v":""},{"$f":"IF(部門別目標設定!D317=\"\",\"\",部門別目標設定!D317)","v":""},{"$f":"IF(部門別目標設定!E317=\"\",\"\",部門別目標設定!E317)","v":""},{"$f":"IF(部門別目標設定!F317=\"\",\"\",部門別目標設定!F317)","v":""},{"$f":"IF(部門別目標設定!G317=\"\",\"\",部門別目標設定!G317)","v":""},{"$f":"IF(部門別目標設定!M317=\"\",\"\",部門別目標設定!M317)","v":""},null,null,null,null,null,{"$f":"部門別目標設定!L317","v":0},"",null,null,null,null,null,{"$f":"IF(OR(部門別目標設定!I317=0,部門別目標設定!I317=\"\"),部門別目標設定!K317,部門別目標設定!I317)","v":""},null,{"$f":"IF(部門別目標設定!T317=\"\",\"\",(部門別目標設定!T317))","v":""}]
[null,{"$f":"部門別目標設定!B318","v":299},{"$f":"IF(部門別目標設定!C318=\"\",\"\",部門別目標設定!C318)","v":""},{"$f":"IF(部門別目標設定!D318=\"\",\"\",部門別目標設定!D318)","v":""},{"$f":"IF(部門別目標設定!E318=\"\",\"\",部門別目標設定!E318)","v":""},{"$f":"IF(部門別目標設定!F318=\"\",\"\",部門別目標設定!F318)","v":""},{"$f":"IF(部門別目標設定!G318=\"\",\"\",部門別目標設定!G318)","v":""},{"$f":"IF(部門別目標設定!M318=\"\",\"\",部門別目標設定!M318)","v":""},null,null,null,null,null,{"$f":"部門別目標設定!L318","v":0},"",null,null,null,null,null,{"$f":"IF(OR(部門別目標設定!I318=0,部門別目標設定!I318=\"\"),部門別目標設定!K318,部門別目標設定!I318)","v":""},null,{"$f":"IF(部門別目標設定!T318=\"\",\"\",(部門別目標設定!T318))","v":""}]
[null,{"$f":"部門別目標設定!B319","v":300},{"$f":"IF(部門別目標設定!C319=\"\",\"\",部門別目標設定!C319)","v":""},{"$f":"IF(部門別目標設定!D319=\"\",\"\",部門別目標設定!D319)","v":""},{"$f":"IF(部門別目標設定!E319=\"\",\"\",部門別目標設定!E319)","v":""},{"$f":"IF(部門別目標設定!F319=\"\",\"\",部門別目標設定!F319)","v":""},{"$f":"IF(部門別目標設定!G319=\"\",\"\",部門別目標設定!G319)","v":""},{"$f":"IF(部門別目標設定!M319=\"\",\"\",部門別目標設定!M319)","v":""},null,null,null,null,null,{"$f":"部門別目標設定!L319","v":0},"",null,null,null,null,null,{"$f":"IF(OR(部門別目標設定!I319=0,部門別目標設定!I319=\"\"),部門別目標設定!K319,部門別目標設定!I319)","v":""},null,{"$f":"IF(部門別目標設定!T319=\"\",\"\",(部門別目標設定!T319))","v":""}]
[null,{"$f":"部門別目標設定!B320","v":301},{"$f":"IF(部門別目標設定!C320=\"\",\"\",部門別目標設定!C320)","v":""},{"$f":"IF(部門別目標設定!D320=\"\",\"\",部門別目標設定!D320)","v":""},{"$f":"IF(部門別目標設定!E320=\"\",\"\",部門別目標設定!E320)","v":""},{"$f":"IF(部門別目標設定!F320=\"\",\"\",部門別目標設定!F320)","v":""},{"$f":"IF(部門別目標設定!G320=\"\",\"\",部門別目標設定!G320)","v":""},{"$f":"IF(部門別目標設定!M320=\"\",\"\",部門別目標設定!M320)","v":""},null,null,null,null,null,{"$f":"部門別目標設定!L320","v":0},"",null,null,null,null,null,{"$f":"IF(OR(部門別目標設定!I320=0,部門別目標設定!I320=\"\"),部門別目標設定!K320,部門別目標設定!I320)","v":""},null,{"$f":"IF(部門別目標設定!T320=\"\",\"\",(部門別目標設定!T320))","v":""}]
[null,{"$f":"部門別目標設定!B321","v":302},{"$f":"IF(部門別目標設定!C321=\"\",\"\",部門別目標設定!C321)","v":""},{"$f":"IF(部門別目標設定!D321=\"\",\"\",部門別目標設定!D321)","v":""},{"$f":"IF(部門別目標設定!E321=\"\",\"\",部門別目標設定!E321)","v":""},{"$f":"IF(部門別目標設定!F321=\"\",\"\",部門別目標設定!F321)","v":""},{"$f":"IF(部門別目標設定!G321=\"\",\"\",部門別目標設定!G321)","v":""},{"$f":"IF(部門別目標設定!M321=\"\",\"\",部門別目標設定!M321)","v":""},null,null,null,null,null,{"$f":"部門別目標設定!L321","v":0},"",null,null,null,null,null,{"$f":"IF(OR(部門別目標設定!I321=0,部門別目標設定!I321=\"\"),部門別目標設定!K321,部門別目標設定!I321)","v":""},null,{"$f":"IF(部門別目標設定!T321=\"\",\"\",(部門別目標設定!T321))","v":""}]
[null,{"$f":"部門別目標設定!B322","v":303},{"$f":"IF(部門別目標設定!C322=\"\",\"\",部門別目標設定!C322)","v":""},{"$f":"IF(部門別目標設定!D322=\"\",\"\",部門別目標設定!D322)","v":""},{"$f":"IF(部門別目標設定!E322=\"\",\"\",部門別目標設定!E322)","v":""},{"$f":"IF(部門別目標設定!F322=\"\",\"\",部門別目標設定!F322)","v":""},{"$f":"IF(部門別目標設定!G322=\"\",\"\",部門別目標設定!G322)","v":""},{"$f":"IF(部門別目標設定!M322=\"\",\"\",部門別目標設定!M322)","v":""},null,null,null,null,null,{"$f":"部門別目標設定!L322","v":0},"",null,null,null,null,null,{"$f":"IF(OR(部門別目標設定!I322=0,部門別目標設定!I322=\"\"),部門別目標設定!K322,部門別目標設定!I322)","v":""},null,{"$f":"IF(部門別目標設定!T322=\"\",\"\",(部門別目標設定!T322))","v":""}]
[null,{"$f":"部門別目標設定!B323","v":304},{"$f":"IF(部門別目標設定!C323=\"\",\"\",部門別目標設定!C323)","v":""},{"$f":"IF(部門別目標設定!D323=\"\",\"\",部門別目標設定!D323)","v":""},{"$f":"IF(部門別目標設定!E323=\"\",\"\",部門別目標設定!E323)","v":""},{"$f":"IF(部門別目標設定!F323=\"\",\"\",部門別目標設定!F323)","v":""},{"$f":"IF(部門別目標設定!G323=\"\",\"\",部門別目標設定!G323)","v":""},{"$f":"IF(部門別目標設定!M323=\"\",\"\",部門別目標設定!M323)","v":""},null,null,null,null,null,{"$f":"部門別目標設定!L323","v":0},"",null,null,null,null,null,{"$f":"IF(OR(部門別目標設定!I323=0,部門別目標設定!I323=\"\"),部門別目標設定!K323,部門別目標設定!I323)","v":""},null,{"$f":"IF(部門別目標設定!T323=\"\",\"\",(部門別目標設定!T323))","v":""}]
[null,{"$f":"部門別目標設定!B324","v":305},{"$f":"IF(部門別目標設定!C324=\"\",\"\",部門別目標設定!C324)","v":""},{"$f":"IF(部門別目標設定!D324=\"\",\"\",部門別目標設定!D324)","v":""},{"$f":"IF(部門別目標設定!E324=\"\",\"\",部門別目標設定!E324)","v":""},{"$f":"IF(部門別目標設定!F324=\"\",\"\",部門別目標設定!F324)","v":""},{"$f":"IF(部門別目標設定!G324=\"\",\"\",部門別目標設定!G324)","v":""},{"$f":"IF(部門別目標設定!M324=\"\",\"\",部門別目標設定!M324)","v":""},null,null,null,null,null,{"$f":"部門別目標設定!L324","v":0},"",null,null,null,null,null,{"$f":"IF(OR(部門別目標設定!I324=0,部門別目標設定!I324=\"\"),部門別目標設定!K324,部門別目標設定!I324)","v":""},null,{"$f":"IF(部門別目標設定!T324=\"\",\"\",(部門別目標設定!T324))","v":""}]
[null,{"$f":"部門別目標設定!B325","v":306},{"$f":"IF(部門別目標設定!C325=\"\",\"\",部門別目標設定!C325)","v":""},{"$f":"IF(部門別目標設定!D325=\"\",\"\",部門別目標設定!D325)","v":""},{"$f":"IF(部門別目標設定!E325=\"\",\"\",部門別目標設定!E325)","v":""},{"$f":"IF(部門別目標設定!F325=\"\",\"\",部門別目標設定!F325)","v":""},{"$f":"IF(部門別目標設定!G325=\"\",\"\",部門別目標設定!G325)","v":""},{"$f":"IF(部門別目標設定!M325=\"\",\"\",部門別目標設定!M325)","v":""},null,null,null,null,null,{"$f":"部門別目標設定!L325","v":0},"",null,null,null,null,null,{"$f":"IF(OR(部門別目標設定!I325=0,部門別目標設定!I325=\"\"),部門別目標設定!K325,部門別目標設定!I325)","v":""},null,{"$f":"IF(部門別目標設定!T325=\"\",\"\",(部門別目標設定!T325))","v":""}]
[null,{"$f":"部門別目標設定!B326","v":307},{"$f":"IF(部門別目標設定!C326=\"\",\"\",部門別目標設定!C326)","v":""},{"$f":"IF(部門別目標設定!D326=\"\",\"\",部門別目標設定!D326)","v":""},{"$f":"IF(部門別目標設定!E326=\"\",\"\",部門別目標設定!E326)","v":""},{"$f":"IF(部門別目標設定!F326=\"\",\"\",部門別目標設定!F326)","v":""},{"$f":"IF(部門別目標設定!G326=\"\",\"\",部門別目標設定!G326)","v":""},{"$f":"IF(部門別目標設定!M326=\"\",\"\",部門別目標設定!M326)","v":""},null,null,null,null,null,{"$f":"部門別目標設定!L326","v":0},"",null,null,null,null,null,{"$f":"IF(OR(部門別目標設定!I326=0,部門別目標設定!I326=\"\"),部門別目標設定!K326,部門別目標設定!I326)","v":""},null,{"$f":"IF(部門別目標設定!T326=\"\",\"\",(部門別目標設定!T326))","v":""}]
[null,{"$f":"部門別目標設定!B327","v":308},{"$f":"IF(部門別目標設定!C327=\"\",\"\",部門別目標設定!C327)","v":""},{"$f":"IF(部門別目標設定!D327=\"\",\"\",部門別目標設定!D327)","v":""},{"$f":"IF(部門別目標設定!E327=\"\",\"\",部門別目標設定!E327)","v":""},{"$f":"IF(部門別目標設定!F327=\"\",\"\",部門別目標設定!F327)","v":""},{"$f":"IF(部門別目標設定!G327=\"\",\"\",部門別目標設定!G327)","v":""},{"$f":"IF(部門別目標設定!M327=\"\",\"\",部門別目標設定!M327)","v":""},null,null,null,null,null,{"$f":"部門別目標設定!L327","v":0},"",null,null,null,null,null,{"$f":"IF(OR(部門別目標設定!I327=0,部門別目標設定!I327=\"\"),部門別目標設定!K327,部門別目標設定!I327)","v":""},null,{"$f":"IF(部門別目標設定!T327=\"\",\"\",(部門別目標設定!T327))","v":""}]
[null,{"$f":"部門別目標設定!B328","v":309},{"$f":"IF(部門別目標設定!C328=\"\",\"\",部門別目標設定!C328)","v":""},{"$f":"IF(部門別目標設定!D328=\"\",\"\",部門別目標設定!D328)","v":""},{"$f":"IF(部門別目標設定!E328=\"\",\"\",部門別目標設定!E328)","v":""},{"$f":"IF(部門別目標設定!F328=\"\",\"\",部門別目標設定!F328)","v":""},{"$f":"IF(部門別目標設定!G328=\"\",\"\",部門別目標設定!G328)","v":""},{"$f":"IF(部門別目標設定!M328=\"\",\"\",部門別目標設定!M328)","v":""},null,null,null,null,null,{"$f":"部門別目標設定!L328","v":0},"",null,null,null,null,null,{"$f":"IF(OR(部門別目標設定!I328=0,部門別目標設定!I328=\"\"),部門別目標設定!K328,部門別目標設定!I328)","v":""},null,{"$f":"IF(部門別目標設定!T328=\"\",\"\",(部門別目標設定!T328))","v":""}]
[null,{"$f":"部門別目標設定!B329","v":310},{"$f":"IF(部門別目標設定!C329=\"\",\"\",部門別目標設定!C329)","v":""},{"$f":"IF(部門別目標設定!D329=\"\",\"\",部門別目標設定!D329)","v":""},{"$f":"IF(部門別目標設定!E329=\"\",\"\",部門別目標設定!E329)","v":""},{"$f":"IF(部門別目標設定!F329=\"\",\"\",部門別目標設定!F329)","v":""},{"$f":"IF(部門別目標設定!G329=\"\",\"\",部門別目標設定!G329)","v":""},{"$f":"IF(部門別目標設定!M329=\"\",\"\",部門別目標設定!M329)","v":""},null,null,null,null,null,{"$f":"部門別目標設定!L329","v":0},"",null,null,null,null,null,{"$f":"IF(OR(部門別目標設定!I329=0,部門別目標設定!I329=\"\"),部門別目標設定!K329,部門別目標設定!I329)","v":""},null,{"$f":"IF(部門別目標設定!T329=\"\",\"\",(部門別目標設定!T329))","v":""}]
[null,{"$f":"部門別目標設定!B330","v":311},{"$f":"IF(部門別目標設定!C330=\"\",\"\",部門別目標設定!C330)","v":""},{"$f":"IF(部門別目標設定!D330=\"\",\"\",部門別目標設定!D330)","v":""},{"$f":"IF(部門別目標設定!E330=\"\",\"\",部門別目標設定!E330)","v":""},{"$f":"IF(部門別目標設定!F330=\"\",\"\",部門別目標設定!F330)","v":""},{"$f":"IF(部門別目標設定!G330=\"\",\"\",部門別目標設定!G330)","v":""},{"$f":"IF(部門別目標設定!M330=\"\",\"\",部門別目標設定!M330)","v":""},null,null,null,null,null,{"$f":"部門別目標設定!L330","v":0},"",null,null,null,null,null,{"$f":"IF(OR(部門別目標設定!I330=0,部門別目標設定!I330=\"\"),部門別目標設定!K330,部門別目標設定!I330)","v":""},null,{"$f":"IF(部門別目標設定!T330=\"\",\"\",(部門別目標設定!T330))","v":""}]
[null,{"$f":"部門別目標設定!B331","v":312},{"$f":"IF(部門別目標設定!C331=\"\",\"\",部門別目標設定!C331)","v":""},{"$f":"IF(部門別目標設定!D331=\"\",\"\",部門別目標設定!D331)","v":""},{"$f":"IF(部門別目標設定!E331=\"\",\"\",部門別目標設定!E331)","v":""},{"$f":"IF(部門別目標設定!F331=\"\",\"\",部門別目標設定!F331)","v":""},{"$f":"IF(部門別目標設定!G331=\"\",\"\",部門別目標設定!G331)","v":""},{"$f":"IF(部門別目標設定!M331=\"\",\"\",部門別目標設定!M331)","v":""},null,null,null,null,null,{"$f":"部門別目標設定!L331","v":0},"",null,null,null,null,null,{"$f":"IF(OR(部門別目標設定!I331=0,部門別目標設定!I331=\"\"),部門別目標設定!K331,部門別目標設定!I331)","v":""},null,{"$f":"IF(部門別目標設定!T331=\"\",\"\",(部門別目標設定!T331))","v":""}]
[null,{"$f":"部門別目標設定!B332","v":313},{"$f":"IF(部門別目標設定!C332=\"\",\"\",部門別目標設定!C332)","v":""},{"$f":"IF(部門別目標設定!D332=\"\",\"\",部門別目標設定!D332)","v":""},{"$f":"IF(部門別目標設定!E332=\"\",\"\",部門別目標設定!E332)","v":""},{"$f":"IF(部門別目標設定!F332=\"\",\"\",部門別目標設定!F332)","v":""},{"$f":"IF(部門別目標設定!G332=\"\",\"\",部門別目標設定!G332)","v":""},{"$f":"IF(部門別目標設定!M332=\"\",\"\",部門別目標設定!M332)","v":""},null,null,null,null,null,{"$f":"部門別目標設定!L332","v":0},"",null,null,null,null,null,{"$f":"IF(OR(部門別目標設定!I332=0,部門別目標設定!I332=\"\"),部門別目標設定!K332,部門別目標設定!I332)","v":""},null,{"$f":"IF(部門別目標設定!T332=\"\",\"\",(部門別目標設定!T332))","v":""}]
[null,{"$f":"部門別目標設定!B333","v":314},{"$f":"IF(部門別目標設定!C333=\"\",\"\",部門別目標設定!C333)","v":""},{"$f":"IF(部門別目標設定!D333=\"\",\"\",部門別目標設定!D333)","v":""},{"$f":"IF(部門別目標設定!E333=\"\",\"\",部門別目標設定!E333)","v":""},{"$f":"IF(部門別目標設定!F333=\"\",\"\",部門別目標設定!F333)","v":""},{"$f":"IF(部門別目標設定!G333=\"\",\"\",部門別目標設定!G333)","v":""},{"$f":"IF(部門別目標設定!M333=\"\",\"\",部門別目標設定!M333)","v":""},null,null,null,null,null,{"$f":"部門別目標設定!L333","v":0},"",null,null,null,null,null,{"$f":"IF(OR(部門別目標設定!I333=0,部門別目標設定!I333=\"\"),部門別目標設定!K333,部門別目標設定!I333)","v":""},null,{"$f":"IF(部門別目標設定!T333=\"\",\"\",(部門別目標設定!T333))","v":""}]
[null,{"$f":"部門別目標設定!B334","v":315},{"$f":"IF(部門別目標設定!C334=\"\",\"\",部門別目標設定!C334)","v":""},{"$f":"IF(部門別目標設定!D334=\"\",\"\",部門別目標設定!D334)","v":""},{"$f":"IF(部門別目標設定!E334=\"\",\"\",部門別目標設定!E334)","v":""},{"$f":"IF(部門別目標設定!F334=\"\",\"\",部門別目標設定!F334)","v":""},{"$f":"IF(部門別目標設定!G334=\"\",\"\",部門別目標設定!G334)","v":""},{"$f":"IF(部門別目標設定!M334=\"\",\"\",部門別目標設定!M334)","v":""},null,null,null,null,null,{"$f":"部門別目標設定!L334","v":0},"",null,null,null,null,null,{"$f":"IF(OR(部門別目標設定!I334=0,部門別目標設定!I334=\"\"),部門別目標設定!K334,部門別目標設定!I334)","v":""},null,{"$f":"IF(部門別目標設定!T334=\"\",\"\",(部門別目標設定!T334))","v":""}]
[null,{"$f":"部門別目標設定!B335","v":316},{"$f":"IF(部門別目標設定!C335=\"\",\"\",部門別目標設定!C335)","v":""},{"$f":"IF(部門別目標設定!D335=\"\",\"\",部門別目標設定!D335)","v":""},{"$f":"IF(部門別目標設定!E335=\"\",\"\",部門別目標設定!E335)","v":""},{"$f":"IF(部門別目標設定!F335=\"\",\"\",部門別目標設定!F335)","v":""},{"$f":"IF(部門別目標設定!G335=\"\",\"\",部門別目標設定!G335)","v":""},{"$f":"IF(部門別目標設定!M335=\"\",\"\",部門別目標設定!M335)","v":""},null,null,null,null,null,{"$f":"部門別目標設定!L335","v":0},"",null,null,null,null,null,{"$f":"IF(OR(部門別目標設定!I335=0,部門別目標設定!I335=\"\"),部門別目標設定!K335,部門別目標設定!I335)","v":""},null,{"$f":"IF(部門別目標設定!T335=\"\",\"\",(部門別目標設定!T335))","v":""}]
[null,{"$f":"部門別目標設定!B336","v":317},{"$f":"IF(部門別目標設定!C336=\"\",\"\",部門別目標設定!C336)","v":""},{"$f":"IF(部門別目標設定!D336=\"\",\"\",部門別目標設定!D336)","v":""},{"$f":"IF(部門別目標設定!E336=\"\",\"\",部門別目標設定!E336)","v":""},{"$f":"IF(部門別目標設定!F336=\"\",\"\",部門別目標設定!F336)","v":""},{"$f":"IF(部門別目標設定!G336=\"\",\"\",部門別目標設定!G336)","v":""},{"$f":"IF(部門別目標設定!M336=\"\",\"\",部門別目標設定!M336)","v":""},null,null,null,null,null,{"$f":"部門別目標設定!L336","v":0},"",null,null,null,null,null,{"$f":"IF(OR(部門別目標設定!I336=0,部門別目標設定!I336=\"\"),部門別目標設定!K336,部門別目標設定!I336)","v":""},null,{"$f":"IF(部門別目標設定!T336=\"\",\"\",(部門別目標設定!T336))","v":""}]
[null,{"$f":"部門別目標設定!B337","v":318},{"$f":"IF(部門別目標設定!C337=\"\",\"\",部門別目標設定!C337)","v":""},{"$f":"IF(部門別目標設定!D337=\"\",\"\",部門別目標設定!D337)","v":""},{"$f":"IF(部門別目標設定!E337=\"\",\"\",部門別目標設定!E337)","v":""},{"$f":"IF(部門別目標設定!F337=\"\",\"\",部門別目標設定!F337)","v":""},{"$f":"IF(部門別目標設定!G337=\"\",\"\",部門別目標設定!G337)","v":""},{"$f":"IF(部門別目標設定!M337=\"\",\"\",部門別目標設定!M337)","v":""},null,null,null,null,null,{"$f":"部門別目標設定!L337","v":0},"",null,null,null,null,null,{"$f":"IF(OR(部門別目標設定!I337=0,部門別目標設定!I337=\"\"),部門別目標設定!K337,部門別目標設定!I337)","v":""},null,{"$f":"IF(部門別目標設定!T337=\"\",\"\",(部門別目標設定!T337))","v":""}]
[null,{"$f":"部門別目標設定!B338","v":319},{"$f":"IF(部門別目標設定!C338=\"\",\"\",部門別目標設定!C338)","v":""},{"$f":"IF(部門別目標設定!D338=\"\",\"\",部門別目標設定!D338)","v":""},{"$f":"IF(部門別目標設定!E338=\"\",\"\",部門別目標設定!E338)","v":""},{"$f":"IF(部門別目標設定!F338=\"\",\"\",部門別目標設定!F338)","v":""},{"$f":"IF(部門別目標設定!G338=\"\",\"\",部門別目標設定!G338)","v":""},{"$f":"IF(部門別目標設定!M338=\"\",\"\",部門別目標設定!M338)","v":""},null,null,null,null,null,{"$f":"部門別目標設定!L338","v":0},"",null,null,null,null,null,{"$f":"IF(OR(部門別目標設定!I338=0,部門別目標設定!I338=\"\"),部門別目標設定!K338,部門別目標設定!I338)","v":""},null,{"$f":"IF(部門別目標設定!T338=\"\",\"\",(部門別目標設定!T338))","v":""}]
[null,{"$f":"部門別目標設定!B339","v":320},{"$f":"IF(部門別目標設定!C339=\"\",\"\",部門別目標設定!C339)","v":""},{"$f":"IF(部門別目標設定!D339=\"\",\"\",部門別目標設定!D339)","v":""},{"$f":"IF(部門別目標設定!E339=\"\",\"\",部門別目標設定!E339)","v":""},{"$f":"IF(部門別目標設定!F339=\"\",\"\",部門別目標設定!F339)","v":""},{"$f":"IF(部門別目標設定!G339=\"\",\"\",部門別目標設定!G339)","v":""},{"$f":"IF(部門別目標設定!M339=\"\",\"\",部門別目標設定!M339)","v":""},null,null,null,null,null,{"$f":"部門別目標設定!L339","v":0},"",null,null,null,null,null,{"$f":"IF(OR(部門別目標設定!I339=0,部門別目標設定!I339=\"\"),部門別目標設定!K339,部門別目標設定!I339)","v":""},null,{"$f":"IF(部門別目標設定!T339=\"\",\"\",(部門別目標設定!T339))","v":""}]
[null,{"$f":"部門別目標設定!B340","v":321},{"$f":"IF(部門別目標設定!C340=\"\",\"\",部門別目標設定!C340)","v":""},{"$f":"IF(部門別目標設定!D340=\"\",\"\",部門別目標設定!D340)","v":""},{"$f":"IF(部門別目標設定!E340=\"\",\"\",部門別目標設定!E340)","v":""},{"$f":"IF(部門別目標設定!F340=\"\",\"\",部門別目標設定!F340)","v":""},{"$f":"IF(部門別目標設定!G340=\"\",\"\",部門別目標設定!G340)","v":""},{"$f":"IF(部門別目標設定!M340=\"\",\"\",部門別目標設定!M340)","v":""},null,null,null,null,null,{"$f":"部門別目標設定!L340","v":0},"",null,null,null,null,null,{"$f":"IF(OR(部門別目標設定!I340=0,部門別目標設定!I340=\"\"),部門別目標設定!K340,部門別目標設定!I340)","v":""},null,{"$f":"IF(部門別目標設定!T340=\"\",\"\",(部門別目標設定!T340))","v":""}]
[null,{"$f":"部門別目標設定!B341","v":322},{"$f":"IF(部門別目標設定!C341=\"\",\"\",部門別目標設定!C341)","v":""},{"$f":"IF(部門別目標設定!D341=\"\",\"\",部門別目標設定!D341)","v":""},{"$f":"IF(部門別目標設定!E341=\"\",\"\",部門別目標設定!E341)","v":""},{"$f":"IF(部門別目標設定!F341=\"\",\"\",部門別目標設定!F341)","v":""},{"$f":"IF(部門別目標設定!G341=\"\",\"\",部門別目標設定!G341)","v":""},{"$f":"IF(部門別目標設定!M341=\"\",\"\",部門別目標設定!M341)","v":""},null,null,null,null,null,{"$f":"部門別目標設定!L341","v":0},{"$f":"IF(OR(I336=\"\",N336=\"\"),\"\",IF(ISERROR(INDEX(I336:M336,MATCH(MAX(I336:M336)+1,I336:M336,1))/N336),\"\",INDEX(I336:M336,MATCH(MAX(I336:M336)+1,I336:M336,1))/N336))","v":""},null,null,null,null,null,{"$f":"IF(OR(部門別目標設定!I341=0,部門別目標設定!I341=\"\"),部門別目標設定!K341,部門別目標設定!I341)","v":""},null,{"$f":"IF(部門別目標設定!T341=\"\",\"\",(部門別目標設定!T341))","v":""}]
[null,{"$f":"部門別目標設定!B342","v":323},{"$f":"IF(部門別目標設定!C342=\"\",\"\",部門別目標設定!C342)","v":""},{"$f":"IF(部門別目標設定!D342=\"\",\"\",部門別目標設定!D342)","v":""},{"$f":"IF(部門別目標設定!E342=\"\",\"\",部門別目標設定!E342)","v":""},{"$f":"IF(部門別目標設定!F342=\"\",\"\",部門別目標設定!F342)","v":""},{"$f":"IF(部門別目標設定!G342=\"\",\"\",部門別目標設定!G342)","v":""},{"$f":"IF(部門別目標設定!M342=\"\",\"\",部門別目標設定!M342)","v":""},null,null,null,null,null,{"$f":"部門別目標設定!L342","v":0},"",null,null,null,null,null,{"$f":"IF(OR(部門別目標設定!I342=0,部門別目標設定!I342=\"\"),部門別目標設定!K342,部門別目標設定!I342)","v":""},null,{"$f":"IF(部門別目標設定!T342=\"\",\"\",(部門別目標設定!T342))","v":""}]
[null,{"$f":"部門別目標設定!B343","v":324},{"$f":"IF(部門別目標設定!C343=\"\",\"\",部門別目標設定!C343)","v":""},{"$f":"IF(部門別目標設定!D343=\"\",\"\",部門別目標設定!D343)","v":""},{"$f":"IF(部門別目標設定!E343=\"\",\"\",部門別目標設定!E343)","v":""},{"$f":"IF(部門別目標設定!F343=\"\",\"\",部門別目標設定!F343)","v":""},{"$f":"IF(部門別目標設定!G343=\"\",\"\",部門別目標設定!G343)","v":""},{"$f":"IF(部門別目標設定!M343=\"\",\"\",部門別目標設定!M343)","v":""},null,null,null,null,null,{"$f":"部門別目標設定!L343","v":0},"",null,null,null,null,null,{"$f":"IF(OR(部門別目標設定!I343=0,部門別目標設定!I343=\"\"),部門別目標設定!K343,部門別目標設定!I343)","v":""},null,{"$f":"IF(部門別目標設定!T343=\"\",\"\",(部門別目標設定!T343))","v":""}]
[null,{"$f":"部門別目標設定!B344","v":325},{"$f":"IF(部門別目標設定!C344=\"\",\"\",部門別目標設定!C344)","v":""},{"$f":"IF(部門別目標設定!D344=\"\",\"\",部門別目標設定!D344)","v":""},{"$f":"IF(部門別目標設定!E344=\"\",\"\",部門別目標設定!E344)","v":""},{"$f":"IF(部門別目標設定!F344=\"\",\"\",部門別目標設定!F344)","v":""},{"$f":"IF(部門別目標設定!G344=\"\",\"\",部門別目標設定!G344)","v":""},{"$f":"IF(部門別目標設定!M344=\"\",\"\",部門別目標設定!M344)","v":""},null,null,null,null,null,{"$f":"部門別目標設定!L344","v":0},"",null,null,null,null,null,{"$f":"IF(OR(部門別目標設定!I344=0,部門別目標設定!I344=\"\"),部門別目標設定!K344,部門別目標設定!I344)","v":""},null,{"$f":"IF(部門別目標設定!T344=\"\",\"\",(部門別目標設定!T344))","v":""}]
[null,{"$f":"部門別目標設定!B345","v":326},{"$f":"IF(部門別目標設定!C345=\"\",\"\",部門別目標設定!C345)","v":""},{"$f":"IF(部門別目標設定!D345=\"\",\"\",部門別目標設定!D345)","v":""},{"$f":"IF(部門別目標設定!E345=\"\",\"\",部門別目標設定!E345)","v":""},{"$f":"IF(部門別目標設定!F345=\"\",\"\",部門別目標設定!F345)","v":""},{"$f":"IF(部門別目標設定!G345=\"\",\"\",部門別目標設定!G345)","v":""},{"$f":"IF(部門別目標設定!M345=\"\",\"\",部門別目標設定!M345)","v":""},null,null,null,null,null,{"$f":"部門別目標設定!L345","v":0},"",null,null,null,null,null,{"$f":"IF(OR(部門別目標設定!I345=0,部門別目標設定!I345=\"\"),部門別目標設定!K345,部門別目標設定!I345)","v":""},null,{"$f":"IF(部門別目標設定!T345=\"\",\"\",(部門別目標設定!T345))","v":""}]
[null,{"$f":"部門別目標設定!B346","v":327},{"$f":"IF(部門別目標設定!C346=\"\",\"\",部門別目標設定!C346)","v":""},{"$f":"IF(部門別目標設定!D346=\"\",\"\",部門別目標設定!D346)","v":""},{"$f":"IF(部門別目標設定!E346=\"\",\"\",部門別目標設定!E346)","v":""},{"$f":"IF(部門別目標設定!F346=\"\",\"\",部門別目標設定!F346)","v":""},{"$f":"IF(部門別目標設定!G346=\"\",\"\",部門別目標設定!G346)","v":""},{"$f":"IF(部門別目標設定!M346=\"\",\"\",部門別目標設定!M346)","v":""},null,null,null,null,null,{"$f":"部門別目標設定!L346","v":0},"",null,null,null,null,null,{"$f":"IF(OR(部門別目標設定!I346=0,部門別目標設定!I346=\"\"),部門別目標設定!K346,部門別目標設定!I346)","v":""},null,{"$f":"IF(部門別目標設定!T346=\"\",\"\",(部門別目標設定!T346))","v":""}]
[null,{"$f":"部門別目標設定!B347","v":328},{"$f":"IF(部門別目標設定!C347=\"\",\"\",部門別目標設定!C347)","v":""},{"$f":"IF(部門別目標設定!D347=\"\",\"\",部門別目標設定!D347)","v":""},{"$f":"IF(部門別目標設定!E347=\"\",\"\",部門別目標設定!E347)","v":""},{"$f":"IF(部門別目標設定!F347=\"\",\"\",部門別目標設定!F347)","v":""},{"$f":"IF(部門別目標設定!G347=\"\",\"\",部門別目標設定!G347)","v":""},{"$f":"IF(部門別目標設定!M347=\"\",\"\",部門別目標設定!M347)","v":""},null,null,null,null,null,{"$f":"部門別目標設定!L347","v":0},"",null,null,null,null,null,{"$f":"IF(OR(部門別目標設定!I347=0,部門別目標設定!I347=\"\"),部門別目標設定!K347,部門別目標設定!I347)","v":""},null,{"$f":"IF(部門別目標設定!T347=\"\",\"\",(部門別目標設定!T347))","v":""}]
[null,{"$f":"部門別目標設定!B348","v":329},{"$f":"IF(部門別目標設定!C348=\"\",\"\",部門別目標設定!C348)","v":""},{"$f":"IF(部門別目標設定!D348=\"\",\"\",部門別目標設定!D348)","v":""},{"$f":"IF(部門別目標設定!E348=\"\",\"\",部門別目標設定!E348)","v":""},{"$f":"IF(部門別目標設定!F348=\"\",\"\",部門別目標設定!F348)","v":""},{"$f":"IF(部門別目標設定!G348=\"\",\"\",部門別目標設定!G348)","v":""},{"$f":"IF(部門別目標設定!M348=\"\",\"\",部門別目標設定!M348)","v":""},null,null,null,null,null,{"$f":"部門別目標設定!L348","v":0},"",null,null,null,null,null,{"$f":"IF(OR(部門別目標設定!I348=0,部門別目標設定!I348=\"\"),部門別目標設定!K348,部門別目標設定!I348)","v":""},null,{"$f":"IF(部門別目標設定!T348=\"\",\"\",(部門別目標設定!T348))","v":""}]
[null,{"$f":"部門別目標設定!B349","v":330},{"$f":"IF(部門別目標設定!C349=\"\",\"\",部門別目標設定!C349)","v":""},{"$f":"IF(部門別目標設定!D349=\"\",\"\",部門別目標設定!D349)","v":""},{"$f":"IF(部門別目標設定!E349=\"\",\"\",部門別目標設定!E349)","v":""},{"$f":"IF(部門別目標設定!F349=\"\",\"\",部門別目標設定!F349)","v":""},{"$f":"IF(部門別目標設定!G349=\"\",\"\",部門別目標設定!G349)","v":""},{"$f":"IF(部門別目標設定!M349=\"\",\"\",部門別目標設定!M349)","v":""},null,null,null,null,null,{"$f":"部門別目標設定!L349","v":0},"",null,null,null,null,null,{"$f":"IF(OR(部門別目標設定!I349=0,部門別目標設定!I349=\"\"),部門別目標設定!K349,部門別目標設定!I349)","v":""},null,{"$f":"IF(部門別目標設定!T349=\"\",\"\",(部門別目標設定!T349))","v":""}]
[null,{"$f":"部門別目標設定!B350","v":331},{"$f":"IF(部門別目標設定!C350=\"\",\"\",部門別目標設定!C350)","v":""},{"$f":"IF(部門別目標設定!D350=\"\",\"\",部門別目標設定!D350)","v":""},{"$f":"IF(部門別目標設定!E350=\"\",\"\",部門別目標設定!E350)","v":""},{"$f":"IF(部門別目標設定!F350=\"\",\"\",部門別目標設定!F350)","v":""},{"$f":"IF(部門別目標設定!G350=\"\",\"\",部門別目標設定!G350)","v":""},{"$f":"IF(部門別目標設定!M350=\"\",\"\",部門別目標設定!M350)","v":""},null,null,null,null,null,{"$f":"部門別目標設定!L350","v":0},"",null,null,null,null,null,{"$f":"IF(OR(部門別目標設定!I350=0,部門別目標設定!I350=\"\"),部門別目標設定!K350,部門別目標設定!I350)","v":""},null,{"$f":"IF(部門別目標設定!T350=\"\",\"\",(部門別目標設定!T350))","v":""}]
[null,{"$f":"部門別目標設定!B351","v":332},{"$f":"IF(部門別目標設定!C351=\"\",\"\",部門別目標設定!C351)","v":""},{"$f":"IF(部門別目標設定!D351=\"\",\"\",部門別目標設定!D351)","v":""},{"$f":"IF(部門別目標設定!E351=\"\",\"\",部門別目標設定!E351)","v":""},{"$f":"IF(部門別目標設定!F351=\"\",\"\",部門別目標設定!F351)","v":""},{"$f":"IF(部門別目標設定!G351=\"\",\"\",部門別目標設定!G351)","v":""},{"$f":"IF(部門別目標設定!M351=\"\",\"\",部門別目標設定!M351)","v":""},null,null,null,null,null,{"$f":"部門別目標設定!L351","v":0},"",null,null,null,null,null,{"$f":"IF(OR(部門別目標設定!I351=0,部門別目標設定!I351=\"\"),部門別目標設定!K351,部門別目標設定!I351)","v":""},null,{"$f":"IF(部門別目標設定!T351=\"\",\"\",(部門別目標設定!T351))","v":""}]
[null,{"$f":"部門別目標設定!B352","v":333},{"$f":"IF(部門別目標設定!C352=\"\",\"\",部門別目標設定!C352)","v":""},{"$f":"IF(部門別目標設定!D352=\"\",\"\",部門別目標設定!D352)","v":""},{"$f":"IF(部門別目標設定!E352=\"\",\"\",部門別目標設定!E352)","v":""},{"$f":"IF(部門別目標設定!F352=\"\",\"\",部門別目標設定!F352)","v":""},{"$f":"IF(部門別目標設定!G352=\"\",\"\",部門別目標設定!G352)","v":""},{"$f":"IF(部門別目標設定!M352=\"\",\"\",部門別目標設定!M352)","v":""},null,null,null,null,null,{"$f":"部門別目標設定!L352","v":0},"",null,null,null,null,null,{"$f":"IF(OR(部門別目標設定!I352=0,部門別目標設定!I352=\"\"),部門別目標設定!K352,部門別目標設定!I352)","v":""},null,{"$f":"IF(部門別目標設定!T352=\"\",\"\",(部門別目標設定!T352))","v":""}]
[null,{"$f":"部門別目標設定!B353","v":334},{"$f":"IF(部門別目標設定!C353=\"\",\"\",部門別目標設定!C353)","v":""},{"$f":"IF(部門別目標設定!D353=\"\",\"\",部門別目標設定!D353)","v":""},{"$f":"IF(部門別目標設定!E353=\"\",\"\",部門別目標設定!E353)","v":""},{"$f":"IF(部門別目標設定!F353=\"\",\"\",部門別目標設定!F353)","v":""},{"$f":"IF(部門別目標設定!G353=\"\",\"\",部門別目標設定!G353)","v":""},{"$f":"IF(部門別目標設定!M353=\"\",\"\",部門別目標設定!M353)","v":""},null,null,null,null,null,{"$f":"部門別目標設定!L353","v":0},"",null,null,null,null,null,{"$f":"IF(OR(部門別目標設定!I353=0,部門別目標設定!I353=\"\"),部門別目標設定!K353,部門別目標設定!I353)","v":""},null,{"$f":"IF(部門別目標設定!T353=\"\",\"\",(部門別目標設定!T353))","v":""}]
[null,{"$f":"部門別目標設定!B354","v":335},{"$f":"IF(部門別目標設定!C354=\"\",\"\",部門別目標設定!C354)","v":""},{"$f":"IF(部門別目標設定!D354=\"\",\"\",部門別目標設定!D354)","v":""},{"$f":"IF(部門別目標設定!E354=\"\",\"\",部門別目標設定!E354)","v":""},{"$f":"IF(部門別目標設定!F354=\"\",\"\",部門別目標設定!F354)","v":""},{"$f":"IF(部門別目標設定!G354=\"\",\"\",部門別目標設定!G354)","v":""},{"$f":"IF(部門別目標設定!M354=\"\",\"\",部門別目標設定!M354)","v":""},null,null,null,null,null,{"$f":"部門別目標設定!L354","v":0},"",null,null,null,null,null,{"$f":"IF(OR(部門別目標設定!I354=0,部門別目標設定!I354=\"\"),部門別目標設定!K354,部門別目標設定!I354)","v":""},null,{"$f":"IF(部門別目標設定!T354=\"\",\"\",(部門別目標設定!T354))","v":""}]
[null,{"$f":"部門別目標設定!B355","v":336},{"$f":"IF(部門別目標設定!C355=\"\",\"\",部門別目標設定!C355)","v":""},{"$f":"IF(部門別目標設定!D355=\"\",\"\",部門別目標設定!D355)","v":""},{"$f":"IF(部門別目標設定!E355=\"\",\"\",部門別目標設定!E355)","v":""},{"$f":"IF(部門別目標設定!F355=\"\",\"\",部門別目標設定!F355)","v":""},{"$f":"IF(部門別目標設定!G355=\"\",\"\",部門別目標設定!G355)","v":""},{"$f":"IF(部門別目標設定!M355=\"\",\"\",部門別目標設定!M355)","v":""},null,null,null,null,null,{"$f":"部門別目標設定!L355","v":0},"",null,null,null,null,null,{"$f":"IF(OR(部門別目標設定!I355=0,部門別目標設定!I355=\"\"),部門別目標設定!K355,部門別目標設定!I355)","v":""},null,{"$f":"IF(部門別目標設定!T355=\"\",\"\",(部門別目標設定!T355))","v":""}]
[null,{"$f":"部門別目標設定!B356","v":337},{"$f":"IF(部門別目標設定!C356=\"\",\"\",部門別目標設定!C356)","v":""},{"$f":"IF(部門別目標設定!D356=\"\",\"\",部門別目標設定!D356)","v":""},{"$f":"IF(部門別目標設定!E356=\"\",\"\",部門別目標設定!E356)","v":""},{"$f":"IF(部門別目標設定!F356=\"\",\"\",部門別目標設定!F356)","v":""},{"$f":"IF(部門別目標設定!G356=\"\",\"\",部門別目標設定!G356)","v":""},{"$f":"IF(部門別目標設定!M356=\"\",\"\",部門別目標設定!M356)","v":""},null,null,null,null,null,{"$f":"部門別目標設定!L356","v":0},"",null,null,null,null,null,{"$f":"IF(OR(部門別目標設定!I356=0,部門別目標設定!I356=\"\"),部門別目標設定!K356,部門別目標設定!I356)","v":""},null,{"$f":"IF(部門別目標設定!T356=\"\",\"\",(部門別目標設定!T356))","v":""}]
[null,{"$f":"部門別目標設定!B357","v":338},{"$f":"IF(部門別目標設定!C357=\"\",\"\",部門別目標設定!C357)","v":""},{"$f":"IF(部門別目標設定!D357=\"\",\"\",部門別目標設定!D357)","v":""},{"$f":"IF(部門別目標設定!E357=\"\",\"\",部門別目標設定!E357)","v":""},{"$f":"IF(部門別目標設定!F357=\"\",\"\",部門別目標設定!F357)","v":""},{"$f":"IF(部門別目標設定!G357=\"\",\"\",部門別目標設定!G357)","v":""},{"$f":"IF(部門別目標設定!M357=\"\",\"\",部門別目標設定!M357)","v":""},null,null,null,null,null,{"$f":"部門別目標設定!L357","v":0},"",null,null,null,null,null,{"$f":"IF(OR(部門別目標設定!I357=0,部門別目標設定!I357=\"\"),部門別目標設定!K357,部門別目標設定!I357)","v":""},null,{"$f":"IF(部門別目標設定!T357=\"\",\"\",(部門別目標設定!T357))","v":""}]
[null,{"$f":"部門別目標設定!B358","v":339},{"$f":"IF(部門別目標設定!C358=\"\",\"\",部門別目標設定!C358)","v":""},{"$f":"IF(部門別目標設定!D358=\"\",\"\",部門別目標設定!D358)","v":""},{"$f":"IF(部門別目標設定!E358=\"\",\"\",部門別目標設定!E358)","v":""},{"$f":"IF(部門別目標設定!F358=\"\",\"\",部門別目標設定!F358)","v":""},{"$f":"IF(部門別目標設定!G358=\"\",\"\",部門別目標設定!G358)","v":""},{"$f":"IF(部門別目標設定!M358=\"\",\"\",部門別目標設定!M358)","v":""},null,null,null,null,null,{"$f":"部門別目標設定!L358","v":0},"",null,null,null,null,null,{"$f":"IF(OR(部門別目標設定!I358=0,部門別目標設定!I358=\"\"),部門別目標設定!K358,部門別目標設定!I358)","v":""},null,{"$f":"IF(部門別目標設定!T358=\"\",\"\",(部門別目標設定!T358))","v":""}]
[null,{"$f":"部門別目標設定!B359","v":340},{"$f":"IF(部門別目標設定!C359=\"\",\"\",部門別目標設定!C359)","v":""},{"$f":"IF(部門別目標設定!D359=\"\",\"\",部門別目標設定!D359)","v":""},{"$f":"IF(部門別目標設定!E359=\"\",\"\",部門別目標設定!E359)","v":""},{"$f":"IF(部門別目標設定!F359=\"\",\"\",部門別目標設定!F359)","v":""},{"$f":"IF(部門別目標設定!G359=\"\",\"\",部門別目標設定!G359)","v":""},{"$f":"IF(部門別目標設定!M359=\"\",\"\",部門別目標設定!M359)","v":""},null,null,null,null,null,{"$f":"部門別目標設定!L359","v":0},"",null,null,null,null,null,{"$f":"IF(OR(部門別目標設定!I359=0,部門別目標設定!I359=\"\"),部門別目標設定!K359,部門別目標設定!I359)","v":""},null,{"$f":"IF(部門別目標設定!T359=\"\",\"\",(部門別目標設定!T359))","v":""}]
[null,{"$f":"部門別目標設定!B360","v":341},{"$f":"IF(部門別目標設定!C360=\"\",\"\",部門別目標設定!C360)","v":""},{"$f":"IF(部門別目標設定!D360=\"\",\"\",部門別目標設定!D360)","v":""},{"$f":"IF(部門別目標設定!E360=\"\",\"\",部門別目標設定!E360)","v":""},{"$f":"IF(部門別目標設定!F360=\"\",\"\",部門別目標設定!F360)","v":""},{"$f":"IF(部門別目標設定!G360=\"\",\"\",部門別目標設定!G360)","v":""},{"$f":"IF(部門別目標設定!M360=\"\",\"\",部門別目標設定!M360)","v":""},null,null,null,null,null,{"$f":"部門別目標設定!L360","v":0},"",null,null,null,null,null,{"$f":"IF(OR(部門別目標設定!I360=0,部門別目標設定!I360=\"\"),部門別目標設定!K360,部門別目標設定!I360)","v":""},null,{"$f":"IF(部門別目標設定!T360=\"\",\"\",(部門別目標設定!T360))","v":""}]
[null,{"$f":"部門別目標設定!B361","v":342},{"$f":"IF(部門別目標設定!C361=\"\",\"\",部門別目標設定!C361)","v":""},{"$f":"IF(部門別目標設定!D361=\"\",\"\",部門別目標設定!D361)","v":""},{"$f":"IF(部門別目標設定!E361=\"\",\"\",部門別目標設定!E361)","v":""},{"$f":"IF(部門別目標設定!F361=\"\",\"\",部門別目標設定!F361)","v":""},{"$f":"IF(部門別目標設定!G361=\"\",\"\",部門別目標設定!G361)","v":""},{"$f":"IF(部門別目標設定!M361=\"\",\"\",部門別目標設定!M361)","v":""},null,null,null,null,null,{"$f":"部門別目標設定!L361","v":0},"",null,null,null,null,null,{"$f":"IF(OR(部門別目標設定!I361=0,部門別目標設定!I361=\"\"),部門別目標設定!K361,部門別目標設定!I361)","v":""},null,{"$f":"IF(部門別目標設定!T361=\"\",\"\",(部門別目標設定!T361))","v":""}]
[null,{"$f":"部門別目標設定!B362","v":343},{"$f":"IF(部門別目標設定!C362=\"\",\"\",部門別目標設定!C362)","v":""},{"$f":"IF(部門別目標設定!D362=\"\",\"\",部門別目標設定!D362)","v":""},{"$f":"IF(部門別目標設定!E362=\"\",\"\",部門別目標設定!E362)","v":""},{"$f":"IF(部門別目標設定!F362=\"\",\"\",部門別目標設定!F362)","v":""},{"$f":"IF(部門別目標設定!G362=\"\",\"\",部門別目標設定!G362)","v":""},{"$f":"IF(部門別目標設定!M362=\"\",\"\",部門別目標設定!M362)","v":""},null,null,null,null,null,{"$f":"部門別目標設定!L362","v":0},"",null,null,null,null,null,{"$f":"IF(OR(部門別目標設定!I362=0,部門別目標設定!I362=\"\"),部門別目標設定!K362,部門別目標設定!I362)","v":""},null,{"$f":"IF(部門別目標設定!T362=\"\",\"\",(部門別目標設定!T362))","v":""}]
[null,{"$f":"部門別目標設定!B363","v":344},{"$f":"IF(部門別目標設定!C363=\"\",\"\",部門別目標設定!C363)","v":""},{"$f":"IF(部門別目標設定!D363=\"\",\"\",部門別目標設定!D363)","v":""},{"$f":"IF(部門別目標設定!E363=\"\",\"\",部門別目標設定!E363)","v":""},{"$f":"IF(部門別目標設定!F363=\"\",\"\",部門別目標設定!F363)","v":""},{"$f":"IF(部門別目標設定!G363=\"\",\"\",部門別目標設定!G363)","v":""},{"$f":"IF(部門別目標設定!M363=\"\",\"\",部門別目標設定!M363)","v":""},null,null,null,null,null,{"$f":"部門別目標設定!L363","v":0},"",null,null,null,null,null,{"$f":"IF(OR(部門別目標設定!I363=0,部門別目標設定!I363=\"\"),部門別目標設定!K363,部門別目標設定!I363)","v":""},null,{"$f":"IF(部門別目標設定!T363=\"\",\"\",(部門別目標設定!T363))","v":""}]
[null,{"$f":"部門別目標設定!B364","v":345},{"$f":"IF(部門別目標設定!C364=\"\",\"\",部門別目標設定!C364)","v":""},{"$f":"IF(部門別目標設定!D364=\"\",\"\",部門別目標設定!D364)","v":""},{"$f":"IF(部門別目標設定!E364=\"\",\"\",部門別目標設定!E364)","v":""},{"$f":"IF(部門別目標設定!F364=\"\",\"\",部門別目標設定!F364)","v":""},{"$f":"IF(部門別目標設定!G364=\"\",\"\",部門別目標設定!G364)","v":""},{"$f":"IF(部門別目標設定!M364=\"\",\"\",部門別目標設定!M364)","v":""},null,null,null,null,null,{"$f":"部門別目標設定!L364","v":0},"",null,null,null,null,null,{"$f":"IF(OR(部門別目標設定!I364=0,部門別目標設定!I364=\"\"),部門別目標設定!K364,部門別目標設定!I364)","v":""},null,{"$f":"IF(部門別目標設定!T364=\"\",\"\",(部門別目標設定!T364))","v":""}]
[null,{"$f":"部門別目標設定!B365","v":346},{"$f":"IF(部門別目標設定!C365=\"\",\"\",部門別目標設定!C365)","v":""},{"$f":"IF(部門別目標設定!D365=\"\",\"\",部門別目標設定!D365)","v":""},{"$f":"IF(部門別目標設定!E365=\"\",\"\",部門別目標設定!E365)","v":""},{"$f":"IF(部門別目標設定!F365=\"\",\"\",部門別目標設定!F365)","v":""},{"$f":"IF(部門別目標設定!G365=\"\",\"\",部門別目標設定!G365)","v":""},{"$f":"IF(部門別目標設定!M365=\"\",\"\",部門別目標設定!M365)","v":""},null,null,null,null,null,{"$f":"部門別目標設定!L365","v":0},"",null,null,null,null,null,{"$f":"IF(OR(部門別目標設定!I365=0,部門別目標設定!I365=\"\"),部門別目標設定!K365,部門別目標設定!I365)","v":""},null,{"$f":"IF(部門別目標設定!T365=\"\",\"\",(部門別目標設定!T365))","v":""}]
[null,{"$f":"部門別目標設定!B366","v":347},{"$f":"IF(部門別目標設定!C366=\"\",\"\",部門別目標設定!C366)","v":""},{"$f":"IF(部門別目標設定!D366=\"\",\"\",部門別目標設定!D366)","v":""},{"$f":"IF(部門別目標設定!E366=\"\",\"\",部門別目標設定!E366)","v":""},{"$f":"IF(部門別目標設定!F366=\"\",\"\",部門別目標設定!F366)","v":""},{"$f":"IF(部門別目標設定!G366=\"\",\"\",部門別目標設定!G366)","v":""},{"$f":"IF(部門別目標設定!M366=\"\",\"\",部門別目標設定!M366)","v":""},null,null,null,null,null,{"$f":"部門別目標設定!L366","v":0},"",null,null,null,null,null,{"$f":"IF(OR(部門別目標設定!I366=0,部門別目標設定!I366=\"\"),部門別目標設定!K366,部門別目標設定!I366)","v":""},null,{"$f":"IF(部門別目標設定!T366=\"\",\"\",(部門別目標設定!T366))","v":""}]
[null,{"$f":"部門別目標設定!B367","v":348},{"$f":"IF(部門別目標設定!C367=\"\",\"\",部門別目標設定!C367)","v":""},{"$f":"IF(部門別目標設定!D367=\"\",\"\",部門別目標設定!D367)","v":""},{"$f":"IF(部門別目標設定!E367=\"\",\"\",部門別目標設定!E367)","v":""},{"$f":"IF(部門別目標設定!F367=\"\",\"\",部門別目標設定!F367)","v":""},{"$f":"IF(部門別目標設定!G367=\"\",\"\",部門別目標設定!G367)","v":""},{"$f":"IF(部門別目標設定!M367=\"\",\"\",部門別目標設定!M367)","v":""},null,null,null,null,null,{"$f":"部門別目標設定!L367","v":0},"",null,null,null,null,null,{"$f":"IF(OR(部門別目標設定!I367=0,部門別目標設定!I367=\"\"),部門別目標設定!K367,部門別目標設定!I367)","v":""},null,{"$f":"IF(部門別目標設定!T367=\"\",\"\",(部門別目標設定!T367))","v":""}]
[null,{"$f":"部門別目標設定!B368","v":349},{"$f":"IF(部門別目標設定!C368=\"\",\"\",部門別目標設定!C368)","v":""},{"$f":"IF(部門別目標設定!D368=\"\",\"\",部門別目標設定!D368)","v":""},{"$f":"IF(部門別目標設定!E368=\"\",\"\",部門別目標設定!E368)","v":""},{"$f":"IF(部門別目標設定!F368=\"\",\"\",部門別目標設定!F368)","v":""},{"$f":"IF(部門別目標設定!G368=\"\",\"\",部門別目標設定!G368)","v":""},{"$f":"IF(部門別目標設定!M368=\"\",\"\",部門別目標設定!M368)","v":""},null,null,null,null,null,{"$f":"部門別目標設定!L368","v":0},"",null,null,null,null,null,{"$f":"IF(OR(部門別目標設定!I368=0,部門別目標設定!I368=\"\"),部門別目標設定!K368,部門別目標設定!I368)","v":""},null,{"$f":"IF(部門別目標設定!T368=\"\",\"\",(部門別目標設定!T368))","v":""}]
[null,{"$f":"部門別目標設定!B369","v":350},{"$f":"IF(部門別目標設定!C369=\"\",\"\",部門別目標設定!C369)","v":""},{"$f":"IF(部門別目標設定!D369=\"\",\"\",部門別目標設定!D369)","v":""},{"$f":"IF(部門別目標設定!E369=\"\",\"\",部門別目標設定!E369)","v":""},{"$f":"IF(部門別目標設定!F369=\"\",\"\",部門別目標設定!F369)","v":""},{"$f":"IF(部門別目標設定!G369=\"\",\"\",部門別目標設定!G369)","v":""},{"$f":"IF(部門別目標設定!M369=\"\",\"\",部門別目標設定!M369)","v":""},null,null,null,null,null,{"$f":"部門別目標設定!L369","v":0},"",null,null,null,null,null,{"$f":"IF(OR(部門別目標設定!I369=0,部門別目標設定!I369=\"\"),部門別目標設定!K369,部門別目標設定!I369)","v":""},null,{"$f":"IF(部門別目標設定!T369=\"\",\"\",(部門別目標設定!T369))","v":""}]
[null,{"$f":"部門別目標設定!B370","v":351},{"$f":"IF(部門別目標設定!C370=\"\",\"\",部門別目標設定!C370)","v":""},{"$f":"IF(部門別目標設定!D370=\"\",\"\",部門別目標設定!D370)","v":""},{"$f":"IF(部門別目標設定!E370=\"\",\"\",部門別目標設定!E370)","v":""},{"$f":"IF(部門別目標設定!F370=\"\",\"\",部門別目標設定!F370)","v":""},{"$f":"IF(部門別目標設定!G370=\"\",\"\",部門別目標設定!G370)","v":""},{"$f":"IF(部門別目標設定!M370=\"\",\"\",部門別目標設定!M370)","v":""},null,null,null,null,null,{"$f":"部門別目標設定!L370","v":0},"",null,null,null,null,null,{"$f":"IF(OR(部門別目標設定!I370=0,部門別目標設定!I370=\"\"),部門別目標設定!K370,部門別目標設定!I370)","v":""},null,{"$f":"IF(部門別目標設定!T370=\"\",\"\",(部門別目標設定!T370))","v":""}]
[null,{"$f":"部門別目標設定!B371","v":352},{"$f":"IF(部門別目標設定!C371=\"\",\"\",部門別目標設定!C371)","v":""},{"$f":"IF(部門別目標設定!D371=\"\",\"\",部門別目標設定!D371)","v":""},{"$f":"IF(部門別目標設定!E371=\"\",\"\",部門別目標設定!E371)","v":""},{"$f":"IF(部門別目標設定!F371=\"\",\"\",部門別目標設定!F371)","v":""},{"$f":"IF(部門別目標設定!G371=\"\",\"\",部門別目標設定!G371)","v":""},{"$f":"IF(部門別目標設定!M371=\"\",\"\",部門別目標設定!M371)","v":""},null,null,null,null,null,{"$f":"部門別目標設定!L371","v":0},"",null,null,null,null,null,{"$f":"IF(OR(部門別目標設定!I371=0,部門別目標設定!I371=\"\"),部門別目標設定!K371,部門別目標設定!I371)","v":""},null,{"$f":"IF(部門別目標設定!T371=\"\",\"\",(部門別目標設定!T371))","v":""}]
[null,{"$f":"部門別目標設定!B372","v":353},{"$f":"IF(部門別目標設定!C372=\"\",\"\",部門別目標設定!C372)","v":""},{"$f":"IF(部門別目標設定!D372=\"\",\"\",部門別目標設定!D372)","v":""},{"$f":"IF(部門別目標設定!E372=\"\",\"\",部門別目標設定!E372)","v":""},{"$f":"IF(部門別目標設定!F372=\"\",\"\",部門別目標設定!F372)","v":""},{"$f":"IF(部門別目標設定!G372=\"\",\"\",部門別目標設定!G372)","v":""},{"$f":"IF(部門別目標設定!M372=\"\",\"\",部門別目標設定!M372)","v":""},null,null,null,null,null,{"$f":"部門別目標設定!L372","v":0},"",null,null,null,null,null,{"$f":"IF(OR(部門別目標設定!I372=0,部門別目標設定!I372=\"\"),部門別目標設定!K372,部門別目標設定!I372)","v":""},null,{"$f":"IF(部門別目標設定!T372=\"\",\"\",(部門別目標設定!T372))","v":""}]
[null,{"$f":"部門別目標設定!B373","v":354},{"$f":"IF(部門別目標設定!C373=\"\",\"\",部門別目標設定!C373)","v":""},{"$f":"IF(部門別目標設定!D373=\"\",\"\",部門別目標設定!D373)","v":""},{"$f":"IF(部門別目標設定!E373=\"\",\"\",部門別目標設定!E373)","v":""},{"$f":"IF(部門別目標設定!F373=\"\",\"\",部門別目標設定!F373)","v":""},{"$f":"IF(部門別目標設定!G373=\"\",\"\",部門別目標設定!G373)","v":""},{"$f":"IF(部門別目標設定!M373=\"\",\"\",部門別目標設定!M373)","v":""},null,null,null,null,null,{"$f":"部門別目標設定!L373","v":0},"",null,null,null,null,null,{"$f":"IF(OR(部門別目標設定!I373=0,部門別目標設定!I373=\"\"),部門別目標設定!K373,部門別目標設定!I373)","v":""},null,{"$f":"IF(部門別目標設定!T373=\"\",\"\",(部門別目標設定!T373))","v":""}]
[null,{"$f":"部門別目標設定!B374","v":355},{"$f":"IF(部門別目標設定!C374=\"\",\"\",部門別目標設定!C374)","v":""},{"$f":"IF(部門別目標設定!D374=\"\",\"\",部門別目標設定!D374)","v":""},{"$f":"IF(部門別目標設定!E374=\"\",\"\",部門別目標設定!E374)","v":""},{"$f":"IF(部門別目標設定!F374=\"\",\"\",部門別目標設定!F374)","v":""},{"$f":"IF(部門別目標設定!G374=\"\",\"\",部門別目標設定!G374)","v":""},{"$f":"IF(部門別目標設定!M374=\"\",\"\",部門別目標設定!M374)","v":""},null,null,null,null,null,{"$f":"部門別目標設定!L374","v":0},"",null,null,null,null,null,{"$f":"IF(OR(部門別目標設定!I374=0,部門別目標設定!I374=\"\"),部門別目標設定!K374,部門別目標設定!I374)","v":""},null,{"$f":"IF(部門別目標設定!T374=\"\",\"\",(部門別目標設定!T374))","v":""}]
[null,{"$f":"部門別目標設定!B375","v":356},{"$f":"IF(部門別目標設定!C375=\"\",\"\",部門別目標設定!C375)","v":""},{"$f":"IF(部門別目標設定!D375=\"\",\"\",部門別目標設定!D375)","v":""},{"$f":"IF(部門別目標設定!E375=\"\",\"\",部門別目標設定!E375)","v":""},{"$f":"IF(部門別目標設定!F375=\"\",\"\",部門別目標設定!F375)","v":""},{"$f":"IF(部門別目標設定!G375=\"\",\"\",部門別目標設定!G375)","v":""},{"$f":"IF(部門別目標設定!M375=\"\",\"\",部門別目標設定!M375)","v":""},null,null,null,null,null,{"$f":"部門別目標設定!L375","v":0},"",null,null,null,null,null,{"$f":"IF(OR(部門別目標設定!I375=0,部門別目標設定!I375=\"\"),部門別目標設定!K375,部門別目標設定!I375)","v":""},null,{"$f":"IF(部門別目標設定!T375=\"\",\"\",(部門別目標設定!T375))","v":""}]
[null,{"$f":"部門別目標設定!B376","v":357},{"$f":"IF(部門別目標設定!C376=\"\",\"\",部門別目標設定!C376)","v":""},{"$f":"IF(部門別目標設定!D376=\"\",\"\",部門別目標設定!D376)","v":""},{"$f":"IF(部門別目標設定!E376=\"\",\"\",部門別目標設定!E376)","v":""},{"$f":"IF(部門別目標設定!F376=\"\",\"\",部門別目標設定!F376)","v":""},{"$f":"IF(部門別目標設定!G376=\"\",\"\",部門別目標設定!G376)","v":""},{"$f":"IF(部門別目標設定!M376=\"\",\"\",部門別目標設定!M376)","v":""},null,null,null,null,null,{"$f":"部門別目標設定!L376","v":0},"",null,null,null,null,null,{"$f":"IF(OR(部門別目標設定!I376=0,部門別目標設定!I376=\"\"),部門別目標設定!K376,部門別目標設定!I376)","v":""},null,{"$f":"IF(部門別目標設定!T376=\"\",\"\",(部門別目標設定!T376))","v":""}]
[null,{"$f":"部門別目標設定!B377","v":358},{"$f":"IF(部門別目標設定!C377=\"\",\"\",部門別目標設定!C377)","v":""},{"$f":"IF(部門別目標設定!D377=\"\",\"\",部門別目標設定!D377)","v":""},{"$f":"IF(部門別目標設定!E377=\"\",\"\",部門別目標設定!E377)","v":""},{"$f":"IF(部門別目標設定!F377=\"\",\"\",部門別目標設定!F377)","v":""},{"$f":"IF(部門別目標設定!G377=\"\",\"\",部門別目標設定!G377)","v":""},{"$f":"IF(部門別目標設定!M377=\"\",\"\",部門別目標設定!M377)","v":""},null,null,null,null,null,{"$f":"部門別目標設定!L377","v":0},"",null,null,null,null,null,{"$f":"IF(OR(部門別目標設定!I377=0,部門別目標設定!I377=\"\"),部門別目標設定!K377,部門別目標設定!I377)","v":""},null,{"$f":"IF(部門別目標設定!T377=\"\",\"\",(部門別目標設定!T377))","v":""}]
[null,{"$f":"部門別目標設定!B378","v":359},{"$f":"IF(部門別目標設定!C378=\"\",\"\",部門別目標設定!C378)","v":""},{"$f":"IF(部門別目標設定!D378=\"\",\"\",部門別目標設定!D378)","v":""},{"$f":"IF(部門別目標設定!E378=\"\",\"\",部門別目標設定!E378)","v":""},{"$f":"IF(部門別目標設定!F378=\"\",\"\",部門別目標設定!F378)","v":""},{"$f":"IF(部門別目標設定!G378=\"\",\"\",部門別目標設定!G378)","v":""},{"$f":"IF(部門別目標設定!M378=\"\",\"\",部門別目標設定!M378)","v":""},null,null,null,null,null,{"$f":"部門別目標設定!L378","v":0},"",null,null,null,null,null,{"$f":"IF(OR(部門別目標設定!I378=0,部門別目標設定!I378=\"\"),部門別目標設定!K378,部門別目標設定!I378)","v":""},null,{"$f":"IF(部門別目標設定!T378=\"\",\"\",(部門別目標設定!T378))","v":""}]
[null,{"$f":"部門別目標設定!B379","v":360},{"$f":"IF(部門別目標設定!C379=\"\",\"\",部門別目標設定!C379)","v":""},{"$f":"IF(部門別目標設定!D379=\"\",\"\",部門別目標設定!D379)","v":""},{"$f":"IF(部門別目標設定!E379=\"\",\"\",部門別目標設定!E379)","v":""},{"$f":"IF(部門別目標設定!F379=\"\",\"\",部門別目標設定!F379)","v":""},{"$f":"IF(部門別目標設定!G379=\"\",\"\",部門別目標設定!G379)","v":""},{"$f":"IF(部門別目標設定!M379=\"\",\"\",部門別目標設定!M379)","v":""},null,null,null,null,null,{"$f":"部門別目標設定!L379","v":0},"",null,null,null,null,null,{"$f":"IF(OR(部門別目標設定!I379=0,部門別目標設定!I379=\"\"),部門別目標設定!K379,部門別目標設定!I379)","v":""},null,{"$f":"IF(部門別目標設定!T379=\"\",\"\",(部門別目標設定!T379))","v":""}]
[null,{"$f":"部門別目標設定!B380","v":361},{"$f":"IF(部門別目標設定!C380=\"\",\"\",部門別目標設定!C380)","v":""},{"$f":"IF(部門別目標設定!D380=\"\",\"\",部門別目標設定!D380)","v":""},{"$f":"IF(部門別目標設定!E380=\"\",\"\",部門別目標設定!E380)","v":""},{"$f":"IF(部門別目標設定!F380=\"\",\"\",部門別目標設定!F380)","v":""},{"$f":"IF(部門別目標設定!G380=\"\",\"\",部門別目標設定!G380)","v":""},{"$f":"IF(部門別目標設定!M380=\"\",\"\",部門別目標設定!M380)","v":""},null,null,null,null,null,{"$f":"部門別目標設定!L380","v":0},"",null,null,null,null,null,{"$f":"IF(OR(部門別目標設定!I380=0,部門別目標設定!I380=\"\"),部門別目標設定!K380,部門別目標設定!I380)","v":""},null,{"$f":"IF(部門別目標設定!T380=\"\",\"\",(部門別目標設定!T380))","v":""}]
[null,{"$f":"部門別目標設定!B381","v":362},{"$f":"IF(部門別目標設定!C381=\"\",\"\",部門別目標設定!C381)","v":""},{"$f":"IF(部門別目標設定!D381=\"\",\"\",部門別目標設定!D381)","v":""},{"$f":"IF(部門別目標設定!E381=\"\",\"\",部門別目標設定!E381)","v":""},{"$f":"IF(部門別目標設定!F381=\"\",\"\",部門別目標設定!F381)","v":""},{"$f":"IF(部門別目標設定!G381=\"\",\"\",部門別目標設定!G381)","v":""},{"$f":"IF(部門別目標設定!M381=\"\",\"\",部門別目標設定!M381)","v":""},null,null,null,null,null,{"$f":"部門別目標設定!L381","v":0},"",null,null,null,null,null,{"$f":"IF(OR(部門別目標設定!I381=0,部門別目標設定!I381=\"\"),部門別目標設定!K381,部門別目標設定!I381)","v":""},null,{"$f":"IF(部門別目標設定!T381=\"\",\"\",(部門別目標設定!T381))","v":""}]
[null,{"$f":"部門別目標設定!B382","v":363},{"$f":"IF(部門別目標設定!C382=\"\",\"\",部門別目標設定!C382)","v":""},{"$f":"IF(部門別目標設定!D382=\"\",\"\",部門別目標設定!D382)","v":""},{"$f":"IF(部門別目標設定!E382=\"\",\"\",部門別目標設定!E382)","v":""},{"$f":"IF(部門別目標設定!F382=\"\",\"\",部門別目標設定!F382)","v":""},{"$f":"IF(部門別目標設定!G382=\"\",\"\",部門別目標設定!G382)","v":""},{"$f":"IF(部門別目標設定!M382=\"\",\"\",部門別目標設定!M382)","v":""},null,null,null,null,null,{"$f":"部門別目標設定!L382","v":0},"",null,null,null,null,null,{"$f":"IF(OR(部門別目標設定!I382=0,部門別目標設定!I382=\"\"),部門別目標設定!K382,部門別目標設定!I382)","v":""},null,{"$f":"IF(部門別目標設定!T382=\"\",\"\",(部門別目標設定!T382))","v":""}]
[null,{"$f":"部門別目標設定!B383","v":364},{"$f":"IF(部門別目標設定!C383=\"\",\"\",部門別目標設定!C383)","v":""},{"$f":"IF(部門別目標設定!D383=\"\",\"\",部門別目標設定!D383)","v":""},{"$f":"IF(部門別目標設定!E383=\"\",\"\",部門別目標設定!E383)","v":""},{"$f":"IF(部門別目標設定!F383=\"\",\"\",部門別目標設定!F383)","v":""},{"$f":"IF(部門別目標設定!G383=\"\",\"\",部門別目標設定!G383)","v":""},{"$f":"IF(部門別目標設定!M383=\"\",\"\",部門別目標設定!M383)","v":""},null,null,null,null,null,{"$f":"部門別目標設定!L383","v":0},"",null,null,null,null,null,{"$f":"IF(OR(部門別目標設定!I383=0,部門別目標設定!I383=\"\"),部門別目標設定!K383,部門別目標設定!I383)","v":""},null,{"$f":"IF(部門別目標設定!T383=\"\",\"\",(部門別目標設定!T383))","v":""}]
[null,{"$f":"部門別目標設定!B384","v":365},{"$f":"IF(部門別目標設定!C384=\"\",\"\",部門別目標設定!C384)","v":""},{"$f":"IF(部門別目標設定!D384=\"\",\"\",部門別目標設定!D384)","v":""},{"$f":"IF(部門別目標設定!E384=\"\",\"\",部門別目標設定!E384)","v":""},{"$f":"IF(部門別目標設定!F384=\"\",\"\",部門別目標設定!F384)","v":""},{"$f":"IF(部門別目標設定!G384=\"\",\"\",部門別目標設定!G384)","v":""},{"$f":"IF(部門別目標設定!M384=\"\",\"\",部門別目標設定!M384)","v":""},null,null,null,null,null,{"$f":"部門別目標設定!L384","v":0},"",null,null,null,null,null,{"$f":"IF(OR(部門別目標設定!I384=0,部門別目標設定!I384=\"\"),部門別目標設定!K384,部門別目標設定!I384)","v":""},null,{"$f":"IF(部門別目標設定!T384=\"\",\"\",(部門別目標設定!T384))","v":""}]
[null,{"$f":"部門別目標設定!B385","v":366},{"$f":"IF(部門別目標設定!C385=\"\",\"\",部門別目標設定!C385)","v":""},{"$f":"IF(部門別目標設定!D385=\"\",\"\",部門別目標設定!D385)","v":""},{"$f":"IF(部門別目標設定!E385=\"\",\"\",部門別目標設定!E385)","v":""},{"$f":"IF(部門別目標設定!F385=\"\",\"\",部門別目標設定!F385)","v":""},{"$f":"IF(部門別目標設定!G385=\"\",\"\",部門別目標設定!G385)","v":""},{"$f":"IF(部門別目標設定!M385=\"\",\"\",部門別目標設定!M385)","v":""},null,null,null,null,null,{"$f":"部門別目標設定!L385","v":0},"",null,null,null,null,null,{"$f":"IF(OR(部門別目標設定!I385=0,部門別目標設定!I385=\"\"),部門別目標設定!K385,部門別目標設定!I385)","v":""},null,{"$f":"IF(部門別目標設定!T385=\"\",\"\",(部門別目標設定!T385))","v":""}]
[null,{"$f":"部門別目標設定!B386","v":367},{"$f":"IF(部門別目標設定!C386=\"\",\"\",部門別目標設定!C386)","v":""},{"$f":"IF(部門別目標設定!D386=\"\",\"\",部門別目標設定!D386)","v":""},{"$f":"IF(部門別目標設定!E386=\"\",\"\",部門別目標設定!E386)","v":""},{"$f":"IF(部門別目標設定!F386=\"\",\"\",部門別目標設定!F386)","v":""},{"$f":"IF(部門別目標設定!G386=\"\",\"\",部門別目標設定!G386)","v":""},{"$f":"IF(部門別目標設定!M386=\"\",\"\",部門別目標設定!M386)","v":""},null,null,null,null,null,{"$f":"部門別目標設定!L386","v":0},"",null,null,null,null,null,{"$f":"IF(OR(部門別目標設定!I386=0,部門別目標設定!I386=\"\"),部門別目標設定!K386,部門別目標設定!I386)","v":""},null,{"$f":"IF(部門別目標設定!T386=\"\",\"\",(部門別目標設定!T386))","v":""}]
[null,{"$f":"部門別目標設定!B387","v":368},{"$f":"IF(部門別目標設定!C387=\"\",\"\",部門別目標設定!C387)","v":""},{"$f":"IF(部門別目標設定!D387=\"\",\"\",部門別目標設定!D387)","v":""},{"$f":"IF(部門別目標設定!E387=\"\",\"\",部門別目標設定!E387)","v":""},{"$f":"IF(部門別目標設定!F387=\"\",\"\",部門別目標設定!F387)","v":""},{"$f":"IF(部門別目標設定!G387=\"\",\"\",部門別目標設定!G387)","v":""},{"$f":"IF(部門別目標設定!M387=\"\",\"\",部門別目標設定!M387)","v":""},null,null,null,null,null,{"$f":"部門別目標設定!L387","v":0},"",null,null,null,null,null,{"$f":"IF(OR(部門別目標設定!I387=0,部門別目標設定!I387=\"\"),部門別目標設定!K387,部門別目標設定!I387)","v":""},null,{"$f":"IF(部門別目標設定!T387=\"\",\"\",(部門別目標設定!T387))","v":""}]
[null,{"$f":"部門別目標設定!B388","v":369},{"$f":"IF(部門別目標設定!C388=\"\",\"\",部門別目標設定!C388)","v":""},{"$f":"IF(部門別目標設定!D388=\"\",\"\",部門別目標設定!D388)","v":""},{"$f":"IF(部門別目標設定!E388=\"\",\"\",部門別目標設定!E388)","v":""},{"$f":"IF(部門別目標設定!F388=\"\",\"\",部門別目標設定!F388)","v":""},{"$f":"IF(部門別目標設定!G388=\"\",\"\",部門別目標設定!G388)","v":""},{"$f":"IF(部門別目標設定!M388=\"\",\"\",部門別目標設定!M388)","v":""},null,null,null,null,null,{"$f":"部門別目標設定!L388","v":0},"",null,null,null,null,null,{"$f":"IF(OR(部門別目標設定!I388=0,部門別目標設定!I388=\"\"),部門別目標設定!K388,部門別目標設定!I388)","v":""},null,{"$f":"IF(部門別目標設定!T388=\"\",\"\",(部門別目標設定!T388))","v":""}]
[null,{"$f":"部門別目標設定!B389","v":370},{"$f":"IF(部門別目標設定!C389=\"\",\"\",部門別目標設定!C389)","v":""},{"$f":"IF(部門別目標設定!D389=\"\",\"\",部門別目標設定!D389)","v":""},{"$f":"IF(部門別目標設定!E389=\"\",\"\",部門別目標設定!E389)","v":""},{"$f":"IF(部門別目標設定!F389=\"\",\"\",部門別目標設定!F389)","v":""},{"$f":"IF(部門別目標設定!G389=\"\",\"\",部門別目標設定!G389)","v":""},{"$f":"IF(部門別目標設定!M389=\"\",\"\",部門別目標設定!M389)","v":""},null,null,null,null,null,{"$f":"部門別目標設定!L389","v":0},"",null,null,null,null,null,{"$f":"IF(OR(部門別目標設定!I389=0,部門別目標設定!I389=\"\"),部門別目標設定!K389,部門別目標設定!I389)","v":""},null,{"$f":"IF(部門別目標設定!T389=\"\",\"\",(部門別目標設定!T389))","v":""}]
[null,{"$f":"部門別目標設定!B390","v":371},{"$f":"IF(部門別目標設定!C390=\"\",\"\",部門別目標設定!C390)","v":""},{"$f":"IF(部門別目標設定!D390=\"\",\"\",部門別目標設定!D390)","v":""},{"$f":"IF(部門別目標設定!E390=\"\",\"\",部門別目標設定!E390)","v":""},{"$f":"IF(部門別目標設定!F390=\"\",\"\",部門別目標設定!F390)","v":""},{"$f":"IF(部門別目標設定!G390=\"\",\"\",部門別目標設定!G390)","v":""},{"$f":"IF(部門別目標設定!M390=\"\",\"\",部門別目標設定!M390)","v":""},null,null,null,null,null,{"$f":"部門別目標設定!L390","v":0},"",null,null,null,null,null,{"$f":"IF(OR(部門別目標設定!I390=0,部門別目標設定!I390=\"\"),部門別目標設定!K390,部門別目標設定!I390)","v":""},null,{"$f":"IF(部門別目標設定!T390=\"\",\"\",(部門別目標設定!T390))","v":""}]
[null,{"$f":"部門別目標設定!B391","v":372},{"$f":"IF(部門別目標設定!C391=\"\",\"\",部門別目標設定!C391)","v":""},{"$f":"IF(部門別目標設定!D391=\"\",\"\",部門別目標設定!D391)","v":""},{"$f":"IF(部門別目標設定!E391=\"\",\"\",部門別目標設定!E391)","v":""},{"$f":"IF(部門別目標設定!F391=\"\",\"\",部門別目標設定!F391)","v":""},{"$f":"IF(部門別目標設定!G391=\"\",\"\",部門別目標設定!G391)","v":""},{"$f":"IF(部門別目標設定!M391=\"\",\"\",部門別目標設定!M391)","v":""},null,null,null,null,null,{"$f":"部門別目標設定!L391","v":0},"",null,null,null,null,null,{"$f":"IF(OR(部門別目標設定!I391=0,部門別目標設定!I391=\"\"),部門別目標設定!K391,部門別目標設定!I391)","v":""},null,{"$f":"IF(部門別目標設定!T391=\"\",\"\",(部門別目標設定!T391))","v":""}]
[null,{"$f":"部門別目標設定!B392","v":373},{"$f":"IF(部門別目標設定!C392=\"\",\"\",部門別目標設定!C392)","v":""},{"$f":"IF(部門別目標設定!D392=\"\",\"\",部門別目標設定!D392)","v":""},{"$f":"IF(部門別目標設定!E392=\"\",\"\",部門別目標設定!E392)","v":""},{"$f":"IF(部門別目標設定!F392=\"\",\"\",部門別目標設定!F392)","v":""},{"$f":"IF(部門別目標設定!G392=\"\",\"\",部門別目標設定!G392)","v":""},{"$f":"IF(部門別目標設定!M392=\"\",\"\",部門別目標設定!M392)","v":""},null,null,null,null,null,{"$f":"部門別目標設定!L392","v":0},"",null,null,null,null,null,{"$f":"IF(OR(部門別目標設定!I392=0,部門別目標設定!I392=\"\"),部門別目標設定!K392,部門別目標設定!I392)","v":""},null,{"$f":"IF(部門別目標設定!T392=\"\",\"\",(部門別目標設定!T392))","v":""}]
[null,{"$f":"部門別目標設定!B393","v":374},{"$f":"IF(部門別目標設定!C393=\"\",\"\",部門別目標設定!C393)","v":""},{"$f":"IF(部門別目標設定!D393=\"\",\"\",部門別目標設定!D393)","v":""},{"$f":"IF(部門別目標設定!E393=\"\",\"\",部門別目標設定!E393)","v":""},{"$f":"IF(部門別目標設定!F393=\"\",\"\",部門別目標設定!F393)","v":""},{"$f":"IF(部門別目標設定!G393=\"\",\"\",部門別目標設定!G393)","v":""},{"$f":"IF(部門別目標設定!M393=\"\",\"\",部門別目標設定!M393)","v":""},null,null,null,null,null,{"$f":"部門別目標設定!L393","v":0},"",null,null,null,null,null,{"$f":"IF(OR(部門別目標設定!I393=0,部門別目標設定!I393=\"\"),部門別目標設定!K393,部門別目標設定!I393)","v":""},null,{"$f":"IF(部門別目標設定!T393=\"\",\"\",(部門別目標設定!T393))","v":""}]
[null,{"$f":"部門別目標設定!B394","v":375},{"$f":"IF(部門別目標設定!C394=\"\",\"\",部門別目標設定!C394)","v":""},{"$f":"IF(部門別目標設定!D394=\"\",\"\",部門別目標設定!D394)","v":""},{"$f":"IF(部門別目標設定!E394=\"\",\"\",部門別目標設定!E394)","v":""},{"$f":"IF(部門別目標設定!F394=\"\",\"\",部門別目標設定!F394)","v":""},{"$f":"IF(部門別目標設定!G394=\"\",\"\",部門別目標設定!G394)","v":""},{"$f":"IF(部門別目標設定!M394=\"\",\"\",部門別目標設定!M394)","v":""},null,null,null,null,null,{"$f":"部門別目標設定!L394","v":0},"",null,null,null,null,null,{"$f":"IF(OR(部門別目標設定!I394=0,部門別目標設定!I394=\"\"),部門別目標設定!K394,部門別目標設定!I394)","v":""},null,{"$f":"IF(部門別目標設定!T394=\"\",\"\",(部門別目標設定!T394))","v":""}]
[null,{"$f":"部門別目標設定!B395","v":376},{"$f":"IF(部門別目標設定!C395=\"\",\"\",部門別目標設定!C395)","v":""},{"$f":"IF(部門別目標設定!D395=\"\",\"\",部門別目標設定!D395)","v":""},{"$f":"IF(部門別目標設定!E395=\"\",\"\",部門別目標設定!E395)","v":""},{"$f":"IF(部門別目標設定!F395=\"\",\"\",部門別目標設定!F395)","v":""},{"$f":"IF(部門別目標設定!G395=\"\",\"\",部門別目標設定!G395)","v":""},{"$f":"IF(部門別目標設定!M395=\"\",\"\",部門別目標設定!M395)","v":""},null,null,null,null,null,{"$f":"部門別目標設定!L395","v":0},"",null,null,null,null,null,{"$f":"IF(OR(部門別目標設定!I395=0,部門別目標設定!I395=\"\"),部門別目標設定!K395,部門別目標設定!I395)","v":""},null,{"$f":"IF(部門別目標設定!T395=\"\",\"\",(部門別目標設定!T395))","v":""}]
[null,{"$f":"部門別目標設定!B396","v":377},{"$f":"IF(部門別目標設定!C396=\"\",\"\",部門別目標設定!C396)","v":""},{"$f":"IF(部門別目標設定!D396=\"\",\"\",部門別目標設定!D396)","v":""},{"$f":"IF(部門別目標設定!E396=\"\",\"\",部門別目標設定!E396)","v":""},{"$f":"IF(部門別目標設定!F396=\"\",\"\",部門別目標設定!F396)","v":""},{"$f":"IF(部門別目標設定!G396=\"\",\"\",部門別目標設定!G396)","v":""},{"$f":"IF(部門別目標設定!M396=\"\",\"\",部門別目標設定!M396)","v":""},null,null,null,null,null,{"$f":"部門別目標設定!L396","v":0},"",null,null,null,null,null,{"$f":"IF(OR(部門別目標設定!I396=0,部門別目標設定!I396=\"\"),部門別目標設定!K396,部門別目標設定!I396)","v":""},null,{"$f":"IF(部門別目標設定!T396=\"\",\"\",(部門別目標設定!T396))","v":""}]
[null,{"$f":"部門別目標設定!B397","v":378},{"$f":"IF(部門別目標設定!C397=\"\",\"\",部門別目標設定!C397)","v":""},{"$f":"IF(部門別目標設定!D397=\"\",\"\",部門別目標設定!D397)","v":""},{"$f":"IF(部門別目標設定!E397=\"\",\"\",部門別目標設定!E397)","v":""},{"$f":"IF(部門別目標設定!F397=\"\",\"\",部門別目標設定!F397)","v":""},{"$f":"IF(部門別目標設定!G397=\"\",\"\",部門別目標設定!G397)","v":""},{"$f":"IF(部門別目標設定!M397=\"\",\"\",部門別目標設定!M397)","v":""},null,null,null,null,null,{"$f":"部門別目標設定!L397","v":0},"",null,null,null,null,null,{"$f":"IF(OR(部門別目標設定!I397=0,部門別目標設定!I397=\"\"),部門別目標設定!K397,部門別目標設定!I397)","v":""},null,{"$f":"IF(部門別目標設定!T397=\"\",\"\",(部門別目標設定!T397))","v":""}]
[null,{"$f":"部門別目標設定!B398","v":379},{"$f":"IF(部門別目標設定!C398=\"\",\"\",部門別目標設定!C398)","v":""},{"$f":"IF(部門別目標設定!D398=\"\",\"\",部門別目標設定!D398)","v":""},{"$f":"IF(部門別目標設定!E398=\"\",\"\",部門別目標設定!E398)","v":""},{"$f":"IF(部門別目標設定!F398=\"\",\"\",部門別目標設定!F398)","v":""},{"$f":"IF(部門別目標設定!G398=\"\",\"\",部門別目標設定!G398)","v":""},{"$f":"IF(部門別目標設定!M398=\"\",\"\",部門別目標設定!M398)","v":""},null,null,null,null,null,{"$f":"部門別目標設定!L398","v":0},"",null,null,null,null,null,{"$f":"IF(OR(部門別目標設定!I398=0,部門別目標設定!I398=\"\"),部門別目標設定!K398,部門別目標設定!I398)","v":""},null,{"$f":"IF(部門別目標設定!T398=\"\",\"\",(部門別目標設定!T398))","v":""}]
[null,{"$f":"部門別目標設定!B399","v":380},{"$f":"IF(部門別目標設定!C399=\"\",\"\",部門別目標設定!C399)","v":""},{"$f":"IF(部門別目標設定!D399=\"\",\"\",部門別目標設定!D399)","v":""},{"$f":"IF(部門別目標設定!E399=\"\",\"\",部門別目標設定!E399)","v":""},{"$f":"IF(部門別目標設定!F399=\"\",\"\",部門別目標設定!F399)","v":""},{"$f":"IF(部門別目標設定!G399=\"\",\"\",部門別目標設定!G399)","v":""},{"$f":"IF(部門別目標設定!M399=\"\",\"\",部門別目標設定!M399)","v":""},null,null,null,null,null,{"$f":"部門別目標設定!L399","v":0},"",null,null,null,null,null,{"$f":"IF(OR(部門別目標設定!I399=0,部門別目標設定!I399=\"\"),部門別目標設定!K399,部門別目標設定!I399)","v":""},null,{"$f":"IF(部門別目標設定!T399=\"\",\"\",(部門別目標設定!T399))","v":""}]
[null,{"$f":"部門別目標設定!B400","v":381},{"$f":"IF(部門別目標設定!C400=\"\",\"\",部門別目標設定!C400)","v":""},{"$f":"IF(部門別目標設定!D400=\"\",\"\",部門別目標設定!D400)","v":""},{"$f":"IF(部門別目標設定!E400=\"\",\"\",部門別目標設定!E400)","v":""},{"$f":"IF(部門別目標設定!F400=\"\",\"\",部門別目標設定!F400)","v":""},{"$f":"IF(部門別目標設定!G400=\"\",\"\",部門別目標設定!G400)","v":""},{"$f":"IF(部門別目標設定!M400=\"\",\"\",部門別目標設定!M400)","v":""},null,null,null,null,null,{"$f":"部門別目標設定!L400","v":0},"",null,null,null,null,null,{"$f":"IF(OR(部門別目標設定!I400=0,部門別目標設定!I400=\"\"),部門別目標設定!K400,部門別目標設定!I400)","v":""},null,{"$f":"IF(部門別目標設定!T400=\"\",\"\",(部門別目標設定!T400))","v":""}]
[null,{"$f":"部門別目標設定!B401","v":382},{"$f":"IF(部門別目標設定!C401=\"\",\"\",部門別目標設定!C401)","v":""},{"$f":"IF(部門別目標設定!D401=\"\",\"\",部門別目標設定!D401)","v":""},{"$f":"IF(部門別目標設定!E401=\"\",\"\",部門別目標設定!E401)","v":""},{"$f":"IF(部門別目標設定!F401=\"\",\"\",部門別目標設定!F401)","v":""},{"$f":"IF(部門別目標設定!G401=\"\",\"\",部門別目標設定!G401)","v":""},{"$f":"IF(部門別目標設定!M401=\"\",\"\",部門別目標設定!M401)","v":""},null,null,null,null,null,{"$f":"部門別目標設定!L401","v":0},"",null,null,null,null,null,{"$f":"IF(OR(部門別目標設定!I401=0,部門別目標設定!I401=\"\"),部門別目標設定!K401,部門別目標設定!I401)","v":""},null,{"$f":"IF(部門別目標設定!T401=\"\",\"\",(部門別目標設定!T401))","v":""}]
[null,{"$f":"部門別目標設定!B402","v":383},{"$f":"IF(部門別目標設定!C402=\"\",\"\",部門別目標設定!C402)","v":""},{"$f":"IF(部門別目標設定!D402=\"\",\"\",部門別目標設定!D402)","v":""},{"$f":"IF(部門別目標設定!E402=\"\",\"\",部門別目標設定!E402)","v":""},{"$f":"IF(部門別目標設定!F402=\"\",\"\",部門別目標設定!F402)","v":""},{"$f":"IF(部門別目標設定!G402=\"\",\"\",部門別目標設定!G402)","v":""},{"$f":"IF(部門別目標設定!M402=\"\",\"\",部門別目標設定!M402)","v":""},null,null,null,null,null,{"$f":"部門別目標設定!L402","v":0},"",null,null,null,null,null,{"$f":"IF(OR(部門別目標設定!I402=0,部門別目標設定!I402=\"\"),部門別目標設定!K402,部門別目標設定!I402)","v":""},null,{"$f":"IF(部門別目標設定!T402=\"\",\"\",(部門別目標設定!T402))","v":""}]
[null,{"$f":"部門別目標設定!B403","v":384},{"$f":"IF(部門別目標設定!C403=\"\",\"\",部門別目標設定!C403)","v":""},{"$f":"IF(部門別目標設定!D403=\"\",\"\",部門別目標設定!D403)","v":""},{"$f":"IF(部門別目標設定!E403=\"\",\"\",部門別目標設定!E403)","v":""},{"$f":"IF(部門別目標設定!F403=\"\",\"\",部門別目標設定!F403)","v":""},{"$f":"IF(部門別目標設定!G403=\"\",\"\",部門別目標設定!G403)","v":""},{"$f":"IF(部門別目標設定!M403=\"\",\"\",部門別目標設定!M403)","v":""},null,null,null,null,null,{"$f":"部門別目標設定!L403","v":0},"",null,null,null,null,null,{"$f":"IF(OR(部門別目標設定!I403=0,部門別目標設定!I403=\"\"),部門別目標設定!K403,部門別目標設定!I403)","v":""},null,{"$f":"IF(部門別目標設定!T403=\"\",\"\",(部門別目標設定!T403))","v":""}]
[null,{"$f":"部門別目標設定!B404","v":385},{"$f":"IF(部門別目標設定!C404=\"\",\"\",部門別目標設定!C404)","v":""},{"$f":"IF(部門別目標設定!D404=\"\",\"\",部門別目標設定!D404)","v":""},{"$f":"IF(部門別目標設定!E404=\"\",\"\",部門別目標設定!E404)","v":""},{"$f":"IF(部門別目標設定!F404=\"\",\"\",部門別目標設定!F404)","v":""},{"$f":"IF(部門別目標設定!G404=\"\",\"\",部門別目標設定!G404)","v":""},{"$f":"IF(部門別目標設定!M404=\"\",\"\",部門別目標設定!M404)","v":""},null,null,null,null,null,{"$f":"部門別目標設定!L404","v":0},"",null,null,null,null,null,{"$f":"IF(OR(部門別目標設定!I404=0,部門別目標設定!I404=\"\"),部門別目標設定!K404,部門別目標設定!I404)","v":""},null,{"$f":"IF(部門別目標設定!T404=\"\",\"\",(部門別目標設定!T404))","v":""}]
[null,{"$f":"部門別目標設定!B405","v":386},{"$f":"IF(部門別目標設定!C405=\"\",\"\",部門別目標設定!C405)","v":""},{"$f":"IF(部門別目標設定!D405=\"\",\"\",部門別目標設定!D405)","v":""},{"$f":"IF(部門別目標設定!E405=\"\",\"\",部門別目標設定!E405)","v":""},{"$f":"IF(部門別目標設定!F405=\"\",\"\",部門別目標設定!F405)","v":""},{"$f":"IF(部門別目標設定!G405=\"\",\"\",部門別目標設定!G405)","v":""},{"$f":"IF(部門別目標設定!M405=\"\",\"\",部門別目標設定!M405)","v":""},null,null,null,null,null,{"$f":"部門別目標設定!L405","v":0},{"$f":"IF(OR(I400=\"\",N400=\"\"),\"\",IF(ISERROR(INDEX(I400:M400,MATCH(MAX(I400:M400)+1,I400:M400,1))/N400),\"\",INDEX(I400:M400,MATCH(MAX(I400:M400)+1,I400:M400,1))/N400))","v":""},null,null,null,null,null,{"$f":"IF(OR(部門別目標設定!I405=0,部門別目標設定!I405=\"\"),部門別目標設定!K405,部門別目標設定!I405)","v":""},null,{"$f":"IF(部門別目標設定!T405=\"\",\"\",(部門別目標設定!T405))","v":""}]
[null,{"$f":"部門別目標設定!B406","v":387},{"$f":"IF(部門別目標設定!C406=\"\",\"\",部門別目標設定!C406)","v":""},{"$f":"IF(部門別目標設定!D406=\"\",\"\",部門別目標設定!D406)","v":""},{"$f":"IF(部門別目標設定!E406=\"\",\"\",部門別目標設定!E406)","v":""},{"$f":"IF(部門別目標設定!F406=\"\",\"\",部門別目標設定!F406)","v":""},{"$f":"IF(部門別目標設定!G406=\"\",\"\",部門別目標設定!G406)","v":""},{"$f":"IF(部門別目標設定!M406=\"\",\"\",部門別目標設定!M406)","v":""},null,null,null,null,null,{"$f":"部門別目標設定!L406","v":0},"",null,null,null,null,null,{"$f":"IF(OR(部門別目標設定!I406=0,部門別目標設定!I406=\"\"),部門別目標設定!K406,部門別目標設定!I406)","v":""},null,{"$f":"IF(部門別目標設定!T406=\"\",\"\",(部門別目標設定!T406))","v":""}]
[null,{"$f":"部門別目標設定!B407","v":388},{"$f":"IF(部門別目標設定!C407=\"\",\"\",部門別目標設定!C407)","v":""},{"$f":"IF(部門別目標設定!D407=\"\",\"\",部門別目標設定!D407)","v":""},{"$f":"IF(部門別目標設定!E407=\"\",\"\",部門別目標設定!E407)","v":""},{"$f":"IF(部門別目標設定!F407=\"\",\"\",部門別目標設定!F407)","v":""},{"$f":"IF(部門別目標設定!G407=\"\",\"\",部門別目標設定!G407)","v":""},{"$f":"IF(部門別目標設定!M407=\"\",\"\",部門別目標設定!M407)","v":""},null,null,null,null,null,{"$f":"部門別目標設定!L407","v":0},"",null,null,null,null,null,{"$f":"IF(OR(部門別目標設定!I407=0,部門別目標設定!I407=\"\"),部門別目標設定!K407,部門別目標設定!I407)","v":""},null,{"$f":"IF(部門別目標設定!T407=\"\",\"\",(部門別目標設定!T407))","v":""}]
[null,{"$f":"部門別目標設定!B408","v":389},{"$f":"IF(部門別目標設定!C408=\"\",\"\",部門別目標設定!C408)","v":""},{"$f":"IF(部門別目標設定!D408=\"\",\"\",部門別目標設定!D408)","v":""},{"$f":"IF(部門別目標設定!E408=\"\",\"\",部門別目標設定!E408)","v":""},{"$f":"IF(部門別目標設定!F408=\"\",\"\",部門別目標設定!F408)","v":""},{"$f":"IF(部門別目標設定!G408=\"\",\"\",部門別目標設定!G408)","v":""},{"$f":"IF(部門別目標設定!M408=\"\",\"\",部門別目標設定!M408)","v":""},null,null,null,null,null,{"$f":"部門別目標設定!L408","v":0},"",null,null,null,null,null,{"$f":"IF(OR(部門別目標設定!I408=0,部門別目標設定!I408=\"\"),部門別目標設定!K408,部門別目標設定!I408)","v":""},null,{"$f":"IF(部門別目標設定!T408=\"\",\"\",(部門別目標設定!T408))","v":""}]
[null,{"$f":"部門別目標設定!B409","v":390},{"$f":"IF(部門別目標設定!C409=\"\",\"\",部門別目標設定!C409)","v":""},{"$f":"IF(部門別目標設定!D409=\"\",\"\",部門別目標設定!D409)","v":""},{"$f":"IF(部門別目標設定!E409=\"\",\"\",部門別目標設定!E409)","v":""},{"$f":"IF(部門別目標設定!F409=\"\",\"\",部門別目標設定!F409)","v":""},{"$f":"IF(部門別目標設定!G409=\"\",\"\",部門別目標設定!G409)","v":""},{"$f":"IF(部門別目標設定!M409=\"\",\"\",部門別目標設定!M409)","v":""},null,null,null,null,null,{"$f":"部門別目標設定!L409","v":0},"",null,null,null,null,null,{"$f":"IF(OR(部門別目標設定!I409=0,部門別目標設定!I409=\"\"),部門別目標設定!K409,部門別目標設定!I409)","v":""},null,{"$f":"IF(部門別目標設定!T409=\"\",\"\",(部門別目標設定!T409))","v":""}]
[null,{"$f":"部門別目標設定!B410","v":391},{"$f":"IF(部門別目標設定!C410=\"\",\"\",部門別目標設定!C410)","v":""},{"$f":"IF(部門別目標設定!D410=\"\",\"\",部門別目標設定!D410)","v":""},{"$f":"IF(部門別目標設定!E410=\"\",\"\",部門別目標設定!E410)","v":""},{"$f":"IF(部門別目標設定!F410=\"\",\"\",部門別目標設定!F410)","v":""},{"$f":"IF(部門別目標設定!G410=\"\",\"\",部門別目標設定!G410)","v":""},{"$f":"IF(部門別目標設定!M410=\"\",\"\",部門別目標設定!M410)","v":""},null,null,null,null,null,{"$f":"部門別目標設定!L410","v":0},"",null,null,null,null,null,{"$f":"IF(OR(部門別目標設定!I410=0,部門別目標設定!I410=\"\"),部門別目標設定!K410,部門別目標設定!I410)","v":""},null,{"$f":"IF(部門別目標設定!T410=\"\",\"\",(部門別目標設定!T410))","v":""}]
[null,{"$f":"部門別目標設定!B411","v":392},{"$f":"IF(部門別目標設定!C411=\"\",\"\",部門別目標設定!C411)","v":""},{"$f":"IF(部門別目標設定!D411=\"\",\"\",部門別目標設定!D411)","v":""},{"$f":"IF(部門別目標設定!E411=\"\",\"\",部門別目標設定!E411)","v":""},{"$f":"IF(部門別目標設定!F411=\"\",\"\",部門別目標設定!F411)","v":""},{"$f":"IF(部門別目標設定!G411=\"\",\"\",部門別目標設定!G411)","v":""},{"$f":"IF(部門別目標設定!M411=\"\",\"\",部門別目標設定!M411)","v":""},null,null,null,null,null,{"$f":"部門別目標設定!L411","v":0},"",null,null,null,null,null,{"$f":"IF(OR(部門別目標設定!I411=0,部門別目標設定!I411=\"\"),部門別目標設定!K411,部門別目標設定!I411)","v":""},null,{"$f":"IF(部門別目標設定!T411=\"\",\"\",(部門別目標設定!T411))","v":""}]
[null,{"$f":"部門別目標設定!B412","v":393},{"$f":"IF(部門別目標設定!C412=\"\",\"\",部門別目標設定!C412)","v":""},{"$f":"IF(部門別目標設定!D412=\"\",\"\",部門別目標設定!D412)","v":""},{"$f":"IF(部門別目標設定!E412=\"\",\"\",部門別目標設定!E412)","v":""},{"$f":"IF(部門別目標設定!F412=\"\",\"\",部門別目標設定!F412)","v":""},{"$f":"IF(部門別目標設定!G412=\"\",\"\",部門別目標設定!G412)","v":""},{"$f":"IF(部門別目標設定!M412=\"\",\"\",部門別目標設定!M412)","v":""},null,null,null,null,null,{"$f":"部門別目標設定!L412","v":0},"",null,null,null,null,null,{"$f":"IF(OR(部門別目標設定!I412=0,部門別目標設定!I412=\"\"),部門別目標設定!K412,部門別目標設定!I412)","v":""},null,{"$f":"IF(部門別目標設定!T412=\"\",\"\",(部門別目標設定!T412))","v":""}]
[null,{"$f":"部門別目標設定!B413","v":394},{"$f":"IF(部門別目標設定!C413=\"\",\"\",部門別目標設定!C413)","v":""},{"$f":"IF(部門別目標設定!D413=\"\",\"\",部門別目標設定!D413)","v":""},{"$f":"IF(部門別目標設定!E413=\"\",\"\",部門別目標設定!E413)","v":""},{"$f":"IF(部門別目標設定!F413=\"\",\"\",部門別目標設定!F413)","v":""},{"$f":"IF(部門別目標設定!G413=\"\",\"\",部門別目標設定!G413)","v":""},{"$f":"IF(部門別目標設定!M413=\"\",\"\",部門別目標設定!M413)","v":""},null,null,null,null,null,{"$f":"部門別目標設定!L413","v":0},"",null,null,null,null,null,{"$f":"IF(OR(部門別目標設定!I413=0,部門別目標設定!I413=\"\"),部門別目標設定!K413,部門別目標設定!I413)","v":""},null,{"$f":"IF(部門別目標設定!T413=\"\",\"\",(部門別目標設定!T413))","v":""}]
[null,{"$f":"部門別目標設定!B414","v":395},{"$f":"IF(部門別目標設定!C414=\"\",\"\",部門別目標設定!C414)","v":""},{"$f":"IF(部門別目標設定!D414=\"\",\"\",部門別目標設定!D414)","v":""},{"$f":"IF(部門別目標設定!E414=\"\",\"\",部門別目標設定!E414)","v":""},{"$f":"IF(部門別目標設定!F414=\"\",\"\",部門別目標設定!F414)","v":""},{"$f":"IF(部門別目標設定!G414=\"\",\"\",部門別目標設定!G414)","v":""},{"$f":"IF(部門別目標設定!M414=\"\",\"\",部門別目標設定!M414)","v":""},null,null,null,null,null,{"$f":"部門別目標設定!L414","v":0},"",null,null,null,null,null,{"$f":"IF(OR(部門別目標設定!I414=0,部門別目標設定!I414=\"\"),部門別目標設定!K414,部門別目標設定!I414)","v":""},null,{"$f":"IF(部門別目標設定!T414=\"\",\"\",(部門別目標設定!T414))","v":""}]
[null,{"$f":"部門別目標設定!B415","v":396},{"$f":"IF(部門別目標設定!C415=\"\",\"\",部門別目標設定!C415)","v":""},{"$f":"IF(部門別目標設定!D415=\"\",\"\",部門別目標設定!D415)","v":""},{"$f":"IF(部門別目標設定!E415=\"\",\"\",部門別目標設定!E415)","v":""},{"$f":"IF(部門別目標設定!F415=\"\",\"\",部門別目標設定!F415)","v":""},{"$f":"IF(部門別目標設定!G415=\"\",\"\",部門別目標設定!G415)","v":""},{"$f":"IF(部門別目標設定!M415=\"\",\"\",部門別目標設定!M415)","v":""},null,null,null,null,null,{"$f":"部門別目標設定!L415","v":0},"",null,null,null,null,null,{"$f":"IF(OR(部門別目標設定!I415=0,部門別目標設定!I415=\"\"),部門別目標設定!K415,部門別目標設定!I415)","v":""},null,{"$f":"IF(部門別目標設定!T415=\"\",\"\",(部門別目標設定!T415))","v":""}]
[null,{"$f":"部門別目標設定!B416","v":397},{"$f":"IF(部門別目標設定!C416=\"\",\"\",部門別目標設定!C416)","v":""},{"$f":"IF(部門別目標設定!D416=\"\",\"\",部門別目標設定!D416)","v":""},{"$f":"IF(部門別目標設定!E416=\"\",\"\",部門別目標設定!E416)","v":""},{"$f":"IF(部門別目標設定!F416=\"\",\"\",部門別目標設定!F416)","v":""},{"$f":"IF(部門別目標設定!G416=\"\",\"\",部門別目標設定!G416)","v":""},{"$f":"IF(部門別目標設定!M416=\"\",\"\",部門別目標設定!M416)","v":""},null,null,null,null,null,{"$f":"部門別目標設定!L416","v":0},"",null,null,null,null,null,{"$f":"IF(OR(部門別目標設定!I416=0,部門別目標設定!I416=\"\"),部門別目標設定!K416,部門別目標設定!I416)","v":""},null,{"$f":"IF(部門別目標設定!T416=\"\",\"\",(部門別目標設定!T416))","v":""}]
[null,{"$f":"部門別目標設定!B417","v":398},{"$f":"IF(部門別目標設定!C417=\"\",\"\",部門別目標設定!C417)","v":""},{"$f":"IF(部門別目標設定!D417=\"\",\"\",部門別目標設定!D417)","v":""},{"$f":"IF(部門別目標設定!E417=\"\",\"\",部門別目標設定!E417)","v":""},{"$f":"IF(部門別目標設定!F417=\"\",\"\",部門別目標設定!F417)","v":""},{"$f":"IF(部門別目標設定!G417=\"\",\"\",部門別目標設定!G417)","v":""},{"$f":"IF(部門別目標設定!M417=\"\",\"\",部門別目標設定!M417)","v":""},null,null,null,null,null,{"$f":"部門別目標設定!L417","v":0},"",null,null,null,null,null,{"$f":"IF(OR(部門別目標設定!I417=0,部門別目標設定!I417=\"\"),部門別目標設定!K417,部門別目標設定!I417)","v":""},null,{"$f":"IF(部門別目標設定!T417=\"\",\"\",(部門別目標設定!T417))","v":""}]
[null,{"$f":"部門別目標設定!B418","v":399},{"$f":"IF(部門別目標設定!C418=\"\",\"\",部門別目標設定!C418)","v":""},{"$f":"IF(部門別目標設定!D418=\"\",\"\",部門別目標設定!D418)","v":""},{"$f":"IF(部門別目標設定!E418=\"\",\"\",部門別目標設定!E418)","v":""},{"$f":"IF(部門別目標設定!F418=\"\",\"\",部門別目標設定!F418)","v":""},{"$f":"IF(部門別目標設定!G418=\"\",\"\",部門別目標設定!G418)","v":""},{"$f":"IF(部門別目標設定!M418=\"\",\"\",部門別目標設定!M418)","v":""},null,null,null,null,null,{"$f":"部門別目標設定!L418","v":0},"",null,null,null,null,null,{"$f":"IF(OR(部門別目標設定!I418=0,部門別目標設定!I418=\"\"),部門別目標設定!K418,部門別目標設定!I418)","v":""},null,{"$f":"IF(部門別目標設定!T418=\"\",\"\",(部門別目標設定!T418))","v":""}]
[null,{"$f":"部門別目標設定!B419","v":400},{"$f":"IF(部門別目標設定!C419=\"\",\"\",部門別目標設定!C419)","v":""},{"$f":"IF(部門別目標設定!D419=\"\",\"\",部門別目標設定!D419)","v":""},{"$f":"IF(部門別目標設定!E419=\"\",\"\",部門別目標設定!E419)","v":""},{"$f":"IF(部門別目標設定!F419=\"\",\"\",部門別目標設定!F419)","v":""},{"$f":"IF(部門別目標設定!G419=\"\",\"\",部門別目標設定!G419)","v":""},{"$f":"IF(部門別目標設定!M419=\"\",\"\",部門別目標設定!M419)","v":""},null,null,null,null,null,{"$f":"部門別目標設定!L419","v":0},"",null,null,null,null,null,{"$f":"IF(OR(部門別目標設定!I419=0,部門別目標設定!I419=\"\"),部門別目標設定!K419,部門別目標設定!I419)","v":""},null,{"$f":"IF(部門別目標設定!T419=\"\",\"\",(部門別目標設定!T419))","v":""}]
[null,{"$f":"部門別目標設定!B420","v":401},{"$f":"IF(部門別目標設定!C420=\"\",\"\",部門別目標設定!C420)","v":""},{"$f":"IF(部門別目標設定!D420=\"\",\"\",部門別目標設定!D420)","v":""},{"$f":"IF(部門別目標設定!E420=\"\",\"\",部門別目標設定!E420)","v":""},{"$f":"IF(部門別目標設定!F420=\"\",\"\",部門別目標設定!F420)","v":""},{"$f":"IF(部門別目標設定!G420=\"\",\"\",部門別目標設定!G420)","v":""},{"$f":"IF(部門別目標設定!M420=\"\",\"\",部門別目標設定!M420)","v":""},null,null,null,null,null,{"$f":"部門別目標設定!L420","v":0},"",null,null,null,null,null,{"$f":"IF(OR(部門別目標設定!I420=0,部門別目標設定!I420=\"\"),部門別目標設定!K420,部門別目標設定!I420)","v":""},null,{"$f":"IF(部門別目標設定!T420=\"\",\"\",(部門別目標設定!T420))","v":""}]
[null,{"$f":"部門別目標設定!B421","v":402},{"$f":"IF(部門別目標設定!C421=\"\",\"\",部門別目標設定!C421)","v":""},{"$f":"IF(部門別目標設定!D421=\"\",\"\",部門別目標設定!D421)","v":""},{"$f":"IF(部門別目標設定!E421=\"\",\"\",部門別目標設定!E421)","v":""},{"$f":"IF(部門別目標設定!F421=\"\",\"\",部門別目標設定!F421)","v":""},{"$f":"IF(部門別目標設定!G421=\"\",\"\",部門別目標設定!G421)","v":""},{"$f":"IF(部門別目標設定!M421=\"\",\"\",部門別目標設定!M421)","v":""},null,null,null,null,null,{"$f":"部門別目標設定!L421","v":0},"",null,null,null,null,null,{"$f":"IF(OR(部門別目標設定!I421=0,部門別目標設定!I421=\"\"),部門別目標設定!K421,部門別目標設定!I421)","v":""},null,{"$f":"IF(部門別目標設定!T421=\"\",\"\",(部門別目標設定!T421))","v":""}]
[null,{"$f":"部門別目標設定!B422","v":403},{"$f":"IF(部門別目標設定!C422=\"\",\"\",部門別目標設定!C422)","v":""},{"$f":"IF(部門別目標設定!D422=\"\",\"\",部門別目標設定!D422)","v":""},{"$f":"IF(部門別目標設定!E422=\"\",\"\",部門別目標設定!E422)","v":""},{"$f":"IF(部門別目標設定!F422=\"\",\"\",部門別目標設定!F422)","v":""},{"$f":"IF(部門別目標設定!G422=\"\",\"\",部門別目標設定!G422)","v":""},{"$f":"IF(部門別目標設定!M422=\"\",\"\",部門別目標設定!M422)","v":""},null,null,null,null,null,{"$f":"部門別目標設定!L422","v":0},"",null,null,null,null,null,{"$f":"IF(OR(部門別目標設定!I422=0,部門別目標設定!I422=\"\"),部門別目標設定!K422,部門別目標設定!I422)","v":""},null,{"$f":"IF(部門別目標設定!T422=\"\",\"\",(部門別目標設定!T422))","v":""}]
[null,{"$f":"部門別目標設定!B423","v":404},{"$f":"IF(部門別目標設定!C423=\"\",\"\",部門別目標設定!C423)","v":""},{"$f":"IF(部門別目標設定!D423=\"\",\"\",部門別目標設定!D423)","v":""},{"$f":"IF(部門別目標設定!E423=\"\",\"\",部門別目標設定!E423)","v":""},{"$f":"IF(部門別目標設定!F423=\"\",\"\",部門別目標設定!F423)","v":""},{"$f":"IF(部門別目標設定!G423=\"\",\"\",部門別目標設定!G423)","v":""},{"$f":"IF(部門別目標設定!M423=\"\",\"\",部門別目標設定!M423)","v":""},null,null,null,null,null,{"$f":"部門別目標設定!L423","v":0},"",null,null,null,null,null,{"$f":"IF(OR(部門別目標設定!I423=0,部門別目標設定!I423=\"\"),部門別目標設定!K423,部門別目標設定!I423)","v":""},null,{"$f":"IF(部門別目標設定!T423=\"\",\"\",(部門別目標設定!T423))","v":""}]
[null,{"$f":"部門別目標設定!B424","v":405},{"$f":"IF(部門別目標設定!C424=\"\",\"\",部門別目標設定!C424)","v":""},{"$f":"IF(部門別目標設定!D424=\"\",\"\",部門別目標設定!D424)","v":""},{"$f":"IF(部門別目標設定!E424=\"\",\"\",部門別目標設定!E424)","v":""},{"$f":"IF(部門別目標設定!F424=\"\",\"\",部門別目標設定!F424)","v":""},{"$f":"IF(部門別目標設定!G424=\"\",\"\",部門別目標設定!G424)","v":""},{"$f":"IF(部門別目標設定!M424=\"\",\"\",部門別目標設定!M424)","v":""},null,null,null,null,null,{"$f":"部門別目標設定!L424","v":0},"",null,null,null,null,null,{"$f":"IF(OR(部門別目標設定!I424=0,部門別目標設定!I424=\"\"),部門別目標設定!K424,部門別目標設定!I424)","v":""},null,{"$f":"IF(部門別目標設定!T424=\"\",\"\",(部門別目標設定!T424))","v":""}]
[null,{"$f":"部門別目標設定!B425","v":406},{"$f":"IF(部門別目標設定!C425=\"\",\"\",部門別目標設定!C425)","v":""},{"$f":"IF(部門別目標設定!D425=\"\",\"\",部門別目標設定!D425)","v":""},{"$f":"IF(部門別目標設定!E425=\"\",\"\",部門別目標設定!E425)","v":""},{"$f":"IF(部門別目標設定!F425=\"\",\"\",部門別目標設定!F425)","v":""},{"$f":"IF(部門別目標設定!G425=\"\",\"\",部門別目標設定!G425)","v":""},{"$f":"IF(部門別目標設定!M425=\"\",\"\",部門別目標設定!M425)","v":""},null,null,null,null,null,{"$f":"部門別目標設定!L425","v":0},"",null,null,null,null,null,{"$f":"IF(OR(部門別目標設定!I425=0,部門別目標設定!I425=\"\"),部門別目標設定!K425,部門別目標設定!I425)","v":""},null,{"$f":"IF(部門別目標設定!T425=\"\",\"\",(部門別目標設定!T425))","v":""}]
[null,{"$f":"部門別目標設定!B426","v":407},{"$f":"IF(部門別目標設定!C426=\"\",\"\",部門別目標設定!C426)","v":""},{"$f":"IF(部門別目標設定!D426=\"\",\"\",部門別目標設定!D426)","v":""},{"$f":"IF(部門別目標設定!E426=\"\",\"\",部門別目標設定!E426)","v":""},{"$f":"IF(部門別目標設定!F426=\"\",\"\",部門別目標設定!F426)","v":""},{"$f":"IF(部門別目標設定!G426=\"\",\"\",部門別目標設定!G426)","v":""},{"$f":"IF(部門別目標設定!M426=\"\",\"\",部門別目標設定!M426)","v":""},null,null,null,null,null,{"$f":"部門別目標設定!L426","v":0},"",null,null,null,null,null,{"$f":"IF(OR(部門別目標設定!I426=0,部門別目標設定!I426=\"\"),部門別目標設定!K426,部門別目標設定!I426)","v":""},null,{"$f":"IF(部門別目標設定!T426=\"\",\"\",(部門別目標設定!T426))","v":""}]
[null,{"$f":"部門別目標設定!B427","v":408},{"$f":"IF(部門別目標設定!C427=\"\",\"\",部門別目標設定!C427)","v":""},{"$f":"IF(部門別目標設定!D427=\"\",\"\",部門別目標設定!D427)","v":""},{"$f":"IF(部門別目標設定!E427=\"\",\"\",部門別目標設定!E427)","v":""},{"$f":"IF(部門別目標設定!F427=\"\",\"\",部門別目標設定!F427)","v":""},{"$f":"IF(部門別目標設定!G427=\"\",\"\",部門別目標設定!G427)","v":""},{"$f":"IF(部門別目標設定!M427=\"\",\"\",部門別目標設定!M427)","v":""},null,null,null,null,null,{"$f":"部門別目標設定!L427","v":0},"",null,null,null,null,null,{"$f":"IF(OR(部門別目標設定!I427=0,部門別目標設定!I427=\"\"),部門別目標設定!K427,部門別目標設定!I427)","v":""},null,{"$f":"IF(部門別目標設定!T427=\"\",\"\",(部門別目標設定!T427))","v":""}]
[null,{"$f":"部門別目標設定!B428","v":409},{"$f":"IF(部門別目標設定!C428=\"\",\"\",部門別目標設定!C428)","v":""},{"$f":"IF(部門別目標設定!D428=\"\",\"\",部門別目標設定!D428)","v":""},{"$f":"IF(部門別目標設定!E428=\"\",\"\",部門別目標設定!E428)","v":""},{"$f":"IF(部門別目標設定!F428=\"\",\"\",部門別目標設定!F428)","v":""},{"$f":"IF(部門別目標設定!G428=\"\",\"\",部門別目標設定!G428)","v":""},{"$f":"IF(部門別目標設定!M428=\"\",\"\",部門別目標設定!M428)","v":""},null,null,null,null,null,{"$f":"部門別目標設定!L428","v":0},"",null,null,null,null,null,{"$f":"IF(OR(部門別目標設定!I428=0,部門別目標設定!I428=\"\"),部門別目標設定!K428,部門別目標設定!I428)","v":""},null,{"$f":"IF(部門別目標設定!T428=\"\",\"\",(部門別目標設定!T428))","v":""}]
[null,{"$f":"部門別目標設定!B429","v":410},{"$f":"IF(部門別目標設定!C429=\"\",\"\",部門別目標設定!C429)","v":""},{"$f":"IF(部門別目標設定!D429=\"\",\"\",部門別目標設定!D429)","v":""},{"$f":"IF(部門別目標設定!E429=\"\",\"\",部門別目標設定!E429)","v":""},{"$f":"IF(部門別目標設定!F429=\"\",\"\",部門別目標設定!F429)","v":""},{"$f":"IF(部門別目標設定!G429=\"\",\"\",部門別目標設定!G429)","v":""},{"$f":"IF(部門別目標設定!M429=\"\",\"\",部門別目標設定!M429)","v":""},null,null,null,null,null,{"$f":"部門別目標設定!L429","v":0},"",null,null,null,null,null,{"$f":"IF(OR(部門別目標設定!I429=0,部門別目標設定!I429=\"\"),部門別目標設定!K429,部門別目標設定!I429)","v":""},null,{"$f":"IF(部門別目標設定!T429=\"\",\"\",(部門別目標設定!T429))","v":""}]
[null,{"$f":"部門別目標設定!B430","v":411},{"$f":"IF(部門別目標設定!C430=\"\",\"\",部門別目標設定!C430)","v":""},{"$f":"IF(部門別目標設定!D430=\"\",\"\",部門別目標設定!D430)","v":""},{"$f":"IF(部門別目標設定!E430=\"\",\"\",部門別目標設定!E430)","v":""},{"$f":"IF(部門別目標設定!F430=\"\",\"\",部門別目標設定!F430)","v":""},{"$f":"IF(部門別目標設定!G430=\"\",\"\",部門別目標設定!G430)","v":""},{"$f":"IF(部門別目標設定!M430=\"\",\"\",部門別目標設定!M430)","v":""},null,null,null,null,null,{"$f":"部門別目標設定!L430","v":0},"",null,null,null,null,null,{"$f":"IF(OR(部門別目標設定!I430=0,部門別目標設定!I430=\"\"),部門別目標設定!K430,部門別目標設定!I430)","v":""},null,{"$f":"IF(部門別目標設定!T430=\"\",\"\",(部門別目標設定!T430))","v":""}]
[null,{"$f":"部門別目標設定!B431","v":412},{"$f":"IF(部門別目標設定!C431=\"\",\"\",部門別目標設定!C431)","v":""},{"$f":"IF(部門別目標設定!D431=\"\",\"\",部門別目標設定!D431)","v":""},{"$f":"IF(部門別目標設定!E431=\"\",\"\",部門別目標設定!E431)","v":""},{"$f":"IF(部門別目標設定!F431=\"\",\"\",部門別目標設定!F431)","v":""},{"$f":"IF(部門別目標設定!G431=\"\",\"\",部門別目標設定!G431)","v":""},{"$f":"IF(部門別目標設定!M431=\"\",\"\",部門別目標設定!M431)","v":""},null,null,null,null,null,{"$f":"部門別目標設定!L431","v":0},"",null,null,null,null,null,{"$f":"IF(OR(部門別目標設定!I431=0,部門別目標設定!I431=\"\"),部門別目標設定!K431,部門別目標設定!I431)","v":""},null,{"$f":"IF(部門別目標設定!T431=\"\",\"\",(部門別目標設定!T431))","v":""}]
[null,{"$f":"部門別目標設定!B432","v":413},{"$f":"IF(部門別目標設定!C432=\"\",\"\",部門別目標設定!C432)","v":""},{"$f":"IF(部門別目標設定!D432=\"\",\"\",部門別目標設定!D432)","v":""},{"$f":"IF(部門別目標設定!E432=\"\",\"\",部門別目標設定!E432)","v":""},{"$f":"IF(部門別目標設定!F432=\"\",\"\",部門別目標設定!F432)","v":""},{"$f":"IF(部門別目標設定!G432=\"\",\"\",部門別目標設定!G432)","v":""},{"$f":"IF(部門別目標設定!M432=\"\",\"\",部門別目標設定!M432)","v":""},null,null,null,null,null,{"$f":"部門別目標設定!L432","v":0},"",null,null,null,null,null,{"$f":"IF(OR(部門別目標設定!I432=0,部門別目標設定!I432=\"\"),部門別目標設定!K432,部門別目標設定!I432)","v":""},null,{"$f":"IF(部門別目標設定!T432=\"\",\"\",(部門別目標設定!T432))","v":""}]
[null,{"$f":"部門別目標設定!B433","v":414},{"$f":"IF(部門別目標設定!C433=\"\",\"\",部門別目標設定!C433)","v":""},{"$f":"IF(部門別目標設定!D433=\"\",\"\",部門別目標設定!D433)","v":""},{"$f":"IF(部門別目標設定!E433=\"\",\"\",部門別目標設定!E433)","v":""},{"$f":"IF(部門別目標設定!F433=\"\",\"\",部門別目標設定!F433)","v":""},{"$f":"IF(部門別目標設定!G433=\"\",\"\",部門別目標設定!G433)","v":""},{"$f":"IF(部門別目標設定!M433=\"\",\"\",部門別目標設定!M433)","v":""},null,null,null,null,null,{"$f":"部門別目標設定!L433","v":0},"",null,null,null,null,null,{"$f":"IF(OR(部門別目標設定!I433=0,部門別目標設定!I433=\"\"),部門別目標設定!K433,部門別目標設定!I433)","v":""},null,{"$f":"IF(部門別目標設定!T433=\"\",\"\",(部門別目標設定!T433))","v":""}]
[null,{"$f":"部門別目標設定!B434","v":415},{"$f":"IF(部門別目標設定!C434=\"\",\"\",部門別目標設定!C434)","v":""},{"$f":"IF(部門別目標設定!D434=\"\",\"\",部門別目標設定!D434)","v":""},{"$f":"IF(部門別目標設定!E434=\"\",\"\",部門別目標設定!E434)","v":""},{"$f":"IF(部門別目標設定!F434=\"\",\"\",部門別目標設定!F434)","v":""},{"$f":"IF(部門別目標設定!G434=\"\",\"\",部門別目標設定!G434)","v":""},{"$f":"IF(部門別目標設定!M434=\"\",\"\",部門別目標設定!M434)","v":""},null,null,null,null,null,{"$f":"部門別目標設定!L434","v":0},"",null,null,null,null,null,{"$f":"IF(OR(部門別目標設定!I434=0,部門別目標設定!I434=\"\"),部門別目標設定!K434,部門別目標設定!I434)","v":""},null,{"$f":"IF(部門別目標設定!T434=\"\",\"\",(部門別目標設定!T434))","v":""}]
[null,{"$f":"部門別目標設定!B435","v":416},{"$f":"IF(部門別目標設定!C435=\"\",\"\",部門別目標設定!C435)","v":""},{"$f":"IF(部門別目標設定!D435=\"\",\"\",部門別目標設定!D435)","v":""},{"$f":"IF(部門別目標設定!E435=\"\",\"\",部門別目標設定!E435)","v":""},{"$f":"IF(部門別目標設定!F435=\"\",\"\",部門別目標設定!F435)","v":""},{"$f":"IF(部門別目標設定!G435=\"\",\"\",部門別目標設定!G435)","v":""},{"$f":"IF(部門別目標設定!M435=\"\",\"\",部門別目標設定!M435)","v":""},null,null,null,null,null,{"$f":"部門別目標設定!L435","v":0},"",null,null,null,null,null,{"$f":"IF(OR(部門別目標設定!I435=0,部門別目標設定!I435=\"\"),部門別目標設定!K435,部門別目標設定!I435)","v":""},null,{"$f":"IF(部門別目標設定!T435=\"\",\"\",(部門別目標設定!T435))","v":""}]
[null,{"$f":"部門別目標設定!B436","v":417},{"$f":"IF(部門別目標設定!C436=\"\",\"\",部門別目標設定!C436)","v":""},{"$f":"IF(部門別目標設定!D436=\"\",\"\",部門別目標設定!D436)","v":""},{"$f":"IF(部門別目標設定!E436=\"\",\"\",部門別目標設定!E436)","v":""},{"$f":"IF(部門別目標設定!F436=\"\",\"\",部門別目標設定!F436)","v":""},{"$f":"IF(部門別目標設定!G436=\"\",\"\",部門別目標設定!G436)","v":""},{"$f":"IF(部門別目標設定!M436=\"\",\"\",部門別目標設定!M436)","v":""},null,null,null,null,null,{"$f":"部門別目標設定!L436","v":0},"",null,null,null,null,null,{"$f":"IF(OR(部門別目標設定!I436=0,部門別目標設定!I436=\"\"),部門別目標設定!K436,部門別目標設定!I436)","v":""},null,{"$f":"IF(部門別目標設定!T436=\"\",\"\",(部門別目標設定!T436))","v":""}]
[null,{"$f":"部門別目標設定!B437","v":418},{"$f":"IF(部門別目標設定!C437=\"\",\"\",部門別目標設定!C437)","v":""},{"$f":"IF(部門別目標設定!D437=\"\",\"\",部門別目標設定!D437)","v":""},{"$f":"IF(部門別目標設定!E437=\"\",\"\",部門別目標設定!E437)","v":""},{"$f":"IF(部門別目標設定!F437=\"\",\"\",部門別目標設定!F437)","v":""},{"$f":"IF(部門別目標設定!G437=\"\",\"\",部門別目標設定!G437)","v":""},{"$f":"IF(部門別目標設定!M437=\"\",\"\",部門別目標設定!M437)","v":""},null,null,null,null,null,{"$f":"部門別目標設定!L437","v":0},"",null,null,null,null,null,{"$f":"IF(OR(部門別目標設定!I437=0,部門別目標設定!I437=\"\"),部門別目標設定!K437,部門別目標設定!I437)","v":""},null,{"$f":"IF(部門別目標設定!T437=\"\",\"\",(部門別目標設定!T437))","v":""}]
[null,{"$f":"部門別目標設定!B438","v":419},{"$f":"IF(部門別目標設定!C438=\"\",\"\",部門別目標設定!C438)","v":""},{"$f":"IF(部門別目標設定!D438=\"\",\"\",部門別目標設定!D438)","v":""},{"$f":"IF(部門別目標設定!E438=\"\",\"\",部門別目標設定!E438)","v":""},{"$f":"IF(部門別目標設定!F438=\"\",\"\",部門別目標設定!F438)","v":""},{"$f":"IF(部門別目標設定!G438=\"\",\"\",部門別目標設定!G438)","v":""},{"$f":"IF(部門別目標設定!M438=\"\",\"\",部門別目標設定!M438)","v":""},null,null,null,null,null,{"$f":"部門別目標設定!L438","v":0},"",null,null,null,null,null,{"$f":"IF(OR(部門別目標設定!I438=0,部門別目標設定!I438=\"\"),部門別目標設定!K438,部門別目標設定!I438)","v":""},null,{"$f":"IF(部門別目標設定!T438=\"\",\"\",(部門別目標設定!T438))","v":""}]
[null,{"$f":"部門別目標設定!B439","v":420},{"$f":"IF(部門別目標設定!C439=\"\",\"\",部門別目標設定!C439)","v":""},{"$f":"IF(部門別目標設定!D439=\"\",\"\",部門別目標設定!D439)","v":""},{"$f":"IF(部門別目標設定!E439=\"\",\"\",部門別目標設定!E439)","v":""},{"$f":"IF(部門別目標設定!F439=\"\",\"\",部門別目標設定!F439)","v":""},{"$f":"IF(部門別目標設定!G439=\"\",\"\",部門別目標設定!G439)","v":""},{"$f":"IF(部門別目標設定!M439=\"\",\"\",部門別目標設定!M439)","v":""},null,null,null,null,null,{"$f":"部門別目標設定!L439","v":0},"",null,null,null,null,null,{"$f":"IF(OR(部門別目標設定!I439=0,部門別目標設定!I439=\"\"),部門別目標設定!K439,部門別目標設定!I439)","v":""},null,{"$f":"IF(部門別目標設定!T439=\"\",\"\",(部門別目標設定!T439))","v":""}]
[null,{"$f":"部門別目標設定!B440","v":421},{"$f":"IF(部門別目標設定!C440=\"\",\"\",部門別目標設定!C440)","v":""},{"$f":"IF(部門別目標設定!D440=\"\",\"\",部門別目標設定!D440)","v":""},{"$f":"IF(部門別目標設定!E440=\"\",\"\",部門別目標設定!E440)","v":""},{"$f":"IF(部門別目標設定!F440=\"\",\"\",部門別目標設定!F440)","v":""},{"$f":"IF(部門別目標設定!G440=\"\",\"\",部門別目標設定!G440)","v":""},{"$f":"IF(部門別目標設定!M440=\"\",\"\",部門別目標設定!M440)","v":""},null,null,null,null,null,{"$f":"部門別目標設定!L440","v":0},"",null,null,null,null,null,{"$f":"IF(OR(部門別目標設定!I440=0,部門別目標設定!I440=\"\"),部門別目標設定!K440,部門別目標設定!I440)","v":""},null,{"$f":"IF(部門別目標設定!T440=\"\",\"\",(部門別目標設定!T440))","v":""}]
[null,{"$f":"部門別目標設定!B441","v":422},{"$f":"IF(部門別目標設定!C441=\"\",\"\",部門別目標設定!C441)","v":""},{"$f":"IF(部門別目標設定!D441=\"\",\"\",部門別目標設定!D441)","v":""},{"$f":"IF(部門別目標設定!E441=\"\",\"\",部門別目標設定!E441)","v":""},{"$f":"IF(部門別目標設定!F441=\"\",\"\",部門別目標設定!F441)","v":""},{"$f":"IF(部門別目標設定!G441=\"\",\"\",部門別目標設定!G441)","v":""},{"$f":"IF(部門別目標設定!M441=\"\",\"\",部門別目標設定!M441)","v":""},null,null,null,null,null,{"$f":"部門別目標設定!L441","v":0},"",null,null,null,null,null,{"$f":"IF(OR(部門別目標設定!I441=0,部門別目標設定!I441=\"\"),部門別目標設定!K441,部門別目標設定!I441)","v":""},null,{"$f":"IF(部門別目標設定!T441=\"\",\"\",(部門別目標設定!T441))","v":""}]
[null,{"$f":"部門別目標設定!B442","v":423},{"$f":"IF(部門別目標設定!C442=\"\",\"\",部門別目標設定!C442)","v":""},{"$f":"IF(部門別目標設定!D442=\"\",\"\",部門別目標設定!D442)","v":""},{"$f":"IF(部門別目標設定!E442=\"\",\"\",部門別目標設定!E442)","v":""},{"$f":"IF(部門別目標設定!F442=\"\",\"\",部門別目標設定!F442)","v":""},{"$f":"IF(部門別目標設定!G442=\"\",\"\",部門別目標設定!G442)","v":""},{"$f":"IF(部門別目標設定!M442=\"\",\"\",部門別目標設定!M442)","v":""},null,null,null,null,null,{"$f":"部門別目標設定!L442","v":0},"",null,null,null,null,null,{"$f":"IF(OR(部門別目標設定!I442=0,部門別目標設定!I442=\"\"),部門別目標設定!K442,部門別目標設定!I442)","v":""},null,{"$f":"IF(部門別目標設定!T442=\"\",\"\",(部門別目標設定!T442))","v":""}]
[null,{"$f":"部門別目標設定!B443","v":424},{"$f":"IF(部門別目標設定!C443=\"\",\"\",部門別目標設定!C443)","v":""},{"$f":"IF(部門別目標設定!D443=\"\",\"\",部門別目標設定!D443)","v":""},{"$f":"IF(部門別目標設定!E443=\"\",\"\",部門別目標設定!E443)","v":""},{"$f":"IF(部門別目標設定!F443=\"\",\"\",部門別目標設定!F443)","v":""},{"$f":"IF(部門別目標設定!G443=\"\",\"\",部門別目標設定!G443)","v":""},{"$f":"IF(部門別目標設定!M443=\"\",\"\",部門別目標設定!M443)","v":""},null,null,null,null,null,{"$f":"部門別目標設定!L443","v":0},"",null,null,null,null,null,{"$f":"IF(OR(部門別目標設定!I443=0,部門別目標設定!I443=\"\"),部門別目標設定!K443,部門別目標設定!I443)","v":""},null,{"$f":"IF(部門別目標設定!T443=\"\",\"\",(部門別目標設定!T443))","v":""}]
[null,{"$f":"部門別目標設定!B444","v":425},{"$f":"IF(部門別目標設定!C444=\"\",\"\",部門別目標設定!C444)","v":""},{"$f":"IF(部門別目標設定!D444=\"\",\"\",部門別目標設定!D444)","v":""},{"$f":"IF(部門別目標設定!E444=\"\",\"\",部門別目標設定!E444)","v":""},{"$f":"IF(部門別目標設定!F444=\"\",\"\",部門別目標設定!F444)","v":""},{"$f":"IF(部門別目標設定!G444=\"\",\"\",部門別目標設定!G444)","v":""},{"$f":"IF(部門別目標設定!M444=\"\",\"\",部門別目標設定!M444)","v":""},null,null,null,null,null,{"$f":"部門別目標設定!L444","v":0},"",null,null,null,null,null,{"$f":"IF(OR(部門別目標設定!I444=0,部門別目標設定!I444=\"\"),部門別目標設定!K444,部門別目標設定!I444)","v":""},null,{"$f":"IF(部門別目標設定!T444=\"\",\"\",(部門別目標設定!T444))","v":""}]
[null,{"$f":"部門別目標設定!B445","v":426},{"$f":"IF(部門別目標設定!C445=\"\",\"\",部門別目標設定!C445)","v":""},{"$f":"IF(部門別目標設定!D445=\"\",\"\",部門別目標設定!D445)","v":""},{"$f":"IF(部門別目標設定!E445=\"\",\"\",部門別目標設定!E445)","v":""},{"$f":"IF(部門別目標設定!F445=\"\",\"\",部門別目標設定!F445)","v":""},{"$f":"IF(部門別目標設定!G445=\"\",\"\",部門別目標設定!G445)","v":""},{"$f":"IF(部門別目標設定!M445=\"\",\"\",部門別目標設定!M445)","v":""},null,null,null,null,null,{"$f":"部門別目標設定!L445","v":0},"",null,null,null,null,null,{"$f":"IF(OR(部門別目標設定!I445=0,部門別目標設定!I445=\"\"),部門別目標設定!K445,部門別目標設定!I445)","v":""},null,{"$f":"IF(部門別目標設定!T445=\"\",\"\",(部門別目標設定!T445))","v":""}]
[null,{"$f":"部門別目標設定!B446","v":427},{"$f":"IF(部門別目標設定!C446=\"\",\"\",部門別目標設定!C446)","v":""},{"$f":"IF(部門別目標設定!D446=\"\",\"\",部門別目標設定!D446)","v":""},{"$f":"IF(部門別目標設定!E446=\"\",\"\",部門別目標設定!E446)","v":""},{"$f":"IF(部門別目標設定!F446=\"\",\"\",部門別目標設定!F446)","v":""},{"$f":"IF(部門別目標設定!G446=\"\",\"\",部門別目標設定!G446)","v":""},{"$f":"IF(部門別目標設定!M446=\"\",\"\",部門別目標設定!M446)","v":""},null,null,null,null,null,{"$f":"部門別目標設定!L446","v":0},"",null,null,null,null,null,{"$f":"IF(OR(部門別目標設定!I446=0,部門別目標設定!I446=\"\"),部門別目標設定!K446,部門別目標設定!I446)","v":""},null,{"$f":"IF(部門別目標設定!T446=\"\",\"\",(部門別目標設定!T446))","v":""}]
[null,{"$f":"部門別目標設定!B447","v":428},{"$f":"IF(部門別目標設定!C447=\"\",\"\",部門別目標設定!C447)","v":""},{"$f":"IF(部門別目標設定!D447=\"\",\"\",部門別目標設定!D447)","v":""},{"$f":"IF(部門別目標設定!E447=\"\",\"\",部門別目標設定!E447)","v":""},{"$f":"IF(部門別目標設定!F447=\"\",\"\",部門別目標設定!F447)","v":""},{"$f":"IF(部門別目標設定!G447=\"\",\"\",部門別目標設定!G447)","v":""},{"$f":"IF(部門別目標設定!M447=\"\",\"\",部門別目標設定!M447)","v":""},null,null,null,null,null,{"$f":"部門別目標設定!L447","v":0},"",null,null,null,null,null,{"$f":"IF(OR(部門別目標設定!I447=0,部門別目標設定!I447=\"\"),部門別目標設定!K447,部門別目標設定!I447)","v":""},null,{"$f":"IF(部門別目標設定!T447=\"\",\"\",(部門別目標設定!T447))","v":""}]
[null,{"$f":"部門別目標設定!B448","v":429},{"$f":"IF(部門別目標設定!C448=\"\",\"\",部門別目標設定!C448)","v":""},{"$f":"IF(部門別目標設定!D448=\"\",\"\",部門別目標設定!D448)","v":""},{"$f":"IF(部門別目標設定!E448=\"\",\"\",部門別目標設定!E448)","v":""},{"$f":"IF(部門別目標設定!F448=\"\",\"\",部門別目標設定!F448)","v":""},{"$f":"IF(部門別目標設定!G448=\"\",\"\",部門別目標設定!G448)","v":""},{"$f":"IF(部門別目標設定!M448=\"\",\"\",部門別目標設定!M448)","v":""},null,null,null,null,null,{"$f":"部門別目標設定!L448","v":0},"",null,null,null,null,null,{"$f":"IF(OR(部門別目標設定!I448=0,部門別目標設定!I448=\"\"),部門別目標設定!K448,部門別目標設定!I448)","v":""},null,{"$f":"IF(部門別目標設定!T448=\"\",\"\",(部門別目標設定!T448))","v":""}]
[null,{"$f":"部門別目標設定!B449","v":430},{"$f":"IF(部門別目標設定!C449=\"\",\"\",部門別目標設定!C449)","v":""},{"$f":"IF(部門別目標設定!D449=\"\",\"\",部門別目標設定!D449)","v":""},{"$f":"IF(部門別目標設定!E449=\"\",\"\",部門別目標設定!E449)","v":""},{"$f":"IF(部門別目標設定!F449=\"\",\"\",部門別目標設定!F449)","v":""},{"$f":"IF(部門別目標設定!G449=\"\",\"\",部門別目標設定!G449)","v":""},{"$f":"IF(部門別目標設定!M449=\"\",\"\",部門別目標設定!M449)","v":""},null,null,null,null,null,{"$f":"部門別目標設定!L449","v":0},"",null,null,null,null,null,{"$f":"IF(OR(部門別目標設定!I449=0,部門別目標設定!I449=\"\"),部門別目標設定!K449,部門別目標設定!I449)","v":""},null,{"$f":"IF(部門別目標設定!T449=\"\",\"\",(部門別目標設定!T449))","v":""}]
[null,{"$f":"部門別目標設定!B450","v":431},{"$f":"IF(部門別目標設定!C450=\"\",\"\",部門別目標設定!C450)","v":""},{"$f":"IF(部門別目標設定!D450=\"\",\"\",部門別目標設定!D450)","v":""},{"$f":"IF(部門別目標設定!E450=\"\",\"\",部門別目標設定!E450)","v":""},{"$f":"IF(部門別目標設定!F450=\"\",\"\",部門別目標設定!F450)","v":""},{"$f":"IF(部門別目標設定!G450=\"\",\"\",部門別目標設定!G450)","v":""},{"$f":"IF(部門別目標設定!M450=\"\",\"\",部門別目標設定!M450)","v":""},null,null,null,null,null,{"$f":"部門別目標設定!L450","v":0},"",null,null,null,null,null,{"$f":"IF(OR(部門別目標設定!I450=0,部門別目標設定!I450=\"\"),部門別目標設定!K450,部門別目標設定!I450)","v":""},null,{"$f":"IF(部門別目標設定!T450=\"\",\"\",(部門別目標設定!T450))","v":""}]
[null,{"$f":"部門別目標設定!B451","v":432},{"$f":"IF(部門別目標設定!C451=\"\",\"\",部門別目標設定!C451)","v":""},{"$f":"IF(部門別目標設定!D451=\"\",\"\",部門別目標設定!D451)","v":""},{"$f":"IF(部門別目標設定!E451=\"\",\"\",部門別目標設定!E451)","v":""},{"$f":"IF(部門別目標設定!F451=\"\",\"\",部門別目標設定!F451)","v":""},{"$f":"IF(部門別目標設定!G451=\"\",\"\",部門別目標設定!G451)","v":""},{"$f":"IF(部門別目標設定!M451=\"\",\"\",部門別目標設定!M451)","v":""},null,null,null,null,null,{"$f":"部門別目標設定!L451","v":0},"",null,null,null,null,null,{"$f":"IF(OR(部門別目標設定!I451=0,部門別目標設定!I451=\"\"),部門別目標設定!K451,部門別目標設定!I451)","v":""},null,{"$f":"IF(部門別目標設定!T451=\"\",\"\",(部門別目標設定!T451))","v":""}]
[null,{"$f":"部門別目標設定!B452","v":433},{"$f":"IF(部門別目標設定!C452=\"\",\"\",部門別目標設定!C452)","v":""},{"$f":"IF(部門別目標設定!D452=\"\",\"\",部門別目標設定!D452)","v":""},{"$f":"IF(部門別目標設定!E452=\"\",\"\",部門別目標設定!E452)","v":""},{"$f":"IF(部門別目標設定!F452=\"\",\"\",部門別目標設定!F452)","v":""},{"$f":"IF(部門別目標設定!G452=\"\",\"\",部門別目標設定!G452)","v":""},{"$f":"IF(部門別目標設定!M452=\"\",\"\",部門別目標設定!M452)","v":""},null,null,null,null,null,{"$f":"部門別目標設定!L452","v":0},"",null,null,null,null,null,{"$f":"IF(OR(部門別目標設定!I452=0,部門別目標設定!I452=\"\"),部門別目標設定!K452,部門別目標設定!I452)","v":""},null,{"$f":"IF(部門別目標設定!T452=\"\",\"\",(部門別目標設定!T452))","v":""}]
[null,{"$f":"部門別目標設定!B453","v":434},{"$f":"IF(部門別目標設定!C453=\"\",\"\",部門別目標設定!C453)","v":""},{"$f":"IF(部門別目標設定!D453=\"\",\"\",部門別目標設定!D453)","v":""},{"$f":"IF(部門別目標設定!E453=\"\",\"\",部門別目標設定!E453)","v":""},{"$f":"IF(部門別目標設定!F453=\"\",\"\",部門別目標設定!F453)","v":""},{"$f":"IF(部門別目標設定!G453=\"\",\"\",部門別目標設定!G453)","v":""},{"$f":"IF(部門別目標設定!M453=\"\",\"\",部門別目標設定!M453)","v":""},null,null,null,null,null,{"$f":"部門別目標設定!L453","v":0},"",null,null,null,null,null,{"$f":"IF(OR(部門別目標設定!I453=0,部門別目標設定!I453=\"\"),部門別目標設定!K453,部門別目標設定!I453)","v":""},null,{"$f":"IF(部門別目標設定!T453=\"\",\"\",(部門別目標設定!T453))","v":""}]
[null,{"$f":"部門別目標設定!B454","v":435},{"$f":"IF(部門別目標設定!C454=\"\",\"\",部門別目標設定!C454)","v":""},{"$f":"IF(部門別目標設定!D454=\"\",\"\",部門別目標設定!D454)","v":""},{"$f":"IF(部門別目標設定!E454=\"\",\"\",部門別目標設定!E454)","v":""},{"$f":"IF(部門別目標設定!F454=\"\",\"\",部門別目標設定!F454)","v":""},{"$f":"IF(部門別目標設定!G454=\"\",\"\",部門別目標設定!G454)","v":""},{"$f":"IF(部門別目標設定!M454=\"\",\"\",部門別目標設定!M454)","v":""},null,null,null,null,null,{"$f":"部門別目標設定!L454","v":0},"",null,null,null,null,null,{"$f":"IF(OR(部門別目標設定!I454=0,部門別目標設定!I454=\"\"),部門別目標設定!K454,部門別目標設定!I454)","v":""},null,{"$f":"IF(部門別目標設定!T454=\"\",\"\",(部門別目標設定!T454))","v":""}]
[null,{"$f":"部門別目標設定!B455","v":436},{"$f":"IF(部門別目標設定!C455=\"\",\"\",部門別目標設定!C455)","v":""},{"$f":"IF(部門別目標設定!D455=\"\",\"\",部門別目標設定!D455)","v":""},{"$f":"IF(部門別目標設定!E455=\"\",\"\",部門別目標設定!E455)","v":""},{"$f":"IF(部門別目標設定!F455=\"\",\"\",部門別目標設定!F455)","v":""},{"$f":"IF(部門別目標設定!G455=\"\",\"\",部門別目標設定!G455)","v":""},{"$f":"IF(部門別目標設定!M455=\"\",\"\",部門別目標設定!M455)","v":""},null,null,null,null,null,{"$f":"部門別目標設定!L455","v":0},"",null,null,null,null,null,{"$f":"IF(OR(部門別目標設定!I455=0,部門別目標設定!I455=\"\"),部門別目標設定!K455,部門別目標設定!I455)","v":""},null,{"$f":"IF(部門別目標設定!T455=\"\",\"\",(部門別目標設定!T455))","v":""}]
[null,{"$f":"部門別目標設定!B456","v":437},{"$f":"IF(部門別目標設定!C456=\"\",\"\",部門別目標設定!C456)","v":""},{"$f":"IF(部門別目標設定!D456=\"\",\"\",部門別目標設定!D456)","v":""},{"$f":"IF(部門別目標設定!E456=\"\",\"\",部門別目標設定!E456)","v":""},{"$f":"IF(部門別目標設定!F456=\"\",\"\",部門別目標設定!F456)","v":""},{"$f":"IF(部門別目標設定!G456=\"\",\"\",部門別目標設定!G456)","v":""},{"$f":"IF(部門別目標設定!M456=\"\",\"\",部門別目標設定!M456)","v":""},null,null,null,null,null,{"$f":"部門別目標設定!L456","v":0},"",null,null,null,null,null,{"$f":"IF(OR(部門別目標設定!I456=0,部門別目標設定!I456=\"\"),部門別目標設定!K456,部門別目標設定!I456)","v":""},null,{"$f":"IF(部門別目標設定!T456=\"\",\"\",(部門別目標設定!T456))","v":""}]
[null,{"$f":"部門別目標設定!B457","v":438},{"$f":"IF(部門別目標設定!C457=\"\",\"\",部門別目標設定!C457)","v":""},{"$f":"IF(部門別目標設定!D457=\"\",\"\",部門別目標設定!D457)","v":""},{"$f":"IF(部門別目標設定!E457=\"\",\"\",部門別目標設定!E457)","v":""},{"$f":"IF(部門別目標設定!F457=\"\",\"\",部門別目標設定!F457)","v":""},{"$f":"IF(部門別目標設定!G457=\"\",\"\",部門別目標設定!G457)","v":""},{"$f":"IF(部門別目標設定!M457=\"\",\"\",部門別目標設定!M457)","v":""},null,null,null,null,null,{"$f":"部門別目標設定!L457","v":0},"",null,null,null,null,null,{"$f":"IF(OR(部門別目標設定!I457=0,部門別目標設定!I457=\"\"),部門別目標設定!K457,部門別目標設定!I457)","v":""},null,{"$f":"IF(部門別目標設定!T457=\"\",\"\",(部門別目標設定!T457))","v":""}]
[null,{"$f":"部門別目標設定!B458","v":439},{"$f":"IF(部門別目標設定!C458=\"\",\"\",部門別目標設定!C458)","v":""},{"$f":"IF(部門別目標設定!D458=\"\",\"\",部門別目標設定!D458)","v":""},{"$f":"IF(部門別目標設定!E458=\"\",\"\",部門別目標設定!E458)","v":""},{"$f":"IF(部門別目標設定!F458=\"\",\"\",部門別目標設定!F458)","v":""},{"$f":"IF(部門別目標設定!G458=\"\",\"\",部門別目標設定!G458)","v":""},{"$f":"IF(部門別目標設定!M458=\"\",\"\",部門別目標設定!M458)","v":""},null,null,null,null,null,{"$f":"部門別目標設定!L458","v":0},"",null,null,null,null,null,{"$f":"IF(OR(部門別目標設定!I458=0,部門別目標設定!I458=\"\"),部門別目標設定!K458,部門別目標設定!I458)","v":""},null,{"$f":"IF(部門別目標設定!T458=\"\",\"\",(部門別目標設定!T458))","v":""}]
[null,{"$f":"部門別目標設定!B459","v":440},{"$f":"IF(部門別目標設定!C459=\"\",\"\",部門別目標設定!C459)","v":""},{"$f":"IF(部門別目標設定!D459=\"\",\"\",部門別目標設定!D459)","v":""},{"$f":"IF(部門別目標設定!E459=\"\",\"\",部門別目標設定!E459)","v":""},{"$f":"IF(部門別目標設定!F459=\"\",\"\",部門別目標設定!F459)","v":""},{"$f":"IF(部門別目標設定!G459=\"\",\"\",部門別目標設定!G459)","v":""},{"$f":"IF(部門別目標設定!M459=\"\",\"\",部門別目標設定!M459)","v":""},null,null,null,null,null,{"$f":"部門別目標設定!L459","v":0},"",null,null,null,null,null,{"$f":"IF(OR(部門別目標設定!I459=0,部門別目標設定!I459=\"\"),部門別目標設定!K459,部門別目標設定!I459)","v":""},null,{"$f":"IF(部門別目標設定!T459=\"\",\"\",(部門別目標設定!T459))","v":""}]
[null,{"$f":"部門別目標設定!B460","v":441},{"$f":"IF(部門別目標設定!C460=\"\",\"\",部門別目標設定!C460)","v":""},{"$f":"IF(部門別目標設定!D460=\"\",\"\",部門別目標設定!D460)","v":""},{"$f":"IF(部門別目標設定!E460=\"\",\"\",部門別目標設定!E460)","v":""},{"$f":"IF(部門別目標設定!F460=\"\",\"\",部門別目標設定!F460)","v":""},{"$f":"IF(部門別目標設定!G460=\"\",\"\",部門別目標設定!G460)","v":""},{"$f":"IF(部門別目標設定!M460=\"\",\"\",部門別目標設定!M460)","v":""},null,null,null,null,null,{"$f":"部門別目標設定!L460","v":0},"",null,null,null,null,null,{"$f":"IF(OR(部門別目標設定!I460=0,部門別目標設定!I460=\"\"),部門別目標設定!K460,部門別目標設定!I460)","v":""},null,{"$f":"IF(部門別目標設定!T460=\"\",\"\",(部門別目標設定!T460))","v":""}]
[null,{"$f":"部門別目標設定!B461","v":442},{"$f":"IF(部門別目標設定!C461=\"\",\"\",部門別目標設定!C461)","v":""},{"$f":"IF(部門別目標設定!D461=\"\",\"\",部門別目標設定!D461)","v":""},{"$f":"IF(部門別目標設定!E461=\"\",\"\",部門別目標設定!E461)","v":""},{"$f":"IF(部門別目標設定!F461=\"\",\"\",部門別目標設定!F461)","v":""},{"$f":"IF(部門別目標設定!G461=\"\",\"\",部門別目標設定!G461)","v":""},{"$f":"IF(部門別目標設定!M461=\"\",\"\",部門別目標設定!M461)","v":""},null,null,null,null,null,{"$f":"部門別目標設定!L461","v":0},"",null,null,null,null,null,{"$f":"IF(OR(部門別目標設定!I461=0,部門別目標設定!I461=\"\"),部門別目標設定!K461,部門別目標設定!I461)","v":""},null,{"$f":"IF(部門別目標設定!T461=\"\",\"\",(部門別目標設定!T461))","v":""}]
[null,{"$f":"部門別目標設定!B462","v":443},{"$f":"IF(部門別目標設定!C462=\"\",\"\",部門別目標設定!C462)","v":""},{"$f":"IF(部門別目標設定!D462=\"\",\"\",部門別目標設定!D462)","v":""},{"$f":"IF(部門別目標設定!E462=\"\",\"\",部門別目標設定!E462)","v":""},{"$f":"IF(部門別目標設定!F462=\"\",\"\",部門別目標設定!F462)","v":""},{"$f":"IF(部門別目標設定!G462=\"\",\"\",部門別目標設定!G462)","v":""},{"$f":"IF(部門別目標設定!M462=\"\",\"\",部門別目標設定!M462)","v":""},null,null,null,null,null,{"$f":"部門別目標設定!L462","v":0},"",null,null,null,null,null,{"$f":"IF(OR(部門別目標設定!I462=0,部門別目標設定!I462=\"\"),部門別目標設定!K462,部門別目標設定!I462)","v":""},null,{"$f":"IF(部門別目標設定!T462=\"\",\"\",(部門別目標設定!T462))","v":""}]
[null,{"$f":"部門別目標設定!B463","v":444},{"$f":"IF(部門別目標設定!C463=\"\",\"\",部門別目標設定!C463)","v":""},{"$f":"IF(部門別目標設定!D463=\"\",\"\",部門別目標設定!D463)","v":""},{"$f":"IF(部門別目標設定!E463=\"\",\"\",部門別目標設定!E463)","v":""},{"$f":"IF(部門別目標設定!F463=\"\",\"\",部門別目標設定!F463)","v":""},{"$f":"IF(部門別目標設定!G463=\"\",\"\",部門別目標設定!G463)","v":""},{"$f":"IF(部門別目標設定!M463=\"\",\"\",部門別目標設定!M463)","v":""},null,null,null,null,null,{"$f":"部門別目標設定!L463","v":0},"",null,null,null,null,null,{"$f":"IF(OR(部門別目標設定!I463=0,部門別目標設定!I463=\"\"),部門別目標設定!K463,部門別目標設定!I463)","v":""},null,{"$f":"IF(部門別目標設定!T463=\"\",\"\",(部門別目標設定!T463))","v":""}]
[null,{"$f":"部門別目標設定!B464","v":445},{"$f":"IF(部門別目標設定!C464=\"\",\"\",部門別目標設定!C464)","v":""},{"$f":"IF(部門別目標設定!D464=\"\",\"\",部門別目標設定!D464)","v":""},{"$f":"IF(部門別目標設定!E464=\"\",\"\",部門別目標設定!E464)","v":""},{"$f":"IF(部門別目標設定!F464=\"\",\"\",部門別目標設定!F464)","v":""},{"$f":"IF(部門別目標設定!G464=\"\",\"\",部門別目標設定!G464)","v":""},{"$f":"IF(部門別目標設定!M464=\"\",\"\",部門別目標設定!M464)","v":""},null,null,null,null,null,{"$f":"部門別目標設定!L464","v":0},"",null,null,null,null,null,{"$f":"IF(OR(部門別目標設定!I464=0,部門別目標設定!I464=\"\"),部門別目標設定!K464,部門別目標設定!I464)","v":""},null,{"$f":"IF(部門別目標設定!T464=\"\",\"\",(部門別目標設定!T464))","v":""}]
[null,{"$f":"部門別目標設定!B465","v":446},{"$f":"IF(部門別目標設定!C465=\"\",\"\",部門別目標設定!C465)","v":""},{"$f":"IF(部門別目標設定!D465=\"\",\"\",部門別目標設定!D465)","v":""},{"$f":"IF(部門別目標設定!E465=\"\",\"\",部門別目標設定!E465)","v":""},{"$f":"IF(部門別目標設定!F465=\"\",\"\",部門別目標設定!F465)","v":""},{"$f":"IF(部門別目標設定!G465=\"\",\"\",部門別目標設定!G465)","v":""},{"$f":"IF(部門別目標設定!M465=\"\",\"\",部門別目標設定!M465)","v":""},null,null,null,null,null,{"$f":"部門別目標設定!L465","v":0},"",null,null,null,null,null,{"$f":"IF(OR(部門別目標設定!I465=0,部門別目標設定!I465=\"\"),部門別目標設定!K465,部門別目標設定!I465)","v":""},null,{"$f":"IF(部門別目標設定!T465=\"\",\"\",(部門別目標設定!T465))","v":""}]
[null,{"$f":"部門別目標設定!B466","v":447},{"$f":"IF(部門別目標設定!C466=\"\",\"\",部門別目標設定!C466)","v":""},{"$f":"IF(部門別目標設定!D466=\"\",\"\",部門別目標設定!D466)","v":""},{"$f":"IF(部門別目標設定!E466=\"\",\"\",部門別目標設定!E466)","v":""},{"$f":"IF(部門別目標設定!F466=\"\",\"\",部門別目標設定!F466)","v":""},{"$f":"IF(部門別目標設定!G466=\"\",\"\",部門別目標設定!G466)","v":""},{"$f":"IF(部門別目標設定!M466=\"\",\"\",部門別目標設定!M466)","v":""},null,null,null,null,null,{"$f":"部門別目標設定!L466","v":0},"",null,null,null,null,null,{"$f":"IF(OR(部門別目標設定!I466=0,部門別目標設定!I466=\"\"),部門別目標設定!K466,部門別目標設定!I466)","v":""},null,{"$f":"IF(部門別目標設定!T466=\"\",\"\",(部門別目標設定!T466))","v":""}]
[null,{"$f":"部門別目標設定!B467","v":448},{"$f":"IF(部門別目標設定!C467=\"\",\"\",部門別目標設定!C467)","v":""},{"$f":"IF(部門別目標設定!D467=\"\",\"\",部門別目標設定!D467)","v":""},{"$f":"IF(部門別目標設定!E467=\"\",\"\",部門別目標設定!E467)","v":""},{"$f":"IF(部門別目標設定!F467=\"\",\"\",部門別目標設定!F467)","v":""},{"$f":"IF(部門別目標設定!G467=\"\",\"\",部門別目標設定!G467)","v":""},{"$f":"IF(部門別目標設定!M467=\"\",\"\",部門別目標設定!M467)","v":""},null,null,null,null,null,{"$f":"部門別目標設定!L467","v":0},"",null,null,null,null,null,{"$f":"IF(OR(部門別目標設定!I467=0,部門別目標設定!I467=\"\"),部門別目標設定!K467,部門別目標設定!I467)","v":""},null,{"$f":"IF(部門別目標設定!T467=\"\",\"\",(部門別目標設定!T467))","v":""}]
[null,{"$f":"部門別目標設定!B468","v":449},{"$f":"IF(部門別目標設定!C468=\"\",\"\",部門別目標設定!C468)","v":""},{"$f":"IF(部門別目標設定!D468=\"\",\"\",部門別目標設定!D468)","v":""},{"$f":"IF(部門別目標設定!E468=\"\",\"\",部門別目標設定!E468)","v":""},{"$f":"IF(部門別目標設定!F468=\"\",\"\",部門別目標設定!F468)","v":""},{"$f":"IF(部門別目標設定!G468=\"\",\"\",部門別目標設定!G468)","v":""},{"$f":"IF(部門別目標設定!M468=\"\",\"\",部門別目標設定!M468)","v":""},null,null,null,null,null,{"$f":"部門別目標設定!L468","v":0},"",null,null,null,null,null,{"$f":"IF(OR(部門別目標設定!I468=0,部門別目標設定!I468=\"\"),部門別目標設定!K468,部門別目標設定!I468)","v":""},null,{"$f":"IF(部門別目標設定!T468=\"\",\"\",(部門別目標設定!T468))","v":""}]
[null,{"$f":"部門別目標設定!B469","v":450},{"$f":"IF(部門別目標設定!C469=\"\",\"\",部門別目標設定!C469)","v":""},{"$f":"IF(部門別目標設定!D469=\"\",\"\",部門別目標設定!D469)","v":""},{"$f":"IF(部門別目標設定!E469=\"\",\"\",部門別目標設定!E469)","v":""},{"$f":"IF(部門別目標設定!F469=\"\",\"\",部門別目標設定!F469)","v":""},{"$f":"IF(部門別目標設定!G469=\"\",\"\",部門別目標設定!G469)","v":""},{"$f":"IF(部門別目標設定!M469=\"\",\"\",部門別目標設定!M469)","v":""},null,null,null,null,null,{"$f":"部門別目標設定!L469","v":0},{"$f":"IF(OR(I464=\"\",N464=\"\"),\"\",IF(ISERROR(INDEX(I464:M464,MATCH(MAX(I464:M464)+1,I464:M464,1))/N464),\"\",INDEX(I464:M464,MATCH(MAX(I464:M464)+1,I464:M464,1))/N464))","v":""},null,null,null,null,null,{"$f":"IF(OR(部門別目標設定!I469=0,部門別目標設定!I469=\"\"),部門別目標設定!K469,部門別目標設定!I469)","v":""},null,{"$f":"IF(部門別目標設定!T469=\"\",\"\",(部門別目標設定!T469))","v":""}]
[null,{"$f":"部門別目標設定!B470","v":451},{"$f":"IF(部門別目標設定!C470=\"\",\"\",部門別目標設定!C470)","v":""},{"$f":"IF(部門別目標設定!D470=\"\",\"\",部門別目標設定!D470)","v":""},{"$f":"IF(部門別目標設定!E470=\"\",\"\",部門別目標設定!E470)","v":""},{"$f":"IF(部門別目標設定!F470=\"\",\"\",部門別目標設定!F470)","v":""},{"$f":"IF(部門別目標設定!G470=\"\",\"\",部門別目標設定!G470)","v":""},{"$f":"IF(部門別目標設定!M470=\"\",\"\",部門別目標設定!M470)","v":""},null,null,null,null,null,{"$f":"部門別目標設定!L470","v":0},"",null,null,null,null,null,{"$f":"IF(OR(部門別目標設定!I470=0,部門別目標設定!I470=\"\"),部門別目標設定!K470,部門別目標設定!I470)","v":""},null,{"$f":"IF(部門別目標設定!T470=\"\",\"\",(部門別目標設定!T470))","v":""}]
[null,{"$f":"部門別目標設定!B471","v":452},{"$f":"IF(部門別目標設定!C471=\"\",\"\",部門別目標設定!C471)","v":""},{"$f":"IF(部門別目標設定!D471=\"\",\"\",部門別目標設定!D471)","v":""},{"$f":"IF(部門別目標設定!E471=\"\",\"\",部門別目標設定!E471)","v":""},{"$f":"IF(部門別目標設定!F471=\"\",\"\",部門別目標設定!F471)","v":""},{"$f":"IF(部門別目標設定!G471=\"\",\"\",部門別目標設定!G471)","v":""},{"$f":"IF(部門別目標設定!M471=\"\",\"\",部門別目標設定!M471)","v":""},null,null,null,null,null,{"$f":"部門別目標設定!L471","v":0},"",null,null,null,null,null,{"$f":"IF(OR(部門別目標設定!I471=0,部門別目標設定!I471=\"\"),部門別目標設定!K471,部門別目標設定!I471)","v":""},null,{"$f":"IF(部門別目標設定!T471=\"\",\"\",(部門別目標設定!T471))","v":""}]
[null,{"$f":"部門別目標設定!B472","v":453},{"$f":"IF(部門別目標設定!C472=\"\",\"\",部門別目標設定!C472)","v":""},{"$f":"IF(部門別目標設定!D472=\"\",\"\",部門別目標設定!D472)","v":""},{"$f":"IF(部門別目標設定!E472=\"\",\"\",部門別目標設定!E472)","v":""},{"$f":"IF(部門別目標設定!F472=\"\",\"\",部門別目標設定!F472)","v":""},{"$f":"IF(部門別目標設定!G472=\"\",\"\",部門別目標設定!G472)","v":""},{"$f":"IF(部門別目標設定!M472=\"\",\"\",部門別目標設定!M472)","v":""},null,null,null,null,null,{"$f":"部門別目標設定!L472","v":0},"",null,null,null,null,null,{"$f":"IF(OR(部門別目標設定!I472=0,部門別目標設定!I472=\"\"),部門別目標設定!K472,部門別目標設定!I472)","v":""},null,{"$f":"IF(部門別目標設定!T472=\"\",\"\",(部門別目標設定!T472))","v":""}]
[null,{"$f":"部門別目標設定!B473","v":454},{"$f":"IF(部門別目標設定!C473=\"\",\"\",部門別目標設定!C473)","v":""},{"$f":"IF(部門別目標設定!D473=\"\",\"\",部門別目標設定!D473)","v":""},{"$f":"IF(部門別目標設定!E473=\"\",\"\",部門別目標設定!E473)","v":""},{"$f":"IF(部門別目標設定!F473=\"\",\"\",部門別目標設定!F473)","v":""},{"$f":"IF(部門別目標設定!G473=\"\",\"\",部門別目標設定!G473)","v":""},{"$f":"IF(部門別目標設定!M473=\"\",\"\",部門別目標設定!M473)","v":""},null,null,null,null,null,{"$f":"部門別目標設定!L473","v":0},"",null,null,null,null,null,{"$f":"IF(OR(部門別目標設定!I473=0,部門別目標設定!I473=\"\"),部門別目標設定!K473,部門別目標設定!I473)","v":""},null,{"$f":"IF(部門別目標設定!T473=\"\",\"\",(部門別目標設定!T473))","v":""}]
[null,{"$f":"部門別目標設定!B474","v":455},{"$f":"IF(部門別目標設定!C474=\"\",\"\",部門別目標設定!C474)","v":""},{"$f":"IF(部門別目標設定!D474=\"\",\"\",部門別目標設定!D474)","v":""},{"$f":"IF(部門別目標設定!E474=\"\",\"\",部門別目標設定!E474)","v":""},{"$f":"IF(部門別目標設定!F474=\"\",\"\",部門別目標設定!F474)","v":""},{"$f":"IF(部門別目標設定!G474=\"\",\"\",部門別目標設定!G474)","v":""},{"$f":"IF(部門別目標設定!M474=\"\",\"\",部門別目標設定!M474)","v":""},null,null,null,null,null,{"$f":"部門別目標設定!L474","v":0},"",null,null,null,null,null,{"$f":"IF(OR(部門別目標設定!I474=0,部門別目標設定!I474=\"\"),部門別目標設定!K474,部門別目標設定!I474)","v":""},null,{"$f":"IF(部門別目標設定!T474=\"\",\"\",(部門別目標設定!T474))","v":""}]
[null,{"$f":"部門別目標設定!B475","v":456},{"$f":"IF(部門別目標設定!C475=\"\",\"\",部門別目標設定!C475)","v":""},{"$f":"IF(部門別目標設定!D475=\"\",\"\",部門別目標設定!D475)","v":""},{"$f":"IF(部門別目標設定!E475=\"\",\"\",部門別目標設定!E475)","v":""},{"$f":"IF(部門別目標設定!F475=\"\",\"\",部門別目標設定!F475)","v":""},{"$f":"IF(部門別目標設定!G475=\"\",\"\",部門別目標設定!G475)","v":""},{"$f":"IF(部門別目標設定!M475=\"\",\"\",部門別目標設定!M475)","v":""},null,null,null,null,null,{"$f":"部門別目標設定!L475","v":0},"",null,null,null,null,null,{"$f":"IF(OR(部門別目標設定!I475=0,部門別目標設定!I475=\"\"),部門別目標設定!K475,部門別目標設定!I475)","v":""},null,{"$f":"IF(部門別目標設定!T475=\"\",\"\",(部門別目標設定!T475))","v":""}]
[null,{"$f":"部門別目標設定!B476","v":457},{"$f":"IF(部門別目標設定!C476=\"\",\"\",部門別目標設定!C476)","v":""},{"$f":"IF(部門別目標設定!D476=\"\",\"\",部門別目標設定!D476)","v":""},{"$f":"IF(部門別目標設定!E476=\"\",\"\",部門別目標設定!E476)","v":""},{"$f":"IF(部門別目標設定!F476=\"\",\"\",部門別目標設定!F476)","v":""},{"$f":"IF(部門別目標設定!G476=\"\",\"\",部門別目標設定!G476)","v":""},{"$f":"IF(部門別目標設定!M476=\"\",\"\",部門別目標設定!M476)","v":""},null,null,null,null,null,{"$f":"部門別目標設定!L476","v":0},"",null,null,null,null,null,{"$f":"IF(OR(部門別目標設定!I476=0,部門別目標設定!I476=\"\"),部門別目標設定!K476,部門別目標設定!I476)","v":""},null,{"$f":"IF(部門別目標設定!T476=\"\",\"\",(部門別目標設定!T476))","v":""}]
[null,{"$f":"部門別目標設定!B477","v":458},{"$f":"IF(部門別目標設定!C477=\"\",\"\",部門別目標設定!C477)","v":""},{"$f":"IF(部門別目標設定!D477=\"\",\"\",部門別目標設定!D477)","v":""},{"$f":"IF(部門別目標設定!E477=\"\",\"\",部門別目標設定!E477)","v":""},{"$f":"IF(部門別目標設定!F477=\"\",\"\",部門別目標設定!F477)","v":""},{"$f":"IF(部門別目標設定!G477=\"\",\"\",部門別目標設定!G477)","v":""},{"$f":"IF(部門別目標設定!M477=\"\",\"\",部門別目標設定!M477)","v":""},null,null,null,null,null,{"$f":"部門別目標設定!L477","v":0},"",null,null,null,null,null,{"$f":"IF(OR(部門別目標設定!I477=0,部門別目標設定!I477=\"\"),部門別目標設定!K477,部門別目標設定!I477)","v":""},null,{"$f":"IF(部門別目標設定!T477=\"\",\"\",(部門別目標設定!T477))","v":""}]
[null,{"$f":"部門別目標設定!B478","v":459},{"$f":"IF(部門別目標設定!C478=\"\",\"\",部門別目標設定!C478)","v":""},{"$f":"IF(部門別目標設定!D478=\"\",\"\",部門別目標設定!D478)","v":""},{"$f":"IF(部門別目標設定!E478=\"\",\"\",部門別目標設定!E478)","v":""},{"$f":"IF(部門別目標設定!F478=\"\",\"\",部門別目標設定!F478)","v":""},{"$f":"IF(部門別目標設定!G478=\"\",\"\",部門別目標設定!G478)","v":""},{"$f":"IF(部門別目標設定!M478=\"\",\"\",部門別目標設定!M478)","v":""},null,null,null,null,null,{"$f":"部門別目標設定!L478","v":0},"",null,null,null,null,null,{"$f":"IF(OR(部門別目標設定!I478=0,部門別目標設定!I478=\"\"),部門別目標設定!K478,部門別目標設定!I478)","v":""},null,{"$f":"IF(部門別目標設定!T478=\"\",\"\",(部門別目標設定!T478))","v":""}]
[null,{"$f":"部門別目標設定!B479","v":460},{"$f":"IF(部門別目標設定!C479=\"\",\"\",部門別目標設定!C479)","v":""},{"$f":"IF(部門別目標設定!D479=\"\",\"\",部門別目標設定!D479)","v":""},{"$f":"IF(部門別目標設定!E479=\"\",\"\",部門別目標設定!E479)","v":""},{"$f":"IF(部門別目標設定!F479=\"\",\"\",部門別目標設定!F479)","v":""},{"$f":"IF(部門別目標設定!G479=\"\",\"\",部門別目標設定!G479)","v":""},{"$f":"IF(部門別目標設定!M479=\"\",\"\",部門別目標設定!M479)","v":""},null,null,null,null,null,{"$f":"部門別目標設定!L479","v":0},"",null,null,null,null,null,{"$f":"IF(OR(部門別目標設定!I479=0,部門別目標設定!I479=\"\"),部門別目標設定!K479,部門別目標設定!I479)","v":""},null,{"$f":"IF(部門別目標設定!T479=\"\",\"\",(部門別目標設定!T479))","v":""}]
[null,{"$f":"部門別目標設定!B480","v":461},{"$f":"IF(部門別目標設定!C480=\"\",\"\",部門別目標設定!C480)","v":""},{"$f":"IF(部門別目標設定!D480=\"\",\"\",部門別目標設定!D480)","v":""},{"$f":"IF(部門別目標設定!E480=\"\",\"\",部門別目標設定!E480)","v":""},{"$f":"IF(部門別目標設定!F480=\"\",\"\",部門別目標設定!F480)","v":""},{"$f":"IF(部門別目標設定!G480=\"\",\"\",部門別目標設定!G480)","v":""},{"$f":"IF(部門別目標設定!M480=\"\",\"\",部門別目標設定!M480)","v":""},null,null,null,null,null,{"$f":"部門別目標設定!L480","v":0},"",null,null,null,null,null,{"$f":"IF(OR(部門別目標設定!I480=0,部門別目標設定!I480=\"\"),部門別目標設定!K480,部門別目標設定!I480)","v":""},null,{"$f":"IF(部門別目標設定!T480=\"\",\"\",(部門別目標設定!T480))","v":""}]
[null,{"$f":"部門別目標設定!B481","v":462},{"$f":"IF(部門別目標設定!C481=\"\",\"\",部門別目標設定!C481)","v":""},{"$f":"IF(部門別目標設定!D481=\"\",\"\",部門別目標設定!D481)","v":""},{"$f":"IF(部門別目標設定!E481=\"\",\"\",部門別目標設定!E481)","v":""},{"$f":"IF(部門別目標設定!F481=\"\",\"\",部門別目標設定!F481)","v":""},{"$f":"IF(部門別目標設定!G481=\"\",\"\",部門別目標設定!G481)","v":""},{"$f":"IF(部門別目標設定!M481=\"\",\"\",部門別目標設定!M481)","v":""},null,null,null,null,null,{"$f":"部門別目標設定!L481","v":0},"",null,null,null,null,null,{"$f":"IF(OR(部門別目標設定!I481=0,部門別目標設定!I481=\"\"),部門別目標設定!K481,部門別目標設定!I481)","v":""},null,{"$f":"IF(部門別目標設定!T481=\"\",\"\",(部門別目標設定!T481))","v":""}]
[null,{"$f":"部門別目標設定!B482","v":463},{"$f":"IF(部門別目標設定!C482=\"\",\"\",部門別目標設定!C482)","v":""},{"$f":"IF(部門別目標設定!D482=\"\",\"\",部門別目標設定!D482)","v":""},{"$f":"IF(部門別目標設定!E482=\"\",\"\",部門別目標設定!E482)","v":""},{"$f":"IF(部門別目標設定!F482=\"\",\"\",部門別目標設定!F482)","v":""},{"$f":"IF(部門別目標設定!G482=\"\",\"\",部門別目標設定!G482)","v":""},{"$f":"IF(部門別目標設定!M482=\"\",\"\",部門別目標設定!M482)","v":""},null,null,null,null,null,{"$f":"部門別目標設定!L482","v":0},"",null,null,null,null,null,{"$f":"IF(OR(部門別目標設定!I482=0,部門別目標設定!I482=\"\"),部門別目標設定!K482,部門別目標設定!I482)","v":""},null,{"$f":"IF(部門別目標設定!T482=\"\",\"\",(部門別目標設定!T482))","v":""}]
[null,{"$f":"部門別目標設定!B483","v":464},{"$f":"IF(部門別目標設定!C483=\"\",\"\",部門別目標設定!C483)","v":""},{"$f":"IF(部門別目標設定!D483=\"\",\"\",部門別目標設定!D483)","v":""},{"$f":"IF(部門別目標設定!E483=\"\",\"\",部門別目標設定!E483)","v":""},{"$f":"IF(部門別目標設定!F483=\"\",\"\",部門別目標設定!F483)","v":""},{"$f":"IF(部門別目標設定!G483=\"\",\"\",部門別目標設定!G483)","v":""},{"$f":"IF(部門別目標設定!M483=\"\",\"\",部門別目標設定!M483)","v":""},null,null,null,null,null,{"$f":"部門別目標設定!L483","v":0},"",null,null,null,null,null,{"$f":"IF(OR(部門別目標設定!I483=0,部門別目標設定!I483=\"\"),部門別目標設定!K483,部門別目標設定!I483)","v":""},null,{"$f":"IF(部門別目標設定!T483=\"\",\"\",(部門別目標設定!T483))","v":""}]
[null,{"$f":"部門別目標設定!B484","v":465},{"$f":"IF(部門別目標設定!C484=\"\",\"\",部門別目標設定!C484)","v":""},{"$f":"IF(部門別目標設定!D484=\"\",\"\",部門別目標設定!D484)","v":""},{"$f":"IF(部門別目標設定!E484=\"\",\"\",部門別目標設定!E484)","v":""},{"$f":"IF(部門別目標設定!F484=\"\",\"\",部門別目標設定!F484)","v":""},{"$f":"IF(部門別目標設定!G484=\"\",\"\",部門別目標設定!G484)","v":""},{"$f":"IF(部門別目標設定!M484=\"\",\"\",部門別目標設定!M484)","v":""},null,null,null,null,null,{"$f":"部門別目標設定!L484","v":0},"",null,null,null,null,null,{"$f":"IF(OR(部門別目標設定!I484=0,部門別目標設定!I484=\"\"),部門別目標設定!K484,部門別目標設定!I484)","v":""},null,{"$f":"IF(部門別目標設定!T484=\"\",\"\",(部門別目標設定!T484))","v":""}]
[null,{"$f":"部門別目標設定!B485","v":466},{"$f":"IF(部門別目標設定!C485=\"\",\"\",部門別目標設定!C485)","v":""},{"$f":"IF(部門別目標設定!D485=\"\",\"\",部門別目標設定!D485)","v":""},{"$f":"IF(部門別目標設定!E485=\"\",\"\",部門別目標設定!E485)","v":""},{"$f":"IF(部門別目標設定!F485=\"\",\"\",部門別目標設定!F485)","v":""},{"$f":"IF(部門別目標設定!G485=\"\",\"\",部門別目標設定!G485)","v":""},{"$f":"IF(部門別目標設定!M485=\"\",\"\",部門別目標設定!M485)","v":""},null,null,null,null,null,{"$f":"部門別目標設定!L485","v":0},"",null,null,null,null,null,{"$f":"IF(OR(部門別目標設定!I485=0,部門別目標設定!I485=\"\"),部門別目標設定!K485,部門別目標設定!I485)","v":""},null,{"$f":"IF(部門別目標設定!T485=\"\",\"\",(部門別目標設定!T485))","v":""}]
[null,{"$f":"部門別目標設定!B486","v":467},{"$f":"IF(部門別目標設定!C486=\"\",\"\",部門別目標設定!C486)","v":""},{"$f":"IF(部門別目標設定!D486=\"\",\"\",部門別目標設定!D486)","v":""},{"$f":"IF(部門別目標設定!E486=\"\",\"\",部門別目標設定!E486)","v":""},{"$f":"IF(部門別目標設定!F486=\"\",\"\",部門別目標設定!F486)","v":""},{"$f":"IF(部門別目標設定!G486=\"\",\"\",部門別目標設定!G486)","v":""},{"$f":"IF(部門別目標設定!M486=\"\",\"\",部門別目標設定!M486)","v":""},null,null,null,null,null,{"$f":"部門別目標設定!L486","v":0},"",null,null,null,null,null,{"$f":"IF(OR(部門別目標設定!I486=0,部門別目標設定!I486=\"\"),部門別目標設定!K486,部門別目標設定!I486)","v":""},null,{"$f":"IF(部門別目標設定!T486=\"\",\"\",(部門別目標設定!T486))","v":""}]
[null,{"$f":"部門別目標設定!B487","v":468},{"$f":"IF(部門別目標設定!C487=\"\",\"\",部門別目標設定!C487)","v":""},{"$f":"IF(部門別目標設定!D487=\"\",\"\",部門別目標設定!D487)","v":""},{"$f":"IF(部門別目標設定!E487=\"\",\"\",部門別目標設定!E487)","v":""},{"$f":"IF(部門別目標設定!F487=\"\",\"\",部門別目標設定!F487)","v":""},{"$f":"IF(部門別目標設定!G487=\"\",\"\",部門別目標設定!G487)","v":""},{"$f":"IF(部門別目標設定!M487=\"\",\"\",部門別目標設定!M487)","v":""},null,null,null,null,null,{"$f":"部門別目標設定!L487","v":0},"",null,null,null,null,null,{"$f":"IF(OR(部門別目標設定!I487=0,部門別目標設定!I487=\"\"),部門別目標設定!K487,部門別目標設定!I487)","v":""},null,{"$f":"IF(部門別目標設定!T487=\"\",\"\",(部門別目標設定!T487))","v":""}]
[null,{"$f":"部門別目標設定!B488","v":469},{"$f":"IF(部門別目標設定!C488=\"\",\"\",部門別目標設定!C488)","v":""},{"$f":"IF(部門別目標設定!D488=\"\",\"\",部門別目標設定!D488)","v":""},{"$f":"IF(部門別目標設定!E488=\"\",\"\",部門別目標設定!E488)","v":""},{"$f":"IF(部門別目標設定!F488=\"\",\"\",部門別目標設定!F488)","v":""},{"$f":"IF(部門別目標設定!G488=\"\",\"\",部門別目標設定!G488)","v":""},{"$f":"IF(部門別目標設定!M488=\"\",\"\",部門別目標設定!M488)","v":""},null,null,null,null,null,{"$f":"部門別目標設定!L488","v":0},"",null,null,null,null,null,{"$f":"IF(OR(部門別目標設定!I488=0,部門別目標設定!I488=\"\"),部門別目標設定!K488,部門別目標設定!I488)","v":""},null,{"$f":"IF(部門別目標設定!T488=\"\",\"\",(部門別目標設定!T488))","v":""}]
[null,{"$f":"部門別目標設定!B489","v":470},{"$f":"IF(部門別目標設定!C489=\"\",\"\",部門別目標設定!C489)","v":""},{"$f":"IF(部門別目標設定!D489=\"\",\"\",部門別目標設定!D489)","v":""},{"$f":"IF(部門別目標設定!E489=\"\",\"\",部門別目標設定!E489)","v":""},{"$f":"IF(部門別目標設定!F489=\"\",\"\",部門別目標設定!F489)","v":""},{"$f":"IF(部門別目標設定!G489=\"\",\"\",部門別目標設定!G489)","v":""},{"$f":"IF(部門別目標設定!M489=\"\",\"\",部門別目標設定!M489)","v":""},null,null,null,null,null,{"$f":"部門別目標設定!L489","v":0},"",null,null,null,null,null,{"$f":"IF(OR(部門別目標設定!I489=0,部門別目標設定!I489=\"\"),部門別目標設定!K489,部門別目標設定!I489)","v":""},null,{"$f":"IF(部門別目標設定!T489=\"\",\"\",(部門別目標設定!T489))","v":""}]
[null,{"$f":"部門別目標設定!B490","v":471},{"$f":"IF(部門別目標設定!C490=\"\",\"\",部門別目標設定!C490)","v":""},{"$f":"IF(部門別目標設定!D490=\"\",\"\",部門別目標設定!D490)","v":""},{"$f":"IF(部門別目標設定!E490=\"\",\"\",部門別目標設定!E490)","v":""},{"$f":"IF(部門別目標設定!F490=\"\",\"\",部門別目標設定!F490)","v":""},{"$f":"IF(部門別目標設定!G490=\"\",\"\",部門別目標設定!G490)","v":""},{"$f":"IF(部門別目標設定!M490=\"\",\"\",部門別目標設定!M490)","v":""},null,null,null,null,null,{"$f":"部門別目標設定!L490","v":0},"",null,null,null,null,null,{"$f":"IF(OR(部門別目標設定!I490=0,部門別目標設定!I490=\"\"),部門別目標設定!K490,部門別目標設定!I490)","v":""},null,{"$f":"IF(部門別目標設定!T490=\"\",\"\",(部門別目標設定!T490))","v":""}]
[null,{"$f":"部門別目標設定!B491","v":472},{"$f":"IF(部門別目標設定!C491=\"\",\"\",部門別目標設定!C491)","v":""},{"$f":"IF(部門別目標設定!D491=\"\",\"\",部門別目標設定!D491)","v":""},{"$f":"IF(部門別目標設定!E491=\"\",\"\",部門別目標設定!E491)","v":""},{"$f":"IF(部門別目標設定!F491=\"\",\"\",部門別目標設定!F491)","v":""},{"$f":"IF(部門別目標設定!G491=\"\",\"\",部門別目標設定!G491)","v":""},{"$f":"IF(部門別目標設定!M491=\"\",\"\",部門別目標設定!M491)","v":""},null,null,null,null,null,{"$f":"部門別目標設定!L491","v":0},"",null,null,null,null,null,{"$f":"IF(OR(部門別目標設定!I491=0,部門別目標設定!I491=\"\"),部門別目標設定!K491,部門別目標設定!I491)","v":""},null,{"$f":"IF(部門別目標設定!T491=\"\",\"\",(部門別目標設定!T491))","v":""}]
[null,{"$f":"部門別目標設定!B492","v":473},{"$f":"IF(部門別目標設定!C492=\"\",\"\",部門別目標設定!C492)","v":""},{"$f":"IF(部門別目標設定!D492=\"\",\"\",部門別目標設定!D492)","v":""},{"$f":"IF(部門別目標設定!E492=\"\",\"\",部門別目標設定!E492)","v":""},{"$f":"IF(部門別目標設定!F492=\"\",\"\",部門別目標設定!F492)","v":""},{"$f":"IF(部門別目標設定!G492=\"\",\"\",部門別目標設定!G492)","v":""},{"$f":"IF(部門別目標設定!M492=\"\",\"\",部門別目標設定!M492)","v":""},null,null,null,null,null,{"$f":"部門別目標設定!L492","v":0},"",null,null,null,null,null,{"$f":"IF(OR(部門別目標設定!I492=0,部門別目標設定!I492=\"\"),部門別目標設定!K492,部門別目標設定!I492)","v":""},null,{"$f":"IF(部門別目標設定!T492=\"\",\"\",(部門別目標設定!T492))","v":""}]
[null,{"$f":"部門別目標設定!B493","v":474},{"$f":"IF(部門別目標設定!C493=\"\",\"\",部門別目標設定!C493)","v":""},{"$f":"IF(部門別目標設定!D493=\"\",\"\",部門別目標設定!D493)","v":""},{"$f":"IF(部門別目標設定!E493=\"\",\"\",部門別目標設定!E493)","v":""},{"$f":"IF(部門別目標設定!F493=\"\",\"\",部門別目標設定!F493)","v":""},{"$f":"IF(部門別目標設定!G493=\"\",\"\",部門別目標設定!G493)","v":""},{"$f":"IF(部門別目標設定!M493=\"\",\"\",部門別目標設定!M493)","v":""},null,null,null,null,null,{"$f":"部門別目標設定!L493","v":0},"",null,null,null,null,null,{"$f":"IF(OR(部門別目標設定!I493=0,部門別目標設定!I493=\"\"),部門別目標設定!K493,部門別目標設定!I493)","v":""},null,{"$f":"IF(部門別目標設定!T493=\"\",\"\",(部門別目標設定!T493))","v":""}]
[null,{"$f":"部門別目標設定!B494","v":475},{"$f":"IF(部門別目標設定!C494=\"\",\"\",部門別目標設定!C494)","v":""},{"$f":"IF(部門別目標設定!D494=\"\",\"\",部門別目標設定!D494)","v":""},{"$f":"IF(部門別目標設定!E494=\"\",\"\",部門別目標設定!E494)","v":""},{"$f":"IF(部門別目標設定!F494=\"\",\"\",部門別目標設定!F494)","v":""},{"$f":"IF(部門別目標設定!G494=\"\",\"\",部門別目標設定!G494)","v":""},{"$f":"IF(部門別目標設定!M494=\"\",\"\",部門別目標設定!M494)","v":""},null,null,null,null,null,{"$f":"部門別目標設定!L494","v":0},"",null,null,null,null,null,{"$f":"IF(OR(部門別目標設定!I494=0,部門別目標設定!I494=\"\"),部門別目標設定!K494,部門別目標設定!I494)","v":""},null,{"$f":"IF(部門別目標設定!T494=\"\",\"\",(部門別目標設定!T494))","v":""}]
[null,{"$f":"部門別目標設定!B495","v":476},{"$f":"IF(部門別目標設定!C495=\"\",\"\",部門別目標設定!C495)","v":""},{"$f":"IF(部門別目標設定!D495=\"\",\"\",部門別目標設定!D495)","v":""},{"$f":"IF(部門別目標設定!E495=\"\",\"\",部門別目標設定!E495)","v":""},{"$f":"IF(部門別目標設定!F495=\"\",\"\",部門別目標設定!F495)","v":""},{"$f":"IF(部門別目標設定!G495=\"\",\"\",部門別目標設定!G495)","v":""},{"$f":"IF(部門別目標設定!M495=\"\",\"\",部門別目標設定!M495)","v":""},null,null,null,null,null,{"$f":"部門別目標設定!L495","v":0},"",null,null,null,null,null,{"$f":"IF(OR(部門別目標設定!I495=0,部門別目標設定!I495=\"\"),部門別目標設定!K495,部門別目標設定!I495)","v":""},null,{"$f":"IF(部門別目標設定!T495=\"\",\"\",(部門別目標設定!T495))","v":""}]
[null,{"$f":"部門別目標設定!B496","v":477},{"$f":"IF(部門別目標設定!C496=\"\",\"\",部門別目標設定!C496)","v":""},{"$f":"IF(部門別目標設定!D496=\"\",\"\",部門別目標設定!D496)","v":""},{"$f":"IF(部門別目標設定!E496=\"\",\"\",部門別目標設定!E496)","v":""},{"$f":"IF(部門別目標設定!F496=\"\",\"\",部門別目標設定!F496)","v":""},{"$f":"IF(部門別目標設定!G496=\"\",\"\",部門別目標設定!G496)","v":""},{"$f":"IF(部門別目標設定!M496=\"\",\"\",部門別目標設定!M496)","v":""},null,null,null,null,null,{"$f":"部門別目標設定!L496","v":0},"",null,null,null,null,null,{"$f":"IF(OR(部門別目標設定!I496=0,部門別目標設定!I496=\"\"),部門別目標設定!K496,部門別目標設定!I496)","v":""},null,{"$f":"IF(部門別目標設定!T496=\"\",\"\",(部門別目標設定!T496))","v":""}]
[null,{"$f":"部門別目標設定!B497","v":478},{"$f":"IF(部門別目標設定!C497=\"\",\"\",部門別目標設定!C497)","v":""},{"$f":"IF(部門別目標設定!D497=\"\",\"\",部門別目標設定!D497)","v":""},{"$f":"IF(部門別目標設定!E497=\"\",\"\",部門別目標設定!E497)","v":""},{"$f":"IF(部門別目標設定!F497=\"\",\"\",部門別目標設定!F497)","v":""},{"$f":"IF(部門別目標設定!G497=\"\",\"\",部門別目標設定!G497)","v":""},{"$f":"IF(部門別目標設定!M497=\"\",\"\",部門別目標設定!M497)","v":""},null,null,null,null,null,{"$f":"部門別目標設定!L497","v":0},"",null,null,null,null,null,{"$f":"IF(OR(部門別目標設定!I497=0,部門別目標設定!I497=\"\"),部門別目標設定!K497,部門別目標設定!I497)","v":""},null,{"$f":"IF(部門別目標設定!T497=\"\",\"\",(部門別目標設定!T497))","v":""}]
[null,{"$f":"部門別目標設定!B498","v":479},{"$f":"IF(部門別目標設定!C498=\"\",\"\",部門別目標設定!C498)","v":""},{"$f":"IF(部門別目標設定!D498=\"\",\"\",部門別目標設定!D498)","v":""},{"$f":"IF(部門別目標設定!E498=\"\",\"\",部門別目標設定!E498)","v":""},{"$f":"IF(部門別目標設定!F498=\"\",\"\",部門別目標設定!F498)","v":""},{"$f":"IF(部門別目標設定!G498=\"\",\"\",部門別目標設定!G498)","v":""},{"$f":"IF(部門別目標設定!M498=\"\",\"\",部門別目標設定!M498)","v":""},null,null,null,null,null,{"$f":"部門別目標設定!L498","v":0},"",null,null,null,null,null,{"$f":"IF(OR(部門別目標設定!I498=0,部門別目標設定!I498=\"\"),部門別目標設定!K498,部門別目標設定!I498)","v":""},null,{"$f":"IF(部門別目標設定!T498=\"\",\"\",(部門別目標設定!T498))","v":""}]
[null,{"$f":"部門別目標設定!B499","v":480},{"$f":"IF(部門別目標設定!C499=\"\",\"\",部門別目標設定!C499)","v":""},{"$f":"IF(部門別目標設定!D499=\"\",\"\",部門別目標設定!D499)","v":""},{"$f":"IF(部門別目標設定!E499=\"\",\"\",部門別目標設定!E499)","v":""},{"$f":"IF(部門別目標設定!F499=\"\",\"\",部門別目標設定!F499)","v":""},{"$f":"IF(部門別目標設定!G499=\"\",\"\",部門別目標設定!G499)","v":""},{"$f":"IF(部門別目標設定!M499=\"\",\"\",部門別目標設定!M499)","v":""},null,null,null,null,null,{"$f":"部門別目標設定!L499","v":0},"",null,null,null,null,null,{"$f":"IF(OR(部門別目標設定!I499=0,部門別目標設定!I499=\"\"),部門別目標設定!K499,部門別目標設定!I499)","v":""},null,{"$f":"IF(部門別目標設定!T499=\"\",\"\",(部門別目標設定!T499))","v":""}]
[null,{"$f":"部門別目標設定!B500","v":481},{"$f":"IF(部門別目標設定!C500=\"\",\"\",部門別目標設定!C500)","v":""},{"$f":"IF(部門別目標設定!D500=\"\",\"\",部門別目標設定!D500)","v":""},{"$f":"IF(部門別目標設定!E500=\"\",\"\",部門別目標設定!E500)","v":""},{"$f":"IF(部門別目標設定!F500=\"\",\"\",部門別目標設定!F500)","v":""},{"$f":"IF(部門別目標設定!G500=\"\",\"\",部門別目標設定!G500)","v":""},{"$f":"IF(部門別目標設定!M500=\"\",\"\",部門別目標設定!M500)","v":""},null,null,null,null,null,{"$f":"部門別目標設定!L500","v":0},"",null,null,null,null,null,{"$f":"IF(OR(部門別目標設定!I500=0,部門別目標設定!I500=\"\"),部門別目標設定!K500,部門別目標設定!I500)","v":""},null,{"$f":"IF(部門別目標設定!T500=\"\",\"\",(部門別目標設定!T500))","v":""}]
[null,{"$f":"部門別目標設定!B501","v":482},{"$f":"IF(部門別目標設定!C501=\"\",\"\",部門別目標設定!C501)","v":""},{"$f":"IF(部門別目標設定!D501=\"\",\"\",部門別目標設定!D501)","v":""},{"$f":"IF(部門別目標設定!E501=\"\",\"\",部門別目標設定!E501)","v":""},{"$f":"IF(部門別目標設定!F501=\"\",\"\",部門別目標設定!F501)","v":""},{"$f":"IF(部門別目標設定!G501=\"\",\"\",部門別目標設定!G501)","v":""},{"$f":"IF(部門別目標設定!M501=\"\",\"\",部門別目標設定!M501)","v":""},null,null,null,null,null,{"$f":"部門別目標設定!L501","v":0},"",null,null,null,null,null,{"$f":"IF(OR(部門別目標設定!I501=0,部門別目標設定!I501=\"\"),部門別目標設定!K501,部門別目標設定!I501)","v":""},null,{"$f":"IF(部門別目標設定!T501=\"\",\"\",(部門別目標設定!T501))","v":""}]
[null,{"$f":"部門別目標設定!B502","v":483},{"$f":"IF(部門別目標設定!C502=\"\",\"\",部門別目標設定!C502)","v":""},{"$f":"IF(部門別目標設定!D502=\"\",\"\",部門別目標設定!D502)","v":""},{"$f":"IF(部門別目標設定!E502=\"\",\"\",部門別目標設定!E502)","v":""},{"$f":"IF(部門別目標設定!F502=\"\",\"\",部門別目標設定!F502)","v":""},{"$f":"IF(部門別目標設定!G502=\"\",\"\",部門別目標設定!G502)","v":""},{"$f":"IF(部門別目標設定!M502=\"\",\"\",部門別目標設定!M502)","v":""},null,null,null,null,null,{"$f":"部門別目標設定!L502","v":0},"",null,null,null,null,null,{"$f":"IF(OR(部門別目標設定!I502=0,部門別目標設定!I502=\"\"),部門別目標設定!K502,部門別目標設定!I502)","v":""},null,{"$f":"IF(部門別目標設定!T502=\"\",\"\",(部門別目標設定!T502))","v":""}]
[null,{"$f":"部門別目標設定!B503","v":484},{"$f":"IF(部門別目標設定!C503=\"\",\"\",部門別目標設定!C503)","v":""},{"$f":"IF(部門別目標設定!D503=\"\",\"\",部門別目標設定!D503)","v":""},{"$f":"IF(部門別目標設定!E503=\"\",\"\",部門別目標設定!E503)","v":""},{"$f":"IF(部門別目標設定!F503=\"\",\"\",部門別目標設定!F503)","v":""},{"$f":"IF(部門別目標設定!G503=\"\",\"\",部門別目標設定!G503)","v":""},{"$f":"IF(部門別目標設定!M503=\"\",\"\",部門別目標設定!M503)","v":""},null,null,null,null,null,{"$f":"部門別目標設定!L503","v":0},"",null,null,null,null,null,{"$f":"IF(OR(部門別目標設定!I503=0,部門別目標設定!I503=\"\"),部門別目標設定!K503,部門別目標設定!I503)","v":""},null,{"$f":"IF(部門別目標設定!T503=\"\",\"\",(部門別目標設定!T503))","v":""}]
[null,{"$f":"部門別目標設定!B504","v":485},{"$f":"IF(部門別目標設定!C504=\"\",\"\",部門別目標設定!C504)","v":""},{"$f":"IF(部門別目標設定!D504=\"\",\"\",部門別目標設定!D504)","v":""},{"$f":"IF(部門別目標設定!E504=\"\",\"\",部門別目標設定!E504)","v":""},{"$f":"IF(部門別目標設定!F504=\"\",\"\",部門別目標設定!F504)","v":""},{"$f":"IF(部門別目標設定!G504=\"\",\"\",部門別目標設定!G504)","v":""},{"$f":"IF(部門別目標設定!M504=\"\",\"\",部門別目標設定!M504)","v":""},null,null,null,null,null,{"$f":"部門別目標設定!L504","v":0},"",null,null,null,null,null,{"$f":"IF(OR(部門別目標設定!I504=0,部門別目標設定!I504=\"\"),部門別目標設定!K504,部門別目標設定!I504)","v":""},null,{"$f":"IF(部門別目標設定!T504=\"\",\"\",(部門別目標設定!T504))","v":""}]
[null,{"$f":"部門別目標設定!B505","v":486},{"$f":"IF(部門別目標設定!C505=\"\",\"\",部門別目標設定!C505)","v":""},{"$f":"IF(部門別目標設定!D505=\"\",\"\",部門別目標設定!D505)","v":""},{"$f":"IF(部門別目標設定!E505=\"\",\"\",部門別目標設定!E505)","v":""},{"$f":"IF(部門別目標設定!F505=\"\",\"\",部門別目標設定!F505)","v":""},{"$f":"IF(部門別目標設定!G505=\"\",\"\",部門別目標設定!G505)","v":""},{"$f":"IF(部門別目標設定!M505=\"\",\"\",部門別目標設定!M505)","v":""},null,null,null,null,null,{"$f":"部門別目標設定!L505","v":0},"",null,null,null,null,null,{"$f":"IF(OR(部門別目標設定!I505=0,部門別目標設定!I505=\"\"),部門別目標設定!K505,部門別目標設定!I505)","v":""},null,{"$f":"IF(部門別目標設定!T505=\"\",\"\",(部門別目標設定!T505))","v":""}]
[null,{"$f":"部門別目標設定!B506","v":487},{"$f":"IF(部門別目標設定!C506=\"\",\"\",部門別目標設定!C506)","v":""},{"$f":"IF(部門別目標設定!D506=\"\",\"\",部門別目標設定!D506)","v":""},{"$f":"IF(部門別目標設定!E506=\"\",\"\",部門別目標設定!E506)","v":""},{"$f":"IF(部門別目標設定!F506=\"\",\"\",部門別目標設定!F506)","v":""},{"$f":"IF(部門別目標設定!G506=\"\",\"\",部門別目標設定!G506)","v":""},{"$f":"IF(部門別目標設定!M506=\"\",\"\",部門別目標設定!M506)","v":""},null,null,null,null,null,{"$f":"部門別目標設定!L506","v":0},"",null,null,null,null,null,{"$f":"IF(OR(部門別目標設定!I506=0,部門別目標設定!I506=\"\"),部門別目標設定!K506,部門別目標設定!I506)","v":""},null,{"$f":"IF(部門別目標設定!T506=\"\",\"\",(部門別目標設定!T506))","v":""}]
[null,{"$f":"部門別目標設定!B507","v":488},{"$f":"IF(部門別目標設定!C507=\"\",\"\",部門別目標設定!C507)","v":""},{"$f":"IF(部門別目標設定!D507=\"\",\"\",部門別目標設定!D507)","v":""},{"$f":"IF(部門別目標設定!E507=\"\",\"\",部門別目標設定!E507)","v":""},{"$f":"IF(部門別目標設定!F507=\"\",\"\",部門別目標設定!F507)","v":""},{"$f":"IF(部門別目標設定!G507=\"\",\"\",部門別目標設定!G507)","v":""},{"$f":"IF(部門別目標設定!M507=\"\",\"\",部門別目標設定!M507)","v":""},null,null,null,null,null,{"$f":"部門別目標設定!L507","v":0},"",null,null,null,null,null,{"$f":"IF(OR(部門別目標設定!I507=0,部門別目標設定!I507=\"\"),部門別目標設定!K507,部門別目標設定!I507)","v":""},null,{"$f":"IF(部門別目標設定!T507=\"\",\"\",(部門別目標設定!T507))","v":""}]
[null,{"$f":"部門別目標設定!B508","v":489},{"$f":"IF(部門別目標設定!C508=\"\",\"\",部門別目標設定!C508)","v":""},{"$f":"IF(部門別目標設定!D508=\"\",\"\",部門別目標設定!D508)","v":""},{"$f":"IF(部門別目標設定!E508=\"\",\"\",部門別目標設定!E508)","v":""},{"$f":"IF(部門別目標設定!F508=\"\",\"\",部門別目標設定!F508)","v":""},{"$f":"IF(部門別目標設定!G508=\"\",\"\",部門別目標設定!G508)","v":""},{"$f":"IF(部門別目標設定!M508=\"\",\"\",部門別目標設定!M508)","v":""},null,null,null,null,null,{"$f":"部門別目標設定!L508","v":0},"",null,null,null,null,null,{"$f":"IF(OR(部門別目標設定!I508=0,部門別目標設定!I508=\"\"),部門別目標設定!K508,部門別目標設定!I508)","v":""},null,{"$f":"IF(部門別目標設定!T508=\"\",\"\",(部門別目標設定!T508))","v":""}]
[null,{"$f":"部門別目標設定!B509","v":490},{"$f":"IF(部門別目標設定!C509=\"\",\"\",部門別目標設定!C509)","v":""},{"$f":"IF(部門別目標設定!D509=\"\",\"\",部門別目標設定!D509)","v":""},{"$f":"IF(部門別目標設定!E509=\"\",\"\",部門別目標設定!E509)","v":""},{"$f":"IF(部門別目標設定!F509=\"\",\"\",部門別目標設定!F509)","v":""},{"$f":"IF(部門別目標設定!G509=\"\",\"\",部門別目標設定!G509)","v":""},{"$f":"IF(部門別目標設定!M509=\"\",\"\",部門別目標設定!M509)","v":""},null,null,null,null,null,{"$f":"部門別目標設定!L509","v":0},"",null,null,null,null,null,{"$f":"IF(OR(部門別目標設定!I509=0,部門別目標設定!I509=\"\"),部門別目標設定!K509,部門別目標設定!I509)","v":""},null,{"$f":"IF(部門別目標設定!T509=\"\",\"\",(部門別目標設定!T509))","v":""}]
[null,{"$f":"部門別目標設定!B510","v":491},{"$f":"IF(部門別目標設定!C510=\"\",\"\",部門別目標設定!C510)","v":""},{"$f":"IF(部門別目標設定!D510=\"\",\"\",部門別目標設定!D510)","v":""},{"$f":"IF(部門別目標設定!E510=\"\",\"\",部門別目標設定!E510)","v":""},{"$f":"IF(部門別目標設定!F510=\"\",\"\",部門別目標設定!F510)","v":""},{"$f":"IF(部門別目標設定!G510=\"\",\"\",部門別目標設定!G510)","v":""},{"$f":"IF(部門別目標設定!M510=\"\",\"\",部門別目標設定!M510)","v":""},null,null,null,null,null,{"$f":"部門別目標設定!L510","v":0},"",null,null,null,null,null,{"$f":"IF(OR(部門別目標設定!I510=0,部門別目標設定!I510=\"\"),部門別目標設定!K510,部門別目標設定!I510)","v":""},null,{"$f":"IF(部門別目標設定!T510=\"\",\"\",(部門別目標設定!T510))","v":""}]
[null,{"$f":"部門別目標設定!B511","v":492},{"$f":"IF(部門別目標設定!C511=\"\",\"\",部門別目標設定!C511)","v":""},{"$f":"IF(部門別目標設定!D511=\"\",\"\",部門別目標設定!D511)","v":""},{"$f":"IF(部門別目標設定!E511=\"\",\"\",部門別目標設定!E511)","v":""},{"$f":"IF(部門別目標設定!F511=\"\",\"\",部門別目標設定!F511)","v":""},{"$f":"IF(部門別目標設定!G511=\"\",\"\",部門別目標設定!G511)","v":""},{"$f":"IF(部門別目標設定!M511=\"\",\"\",部門別目標設定!M511)","v":""},null,null,null,null,null,{"$f":"部門別目標設定!L511","v":0},"",null,null,null,null,null,{"$f":"IF(OR(部門別目標設定!I511=0,部門別目標設定!I511=\"\"),部門別目標設定!K511,部門別目標設定!I511)","v":""},null,{"$f":"IF(部門別目標設定!T511=\"\",\"\",(部門別目標設定!T511))","v":""}]
[null,{"$f":"部門別目標設定!B512","v":493},{"$f":"IF(部門別目標設定!C512=\"\",\"\",部門別目標設定!C512)","v":""},{"$f":"IF(部門別目標設定!D512=\"\",\"\",部門別目標設定!D512)","v":""},{"$f":"IF(部門別目標設定!E512=\"\",\"\",部門別目標設定!E512)","v":""},{"$f":"IF(部門別目標設定!F512=\"\",\"\",部門別目標設定!F512)","v":""},{"$f":"IF(部門別目標設定!G512=\"\",\"\",部門別目標設定!G512)","v":""},{"$f":"IF(部門別目標設定!M512=\"\",\"\",部門別目標設定!M512)","v":""},null,null,null,null,null,{"$f":"部門別目標設定!L512","v":0},"",null,null,null,null,null,{"$f":"IF(OR(部門別目標設定!I512=0,部門別目標設定!I512=\"\"),部門別目標設定!K512,部門別目標設定!I512)","v":""},null,{"$f":"IF(部門別目標設定!T512=\"\",\"\",(部門別目標設定!T512))","v":""}]
[null,{"$f":"部門別目標設定!B513","v":494},{"$f":"IF(部門別目標設定!C513=\"\",\"\",部門別目標設定!C513)","v":""},{"$f":"IF(部門別目標設定!D513=\"\",\"\",部門別目標設定!D513)","v":""},{"$f":"IF(部門別目標設定!E513=\"\",\"\",部門別目標設定!E513)","v":""},{"$f":"IF(部門別目標設定!F513=\"\",\"\",部門別目標設定!F513)","v":""},{"$f":"IF(部門別目標設定!G513=\"\",\"\",部門別目標設定!G513)","v":""},{"$f":"IF(部門別目標設定!M513=\"\",\"\",部門別目標設定!M513)","v":""},null,null,null,null,null,{"$f":"部門別目標設定!L513","v":0},"",null,null,null,null,null,{"$f":"IF(OR(部門別目標設定!I513=0,部門別目標設定!I513=\"\"),部門別目標設定!K513,部門別目標設定!I513)","v":""},{"$f":"IF(OR(P508=\"\",U508=\"\"),\"\",INDEX(P508:T508,MATCH(MAX(P508:T508)+1,P508:T508,1))/U508)","v":""},{"$f":"IF(部門別目標設定!T513=\"\",\"\",(部門別目標設定!T513))","v":""}]
[null,{"$f":"部門別目標設定!B514","v":495},{"$f":"IF(部門別目標設定!C514=\"\",\"\",部門別目標設定!C514)","v":""},{"$f":"IF(部門別目標設定!D514=\"\",\"\",部門別目標設定!D514)","v":""},{"$f":"IF(部門別目標設定!E514=\"\",\"\",部門別目標設定!E514)","v":""},{"$f":"IF(部門別目標設定!F514=\"\",\"\",部門別目標設定!F514)","v":""},{"$f":"IF(部門別目標設定!G514=\"\",\"\",部門別目標設定!G514)","v":""},{"$f":"IF(部門別目標設定!M514=\"\",\"\",部門別目標設定!M514)","v":""},null,null,null,null,null,{"$f":"部門別目標設定!L514","v":0},"",null,null,null,null,null,{"$f":"IF(OR(部門別目標設定!I514=0,部門別目標設定!I514=\"\"),部門別目標設定!K514,部門別目標設定!I514)","v":""},"",{"$f":"IF(部門別目標設定!T514=\"\",\"\",(部門別目標設定!T514))","v":""}]
[null,{"$f":"部門別目標設定!B515","v":496},{"$f":"IF(部門別目標設定!C515=\"\",\"\",部門別目標設定!C515)","v":""},{"$f":"IF(部門別目標設定!D515=\"\",\"\",部門別目標設定!D515)","v":""},{"$f":"IF(部門別目標設定!E515=\"\",\"\",部門別目標設定!E515)","v":""},{"$f":"IF(部門別目標設定!F515=\"\",\"\",部門別目標設定!F515)","v":""},{"$f":"IF(部門別目標設定!G515=\"\",\"\",部門別目標設定!G515)","v":""},{"$f":"IF(部門別目標設定!M515=\"\",\"\",部門別目標設定!M515)","v":""},null,null,null,null,null,{"$f":"部門別目標設定!L515","v":0},"",null,null,null,null,null,{"$f":"IF(OR(部門別目標設定!I515=0,部門別目標設定!I515=\"\"),部門別目標設定!K515,部門別目標設定!I515)","v":""},"",{"$f":"IF(部門別目標設定!T515=\"\",\"\",(部門別目標設定!T515))","v":""}]
[null,{"$f":"部門別目標設定!B516","v":497},{"$f":"IF(部門別目標設定!C516=\"\",\"\",部門別目標設定!C516)","v":""},{"$f":"IF(部門別目標設定!D516=\"\",\"\",部門別目標設定!D516)","v":""},{"$f":"IF(部門別目標設定!E516=\"\",\"\",部門別目標設定!E516)","v":""},{"$f":"IF(部門別目標設定!F516=\"\",\"\",部門別目標設定!F516)","v":""},{"$f":"IF(部門別目標設定!G516=\"\",\"\",部門別目標設定!G516)","v":""},{"$f":"IF(部門別目標設定!M516=\"\",\"\",部門別目標設定!M516)","v":""},null,null,null,null,null,{"$f":"部門別目標設定!L516","v":0},"",null,null,null,null,null,{"$f":"IF(OR(部門別目標設定!I516=0,部門別目標設定!I516=\"\"),部門別目標設定!K516,部門別目標設定!I516)","v":""},"",{"$f":"IF(部門別目標設定!T516=\"\",\"\",(部門別目標設定!T516))","v":""}]
[null,{"$f":"部門別目標設定!B517","v":498},{"$f":"IF(部門別目標設定!C517=\"\",\"\",部門別目標設定!C517)","v":""},{"$f":"IF(部門別目標設定!D517=\"\",\"\",部門別目標設定!D517)","v":""},{"$f":"IF(部門別目標設定!E517=\"\",\"\",部門別目標設定!E517)","v":""},{"$f":"IF(部門別目標設定!F517=\"\",\"\",部門別目標設定!F517)","v":""},{"$f":"IF(部門別目標設定!G517=\"\",\"\",部門別目標設定!G517)","v":""},{"$f":"IF(部門別目標設定!M517=\"\",\"\",部門別目標設定!M517)","v":""},null,null,null,null,null,{"$f":"部門別目標設定!L517","v":0},"",null,null,null,null,null,{"$f":"IF(OR(部門別目標設定!I517=0,部門別目標設定!I517=\"\"),部門別目標設定!K517,部門別目標設定!I517)","v":""},"",{"$f":"IF(部門別目標設定!T517=\"\",\"\",(部門別目標設定!T517))","v":""}]
[null,{"$f":"部門別目標設定!B518","v":499},{"$f":"IF(部門別目標設定!C518=\"\",\"\",部門別目標設定!C518)","v":""},{"$f":"IF(部門別目標設定!D518=\"\",\"\",部門別目標設定!D518)","v":""},{"$f":"IF(部門別目標設定!E518=\"\",\"\",部門別目標設定!E518)","v":""},{"$f":"IF(部門別目標設定!F518=\"\",\"\",部門別目標設定!F518)","v":""},{"$f":"IF(部門別目標設定!G518=\"\",\"\",部門別目標設定!G518)","v":""},{"$f":"IF(部門別目標設定!M518=\"\",\"\",部門別目標設定!M518)","v":""},null,null,null,null,null,{"$f":"部門別目標設定!L518","v":0},"",null,null,null,null,null,{"$f":"IF(OR(部門別目標設定!I518=0,部門別目標設定!I518=\"\"),部門別目標設定!K518,部門別目標設定!I518)","v":""},"",{"$f":"IF(部門別目標設定!T518=\"\",\"\",(部門別目標設定!T518))","v":""}]
[null,{"$f":"部門別目標設定!B519","v":500},{"$f":"IF(部門別目標設定!C519=\"\",\"\",部門別目標設定!C519)","v":""},{"$f":"IF(部門別目標設定!D519=\"\",\"\",部門別目標設定!D519)","v":""},{"$f":"IF(部門別目標設定!E519=\"\",\"\",部門別目標設定!E519)","v":""},{"$f":"IF(部門別目標設定!F519=\"\",\"\",部門別目標設定!F519)","v":""},{"$f":"IF(部門別目標設定!G519=\"\",\"\",部門別目標設定!G519)","v":""},{"$f":"IF(部門別目標設定!M519=\"\",\"\",部門別目標設定!M519)","v":""},null,null,null,null,null,{"$f":"部門別目標設定!L519","v":0},"",null,null,null,null,null,{"$f":"IF(OR(部門別目標設定!I519=0,部門別目標設定!I519=\"\"),部門別目標設定!K519,部門別目標設定!I519)","v":""},"",{"$f":"IF(部門別目標設定!T519=\"\",\"\",(部門別目標設定!T519))","v":""}]

{"sheet":"電力","index":15,"n_rows":283,"n_cols":26,"rows_kept":283,"cut":false,"hidden":true,"merged":[]}
["都道府県　","行区分","1990","1991","1992","1993","1994","1995","1996","1997","1998","1999","2000","2001","2002","2003","2004","2005","2006","2007","2008","2009","2010","2011","2012","2013"]
["北海道","01排出係数",5.1599999999999997E-4,4.7199999999999998E-4,4.5199999999999998E-4,4.8000000000000001E-4,4.5899999999999999E-4,4.4999999999999999E-4,5.0100000000000003E-4,4.9200000000000003E-4,4.7800000000000002E-4,4.8899999999999996E-4,5.0500000000000002E-4,5.13E-4,5.1999999999999995E-4,5.4699999999999996E-4,5.0799999999999999E-4,5.22E-4,5.0500000000000002E-4,5.3600000000000002E-4,5.9299999999999999E-4,4.6299999999999998E-4,3.86E-4,5.3200000000000003E-4,6.6299999999999996E-4,6.6200000000000005E-4]
[null,"02_1製造業",0.35499999999999998,0.38100000000000001,0.373,0.36799999999999999,0.377,0.36599999999999999,0.41,0.44,0.45900000000000002,0.47399999999999998,0.48199999999999998,0.51300000000000001,0.49099999999999999,0.50600000000000001,0.503,0.51100000000000001,0.51900000000000002,0.57199999999999995,0.58299999999999996,0.52900000000000003,0.49199999999999999,0.54700000000000004,0.59399999999999997,0.58299999999999996]
[null,"02_2建設業鉱業",0.47799999999999998,0.439,0.41499999999999998,0.42099999999999999,0.39,0.374,0.40699999999999997,0.39200000000000002,0.378,0.38100000000000001,0.38800000000000001,0.38300000000000001,0.38300000000000001,0.39500000000000002,0.36899999999999999,0.38,0.36099999999999999,0.36399999999999999,0.38300000000000001,0.30199999999999999,0.254,0.32400000000000001,0.378,0.39900000000000002]
[null,"02_3農林水産業",5.5E-2,0.05,5.0999999999999997E-2,5.7000000000000002E-2,5.8999999999999997E-2,0.06,7.4999999999999997E-2,7.9000000000000001E-2,8.7999999999999995E-2,9.7000000000000003E-2,0.11600000000000001,0.125,0.13700000000000001,0.16,0.14899999999999999,0.158,0.153,0.16300000000000001,0.193,0.151,0.128,0.191,0.23599999999999999,0.214]
[null,"02_4業務他",0.59299999999999997,0.55900000000000005,0.54200000000000004,0.55500000000000005,0.53400000000000003,0.52700000000000002,0.56499999999999995,0.55800000000000005,0.55200000000000005,0.56399999999999995,0.58099999999999996,0.58599999999999997,0.59299999999999997,0.61099999999999999,0.59099999999999997,0.60499999999999998,0.59499999999999997,0.61399999999999999,0.64300000000000002,0.57399999999999995,0.51800000000000002,0.61599999999999999,0.67600000000000005,0.63100000000000001]
[null,"02_5家庭",0.4,0.40200000000000002,0.36399999999999999,0.379,0.378,0.378,0.40699999999999997,0.39200000000000002,0.41,0.41399999999999998,0.42,0.436,0.45900000000000002,0.49099999999999999,0.44900000000000001,0.48599999999999999,0.48699999999999999,0.501,0.56100000000000005,0.47,0.41799999999999998,0.52100000000000002,0.57099999999999995,0.58299999999999996]
["青森県","01排出係数",3.9500000000000001E-4,3.8099999999999999E-4,4.08E-4,4.3199999999999998E-4,4.7699999999999999E-4,4.4700000000000002E-4,4.2900000000000002E-4,5.0900000000000001E-4,4.4099999999999999E-4,4.57E-4,4.46E-4,4.35E-4,4.2099999999999999E-4,4.2200000000000001E-4,4.28E-4,4.73E-4,4.44E-4,4.37E-4,4.3399999999999998E-4,4.2999999999999999E-4,4.0900000000000002E-4,4.73E-4,5.1099999999999995E-4,5.1800000000000001E-4]
[null,"02_1製造業",0.30099999999999999,0.29099999999999998,0.28999999999999998,0.28100000000000003,0.30599999999999999,0.29099999999999998,0.318,0.39300000000000002,0.40600000000000003,0.379,0.38600000000000001,0.373,0.39200000000000002,0.38500000000000001,0.42,0.436,0.45300000000000001,0.46500000000000002,0.46899999999999997,0.48499999999999999,0.49,0.55400000000000005,0.52400000000000002,0.51700000000000002]
[null,"02_2建設業鉱業",0.41799999999999998,0.39900000000000002,0.40500000000000003,0.40600000000000003,0.42399999999999999,0.40400000000000003,0.38600000000000001,0.41899999999999998,0.36499999999999999,0.379,0.372,0.35799999999999998,0.34699999999999998,0.35,0.34899999999999998,0.373,0.34799999999999998,0.32400000000000001,0.315,0.29799999999999999,0.28000000000000003,0.3,0.312,0.33200000000000002]
[null,"02_3農林水産業",4.3999999999999997E-2,4.2999999999999997E-2,4.8000000000000001E-2,5.0999999999999997E-2,6.3E-2,6.4000000000000001E-2,6.5000000000000002E-2,8.5000000000000006E-2,7.8E-2,8.4000000000000005E-2,9.6000000000000002E-2,0.105,0.108,0.121,0.129,0.14299999999999999,0.14199999999999999,0.14499999999999999,0.152,0.152,0.158,0.186,0.20499999999999999,0.185]
[null,"02_4業務他",0.52400000000000002,0.51,0.52500000000000002,0.53800000000000003,0.56399999999999995,0.54800000000000004,0.53900000000000003,0.57999999999999996,0.53100000000000003,0.55500000000000005,0.55500000000000005,0.55300000000000005,0.54600000000000004,0.55300000000000005,0.56499999999999995,0.59299999999999997,0.57699999999999996,0.57599999999999996,0.57699999999999996,0.57599999999999996,0.55000000000000004,0.58299999999999996,0.61099999999999999,0.56499999999999995]
[null,"02_5家庭",0.42299999999999999,0.40600000000000003,0.42,0.42299999999999999,0.47499999999999998,0.45600000000000002,0.45600000000000002,0.48299999999999998,0.44600000000000001,0.46600000000000003,0.44500000000000001,0.44500000000000001,0.41899999999999998,0.46500000000000002,0.44800000000000001,0.49,0.498,0.48499999999999999,0.52700000000000002,0.52200000000000002,0.498,0.54100000000000004,0.56899999999999995,0.57999999999999996]
["岩手県","01排出係数",3.9800000000000002E-4,3.8099999999999999E-4,4.0900000000000002E-4,4.2900000000000002E-4,4.8700000000000002E-4,4.5600000000000003E-4,4.4000000000000002E-4,5.1900000000000004E-4,4.1399999999999998E-4,4.44E-4,4.3300000000000001E-4,4.2299999999999998E-4,4.0700000000000003E-4,4.08E-4,4.17E-4,4.6700000000000002E-4,4.3600000000000003E-4,4.3100000000000001E-4,4.2900000000000002E-4,4.2700000000000002E-4,4.0400000000000001E-4,4.5800000000000002E-4,5.0000000000000001E-4,5.0000000000000001E-4]
[null,"02_1製造業",0.40600000000000003,0.41099999999999998,0.433,0.41799999999999998,0.46600000000000003,0.46800000000000003,0.47099999999999997,0.53700000000000003,0.53900000000000003,0.57499999999999996,0.56499999999999995,0.56599999999999995,0.57799999999999996,0.61199999999999999,0.64100000000000001,0.65200000000000002,0.65800000000000003,0.66800000000000004,0.66,0.66700000000000004,0.68100000000000005,0.82399999999999995,0.65300000000000002,0.63]
[null,"02_2建設業鉱業",0.40899999999999997,0.38800000000000001,0.39500000000000002,0.39800000000000002,0.41799999999999998,0.39600000000000002,0.378,0.41,0.35499999999999998,0.36799999999999999,0.36099999999999999,0.34799999999999998,0.33700000000000002,0.33500000000000002,0.33600000000000002,0.35699999999999998,0.32900000000000001,0.316,0.30099999999999999,0.28899999999999998,0.26500000000000001,0.28000000000000003,0.29199999999999998,0.311]
[null,"02_3農林水産業",5.7000000000000002E-2,5.5E-2,5.8999999999999997E-2,6.5000000000000002E-2,8.5000000000000006E-2,8.5000000000000006E-2,8.5999999999999993E-2,0.107,0.1,0.113,0.13,0.14000000000000001,0.14199999999999999,0.158,0.16700000000000001,0.193,0.182,0.186,0.19800000000000001,0.20599999999999999,0.19700000000000001,0.22,0.251,0.22900000000000001]
[null,"02_4業務他",0.52500000000000002,0.51200000000000001,0.52500000000000002,0.53600000000000003,0.56299999999999994,0.54700000000000004,0.53600000000000003,0.57699999999999996,0.53,0.55400000000000005,0.55400000000000005,0.55000000000000004,0.54300000000000004,0.55100000000000005,0.56299999999999994,0.59,0.57199999999999995,0.57399999999999995,0.57499999999999996,0.57399999999999995,0.55700000000000005,0.57999999999999996,0.61499999999999999,0.56699999999999995]
[null,"02_5家庭",0.45500000000000002,0.44800000000000001,0.44800000000000001,0.45500000000000002,0.51700000000000002,0.498,0.49199999999999999,0.52600000000000002,0.47399999999999998,0.497,0.48399999999999999,0.48199999999999998,0.45500000000000002,0.501,0.48899999999999999,0.51900000000000002,0.53400000000000003,0.53100000000000003,0.55800000000000005,0.55500000000000005,0.52800000000000002,0.57799999999999996,0.60499999999999998,0.61599999999999999]
["宮城県","01排出係数",4.1599999999999997E-4,4.0900000000000002E-4,4.3100000000000001E-4,4.55E-4,5.0600000000000005E-4,4.8000000000000001E-4,4.4900000000000002E-4,5.1599999999999997E-4,4.26E-4,4.5300000000000001E-4,4.46E-4,4.3399999999999998E-4,4.1899999999999999E-4,4.2200000000000001E-4,4.3300000000000001E-4,4.7899999999999999E-4,4.4700000000000002E-4,4.4099999999999999E-4,4.3800000000000002E-4,4.37E-4,4.1199999999999999E-4,4.6999999999999999E-4,5.1599999999999997E-4,5.31E-4]
[null,"02_1製造業",0.58199999999999996,0.57599999999999996,0.56699999999999995,0.56799999999999995,0.60799999999999998,0.59199999999999997,0.59799999999999998,0.63300000000000001,0.63200000000000001,0.66,0.66800000000000004,0.66100000000000003,0.65200000000000002,0.64800000000000002,0.66500000000000004,0.70299999999999996,0.70199999999999996,0.73499999999999999,0.75,0.748,0.747,0.76,0.76900000000000002,0.77100000000000002]
[null,"02_2建設業鉱業",0.40400000000000003,0.38300000000000001,0.39,0.39400000000000002,0.41499999999999998,0.39300000000000002,0.375,0.40699999999999997,0.35199999999999998,0.36499999999999999,0.35699999999999998,0.34499999999999997,0.33200000000000002,0.33,0.33300000000000002,0.35199999999999998,0.32300000000000001,0.30599999999999999,0.29399999999999998,0.28100000000000003,0.25800000000000001,0.27600000000000002,0.28599999999999998,0.30499999999999999]
[null,"02_3農林水産業",3.9E-2,3.6999999999999998E-2,0.04,4.7E-2,6.2E-2,6.2E-2,5.8999999999999997E-2,7.4999999999999997E-2,6.7000000000000004E-2,7.6999999999999999E-2,0.09,0.1,0.10100000000000001,0.108,0.11700000000000001,0.13300000000000001,0.122,0.129,0.13400000000000001,0.13600000000000001,0.13200000000000001,0.14399999999999999,0.16800000000000001,0.15]
[null,"02_4業務他",0.53400000000000003,0.51700000000000002,0.53,0.54,0.56699999999999995,0.55000000000000004,0.54100000000000004,0.58299999999999996,0.53500000000000003,0.55900000000000005,0.56000000000000005,0.55600000000000005,0.55000000000000004,0.55800000000000005,0.56999999999999995,0.59699999999999998,0.58199999999999996,0.58299999999999996,0.58299999999999996,0.58099999999999996,0.56399999999999995,0.58099999999999996,0.61699999999999999,0.56200000000000006]
[null,"02_5家庭",0.49099999999999999,0.48399999999999999,0.49199999999999999,0.48799999999999999,0.55500000000000005,0.52600000000000002,0.52,0.55400000000000005,0.50900000000000001,0.53700000000000003,0.52100000000000002,0.51800000000000002,0.48799999999999999,0.52600000000000002,0.53,0.55200000000000005,0.55400000000000005,0.55700000000000005,0.59799999999999998,0.58399999999999996,0.55000000000000004,0.58699999999999997,0.629,0.64]
["秋田県","01排出係数",4.0999999999999999E-4,3.7800000000000003E-4,4.0700000000000003E-4,4.2900000000000002E-4,4.7800000000000002E-4,4.4799999999999999E-4,4.3399999999999998E-4,5.0299999999999997E-4,4.1100000000000002E-4,4.3800000000000002E-4,4.2900000000000002E-4,4.1800000000000002E-4,4.0299999999999998E-4,3.9399999999999998E-4,4.0499999999999998E-4,4.55E-4,4.2200000000000001E-4,4.17E-4,4.2000000000000002E-4,4.3199999999999998E-4,3.9599999999999998E-4,4.57E-4,4.8999999999999998E-4,5.0299999999999997E-4]
[null,"02_1製造業",0.70299999999999996,0.68300000000000005,0.70699999999999996,0.69,0.68899999999999995,0.66100000000000003,0.67400000000000004,0.73699999999999999,0.75600000000000001,0.77100000000000002,0.77700000000000002,0.77700000000000002,0.78200000000000003,0.752,0.77500000000000002,0.79800000000000004,0.80100000000000005,0.8,0.79100000000000004,0.81799999999999995,0.82899999999999996,0.84,0.84899999999999998,0.84799999999999998]
[null,"02_2建設業鉱業",0.42,0.39700000000000002,0.40600000000000003,0.40300000000000002,0.41899999999999998,0.39700000000000002,0.379,0.41299999999999998,0.35699999999999998,0.371,0.36499999999999999,0.35399999999999998,0.34100000000000003,0.33900000000000002,0.34399999999999997,0.36699999999999999,0.33900000000000002,0.31900000000000001,0.32300000000000001,0.307,0.28999999999999998,0.32100000000000001,0.34399999999999997,0.36499999999999999]
[null,"02_3農林水産業",9.9000000000000005E-2,9.4E-2,0.10299999999999999,0.108,0.126,0.121,0.125,0.154,0.13800000000000001,0.157,0.16700000000000001,0.17499999999999999,0.182,0.19800000000000001,0.21299999999999999,0.249,0.24299999999999999,0.252,0.26400000000000001,0.26900000000000002,0.26600000000000001,0.308,0.33800000000000002,0.313]
[null,"02_4業務他",0.53,0.51600000000000001,0.53100000000000003,0.54300000000000004,0.57099999999999995,0.55500000000000005,0.54400000000000004,0.58399999999999996,0.53500000000000003,0.56000000000000005,0.55900000000000005,0.55500000000000005,0.54700000000000004,0.55300000000000005,0.56499999999999995,0.59199999999999997,0.57699999999999996,0.57499999999999996,0.57599999999999996,0.57099999999999995,0.55000000000000004,0.58499999999999996,0.61199999999999999,0.55900000000000005]
[null,"02_5家庭",0.441,0.42799999999999999,0.438,0.44900000000000001,0.51400000000000001,0.47299999999999998,0.47499999999999998,0.505,0.46600000000000003,0.48399999999999999,0.47399999999999998,0.47199999999999998,0.437,0.47199999999999998,0.46800000000000003,0.505,0.51900000000000002,0.48899999999999999,0.54400000000000004,0.53700000000000003,0.502,0.56299999999999994,0.59199999999999997,0.60299999999999998]
["山形県","01排出係数",3.8699999999999997E-4,3.6900000000000002E-4,3.9899999999999999E-4,4.2099999999999999E-4,4.7699999999999999E-4,4.4299999999999998E-4,4.1800000000000002E-4,4.8500000000000003E-4,4.0000000000000002E-4,4.2900000000000002E-4,4.2099999999999999E-4,4.1100000000000002E-4,3.9300000000000001E-4,3.9399999999999998E-4,4.08E-4,4.6000000000000001E-4,4.2700000000000002E-4,4.2099999999999999E-4,4.1899999999999999E-4,4.37E-4,3.88E-4,4.5100000000000001E-4,4.7399999999999997E-4,5.1400000000000003E-4]
[null,"02_1製造業",0.625,0.58899999999999997,0.58899999999999997,0.57999999999999996,0.64300000000000002,0.60399999999999998,0.66200000000000003,0.67900000000000005,0.74099999999999999,0.76,0.77300000000000002,0.78200000000000003,0.76400000000000001,0.77700000000000002,0.81599999999999995,0.84099999999999997,0.83299999999999996,0.83299999999999996,0.82299999999999995,0.82399999999999995,0.79300000000000004,0.8,0.72899999999999998,0.80300000000000005]
[null,"02_2建設業鉱業",0.41,0.39200000000000002,0.4,0.40300000000000002,0.42299999999999999,0.40300000000000002,0.38300000000000001,0.41599999999999998,0.36,0.375,0.36799999999999999,0.35,0.33900000000000002,0.33500000000000002,0.34100000000000003,0.36399999999999999,0.33500000000000002,0.31900000000000001,0.309,0.3,0.27600000000000002,0.29499999999999998,0.312,0.33100000000000002]
[null,"02_3農林水産業",0.10199999999999999,9.5000000000000001E-2,0.104,0.111,0.126,0.123,0.125,0.154,0.13800000000000001,0.157,0.16500000000000001,0.17699999999999999,0.184,0.2,0.216,0.251,0.247,0.255,0.26600000000000001,0.27,0.27200000000000002,0.313,0.34300000000000003,0.318]
[null,"02_4業務他",0.52400000000000002,0.51100000000000001,0.52600000000000002,0.53700000000000003,0.56599999999999995,0.55000000000000004,0.53600000000000003,0.57599999999999996,0.52600000000000002,0.55000000000000004,0.55000000000000004,0.54600000000000004,0.53700000000000003,0.54300000000000004,0.55200000000000005,0.57799999999999996,0.56100000000000005,0.56100000000000005,0.56100000000000005,0.55800000000000005,0.54800000000000004,0.58299999999999996,0.60899999999999999,0.56100000000000005]
[null,"02_5家庭",0.48199999999999998,0.46200000000000002,0.47199999999999998,0.48,0.54500000000000004,0.51300000000000001,0.51500000000000001,0.54400000000000004,0.495,0.51600000000000001,0.50900000000000001,0.50700000000000001,0.47599999999999998,0.51700000000000002,0.50700000000000001,0.54600000000000004,0.54500000000000004,0.53200000000000003,0.56399999999999995,0.55800000000000005,0.53800000000000003,0.58699999999999997,0.625,0.63600000000000001]
["福島県","01排出係数",3.8400000000000001E-4,3.6699999999999998E-4,4.0000000000000002E-4,4.2499999999999998E-4,4.7800000000000002E-4,4.55E-4,4.2900000000000002E-4,5.0600000000000005E-4,4.1899999999999999E-4,4.4499999999999997E-4,4.3300000000000001E-4,4.2000000000000002E-4,4.0700000000000003E-4,4.0999999999999999E-4,4.1899999999999999E-4,4.6500000000000003E-4,4.3199999999999998E-4,4.2999999999999999E-4,4.2700000000000002E-4,4.2099999999999999E-4,3.9800000000000002E-4,4.5899999999999999E-4,5.04E-4,5.0299999999999997E-4]
[null,"02_1製造業",0.54,0.49399999999999999,0.47699999999999998,0.46,0.47099999999999997,0.46899999999999997,0.48299999999999998,0.55500000000000005,0.59,0.64600000000000002,0.67100000000000004,0.66600000000000004,0.69599999999999995,0.70899999999999996,0.73399999999999999,0.77900000000000003,0.79,0.79600000000000004,0.81100000000000005,0.82599999999999996,0.82799999999999996,0.85799999999999998,0.86699999999999999,0.85799999999999998]
[null,"02_2建設業鉱業",0.40899999999999997,0.38700000000000001,0.39400000000000002,0.39800000000000002,0.41699999999999998,0.39500000000000002,0.377,0.40899999999999997,0.35499999999999998,0.36899999999999999,0.36099999999999999,0.34899999999999998,0.33600000000000002,0.33700000000000002,0.33900000000000002,0.35899999999999999,0.32800000000000001,0.311,0.29699999999999999,0.28299999999999997,0.26,0.28399999999999997,0.29099999999999998,0.309]
[null,"02_3農林水産業",6.6000000000000003E-2,6.5000000000000002E-2,6.9000000000000006E-2,7.5999999999999998E-2,0.09,8.8999999999999996E-2,9.9000000000000005E-2,0.11899999999999999,0.11,0.126,0.14000000000000001,0.14799999999999999,0.157,0.17699999999999999,0.187,0.214,0.20699999999999999,0.20699999999999999,0.214,0.217,0.20799999999999999,0.22,0.251,0.22800000000000001]
[null,"02_4業務他",0.52400000000000002,0.51100000000000001,0.52400000000000002,0.53400000000000003,0.56399999999999995,0.54800000000000004,0.53700000000000003,0.57699999999999996,0.52900000000000003,0.55300000000000005,0.55400000000000005,0.55000000000000004,0.54100000000000004,0.54800000000000004,0.55900000000000005,0.58599999999999997,0.56799999999999995,0.56699999999999995,0.56899999999999995,0.56599999999999995,0.55400000000000005,0.57699999999999996,0.61,0.56100000000000005]
[null,"02_5家庭",0.47899999999999998,0.46500000000000002,0.47399999999999998,0.47299999999999998,0.53500000000000003,0.51100000000000001,0.50600000000000001,0.53600000000000003,0.48899999999999999,0.51300000000000001,0.499,0.49099999999999999,0.45500000000000002,0.49399999999999999,0.49199999999999999,0.52800000000000002,0.52600000000000002,0.51400000000000001,0.55600000000000005,0.56599999999999995,0.52800000000000002,0.56299999999999994,0.60599999999999998,0.61799999999999999]
["茨城県","01排出係数",3.3100000000000002E-4,3.2499999999999999E-4,3.3E-4,3.0499999999999999E-4,3.1599999999999998E-4,2.9100000000000003E-4,2.3000000000000001E-4,2.5599999999999999E-4,2.7300000000000002E-4,2.8499999999999999E-4,2.9100000000000003E-4,2.7599999999999999E-4,3.28E-4,4.1300000000000001E-4,2.9599999999999998E-4,3.28E-4,2.9999999999999997E-4,3.8200000000000002E-4,3.6999999999999999E-4,3.4699999999999998E-4,3.3100000000000002E-4,4.2400000000000001E-4,4.8000000000000001E-4,4.7899999999999999E-4]
[null,"02_1製造業",0.17100000000000001,0.214,0.215,0.19900000000000001,0.20100000000000001,0.19,0.127,0.16200000000000001,0.19600000000000001,0.20799999999999999,0.19400000000000001,0.189,0.219,0.26200000000000001,0.20599999999999999,0.23400000000000001,0.22,0.26200000000000001,0.249,0.28999999999999998,0.28000000000000003,0.32,0.28399999999999997,0.27500000000000002]
[null,"02_2建設業鉱業",0.371,0.35599999999999998,0.34899999999999998,0.316,0.315,0.29699999999999999,0.28399999999999997,0.27400000000000002,0.27100000000000002,0.27800000000000002,0.27500000000000002,0.26100000000000001,0.29699999999999999,0.34399999999999997,0.26900000000000002,0.27800000000000002,0.252,0.29199999999999998,0.27800000000000002,0.25700000000000001,0.24399999999999999,0.28199999999999997,0.30599999999999999,0.32500000000000001]
[null,"02_3農林水産業",6.7000000000000004E-2,6.4000000000000001E-2,6.9000000000000006E-2,6.6000000000000003E-2,6.9000000000000006E-2,0.06,6.4000000000000001E-2,7.0000000000000007E-2,7.5999999999999998E-2,8.8999999999999996E-2,0.10299999999999999,0.107,0.13900000000000001,0.18099999999999999,0.14799999999999999,0.16700000000000001,0.16,0.20300000000000001,0.20799999999999999,0.21199999999999999,0.21299999999999999,0.26800000000000002,0.30199999999999999,0.27800000000000002]
[null,"02_4業務他",0.503,0.496,0.49099999999999999,0.46400000000000002,0.46800000000000003,0.45200000000000001,0.44500000000000001,0.442,0.44600000000000001,0.46100000000000002,0.47399999999999998,0.46200000000000002,0.51100000000000001,0.57099999999999995,0.48899999999999999,0.50600000000000001,0.48199999999999998,0.54900000000000004,0.54400000000000004,0.52,0.51300000000000001,0.57499999999999996,0.60499999999999998,0.56100000000000005]
[null,"02_5家庭",0.59899999999999998,0.61099999999999999,0.623,0.59699999999999998,0.61099999999999999,0.59499999999999997,0.59399999999999997,0.59399999999999997,0.57699999999999996,0.59099999999999997,0.59299999999999997,0.58899999999999997,0.64,0.68600000000000005,0.64600000000000002,0.626,0.61799999999999999,0.68400000000000005,0.70099999999999996,0.70099999999999996,0.70599999999999996,0.74099999999999999,0.76900000000000002,0.77600000000000002]
["栃木県","01排出係数",3.3399999999999999E-4,3.3300000000000002E-4,3.3599999999999998E-4,3.0499999999999999E-4,3.19E-4,2.9799999999999998E-4,2.8699999999999998E-4,2.8400000000000002E-4,2.7500000000000002E-4,2.8800000000000001E-4,2.9300000000000002E-4,2.7799999999999998E-4,3.3300000000000002E-4,4.17E-4,2.99E-4,3.2499999999999999E-4,2.9799999999999998E-4,3.8200000000000002E-4,3.7199999999999999E-4,3.6000000000000002E-4,3.2899999999999997E-4,4.2299999999999998E-4,4.6200000000000001E-4,4.7800000000000002E-4]
[null,"02_1製造業",0.59799999999999998,0.58899999999999997,0.57499999999999996,0.54600000000000004,0.57599999999999996,0.55800000000000005,0.57099999999999995,0.57999999999999996,0.60799999999999998,0.63,0.64100000000000001,0.625,0.58799999999999997,0.56899999999999995,0.64,0.67600000000000005,0.66,0.72899999999999998,0.74,0.748,0.73799999999999999,0.78800000000000003,0.78900000000000003,0.79400000000000004]
[null,"02_2建設業鉱業",0.38100000000000001,0.37,0.36299999999999999,0.32700000000000001,0.32400000000000001,0.30299999999999999,0.29399999999999998,0.28499999999999998,0.28199999999999997,0.28699999999999998,0.28799999999999998,0.27300000000000002,0.313,0.36599999999999999,0.28699999999999998,0.29899999999999999,0.27100000000000002,0.31,0.28799999999999998,0.27,0.26300000000000001,0.308,0.32600000000000001,0.34599999999999997]
[null,"02_3農林水産業",9.0999999999999998E-2,8.7999999999999995E-2,8.6999999999999994E-2,8.2000000000000003E-2,8.4000000000000005E-2,0.08,8.5000000000000006E-2,9.1999999999999998E-2,9.9000000000000005E-2,0.11,0.122,0.127,0.161,0.21,0.16900000000000001,0.193,0.186,0.24,0.24399999999999999,0.23699999999999999,0.24,0.29799999999999999,0.33200000000000002,0.307]
[null,"02_4業務他",0.47899999999999998,0.47499999999999998,0.47299999999999998,0.44500000000000001,0.45100000000000001,0.434,0.43,0.42599999999999999,0.43099999999999999,0.44600000000000001,0.45800000000000002,0.44900000000000001,0.499,0.56100000000000005,0.48199999999999998,0.502,0.48099999999999998,0.54600000000000004,0.54100000000000004,0.52100000000000002,0.51,0.57499999999999996,0.60499999999999998,0.55100000000000005]
[null,"02_5家庭",0.60199999999999998,0.61299999999999999,0.627,0.59199999999999997,0.61699999999999999,0.59699999999999998,0.59199999999999997,0.59299999999999997,0.59299999999999997,0.61099999999999999,0.61,0.60099999999999998,0.65300000000000002,0.69399999999999995,0.65500000000000003,0.63800000000000001,0.63500000000000001,0.69499999999999995,0.70699999999999996,0.70699999999999996,0.71499999999999997,0.747,0.78100000000000003,0.78800000000000003]
["群馬県","01排出係数",3.3100000000000002E-4,3.2699999999999998E-4,3.3100000000000002E-4,2.9999999999999997E-4,3.1300000000000002E-4,2.92E-4,2.81E-4,2.7500000000000002E-4,2.7099999999999997E-4,2.8499999999999999E-4,2.92E-4,2.7599999999999999E-4,3.3199999999999999E-4,4.1599999999999997E-4,2.9999999999999997E-4,3.28E-4,3.0299999999999999E-4,3.86E-4,3.6900000000000002E-4,4.86E-4,3.3599999999999998E-4,4.2900000000000002E-4,4.6299999999999998E-4,5.1000000000000004E-4]
[null,"02_1製造業",0.63700000000000001,0.623,0.623,0.59899999999999998,0.621,0.61599999999999999,0.629,0.625,0.66600000000000004,0.69099999999999995,0.71,0.69799999999999995,0.752,0.79500000000000004,0.75600000000000001,0.78900000000000003,0.78600000000000003,0.83199999999999996,0.79600000000000004,0.88800000000000001,0.82799999999999996,0.84599999999999997,0.85099999999999998,0.874]
[null,"02_2建設業鉱業",0.36499999999999999,0.35399999999999998,0.34799999999999998,0.317,0.316,0.29499999999999998,0.28299999999999997,0.27300000000000002,0.27200000000000002,0.27600000000000002,0.27600000000000002,0.26100000000000001,0.29499999999999998,0.34300000000000003,0.26600000000000001,0.27800000000000002,0.247,0.28599999999999998,0.26800000000000002,0.246,0.22700000000000001,0.26500000000000001,0.27800000000000002,0.29699999999999999]
[null,"02_3農林水産業",9.9000000000000005E-2,9.7000000000000003E-2,9.7000000000000003E-2,8.5999999999999993E-2,9.0999999999999998E-2,8.7999999999999995E-2,9.2999999999999999E-2,9.8000000000000004E-2,0.105,0.11600000000000001,0.127,0.13300000000000001,0.16800000000000001,0.218,0.17499999999999999,0.19900000000000001,0.19400000000000001,0.249,0.25600000000000001,0.251,0.253,0.316,0.35199999999999998,0.32700000000000001]
[null,"02_4業務他",0.48099999999999998,0.47499999999999998,0.47399999999999998,0.44600000000000001,0.45300000000000001,0.435,0.43099999999999999,0.42699999999999999,0.43099999999999999,0.44700000000000001,0.45900000000000002,0.45100000000000001,0.5,0.56399999999999995,0.48399999999999999,0.505,0.48399999999999999,0.54900000000000004,0.54500000000000004,0.52600000000000002,0.51400000000000001,0.58099999999999996,0.61,0.55700000000000005]
[null,"02_5家庭",0.6,0.61199999999999999,0.63,0.59799999999999998,0.62,0.59799999999999998,0.59399999999999997,0.59799999999999998,0.58699999999999997,0.59299999999999997,0.59499999999999997,0.59299999999999997,0.64100000000000001,0.68799999999999994,0.65300000000000002,0.63800000000000001,0.63100000000000001,0.69,0.70799999999999996,0.70499999999999996,0.70799999999999996,0.75800000000000001,0.77600000000000002,0.78300000000000003]
["埼玉県","01排出係数",3.3500000000000001E-4,3.3E-4,3.3399999999999999E-4,3.0299999999999999E-4,3.1700000000000001E-4,2.9599999999999998E-4,2.8200000000000002E-4,2.8499999999999999E-4,2.7999999999999998E-4,2.9100000000000003E-4,2.9599999999999998E-4,2.8200000000000002E-4,3.3599999999999998E-4,4.17E-4,3.0400000000000002E-4,3.3100000000000002E-4,3.0400000000000002E-4,3.8900000000000002E-4,3.7800000000000003E-4,3.5500000000000001E-4,3.3700000000000001E-4,4.3100000000000001E-4,4.86E-4,4.8500000000000003E-4]
[null,"02_1製造業",0.49,0.47199999999999998,0.45500000000000002,0.432,0.47,0.45900000000000002,0.44,0.49399999999999999,0.53100000000000003,0.56000000000000005,0.56999999999999995,0.55300000000000005,0.58899999999999997,0.63300000000000001,0.61599999999999999,0.64300000000000002,0.63,0.69599999999999995,0.69799999999999995,0.68700000000000006,0.67700000000000005,0.70799999999999996,0.72899999999999998,0.71]
[null,"02_2建設業鉱業",0.36099999999999999,0.35099999999999998,0.34399999999999997,0.314,0.314,0.29299999999999998,0.28299999999999997,0.27200000000000002,0.26900000000000002,0.27400000000000002,0.27500000000000002,0.26,0.29299999999999998,0.33800000000000002,0.26300000000000001,0.27300000000000002,0.245,0.28299999999999997,0.26600000000000001,0.24299999999999999,0.22600000000000001,0.26400000000000001,0.27700000000000002,0.29499999999999998]
[null,"02_3農林水産業",9.8000000000000004E-2,9.7000000000000003E-2,9.7000000000000003E-2,8.8999999999999996E-2,9.0999999999999998E-2,8.6999999999999994E-2,9.2999999999999999E-2,9.8000000000000004E-2,0.105,0.11600000000000001,0.126,0.13200000000000001,0.16800000000000001,0.218,0.17699999999999999,0.20200000000000001,0.19600000000000001,0.25,0.25600000000000001,0.252,0.254,0.316,0.35199999999999998,0.32600000000000001]
[null,"02_4業務他",0.49,0.48499999999999999,0.48199999999999998,0.45100000000000001,0.45600000000000002,0.437,0.433,0.42899999999999999,0.434,0.45,0.46,0.44900000000000001,0.5,0.56200000000000006,0.48199999999999998,0.5,0.47699999999999998,0.54200000000000004,0.53500000000000003,0.51600000000000001,0.504,0.56799999999999995,0.59799999999999998,0.54]
[null,"02_5家庭",0.56100000000000005,0.56999999999999995,0.57599999999999996,0.54700000000000004,0.56899999999999995,0.54400000000000004,0.53800000000000003,0.54,0.52800000000000002,0.54200000000000004,0.54200000000000004,0.53400000000000003,0.59299999999999997,0.63600000000000001,0.59699999999999998,0.60299999999999998,0.58199999999999996,0.65700000000000003,0.66400000000000003,0.65200000000000002,0.65300000000000002,0.69199999999999995,0.71899999999999997,0.72599999999999998]
["千葉県","01排出係数",3.5E-4,3.4200000000000002E-4,3.48E-4,3.1300000000000002E-4,3.2899999999999997E-4,3.2600000000000001E-4,3.1700000000000001E-4,3.0600000000000001E-4,3.1E-4,3.2200000000000002E-4,3.2899999999999997E-4,3.1599999999999998E-4,3.6099999999999999E-4,4.3300000000000001E-4,3.28E-4,3.4400000000000001E-4,3.1700000000000001E-4,3.9100000000000002E-4,3.7800000000000003E-4,3.57E-4,3.4200000000000002E-4,4.2700000000000002E-4,4.8000000000000001E-4,4.7899999999999999E-4]
[null,"02_1製造業",0.187,0.218,0.217,0.19400000000000001,0.20499999999999999,0.21199999999999999,0.217,0.20399999999999999,0.20300000000000001,0.21,0.216,0.20499999999999999,0.217,0.23,0.2,0.20799999999999999,0.182,0.21299999999999999,0.21299999999999999,0.215,0.189,0.224,0.23200000000000001,0.221]
[null,"02_2建設業鉱業",0.36199999999999999,0.35199999999999998,0.34599999999999997,0.31900000000000001,0.317,0.29499999999999998,0.28499999999999998,0.27200000000000002,0.27300000000000002,0.27800000000000002,0.27800000000000002,0.26300000000000001,0.29899999999999999,0.34899999999999998,0.26900000000000002,0.28000000000000003,0.251,0.29099999999999998,0.28199999999999997,0.26,0.23699999999999999,0.27100000000000002,0.29599999999999999,0.315]
[null,"02_3農林水産業",6.0999999999999999E-2,6.5000000000000002E-2,6.7000000000000004E-2,6.2E-2,6.7000000000000004E-2,6.6000000000000003E-2,6.6000000000000003E-2,7.0999999999999994E-2,8.1000000000000003E-2,8.7999999999999995E-2,0.10100000000000001,0.111,0.14099999999999999,0.186,0.14499999999999999,0.16600000000000001,0.16,0.19700000000000001,0.19800000000000001,0.192,0.19500000000000001,0.23599999999999999,0.26400000000000001,0.24099999999999999]
[null,"02_4業務他",0.505,0.497,0.49199999999999999,0.45800000000000002,0.46300000000000002,0.44800000000000001,0.442,0.439,0.44600000000000001,0.45900000000000002,0.46899999999999997,0.46,0.50900000000000001,0.57199999999999995,0.49299999999999999,0.51400000000000001,0.48499999999999999,0.56299999999999994,0.55700000000000005,0.54,0.51900000000000002,0.58199999999999996,0.61499999999999999,0.56299999999999994]
[null,"02_5家庭",0.52200000000000002,0.53,0.53700000000000003,0.48899999999999999,0.53100000000000003,0.50900000000000001,0.499,0.502,0.49,0.504,0.50700000000000001,0.496,0.54500000000000004,0.59499999999999997,0.54900000000000004,0.55400000000000005,0.53800000000000003,0.60899999999999999,0.62,0.60799999999999998,0.61299999999999999,0.66300000000000003,0.68600000000000005,0.69399999999999995]
["東京都","01排出係数",3.4099999999999999E-4,3.39E-4,3.4299999999999999E-4,3.1100000000000002E-4,3.2400000000000001E-4,3.0200000000000002E-4,2.9E-4,2.81E-4,2.7900000000000001E-4,2.9100000000000003E-4,2.9700000000000001E-4,2.8200000000000002E-4,3.4000000000000002E-4,4.2700000000000002E-4,3.0600000000000001E-4,3.3500000000000001E-4,3.0699999999999998E-4,3.9500000000000001E-4,3.8400000000000001E-4,3.6099999999999999E-4,3.4200000000000002E-4,4.4099999999999999E-4,4.9399999999999997E-4,5.0100000000000003E-4]
[null,"02_1製造業",0.54800000000000004,0.52200000000000002,0.499,0.42,0.504,0.46200000000000002,0.55700000000000005,0.57499999999999996,0.60099999999999998,0.64500000000000002,0.67,0.67500000000000004,0.73899999999999999,0.746,0.65900000000000003,0.67100000000000004,0.64200000000000002,0.72299999999999998,0.68400000000000005,0.59499999999999997,0.70899999999999996,0.495,0.63200000000000001,0.70899999999999996]
[null,"02_2建設業鉱業",0.35799999999999998,0.34799999999999998,0.34200000000000003,0.312,0.312,0.29199999999999998,0.28000000000000003,0.27,0.26700000000000002,0.27100000000000002,0.27200000000000002,0.25600000000000001,0.28799999999999998,0.33300000000000002,0.25800000000000001,0.26700000000000002,0.24099999999999999,0.27800000000000002,0.26100000000000001,0.23699999999999999,0.219,0.25600000000000001,0.26800000000000002,0.28599999999999998]
[null,"02_3農林水産業",0.106,0.104,0.104,9.4E-2,9.6000000000000002E-2,9.1999999999999998E-2,3.5999999999999997E-2,3.5999999999999997E-2,4.3999999999999997E-2,5.0999999999999997E-2,5.7000000000000002E-2,5.1999999999999998E-2,6.4000000000000001E-2,8.3000000000000004E-2,5.8999999999999997E-2,7.2999999999999995E-2,7.0999999999999994E-2,7.9000000000000001E-2,7.0000000000000007E-2,6.2E-2,6.8000000000000005E-2,7.2999999999999995E-2,7.9000000000000001E-2,7.0000000000000007E-2]
[null,"02_4業務他",0.48399999999999999,0.47299999999999998,0.47099999999999997,0.441,0.44600000000000001,0.433,0.42099999999999999,0.41799999999999998,0.42199999999999999,0.436,0.44400000000000001,0.435,0.48399999999999999,0.54700000000000004,0.47,0.49,0.47,0.53400000000000003,0.52800000000000002,0.51300000000000001,0.51600000000000001,0.58299999999999996,0.61099999999999999,0.57099999999999995]
[null,"02_5家庭",0.56599999999999995,0.57099999999999995,0.56999999999999995,0.53,0.57199999999999995,0.54600000000000004,0.54100000000000004,0.55500000000000005,0.54400000000000004,0.55900000000000005,0.55900000000000005,0.55000000000000004,0.60399999999999998,0.64600000000000002,0.60299999999999998,0.61399999999999999,0.59799999999999998,0.66500000000000004,0.66300000000000003,0.65300000000000002,0.65200000000000002,0.69299999999999995,0.71299999999999997,0.72099999999999997]
["神奈川県","01排出係数",3.4699999999999998E-4,3.4299999999999999E-4,3.4499999999999998E-4,3.1500000000000001E-4,3.3E-4,3.1E-4,3.01E-4,2.9799999999999998E-4,2.8800000000000001E-4,3.0299999999999999E-4,3.0899999999999998E-4,2.9599999999999998E-4,3.5300000000000002E-4,4.3600000000000003E-4,3.3500000000000001E-4,3.5399999999999999E-4,3.3500000000000001E-4,4.0900000000000002E-4,4.0000000000000002E-4,3.7800000000000003E-4,3.6699999999999998E-4,4.46E-4,5.0199999999999995E-4,5.0000000000000001E-4]
[null,"02_1製造業",0.36199999999999999,0.39500000000000002,0.378,0.34899999999999998,0.375,0.35899999999999999,0.36799999999999999,0.38200000000000001,0.4,0.42599999999999999,0.43099999999999999,0.42399999999999999,0.47299999999999998,0.53400000000000003,0.48199999999999998,0.48399999999999999,0.47299999999999998,0.49399999999999999,0.51300000000000001,0.5,0.45100000000000001,0.45,0.41399999999999998,0.39800000000000002]
[null,"02_2建設業鉱業",0.35699999999999998,0.34699999999999998,0.34100000000000003,0.311,0.311,0.28999999999999998,0.27900000000000003,0.26900000000000002,0.26600000000000001,0.27,0.27100000000000002,0.25600000000000001,0.28699999999999998,0.33200000000000002,0.25800000000000001,0.26700000000000002,0.24,0.27800000000000002,0.26100000000000001,0.23699999999999999,0.219,0.25600000000000001,0.26700000000000002,0.28499999999999998]
[null,"02_3農林水産業",0.04,4.2999999999999997E-2,4.1000000000000002E-2,0.04,4.2000000000000003E-2,4.1000000000000002E-2,4.2000000000000003E-2,4.4999999999999998E-2,5.6000000000000001E-2,5.8999999999999997E-2,6.8000000000000005E-2,7.0000000000000007E-2,9.2999999999999999E-2,0.124,9.9000000000000005E-2,0.104,0.10100000000000001,0.13600000000000001,0.14000000000000001,0.11799999999999999,0.14000000000000001,0.17899999999999999,0.19800000000000001,0.17899999999999999]
[null,"02_4業務他",0.48799999999999999,0.48,0.48,0.45100000000000001,0.45500000000000002,0.438,0.432,0.42899999999999999,0.432,0.44700000000000001,0.45700000000000002,0.45,0.502,0.56299999999999994,0.48499999999999999,0.50600000000000001,0.48599999999999999,0.55400000000000005,0.54800000000000004,0.53200000000000003,0.52,0.58499999999999996,0.61499999999999999,0.57399999999999995]
[null,"02_5家庭",0.52300000000000002,0.54,0.55200000000000005,0.51200000000000001,0.53400000000000003,0.50700000000000001,0.504,0.50900000000000001,0.504,0.51700000000000002,0.51300000000000001,0.5,0.55200000000000005,0.60399999999999998,0.56200000000000006,0.57399999999999995,0.56699999999999995,0.627,0.625,0.623,0.623,0.67600000000000005,0.69399999999999995,0.70099999999999996]
["新潟県","01排出係数",3.8499999999999998E-4,3.6200000000000002E-4,3.8900000000000002E-4,4.0299999999999998E-4,4.6200000000000001E-4,4.3800000000000002E-4,4.0499999999999998E-4,4.73E-4,3.8999999999999999E-4,4.1300000000000001E-4,4.0499999999999998E-4,3.9300000000000001E-4,3.9399999999999998E-4,3.9300000000000001E-4,4.0700000000000003E-4,4.5600000000000003E-4,4.2499999999999998E-4,4.2299999999999998E-4,4.1899999999999999E-4,4.1800000000000002E-4,3.9199999999999999E-4,4.4799999999999999E-4,4.86E-4,4.86E-4]
[null,"02_1製造業",0.48399999999999999,0.45400000000000001,0.45100000000000001,0.441,0.46100000000000002,0.41799999999999998,0.41599999999999998,0.48199999999999998,0.497,0.52300000000000002,0.51900000000000002,0.51300000000000001,0.53200000000000003,0.53,0.53700000000000003,0.55800000000000005,0.55400000000000005,0.58599999999999997,0.58899999999999997,0.60199999999999998,0.60399999999999998,0.60899999999999999,0.54600000000000004,0.57199999999999995]
[null,"02_2建設業鉱業",0.41699999999999998,0.39500000000000002,0.39900000000000002,0.4,0.42,0.39800000000000002,0.38,0.41199999999999998,0.35899999999999999,0.374,0.36899999999999999,0.35699999999999998,0.34699999999999998,0.34799999999999998,0.34799999999999998,0.373,0.35099999999999998,0.33600000000000002,0.32400000000000001,0.311,0.29499999999999998,0.33700000000000002,0.34499999999999997,0.36599999999999999]
[null,"02_3農林水産業",7.6999999999999999E-2,7.6999999999999999E-2,8.4000000000000005E-2,9.1999999999999998E-2,0.106,0.105,0.11700000000000001,0.14599999999999999,0.13,0.15,0.16,0.16900000000000001,0.17399999999999999,0.189,0.20200000000000001,0.23699999999999999,0.23,0.23300000000000001,0.24199999999999999,0.24399999999999999,0.24299999999999999,0.27800000000000002,0.30399999999999999,0.28000000000000003]
[null,"02_4業務他",0.52400000000000002,0.51200000000000001,0.52600000000000002,0.53700000000000003,0.56599999999999995,0.55000000000000004,0.53800000000000003,0.57799999999999996,0.52800000000000002,0.55200000000000005,0.55300000000000005,0.55000000000000004,0.54300000000000004,0.54900000000000004,0.56000000000000005,0.58799999999999997,0.57199999999999995,0.57299999999999995,0.57399999999999995,0.56899999999999995,0.55500000000000005,0.59199999999999997,0.61799999999999999,0.56799999999999995]
[null,"02_5家庭",0.42899999999999999,0.42599999999999999,0.443,0.46100000000000002,0.52700000000000002,0.499,0.50700000000000001,0.56000000000000005,0.50700000000000001,0.53500000000000003,0.53,0.52700000000000002,0.52700000000000002,0.53700000000000003,0.54400000000000004,0.56200000000000006,0.56399999999999995,0.58199999999999996,0.56799999999999995,0.58399999999999996,0.57899999999999996,0.61799999999999999,0.64500000000000002,0.65400000000000003]
["富山県","01排出係数",4.08E-4,4.2499999999999998E-4,4.73E-4,3.8400000000000001E-4,4.7800000000000002E-4,4.8899999999999996E-4,4.4700000000000002E-4,4.8500000000000003E-4,3.01E-4,4.1800000000000002E-4,3.97E-4,3.8000000000000002E-4,3.6499999999999998E-4,4.2000000000000002E-4,4.0700000000000003E-4,3.21E-4,3.7500000000000001E-4,5.8600000000000004E-4,3.7199999999999999E-4,3.0200000000000002E-4,2.5099999999999998E-4,5.9599999999999996E-4,6.2799999999999998E-4,6.29E-4]
[null,"02_1製造業",0.60299999999999998,0.60699999999999998,0.628,0.57399999999999995,0.63500000000000001,0.63900000000000001,0.63200000000000001,0.65500000000000003,0.60499999999999998,0.68200000000000005,0.68100000000000005,0.67700000000000005,0.67300000000000004,0.70699999999999996,0.71799999999999997,0.67900000000000005,0.74099999999999999,0.83199999999999996,0.77500000000000002,0.748,0.71599999999999997,0.84799999999999998,0.85,0.84399999999999997]
[null,"02_2建設業鉱業",0.41,0.41399999999999998,0.436,0.36899999999999999,0.41899999999999998,0.41599999999999998,0.38600000000000001,0.39400000000000002,0.28499999999999998,0.36399999999999999,0.35099999999999998,0.33800000000000002,0.32200000000000001,0.35599999999999998,0.34899999999999998,0.29699999999999999,0.316,0.41399999999999998,0.28799999999999998,0.23699999999999999,0.21199999999999999,0.39100000000000001,0.38500000000000001,0.40699999999999997]
[null,"02_3農林水産業",5.2999999999999999E-2,5.6000000000000001E-2,6.6000000000000003E-2,5.7000000000000002E-2,7.8E-2,7.6999999999999999E-2,8.5999999999999993E-2,9.7000000000000003E-2,6.8000000000000005E-2,9.6000000000000002E-2,0.10199999999999999,0.112,0.112,0.14199999999999999,0.13700000000000001,0.121,0.13900000000000001,0.20100000000000001,0.13800000000000001,0.109,9.5000000000000001E-2,0.20899999999999999,0.20799999999999999,0.188]
[null,"02_4業務他",0.52500000000000002,0.53500000000000003,0.56200000000000006,0.502,0.56000000000000005,0.56699999999999995,0.54600000000000004,0.55800000000000005,0.44600000000000001,0.54200000000000004,0.53500000000000003,0.52700000000000002,0.52,0.56399999999999995,0.55900000000000005,0.49399999999999999,0.54100000000000004,0.65600000000000003,0.54600000000000004,0.49199999999999999,0.44900000000000001,0.66900000000000004,0.67700000000000005,0.628]
[null,"02_5家庭",0.51800000000000002,0.54100000000000004,0.56100000000000005,0.50800000000000001,0.61,0.60699999999999998,0.60399999999999998,0.63500000000000001,0.52200000000000002,0.61399999999999999,0.59899999999999998,0.60899999999999999,0.6,0.65900000000000003,0.64700000000000002,0.56299999999999994,0.63200000000000001,0.747,0.69399999999999995,0.65500000000000003,0.61099999999999999,0.78,0.79900000000000004,0.80700000000000005]
["石川県","01排出係数",3.97E-4,4.1899999999999999E-4,4.7399999999999997E-4,3.7599999999999998E-4,4.7899999999999999E-4,4.9100000000000001E-4,4.44E-4,4.64E-4,2.8800000000000001E-4,4.15E-4,3.9599999999999998E-4,3.7800000000000003E-4,3.6200000000000002E-4,4.2299999999999998E-4,4.0900000000000002E-4,3.1799999999999998E-4,3.7800000000000003E-4,6.0800000000000003E-4,3.8099999999999999E-4,3.1100000000000002E-4,2.5700000000000001E-4,6.1799999999999995E-4,6.2500000000000001E-4,6.5399999999999996E-4]
[null,"02_1製造業",0.76400000000000001,0.76500000000000001,0.78700000000000003,0.73199999999999998,0.78700000000000003,0.78200000000000003,0.754,0.78,0.72599999999999998,0.80500000000000005,0.81200000000000006,0.81100000000000005,0.80300000000000005,0.83199999999999996,0.84299999999999997,0.81399999999999995,0.83899999999999997,0.89800000000000002,0.85099999999999998,0.84,0.80200000000000005,0.90800000000000003,0.879,0.89200000000000002]
[null,"02_2建設業鉱業",0.40300000000000002,0.40699999999999997,0.42599999999999999,0.35899999999999999,0.40699999999999997,0.40699999999999997,0.38,0.38500000000000001,0.27900000000000003,0.35399999999999998,0.34,0.32300000000000001,0.31,0.34699999999999998,0.33400000000000002,0.26900000000000002,0.29699999999999999,0.39,0.27300000000000002,0.22600000000000001,0.19500000000000001,0.36199999999999999,0.36,0.38100000000000001]
[null,"02_3農林水産業",4.2000000000000003E-2,4.2000000000000003E-2,0.05,4.2999999999999997E-2,5.5E-2,6.3E-2,5.8000000000000003E-2,6.9000000000000006E-2,5.0999999999999997E-2,7.5999999999999998E-2,8.1000000000000003E-2,8.5999999999999993E-2,8.6999999999999994E-2,0.113,0.106,0.09,0.1,0.16500000000000001,0.106,8.2000000000000003E-2,7.3999999999999996E-2,0.17399999999999999,0.17100000000000001,0.153]
[null,"02_4業務他",0.51500000000000001,0.52400000000000002,0.55200000000000005,0.49199999999999999,0.55000000000000004,0.55800000000000005,0.53900000000000003,0.55200000000000005,0.439,0.53800000000000003,0.53,0.52200000000000002,0.51500000000000001,0.56000000000000005,0.55600000000000005,0.49099999999999999,0.53600000000000003,0.65900000000000003,0.55000000000000004,0.501,0.45500000000000002,0.66800000000000004,0.68300000000000005,0.63900000000000001]
[null,"02_5家庭",0.55300000000000005,0.56299999999999994,0.59399999999999997,0.53300000000000003,0.629,0.629,0.623,0.64800000000000002,0.53700000000000003,0.625,0.62,0.61399999999999999,0.60899999999999999,0.66400000000000003,0.65900000000000003,0.56799999999999995,0.65200000000000002,0.752,0.69699999999999995,0.66800000000000004,0.626,0.79600000000000004,0.82,0.82699999999999996]
["福井県","01排出係数",4.06E-4,4.26E-4,4.8000000000000001E-4,3.97E-4,4.9399999999999997E-4,5.0600000000000005E-4,4.6299999999999998E-4,4.8200000000000001E-4,3.21E-4,4.37E-4,4.17E-4,3.9800000000000002E-4,3.8299999999999999E-4,4.4099999999999999E-4,4.26E-4,3.39E-4,3.9899999999999999E-4,6.2100000000000002E-4,4.0200000000000001E-4,3.3799999999999998E-4,2.81E-4,6.3599999999999996E-4,6.5099999999999999E-4,6.6100000000000002E-4]
[null,"02_1製造業",0.624,0.60599999999999998,0.57799999999999996,0.44500000000000001,0.42899999999999999,0.43099999999999999,0.49299999999999999,0.55500000000000005,0.52400000000000002,0.61,0.67200000000000004,0.65800000000000003,0.67700000000000005,0.70699999999999996,0.73099999999999998,0.67700000000000005,0.72399999999999998,0.81599999999999995,0.75700000000000001,0.72399999999999998,0.70899999999999996,0.83199999999999996,0.83099999999999996,0.82699999999999996]
[null,"02_2建設業鉱業",0.39900000000000002,0.40200000000000002,0.42199999999999999,0.35799999999999998,0.40600000000000003,0.40699999999999997,0.38,0.38500000000000001,0.27700000000000002,0.35499999999999998,0.33800000000000002,0.32200000000000001,0.308,0.34100000000000003,0.32800000000000001,0.26800000000000002,0.29699999999999999,0.38800000000000001,0.27400000000000002,0.221,0.184,0.34499999999999997,0.34100000000000003,0.36099999999999999]
[null,"02_3農林水産業",5.6000000000000001E-2,5.8000000000000003E-2,6.5000000000000002E-2,5.5E-2,7.3999999999999996E-2,0.08,7.4999999999999997E-2,9.2999999999999999E-2,6.7000000000000004E-2,0.105,0.113,0.115,0.11799999999999999,0.14499999999999999,0.15,0.13,0.154,0.22600000000000001,0.16500000000000001,0.13100000000000001,0.115,0.25800000000000001,0.26100000000000001,0.23699999999999999]
[null,"02_4業務他",0.52900000000000003,0.53800000000000003,0.56399999999999995,0.502,0.55800000000000005,0.56200000000000006,0.54100000000000004,0.55600000000000005,0.44400000000000001,0.54200000000000004,0.53400000000000003,0.52500000000000002,0.51800000000000002,0.56100000000000005,0.55300000000000005,0.48799999999999999,0.53500000000000003,0.64700000000000002,0.53700000000000003,0.47899999999999998,0.436,0.65300000000000002,0.66200000000000003,0.61]
[null,"02_5家庭",0.55100000000000005,0.56899999999999995,0.6,0.54500000000000004,0.64200000000000002,0.63900000000000001,0.63100000000000001,0.66100000000000003,0.54600000000000004,0.63500000000000001,0.627,0.628,0.629,0.68700000000000006,0.66600000000000004,0.58599999999999997,0.67300000000000004,0.77400000000000002,0.70199999999999996,0.66500000000000004,0.64100000000000001,0.81100000000000005,0.82299999999999995,0.82899999999999996]
["山梨県","01排出係数",3.3700000000000001E-4,3.3399999999999999E-4,3.39E-4,3.1100000000000002E-4,3.2299999999999999E-4,2.9999999999999997E-4,2.8699999999999998E-4,2.8699999999999998E-4,2.7599999999999999E-4,2.8699999999999998E-4,2.9100000000000003E-4,2.7900000000000001E-4,3.3500000000000001E-4,4.1800000000000002E-4,2.99E-4,3.2699999999999998E-4,2.9999999999999997E-4,3.8699999999999997E-4,3.7599999999999998E-4,3.6299999999999999E-4,3.3300000000000002E-4,4.3100000000000001E-4,4.7399999999999997E-4,5.0900000000000001E-4]
[null,"02_1製造業",0.72599999999999998,0.71599999999999997,0.71,0.70199999999999996,0.70499999999999996,0.68400000000000005,0.68300000000000005,0.68100000000000005,0.73399999999999999,0.74299999999999999,0.74399999999999999,0.749,0.79500000000000004,0.83,0.80100000000000005,0.83199999999999996,0.82399999999999995,0.872,0.86599999999999999,0.85599999999999998,0.84899999999999998,0.88600000000000001,0.86499999999999999,0.88800000000000001]
[null,"02_2建設業鉱業",0.375,0.36099999999999999,0.35399999999999998,0.32200000000000001,0.32200000000000001,0.30399999999999999,0.28799999999999998,0.27800000000000002,0.27400000000000002,0.27900000000000003,0.27900000000000003,0.26500000000000001,0.29899999999999999,0.34699999999999998,0.27200000000000002,0.28299999999999997,0.253,0.29199999999999998,0.27900000000000003,0.25800000000000001,0.24199999999999999,0.28399999999999997,0.30599999999999999,0.32500000000000001]
[null,"02_3農林水産業",0.09,9.1999999999999998E-2,9.0999999999999998E-2,8.3000000000000004E-2,8.5999999999999993E-2,8.4000000000000005E-2,8.6999999999999994E-2,0.09,9.9000000000000005E-2,0.112,0.11899999999999999,0.125,0.158,0.20799999999999999,0.16900000000000001,0.192,0.185,0.23599999999999999,0.24199999999999999,0.23499999999999999,0.24,0.29899999999999999,0.33300000000000002,0.308]
[null,"02_5家庭",0.63200000000000001,0.64700000000000002,0.66500000000000004,0.63300000000000001,0.63900000000000001,0.61699999999999999,0.627,0.626,0.622,0.628,0.627,0.61699999999999999,0.65700000000000003,0.70799999999999996,0.67300000000000004,0.66800000000000004,0.65300000000000002,0.72,0.73199999999999998,0.71899999999999997,0.71699999999999997,0.78,0.79800000000000004,0.80400000000000005]
[null,"02_4業務他",0.48299999999999998,0.47699999999999998,0.47699999999999998,0.44800000000000001,0.45600000000000002,0.437,0.435,0.43,0.434,0.44900000000000001,0.46,0.45200000000000001,0.498,0.55900000000000005,0.47899999999999998,0.498,0.47699999999999998,0.54,0.53800000000000003,0.51900000000000002,0.504,0.56899999999999995,0.60199999999999998,0.55100000000000005]
["長野県","01排出係数",4.0900000000000002E-4,3.9199999999999999E-4,4.0499999999999998E-4,3.77E-4,4.0999999999999999E-4,3.79E-4,3.6099999999999999E-4,3.6499999999999998E-4,3.6499999999999998E-4,3.86E-4,3.6299999999999999E-4,3.9399999999999998E-4,4.66E-4,4.2000000000000002E-4,3.48E-4,3.9599999999999998E-4,4.3100000000000001E-4,4.2999999999999999E-4,4.1399999999999998E-4,4.6200000000000001E-4,4.4200000000000001E-4,4.9700000000000005E-4,4.6000000000000001E-4,4.84E-4]
[null,"02_1製造業",0.68400000000000005,0.66100000000000003,0.64,0.61299999999999999,0.624,0.59499999999999997,0.60799999999999998,0.64500000000000002,0.72499999999999998,0.749,0.752,0.76500000000000001,0.80900000000000005,0.80400000000000005,0.80300000000000005,0.83899999999999997,0.86399999999999999,0.86799999999999999,0.85899999999999999,0.878,0.9,0.91600000000000004,0.89600000000000002,0.90900000000000003]
[null,"02_2建設業鉱業",0.433,0.41199999999999998,0.41,0.379,0.38700000000000001,0.36299999999999999,0.35099999999999998,0.34499999999999997,0.34200000000000003,0.35,0.33600000000000002,0.35399999999999998,0.39,0.36099999999999999,0.311,0.33300000000000002,0.34200000000000003,0.33600000000000002,0.32,0.31900000000000001,0.313,0.32100000000000001,0.312,0.33100000000000002]
[null,"02_3農林水産業",0.114,0.11,0.113,0.106,0.114,0.108,0.115,0.123,0.13300000000000001,0.14699999999999999,0.15,0.17399999999999999,0.214,0.21199999999999999,0.193,0.22600000000000001,0.253,0.26600000000000001,0.27,0.28599999999999998,0.30199999999999999,0.33800000000000002,0.33600000000000002,0.311]
[null,"02_4業務他",0.54500000000000004,0.53200000000000003,0.53500000000000003,0.51300000000000001,0.53100000000000003,0.51200000000000001,0.505,0.505,0.51,0.52800000000000002,0.51900000000000002,0.54400000000000004,0.58799999999999997,0.56699999999999995,0.52400000000000002,0.55400000000000005,0.57599999999999996,0.57999999999999996,0.57499999999999996,0.58599999999999997,0.57399999999999995,0.60699999999999998,0.59599999999999997,0.54]
[null,"02_5家庭",0.64100000000000001,0.65300000000000002,0.66800000000000004,0.64700000000000002,0.67500000000000004,0.65900000000000003,0.65900000000000003,0.65600000000000003,0.64700000000000002,0.66600000000000004,0.64500000000000002,0.67700000000000005,0.71299999999999997,0.69,0.66900000000000004,0.67700000000000005,0.70599999999999996,0.72499999999999998,0.749,0.76700000000000002,0.76700000000000002,0.77200000000000002,0.77900000000000003,0.78600000000000003]
["岐阜県","01排出係数",4.17E-4,3.9899999999999999E-4,4.1100000000000002E-4,3.8099999999999999E-4,4.15E-4,3.8400000000000001E-4,3.6600000000000001E-4,3.6600000000000001E-4,3.6000000000000002E-4,3.8099999999999999E-4,3.59E-4,3.88E-4,4.57E-4,4.0999999999999999E-4,3.3799999999999998E-4,3.8200000000000002E-4,4.15E-4,4.1800000000000002E-4,4.0299999999999998E-4,4.2900000000000002E-4,4.2499999999999998E-4,4.7699999999999999E-4,4.4700000000000002E-4,4.5800000000000002E-4]
[null,"02_1製造業",0.60899999999999999,0.59699999999999998,0.60499999999999998,0.56999999999999995,0.60299999999999998,0.58699999999999997,0.57799999999999996,0.57899999999999996,0.62,0.64100000000000001,0.63100000000000001,0.65100000000000002,0.68600000000000005,0.64700000000000002,0.629,0.67300000000000004,0.69099999999999995,0.69699999999999995,0.69599999999999995,0.745,0.74199999999999999,0.75600000000000001,0.72699999999999998,0.72499999999999998]
[null,"02_2建設業鉱業",0.44400000000000001,0.42699999999999999,0.42499999999999999,0.38700000000000001,0.39700000000000002,0.374,0.36299999999999999,0.35699999999999998,0.35299999999999998,0.35899999999999999,0.34100000000000003,0.35699999999999998,0.39100000000000001,0.36699999999999999,0.317,0.33900000000000002,0.34399999999999997,0.33700000000000002,0.32200000000000001,0.32300000000000001,0.33100000000000002,0.33400000000000002,0.33200000000000002,0.35199999999999998]
[null,"02_3農林水産業",9.9000000000000005E-2,9.2999999999999999E-2,9.7000000000000003E-2,9.6000000000000002E-2,0.105,0.10199999999999999,0.105,0.113,0.123,0.13700000000000001,0.14199999999999999,0.16500000000000001,0.20499999999999999,0.20399999999999999,0.183,0.217,0.23499999999999999,0.24299999999999999,0.249,0.25800000000000001,0.27100000000000002,0.29799999999999999,0.29699999999999999,0.27300000000000002]
[null,"02_4業務他",0.53900000000000003,0.52700000000000002,0.53,0.51,0.52800000000000002,0.50900000000000001,0.503,0.504,0.50800000000000001,0.52700000000000002,0.51800000000000002,0.54200000000000004,0.58499999999999996,0.56399999999999995,0.51900000000000002,0.54800000000000004,0.56899999999999995,0.57299999999999995,0.56599999999999995,0.57799999999999996,0.57599999999999996,0.60299999999999998,0.59599999999999997,0.54100000000000004]
[null,"02_5家庭",0.67,0.66800000000000004,0.69199999999999995,0.64700000000000002,0.69799999999999995,0.67700000000000005,0.69199999999999995,0.68300000000000005,0.69299999999999995,0.70499999999999996,0.68899999999999995,0.72199999999999998,0.747,0.72399999999999998,0.68,0.69299999999999995,0.73099999999999998,0.746,0.73399999999999999,0.76600000000000001,0.753,0.755,0.746,0.752]
["静岡県","01排出係数",3.6900000000000002E-4,3.6299999999999999E-4,3.7199999999999999E-4,3.5100000000000002E-4,3.79E-4,3.6400000000000001E-4,3.4900000000000003E-4,3.4200000000000002E-4,3.3500000000000001E-4,3.48E-4,3.39E-4,3.4400000000000001E-4,3.9800000000000002E-4,4.1399999999999998E-4,3.3100000000000002E-4,3.6299999999999999E-4,3.6299999999999999E-4,3.9899999999999999E-4,3.8699999999999997E-4,3.9300000000000001E-4,3.7599999999999998E-4,4.4200000000000001E-4,4.66E-4,4.6500000000000003E-4]
[null,"02_1製造業",0.59599999999999997,0.59,0.59199999999999997,0.57899999999999996,0.60299999999999998,0.6,0.59199999999999997,0.59199999999999997,0.627,0.64100000000000001,0.63500000000000001,0.63900000000000001,0.68100000000000005,0.69599999999999995,0.66300000000000003,0.69399999999999995,0.70699999999999996,0.73399999999999999,0.73299999999999998,0.75900000000000001,0.751,0.77200000000000002,0.78400000000000003,0.77300000000000002]
[null,"02_2建設業鉱業",0.39600000000000002,0.38,0.375,0.34599999999999997,0.35099999999999998,0.32900000000000001,0.315,0.307,0.30499999999999999,0.311,0.30099999999999999,0.30299999999999999,0.33500000000000002,0.34200000000000003,0.28199999999999997,0.29499999999999998,0.28599999999999998,0.29399999999999998,0.28100000000000003,0.27,0.26200000000000001,0.28299999999999997,0.28699999999999998,0.30499999999999999]
[null,"02_3農林水産業",4.2999999999999997E-2,4.2000000000000003E-2,4.4999999999999998E-2,4.2000000000000003E-2,0.05,4.9000000000000002E-2,4.9000000000000002E-2,5.2999999999999999E-2,5.8000000000000003E-2,6.9000000000000006E-2,8.1000000000000003E-2,8.8999999999999996E-2,0.109,0.128,0.10199999999999999,0.115,0.123,0.13100000000000001,0.13300000000000001,0.13600000000000001,0.14499999999999999,0.17,0.17799999999999999,0.16]
[null,"02_4業務他",0.51700000000000002,0.50900000000000001,0.51,0.48599999999999999,0.499,0.48099999999999998,0.47399999999999998,0.47299999999999998,0.47599999999999998,0.49299999999999999,0.49299999999999999,0.503,0.54900000000000004,0.56699999999999995,0.50600000000000001,0.53100000000000003,0.53500000000000003,0.56699999999999995,0.56100000000000005,0.55900000000000005,0.55700000000000005,0.60099999999999998,0.61099999999999999,0.56299999999999994]
[null,"02_5家庭",0.61199999999999999,0.61699999999999999,0.63400000000000001,0.58499999999999996,0.63400000000000001,0.60899999999999999,0.62,0.62,0.63100000000000001,0.63900000000000001,0.626,0.64500000000000002,0.67900000000000005,0.68700000000000006,0.63200000000000001,0.65100000000000002,0.66400000000000003,0.71399999999999997,0.70399999999999996,0.71899999999999997,0.70199999999999996,0.72499999999999998,0.72499999999999998,0.73199999999999998]
["愛知県","01排出係数",4.3300000000000001E-4,4.1399999999999998E-4,4.2400000000000001E-4,3.9899999999999999E-4,4.3199999999999998E-4,4.0499999999999998E-4,3.8699999999999997E-4,3.9199999999999999E-4,3.77E-4,3.9500000000000001E-4,3.6999999999999999E-4,3.97E-4,4.6200000000000001E-4,4.2299999999999998E-4,3.57E-4,3.9899999999999999E-4,4.3199999999999998E-4,4.3899999999999999E-4,4.28E-4,4.6000000000000001E-4,4.5100000000000001E-4,4.9700000000000005E-4,5.1099999999999995E-4,5.0900000000000001E-4]
[null,"02_1製造業",0.439,0.47299999999999998,0.46,0.42899999999999999,0.44800000000000001,0.42699999999999999,0.434,0.436,0.46700000000000003,0.48399999999999999,0.437,0.44900000000000001,0.46700000000000003,0.44600000000000001,0.433,0.47399999999999998,0.51400000000000001,0.503,0.51,0.52700000000000002,0.49,0.497,0.50600000000000001,0.497]
[null,"02_2建設業鉱業",0.41699999999999998,0.39900000000000002,0.39600000000000002,0.36899999999999999,0.379,0.35399999999999998,0.34,0.33300000000000002,0.33100000000000002,0.33900000000000002,0.32,0.33300000000000002,0.36499999999999999,0.33600000000000002,0.28999999999999998,0.308,0.314,0.30399999999999999,0.28399999999999997,0.28199999999999997,0.27300000000000002,0.28699999999999998,0.26600000000000001,0.28399999999999997]
[null,"02_3農林水産業",6.7000000000000004E-2,6.4000000000000001E-2,6.9000000000000006E-2,6.4000000000000001E-2,7.2999999999999995E-2,7.0000000000000007E-2,7.0999999999999994E-2,7.9000000000000001E-2,8.8999999999999996E-2,0.10299999999999999,0.113,0.13200000000000001,0.153,0.14699999999999999,0.13300000000000001,0.151,0.17599999999999999,0.19,0.183,0.19700000000000001,0.216,0.24,0.23599999999999999,0.214]
[null,"02_4業務他",0.54800000000000004,0.53400000000000003,0.53800000000000003,0.51600000000000001,0.53400000000000003,0.51500000000000001,0.50800000000000001,0.50900000000000001,0.51400000000000001,0.53100000000000003,0.52,0.54700000000000004,0.59399999999999997,0.57299999999999995,0.53100000000000003,0.56000000000000005,0.58499999999999996,0.59399999999999997,0.58899999999999997,0.59299999999999997,0.59499999999999997,0.625,0.61499999999999999,0.56299999999999994]
[null,"02_5家庭",0.61699999999999999,0.61899999999999999,0.63200000000000001,0.59,0.65300000000000002,0.624,0.623,0.629,0.64200000000000002,0.64600000000000002,0.63200000000000001,0.66600000000000004,0.69099999999999995,0.66700000000000004,0.626,0.64800000000000002,0.67100000000000004,0.68899999999999995,0.66,0.66900000000000004,0.65800000000000003,0.7,0.68899999999999995,0.69699999999999995]
["三重県","01排出係数",4.1199999999999999E-4,4.06E-4,4.2099999999999999E-4,4.0499999999999998E-4,4.3100000000000001E-4,4.0700000000000003E-4,3.9199999999999999E-4,3.9300000000000001E-4,3.8099999999999999E-4,3.9300000000000001E-4,3.77E-4,4.0299999999999998E-4,4.5800000000000002E-4,4.1399999999999998E-4,3.6900000000000002E-4,3.9199999999999999E-4,4.1899999999999999E-4,4.2099999999999999E-4,4.0900000000000002E-4,4.8899999999999996E-4,4.2499999999999998E-4,4.6999999999999999E-4,3.9500000000000001E-4,3.9100000000000002E-4]
[null,"02_1製造業",0.41,0.40699999999999997,0.41199999999999998,0.39400000000000002,0.41899999999999998,0.42099999999999999,0.41299999999999998,0.42299999999999999,0.44600000000000001,0.45800000000000002,0.46200000000000002,0.48499999999999999,0.52200000000000002,0.53500000000000003,0.53500000000000003,0.54800000000000004,0.57899999999999996,0.58299999999999996,0.58199999999999996,0.6,0.57799999999999996,0.58499999999999996,0.53400000000000003,0.51200000000000001]
[null,"02_2建設業鉱業",0.42099999999999999,0.40200000000000002,0.40100000000000002,0.371,0.38300000000000001,0.35899999999999999,0.34599999999999997,0.33800000000000002,0.33400000000000002,0.34300000000000003,0.32800000000000001,0.34899999999999998,0.38700000000000001,0.35099999999999998,0.30399999999999999,0.32300000000000001,0.32800000000000001,0.32,0.308,0.3,0.29499999999999998,0.315,0.29899999999999999,0.318]
[null,"02_3農林水産業",3.7999999999999999E-2,0.04,4.2999999999999997E-2,4.2000000000000003E-2,4.8000000000000001E-2,4.5999999999999999E-2,4.9000000000000002E-2,5.0999999999999997E-2,5.3999999999999999E-2,6.3E-2,6.6000000000000003E-2,7.2999999999999995E-2,9.6000000000000002E-2,9.7000000000000003E-2,8.8999999999999996E-2,0.105,0.113,0.108,0.11799999999999999,0.11799999999999999,0.13200000000000001,0.15,0.14799999999999999,0.13200000000000001]
[null,"02_4業務他",0.54800000000000004,0.53600000000000003,0.53900000000000003,0.51500000000000001,0.53300000000000003,0.51300000000000001,0.50600000000000001,0.50600000000000001,0.51100000000000001,0.52900000000000003,0.52,0.54400000000000004,0.58699999999999997,0.56499999999999995,0.52200000000000002,0.55100000000000005,0.57399999999999995,0.57999999999999996,0.57299999999999995,0.58399999999999996,0.58099999999999996,0.61199999999999999,0.60199999999999998,0.54600000000000004]
[null,"02_5家庭",0.63900000000000001,0.63600000000000001,0.65500000000000003,0.61099999999999999,0.67300000000000004,0.65,0.66300000000000003,0.58299999999999996,0.67200000000000004,0.68200000000000005,0.66300000000000003,0.69499999999999995,0.72299999999999998,0.70099999999999996,0.65500000000000003,0.66900000000000004,0.70499999999999996,0.72499999999999998,0.72099999999999997,0.75,0.73099999999999998,0.73599999999999999,0.72299999999999998,0.73]
["滋賀県","01排出係数",3.0400000000000002E-4,2.8600000000000001E-4,2.6400000000000002E-4,2.3800000000000001E-4,2.7799999999999998E-4,2.52E-4,2.4699999999999999E-4,2.03E-4,2.3499999999999999E-4,2.6400000000000002E-4,2.6200000000000003E-4,2.5099999999999998E-4,2.42E-4,2.43E-4,2.9599999999999998E-4,3.0200000000000002E-4,2.8499999999999999E-4,3.1700000000000001E-4,3.0800000000000001E-4,2.6600000000000001E-4,2.7999999999999998E-4,4.37E-4,4.9899999999999999E-4,5.2800000000000004E-4]
[null,"02_1製造業",0.501,0.48,0.46,0.42499999999999999,0.46899999999999997,0.44700000000000001,0.45700000000000002,0.43,0.54600000000000004,0.58799999999999997,0.59599999999999997,0.60299999999999998,0.59699999999999998,0.63600000000000001,0.69299999999999995,0.70199999999999996,0.69899999999999995,0.73299999999999998,0.73299999999999998,0.70299999999999996,0.71399999999999997,0.79200000000000004,0.80900000000000005,0.81299999999999994]
[null,"02_2建設業鉱業",0.34899999999999998,0.32400000000000001,0.29699999999999999,0.26600000000000001,0.28999999999999998,0.26300000000000001,0.25800000000000001,0.216,0.24399999999999999,0.26300000000000001,0.25900000000000001,0.248,0.23699999999999999,0.23300000000000001,0.26800000000000002,0.26400000000000001,0.24299999999999999,0.245,0.23100000000000001,0.191,0.19800000000000001,0.27200000000000002,0.29399999999999998,0.313]
[null,"02_3農林水産業",6.5000000000000002E-2,6.2E-2,5.7000000000000002E-2,5.3999999999999999E-2,6.8000000000000005E-2,5.8000000000000003E-2,6.4000000000000001E-2,5.7000000000000002E-2,7.4999999999999997E-2,0.09,9.8000000000000004E-2,0.1,0.10299999999999999,0.114,0.14299999999999999,0.155,0.154,0.17199999999999999,0.17699999999999999,0.16200000000000001,0.17799999999999999,0.26700000000000002,0.308,0.28299999999999997]
[null,"02_4業務他",0.46700000000000003,0.44800000000000001,0.42299999999999999,0.39100000000000001,0.42599999999999999,0.40100000000000002,0.40500000000000003,0.35699999999999998,0.4,0.435,0.44,0.42899999999999999,0.42599999999999999,0.43099999999999999,0.48599999999999999,0.48599999999999999,0.47199999999999998,0.503,0.5,0.45300000000000001,0.46800000000000003,0.58899999999999997,0.629,0.56999999999999995]
[null,"02_5家庭",0.66200000000000003,0.65500000000000003,0.627,0.59299999999999997,0.65500000000000003,0.623,0.61499999999999999,0.56899999999999995,0.628,0.65800000000000003,0.65,0.66100000000000003,0.64600000000000002,0.65,0.72099999999999997,0.68899999999999995,0.69,0.74,0.73699999999999999,0.72899999999999998,0.73899999999999999,0.81699999999999995,0.84199999999999997,0.84799999999999998]
["京都府","01排出係数",3.0299999999999999E-4,2.8499999999999999E-4,2.63E-4,2.3599999999999999E-4,2.7799999999999998E-4,2.5300000000000002E-4,2.5000000000000001E-4,2.05E-4,2.3599999999999999E-4,2.6699999999999998E-4,2.6499999999999999E-4,2.5500000000000002E-4,2.4800000000000001E-4,2.4899999999999998E-4,3.0400000000000002E-4,3.1E-4,2.92E-4,3.2299999999999999E-4,3.1399999999999999E-4,2.6699999999999998E-4,2.8800000000000001E-4,4.4700000000000002E-4,5.0900000000000001E-4,5.2999999999999998E-4]
[null,"02_1製造業",0.52,0.48399999999999999,0.439,0.40699999999999997,0.46800000000000003,0.432,0.441,0.39200000000000002,0.504,0.55000000000000004,0.54600000000000004,0.52900000000000003,0.54300000000000004,0.56100000000000005,0.61099999999999999,0.64300000000000002,0.60599999999999998,0.66,0.66100000000000003,0.61799999999999999,0.64,0.70199999999999996,0.66600000000000004,0.69799999999999995]
[null,"02_2建設業鉱業",0.34,0.318,0.29199999999999998,0.26100000000000001,0.28599999999999998,0.26100000000000001,0.25800000000000001,0.216,0.24299999999999999,0.26300000000000001,0.25600000000000001,0.245,0.23499999999999999,0.23200000000000001,0.26600000000000001,0.26400000000000001,0.24,0.247,0.23200000000000001,0.19,0.19900000000000001,0.27500000000000002,0.29599999999999999,0.315]
[null,"02_3農林水産業",5.8000000000000003E-2,5.5E-2,5.1999999999999998E-2,4.8000000000000001E-2,5.8000000000000003E-2,5.5E-2,5.8000000000000003E-2,5.3999999999999999E-2,7.1999999999999995E-2,8.5000000000000006E-2,9.5000000000000001E-2,0.1,0.106,0.113,0.14899999999999999,0.157,0.158,0.18,0.186,0.16700000000000001,0.19,0.28199999999999997,0.32500000000000001,0.3]
[null,"02_4業務他",0.45900000000000002,0.44,0.41699999999999998,0.38600000000000001,0.42199999999999999,0.39800000000000002,0.40100000000000002,0.35399999999999998,0.39700000000000002,0.432,0.437,0.43099999999999999,0.42499999999999999,0.43099999999999999,0.48699999999999999,0.49,0.47399999999999998,0.504,0.5,0.44800000000000001,0.47099999999999997,0.58599999999999997,0.627,0.57399999999999995]
[null,"02_5家庭",0.59599999999999997,0.58699999999999997,0.55300000000000005,0.52,0.59699999999999998,0.55200000000000005,0.55000000000000004,0.495,0.56399999999999995,0.58599999999999997,0.58599999999999997,0.58299999999999996,0.57299999999999995,0.56999999999999995,0.64200000000000002,0.63800000000000001,0.63100000000000001,0.66700000000000004,0.67500000000000004,0.64100000000000001,0.66800000000000004,0.748,0.77700000000000002,0.78300000000000003]
["大阪府","01排出係数",3.1500000000000001E-4,2.9599999999999998E-4,2.7399999999999999E-4,2.4800000000000001E-4,2.8899999999999998E-4,2.63E-4,2.7300000000000002E-4,2.1499999999999999E-4,2.5099999999999998E-4,2.8200000000000002E-4,2.81E-4,2.7099999999999997E-4,2.5900000000000001E-4,2.5999999999999998E-4,3.1399999999999999E-4,3.1799999999999998E-4,3.01E-4,3.3E-4,3.21E-4,2.6800000000000001E-4,2.8800000000000001E-4,4.4799999999999999E-4,5.2099999999999998E-4,5.22E-4]
[null,"02_1製造業",0.44600000000000001,0.45100000000000001,0.433,0.42299999999999999,0.48699999999999999,0.48399999999999999,0.51600000000000001,0.44800000000000001,0.52900000000000003,0.56299999999999994,0.56799999999999995,0.56299999999999994,0.624,0.66500000000000004,0.71,0.69499999999999995,0.67100000000000004,0.67700000000000005,0.68100000000000005,0.67300000000000004,0.65600000000000003,0.72099999999999997,0.74199999999999999,0.73099999999999998]
[null,"02_2建設業鉱業",0.33300000000000002,0.311,0.28599999999999998,0.25700000000000001,0.28100000000000003,0.25600000000000001,0.251,0.20899999999999999,0.23400000000000001,0.255,0.25,0.23799999999999999,0.22700000000000001,0.223,0.25600000000000001,0.251,0.23100000000000001,0.23899999999999999,0.22500000000000001,0.184,0.19,0.26100000000000001,0.28199999999999997,0.3]
[null,"02_3農林水産業",9.6000000000000002E-2,0.09,8.2000000000000003E-2,7.2999999999999995E-2,8.4000000000000005E-2,7.9000000000000001E-2,5.0999999999999997E-2,4.4999999999999998E-2,5.8000000000000003E-2,7.0000000000000007E-2,7.9000000000000001E-2,8.5999999999999993E-2,8.6999999999999994E-2,9.6000000000000002E-2,0.11899999999999999,0.126,0.122,0.13600000000000001,0.13500000000000001,0.125,0.16400000000000001,0.249,0.28499999999999998,0.26100000000000001]
[null,"02_4業務他",0.45700000000000002,0.437,0.41399999999999998,0.38400000000000001,0.41899999999999998,0.39800000000000002,0.40300000000000002,0.35199999999999998,0.39300000000000002,0.42899999999999999,0.432,0.42799999999999999,0.42299999999999999,0.43,0.48599999999999999,0.49199999999999999,0.48,0.51,0.505,0.45500000000000002,0.48599999999999999,0.60199999999999998,0.64100000000000001,0.59399999999999997]
[null,"02_5家庭",0.55500000000000005,0.53900000000000003,0.51,0.47,0.54900000000000004,0.505,0.501,0.45200000000000001,0.51500000000000001,0.54100000000000004,0.53300000000000003,0.53700000000000003,0.52400000000000002,0.52300000000000002,0.59499999999999997,0.58899999999999997,0.58599999999999997,0.623,0.61499999999999999,0.58099999999999996,0.61099999999999999,0.70599999999999996,0.74,0.747]
["兵庫県","01排出係数",3.59E-4,3.4200000000000002E-4,3.19E-4,2.9399999999999999E-4,3.2899999999999997E-4,3.0600000000000001E-4,3.2200000000000002E-4,2.7999999999999998E-4,3.2899999999999997E-4,3.6299999999999999E-4,3.59E-4,3.4600000000000001E-4,3.3700000000000001E-4,3.39E-4,3.8400000000000001E-4,3.77E-4,3.5799999999999997E-4,3.8499999999999998E-4,3.7199999999999999E-4,3.3399999999999999E-4,3.4499999999999998E-4,4.75E-4,5.3600000000000002E-4,5.3499999999999999E-4]
[null,"02_1製造業",0.30099999999999999,0.33600000000000002,0.32500000000000001,0.32700000000000001,0.36799999999999999,0.34399999999999997,0.39300000000000002,0.36199999999999999,0.38900000000000001,0.41799999999999998,0.41499999999999998,0.40699999999999997,0.40100000000000002,0.39300000000000002,0.42,0.41399999999999998,0.39,0.40300000000000002,0.4,0.39100000000000001,0.38600000000000001,0.43099999999999999,0.45200000000000001,0.436]
[null,"02_2建設業鉱業",0.33900000000000002,0.316,0.28999999999999998,0.26,0.28499999999999998,0.25800000000000001,0.25600000000000001,0.21199999999999999,0.23899999999999999,0.26,0.26800000000000002,0.26900000000000002,0.255,0.25,0.27900000000000003,0.27300000000000002,0.24399999999999999,0.252,0.23200000000000001,0.189,0.19900000000000001,0.27800000000000002,0.29399999999999998,0.313]
[null,"02_3農林水産業",3.6999999999999998E-2,3.5999999999999997E-2,2.5999999999999999E-2,2.3E-2,2.1000000000000001E-2,2.7E-2,3.9E-2,3.4000000000000002E-2,4.2000000000000003E-2,5.1999999999999998E-2,6.0999999999999999E-2,6.0999999999999999E-2,7.0999999999999994E-2,7.3999999999999996E-2,0.1,9.6000000000000002E-2,0.10100000000000001,0.108,0.11799999999999999,9.0999999999999998E-2,0.107,0.16200000000000001,0.19,0.17100000000000001]
[null,"02_4業務他",0.47399999999999998,0.45400000000000001,0.42699999999999999,0.39600000000000002,0.42699999999999999,0.39800000000000002,0.40300000000000002,0.35699999999999998,0.39800000000000002,0.432,0.437,0.43099999999999999,0.42499999999999999,0.43099999999999999,0.48599999999999999,0.48799999999999999,0.47899999999999998,0.50800000000000001,0.50600000000000001,0.45600000000000002,0.47299999999999998,0.59,0.63100000000000001,0.57399999999999995]
[null,"02_5家庭",0.57799999999999996,0.56299999999999994,0.53700000000000003,0.503,0.57399999999999995,0.54800000000000004,0.53800000000000003,0.48799999999999999,0.55100000000000005,0.57299999999999995,0.56499999999999995,0.57299999999999995,0.55800000000000005,0.56599999999999995,0.63400000000000001,0.61199999999999999,0.61399999999999999,0.65900000000000003,0.65,0.621,0.64500000000000002,0.74199999999999999,0.77600000000000002,0.78300000000000003]
["奈良県","01排出係数",3.0499999999999999E-4,2.8699999999999998E-4,2.6499999999999999E-4,2.3599999999999999E-4,2.7900000000000001E-4,2.52E-4,2.4899999999999998E-4,2.0000000000000001E-4,2.34E-4,2.6600000000000001E-4,2.6400000000000002E-4,2.5500000000000002E-4,2.4600000000000002E-4,2.4600000000000002E-4,3.0299999999999999E-4,3.0899999999999998E-4,2.9E-4,3.2200000000000002E-4,3.1300000000000002E-4,2.7300000000000002E-4,2.8400000000000002E-4,4.4900000000000002E-4,5.1699999999999999E-4,5.1800000000000001E-4]
[null,"02_1製造業",0.74299999999999999,0.72,0.69799999999999995,0.66,0.71199999999999997,0.69099999999999995,0.69199999999999995,0.65800000000000003,0.71,0.74399999999999999,0.752,0.76300000000000001,0.78800000000000003,0.78600000000000003,0.84499999999999997,0.86099999999999999,0.85399999999999998,0.88100000000000001,0.873,0.84899999999999998,0.874,0.92800000000000005,0.91200000000000003,0.90500000000000003]
[null,"02_2建設業鉱業",0.33300000000000002,0.312,0.28599999999999998,0.25800000000000001,0.28199999999999997,0.25600000000000001,0.252,0.20899999999999999,0.23499999999999999,0.255,0.251,0.23799999999999999,0.22700000000000001,0.224,0.25700000000000001,0.253,0.23200000000000001,0.24,0.22600000000000001,0.185,0.19400000000000001,0.26500000000000001,0.28699999999999998,0.30499999999999999]
[null,"02_3農林水産業",7.4999999999999997E-2,6.7000000000000004E-2,6.0999999999999999E-2,5.7000000000000002E-2,6.8000000000000005E-2,6.4000000000000001E-2,6.7000000000000004E-2,5.8999999999999997E-2,7.4999999999999997E-2,9.4E-2,0.104,0.11,0.111,0.12,0.153,0.16700000000000001,0.161,0.18,0.184,0.156,0.185,0.27200000000000002,0.31,0.28499999999999998]
[null,"02_4業務他",0.46100000000000002,0.442,0.41799999999999998,0.38700000000000001,0.42399999999999999,0.39900000000000002,0.40400000000000003,0.35499999999999998,0.39700000000000002,0.433,0.437,0.43099999999999999,0.42299999999999999,0.42699999999999999,0.48099999999999998,0.48299999999999998,0.47,0.495,0.49,0.442,0.46100000000000002,0.58299999999999996,0.61899999999999999,0.56899999999999995]
[null,"02_5家庭",0.61099999999999999,0.6,0.56999999999999995,0.53200000000000003,0.60099999999999998,0.54700000000000004,0.54200000000000004,0.48899999999999999,0.55600000000000005,0.57599999999999996,0.56299999999999994,0.56699999999999995,0.55400000000000005,0.57599999999999996,0.65200000000000002,0.63600000000000001,0.63200000000000001,0.68500000000000005,0.65100000000000002,0.62,0.65,0.76600000000000001,0.78600000000000003,0.79200000000000004]
["和歌山県","01排出係数",3.2000000000000003E-4,3.0400000000000002E-4,2.7599999999999999E-4,2.5300000000000002E-4,2.9399999999999999E-4,2.7E-4,2.6899999999999998E-4,2.23E-4,2.5000000000000001E-4,2.8499999999999999E-4,2.8899999999999998E-4,2.7599999999999999E-4,2.72E-4,2.7E-4,3.2000000000000003E-4,3.1399999999999999E-4,2.9799999999999998E-4,3.2400000000000001E-4,3.0699999999999998E-4,2.5999999999999998E-4,2.8899999999999998E-4,4.37E-4,5.0199999999999995E-4,5.31E-4]
[null,"02_1製造業",0.10299999999999999,0.13200000000000001,0.124,0.114,0.13200000000000001,0.124,0.125,0.106,0.126,0.14799999999999999,0.14699999999999999,0.13800000000000001,0.13500000000000001,0.13,0.156,0.13700000000000001,0.123,0.125,0.109,0.106,0.111,0.13200000000000001,0.14699999999999999,0.17699999999999999]
[null,"02_2建設業鉱業",0.34799999999999998,0.32700000000000001,0.29399999999999998,0.26500000000000001,0.28899999999999998,0.26100000000000001,0.25700000000000001,0.214,0.23899999999999999,0.26,0.25700000000000001,0.26700000000000002,0.26,0.26100000000000001,0.29199999999999998,0.28899999999999998,0.24,0.24299999999999999,0.23200000000000001,0.189,0.19700000000000001,0.26800000000000002,0.29199999999999998,0.311]
[null,"02_3農林水産業",2.9000000000000001E-2,2.8000000000000001E-2,2.7E-2,2.5000000000000001E-2,3.1E-2,2.9000000000000001E-2,3.2000000000000001E-2,2.8000000000000001E-2,3.6999999999999998E-2,4.3999999999999997E-2,0.05,5.5E-2,5.7000000000000002E-2,6.6000000000000003E-2,8.2000000000000003E-2,9.4E-2,8.6999999999999994E-2,0.106,0.10100000000000001,8.8999999999999996E-2,0.111,0.151,0.187,0.16800000000000001]
[null,"02_4業務他",0.45800000000000002,0.439,0.41599999999999998,0.38600000000000001,0.42299999999999999,0.39900000000000002,0.40100000000000002,0.35399999999999998,0.39500000000000002,0.43,0.434,0.42799999999999999,0.42199999999999999,0.42599999999999999,0.47399999999999998,0.47699999999999998,0.47299999999999998,0.503,0.501,0.45100000000000001,0.47199999999999998,0.58699999999999997,0.627,0.57699999999999996]
[null,"02_5家庭",0.68500000000000005,0.67800000000000005,0.64500000000000002,0.61199999999999999,0.66800000000000004,0.627,0.622,0.58699999999999997,0.66,0.65900000000000003,0.66,0.67,0.64600000000000002,0.65700000000000003,0.72199999999999998,0.71599999999999997,0.73099999999999998,0.76300000000000001,0.75800000000000001,0.74199999999999999,0.77500000000000002,0.83,0.85699999999999998,0.86199999999999999]
["鳥取県","01排出係数",5.9000000000000003E-4,6.0300000000000002E-4,6.1799999999999995E-4,5.9800000000000001E-4,6.0499999999999996E-4,6.0400000000000004E-4,5.9900000000000003E-4,5.9999999999999995E-4,5.04E-4,5.2499999999999997E-4,5.5699999999999999E-4,5.3499999999999999E-4,5.2300000000000003E-4,5.6599999999999999E-4,5.5400000000000002E-4,5.5599999999999996E-4,5.53E-4,5.6700000000000001E-4,5.8E-4,5.8E-4,6.69E-4,5.8100000000000003E-4,6.7199999999999996E-4,6.7500000000000004E-4]
[null,"02_1製造業",0.65800000000000003,0.66900000000000004,0.66200000000000003,0.63900000000000001,0.63700000000000001,0.61699999999999999,0.63600000000000001,0.65,0.64300000000000002,0.64700000000000002,0.66300000000000003,0.65500000000000003,0.63900000000000001,0.67,0.69199999999999995,0.71699999999999997,0.75900000000000001,0.76700000000000002,0.78600000000000003,0.79400000000000004,0.85699999999999998,0.84,0.86699999999999999,0.93700000000000006]
[null,"02_2建設業鉱業",0.51800000000000002,0.51400000000000001,0.505,0.48599999999999999,0.48099999999999998,0.47199999999999998,0.46899999999999997,0.46400000000000002,0.41799999999999998,0.433,0.44700000000000001,0.43,0.42699999999999999,0.44,0.42699999999999999,0.41799999999999998,0.41099999999999998,0.39500000000000002,0.38500000000000001,0.36099999999999999,0.40200000000000002,0.34799999999999998,0.38500000000000001,0.40600000000000003]
[null,"02_3農林水産業",7.6999999999999999E-2,7.6999999999999999E-2,8.5999999999999993E-2,8.2000000000000003E-2,9.1999999999999998E-2,9.4E-2,9.9000000000000005E-2,0.11,0.106,0.11899999999999999,0.14599999999999999,0.14599999999999999,0.16200000000000001,0.17799999999999999,0.183,0.19,0.19400000000000001,0.20300000000000001,0.20499999999999999,0.20799999999999999,0.25700000000000001,0.23400000000000001,0.27400000000000002,0.25]
[null,"02_4業務他",0.623,0.625,0.628,0.61799999999999999,0.61899999999999999,0.61899999999999999,0.624,0.626,0.59099999999999997,0.61199999999999999,0.63400000000000001,0.626,0.628,0.64800000000000002,0.64500000000000002,0.64300000000000002,0.65200000000000002,0.65900000000000003,0.65800000000000003,0.64600000000000002,0.68600000000000005,0.65500000000000003,0.69599999999999995,0.65100000000000002]
[null,"02_5家庭",0.74399999999999999,0.73499999999999999,0.73899999999999999,0.71299999999999997,0.752,0.749,0.74,0.76200000000000001,0.72899999999999998,0.745,0.75900000000000001,0.75900000000000001,0.749,0.78,0.78200000000000003,0.75,0.79100000000000004,0.79400000000000004,0.82399999999999995,0.80900000000000005,0.84599999999999997,0.83899999999999997,0.86299999999999999,0.86799999999999999]
["島根県","01排出係数",6.2100000000000002E-4,6.3400000000000001E-4,6.4899999999999995E-4,6.2799999999999998E-4,6.3599999999999996E-4,6.3400000000000001E-4,6.3000000000000003E-4,6.4000000000000005E-4,5.31E-4,5.6899999999999995E-4,6.0899999999999995E-4,5.8200000000000005E-4,5.7899999999999998E-4,6.2299999999999996E-4,6.0700000000000001E-4,6.0599999999999998E-4,6.2600000000000004E-4,6.38E-4,6.3599999999999996E-4,6.5499999999999998E-4,7.3700000000000002E-4,6.4000000000000005E-4,7.1599999999999995E-4,7.9699999999999997E-4]
[null,"02_1製造業",0.61899999999999999,0.59399999999999997,0.57399999999999995,0.56000000000000005,0.58299999999999996,0.56699999999999995,0.59599999999999997,0.60099999999999998,0.58099999999999996,0.625,0.67400000000000004,0.63500000000000001,0.69499999999999995,0.72099999999999997,0.74,0.73799999999999999,0.76,0.78200000000000003,0.79900000000000004,0.80300000000000005,0.83299999999999996,0.80800000000000005,0.81699999999999995,0.86199999999999999]
[null,"02_2建設業鉱業",0.51600000000000001,0.50900000000000001,0.505,0.48599999999999999,0.48,0.47299999999999998,0.46800000000000003,0.46300000000000002,0.41899999999999998,0.432,0.44900000000000001,0.432,0.42499999999999999,0.439,0.42899999999999999,0.42299999999999999,0.42,0.40899999999999997,0.39500000000000002,0.377,0.41,0.36799999999999999,0.40200000000000002,0.42399999999999999]
[null,"02_3農林水産業",5.8999999999999997E-2,5.8000000000000003E-2,6.4000000000000001E-2,6.8000000000000005E-2,7.1999999999999995E-2,7.2999999999999995E-2,7.4999999999999997E-2,8.8999999999999996E-2,8.1000000000000003E-2,9.4E-2,0.11799999999999999,0.13300000000000001,0.13200000000000001,0.155,0.16500000000000001,0.18099999999999999,0.17899999999999999,0.183,0.19800000000000001,0.19800000000000001,0.22900000000000001,0.215,0.254,0.23100000000000001]
[null,"02_4業務他",0.626,0.629,0.63200000000000001,0.621,0.622,0.622,0.625,0.628,0.59099999999999997,0.61399999999999999,0.63500000000000001,0.627,0.627,0.64800000000000002,0.64400000000000002,0.64200000000000002,0.64900000000000002,0.65300000000000002,0.65600000000000003,0.64300000000000002,0.68500000000000005,0.65900000000000003,0.69799999999999995,0.65400000000000003]
[null,"02_5家庭",0.73699999999999999,0.74099999999999999,0.73099999999999998,0.71099999999999997,0.746,0.753,0.74299999999999999,0.75600000000000001,0.72499999999999998,0.746,0.76600000000000001,0.76700000000000002,0.76100000000000001,0.78500000000000003,0.78700000000000003,0.76,0.78900000000000003,0.80300000000000005,0.83,0.83399999999999996,0.87,0.83099999999999996,0.86099999999999999,0.86499999999999999]
["岡山県","01排出係数",5.8299999999999997E-4,5.7799999999999995E-4,5.7700000000000004E-4,5.62E-4,5.6599999999999999E-4,5.62E-4,5.5500000000000005E-4,6.3599999999999996E-4,5.0799999999999999E-4,5.3799999999999996E-4,5.6300000000000002E-4,5.4299999999999997E-4,5.5000000000000003E-4,5.8500000000000002E-4,5.6999999999999998E-4,5.6899999999999995E-4,5.9999999999999995E-4,6.1899999999999998E-4,6.1700000000000004E-4,5.9800000000000001E-4,6.96E-4,6.0800000000000003E-4,7.18E-4,7.2000000000000005E-4]
[null,"02_1製造業",0.21299999999999999,0.26600000000000001,0.27200000000000002,0.26500000000000001,0.26200000000000001,0.26600000000000001,0.26400000000000001,0.26300000000000001,0.248,0.25800000000000001,0.25600000000000001,0.24299999999999999,0.249,0.26800000000000002,0.26400000000000001,0.28899999999999998,0.309,0.33100000000000002,0.33600000000000002,0.33,0.34799999999999998,0.30499999999999999,0.32200000000000001,0.315]
[null,"02_2建設業鉱業",0.51800000000000002,0.51500000000000001,0.51100000000000001,0.49099999999999999,0.48299999999999998,0.47599999999999998,0.47,0.46700000000000003,0.42299999999999999,0.437,0.45900000000000002,0.438,0.437,0.441,0.42799999999999999,0.42299999999999999,0.41599999999999998,0.40500000000000003,0.39,0.37,0.41199999999999998,0.372,0.40400000000000003,0.42599999999999999]
[null,"02_3農林水産業",0.126,0.126,0.129,0.128,0.13,0.13400000000000001,0.14399999999999999,0.156,0.15,0.16700000000000001,0.19900000000000001,0.19700000000000001,0.21199999999999999,0.249,0.25,0.25800000000000001,0.28100000000000003,0.29599999999999999,0.312,0.30299999999999999,0.36799999999999999,0.34699999999999998,0.39800000000000002,0.37]
[null,"02_4業務他",0.63200000000000001,0.63300000000000001,0.63700000000000001,0.626,0.627,0.626,0.629,0.63400000000000001,0.59899999999999998,0.62,0.64100000000000001,0.63400000000000001,0.63700000000000001,0.65900000000000003,0.65700000000000003,0.65600000000000003,0.66400000000000003,0.67400000000000004,0.67500000000000004,0.66300000000000003,0.70099999999999996,0.67300000000000004,0.71399999999999997,0.66700000000000004]
[null,"02_5家庭",0.73399999999999999,0.74399999999999999,0.74099999999999999,0.72,0.75800000000000001,0.749,0.746,0.75700000000000001,0.73399999999999999,0.745,0.76200000000000001,0.76,0.752,0.77200000000000002,0.78,0.75900000000000001,0.79400000000000004,0.80300000000000005,0.83,0.84,0.85799999999999998,0.82799999999999996,0.85199999999999998,0.85699999999999998]
["広島県","01排出係数",6.2E-4,6.3400000000000001E-4,6.5200000000000002E-4,6.4199999999999999E-4,6.5099999999999999E-4,6.4499999999999996E-4,6.3699999999999998E-4,6.3500000000000004E-4,5.4900000000000001E-4,5.9100000000000005E-4,6.2200000000000005E-4,5.9599999999999996E-4,6.0099999999999997E-4,6.6E-4,6.4300000000000002E-4,6.1600000000000001E-4,6.3199999999999997E-4,6.2200000000000005E-4,6.1600000000000001E-4,5.9999999999999995E-4,6.9499999999999998E-4,6.1600000000000001E-4,7.0899999999999999E-4,7.0899999999999999E-4]
[null,"02_1製造業",0.19800000000000001,0.25700000000000001,0.26,0.26,0.26,0.254,0.251,0.23300000000000001,0.20799999999999999,0.216,0.219,0.21,0.217,0.254,0.255,0.246,0.245,0.23400000000000001,0.23200000000000001,0.23400000000000001,0.254,0.24399999999999999,0.249,0.249]
[null,"02_2建設業鉱業",0.51300000000000001,0.50600000000000001,0.503,0.48399999999999999,0.47799999999999998,0.47,0.46400000000000002,0.45800000000000002,0.41199999999999998,0.42699999999999999,0.442,0.42599999999999999,0.42,0.434,0.42099999999999999,0.41,0.40400000000000003,0.39200000000000002,0.38,0.35599999999999998,0.39200000000000002,0.34699999999999998,0.379,0.4]
[null,"02_3農林水産業",7.9000000000000001E-2,8.3000000000000004E-2,8.5999999999999993E-2,9.2999999999999999E-2,9.7000000000000003E-2,9.8000000000000004E-2,0.105,0.109,0.114,0.125,0.155,0.14599999999999999,0.15,0.17899999999999999,0.17799999999999999,0.186,0.19800000000000001,0.19900000000000001,0.223,0.224,0.26700000000000002,0.27800000000000002,0.315,0.28899999999999998]
[null,"02_4業務他",0.64400000000000002,0.64600000000000002,0.65200000000000002,0.64100000000000001,0.64200000000000002,0.64,0.64300000000000002,0.64700000000000002,0.61199999999999999,0.63100000000000001,0.65100000000000002,0.64300000000000002,0.64400000000000002,0.66600000000000004,0.66200000000000003,0.66200000000000003,0.66800000000000004,0.67300000000000004,0.67800000000000005,0.66200000000000003,0.70699999999999996,0.67100000000000004,0.71199999999999997,0.67100000000000004]
[null,"02_5家庭",0.72699999999999998,0.72699999999999998,0.72299999999999998,0.7,0.73799999999999999,0.73899999999999999,0.73399999999999999,0.74299999999999999,0.71399999999999997,0.72399999999999998,0.747,0.74299999999999999,0.73899999999999999,0.75900000000000001,0.76900000000000002,0.76,0.78700000000000003,0.79800000000000004,0.8,0.80600000000000005,0.83599999999999997,0.82599999999999996,0.85199999999999998,0.85699999999999998]
["山口県","01排出係数",6.4700000000000001E-4,6.4499999999999996E-4,6.5600000000000001E-4,6.5700000000000003E-4,6.6600000000000003E-4,6.6E-4,6.6299999999999996E-4,6.5899999999999997E-4,5.9500000000000004E-4,6.0700000000000001E-4,6.2299999999999996E-4,5.9699999999999998E-4,5.9699999999999998E-4,6.3699999999999998E-4,6.3400000000000001E-4,6.1700000000000004E-4,6.2399999999999999E-4,6.3299999999999999E-4,6.2799999999999998E-4,6.1700000000000004E-4,6.7400000000000001E-4,6.2399999999999999E-4,6.7000000000000002E-4,6.6699999999999995E-4]
[null,"02_1製造業",0.45600000000000002,0.46,0.46899999999999997,0.45,0.46600000000000003,0.47,0.48799999999999999,0.498,0.48899999999999999,0.49299999999999999,0.50700000000000001,0.48899999999999999,0.49099999999999999,0.503,0.51900000000000002,0.51800000000000002,0.51600000000000001,0.51800000000000002,0.52700000000000002,0.52600000000000002,0.53900000000000003,0.52300000000000002,0.52300000000000002,0.51900000000000002]
[null,"02_2建設業鉱業",0.52600000000000002,0.52200000000000002,0.52,0.497,0.48799999999999999,0.48099999999999998,0.47699999999999998,0.47399999999999998,0.43,0.44700000000000001,0.46400000000000002,0.44800000000000001,0.438,0.45300000000000001,0.44400000000000001,0.44400000000000001,0.439,0.42,0.40799999999999997,0.39100000000000001,0.432,0.39,0.42799999999999999,0.45]
[null,"02_3農林水産業",5.6000000000000001E-2,5.8999999999999997E-2,6.7000000000000004E-2,7.1999999999999995E-2,7.9000000000000001E-2,8.4000000000000005E-2,8.8999999999999996E-2,0.1,9.6000000000000002E-2,0.108,0.13,0.13200000000000001,0.14099999999999999,0.17,0.17799999999999999,0.183,0.186,0.191,0.215,0.20100000000000001,0.253,0.23499999999999999,0.28000000000000003,0.255]
[null,"02_4業務他",0.63800000000000001,0.64,0.64500000000000002,0.63300000000000001,0.63100000000000001,0.63,0.63300000000000001,0.63700000000000001,0.60199999999999998,0.623,0.64400000000000002,0.63700000000000001,0.63900000000000001,0.66100000000000003,0.65800000000000003,0.65800000000000003,0.66600000000000004,0.67500000000000004,0.67600000000000005,0.66200000000000003,0.7,0.67100000000000004,0.71099999999999997,0.66300000000000003]
[null,"02_5家庭",0.7,0.70399999999999996,0.69399999999999995,0.67100000000000004,0.71099999999999997,0.71799999999999997,0.70499999999999996,0.73,0.69899999999999995,0.69399999999999995,0.71499999999999997,0.71699999999999997,0.72,0.73799999999999999,0.748,0.747,0.77700000000000002,0.78,0.79800000000000004,0.80300000000000005,0.84099999999999997,0.82099999999999995,0.83399999999999996,0.84]
["徳島県","01排出係数",4.1800000000000002E-4,4.2499999999999998E-4,4.35E-4,4.4700000000000002E-4,4.28E-4,4.2000000000000002E-4,3.97E-4,4.1599999999999997E-4,2.7700000000000001E-4,2.7900000000000001E-4,3.1500000000000001E-4,3.3300000000000002E-4,3.0600000000000001E-4,3.01E-4,3.2699999999999998E-4,3.4400000000000001E-4,3.3300000000000002E-4,3.5500000000000001E-4,3.39E-4,3.6900000000000002E-4,3.0600000000000001E-4,5.22E-4,6.8400000000000004E-4,6.9499999999999998E-4]
[null,"02_1製造業",0.52600000000000002,0.51600000000000001,0.51500000000000001,0.52100000000000002,0.53800000000000003,0.53800000000000003,0.54800000000000004,0.57099999999999995,0.52200000000000002,0.53800000000000003,0.54700000000000004,0.56200000000000006,0.55700000000000005,0.56399999999999995,0.57899999999999996,0.60499999999999998,0.628,0.66400000000000003,0.68300000000000005,0.748,0.74,0.82799999999999996,0.873,0.89100000000000001]
[null,"02_2建設業鉱業",0.40699999999999997,0.40600000000000003,0.40200000000000002,0.39800000000000002,0.374,0.36099999999999999,0.34499999999999997,0.35699999999999998,0.248,0.252,0.27700000000000002,0.28499999999999998,0.26300000000000001,0.254,0.27200000000000002,0.27600000000000002,0.25800000000000001,0.26400000000000001,0.246,0.254,0.21299999999999999,0.312,0.36799999999999999,0.38900000000000001]
[null,"02_3農林水産業",4.8000000000000001E-2,4.8000000000000001E-2,4.9000000000000002E-2,0.05,5.2999999999999999E-2,5.8000000000000003E-2,5.8000000000000003E-2,7.0999999999999994E-2,5.0999999999999997E-2,5.0999999999999997E-2,7.4999999999999997E-2,0.09,8.5000000000000006E-2,0.09,0.108,0.122,0.11,0.13300000000000001,0.13200000000000001,0.14699999999999999,0.13700000000000001,0.223,0.28899999999999998,0.26300000000000001]
[null,"02_4業務他",0.53200000000000003,0.54,0.54300000000000004,0.54700000000000004,0.52500000000000002,0.51800000000000002,0.51100000000000001,0.53300000000000003,0.41199999999999998,0.42199999999999999,0.45900000000000002,0.48,0.46,0.45500000000000002,0.48599999999999999,0.497,0.49,0.50900000000000001,0.5,0.52100000000000002,0.47499999999999998,0.621,0.68600000000000005,0.64400000000000002]
[null,"02_5家庭",0.70399999999999996,0.71399999999999997,0.69199999999999995,0.68700000000000006,0.71599999999999997,0.68500000000000005,0.67100000000000004,0.7,0.59399999999999997,0.60599999999999998,0.61199999999999999,0.65,0.64200000000000002,0.63100000000000001,0.65800000000000003,0.66800000000000004,0.66600000000000004,0.70299999999999996,0.72099999999999997,0.75600000000000001,0.72499999999999998,0.83099999999999996,0.88200000000000001,0.88600000000000001]
["香川県","01排出係数",4.1399999999999998E-4,4.3300000000000001E-4,4.4099999999999999E-4,4.5199999999999998E-4,4.2499999999999998E-4,4.1199999999999999E-4,3.8900000000000002E-4,4.4299999999999998E-4,2.4600000000000002E-4,2.5700000000000001E-4,2.99E-4,3.2000000000000003E-4,2.9599999999999998E-4,2.8800000000000001E-4,3.3199999999999999E-4,3.28E-4,3.1700000000000001E-4,3.4099999999999999E-4,3.2699999999999998E-4,3.6200000000000002E-4,3.0299999999999999E-4,5.3300000000000005E-4,7.1699999999999997E-4,7.3399999999999995E-4]
[null,"02_1製造業",0.47099999999999997,0.45700000000000002,0.45800000000000002,0.40699999999999997,0.39100000000000001,0.38500000000000001,0.39300000000000002,0.50800000000000001,0.315,0.34200000000000003,0.41099999999999998,0.42499999999999999,0.41799999999999998,0.41499999999999998,0.498,0.44900000000000001,0.44400000000000001,0.497,0.49399999999999999,0.55900000000000005,0.54300000000000004,0.65200000000000002,0.72399999999999998,0.73199999999999998]
[null,"02_2建設業鉱業",0.42,0.41899999999999998,0.41399999999999998,0.40799999999999997,0.38300000000000001,0.372,0.35699999999999998,0.36699999999999999,0.25800000000000001,0.26,0.28999999999999998,0.30099999999999999,0.28000000000000003,0.27,0.28599999999999998,0.28699999999999998,0.26800000000000002,0.27200000000000002,0.27500000000000002,0.26100000000000001,0.22500000000000001,0.32500000000000001,0.39300000000000002,0.41499999999999998]
[null,"02_3農林水産業",4.1000000000000002E-2,4.2000000000000003E-2,4.5999999999999999E-2,4.8000000000000001E-2,0.05,4.9000000000000002E-2,5.2999999999999999E-2,0.06,4.1000000000000002E-2,4.3999999999999997E-2,6.3E-2,6.3E-2,6.8000000000000005E-2,7.8E-2,8.6999999999999994E-2,9.6000000000000002E-2,9.8000000000000004E-2,0.108,0.115,0.122,0.109,0.182,0.23799999999999999,0.215]
[null,"02_4業務他",0.53600000000000003,0.54300000000000004,0.54600000000000004,0.55000000000000004,0.53200000000000003,0.52500000000000002,0.51600000000000001,0.53600000000000003,0.41699999999999998,0.42699999999999999,0.47,0.49199999999999999,0.47499999999999998,0.47599999999999998,0.51,0.52,0.51600000000000001,0.53500000000000003,0.53100000000000003,0.55300000000000005,0.5,0.63700000000000001,0.70599999999999996,0.66600000000000004]
[null,"02_5家庭",0.69699999999999995,0.70699999999999996,0.68899999999999995,0.68700000000000006,0.69899999999999995,0.68700000000000006,0.66100000000000003,0.70099999999999996,0.58499999999999996,0.58499999999999996,0.59799999999999998,0.63600000000000001,0.63200000000000001,0.624,0.64100000000000001,0.66400000000000003,0.65900000000000003,0.7,0.68,0.72299999999999998,0.69699999999999995,0.82899999999999996,0.86199999999999999,0.86699999999999999]
["愛媛県","01排出係数",4.9899999999999999E-4,5.0600000000000005E-4,5.0699999999999996E-4,5.13E-4,4.9200000000000003E-4,4.84E-4,4.7399999999999997E-4,4.8799999999999999E-4,3.88E-4,3.8299999999999999E-4,4.0700000000000003E-4,4.4099999999999999E-4,4.28E-4,4.2900000000000002E-4,4.4700000000000002E-4,4.4000000000000002E-4,4.2700000000000002E-4,4.37E-4,4.2099999999999999E-4,4.4799999999999999E-4,3.9599999999999998E-4,5.6400000000000005E-4,6.8599999999999998E-4,6.8599999999999998E-4]
[null,"02_1製造業",0.60299999999999998,0.58899999999999997,0.58399999999999996,0.57499999999999996,0.57499999999999996,0.57499999999999996,0.56699999999999995,0.56899999999999995,0.54700000000000004,0.53800000000000003,0.53600000000000003,0.56499999999999995,0.57099999999999995,0.56799999999999995,0.57199999999999995,0.56200000000000006,0.55300000000000005,0.54800000000000004,0.56100000000000005,0.58599999999999997,0.55900000000000005,0.61199999999999999,0.622,0.624]
[null,"02_2建設業鉱業",0.41699999999999998,0.41399999999999998,0.40799999999999997,0.40200000000000002,0.378,0.36599999999999999,0.35099999999999998,0.36399999999999999,0.25600000000000001,0.25800000000000001,0.28299999999999997,0.29199999999999998,0.27400000000000002,0.26400000000000001,0.28000000000000003,0.28599999999999998,0.26500000000000001,0.26600000000000001,0.252,0.25900000000000001,0.22,0.32,0.38,0.40100000000000002]
[null,"02_3農林水産業",2.9000000000000001E-2,3.2000000000000001E-2,3.4000000000000002E-2,3.6999999999999998E-2,3.7999999999999999E-2,3.5999999999999997E-2,3.5999999999999997E-2,3.9E-2,2.8000000000000001E-2,3.1E-2,4.1000000000000002E-2,4.3999999999999997E-2,3.9E-2,4.1000000000000002E-2,4.5999999999999999E-2,5.2999999999999999E-2,5.3999999999999999E-2,5.5E-2,5.2999999999999999E-2,0.06,5.2999999999999999E-2,8.6999999999999994E-2,0.115,0.10199999999999999]
[null,"02_4業務他",0.54100000000000004,0.54700000000000004,0.54900000000000004,0.55100000000000005,0.53400000000000003,0.52600000000000002,0.51700000000000002,0.53900000000000003,0.42,0.43099999999999999,0.47199999999999998,0.49199999999999999,0.47299999999999998,0.47,0.498,0.51,0.51,0.53200000000000003,0.52600000000000002,0.54300000000000004,0.499,0.63800000000000001,0.70499999999999996,0.66200000000000003]
[null,"02_5家庭",0.68100000000000005,0.67400000000000004,0.66500000000000004,0.66,0.68,0.66200000000000003,0.63700000000000001,0.67500000000000004,0.56499999999999995,0.56699999999999995,0.57899999999999996,0.624,0.61,0.60699999999999998,0.63,0.64100000000000001,0.66300000000000003,0.67200000000000004,0.7,0.74099999999999999,0.7,0.82499999999999996,0.86099999999999999,0.86499999999999999]
["高知県","01排出係数",4.3399999999999998E-4,4.4700000000000002E-4,4.5399999999999998E-4,4.5800000000000002E-4,4.2999999999999999E-4,4.1800000000000002E-4,3.9599999999999998E-4,4.3600000000000003E-4,2.9799999999999998E-4,3.2400000000000001E-4,3.8400000000000001E-4,4.0099999999999999E-4,3.7300000000000001E-4,3.8099999999999999E-4,4.28E-4,4.4999999999999999E-4,4.4200000000000001E-4,4.6099999999999998E-4,4.4799999999999999E-4,5.5599999999999996E-4,4.9200000000000003E-4,7.0500000000000001E-4,8.6899999999999998E-4,8.8599999999999996E-4]
[null,"02_1製造業",0.32100000000000001,0.30599999999999999,0.29199999999999998,0.27800000000000002,0.26500000000000001,0.253,0.23,0.28100000000000003,0.29699999999999999,0.33500000000000002,0.40699999999999997,0.42299999999999999,0.42099999999999999,0.442,0.48499999999999999,0.52400000000000002,0.52100000000000002,0.55600000000000005,0.54900000000000004,0.76600000000000001,0.83799999999999997,0.89,0.879,0.67700000000000005]
[null,"02_2建設業鉱業",0.42699999999999999,0.42399999999999999,0.41699999999999998,0.40899999999999997,0.38400000000000001,0.373,0.35899999999999999,0.373,0.26400000000000001,0.26700000000000002,0.28699999999999998,0.29799999999999999,0.27900000000000003,0.27300000000000002,0.29699999999999999,0.30199999999999999,0.27900000000000003,0.29399999999999998,0.27300000000000002,0.28699999999999998,0.24399999999999999,0.36,0.42599999999999999,0.44800000000000001]
[null,"02_3農林水産業",3.5000000000000003E-2,3.5999999999999997E-2,3.7999999999999999E-2,4.2000000000000003E-2,4.2000000000000003E-2,4.1000000000000002E-2,4.2000000000000003E-2,4.8000000000000001E-2,3.1E-2,3.4000000000000002E-2,4.4999999999999998E-2,5.2999999999999999E-2,4.7E-2,5.0999999999999997E-2,5.8999999999999997E-2,6.7000000000000004E-2,7.2999999999999995E-2,7.0999999999999994E-2,7.2999999999999995E-2,8.1000000000000003E-2,7.4999999999999997E-2,0.127,0.16400000000000001,0.14599999999999999]
[null,"02_4業務他",0.53500000000000003,0.54300000000000004,0.54500000000000004,0.54800000000000004,0.53,0.52200000000000002,0.51800000000000002,0.54100000000000004,0.41899999999999998,0.43,0.46899999999999997,0.49,0.47099999999999997,0.47,0.5,0.50900000000000001,0.50700000000000001,0.52300000000000002,0.51700000000000002,0.54100000000000004,0.49199999999999999,0.63200000000000001,0.69899999999999995,0.65800000000000003]
[null,"02_5家庭",0.69199999999999995,0.69599999999999995,0.67700000000000005,0.68200000000000005,0.68799999999999994,0.66700000000000004,0.65300000000000002,0.68,0.57899999999999996,0.59199999999999997,0.60399999999999998,0.64300000000000002,0.621,0.61799999999999999,0.63100000000000001,0.64900000000000002,0.66400000000000003,0.69499999999999995,0.752,0.77200000000000002,0.74199999999999999,0.82399999999999995,0.85599999999999998,0.86]
["福岡県","01排出係数",4.26E-4,4.1800000000000002E-4,4.4999999999999999E-4,3.8499999999999998E-4,4.0099999999999999E-4,3.6900000000000002E-4,3.9500000000000001E-4,3.2600000000000001E-4,3.1799999999999998E-4,3.0899999999999998E-4,3.2699999999999998E-4,3.57E-4,3.4499999999999998E-4,3.2200000000000002E-4,3.4600000000000001E-4,3.7300000000000001E-4,3.88E-4,4.0299999999999998E-4,3.9500000000000001E-4,3.9399999999999998E-4,4.2299999999999998E-4,5.8E-4,6.8800000000000003E-4,6.8599999999999998E-4]
[null,"02_1製造業",0.23499999999999999,0.254,0.25900000000000001,0.23200000000000001,0.24399999999999999,0.24,0.26700000000000002,0.24299999999999999,0.248,0.25700000000000001,0.26400000000000001,0.27500000000000002,0.27300000000000002,0.248,0.28999999999999998,0.28999999999999998,0.28399999999999997,0.315,0.32100000000000001,0.32500000000000001,0.318,0.36299999999999999,0.372,0.36799999999999999]
[null,"02_2建設業鉱業",0.43,0.41299999999999998,0.42199999999999999,0.36699999999999999,0.36599999999999999,0.33900000000000002,0.35299999999999998,0.29399999999999998,0.29499999999999998,0.28000000000000003,0.28599999999999998,0.30499999999999999,0.29199999999999998,0.27900000000000003,0.29299999999999998,0.30399999999999999,0.30499999999999999,0.29699999999999999,0.28100000000000003,0.27400000000000002,0.28299999999999997,0.35599999999999998,0.38800000000000001,0.41]
[null,"02_3農林水産業",5.1999999999999998E-2,5.2999999999999999E-2,6.2E-2,5.8999999999999997E-2,6.9000000000000006E-2,6.7000000000000004E-2,7.6999999999999999E-2,6.8000000000000005E-2,7.6999999999999999E-2,0.08,9.4E-2,0.11600000000000001,0.112,0.123,0.128,0.15,0.151,0.16,0.16600000000000001,0.17499999999999999,0.19700000000000001,0.26700000000000002,0.314,0.28799999999999998]
[null,"02_4業務他",0.53700000000000003,0.52600000000000002,0.54200000000000004,0.495,0.503,0.47599999999999998,0.5,0.44700000000000001,0.45500000000000002,0.44600000000000001,0.46400000000000002,0.496,0.49,0.48099999999999998,0.50700000000000001,0.52900000000000003,0.54400000000000004,0.55600000000000005,0.55100000000000005,0.55000000000000004,0.56699999999999995,0.65300000000000002,0.69399999999999995,0.64]
[null,"02_5家庭",0.63100000000000001,0.61899999999999999,0.628,0.58299999999999996,0.63100000000000001,0.59099999999999997,0.60799999999999998,0.55800000000000005,0.57799999999999996,0.55800000000000005,0.58099999999999996,0.629,0.59599999999999997,0.59899999999999998,0.625,0.64600000000000002,0.68300000000000005,0.69899999999999995,0.70899999999999996,0.71799999999999997,0.73699999999999999,0.8,0.82299999999999995,0.82899999999999996]
["佐賀県","01排出係数",4.1899999999999999E-4,4.0400000000000001E-4,4.3800000000000002E-4,3.6999999999999999E-4,3.8400000000000001E-4,3.4699999999999998E-4,3.7399999999999998E-4,2.9500000000000001E-4,2.9599999999999998E-4,2.81E-4,2.9399999999999999E-4,3.3599999999999998E-4,3.2299999999999999E-4,3.0499999999999999E-4,3.28E-4,3.5799999999999997E-4,3.7800000000000003E-4,3.8699999999999997E-4,3.79E-4,3.8200000000000002E-4,4.08E-4,5.7600000000000001E-4,6.7699999999999998E-4,7.0699999999999995E-4]
[null,"02_1製造業",0.64600000000000002,0.60899999999999999,0.61699999999999999,0.54800000000000004,0.55200000000000005,0.502,0.59,0.54600000000000004,0.623,0.58499999999999996,0.64700000000000002,0.73099999999999998,0.73699999999999999,0.72899999999999998,0.75700000000000001,0.79900000000000004,0.82699999999999996,0.83199999999999996,0.84599999999999997,0.85499999999999998,0.88,0.91700000000000004,0.91600000000000004,0.96099999999999997]
[null,"02_2建設業鉱業",0.41199999999999998,0.39300000000000002,0.40200000000000002,0.35199999999999998,0.35499999999999998,0.32500000000000001,0.33900000000000002,0.28399999999999997,0.28399999999999997,0.27100000000000002,0.27700000000000002,0.29599999999999999,0.28599999999999998,0.27,0.28199999999999997,0.29299999999999998,0.29499999999999998,0.28799999999999998,0.27200000000000002,0.26400000000000001,0.27100000000000002,0.33700000000000002,0.36899999999999999,0.39]
[null,"02_3農林水産業",6.2E-2,5.8999999999999997E-2,7.0000000000000007E-2,5.7000000000000002E-2,6.3E-2,0.06,7.2999999999999995E-2,6.2E-2,7.1999999999999995E-2,7.0999999999999994E-2,8.6999999999999994E-2,0.1,0.107,0.107,0.114,0.129,0.13100000000000001,0.15,0.16,0.16500000000000001,0.185,0.25600000000000001,0.30399999999999999,0.27900000000000003]
[null,"02_4業務他",0.52800000000000002,0.52,0.53800000000000003,0.49299999999999999,0.502,0.47699999999999998,0.502,0.44500000000000001,0.45400000000000001,0.44600000000000001,0.46200000000000002,0.49299999999999999,0.48499999999999999,0.47399999999999998,0.498,0.51900000000000002,0.53500000000000003,0.54600000000000004,0.54100000000000004,0.54200000000000004,0.55700000000000005,0.64200000000000002,0.68400000000000005,0.64400000000000002]
[null,"02_5家庭",0.65,0.63900000000000001,0.65600000000000003,0.61799999999999999,0.65600000000000003,0.61599999999999999,0.63300000000000001,0.58499999999999996,0.61399999999999999,0.59,0.61299999999999999,0.66,0.63,0.64200000000000002,0.66500000000000004,0.64800000000000002,0.70599999999999996,0.72299999999999998,0.752,0.76300000000000001,0.77900000000000003,0.81899999999999995,0.84599999999999997,0.85]
["長崎県","01排出係数",4.1899999999999999E-4,4.06E-4,4.3899999999999999E-4,3.6999999999999999E-4,3.86E-4,3.4900000000000003E-4,3.79E-4,2.9599999999999998E-4,3.01E-4,2.8499999999999999E-4,2.99E-4,3.3199999999999999E-4,3.1700000000000001E-4,2.9700000000000001E-4,3.2299999999999999E-4,3.5500000000000001E-4,3.79E-4,3.88E-4,3.7800000000000003E-4,3.8699999999999997E-4,4.06E-4,5.7799999999999995E-4,6.8000000000000005E-4,6.8000000000000005E-4]
[null,"02_1製造業",0.65700000000000003,0.56200000000000006,0.498,0.38200000000000001,0.39700000000000002,0.42099999999999999,0.56899999999999995,0.499,0.63600000000000001,0.60499999999999998,0.70099999999999996,0.71,0.72099999999999997,0.72199999999999998,0.75900000000000001,0.79500000000000004,0.81599999999999995,0.82799999999999996,0.84299999999999997,0.84899999999999998,0.88200000000000001,0.90900000000000003,0.89700000000000002,0.89400000000000002]
[null,"02_2建設業鉱業",0.42699999999999999,0.40699999999999997,0.41599999999999998,0.36699999999999999,0.36399999999999999,0.33600000000000002,0.35399999999999998,0.29899999999999999,0.29899999999999999,0.28499999999999998,0.29099999999999998,0.311,0.29199999999999998,0.27300000000000002,0.28499999999999998,0.30199999999999999,0.30099999999999999,0.29499999999999998,0.27800000000000002,0.26900000000000002,0.27900000000000003,0.35,0.38100000000000001,0.40200000000000002]
[null,"02_3農林水産業",2.7E-2,2.7E-2,3.2000000000000001E-2,2.8000000000000001E-2,3.2000000000000001E-2,3.1E-2,3.4000000000000002E-2,2.9000000000000001E-2,3.3000000000000002E-2,3.3000000000000002E-2,0.04,4.8000000000000001E-2,0.05,0.05,5.6000000000000001E-2,6.4000000000000001E-2,6.5000000000000002E-2,7.2999999999999995E-2,7.2999999999999995E-2,7.0000000000000007E-2,8.1000000000000003E-2,0.113,0.13400000000000001,0.11899999999999999]
[null,"02_4業務他",0.53300000000000003,0.52200000000000002,0.53700000000000003,0.49199999999999999,0.499,0.47599999999999998,0.496,0.442,0.45100000000000001,0.442,0.45800000000000002,0.48899999999999999,0.48199999999999998,0.47099999999999997,0.49199999999999999,0.51400000000000001,0.52800000000000002,0.53600000000000003,0.53500000000000003,0.53600000000000003,0.54700000000000004,0.63700000000000001,0.67800000000000005,0.63100000000000001]
[null,"02_5家庭",0.622,0.623,0.63200000000000001,0.58699999999999997,0.63200000000000001,0.59099999999999997,0.61199999999999999,0.56499999999999995,0.59399999999999997,0.56200000000000006,0.57899999999999996,0.63800000000000001,0.60299999999999998,0.61,0.627,0.627,0.68600000000000005,0.70399999999999996,0.70899999999999996,0.71,0.74199999999999999,0.80900000000000005,0.83499999999999996,0.84]
["熊本県","01排出係数",4.1300000000000001E-4,4.0200000000000001E-4,4.3800000000000002E-4,3.8299999999999999E-4,3.9399999999999998E-4,3.6000000000000002E-4,3.8699999999999997E-4,3.1700000000000001E-4,3.2600000000000001E-4,3.0899999999999998E-4,3.19E-4,3.5E-4,3.39E-4,3.21E-4,3.4200000000000002E-4,3.6999999999999999E-4,3.88E-4,3.97E-4,3.86E-4,4.0099999999999999E-4,3.86E-4,3.86E-4,3.7599999999999998E-4,4.0999999999999999E-4]
[null,"02_1製造業",0.66700000000000004,0.66100000000000003,0.68300000000000005,0.64900000000000002,0.67100000000000004,0.64500000000000002,0.68700000000000006,0.67100000000000004,0.70599999999999996,0.70099999999999996,0.71299999999999997,0.74399999999999999,0.752,0.748,0.76900000000000002,0.78900000000000003,0.80800000000000005,0.81399999999999995,0.81100000000000005,0.82399999999999995,0.81899999999999995,0.81599999999999995,0.79900000000000004,0.82899999999999996]
[null,"02_2建設業鉱業",0.42399999999999999,0.40600000000000003,0.41399999999999998,0.36499999999999999,0.36399999999999999,0.33600000000000002,0.35,0.29699999999999999,0.29799999999999999,0.28499999999999998,0.28899999999999998,0.30399999999999999,0.29599999999999999,0.28299999999999997,0.30099999999999999,0.314,0.312,0.30399999999999999,0.28999999999999998,0.28399999999999997,0.26700000000000002,0.249,0.249,0.26600000000000001]
[null,"02_3農林水産業",5.8999999999999997E-2,4.9000000000000002E-2,5.8000000000000003E-2,5.2999999999999999E-2,5.6000000000000001E-2,5.5E-2,6.4000000000000001E-2,5.6000000000000001E-2,6.5000000000000002E-2,7.0999999999999994E-2,8.5000000000000006E-2,9.9000000000000005E-2,9.9000000000000005E-2,0.10299999999999999,0.11700000000000001,0.13500000000000001,0.14699999999999999,0.16200000000000001,0.16500000000000001,0.16300000000000001,0.17799999999999999,0.17899999999999999,0.186,0.16800000000000001]
[null,"02_4業務他",0.53200000000000003,0.51800000000000002,0.53600000000000003,0.49,0.497,0.47099999999999997,0.499,0.443,0.45100000000000001,0.443,0.46,0.49,0.48399999999999999,0.47299999999999998,0.496,0.51700000000000002,0.53200000000000003,0.54100000000000004,0.53800000000000003,0.53900000000000003,0.53700000000000003,0.53900000000000003,0.54300000000000004,0.48699999999999999]
[null,"02_5家庭",0.64,0.63300000000000001,0.65100000000000002,0.59899999999999998,0.64900000000000002,0.60599999999999998,0.621,0.57399999999999995,0.60899999999999999,0.58099999999999996,0.60599999999999998,0.66100000000000003,0.621,0.64100000000000001,0.66300000000000003,0.66800000000000004,0.72299999999999998,0.73,0.749,0.76200000000000001,0.749,0.74,0.73499999999999999,0.74199999999999999]
["大分県","01排出係数",4.37E-4,4.3199999999999998E-4,4.6799999999999999E-4,4.2400000000000001E-4,4.46E-4,4.44E-4,4.4299999999999998E-4,3.7100000000000002E-4,3.9399999999999998E-4,3.7199999999999999E-4,3.9399999999999998E-4,4.0099999999999999E-4,3.6099999999999999E-4,3.5399999999999999E-4,4.2499999999999998E-4,4.4000000000000002E-4,4.6500000000000003E-4,4.55E-4,4.6099999999999998E-4,4.7600000000000002E-4,4.4299999999999998E-4,4.4499999999999997E-4,4.5399999999999998E-4,4.44E-4]
[null,"02_1製造業",0.13700000000000001,0.17399999999999999,0.189,0.17299999999999999,0.17100000000000001,0.185,0.18,0.161,0.16800000000000001,0.17599999999999999,0.18,0.184,0.17299999999999999,0.17399999999999999,0.224,0.23499999999999999,0.24,0.23699999999999999,0.26500000000000001,0.23499999999999999,0.22,0.221,0.22500000000000001,0.23499999999999999]
[null,"02_2建設業鉱業",0.42299999999999999,0.40600000000000003,0.41699999999999998,0.36399999999999999,0.36599999999999999,0.33700000000000002,0.35299999999999998,0.29899999999999999,0.29899999999999999,0.28599999999999998,0.29099999999999998,0.309,0.29799999999999999,0.28199999999999997,0.29899999999999999,0.318,0.316,0.309,0.3,0.29699999999999999,0.28999999999999998,0.28199999999999997,0.28699999999999998,0.30599999999999999]
[null,"02_3農林水産業",4.2000000000000003E-2,4.1000000000000002E-2,4.7E-2,0.04,4.9000000000000002E-2,4.5999999999999999E-2,5.0999999999999997E-2,4.2999999999999997E-2,5.1999999999999998E-2,5.0999999999999997E-2,6.0999999999999999E-2,7.1999999999999995E-2,7.8E-2,7.9000000000000001E-2,8.7999999999999995E-2,9.5000000000000001E-2,0.104,0.114,0.114,0.111,0.122,0.127,0.128,0.114]
[null,"02_4業務他",0.53,0.52100000000000002,0.54100000000000004,0.496,0.50600000000000001,0.48099999999999998,0.501,0.44500000000000001,0.45400000000000001,0.443,0.45900000000000002,0.49,0.48399999999999999,0.47399999999999998,0.497,0.52,0.53500000000000003,0.54500000000000004,0.54,0.54100000000000004,0.53600000000000003,0.53800000000000003,0.54200000000000004,0.495]
[null,"02_5家庭",0.64,0.63100000000000001,0.64400000000000002,0.61099999999999999,0.64800000000000002,0.61,0.628,0.56999999999999995,0.59499999999999997,0.56799999999999995,0.59899999999999998,0.64100000000000001,0.61099999999999999,0.627,0.65200000000000002,0.66900000000000004,0.72599999999999998,0.74099999999999999,0.76,0.77500000000000002,0.78600000000000003,0.75,0.75600000000000001,0.76300000000000001]
["宮崎県","01排出係数",3.7599999999999998E-4,3.6299999999999999E-4,3.9800000000000002E-4,3.4900000000000003E-4,3.6900000000000002E-4,3.3199999999999999E-4,3.5500000000000001E-4,2.8800000000000001E-4,2.9300000000000002E-4,2.9599999999999998E-4,3.5799999999999997E-4,3.86E-4,3.6600000000000001E-4,3.4900000000000003E-4,3.6299999999999999E-4,3.7599999999999998E-4,4.2999999999999999E-4,4.57E-4,4.4799999999999999E-4,4.44E-4,4.6200000000000001E-4,5.9299999999999999E-4,6.9499999999999998E-4,6.9800000000000005E-4]
[null,"02_1製造業",0.56399999999999995,0.55400000000000005,0.58099999999999996,0.54800000000000004,0.59399999999999997,0.56699999999999995,0.60099999999999998,0.56499999999999995,0.60299999999999998,0.58099999999999996,0.59799999999999998,0.61599999999999999,0.60499999999999998,0.629,0.66,0.7,0.77800000000000002,0.81499999999999995,0.82499999999999996,0.82399999999999995,0.83,0.81100000000000005,0.78200000000000003,0.745]
[null,"02_2建設業鉱業",0.40600000000000003,0.39,0.40100000000000002,0.35099999999999998,0.35299999999999998,0.32400000000000001,0.33800000000000002,0.28299999999999997,0.28399999999999997,0.26900000000000002,0.27800000000000002,0.29599999999999999,0.28100000000000003,0.26500000000000001,0.27700000000000002,0.28799999999999998,0.28999999999999998,0.28299999999999997,0.26700000000000002,0.26200000000000001,0.27,0.33300000000000002,0.36799999999999999,0.38900000000000001]
[null,"02_3農林水産業",6.2E-2,6.0999999999999999E-2,6.8000000000000005E-2,6.0999999999999999E-2,6.7000000000000004E-2,5.8999999999999997E-2,6.9000000000000006E-2,0.06,6.7000000000000004E-2,6.8000000000000005E-2,0.08,9.9000000000000005E-2,0.10299999999999999,0.108,0.125,0.14000000000000001,0.14699999999999999,0.157,0.16400000000000001,0.16900000000000001,0.183,0.247,0.29299999999999998,0.26800000000000002]
[null,"02_4業務他",0.52200000000000002,0.51200000000000001,0.53,0.48499999999999999,0.49399999999999999,0.47,0.49299999999999999,0.438,0.44600000000000001,0.438,0.45400000000000001,0.48499999999999999,0.47599999999999998,0.46400000000000002,0.49,0.50900000000000001,0.52400000000000002,0.53200000000000003,0.53600000000000003,0.53500000000000003,0.55200000000000005,0.63700000000000001,0.68500000000000005,0.63800000000000001]
[null,"02_5家庭",0.63300000000000001,0.63500000000000001,0.64,0.59699999999999998,0.64300000000000002,0.60299999999999998,0.622,0.56299999999999994,0.58699999999999997,0.56499999999999995,0.58799999999999997,0.63700000000000001,0.6,0.61399999999999999,0.64,0.65400000000000003,0.70799999999999996,0.72,0.75800000000000001,0.77,0.79,0.82299999999999995,0.85,0.85499999999999998]
["鹿児島県","01排出係数",3.88E-4,3.7800000000000003E-4,4.1300000000000001E-4,3.48E-4,3.6600000000000001E-4,3.3199999999999999E-4,3.5799999999999997E-4,2.7999999999999998E-4,2.8800000000000001E-4,2.72E-4,2.8400000000000002E-4,3.1700000000000001E-4,3.0800000000000001E-4,2.9399999999999999E-4,3.19E-4,3.4900000000000003E-4,3.7100000000000002E-4,3.8000000000000002E-4,3.7100000000000002E-4,4.0200000000000001E-4,3.9899999999999999E-4,5.6599999999999999E-4,6.4700000000000001E-4,6.5200000000000002E-4]
[null,"02_1製造業",0.72299999999999998,0.70599999999999996,0.71099999999999997,0.65100000000000002,0.67600000000000005,0.65600000000000003,0.68400000000000005,0.623,0.68700000000000006,0.67900000000000005,0.70299999999999996,0.72499999999999998,0.72299999999999998,0.74199999999999999,0.78400000000000003,0.81899999999999995,0.85,0.86799999999999999,0.872,0.874,0.89400000000000002,0.92400000000000004,0.93799999999999994,0.93600000000000005]
[null,"02_2建設業鉱業",0.41599999999999998,0.39900000000000002,0.41,0.35799999999999998,0.35899999999999999,0.33,0.34300000000000003,0.28799999999999998,0.28999999999999998,0.27400000000000002,0.28000000000000003,0.29899999999999999,0.28799999999999998,0.27200000000000002,0.28599999999999998,0.3,0.3,0.29599999999999999,0.28100000000000003,0.27700000000000002,0.28899999999999998,0.35399999999999998,0.39600000000000002,0.41799999999999998]
[null,"02_3農林水産業",4.4999999999999998E-2,4.3999999999999997E-2,5.2999999999999999E-2,4.7E-2,5.0999999999999997E-2,4.5999999999999999E-2,5.3999999999999999E-2,4.4999999999999998E-2,0.05,5.2999999999999999E-2,6.5000000000000002E-2,7.0999999999999994E-2,7.4999999999999997E-2,7.6999999999999999E-2,8.6999999999999994E-2,9.9000000000000005E-2,0.108,0.113,0.11600000000000001,0.123,0.13800000000000001,0.189,0.22500000000000001,0.20399999999999999]
[null,"02_4業務他",0.53300000000000003,0.52500000000000002,0.54200000000000004,0.497,0.50600000000000001,0.48,0.504,0.44900000000000001,0.45800000000000002,0.44800000000000001,0.46500000000000002,0.496,0.48899999999999999,0.47799999999999998,0.5,0.52300000000000002,0.53800000000000003,0.54600000000000004,0.54100000000000004,0.54200000000000004,0.55700000000000005,0.64300000000000002,0.68400000000000005,0.64300000000000002]
[null,"02_5家庭",0.625,0.61699999999999999,0.625,0.58099999999999996,0.63,0.58199999999999996,0.6,0.55700000000000005,0.58699999999999997,0.55300000000000005,0.57999999999999996,0.63300000000000001,0.59499999999999997,0.61199999999999999,0.63500000000000001,0.66400000000000003,0.70399999999999996,0.72299999999999998,0.745,0.76800000000000002,0.79300000000000004,0.82799999999999996,0.85099999999999998,0.85599999999999998]
["沖縄県","01排出係数",7.7099999999999998E-4,7.5299999999999998E-4,7.5100000000000004E-4,7.5600000000000005E-4,7.9000000000000001E-4,8.0000000000000004E-4,8.0900000000000004E-4,8.0199999999999998E-4,8.0400000000000003E-4,8.0999999999999996E-4,8.0599999999999997E-4,8.1700000000000002E-4,8.1899999999999996E-4,8.5700000000000001E-4,8.8199999999999997E-4,8.92E-4,8.9999999999999998E-4,9.01E-4,9.1399999999999999E-4,1.0269999999999999E-3,9.1E-4,9.1200000000000005E-4,8.7200000000000005E-4,8.7500000000000002E-4]
[null,"02_1製造業",0.74199999999999999,0.68400000000000005,0.66900000000000004,0.65400000000000003,0.69,0.65900000000000003,0.71499999999999997,0.73599999999999999,0.752,0.76800000000000002,0.78200000000000003,0.77900000000000003,0.71199999999999997,0.78400000000000003,0.81599999999999995,0.83399999999999996,0.84299999999999997,0.84299999999999997,0.84399999999999997,0.88600000000000001,0.88500000000000001,0.90300000000000002,0.89,0.878]
[null,"02_2建設業鉱業",0.57499999999999996,0.56200000000000006,0.55000000000000004,0.54,0.54100000000000004,0.53700000000000003,0.53700000000000003,0.53200000000000003,0.52800000000000002,0.52500000000000002,0.52200000000000002,0.52,0.51900000000000002,0.52500000000000002,0.51900000000000002,0.51500000000000001,0.503,0.48799999999999999,0.47899999999999998,0.495,0.45400000000000001,0.443,0.42299999999999999,0.44500000000000001]
[null,"02_3農林水産業",9.7000000000000003E-2,9.6000000000000002E-2,9.9000000000000005E-2,0.104,0.115,0.121,0.13100000000000001,0.14199999999999999,0.159,0.17100000000000001,0.19400000000000001,0.21,0.22500000000000001,0.25,0.25800000000000001,0.27200000000000002,0.27800000000000002,0.28399999999999997,0.29899999999999999,0.32700000000000001,0.315,0.32,0.31900000000000001,0.29199999999999998]
[null,"02_4業務他",0.69,0.68500000000000005,0.68,0.67700000000000005,0.68300000000000005,0.68500000000000005,0.69099999999999995,0.69499999999999995,0.69799999999999995,0.70299999999999996,0.70699999999999996,0.71299999999999997,0.72,0.73199999999999998,0.73599999999999999,0.73899999999999999,0.74099999999999999,0.74399999999999999,0.749,0.76900000000000002,0.748,0.75,0.74399999999999999,0.70499999999999996]
[null,"02_5家庭",0.82899999999999996,0.84899999999999998,0.84499999999999997,0.84199999999999997,0.85899999999999999,0.85899999999999999,0.85399999999999998,0.85099999999999998,0.877,0.872,0.86399999999999999,0.89,0.88200000000000001,0.89100000000000001,0.88400000000000001,0.89700000000000002,0.89600000000000002,0.89500000000000002,0.90600000000000003,0.92,0.89700000000000002,0.89300000000000002,0.89700000000000002,0.9]