{"text_format":"1","workbook":"xlsx","n_sheets":5,"sheets":["シート2-2-2","係数表2-1","係数表2-2","係数表2-3","プルダウンデータリスト"],"not_rendered":{"charts":0,"images":1,"macros":1,"external_links":0,"defined_names":4,"comments":0,"pivot_tables":0},"unopened":[],"bounds":{"document_bytes":16777216,"sheet_cells":100000,"rows_first":2000,"rows_last":500,"rows_between":2000,"halvings":0,"cell_chars":16384,"cell_head_chars":4096},"cells_cut":0,"cells_raw":0,"read":"whole","date_system":"1900"}

{"sheet":"シート2-2-2","index":0,"n_rows":240,"n_cols":22,"rows_kept":240,"cut":false,"hidden":false,"merged":[[31,2,31,3],[12,2,12,3],[19,2,19,3],[20,2,20,3],[21,2,21,3],[22,2,22,3],[23,2,23,3],[24,2,24,3],[25,2,25,3],[26,2,26,3],[7,2,7,3],[8,2,8,3],[9,2,9,3],[10,2,10,3],[11,2,11,3],[32,0,32,1],[38,9,39,9],[38,10,39,10],[38,11,39,11],[38,0,39,0],[38,1,39,1],[38,3,39,3],[38,4,38,7],[38,2,39,2],[32,2,32,3],[33,2,33,3],[38,12,39,12],[12,0,12,1],[8,0,9,0],[10,0,11,0],[7,0,7,1],[38,8,39,8],[19,0,19,1],[20,0,20,1],[21,0,21,1],[22,0,22,1],[23,0,23,1],[33,0,33,1],[24,0,24,1],[25,0,25,1],[26,0,26,1],[31,0,31,1]]}
["○算定シート2-2-2（廃棄又は滅失した木材（個票））",null,null,null,null,null,null,null,null,null,null,null,null,null,null,null,null,null,null,null,null,"個票判別タグ"]
[null,null,null,null,null,null,null,null,null,null,null,null,null,null,null,null,null,null,null,null,null,"kguqlhorcpgjaluw"]
[]
["※（１）、（２）ア）、（２）イ）のいずれかの表に記入すること。"]
[]
["（１）過年度に炭素蓄積の量を報告している場合"]
[]
["名称"]
["減少した国産材使用量(㎥)","建築物その他の工作物"]
[null,"家具その他の物品"]
["減少した国産材使用量(kg)","建築物その他の工作物"]
[null,"家具その他の物品"]
["減少した炭素蓄積の量の小計(t-C)"]
[]
[]
["（２）過年度に炭素蓄積の量を報告していない場合であって、新築等した建築物その他の工作物の算定にあたり、"]
["      その土地に従前から自ら所有する建築物その他の工作物の解体等により減少した炭素蓄積の量を報告する場合"]
["　ア）国産材使用量が不明な場合"]
[]
["名称"]
["所在地"]
["建築年度"]
["住宅/非住宅の別"]
["構造の区分"]
["延床面積(㎡)"]
["単位床面積当たりの減少した炭素蓄積の量(t-C)",null,{"$f":"IFERROR(_xlfn.XLOOKUP('シート2-2-2'!C22&'シート2-2-2'!C23&'シート2-2-2'!C24,プルダウンデータリスト!AI2:AI5211&プルダウンデータリスト!AJ2:AJ5211&プルダウンデータリスト!AK2:AK5211,プルダウンデータリスト!AL2:AL5211),\"-\")","v":"-"}]
["減少した炭素蓄積の量の小計(t-C)",null,{"$f":"IFERROR(-1*ABS(C26*C25),\"-\")","v":"-"}]
[]
[]
["　イ）国産材使用量が既知の場合"]
[]
["名称"]
["所在地"]
["減少した炭素蓄積の量の小計(t-C)",null,{"$f":"-1*ABS(SUM(L41:L240))","v":0}]
[]
["（備考）"]
["※下表について、各行、材積又は重量のいずれかの欄に入力すること。"]
[]
["通し番号","部品、製品名等","数量","区分(製材・合板・木質ボード)","国産材使用量(数量1当たり)",null,null,null,"国産材使用量小計(㎥)","国産材使用量小計(kg)","木材の炭素含有率","炭素蓄積の量(t-C)","備考"]
[null,null,null,null,"材積(㎥)","樹種","木材の密度(t/㎥)","重量(kg)"]
[1,null,null,null,null,null,{"$f":"IF($D41=\"\",\"-\",IF($E41=\"\",\"-\",IF($D41=\"製材（製材・集成材・ＣＬＴ等）\",IF($F41=\"\",\"-\",_xlfn.XLOOKUP('シート2-2-2'!$F41,プルダウンデータリスト!$AC$2:$AC$65,プルダウンデータリスト!$AD$2:$AD$65)),_xlfn.XLOOKUP('シート2-2-2'!$D41,プルダウンデータリスト!$V$3:$V$9,プルダウンデータリスト!$W$3:$W$9,))))","v":"-"},null,{"$f":"IF(E41=\"\",\"-\",E41*C41)","v":"-"},{"$f":"IF(H41=\"\",\"-\",H41*C41)","v":"-"},{"$f":"IF(D41=\"\",\"-\",_xlfn.XLOOKUP(D41,プルダウンデータリスト!$V$2:$V$9,プルダウンデータリスト!$X$2:$X$9,\"-\"))","v":"-"},{"$f":"IFERROR(IF(LEN(E41)>0,I41*G41*K41,IF(LEN(H41)>0,J41*K41/1000,\"-\")),\"-\")","v":"-"}]
[2,null,null,null,null,null,{"$f":"IF($D42=\"\",\"-\",IF($E42=\"\",\"-\",IF($D42=\"製材（製材・集成材・ＣＬＴ等）\",IF($F42=\"\",\"-\",_xlfn.XLOOKUP('シート2-2-2'!$F42,プルダウンデータリスト!$AC$2:$AC$65,プルダウンデータリスト!$AD$2:$AD$65)),_xlfn.XLOOKUP('シート2-2-2'!$D42,プルダウンデータリスト!$V$3:$V$9,プルダウンデータリスト!$W$3:$W$9,))))","v":"-"},null,"-","-",{"$f":"IF(D42=\"\",\"-\",_xlfn.XLOOKUP(D42,プルダウンデータリスト!$V$2:$V$9,プルダウンデータリスト!$X$2:$X$9,\"-\"))","v":"-"},{"$f":"IFERROR(IF(LEN(E42)>0,I42*G42*K42,IF(LEN(H42)>0,J42*K42/1000,\"-\")),\"-\")","v":"-"}]
[3,null,null,null,null,null,{"$f":"IF($D43=\"\",\"-\",IF($E43=\"\",\"-\",IF($D43=\"製材（製材・集成材・ＣＬＴ等）\",IF($F43=\"\",\"-\",_xlfn.XLOOKUP('シート2-2-2'!$F43,プルダウンデータリスト!$AC$2:$AC$65,プルダウンデータリスト!$AD$2:$AD$65)),_xlfn.XLOOKUP('シート2-2-2'!$D43,プルダウンデータリスト!$V$3:$V$9,プルダウンデータリスト!$W$3:$W$9,))))","v":"-"},null,"-","-",{"$f":"IF(D43=\"\",\"-\",_xlfn.XLOOKUP(D43,プルダウンデータリスト!$V$2:$V$9,プルダウンデータリスト!$X$2:$X$9,\"-\"))","v":"-"},"-"]
[4,null,null,null,null,null,{"$f":"IF($D44=\"\",\"-\",IF($E44=\"\",\"-\",IF($D44=\"製材（製材・集成材・ＣＬＴ等）\",IF($F44=\"\",\"-\",_xlfn.XLOOKUP('シート2-2-2'!$F44,プルダウンデータリスト!$AC$2:$AC$65,プルダウンデータリスト!$AD$2:$AD$65)),_xlfn.XLOOKUP('シート2-2-2'!$D44,プルダウンデータリスト!$V$3:$V$9,プルダウンデータリスト!$W$3:$W$9,))))","v":"-"},null,"-","-",{"$f":"IF(D44=\"\",\"-\",_xlfn.XLOOKUP(D44,プルダウンデータリスト!$V$2:$V$9,プルダウンデータリスト!$X$2:$X$9,\"-\"))","v":"-"},"-"]
[5,null,null,null,null,null,{"$f":"IF($D45=\"\",\"-\",IF($E45=\"\",\"-\",IF($D45=\"製材（製材・集成材・ＣＬＴ等）\",IF($F45=\"\",\"-\",_xlfn.XLOOKUP('シート2-2-2'!$F45,プルダウンデータリスト!$AC$2:$AC$65,プルダウンデータリスト!$AD$2:$AD$65)),_xlfn.XLOOKUP('シート2-2-2'!$D45,プルダウンデータリスト!$V$3:$V$9,プルダウンデータリスト!$W$3:$W$9,))))","v":"-"},null,"-","-",{"$f":"IF(D45=\"\",\"-\",_xlfn.XLOOKUP(D45,プルダウンデータリスト!$V$2:$V$9,プルダウンデータリスト!$X$2:$X$9,\"-\"))","v":"-"},"-"]
[6,null,null,null,null,null,{"$f":"IF($D46=\"\",\"-\",IF($E46=\"\",\"-\",IF($D46=\"製材（製材・集成材・ＣＬＴ等）\",IF($F46=\"\",\"-\",_xlfn.XLOOKUP('シート2-2-2'!$F46,プルダウンデータリスト!$AC$2:$AC$65,プルダウンデータリスト!$AD$2:$AD$65)),_xlfn.XLOOKUP('シート2-2-2'!$D46,プルダウンデータリスト!$V$3:$V$9,プルダウンデータリスト!$W$3:$W$9,))))","v":"-"},null,"-","-",{"$f":"IF(D46=\"\",\"-\",_xlfn.XLOOKUP(D46,プルダウンデータリスト!$V$2:$V$9,プルダウンデータリスト!$X$2:$X$9,\"-\"))","v":"-"},"-"]
[7,null,null,null,null,null,{"$f":"IF($D47=\"\",\"-\",IF($E47=\"\",\"-\",IF($D47=\"製材（製材・集成材・ＣＬＴ等）\",IF($F47=\"\",\"-\",_xlfn.XLOOKUP('シート2-2-2'!$F47,プルダウンデータリスト!$AC$2:$AC$65,プルダウンデータリスト!$AD$2:$AD$65)),_xlfn.XLOOKUP('シート2-2-2'!$D47,プルダウンデータリスト!$V$3:$V$9,プルダウンデータリスト!$W$3:$W$9,))))","v":"-"},null,"-","-",{"$f":"IF(D47=\"\",\"-\",_xlfn.XLOOKUP(D47,プルダウンデータリスト!$V$2:$V$9,プルダウンデータリスト!$X$2:$X$9,\"-\"))","v":"-"},"-"]
[8,null,null,null,null,null,{"$f":"IF($D48=\"\",\"-\",IF($E48=\"\",\"-\",IF($D48=\"製材（製材・集成材・ＣＬＴ等）\",IF($F48=\"\",\"-\",_xlfn.XLOOKUP('シート2-2-2'!$F48,プルダウンデータリスト!$AC$2:$AC$65,プルダウンデータリスト!$AD$2:$AD$65)),_xlfn.XLOOKUP('シート2-2-2'!$D48,プルダウンデータリスト!$V$3:$V$9,プルダウンデータリスト!$W$3:$W$9,))))","v":"-"},null,"-","-",{"$f":"IF(D48=\"\",\"-\",_xlfn.XLOOKUP(D48,プルダウンデータリスト!$V$2:$V$9,プルダウンデータリスト!$X$2:$X$9,\"-\"))","v":"-"},"-"]
[9,null,null,null,null,null,{"$f":"IF($D49=\"\",\"-\",IF($E49=\"\",\"-\",IF($D49=\"製材（製材・集成材・ＣＬＴ等）\",IF($F49=\"\",\"-\",_xlfn.XLOOKUP('シート2-2-2'!$F49,プルダウンデータリスト!$AC$2:$AC$65,プルダウンデータリスト!$AD$2:$AD$65)),_xlfn.XLOOKUP('シート2-2-2'!$D49,プルダウンデータリスト!$V$3:$V$9,プルダウンデータリスト!$W$3:$W$9,))))","v":"-"},null,"-","-",{"$f":"IF(D49=\"\",\"-\",_xlfn.XLOOKUP(D49,プルダウンデータリスト!$V$2:$V$9,プルダウンデータリスト!$X$2:$X$9,\"-\"))","v":"-"},"-"]
[10,null,null,null,null,null,{"$f":"IF($D50=\"\",\"-\",IF($E50=\"\",\"-\",IF($D50=\"製材（製材・集成材・ＣＬＴ等）\",IF($F50=\"\",\"-\",_xlfn.XLOOKUP('シート2-2-2'!$F50,プルダウンデータリスト!$AC$2:$AC$65,プルダウンデータリスト!$AD$2:$AD$65)),_xlfn.XLOOKUP('シート2-2-2'!$D50,プルダウンデータリスト!$V$3:$V$9,プルダウンデータリスト!$W$3:$W$9,))))","v":"-"},null,"-","-",{"$f":"IF(D50=\"\",\"-\",_xlfn.XLOOKUP(D50,プルダウンデータリスト!$V$2:$V$9,プルダウンデータリスト!$X$2:$X$9,\"-\"))","v":"-"},"-"]
[11,null,null,null,null,null,{"$f":"IF($D51=\"\",\"-\",IF($E51=\"\",\"-\",IF($D51=\"製材（製材・集成材・ＣＬＴ等）\",IF($F51=\"\",\"-\",_xlfn.XLOOKUP('シート2-2-2'!$F51,プルダウンデータリスト!$AC$2:$AC$65,プルダウンデータリスト!$AD$2:$AD$65)),_xlfn.XLOOKUP('シート2-2-2'!$D51,プルダウンデータリスト!$V$3:$V$9,プルダウンデータリスト!$W$3:$W$9,))))","v":"-"},null,"-","-",{"$f":"IF(D51=\"\",\"-\",_xlfn.XLOOKUP(D51,プルダウンデータリスト!$V$2:$V$9,プルダウンデータリスト!$X$2:$X$9,\"-\"))","v":"-"},"-"]
[12,null,null,null,null,null,{"$f":"IF($D52=\"\",\"-\",IF($E52=\"\",\"-\",IF($D52=\"製材（製材・集成材・ＣＬＴ等）\",IF($F52=\"\",\"-\",_xlfn.XLOOKUP('シート2-2-2'!$F52,プルダウンデータリスト!$AC$2:$AC$65,プルダウンデータリスト!$AD$2:$AD$65)),_xlfn.XLOOKUP('シート2-2-2'!$D52,プルダウンデータリスト!$V$3:$V$9,プルダウンデータリスト!$W$3:$W$9,))))","v":"-"},null,"-","-",{"$f":"IF(D52=\"\",\"-\",_xlfn.XLOOKUP(D52,プルダウンデータリスト!$V$2:$V$9,プルダウンデータリスト!$X$2:$X$9,\"-\"))","v":"-"},"-"]
[13,null,null,null,null,null,{"$f":"IF($D53=\"\",\"-\",IF($E53=\"\",\"-\",IF($D53=\"製材（製材・集成材・ＣＬＴ等）\",IF($F53=\"\",\"-\",_xlfn.XLOOKUP('シート2-2-2'!$F53,プルダウンデータリスト!$AC$2:$AC$65,プルダウンデータリスト!$AD$2:$AD$65)),_xlfn.XLOOKUP('シート2-2-2'!$D53,プルダウンデータリスト!$V$3:$V$9,プルダウンデータリスト!$W$3:$W$9,))))","v":"-"},null,"-","-",{"$f":"IF(D53=\"\",\"-\",_xlfn.XLOOKUP(D53,プルダウンデータリスト!$V$2:$V$9,プルダウンデータリスト!$X$2:$X$9,\"-\"))","v":"-"},"-"]
[14,null,null,null,null,null,{"$f":"IF($D54=\"\",\"-\",IF($E54=\"\",\"-\",IF($D54=\"製材（製材・集成材・ＣＬＴ等）\",IF($F54=\"\",\"-\",_xlfn.XLOOKUP('シート2-2-2'!$F54,プルダウンデータリスト!$AC$2:$AC$65,プルダウンデータリスト!$AD$2:$AD$65)),_xlfn.XLOOKUP('シート2-2-2'!$D54,プルダウンデータリスト!$V$3:$V$9,プルダウンデータリスト!$W$3:$W$9,))))","v":"-"},null,"-","-",{"$f":"IF(D54=\"\",\"-\",_xlfn.XLOOKUP(D54,プルダウンデータリスト!$V$2:$V$9,プルダウンデータリスト!$X$2:$X$9,\"-\"))","v":"-"},"-"]
[15,null,null,null,null,null,{"$f":"IF($D55=\"\",\"-\",IF($E55=\"\",\"-\",IF($D55=\"製材（製材・集成材・ＣＬＴ等）\",IF($F55=\"\",\"-\",_xlfn.XLOOKUP('シート2-2-2'!$F55,プルダウンデータリスト!$AC$2:$AC$65,プルダウンデータリスト!$AD$2:$AD$65)),_xlfn.XLOOKUP('シート2-2-2'!$D55,プルダウンデータリスト!$V$3:$V$9,プルダウンデータリスト!$W$3:$W$9,))))","v":"-"},null,"-","-",{"$f":"IF(D55=\"\",\"-\",_xlfn.XLOOKUP(D55,プルダウンデータリスト!$V$2:$V$9,プルダウンデータリスト!$X$2:$X$9,\"-\"))","v":"-"},"-"]
[16,null,null,null,null,null,{"$f":"IF($D56=\"\",\"-\",IF($E56=\"\",\"-\",IF($D56=\"製材（製材・集成材・ＣＬＴ等）\",IF($F56=\"\",\"-\",_xlfn.XLOOKUP('シート2-2-2'!$F56,プルダウンデータリスト!$AC$2:$AC$65,プルダウンデータリスト!$AD$2:$AD$65)),_xlfn.XLOOKUP('シート2-2-2'!$D56,プルダウンデータリスト!$V$3:$V$9,プルダウンデータリスト!$W$3:$W$9,))))","v":"-"},null,"-","-",{"$f":"IF(D56=\"\",\"-\",_xlfn.XLOOKUP(D56,プルダウンデータリスト!$V$2:$V$9,プルダウンデータリスト!$X$2:$X$9,\"-\"))","v":"-"},"-"]
[17,null,null,null,null,null,{"$f":"IF($D57=\"\",\"-\",IF($E57=\"\",\"-\",IF($D57=\"製材（製材・集成材・ＣＬＴ等）\",IF($F57=\"\",\"-\",_xlfn.XLOOKUP('シート2-2-2'!$F57,プルダウンデータリスト!$AC$2:$AC$65,プルダウンデータリスト!$AD$2:$AD$65)),_xlfn.XLOOKUP('シート2-2-2'!$D57,プルダウンデータリスト!$V$3:$V$9,プルダウンデータリスト!$W$3:$W$9,))))","v":"-"},null,"-","-",{"$f":"IF(D57=\"\",\"-\",_xlfn.XLOOKUP(D57,プルダウンデータリスト!$V$2:$V$9,プルダウンデータリスト!$X$2:$X$9,\"-\"))","v":"-"},"-"]
[18,null,null,null,null,null,{"$f":"IF($D58=\"\",\"-\",IF($E58=\"\",\"-\",IF($D58=\"製材（製材・集成材・ＣＬＴ等）\",IF($F58=\"\",\"-\",_xlfn.XLOOKUP('シート2-2-2'!$F58,プルダウンデータリスト!$AC$2:$AC$65,プルダウンデータリスト!$AD$2:$AD$65)),_xlfn.XLOOKUP('シート2-2-2'!$D58,プルダウンデータリスト!$V$3:$V$9,プルダウンデータリスト!$W$3:$W$9,))))","v":"-"},null,"-","-",{"$f":"IF(D58=\"\",\"-\",_xlfn.XLOOKUP(D58,プルダウンデータリスト!$V$2:$V$9,プルダウンデータリスト!$X$2:$X$9,\"-\"))","v":"-"},"-"]
[19,null,null,null,null,null,{"$f":"IF($D59=\"\",\"-\",IF($E59=\"\",\"-\",IF($D59=\"製材（製材・集成材・ＣＬＴ等）\",IF($F59=\"\",\"-\",_xlfn.XLOOKUP('シート2-2-2'!$F59,プルダウンデータリスト!$AC$2:$AC$65,プルダウンデータリスト!$AD$2:$AD$65)),_xlfn.XLOOKUP('シート2-2-2'!$D59,プルダウンデータリスト!$V$3:$V$9,プルダウンデータリスト!$W$3:$W$9,))))","v":"-"},null,"-","-",{"$f":"IF(D59=\"\",\"-\",_xlfn.XLOOKUP(D59,プルダウンデータリスト!$V$2:$V$9,プルダウンデータリスト!$X$2:$X$9,\"-\"))","v":"-"},"-"]
[20,null,null,null,null,null,{"$f":"IF($D60=\"\",\"-\",IF($E60=\"\",\"-\",IF($D60=\"製材（製材・集成材・ＣＬＴ等）\",IF($F60=\"\",\"-\",_xlfn.XLOOKUP('シート2-2-2'!$F60,プルダウンデータリスト!$AC$2:$AC$65,プルダウンデータリスト!$AD$2:$AD$65)),_xlfn.XLOOKUP('シート2-2-2'!$D60,プルダウンデータリスト!$V$3:$V$9,プルダウンデータリスト!$W$3:$W$9,))))","v":"-"},null,"-","-",{"$f":"IF(D60=\"\",\"-\",_xlfn.XLOOKUP(D60,プルダウンデータリスト!$V$2:$V$9,プルダウンデータリスト!$X$2:$X$9,\"-\"))","v":"-"},"-"]
[21,null,null,null,null,null,{"$f":"IF($D61=\"\",\"-\",IF($E61=\"\",\"-\",IF($D61=\"製材（製材・集成材・ＣＬＴ等）\",IF($F61=\"\",\"-\",_xlfn.XLOOKUP('シート2-2-2'!$F61,プルダウンデータリスト!$AC$2:$AC$65,プルダウンデータリスト!$AD$2:$AD$65)),_xlfn.XLOOKUP('シート2-2-2'!$D61,プルダウンデータリスト!$V$3:$V$9,プルダウンデータリスト!$W$3:$W$9,))))","v":"-"},null,"-","-",{"$f":"IF(D61=\"\",\"-\",_xlfn.XLOOKUP(D61,プルダウンデータリスト!$V$2:$V$9,プルダウンデータリスト!$X$2:$X$9,\"-\"))","v":"-"},"-"]
[22,null,null,null,null,null,{"$f":"IF($D62=\"\",\"-\",IF($E62=\"\",\"-\",IF($D62=\"製材（製材・集成材・ＣＬＴ等）\",IF($F62=\"\",\"-\",_xlfn.XLOOKUP('シート2-2-2'!$F62,プルダウンデータリスト!$AC$2:$AC$65,プルダウンデータリスト!$AD$2:$AD$65)),_xlfn.XLOOKUP('シート2-2-2'!$D62,プルダウンデータリスト!$V$3:$V$9,プルダウンデータリスト!$W$3:$W$9,))))","v":"-"},null,"-","-",{"$f":"IF(D62=\"\",\"-\",_xlfn.XLOOKUP(D62,プルダウンデータリスト!$V$2:$V$9,プルダウンデータリスト!$X$2:$X$9,\"-\"))","v":"-"},"-"]
[23,null,null,null,null,null,{"$f":"IF($D63=\"\",\"-\",IF($E63=\"\",\"-\",IF($D63=\"製材（製材・集成材・ＣＬＴ等）\",IF($F63=\"\",\"-\",_xlfn.XLOOKUP('シート2-2-2'!$F63,プルダウンデータリスト!$AC$2:$AC$65,プルダウンデータリスト!$AD$2:$AD$65)),_xlfn.XLOOKUP('シート2-2-2'!$D63,プルダウンデータリスト!$V$3:$V$9,プルダウンデータリスト!$W$3:$W$9,))))","v":"-"},null,"-","-",{"$f":"IF(D63=\"\",\"-\",_xlfn.XLOOKUP(D63,プルダウンデータリスト!$V$2:$V$9,プルダウンデータリスト!$X$2:$X$9,\"-\"))","v":"-"},"-"]
[24,null,null,null,null,null,{"$f":"IF($D64=\"\",\"-\",IF($E64=\"\",\"-\",IF($D64=\"製材（製材・集成材・ＣＬＴ等）\",IF($F64=\"\",\"-\",_xlfn.XLOOKUP('シート2-2-2'!$F64,プルダウンデータリスト!$AC$2:$AC$65,プルダウンデータリスト!$AD$2:$AD$65)),_xlfn.XLOOKUP('シート2-2-2'!$D64,プルダウンデータリスト!$V$3:$V$9,プルダウンデータリスト!$W$3:$W$9,))))","v":"-"},null,"-","-",{"$f":"IF(D64=\"\",\"-\",_xlfn.XLOOKUP(D64,プルダウンデータリスト!$V$2:$V$9,プルダウンデータリスト!$X$2:$X$9,\"-\"))","v":"-"},"-"]
[25,null,null,null,null,null,{"$f":"IF($D65=\"\",\"-\",IF($E65=\"\",\"-\",IF($D65=\"製材（製材・集成材・ＣＬＴ等）\",IF($F65=\"\",\"-\",_xlfn.XLOOKUP('シート2-2-2'!$F65,プルダウンデータリスト!$AC$2:$AC$65,プルダウンデータリスト!$AD$2:$AD$65)),_xlfn.XLOOKUP('シート2-2-2'!$D65,プルダウンデータリスト!$V$3:$V$9,プルダウンデータリスト!$W$3:$W$9,))))","v":"-"},null,"-","-",{"$f":"IF(D65=\"\",\"-\",_xlfn.XLOOKUP(D65,プルダウンデータリスト!$V$2:$V$9,プルダウンデータリスト!$X$2:$X$9,\"-\"))","v":"-"},"-"]
[26,null,null,null,null,null,{"$f":"IF($D66=\"\",\"-\",IF($E66=\"\",\"-\",IF($D66=\"製材（製材・集成材・ＣＬＴ等）\",IF($F66=\"\",\"-\",_xlfn.XLOOKUP('シート2-2-2'!$F66,プルダウンデータリスト!$AC$2:$AC$65,プルダウンデータリスト!$AD$2:$AD$65)),_xlfn.XLOOKUP('シート2-2-2'!$D66,プルダウンデータリスト!$V$3:$V$9,プルダウンデータリスト!$W$3:$W$9,))))","v":"-"},null,"-","-",{"$f":"IF(D66=\"\",\"-\",_xlfn.XLOOKUP(D66,プルダウンデータリスト!$V$2:$V$9,プルダウンデータリスト!$X$2:$X$9,\"-\"))","v":"-"},"-"]
[27,null,null,null,null,null,{"$f":"IF($D67=\"\",\"-\",IF($E67=\"\",\"-\",IF($D67=\"製材（製材・集成材・ＣＬＴ等）\",IF($F67=\"\",\"-\",_xlfn.XLOOKUP('シート2-2-2'!$F67,プルダウンデータリスト!$AC$2:$AC$65,プルダウンデータリスト!$AD$2:$AD$65)),_xlfn.XLOOKUP('シート2-2-2'!$D67,プルダウンデータリスト!$V$3:$V$9,プルダウンデータリスト!$W$3:$W$9,))))","v":"-"},null,"-","-",{"$f":"IF(D67=\"\",\"-\",_xlfn.XLOOKUP(D67,プルダウンデータリスト!$V$2:$V$9,プルダウンデータリスト!$X$2:$X$9,\"-\"))","v":"-"},"-"]
[28,null,null,null,null,null,{"$f":"IF($D68=\"\",\"-\",IF($E68=\"\",\"-\",IF($D68=\"製材（製材・集成材・ＣＬＴ等）\",IF($F68=\"\",\"-\",_xlfn.XLOOKUP('シート2-2-2'!$F68,プルダウンデータリスト!$AC$2:$AC$65,プルダウンデータリスト!$AD$2:$AD$65)),_xlfn.XLOOKUP('シート2-2-2'!$D68,プルダウンデータリスト!$V$3:$V$9,プルダウンデータリスト!$W$3:$W$9,))))","v":"-"},null,"-","-",{"$f":"IF(D68=\"\",\"-\",_xlfn.XLOOKUP(D68,プルダウンデータリスト!$V$2:$V$9,プルダウンデータリスト!$X$2:$X$9,\"-\"))","v":"-"},"-"]
[29,null,null,null,null,null,{"$f":"IF($D69=\"\",\"-\",IF($E69=\"\",\"-\",IF($D69=\"製材（製材・集成材・ＣＬＴ等）\",IF($F69=\"\",\"-\",_xlfn.XLOOKUP('シート2-2-2'!$F69,プルダウンデータリスト!$AC$2:$AC$65,プルダウンデータリスト!$AD$2:$AD$65)),_xlfn.XLOOKUP('シート2-2-2'!$D69,プルダウンデータリスト!$V$3:$V$9,プルダウンデータリスト!$W$3:$W$9,))))","v":"-"},null,"-","-",{"$f":"IF(D69=\"\",\"-\",_xlfn.XLOOKUP(D69,プルダウンデータリスト!$V$2:$V$9,プルダウンデータリスト!$X$2:$X$9,\"-\"))","v":"-"},"-"]
[30,null,null,null,null,null,{"$f":"IF($D70=\"\",\"-\",IF($E70=\"\",\"-\",IF($D70=\"製材（製材・集成材・ＣＬＴ等）\",IF($F70=\"\",\"-\",_xlfn.XLOOKUP('シート2-2-2'!$F70,プルダウンデータリスト!$AC$2:$AC$65,プルダウンデータリスト!$AD$2:$AD$65)),_xlfn.XLOOKUP('シート2-2-2'!$D70,プルダウンデータリスト!$V$3:$V$9,プルダウンデータリスト!$W$3:$W$9,))))","v":"-"},null,"-","-",{"$f":"IF(D70=\"\",\"-\",_xlfn.XLOOKUP(D70,プルダウンデータリスト!$V$2:$V$9,プルダウンデータリスト!$X$2:$X$9,\"-\"))","v":"-"},"-"]
[31,null,null,null,null,null,{"$f":"IF($D71=\"\",\"-\",IF($E71=\"\",\"-\",IF($D71=\"製材（製材・集成材・ＣＬＴ等）\",IF($F71=\"\",\"-\",_xlfn.XLOOKUP('シート2-2-2'!$F71,プルダウンデータリスト!$AC$2:$AC$65,プルダウンデータリスト!$AD$2:$AD$65)),_xlfn.XLOOKUP('シート2-2-2'!$D71,プルダウンデータリスト!$V$3:$V$9,プルダウンデータリスト!$W$3:$W$9,))))","v":"-"},null,"-","-",{"$f":"IF(D71=\"\",\"-\",_xlfn.XLOOKUP(D71,プルダウンデータリスト!$V$2:$V$9,プルダウンデータリスト!$X$2:$X$9,\"-\"))","v":"-"},"-"]
[32,null,null,null,null,null,{"$f":"IF($D72=\"\",\"-\",IF($E72=\"\",\"-\",IF($D72=\"製材（製材・集成材・ＣＬＴ等）\",IF($F72=\"\",\"-\",_xlfn.XLOOKUP('シート2-2-2'!$F72,プルダウンデータリスト!$AC$2:$AC$65,プルダウンデータリスト!$AD$2:$AD$65)),_xlfn.XLOOKUP('シート2-2-2'!$D72,プルダウンデータリスト!$V$3:$V$9,プルダウンデータリスト!$W$3:$W$9,))))","v":"-"},null,"-","-",{"$f":"IF(D72=\"\",\"-\",_xlfn.XLOOKUP(D72,プルダウンデータリスト!$V$2:$V$9,プルダウンデータリスト!$X$2:$X$9,\"-\"))","v":"-"},"-"]
[33,null,null,null,null,null,{"$f":"IF($D73=\"\",\"-\",IF($E73=\"\",\"-\",IF($D73=\"製材（製材・集成材・ＣＬＴ等）\",IF($F73=\"\",\"-\",_xlfn.XLOOKUP('シート2-2-2'!$F73,プルダウンデータリスト!$AC$2:$AC$65,プルダウンデータリスト!$AD$2:$AD$65)),_xlfn.XLOOKUP('シート2-2-2'!$D73,プルダウンデータリスト!$V$3:$V$9,プルダウンデータリスト!$W$3:$W$9,))))","v":"-"},null,{"$f":"IF(E73=\"\",\"-\",E73*C73)","v":"-"},{"$f":"IF(H73=\"\",\"-\",H73*C73)","v":"-"},{"$f":"IF(D73=\"\",\"-\",_xlfn.XLOOKUP(D73,プルダウンデータリスト!$V$2:$V$9,プルダウンデータリスト!$X$2:$X$9,\"-\"))","v":"-"},"-"]
[34,null,null,null,null,null,{"$f":"IF($D74=\"\",\"-\",IF($E74=\"\",\"-\",IF($D74=\"製材（製材・集成材・ＣＬＴ等）\",IF($F74=\"\",\"-\",_xlfn.XLOOKUP('シート2-2-2'!$F74,プルダウンデータリスト!$AC$2:$AC$65,プルダウンデータリスト!$AD$2:$AD$65)),_xlfn.XLOOKUP('シート2-2-2'!$D74,プルダウンデータリスト!$V$3:$V$9,プルダウンデータリスト!$W$3:$W$9,))))","v":"-"},null,"-","-",{"$f":"IF(D74=\"\",\"-\",_xlfn.XLOOKUP(D74,プルダウンデータリスト!$V$2:$V$9,プルダウンデータリスト!$X$2:$X$9,\"-\"))","v":"-"},"-"]
[35,null,null,null,null,null,{"$f":"IF($D75=\"\",\"-\",IF($E75=\"\",\"-\",IF($D75=\"製材（製材・集成材・ＣＬＴ等）\",IF($F75=\"\",\"-\",_xlfn.XLOOKUP('シート2-2-2'!$F75,プルダウンデータリスト!$AC$2:$AC$65,プルダウンデータリスト!$AD$2:$AD$65)),_xlfn.XLOOKUP('シート2-2-2'!$D75,プルダウンデータリスト!$V$3:$V$9,プルダウンデータリスト!$W$3:$W$9,))))","v":"-"},null,"-","-",{"$f":"IF(D75=\"\",\"-\",_xlfn.XLOOKUP(D75,プルダウンデータリスト!$V$2:$V$9,プルダウンデータリスト!$X$2:$X$9,\"-\"))","v":"-"},"-"]
[36,null,null,null,null,null,{"$f":"IF($D76=\"\",\"-\",IF($E76=\"\",\"-\",IF($D76=\"製材（製材・集成材・ＣＬＴ等）\",IF($F76=\"\",\"-\",_xlfn.XLOOKUP('シート2-2-2'!$F76,プルダウンデータリスト!$AC$2:$AC$65,プルダウンデータリスト!$AD$2:$AD$65)),_xlfn.XLOOKUP('シート2-2-2'!$D76,プルダウンデータリスト!$V$3:$V$9,プルダウンデータリスト!$W$3:$W$9,))))","v":"-"},null,"-","-",{"$f":"IF(D76=\"\",\"-\",_xlfn.XLOOKUP(D76,プルダウンデータリスト!$V$2:$V$9,プルダウンデータリスト!$X$2:$X$9,\"-\"))","v":"-"},"-"]
[37,null,null,null,null,null,{"$f":"IF($D77=\"\",\"-\",IF($E77=\"\",\"-\",IF($D77=\"製材（製材・集成材・ＣＬＴ等）\",IF($F77=\"\",\"-\",_xlfn.XLOOKUP('シート2-2-2'!$F77,プルダウンデータリスト!$AC$2:$AC$65,プルダウンデータリスト!$AD$2:$AD$65)),_xlfn.XLOOKUP('シート2-2-2'!$D77,プルダウンデータリスト!$V$3:$V$9,プルダウンデータリスト!$W$3:$W$9,))))","v":"-"},null,"-","-",{"$f":"IF(D77=\"\",\"-\",_xlfn.XLOOKUP(D77,プルダウンデータリスト!$V$2:$V$9,プルダウンデータリスト!$X$2:$X$9,\"-\"))","v":"-"},"-"]
[38,null,null,null,null,null,{"$f":"IF($D78=\"\",\"-\",IF($E78=\"\",\"-\",IF($D78=\"製材（製材・集成材・ＣＬＴ等）\",IF($F78=\"\",\"-\",_xlfn.XLOOKUP('シート2-2-2'!$F78,プルダウンデータリスト!$AC$2:$AC$65,プルダウンデータリスト!$AD$2:$AD$65)),_xlfn.XLOOKUP('シート2-2-2'!$D78,プルダウンデータリスト!$V$3:$V$9,プルダウンデータリスト!$W$3:$W$9,))))","v":"-"},null,"-","-",{"$f":"IF(D78=\"\",\"-\",_xlfn.XLOOKUP(D78,プルダウンデータリスト!$V$2:$V$9,プルダウンデータリスト!$X$2:$X$9,\"-\"))","v":"-"},"-"]
[39,null,null,null,null,null,{"$f":"IF($D79=\"\",\"-\",IF($E79=\"\",\"-\",IF($D79=\"製材（製材・集成材・ＣＬＴ等）\",IF($F79=\"\",\"-\",_xlfn.XLOOKUP('シート2-2-2'!$F79,プルダウンデータリスト!$AC$2:$AC$65,プルダウンデータリスト!$AD$2:$AD$65)),_xlfn.XLOOKUP('シート2-2-2'!$D79,プルダウンデータリスト!$V$3:$V$9,プルダウンデータリスト!$W$3:$W$9,))))","v":"-"},null,"-","-",{"$f":"IF(D79=\"\",\"-\",_xlfn.XLOOKUP(D79,プルダウンデータリスト!$V$2:$V$9,プルダウンデータリスト!$X$2:$X$9,\"-\"))","v":"-"},"-"]
[40,null,null,null,null,null,{"$f":"IF($D80=\"\",\"-\",IF($E80=\"\",\"-\",IF($D80=\"製材（製材・集成材・ＣＬＴ等）\",IF($F80=\"\",\"-\",_xlfn.XLOOKUP('シート2-2-2'!$F80,プルダウンデータリスト!$AC$2:$AC$65,プルダウンデータリスト!$AD$2:$AD$65)),_xlfn.XLOOKUP('シート2-2-2'!$D80,プルダウンデータリスト!$V$3:$V$9,プルダウンデータリスト!$W$3:$W$9,))))","v":"-"},null,"-","-",{"$f":"IF(D80=\"\",\"-\",_xlfn.XLOOKUP(D80,プルダウンデータリスト!$V$2:$V$9,プルダウンデータリスト!$X$2:$X$9,\"-\"))","v":"-"},"-"]
[41,null,null,null,null,null,{"$f":"IF($D81=\"\",\"-\",IF($E81=\"\",\"-\",IF($D81=\"製材（製材・集成材・ＣＬＴ等）\",IF($F81=\"\",\"-\",_xlfn.XLOOKUP('シート2-2-2'!$F81,プルダウンデータリスト!$AC$2:$AC$65,プルダウンデータリスト!$AD$2:$AD$65)),_xlfn.XLOOKUP('シート2-2-2'!$D81,プルダウンデータリスト!$V$3:$V$9,プルダウンデータリスト!$W$3:$W$9,))))","v":"-"},null,"-","-",{"$f":"IF(D81=\"\",\"-\",_xlfn.XLOOKUP(D81,プルダウンデータリスト!$V$2:$V$9,プルダウンデータリスト!$X$2:$X$9,\"-\"))","v":"-"},"-"]
[42,null,null,null,null,null,{"$f":"IF($D82=\"\",\"-\",IF($E82=\"\",\"-\",IF($D82=\"製材（製材・集成材・ＣＬＴ等）\",IF($F82=\"\",\"-\",_xlfn.XLOOKUP('シート2-2-2'!$F82,プルダウンデータリスト!$AC$2:$AC$65,プルダウンデータリスト!$AD$2:$AD$65)),_xlfn.XLOOKUP('シート2-2-2'!$D82,プルダウンデータリスト!$V$3:$V$9,プルダウンデータリスト!$W$3:$W$9,))))","v":"-"},null,"-","-",{"$f":"IF(D82=\"\",\"-\",_xlfn.XLOOKUP(D82,プルダウンデータリスト!$V$2:$V$9,プルダウンデータリスト!$X$2:$X$9,\"-\"))","v":"-"},"-"]
[43,null,null,null,null,null,{"$f":"IF($D83=\"\",\"-\",IF($E83=\"\",\"-\",IF($D83=\"製材（製材・集成材・ＣＬＴ等）\",IF($F83=\"\",\"-\",_xlfn.XLOOKUP('シート2-2-2'!$F83,プルダウンデータリスト!$AC$2:$AC$65,プルダウンデータリスト!$AD$2:$AD$65)),_xlfn.XLOOKUP('シート2-2-2'!$D83,プルダウンデータリスト!$V$3:$V$9,プルダウンデータリスト!$W$3:$W$9,))))","v":"-"},null,"-","-",{"$f":"IF(D83=\"\",\"-\",_xlfn.XLOOKUP(D83,プルダウンデータリスト!$V$2:$V$9,プルダウンデータリスト!$X$2:$X$9,\"-\"))","v":"-"},"-"]
[44,null,null,null,null,null,{"$f":"IF($D84=\"\",\"-\",IF($E84=\"\",\"-\",IF($D84=\"製材（製材・集成材・ＣＬＴ等）\",IF($F84=\"\",\"-\",_xlfn.XLOOKUP('シート2-2-2'!$F84,プルダウンデータリスト!$AC$2:$AC$65,プルダウンデータリスト!$AD$2:$AD$65)),_xlfn.XLOOKUP('シート2-2-2'!$D84,プルダウンデータリスト!$V$3:$V$9,プルダウンデータリスト!$W$3:$W$9,))))","v":"-"},null,"-","-",{"$f":"IF(D84=\"\",\"-\",_xlfn.XLOOKUP(D84,プルダウンデータリスト!$V$2:$V$9,プルダウンデータリスト!$X$2:$X$9,\"-\"))","v":"-"},"-"]
[45,null,null,null,null,null,{"$f":"IF($D85=\"\",\"-\",IF($E85=\"\",\"-\",IF($D85=\"製材（製材・集成材・ＣＬＴ等）\",IF($F85=\"\",\"-\",_xlfn.XLOOKUP('シート2-2-2'!$F85,プルダウンデータリスト!$AC$2:$AC$65,プルダウンデータリスト!$AD$2:$AD$65)),_xlfn.XLOOKUP('シート2-2-2'!$D85,プルダウンデータリスト!$V$3:$V$9,プルダウンデータリスト!$W$3:$W$9,))))","v":"-"},null,"-","-",{"$f":"IF(D85=\"\",\"-\",_xlfn.XLOOKUP(D85,プルダウンデータリスト!$V$2:$V$9,プルダウンデータリスト!$X$2:$X$9,\"-\"))","v":"-"},"-"]
[46,null,null,null,null,null,{"$f":"IF($D86=\"\",\"-\",IF($E86=\"\",\"-\",IF($D86=\"製材（製材・集成材・ＣＬＴ等）\",IF($F86=\"\",\"-\",_xlfn.XLOOKUP('シート2-2-2'!$F86,プルダウンデータリスト!$AC$2:$AC$65,プルダウンデータリスト!$AD$2:$AD$65)),_xlfn.XLOOKUP('シート2-2-2'!$D86,プルダウンデータリスト!$V$3:$V$9,プルダウンデータリスト!$W$3:$W$9,))))","v":"-"},null,"-","-",{"$f":"IF(D86=\"\",\"-\",_xlfn.XLOOKUP(D86,プルダウンデータリスト!$V$2:$V$9,プルダウンデータリスト!$X$2:$X$9,\"-\"))","v":"-"},"-"]
[47,null,null,null,null,null,{"$f":"IF($D87=\"\",\"-\",IF($E87=\"\",\"-\",IF($D87=\"製材（製材・集成材・ＣＬＴ等）\",IF($F87=\"\",\"-\",_xlfn.XLOOKUP('シート2-2-2'!$F87,プルダウンデータリスト!$AC$2:$AC$65,プルダウンデータリスト!$AD$2:$AD$65)),_xlfn.XLOOKUP('シート2-2-2'!$D87,プルダウンデータリスト!$V$3:$V$9,プルダウンデータリスト!$W$3:$W$9,))))","v":"-"},null,"-","-",{"$f":"IF(D87=\"\",\"-\",_xlfn.XLOOKUP(D87,プルダウンデータリスト!$V$2:$V$9,プルダウンデータリスト!$X$2:$X$9,\"-\"))","v":"-"},"-"]
[48,null,null,null,null,null,{"$f":"IF($D88=\"\",\"-\",IF($E88=\"\",\"-\",IF($D88=\"製材（製材・集成材・ＣＬＴ等）\",IF($F88=\"\",\"-\",_xlfn.XLOOKUP('シート2-2-2'!$F88,プルダウンデータリスト!$AC$2:$AC$65,プルダウンデータリスト!$AD$2:$AD$65)),_xlfn.XLOOKUP('シート2-2-2'!$D88,プルダウンデータリスト!$V$3:$V$9,プルダウンデータリスト!$W$3:$W$9,))))","v":"-"},null,"-","-",{"$f":"IF(D88=\"\",\"-\",_xlfn.XLOOKUP(D88,プルダウンデータリスト!$V$2:$V$9,プルダウンデータリスト!$X$2:$X$9,\"-\"))","v":"-"},"-"]
[49,null,null,null,null,null,{"$f":"IF($D89=\"\",\"-\",IF($E89=\"\",\"-\",IF($D89=\"製材（製材・集成材・ＣＬＴ等）\",IF($F89=\"\",\"-\",_xlfn.XLOOKUP('シート2-2-2'!$F89,プルダウンデータリスト!$AC$2:$AC$65,プルダウンデータリスト!$AD$2:$AD$65)),_xlfn.XLOOKUP('シート2-2-2'!$D89,プルダウンデータリスト!$V$3:$V$9,プルダウンデータリスト!$W$3:$W$9,))))","v":"-"},null,"-","-",{"$f":"IF(D89=\"\",\"-\",_xlfn.XLOOKUP(D89,プルダウンデータリスト!$V$2:$V$9,プルダウンデータリスト!$X$2:$X$9,\"-\"))","v":"-"},"-"]
[50,null,null,null,null,null,{"$f":"IF($D90=\"\",\"-\",IF($E90=\"\",\"-\",IF($D90=\"製材（製材・集成材・ＣＬＴ等）\",IF($F90=\"\",\"-\",_xlfn.XLOOKUP('シート2-2-2'!$F90,プルダウンデータリスト!$AC$2:$AC$65,プルダウンデータリスト!$AD$2:$AD$65)),_xlfn.XLOOKUP('シート2-2-2'!$D90,プルダウンデータリスト!$V$3:$V$9,プルダウンデータリスト!$W$3:$W$9,))))","v":"-"},null,"-","-",{"$f":"IF(D90=\"\",\"-\",_xlfn.XLOOKUP(D90,プルダウンデータリスト!$V$2:$V$9,プルダウンデータリスト!$X$2:$X$9,\"-\"))","v":"-"},"-"]
[51,null,null,null,null,null,{"$f":"IF($D91=\"\",\"-\",IF($E91=\"\",\"-\",IF($D91=\"製材（製材・集成材・ＣＬＴ等）\",IF($F91=\"\",\"-\",_xlfn.XLOOKUP('シート2-2-2'!$F91,プルダウンデータリスト!$AC$2:$AC$65,プルダウンデータリスト!$AD$2:$AD$65)),_xlfn.XLOOKUP('シート2-2-2'!$D91,プルダウンデータリスト!$V$3:$V$9,プルダウンデータリスト!$W$3:$W$9,))))","v":"-"},null,"-","-",{"$f":"IF(D91=\"\",\"-\",_xlfn.XLOOKUP(D91,プルダウンデータリスト!$V$2:$V$9,プルダウンデータリスト!$X$2:$X$9,\"-\"))","v":"-"},"-"]
[52,null,null,null,null,null,{"$f":"IF($D92=\"\",\"-\",IF($E92=\"\",\"-\",IF($D92=\"製材（製材・集成材・ＣＬＴ等）\",IF($F92=\"\",\"-\",_xlfn.XLOOKUP('シート2-2-2'!$F92,プルダウンデータリスト!$AC$2:$AC$65,プルダウンデータリスト!$AD$2:$AD$65)),_xlfn.XLOOKUP('シート2-2-2'!$D92,プルダウンデータリスト!$V$3:$V$9,プルダウンデータリスト!$W$3:$W$9,))))","v":"-"},null,"-","-",{"$f":"IF(D92=\"\",\"-\",_xlfn.XLOOKUP(D92,プルダウンデータリスト!$V$2:$V$9,プルダウンデータリスト!$X$2:$X$9,\"-\"))","v":"-"},"-"]
[53,null,null,null,null,null,{"$f":"IF($D93=\"\",\"-\",IF($E93=\"\",\"-\",IF($D93=\"製材（製材・集成材・ＣＬＴ等）\",IF($F93=\"\",\"-\",_xlfn.XLOOKUP('シート2-2-2'!$F93,プルダウンデータリスト!$AC$2:$AC$65,プルダウンデータリスト!$AD$2:$AD$65)),_xlfn.XLOOKUP('シート2-2-2'!$D93,プルダウンデータリスト!$V$3:$V$9,プルダウンデータリスト!$W$3:$W$9,))))","v":"-"},null,"-","-",{"$f":"IF(D93=\"\",\"-\",_xlfn.XLOOKUP(D93,プルダウンデータリスト!$V$2:$V$9,プルダウンデータリスト!$X$2:$X$9,\"-\"))","v":"-"},"-"]
[54,null,null,null,null,null,{"$f":"IF($D94=\"\",\"-\",IF($E94=\"\",\"-\",IF($D94=\"製材（製材・集成材・ＣＬＴ等）\",IF($F94=\"\",\"-\",_xlfn.XLOOKUP('シート2-2-2'!$F94,プルダウンデータリスト!$AC$2:$AC$65,プルダウンデータリスト!$AD$2:$AD$65)),_xlfn.XLOOKUP('シート2-2-2'!$D94,プルダウンデータリスト!$V$3:$V$9,プルダウンデータリスト!$W$3:$W$9,))))","v":"-"},null,"-","-",{"$f":"IF(D94=\"\",\"-\",_xlfn.XLOOKUP(D94,プルダウンデータリスト!$V$2:$V$9,プルダウンデータリスト!$X$2:$X$9,\"-\"))","v":"-"},"-"]
[55,null,null,null,null,null,{"$f":"IF($D95=\"\",\"-\",IF($E95=\"\",\"-\",IF($D95=\"製材（製材・集成材・ＣＬＴ等）\",IF($F95=\"\",\"-\",_xlfn.XLOOKUP('シート2-2-2'!$F95,プルダウンデータリスト!$AC$2:$AC$65,プルダウンデータリスト!$AD$2:$AD$65)),_xlfn.XLOOKUP('シート2-2-2'!$D95,プルダウンデータリスト!$V$3:$V$9,プルダウンデータリスト!$W$3:$W$9,))))","v":"-"},null,"-","-",{"$f":"IF(D95=\"\",\"-\",_xlfn.XLOOKUP(D95,プルダウンデータリスト!$V$2:$V$9,プルダウンデータリスト!$X$2:$X$9,\"-\"))","v":"-"},"-"]
[56,null,null,null,null,null,{"$f":"IF($D96=\"\",\"-\",IF($E96=\"\",\"-\",IF($D96=\"製材（製材・集成材・ＣＬＴ等）\",IF($F96=\"\",\"-\",_xlfn.XLOOKUP('シート2-2-2'!$F96,プルダウンデータリスト!$AC$2:$AC$65,プルダウンデータリスト!$AD$2:$AD$65)),_xlfn.XLOOKUP('シート2-2-2'!$D96,プルダウンデータリスト!$V$3:$V$9,プルダウンデータリスト!$W$3:$W$9,))))","v":"-"},null,"-","-",{"$f":"IF(D96=\"\",\"-\",_xlfn.XLOOKUP(D96,プルダウンデータリスト!$V$2:$V$9,プルダウンデータリスト!$X$2:$X$9,\"-\"))","v":"-"},"-"]
[57,null,null,null,null,null,{"$f":"IF($D97=\"\",\"-\",IF($E97=\"\",\"-\",IF($D97=\"製材（製材・集成材・ＣＬＴ等）\",IF($F97=\"\",\"-\",_xlfn.XLOOKUP('シート2-2-2'!$F97,プルダウンデータリスト!$AC$2:$AC$65,プルダウンデータリスト!$AD$2:$AD$65)),_xlfn.XLOOKUP('シート2-2-2'!$D97,プルダウンデータリスト!$V$3:$V$9,プルダウンデータリスト!$W$3:$W$9,))))","v":"-"},null,"-","-",{"$f":"IF(D97=\"\",\"-\",_xlfn.XLOOKUP(D97,プルダウンデータリスト!$V$2:$V$9,プルダウンデータリスト!$X$2:$X$9,\"-\"))","v":"-"},"-"]
[58,null,null,null,null,null,{"$f":"IF($D98=\"\",\"-\",IF($E98=\"\",\"-\",IF($D98=\"製材（製材・集成材・ＣＬＴ等）\",IF($F98=\"\",\"-\",_xlfn.XLOOKUP('シート2-2-2'!$F98,プルダウンデータリスト!$AC$2:$AC$65,プルダウンデータリスト!$AD$2:$AD$65)),_xlfn.XLOOKUP('シート2-2-2'!$D98,プルダウンデータリスト!$V$3:$V$9,プルダウンデータリスト!$W$3:$W$9,))))","v":"-"},null,"-","-",{"$f":"IF(D98=\"\",\"-\",_xlfn.XLOOKUP(D98,プルダウンデータリスト!$V$2:$V$9,プルダウンデータリスト!$X$2:$X$9,\"-\"))","v":"-"},"-"]
[59,null,null,null,null,null,{"$f":"IF($D99=\"\",\"-\",IF($E99=\"\",\"-\",IF($D99=\"製材（製材・集成材・ＣＬＴ等）\",IF($F99=\"\",\"-\",_xlfn.XLOOKUP('シート2-2-2'!$F99,プルダウンデータリスト!$AC$2:$AC$65,プルダウンデータリスト!$AD$2:$AD$65)),_xlfn.XLOOKUP('シート2-2-2'!$D99,プルダウンデータリスト!$V$3:$V$9,プルダウンデータリスト!$W$3:$W$9,))))","v":"-"},null,"-","-",{"$f":"IF(D99=\"\",\"-\",_xlfn.XLOOKUP(D99,プルダウンデータリスト!$V$2:$V$9,プルダウンデータリスト!$X$2:$X$9,\"-\"))","v":"-"},"-"]
[60,null,null,null,null,null,{"$f":"IF($D100=\"\",\"-\",IF($E100=\"\",\"-\",IF($D100=\"製材（製材・集成材・ＣＬＴ等）\",IF($F100=\"\",\"-\",_xlfn.XLOOKUP('シート2-2-2'!$F100,プルダウンデータリスト!$AC$2:$AC$65,プルダウンデータリスト!$AD$2:$AD$65)),_xlfn.XLOOKUP('シート2-2-2'!$D100,プルダウンデータリスト!$V$3:$V$9,プルダウンデータリスト!$W$3:$W$9,))))","v":"-"},null,"-","-",{"$f":"IF(D100=\"\",\"-\",_xlfn.XLOOKUP(D100,プルダウンデータリスト!$V$2:$V$9,プルダウンデータリスト!$X$2:$X$9,\"-\"))","v":"-"},"-"]
[61,null,null,null,null,null,{"$f":"IF($D101=\"\",\"-\",IF($E101=\"\",\"-\",IF($D101=\"製材（製材・集成材・ＣＬＴ等）\",IF($F101=\"\",\"-\",_xlfn.XLOOKUP('シート2-2-2'!$F101,プルダウンデータリスト!$AC$2:$AC$65,プルダウンデータリスト!$AD$2:$AD$65)),_xlfn.XLOOKUP('シート2-2-2'!$D101,プルダウンデータリスト!$V$3:$V$9,プルダウンデータリスト!$W$3:$W$9,))))","v":"-"},null,"-","-",{"$f":"IF(D101=\"\",\"-\",_xlfn.XLOOKUP(D101,プルダウンデータリスト!$V$2:$V$9,プルダウンデータリスト!$X$2:$X$9,\"-\"))","v":"-"},"-"]
[62,null,null,null,null,null,{"$f":"IF($D102=\"\",\"-\",IF($E102=\"\",\"-\",IF($D102=\"製材（製材・集成材・ＣＬＴ等）\",IF($F102=\"\",\"-\",_xlfn.XLOOKUP('シート2-2-2'!$F102,プルダウンデータリスト!$AC$2:$AC$65,プルダウンデータリスト!$AD$2:$AD$65)),_xlfn.XLOOKUP('シート2-2-2'!$D102,プルダウンデータリスト!$V$3:$V$9,プルダウンデータリスト!$W$3:$W$9,))))","v":"-"},null,"-","-",{"$f":"IF(D102=\"\",\"-\",_xlfn.XLOOKUP(D102,プルダウンデータリスト!$V$2:$V$9,プルダウンデータリスト!$X$2:$X$9,\"-\"))","v":"-"},"-"]
[63,null,null,null,null,null,{"$f":"IF($D103=\"\",\"-\",IF($E103=\"\",\"-\",IF($D103=\"製材（製材・集成材・ＣＬＴ等）\",IF($F103=\"\",\"-\",_xlfn.XLOOKUP('シート2-2-2'!$F103,プルダウンデータリスト!$AC$2:$AC$65,プルダウンデータリスト!$AD$2:$AD$65)),_xlfn.XLOOKUP('シート2-2-2'!$D103,プルダウンデータリスト!$V$3:$V$9,プルダウンデータリスト!$W$3:$W$9,))))","v":"-"},null,"-","-",{"$f":"IF(D103=\"\",\"-\",_xlfn.XLOOKUP(D103,プルダウンデータリスト!$V$2:$V$9,プルダウンデータリスト!$X$2:$X$9,\"-\"))","v":"-"},"-"]
[64,null,null,null,null,null,{"$f":"IF($D104=\"\",\"-\",IF($E104=\"\",\"-\",IF($D104=\"製材（製材・集成材・ＣＬＴ等）\",IF($F104=\"\",\"-\",_xlfn.XLOOKUP('シート2-2-2'!$F104,プルダウンデータリスト!$AC$2:$AC$65,プルダウンデータリスト!$AD$2:$AD$65)),_xlfn.XLOOKUP('シート2-2-2'!$D104,プルダウンデータリスト!$V$3:$V$9,プルダウンデータリスト!$W$3:$W$9,))))","v":"-"},null,"-","-",{"$f":"IF(D104=\"\",\"-\",_xlfn.XLOOKUP(D104,プルダウンデータリスト!$V$2:$V$9,プルダウンデータリスト!$X$2:$X$9,\"-\"))","v":"-"},"-"]
[65,null,null,null,null,null,{"$f":"IF($D105=\"\",\"-\",IF($E105=\"\",\"-\",IF($D105=\"製材（製材・集成材・ＣＬＴ等）\",IF($F105=\"\",\"-\",_xlfn.XLOOKUP('シート2-2-2'!$F105,プルダウンデータリスト!$AC$2:$AC$65,プルダウンデータリスト!$AD$2:$AD$65)),_xlfn.XLOOKUP('シート2-2-2'!$D105,プルダウンデータリスト!$V$3:$V$9,プルダウンデータリスト!$W$3:$W$9,))))","v":"-"},null,{"$f":"IF(E105=\"\",\"-\",E105*C105)","v":"-"},{"$f":"IF(H105=\"\",\"-\",H105*C105)","v":"-"},{"$f":"IF(D105=\"\",\"-\",_xlfn.XLOOKUP(D105,プルダウンデータリスト!$V$2:$V$9,プルダウンデータリスト!$X$2:$X$9,\"-\"))","v":"-"},"-"]
[66,null,null,null,null,null,{"$f":"IF($D106=\"\",\"-\",IF($E106=\"\",\"-\",IF($D106=\"製材（製材・集成材・ＣＬＴ等）\",IF($F106=\"\",\"-\",_xlfn.XLOOKUP('シート2-2-2'!$F106,プルダウンデータリスト!$AC$2:$AC$65,プルダウンデータリスト!$AD$2:$AD$65)),_xlfn.XLOOKUP('シート2-2-2'!$D106,プルダウンデータリスト!$V$3:$V$9,プルダウンデータリスト!$W$3:$W$9,))))","v":"-"},null,"-","-",{"$f":"IF(D106=\"\",\"-\",_xlfn.XLOOKUP(D106,プルダウンデータリスト!$V$2:$V$9,プルダウンデータリスト!$X$2:$X$9,\"-\"))","v":"-"},{"$f":"IFERROR(IF(LEN(E106)>0,I106*G106*K106,IF(LEN(H106)>0,J106*K106/1000,\"-\")),\"-\")","v":"-"}]
[67,null,null,null,null,null,{"$f":"IF($D107=\"\",\"-\",IF($E107=\"\",\"-\",IF($D107=\"製材（製材・集成材・ＣＬＴ等）\",IF($F107=\"\",\"-\",_xlfn.XLOOKUP('シート2-2-2'!$F107,プルダウンデータリスト!$AC$2:$AC$65,プルダウンデータリスト!$AD$2:$AD$65)),_xlfn.XLOOKUP('シート2-2-2'!$D107,プルダウンデータリスト!$V$3:$V$9,プルダウンデータリスト!$W$3:$W$9,))))","v":"-"},null,"-","-",{"$f":"IF(D107=\"\",\"-\",_xlfn.XLOOKUP(D107,プルダウンデータリスト!$V$2:$V$9,プルダウンデータリスト!$X$2:$X$9,\"-\"))","v":"-"},"-"]
[68,null,null,null,null,null,{"$f":"IF($D108=\"\",\"-\",IF($E108=\"\",\"-\",IF($D108=\"製材（製材・集成材・ＣＬＴ等）\",IF($F108=\"\",\"-\",_xlfn.XLOOKUP('シート2-2-2'!$F108,プルダウンデータリスト!$AC$2:$AC$65,プルダウンデータリスト!$AD$2:$AD$65)),_xlfn.XLOOKUP('シート2-2-2'!$D108,プルダウンデータリスト!$V$3:$V$9,プルダウンデータリスト!$W$3:$W$9,))))","v":"-"},null,"-","-",{"$f":"IF(D108=\"\",\"-\",_xlfn.XLOOKUP(D108,プルダウンデータリスト!$V$2:$V$9,プルダウンデータリスト!$X$2:$X$9,\"-\"))","v":"-"},"-"]
[69,null,null,null,null,null,{"$f":"IF($D109=\"\",\"-\",IF($E109=\"\",\"-\",IF($D109=\"製材（製材・集成材・ＣＬＴ等）\",IF($F109=\"\",\"-\",_xlfn.XLOOKUP('シート2-2-2'!$F109,プルダウンデータリスト!$AC$2:$AC$65,プルダウンデータリスト!$AD$2:$AD$65)),_xlfn.XLOOKUP('シート2-2-2'!$D109,プルダウンデータリスト!$V$3:$V$9,プルダウンデータリスト!$W$3:$W$9,))))","v":"-"},null,"-","-",{"$f":"IF(D109=\"\",\"-\",_xlfn.XLOOKUP(D109,プルダウンデータリスト!$V$2:$V$9,プルダウンデータリスト!$X$2:$X$9,\"-\"))","v":"-"},"-"]
[70,null,null,null,null,null,{"$f":"IF($D110=\"\",\"-\",IF($E110=\"\",\"-\",IF($D110=\"製材（製材・集成材・ＣＬＴ等）\",IF($F110=\"\",\"-\",_xlfn.XLOOKUP('シート2-2-2'!$F110,プルダウンデータリスト!$AC$2:$AC$65,プルダウンデータリスト!$AD$2:$AD$65)),_xlfn.XLOOKUP('シート2-2-2'!$D110,プルダウンデータリスト!$V$3:$V$9,プルダウンデータリスト!$W$3:$W$9,))))","v":"-"},null,"-","-",{"$f":"IF(D110=\"\",\"-\",_xlfn.XLOOKUP(D110,プルダウンデータリスト!$V$2:$V$9,プルダウンデータリスト!$X$2:$X$9,\"-\"))","v":"-"},"-"]
[71,null,null,null,null,null,{"$f":"IF($D111=\"\",\"-\",IF($E111=\"\",\"-\",IF($D111=\"製材（製材・集成材・ＣＬＴ等）\",IF($F111=\"\",\"-\",_xlfn.XLOOKUP('シート2-2-2'!$F111,プルダウンデータリスト!$AC$2:$AC$65,プルダウンデータリスト!$AD$2:$AD$65)),_xlfn.XLOOKUP('シート2-2-2'!$D111,プルダウンデータリスト!$V$3:$V$9,プルダウンデータリスト!$W$3:$W$9,))))","v":"-"},null,"-","-",{"$f":"IF(D111=\"\",\"-\",_xlfn.XLOOKUP(D111,プルダウンデータリスト!$V$2:$V$9,プルダウンデータリスト!$X$2:$X$9,\"-\"))","v":"-"},"-"]
[72,null,null,null,null,null,{"$f":"IF($D112=\"\",\"-\",IF($E112=\"\",\"-\",IF($D112=\"製材（製材・集成材・ＣＬＴ等）\",IF($F112=\"\",\"-\",_xlfn.XLOOKUP('シート2-2-2'!$F112,プルダウンデータリスト!$AC$2:$AC$65,プルダウンデータリスト!$AD$2:$AD$65)),_xlfn.XLOOKUP('シート2-2-2'!$D112,プルダウンデータリスト!$V$3:$V$9,プルダウンデータリスト!$W$3:$W$9,))))","v":"-"},null,"-","-",{"$f":"IF(D112=\"\",\"-\",_xlfn.XLOOKUP(D112,プルダウンデータリスト!$V$2:$V$9,プルダウンデータリスト!$X$2:$X$9,\"-\"))","v":"-"},"-"]
[73,null,null,null,null,null,{"$f":"IF($D113=\"\",\"-\",IF($E113=\"\",\"-\",IF($D113=\"製材（製材・集成材・ＣＬＴ等）\",IF($F113=\"\",\"-\",_xlfn.XLOOKUP('シート2-2-2'!$F113,プルダウンデータリスト!$AC$2:$AC$65,プルダウンデータリスト!$AD$2:$AD$65)),_xlfn.XLOOKUP('シート2-2-2'!$D113,プルダウンデータリスト!$V$3:$V$9,プルダウンデータリスト!$W$3:$W$9,))))","v":"-"},null,"-","-",{"$f":"IF(D113=\"\",\"-\",_xlfn.XLOOKUP(D113,プルダウンデータリスト!$V$2:$V$9,プルダウンデータリスト!$X$2:$X$9,\"-\"))","v":"-"},"-"]
[74,null,null,null,null,null,{"$f":"IF($D114=\"\",\"-\",IF($E114=\"\",\"-\",IF($D114=\"製材（製材・集成材・ＣＬＴ等）\",IF($F114=\"\",\"-\",_xlfn.XLOOKUP('シート2-2-2'!$F114,プルダウンデータリスト!$AC$2:$AC$65,プルダウンデータリスト!$AD$2:$AD$65)),_xlfn.XLOOKUP('シート2-2-2'!$D114,プルダウンデータリスト!$V$3:$V$9,プルダウンデータリスト!$W$3:$W$9,))))","v":"-"},null,"-","-",{"$f":"IF(D114=\"\",\"-\",_xlfn.XLOOKUP(D114,プルダウンデータリスト!$V$2:$V$9,プルダウンデータリスト!$X$2:$X$9,\"-\"))","v":"-"},"-"]
[75,null,null,null,null,null,{"$f":"IF($D115=\"\",\"-\",IF($E115=\"\",\"-\",IF($D115=\"製材（製材・集成材・ＣＬＴ等）\",IF($F115=\"\",\"-\",_xlfn.XLOOKUP('シート2-2-2'!$F115,プルダウンデータリスト!$AC$2:$AC$65,プルダウンデータリスト!$AD$2:$AD$65)),_xlfn.XLOOKUP('シート2-2-2'!$D115,プルダウンデータリスト!$V$3:$V$9,プルダウンデータリスト!$W$3:$W$9,))))","v":"-"},null,"-","-",{"$f":"IF(D115=\"\",\"-\",_xlfn.XLOOKUP(D115,プルダウンデータリスト!$V$2:$V$9,プルダウンデータリスト!$X$2:$X$9,\"-\"))","v":"-"},"-"]
[76,null,null,null,null,null,{"$f":"IF($D116=\"\",\"-\",IF($E116=\"\",\"-\",IF($D116=\"製材（製材・集成材・ＣＬＴ等）\",IF($F116=\"\",\"-\",_xlfn.XLOOKUP('シート2-2-2'!$F116,プルダウンデータリスト!$AC$2:$AC$65,プルダウンデータリスト!$AD$2:$AD$65)),_xlfn.XLOOKUP('シート2-2-2'!$D116,プルダウンデータリスト!$V$3:$V$9,プルダウンデータリスト!$W$3:$W$9,))))","v":"-"},null,"-","-",{"$f":"IF(D116=\"\",\"-\",_xlfn.XLOOKUP(D116,プルダウンデータリスト!$V$2:$V$9,プルダウンデータリスト!$X$2:$X$9,\"-\"))","v":"-"},"-"]
[77,null,null,null,null,null,{"$f":"IF($D117=\"\",\"-\",IF($E117=\"\",\"-\",IF($D117=\"製材（製材・集成材・ＣＬＴ等）\",IF($F117=\"\",\"-\",_xlfn.XLOOKUP('シート2-2-2'!$F117,プルダウンデータリスト!$AC$2:$AC$65,プルダウンデータリスト!$AD$2:$AD$65)),_xlfn.XLOOKUP('シート2-2-2'!$D117,プルダウンデータリスト!$V$3:$V$9,プルダウンデータリスト!$W$3:$W$9,))))","v":"-"},null,"-","-",{"$f":"IF(D117=\"\",\"-\",_xlfn.XLOOKUP(D117,プルダウンデータリスト!$V$2:$V$9,プルダウンデータリスト!$X$2:$X$9,\"-\"))","v":"-"},"-"]
[78,null,null,null,null,null,{"$f":"IF($D118=\"\",\"-\",IF($E118=\"\",\"-\",IF($D118=\"製材（製材・集成材・ＣＬＴ等）\",IF($F118=\"\",\"-\",_xlfn.XLOOKUP('シート2-2-2'!$F118,プルダウンデータリスト!$AC$2:$AC$65,プルダウンデータリスト!$AD$2:$AD$65)),_xlfn.XLOOKUP('シート2-2-2'!$D118,プルダウンデータリスト!$V$3:$V$9,プルダウンデータリスト!$W$3:$W$9,))))","v":"-"},null,"-","-",{"$f":"IF(D118=\"\",\"-\",_xlfn.XLOOKUP(D118,プルダウンデータリスト!$V$2:$V$9,プルダウンデータリスト!$X$2:$X$9,\"-\"))","v":"-"},"-"]
[79,null,null,null,null,null,{"$f":"IF($D119=\"\",\"-\",IF($E119=\"\",\"-\",IF($D119=\"製材（製材・集成材・ＣＬＴ等）\",IF($F119=\"\",\"-\",_xlfn.XLOOKUP('シート2-2-2'!$F119,プルダウンデータリスト!$AC$2:$AC$65,プルダウンデータリスト!$AD$2:$AD$65)),_xlfn.XLOOKUP('シート2-2-2'!$D119,プルダウンデータリスト!$V$3:$V$9,プルダウンデータリスト!$W$3:$W$9,))))","v":"-"},null,"-","-",{"$f":"IF(D119=\"\",\"-\",_xlfn.XLOOKUP(D119,プルダウンデータリスト!$V$2:$V$9,プルダウンデータリスト!$X$2:$X$9,\"-\"))","v":"-"},"-"]
[80,null,null,null,null,null,{"$f":"IF($D120=\"\",\"-\",IF($E120=\"\",\"-\",IF($D120=\"製材（製材・集成材・ＣＬＴ等）\",IF($F120=\"\",\"-\",_xlfn.XLOOKUP('シート2-2-2'!$F120,プルダウンデータリスト!$AC$2:$AC$65,プルダウンデータリスト!$AD$2:$AD$65)),_xlfn.XLOOKUP('シート2-2-2'!$D120,プルダウンデータリスト!$V$3:$V$9,プルダウンデータリスト!$W$3:$W$9,))))","v":"-"},null,"-","-",{"$f":"IF(D120=\"\",\"-\",_xlfn.XLOOKUP(D120,プルダウンデータリスト!$V$2:$V$9,プルダウンデータリスト!$X$2:$X$9,\"-\"))","v":"-"},"-"]
[81,null,null,null,null,null,{"$f":"IF($D121=\"\",\"-\",IF($E121=\"\",\"-\",IF($D121=\"製材（製材・集成材・ＣＬＴ等）\",IF($F121=\"\",\"-\",_xlfn.XLOOKUP('シート2-2-2'!$F121,プルダウンデータリスト!$AC$2:$AC$65,プルダウンデータリスト!$AD$2:$AD$65)),_xlfn.XLOOKUP('シート2-2-2'!$D121,プルダウンデータリスト!$V$3:$V$9,プルダウンデータリスト!$W$3:$W$9,))))","v":"-"},null,"-","-",{"$f":"IF(D121=\"\",\"-\",_xlfn.XLOOKUP(D121,プルダウンデータリスト!$V$2:$V$9,プルダウンデータリスト!$X$2:$X$9,\"-\"))","v":"-"},"-"]
[82,null,null,null,null,null,{"$f":"IF($D122=\"\",\"-\",IF($E122=\"\",\"-\",IF($D122=\"製材（製材・集成材・ＣＬＴ等）\",IF($F122=\"\",\"-\",_xlfn.XLOOKUP('シート2-2-2'!$F122,プルダウンデータリスト!$AC$2:$AC$65,プルダウンデータリスト!$AD$2:$AD$65)),_xlfn.XLOOKUP('シート2-2-2'!$D122,プルダウンデータリスト!$V$3:$V$9,プルダウンデータリスト!$W$3:$W$9,))))","v":"-"},null,"-","-",{"$f":"IF(D122=\"\",\"-\",_xlfn.XLOOKUP(D122,プルダウンデータリスト!$V$2:$V$9,プルダウンデータリスト!$X$2:$X$9,\"-\"))","v":"-"},"-"]
[83,null,null,null,null,null,{"$f":"IF($D123=\"\",\"-\",IF($E123=\"\",\"-\",IF($D123=\"製材（製材・集成材・ＣＬＴ等）\",IF($F123=\"\",\"-\",_xlfn.XLOOKUP('シート2-2-2'!$F123,プルダウンデータリスト!$AC$2:$AC$65,プルダウンデータリスト!$AD$2:$AD$65)),_xlfn.XLOOKUP('シート2-2-2'!$D123,プルダウンデータリスト!$V$3:$V$9,プルダウンデータリスト!$W$3:$W$9,))))","v":"-"},null,"-","-",{"$f":"IF(D123=\"\",\"-\",_xlfn.XLOOKUP(D123,プルダウンデータリスト!$V$2:$V$9,プルダウンデータリスト!$X$2:$X$9,\"-\"))","v":"-"},"-"]
[84,null,null,null,null,null,{"$f":"IF($D124=\"\",\"-\",IF($E124=\"\",\"-\",IF($D124=\"製材（製材・集成材・ＣＬＴ等）\",IF($F124=\"\",\"-\",_xlfn.XLOOKUP('シート2-2-2'!$F124,プルダウンデータリスト!$AC$2:$AC$65,プルダウンデータリスト!$AD$2:$AD$65)),_xlfn.XLOOKUP('シート2-2-2'!$D124,プルダウンデータリスト!$V$3:$V$9,プルダウンデータリスト!$W$3:$W$9,))))","v":"-"},null,"-","-",{"$f":"IF(D124=\"\",\"-\",_xlfn.XLOOKUP(D124,プルダウンデータリスト!$V$2:$V$9,プルダウンデータリスト!$X$2:$X$9,\"-\"))","v":"-"},"-"]
[85,null,null,null,null,null,{"$f":"IF($D125=\"\",\"-\",IF($E125=\"\",\"-\",IF($D125=\"製材（製材・集成材・ＣＬＴ等）\",IF($F125=\"\",\"-\",_xlfn.XLOOKUP('シート2-2-2'!$F125,プルダウンデータリスト!$AC$2:$AC$65,プルダウンデータリスト!$AD$2:$AD$65)),_xlfn.XLOOKUP('シート2-2-2'!$D125,プルダウンデータリスト!$V$3:$V$9,プルダウンデータリスト!$W$3:$W$9,))))","v":"-"},null,"-","-",{"$f":"IF(D125=\"\",\"-\",_xlfn.XLOOKUP(D125,プルダウンデータリスト!$V$2:$V$9,プルダウンデータリスト!$X$2:$X$9,\"-\"))","v":"-"},"-"]
[86,null,null,null,null,null,{"$f":"IF($D126=\"\",\"-\",IF($E126=\"\",\"-\",IF($D126=\"製材（製材・集成材・ＣＬＴ等）\",IF($F126=\"\",\"-\",_xlfn.XLOOKUP('シート2-2-2'!$F126,プルダウンデータリスト!$AC$2:$AC$65,プルダウンデータリスト!$AD$2:$AD$65)),_xlfn.XLOOKUP('シート2-2-2'!$D126,プルダウンデータリスト!$V$3:$V$9,プルダウンデータリスト!$W$3:$W$9,))))","v":"-"},null,"-","-",{"$f":"IF(D126=\"\",\"-\",_xlfn.XLOOKUP(D126,プルダウンデータリスト!$V$2:$V$9,プルダウンデータリスト!$X$2:$X$9,\"-\"))","v":"-"},"-"]
[87,null,null,null,null,null,{"$f":"IF($D127=\"\",\"-\",IF($E127=\"\",\"-\",IF($D127=\"製材（製材・集成材・ＣＬＴ等）\",IF($F127=\"\",\"-\",_xlfn.XLOOKUP('シート2-2-2'!$F127,プルダウンデータリスト!$AC$2:$AC$65,プルダウンデータリスト!$AD$2:$AD$65)),_xlfn.XLOOKUP('シート2-2-2'!$D127,プルダウンデータリスト!$V$3:$V$9,プルダウンデータリスト!$W$3:$W$9,))))","v":"-"},null,"-","-",{"$f":"IF(D127=\"\",\"-\",_xlfn.XLOOKUP(D127,プルダウンデータリスト!$V$2:$V$9,プルダウンデータリスト!$X$2:$X$9,\"-\"))","v":"-"},"-"]
[88,null,null,null,null,null,{"$f":"IF($D128=\"\",\"-\",IF($E128=\"\",\"-\",IF($D128=\"製材（製材・集成材・ＣＬＴ等）\",IF($F128=\"\",\"-\",_xlfn.XLOOKUP('シート2-2-2'!$F128,プルダウンデータリスト!$AC$2:$AC$65,プルダウンデータリスト!$AD$2:$AD$65)),_xlfn.XLOOKUP('シート2-2-2'!$D128,プルダウンデータリスト!$V$3:$V$9,プルダウンデータリスト!$W$3:$W$9,))))","v":"-"},null,"-","-",{"$f":"IF(D128=\"\",\"-\",_xlfn.XLOOKUP(D128,プルダウンデータリスト!$V$2:$V$9,プルダウンデータリスト!$X$2:$X$9,\"-\"))","v":"-"},"-"]
[89,null,null,null,null,null,{"$f":"IF($D129=\"\",\"-\",IF($E129=\"\",\"-\",IF($D129=\"製材（製材・集成材・ＣＬＴ等）\",IF($F129=\"\",\"-\",_xlfn.XLOOKUP('シート2-2-2'!$F129,プルダウンデータリスト!$AC$2:$AC$65,プルダウンデータリスト!$AD$2:$AD$65)),_xlfn.XLOOKUP('シート2-2-2'!$D129,プルダウンデータリスト!$V$3:$V$9,プルダウンデータリスト!$W$3:$W$9,))))","v":"-"},null,"-","-",{"$f":"IF(D129=\"\",\"-\",_xlfn.XLOOKUP(D129,プルダウンデータリスト!$V$2:$V$9,プルダウンデータリスト!$X$2:$X$9,\"-\"))","v":"-"},"-"]
[90,null,null,null,null,null,{"$f":"IF($D130=\"\",\"-\",IF($E130=\"\",\"-\",IF($D130=\"製材（製材・集成材・ＣＬＴ等）\",IF($F130=\"\",\"-\",_xlfn.XLOOKUP('シート2-2-2'!$F130,プルダウンデータリスト!$AC$2:$AC$65,プルダウンデータリスト!$AD$2:$AD$65)),_xlfn.XLOOKUP('シート2-2-2'!$D130,プルダウンデータリスト!$V$3:$V$9,プルダウンデータリスト!$W$3:$W$9,))))","v":"-"},null,"-","-",{"$f":"IF(D130=\"\",\"-\",_xlfn.XLOOKUP(D130,プルダウンデータリスト!$V$2:$V$9,プルダウンデータリスト!$X$2:$X$9,\"-\"))","v":"-"},"-"]
[91,null,null,null,null,null,{"$f":"IF($D131=\"\",\"-\",IF($E131=\"\",\"-\",IF($D131=\"製材（製材・集成材・ＣＬＴ等）\",IF($F131=\"\",\"-\",_xlfn.XLOOKUP('シート2-2-2'!$F131,プルダウンデータリスト!$AC$2:$AC$65,プルダウンデータリスト!$AD$2:$AD$65)),_xlfn.XLOOKUP('シート2-2-2'!$D131,プルダウンデータリスト!$V$3:$V$9,プルダウンデータリスト!$W$3:$W$9,))))","v":"-"},null,"-","-",{"$f":"IF(D131=\"\",\"-\",_xlfn.XLOOKUP(D131,プルダウンデータリスト!$V$2:$V$9,プルダウンデータリスト!$X$2:$X$9,\"-\"))","v":"-"},"-"]
[92,null,null,null,null,null,{"$f":"IF($D132=\"\",\"-\",IF($E132=\"\",\"-\",IF($D132=\"製材（製材・集成材・ＣＬＴ等）\",IF($F132=\"\",\"-\",_xlfn.XLOOKUP('シート2-2-2'!$F132,プルダウンデータリスト!$AC$2:$AC$65,プルダウンデータリスト!$AD$2:$AD$65)),_xlfn.XLOOKUP('シート2-2-2'!$D132,プルダウンデータリスト!$V$3:$V$9,プルダウンデータリスト!$W$3:$W$9,))))","v":"-"},null,"-","-",{"$f":"IF(D132=\"\",\"-\",_xlfn.XLOOKUP(D132,プルダウンデータリスト!$V$2:$V$9,プルダウンデータリスト!$X$2:$X$9,\"-\"))","v":"-"},"-"]
[93,null,null,null,null,null,{"$f":"IF($D133=\"\",\"-\",IF($E133=\"\",\"-\",IF($D133=\"製材（製材・集成材・ＣＬＴ等）\",IF($F133=\"\",\"-\",_xlfn.XLOOKUP('シート2-2-2'!$F133,プルダウンデータリスト!$AC$2:$AC$65,プルダウンデータリスト!$AD$2:$AD$65)),_xlfn.XLOOKUP('シート2-2-2'!$D133,プルダウンデータリスト!$V$3:$V$9,プルダウンデータリスト!$W$3:$W$9,))))","v":"-"},null,"-","-",{"$f":"IF(D133=\"\",\"-\",_xlfn.XLOOKUP(D133,プルダウンデータリスト!$V$2:$V$9,プルダウンデータリスト!$X$2:$X$9,\"-\"))","v":"-"},"-"]
[94,null,null,null,null,null,{"$f":"IF($D134=\"\",\"-\",IF($E134=\"\",\"-\",IF($D134=\"製材（製材・集成材・ＣＬＴ等）\",IF($F134=\"\",\"-\",_xlfn.XLOOKUP('シート2-2-2'!$F134,プルダウンデータリスト!$AC$2:$AC$65,プルダウンデータリスト!$AD$2:$AD$65)),_xlfn.XLOOKUP('シート2-2-2'!$D134,プルダウンデータリスト!$V$3:$V$9,プルダウンデータリスト!$W$3:$W$9,))))","v":"-"},null,"-","-",{"$f":"IF(D134=\"\",\"-\",_xlfn.XLOOKUP(D134,プルダウンデータリスト!$V$2:$V$9,プルダウンデータリスト!$X$2:$X$9,\"-\"))","v":"-"},"-"]
[95,null,null,null,null,null,{"$f":"IF($D135=\"\",\"-\",IF($E135=\"\",\"-\",IF($D135=\"製材（製材・集成材・ＣＬＴ等）\",IF($F135=\"\",\"-\",_xlfn.XLOOKUP('シート2-2-2'!$F135,プルダウンデータリスト!$AC$2:$AC$65,プルダウンデータリスト!$AD$2:$AD$65)),_xlfn.XLOOKUP('シート2-2-2'!$D135,プルダウンデータリスト!$V$3:$V$9,プルダウンデータリスト!$W$3:$W$9,))))","v":"-"},null,"-","-",{"$f":"IF(D135=\"\",\"-\",_xlfn.XLOOKUP(D135,プルダウンデータリスト!$V$2:$V$9,プルダウンデータリスト!$X$2:$X$9,\"-\"))","v":"-"},"-"]
[96,null,null,null,null,null,{"$f":"IF($D136=\"\",\"-\",IF($E136=\"\",\"-\",IF($D136=\"製材（製材・集成材・ＣＬＴ等）\",IF($F136=\"\",\"-\",_xlfn.XLOOKUP('シート2-2-2'!$F136,プルダウンデータリスト!$AC$2:$AC$65,プルダウンデータリスト!$AD$2:$AD$65)),_xlfn.XLOOKUP('シート2-2-2'!$D136,プルダウンデータリスト!$V$3:$V$9,プルダウンデータリスト!$W$3:$W$9,))))","v":"-"},null,"-","-",{"$f":"IF(D136=\"\",\"-\",_xlfn.XLOOKUP(D136,プルダウンデータリスト!$V$2:$V$9,プルダウンデータリスト!$X$2:$X$9,\"-\"))","v":"-"},"-"]
[97,null,null,null,null,null,{"$f":"IF($D137=\"\",\"-\",IF($E137=\"\",\"-\",IF($D137=\"製材（製材・集成材・ＣＬＴ等）\",IF($F137=\"\",\"-\",_xlfn.XLOOKUP('シート2-2-2'!$F137,プルダウンデータリスト!$AC$2:$AC$65,プルダウンデータリスト!$AD$2:$AD$65)),_xlfn.XLOOKUP('シート2-2-2'!$D137,プルダウンデータリスト!$V$3:$V$9,プルダウンデータリスト!$W$3:$W$9,))))","v":"-"},null,{"$f":"IF(E137=\"\",\"-\",E137*C137)","v":"-"},{"$f":"IF(H137=\"\",\"-\",H137*C137)","v":"-"},{"$f":"IF(D137=\"\",\"-\",_xlfn.XLOOKUP(D137,プルダウンデータリスト!$V$2:$V$9,プルダウンデータリスト!$X$2:$X$9,\"-\"))","v":"-"},"-"]
[98,null,null,null,null,null,{"$f":"IF($D138=\"\",\"-\",IF($E138=\"\",\"-\",IF($D138=\"製材（製材・集成材・ＣＬＴ等）\",IF($F138=\"\",\"-\",_xlfn.XLOOKUP('シート2-2-2'!$F138,プルダウンデータリスト!$AC$2:$AC$65,プルダウンデータリスト!$AD$2:$AD$65)),_xlfn.XLOOKUP('シート2-2-2'!$D138,プルダウンデータリスト!$V$3:$V$9,プルダウンデータリスト!$W$3:$W$9,))))","v":"-"},null,"-","-",{"$f":"IF(D138=\"\",\"-\",_xlfn.XLOOKUP(D138,プルダウンデータリスト!$V$2:$V$9,プルダウンデータリスト!$X$2:$X$9,\"-\"))","v":"-"},"-"]
[99,null,null,null,null,null,{"$f":"IF($D139=\"\",\"-\",IF($E139=\"\",\"-\",IF($D139=\"製材（製材・集成材・ＣＬＴ等）\",IF($F139=\"\",\"-\",_xlfn.XLOOKUP('シート2-2-2'!$F139,プルダウンデータリスト!$AC$2:$AC$65,プルダウンデータリスト!$AD$2:$AD$65)),_xlfn.XLOOKUP('シート2-2-2'!$D139,プルダウンデータリスト!$V$3:$V$9,プルダウンデータリスト!$W$3:$W$9,))))","v":"-"},null,"-","-",{"$f":"IF(D139=\"\",\"-\",_xlfn.XLOOKUP(D139,プルダウンデータリスト!$V$2:$V$9,プルダウンデータリスト!$X$2:$X$9,\"-\"))","v":"-"},"-"]
[100,null,null,null,null,null,{"$f":"IF($D140=\"\",\"-\",IF($E140=\"\",\"-\",IF($D140=\"製材（製材・集成材・ＣＬＴ等）\",IF($F140=\"\",\"-\",_xlfn.XLOOKUP('シート2-2-2'!$F140,プルダウンデータリスト!$AC$2:$AC$65,プルダウンデータリスト!$AD$2:$AD$65)),_xlfn.XLOOKUP('シート2-2-2'!$D140,プルダウンデータリスト!$V$3:$V$9,プルダウンデータリスト!$W$3:$W$9,))))","v":"-"},null,"-","-",{"$f":"IF(D140=\"\",\"-\",_xlfn.XLOOKUP(D140,プルダウンデータリスト!$V$2:$V$9,プルダウンデータリスト!$X$2:$X$9,\"-\"))","v":"-"},"-"]
[101,null,null,null,null,null,{"$f":"IF($D141=\"\",\"-\",IF($E141=\"\",\"-\",IF($D141=\"製材（製材・集成材・ＣＬＴ等）\",IF($F141=\"\",\"-\",_xlfn.XLOOKUP('シート2-2-2'!$F141,プルダウンデータリスト!$AC$2:$AC$65,プルダウンデータリスト!$AD$2:$AD$65)),_xlfn.XLOOKUP('シート2-2-2'!$D141,プルダウンデータリスト!$V$3:$V$9,プルダウンデータリスト!$W$3:$W$9,))))","v":"-"},null,"-","-",{"$f":"IF(D141=\"\",\"-\",_xlfn.XLOOKUP(D141,プルダウンデータリスト!$V$2:$V$9,プルダウンデータリスト!$X$2:$X$9,\"-\"))","v":"-"},"-"]
[102,null,null,null,null,null,{"$f":"IF($D142=\"\",\"-\",IF($E142=\"\",\"-\",IF($D142=\"製材（製材・集成材・ＣＬＴ等）\",IF($F142=\"\",\"-\",_xlfn.XLOOKUP('シート2-2-2'!$F142,プルダウンデータリスト!$AC$2:$AC$65,プルダウンデータリスト!$AD$2:$AD$65)),_xlfn.XLOOKUP('シート2-2-2'!$D142,プルダウンデータリスト!$V$3:$V$9,プルダウンデータリスト!$W$3:$W$9,))))","v":"-"},null,"-","-",{"$f":"IF(D142=\"\",\"-\",_xlfn.XLOOKUP(D142,プルダウンデータリスト!$V$2:$V$9,プルダウンデータリスト!$X$2:$X$9,\"-\"))","v":"-"},"-"]
[103,null,null,null,null,null,{"$f":"IF($D143=\"\",\"-\",IF($E143=\"\",\"-\",IF($D143=\"製材（製材・集成材・ＣＬＴ等）\",IF($F143=\"\",\"-\",_xlfn.XLOOKUP('シート2-2-2'!$F143,プルダウンデータリスト!$AC$2:$AC$65,プルダウンデータリスト!$AD$2:$AD$65)),_xlfn.XLOOKUP('シート2-2-2'!$D143,プルダウンデータリスト!$V$3:$V$9,プルダウンデータリスト!$W$3:$W$9,))))","v":"-"},null,"-","-",{"$f":"IF(D143=\"\",\"-\",_xlfn.XLOOKUP(D143,プルダウンデータリスト!$V$2:$V$9,プルダウンデータリスト!$X$2:$X$9,\"-\"))","v":"-"},"-"]
[104,null,null,null,null,null,{"$f":"IF($D144=\"\",\"-\",IF($E144=\"\",\"-\",IF($D144=\"製材（製材・集成材・ＣＬＴ等）\",IF($F144=\"\",\"-\",_xlfn.XLOOKUP('シート2-2-2'!$F144,プルダウンデータリスト!$AC$2:$AC$65,プルダウンデータリスト!$AD$2:$AD$65)),_xlfn.XLOOKUP('シート2-2-2'!$D144,プルダウンデータリスト!$V$3:$V$9,プルダウンデータリスト!$W$3:$W$9,))))","v":"-"},null,"-","-",{"$f":"IF(D144=\"\",\"-\",_xlfn.XLOOKUP(D144,プルダウンデータリスト!$V$2:$V$9,プルダウンデータリスト!$X$2:$X$9,\"-\"))","v":"-"},"-"]
[105,null,null,null,null,null,{"$f":"IF($D145=\"\",\"-\",IF($E145=\"\",\"-\",IF($D145=\"製材（製材・集成材・ＣＬＴ等）\",IF($F145=\"\",\"-\",_xlfn.XLOOKUP('シート2-2-2'!$F145,プルダウンデータリスト!$AC$2:$AC$65,プルダウンデータリスト!$AD$2:$AD$65)),_xlfn.XLOOKUP('シート2-2-2'!$D145,プルダウンデータリスト!$V$3:$V$9,プルダウンデータリスト!$W$3:$W$9,))))","v":"-"},null,"-","-",{"$f":"IF(D145=\"\",\"-\",_xlfn.XLOOKUP(D145,プルダウンデータリスト!$V$2:$V$9,プルダウンデータリスト!$X$2:$X$9,\"-\"))","v":"-"},"-"]
[106,null,null,null,null,null,{"$f":"IF($D146=\"\",\"-\",IF($E146=\"\",\"-\",IF($D146=\"製材（製材・集成材・ＣＬＴ等）\",IF($F146=\"\",\"-\",_xlfn.XLOOKUP('シート2-2-2'!$F146,プルダウンデータリスト!$AC$2:$AC$65,プルダウンデータリスト!$AD$2:$AD$65)),_xlfn.XLOOKUP('シート2-2-2'!$D146,プルダウンデータリスト!$V$3:$V$9,プルダウンデータリスト!$W$3:$W$9,))))","v":"-"},null,"-","-",{"$f":"IF(D146=\"\",\"-\",_xlfn.XLOOKUP(D146,プルダウンデータリスト!$V$2:$V$9,プルダウンデータリスト!$X$2:$X$9,\"-\"))","v":"-"},"-"]
[107,null,null,null,null,null,{"$f":"IF($D147=\"\",\"-\",IF($E147=\"\",\"-\",IF($D147=\"製材（製材・集成材・ＣＬＴ等）\",IF($F147=\"\",\"-\",_xlfn.XLOOKUP('シート2-2-2'!$F147,プルダウンデータリスト!$AC$2:$AC$65,プルダウンデータリスト!$AD$2:$AD$65)),_xlfn.XLOOKUP('シート2-2-2'!$D147,プルダウンデータリスト!$V$3:$V$9,プルダウンデータリスト!$W$3:$W$9,))))","v":"-"},null,"-","-",{"$f":"IF(D147=\"\",\"-\",_xlfn.XLOOKUP(D147,プルダウンデータリスト!$V$2:$V$9,プルダウンデータリスト!$X$2:$X$9,\"-\"))","v":"-"},"-"]
[108,null,null,null,null,null,{"$f":"IF($D148=\"\",\"-\",IF($E148=\"\",\"-\",IF($D148=\"製材（製材・集成材・ＣＬＴ等）\",IF($F148=\"\",\"-\",_xlfn.XLOOKUP('シート2-2-2'!$F148,プルダウンデータリスト!$AC$2:$AC$65,プルダウンデータリスト!$AD$2:$AD$65)),_xlfn.XLOOKUP('シート2-2-2'!$D148,プルダウンデータリスト!$V$3:$V$9,プルダウンデータリスト!$W$3:$W$9,))))","v":"-"},null,"-","-",{"$f":"IF(D148=\"\",\"-\",_xlfn.XLOOKUP(D148,プルダウンデータリスト!$V$2:$V$9,プルダウンデータリスト!$X$2:$X$9,\"-\"))","v":"-"},"-"]
[109,null,null,null,null,null,{"$f":"IF($D149=\"\",\"-\",IF($E149=\"\",\"-\",IF($D149=\"製材（製材・集成材・ＣＬＴ等）\",IF($F149=\"\",\"-\",_xlfn.XLOOKUP('シート2-2-2'!$F149,プルダウンデータリスト!$AC$2:$AC$65,プルダウンデータリスト!$AD$2:$AD$65)),_xlfn.XLOOKUP('シート2-2-2'!$D149,プルダウンデータリスト!$V$3:$V$9,プルダウンデータリスト!$W$3:$W$9,))))","v":"-"},null,"-","-",{"$f":"IF(D149=\"\",\"-\",_xlfn.XLOOKUP(D149,プルダウンデータリスト!$V$2:$V$9,プルダウンデータリスト!$X$2:$X$9,\"-\"))","v":"-"},"-"]
[110,null,null,null,null,null,{"$f":"IF($D150=\"\",\"-\",IF($E150=\"\",\"-\",IF($D150=\"製材（製材・集成材・ＣＬＴ等）\",IF($F150=\"\",\"-\",_xlfn.XLOOKUP('シート2-2-2'!$F150,プルダウンデータリスト!$AC$2:$AC$65,プルダウンデータリスト!$AD$2:$AD$65)),_xlfn.XLOOKUP('シート2-2-2'!$D150,プルダウンデータリスト!$V$3:$V$9,プルダウンデータリスト!$W$3:$W$9,))))","v":"-"},null,"-","-",{"$f":"IF(D150=\"\",\"-\",_xlfn.XLOOKUP(D150,プルダウンデータリスト!$V$2:$V$9,プルダウンデータリスト!$X$2:$X$9,\"-\"))","v":"-"},"-"]
[111,null,null,null,null,null,{"$f":"IF($D151=\"\",\"-\",IF($E151=\"\",\"-\",IF($D151=\"製材（製材・集成材・ＣＬＴ等）\",IF($F151=\"\",\"-\",_xlfn.XLOOKUP('シート2-2-2'!$F151,プルダウンデータリスト!$AC$2:$AC$65,プルダウンデータリスト!$AD$2:$AD$65)),_xlfn.XLOOKUP('シート2-2-2'!$D151,プルダウンデータリスト!$V$3:$V$9,プルダウンデータリスト!$W$3:$W$9,))))","v":"-"},null,"-","-",{"$f":"IF(D151=\"\",\"-\",_xlfn.XLOOKUP(D151,プルダウンデータリスト!$V$2:$V$9,プルダウンデータリスト!$X$2:$X$9,\"-\"))","v":"-"},"-"]
[112,null,null,null,null,null,{"$f":"IF($D152=\"\",\"-\",IF($E152=\"\",\"-\",IF($D152=\"製材（製材・集成材・ＣＬＴ等）\",IF($F152=\"\",\"-\",_xlfn.XLOOKUP('シート2-2-2'!$F152,プルダウンデータリスト!$AC$2:$AC$65,プルダウンデータリスト!$AD$2:$AD$65)),_xlfn.XLOOKUP('シート2-2-2'!$D152,プルダウンデータリスト!$V$3:$V$9,プルダウンデータリスト!$W$3:$W$9,))))","v":"-"},null,"-","-",{"$f":"IF(D152=\"\",\"-\",_xlfn.XLOOKUP(D152,プルダウンデータリスト!$V$2:$V$9,プルダウンデータリスト!$X$2:$X$9,\"-\"))","v":"-"},"-"]
[113,null,null,null,null,null,{"$f":"IF($D153=\"\",\"-\",IF($E153=\"\",\"-\",IF($D153=\"製材（製材・集成材・ＣＬＴ等）\",IF($F153=\"\",\"-\",_xlfn.XLOOKUP('シート2-2-2'!$F153,プルダウンデータリスト!$AC$2:$AC$65,プルダウンデータリスト!$AD$2:$AD$65)),_xlfn.XLOOKUP('シート2-2-2'!$D153,プルダウンデータリスト!$V$3:$V$9,プルダウンデータリスト!$W$3:$W$9,))))","v":"-"},null,"-","-",{"$f":"IF(D153=\"\",\"-\",_xlfn.XLOOKUP(D153,プルダウンデータリスト!$V$2:$V$9,プルダウンデータリスト!$X$2:$X$9,\"-\"))","v":"-"},"-"]
[114,null,null,null,null,null,{"$f":"IF($D154=\"\",\"-\",IF($E154=\"\",\"-\",IF($D154=\"製材（製材・集成材・ＣＬＴ等）\",IF($F154=\"\",\"-\",_xlfn.XLOOKUP('シート2-2-2'!$F154,プルダウンデータリスト!$AC$2:$AC$65,プルダウンデータリスト!$AD$2:$AD$65)),_xlfn.XLOOKUP('シート2-2-2'!$D154,プルダウンデータリスト!$V$3:$V$9,プルダウンデータリスト!$W$3:$W$9,))))","v":"-"},null,"-","-",{"$f":"IF(D154=\"\",\"-\",_xlfn.XLOOKUP(D154,プルダウンデータリスト!$V$2:$V$9,プルダウンデータリスト!$X$2:$X$9,\"-\"))","v":"-"},"-"]
[115,null,null,null,null,null,{"$f":"IF($D155=\"\",\"-\",IF($E155=\"\",\"-\",IF($D155=\"製材（製材・集成材・ＣＬＴ等）\",IF($F155=\"\",\"-\",_xlfn.XLOOKUP('シート2-2-2'!$F155,プルダウンデータリスト!$AC$2:$AC$65,プルダウンデータリスト!$AD$2:$AD$65)),_xlfn.XLOOKUP('シート2-2-2'!$D155,プルダウンデータリスト!$V$3:$V$9,プルダウンデータリスト!$W$3:$W$9,))))","v":"-"},null,"-","-",{"$f":"IF(D155=\"\",\"-\",_xlfn.XLOOKUP(D155,プルダウンデータリスト!$V$2:$V$9,プルダウンデータリスト!$X$2:$X$9,\"-\"))","v":"-"},"-"]
[116,null,null,null,null,null,{"$f":"IF($D156=\"\",\"-\",IF($E156=\"\",\"-\",IF($D156=\"製材（製材・集成材・ＣＬＴ等）\",IF($F156=\"\",\"-\",_xlfn.XLOOKUP('シート2-2-2'!$F156,プルダウンデータリスト!$AC$2:$AC$65,プルダウンデータリスト!$AD$2:$AD$65)),_xlfn.XLOOKUP('シート2-2-2'!$D156,プルダウンデータリスト!$V$3:$V$9,プルダウンデータリスト!$W$3:$W$9,))))","v":"-"},null,"-","-",{"$f":"IF(D156=\"\",\"-\",_xlfn.XLOOKUP(D156,プルダウンデータリスト!$V$2:$V$9,プルダウンデータリスト!$X$2:$X$9,\"-\"))","v":"-"},"-"]
[117,null,null,null,null,null,{"$f":"IF($D157=\"\",\"-\",IF($E157=\"\",\"-\",IF($D157=\"製材（製材・集成材・ＣＬＴ等）\",IF($F157=\"\",\"-\",_xlfn.XLOOKUP('シート2-2-2'!$F157,プルダウンデータリスト!$AC$2:$AC$65,プルダウンデータリスト!$AD$2:$AD$65)),_xlfn.XLOOKUP('シート2-2-2'!$D157,プルダウンデータリスト!$V$3:$V$9,プルダウンデータリスト!$W$3:$W$9,))))","v":"-"},null,"-","-",{"$f":"IF(D157=\"\",\"-\",_xlfn.XLOOKUP(D157,プルダウンデータリスト!$V$2:$V$9,プルダウンデータリスト!$X$2:$X$9,\"-\"))","v":"-"},"-"]
[118,null,null,null,null,null,{"$f":"IF($D158=\"\",\"-\",IF($E158=\"\",\"-\",IF($D158=\"製材（製材・集成材・ＣＬＴ等）\",IF($F158=\"\",\"-\",_xlfn.XLOOKUP('シート2-2-2'!$F158,プルダウンデータリスト!$AC$2:$AC$65,プルダウンデータリスト!$AD$2:$AD$65)),_xlfn.XLOOKUP('シート2-2-2'!$D158,プルダウンデータリスト!$V$3:$V$9,プルダウンデータリスト!$W$3:$W$9,))))","v":"-"},null,"-","-",{"$f":"IF(D158=\"\",\"-\",_xlfn.XLOOKUP(D158,プルダウンデータリスト!$V$2:$V$9,プルダウンデータリスト!$X$2:$X$9,\"-\"))","v":"-"},"-"]
[119,null,null,null,null,null,{"$f":"IF($D159=\"\",\"-\",IF($E159=\"\",\"-\",IF($D159=\"製材（製材・集成材・ＣＬＴ等）\",IF($F159=\"\",\"-\",_xlfn.XLOOKUP('シート2-2-2'!$F159,プルダウンデータリスト!$AC$2:$AC$65,プルダウンデータリスト!$AD$2:$AD$65)),_xlfn.XLOOKUP('シート2-2-2'!$D159,プルダウンデータリスト!$V$3:$V$9,プルダウンデータリスト!$W$3:$W$9,))))","v":"-"},null,"-","-",{"$f":"IF(D159=\"\",\"-\",_xlfn.XLOOKUP(D159,プルダウンデータリスト!$V$2:$V$9,プルダウンデータリスト!$X$2:$X$9,\"-\"))","v":"-"},"-"]
[120,null,null,null,null,null,{"$f":"IF($D160=\"\",\"-\",IF($E160=\"\",\"-\",IF($D160=\"製材（製材・集成材・ＣＬＴ等）\",IF($F160=\"\",\"-\",_xlfn.XLOOKUP('シート2-2-2'!$F160,プルダウンデータリスト!$AC$2:$AC$65,プルダウンデータリスト!$AD$2:$AD$65)),_xlfn.XLOOKUP('シート2-2-2'!$D160,プルダウンデータリスト!$V$3:$V$9,プルダウンデータリスト!$W$3:$W$9,))))","v":"-"},null,"-","-",{"$f":"IF(D160=\"\",\"-\",_xlfn.XLOOKUP(D160,プルダウンデータリスト!$V$2:$V$9,プルダウンデータリスト!$X$2:$X$9,\"-\"))","v":"-"},"-"]
[121,null,null,null,null,null,{"$f":"IF($D161=\"\",\"-\",IF($E161=\"\",\"-\",IF($D161=\"製材（製材・集成材・ＣＬＴ等）\",IF($F161=\"\",\"-\",_xlfn.XLOOKUP('シート2-2-2'!$F161,プルダウンデータリスト!$AC$2:$AC$65,プルダウンデータリスト!$AD$2:$AD$65)),_xlfn.XLOOKUP('シート2-2-2'!$D161,プルダウンデータリスト!$V$3:$V$9,プルダウンデータリスト!$W$3:$W$9,))))","v":"-"},null,"-","-",{"$f":"IF(D161=\"\",\"-\",_xlfn.XLOOKUP(D161,プルダウンデータリスト!$V$2:$V$9,プルダウンデータリスト!$X$2:$X$9,\"-\"))","v":"-"},"-"]
[122,null,null,null,null,null,{"$f":"IF($D162=\"\",\"-\",IF($E162=\"\",\"-\",IF($D162=\"製材（製材・集成材・ＣＬＴ等）\",IF($F162=\"\",\"-\",_xlfn.XLOOKUP('シート2-2-2'!$F162,プルダウンデータリスト!$AC$2:$AC$65,プルダウンデータリスト!$AD$2:$AD$65)),_xlfn.XLOOKUP('シート2-2-2'!$D162,プルダウンデータリスト!$V$3:$V$9,プルダウンデータリスト!$W$3:$W$9,))))","v":"-"},null,"-","-",{"$f":"IF(D162=\"\",\"-\",_xlfn.XLOOKUP(D162,プルダウンデータリスト!$V$2:$V$9,プルダウンデータリスト!$X$2:$X$9,\"-\"))","v":"-"},"-"]
[123,null,null,null,null,null,{"$f":"IF($D163=\"\",\"-\",IF($E163=\"\",\"-\",IF($D163=\"製材（製材・集成材・ＣＬＴ等）\",IF($F163=\"\",\"-\",_xlfn.XLOOKUP('シート2-2-2'!$F163,プルダウンデータリスト!$AC$2:$AC$65,プルダウンデータリスト!$AD$2:$AD$65)),_xlfn.XLOOKUP('シート2-2-2'!$D163,プルダウンデータリスト!$V$3:$V$9,プルダウンデータリスト!$W$3:$W$9,))))","v":"-"},null,"-","-",{"$f":"IF(D163=\"\",\"-\",_xlfn.XLOOKUP(D163,プルダウンデータリスト!$V$2:$V$9,プルダウンデータリスト!$X$2:$X$9,\"-\"))","v":"-"},"-"]
[124,null,null,null,null,null,{"$f":"IF($D164=\"\",\"-\",IF($E164=\"\",\"-\",IF($D164=\"製材（製材・集成材・ＣＬＴ等）\",IF($F164=\"\",\"-\",_xlfn.XLOOKUP('シート2-2-2'!$F164,プルダウンデータリスト!$AC$2:$AC$65,プルダウンデータリスト!$AD$2:$AD$65)),_xlfn.XLOOKUP('シート2-2-2'!$D164,プルダウンデータリスト!$V$3:$V$9,プルダウンデータリスト!$W$3:$W$9,))))","v":"-"},null,"-","-",{"$f":"IF(D164=\"\",\"-\",_xlfn.XLOOKUP(D164,プルダウンデータリスト!$V$2:$V$9,プルダウンデータリスト!$X$2:$X$9,\"-\"))","v":"-"},"-"]
[125,null,null,null,null,null,{"$f":"IF($D165=\"\",\"-\",IF($E165=\"\",\"-\",IF($D165=\"製材（製材・集成材・ＣＬＴ等）\",IF($F165=\"\",\"-\",_xlfn.XLOOKUP('シート2-2-2'!$F165,プルダウンデータリスト!$AC$2:$AC$65,プルダウンデータリスト!$AD$2:$AD$65)),_xlfn.XLOOKUP('シート2-2-2'!$D165,プルダウンデータリスト!$V$3:$V$9,プルダウンデータリスト!$W$3:$W$9,))))","v":"-"},null,"-","-",{"$f":"IF(D165=\"\",\"-\",_xlfn.XLOOKUP(D165,プルダウンデータリスト!$V$2:$V$9,プルダウンデータリスト!$X$2:$X$9,\"-\"))","v":"-"},"-"]
[126,null,null,null,null,null,{"$f":"IF($D166=\"\",\"-\",IF($E166=\"\",\"-\",IF($D166=\"製材（製材・集成材・ＣＬＴ等）\",IF($F166=\"\",\"-\",_xlfn.XLOOKUP('シート2-2-2'!$F166,プルダウンデータリスト!$AC$2:$AC$65,プルダウンデータリスト!$AD$2:$AD$65)),_xlfn.XLOOKUP('シート2-2-2'!$D166,プルダウンデータリスト!$V$3:$V$9,プルダウンデータリスト!$W$3:$W$9,))))","v":"-"},null,"-","-",{"$f":"IF(D166=\"\",\"-\",_xlfn.XLOOKUP(D166,プルダウンデータリスト!$V$2:$V$9,プルダウンデータリスト!$X$2:$X$9,\"-\"))","v":"-"},"-"]
[127,null,null,null,null,null,{"$f":"IF($D167=\"\",\"-\",IF($E167=\"\",\"-\",IF($D167=\"製材（製材・集成材・ＣＬＴ等）\",IF($F167=\"\",\"-\",_xlfn.XLOOKUP('シート2-2-2'!$F167,プルダウンデータリスト!$AC$2:$AC$65,プルダウンデータリスト!$AD$2:$AD$65)),_xlfn.XLOOKUP('シート2-2-2'!$D167,プルダウンデータリスト!$V$3:$V$9,プルダウンデータリスト!$W$3:$W$9,))))","v":"-"},null,"-","-",{"$f":"IF(D167=\"\",\"-\",_xlfn.XLOOKUP(D167,プルダウンデータリスト!$V$2:$V$9,プルダウンデータリスト!$X$2:$X$9,\"-\"))","v":"-"},"-"]
[128,null,null,null,null,null,{"$f":"IF($D168=\"\",\"-\",IF($E168=\"\",\"-\",IF($D168=\"製材（製材・集成材・ＣＬＴ等）\",IF($F168=\"\",\"-\",_xlfn.XLOOKUP('シート2-2-2'!$F168,プルダウンデータリスト!$AC$2:$AC$65,プルダウンデータリスト!$AD$2:$AD$65)),_xlfn.XLOOKUP('シート2-2-2'!$D168,プルダウンデータリスト!$V$3:$V$9,プルダウンデータリスト!$W$3:$W$9,))))","v":"-"},null,"-","-",{"$f":"IF(D168=\"\",\"-\",_xlfn.XLOOKUP(D168,プルダウンデータリスト!$V$2:$V$9,プルダウンデータリスト!$X$2:$X$9,\"-\"))","v":"-"},"-"]
[129,null,null,null,null,null,{"$f":"IF($D169=\"\",\"-\",IF($E169=\"\",\"-\",IF($D169=\"製材（製材・集成材・ＣＬＴ等）\",IF($F169=\"\",\"-\",_xlfn.XLOOKUP('シート2-2-2'!$F169,プルダウンデータリスト!$AC$2:$AC$65,プルダウンデータリスト!$AD$2:$AD$65)),_xlfn.XLOOKUP('シート2-2-2'!$D169,プルダウンデータリスト!$V$3:$V$9,プルダウンデータリスト!$W$3:$W$9,))))","v":"-"},null,{"$f":"IF(E169=\"\",\"-\",E169*C169)","v":"-"},{"$f":"IF(H169=\"\",\"-\",H169*C169)","v":"-"},{"$f":"IF(D169=\"\",\"-\",_xlfn.XLOOKUP(D169,プルダウンデータリスト!$V$2:$V$9,プルダウンデータリスト!$X$2:$X$9,\"-\"))","v":"-"},"-"]
[130,null,null,null,null,null,{"$f":"IF($D170=\"\",\"-\",IF($E170=\"\",\"-\",IF($D170=\"製材（製材・集成材・ＣＬＴ等）\",IF($F170=\"\",\"-\",_xlfn.XLOOKUP('シート2-2-2'!$F170,プルダウンデータリスト!$AC$2:$AC$65,プルダウンデータリスト!$AD$2:$AD$65)),_xlfn.XLOOKUP('シート2-2-2'!$D170,プルダウンデータリスト!$V$3:$V$9,プルダウンデータリスト!$W$3:$W$9,))))","v":"-"},null,"-","-",{"$f":"IF(D170=\"\",\"-\",_xlfn.XLOOKUP(D170,プルダウンデータリスト!$V$2:$V$9,プルダウンデータリスト!$X$2:$X$9,\"-\"))","v":"-"},{"$f":"IFERROR(IF(LEN(E170)>0,I170*G170*K170,IF(LEN(H170)>0,J170*K170/1000,\"-\")),\"-\")","v":"-"}]
[131,null,null,null,null,null,{"$f":"IF($D171=\"\",\"-\",IF($E171=\"\",\"-\",IF($D171=\"製材（製材・集成材・ＣＬＴ等）\",IF($F171=\"\",\"-\",_xlfn.XLOOKUP('シート2-2-2'!$F171,プルダウンデータリスト!$AC$2:$AC$65,プルダウンデータリスト!$AD$2:$AD$65)),_xlfn.XLOOKUP('シート2-2-2'!$D171,プルダウンデータリスト!$V$3:$V$9,プルダウンデータリスト!$W$3:$W$9,))))","v":"-"},null,"-","-",{"$f":"IF(D171=\"\",\"-\",_xlfn.XLOOKUP(D171,プルダウンデータリスト!$V$2:$V$9,プルダウンデータリスト!$X$2:$X$9,\"-\"))","v":"-"},"-"]
[132,null,null,null,null,null,{"$f":"IF($D172=\"\",\"-\",IF($E172=\"\",\"-\",IF($D172=\"製材（製材・集成材・ＣＬＴ等）\",IF($F172=\"\",\"-\",_xlfn.XLOOKUP('シート2-2-2'!$F172,プルダウンデータリスト!$AC$2:$AC$65,プルダウンデータリスト!$AD$2:$AD$65)),_xlfn.XLOOKUP('シート2-2-2'!$D172,プルダウンデータリスト!$V$3:$V$9,プルダウンデータリスト!$W$3:$W$9,))))","v":"-"},null,"-","-",{"$f":"IF(D172=\"\",\"-\",_xlfn.XLOOKUP(D172,プルダウンデータリスト!$V$2:$V$9,プルダウンデータリスト!$X$2:$X$9,\"-\"))","v":"-"},"-"]
[133,null,null,null,null,null,{"$f":"IF($D173=\"\",\"-\",IF($E173=\"\",\"-\",IF($D173=\"製材（製材・集成材・ＣＬＴ等）\",IF($F173=\"\",\"-\",_xlfn.XLOOKUP('シート2-2-2'!$F173,プルダウンデータリスト!$AC$2:$AC$65,プルダウンデータリスト!$AD$2:$AD$65)),_xlfn.XLOOKUP('シート2-2-2'!$D173,プルダウンデータリスト!$V$3:$V$9,プルダウンデータリスト!$W$3:$W$9,))))","v":"-"},null,"-","-",{"$f":"IF(D173=\"\",\"-\",_xlfn.XLOOKUP(D173,プルダウンデータリスト!$V$2:$V$9,プルダウンデータリスト!$X$2:$X$9,\"-\"))","v":"-"},"-"]
[134,null,null,null,null,null,{"$f":"IF($D174=\"\",\"-\",IF($E174=\"\",\"-\",IF($D174=\"製材（製材・集成材・ＣＬＴ等）\",IF($F174=\"\",\"-\",_xlfn.XLOOKUP('シート2-2-2'!$F174,プルダウンデータリスト!$AC$2:$AC$65,プルダウンデータリスト!$AD$2:$AD$65)),_xlfn.XLOOKUP('シート2-2-2'!$D174,プルダウンデータリスト!$V$3:$V$9,プルダウンデータリスト!$W$3:$W$9,))))","v":"-"},null,"-","-",{"$f":"IF(D174=\"\",\"-\",_xlfn.XLOOKUP(D174,プルダウンデータリスト!$V$2:$V$9,プルダウンデータリスト!$X$2:$X$9,\"-\"))","v":"-"},"-"]
[135,null,null,null,null,null,{"$f":"IF($D175=\"\",\"-\",IF($E175=\"\",\"-\",IF($D175=\"製材（製材・集成材・ＣＬＴ等）\",IF($F175=\"\",\"-\",_xlfn.XLOOKUP('シート2-2-2'!$F175,プルダウンデータリスト!$AC$2:$AC$65,プルダウンデータリスト!$AD$2:$AD$65)),_xlfn.XLOOKUP('シート2-2-2'!$D175,プルダウンデータリスト!$V$3:$V$9,プルダウンデータリスト!$W$3:$W$9,))))","v":"-"},null,"-","-",{"$f":"IF(D175=\"\",\"-\",_xlfn.XLOOKUP(D175,プルダウンデータリスト!$V$2:$V$9,プルダウンデータリスト!$X$2:$X$9,\"-\"))","v":"-"},"-"]
[136,null,null,null,null,null,{"$f":"IF($D176=\"\",\"-\",IF($E176=\"\",\"-\",IF($D176=\"製材（製材・集成材・ＣＬＴ等）\",IF($F176=\"\",\"-\",_xlfn.XLOOKUP('シート2-2-2'!$F176,プルダウンデータリスト!$AC$2:$AC$65,プルダウンデータリスト!$AD$2:$AD$65)),_xlfn.XLOOKUP('シート2-2-2'!$D176,プルダウンデータリスト!$V$3:$V$9,プルダウンデータリスト!$W$3:$W$9,))))","v":"-"},null,"-","-",{"$f":"IF(D176=\"\",\"-\",_xlfn.XLOOKUP(D176,プルダウンデータリスト!$V$2:$V$9,プルダウンデータリスト!$X$2:$X$9,\"-\"))","v":"-"},"-"]
[137,null,null,null,null,null,{"$f":"IF($D177=\"\",\"-\",IF($E177=\"\",\"-\",IF($D177=\"製材（製材・集成材・ＣＬＴ等）\",IF($F177=\"\",\"-\",_xlfn.XLOOKUP('シート2-2-2'!$F177,プルダウンデータリスト!$AC$2:$AC$65,プルダウンデータリスト!$AD$2:$AD$65)),_xlfn.XLOOKUP('シート2-2-2'!$D177,プルダウンデータリスト!$V$3:$V$9,プルダウンデータリスト!$W$3:$W$9,))))","v":"-"},null,"-","-",{"$f":"IF(D177=\"\",\"-\",_xlfn.XLOOKUP(D177,プルダウンデータリスト!$V$2:$V$9,プルダウンデータリスト!$X$2:$X$9,\"-\"))","v":"-"},"-"]
[138,null,null,null,null,null,{"$f":"IF($D178=\"\",\"-\",IF($E178=\"\",\"-\",IF($D178=\"製材（製材・集成材・ＣＬＴ等）\",IF($F178=\"\",\"-\",_xlfn.XLOOKUP('シート2-2-2'!$F178,プルダウンデータリスト!$AC$2:$AC$65,プルダウンデータリスト!$AD$2:$AD$65)),_xlfn.XLOOKUP('シート2-2-2'!$D178,プルダウンデータリスト!$V$3:$V$9,プルダウンデータリスト!$W$3:$W$9,))))","v":"-"},null,"-","-",{"$f":"IF(D178=\"\",\"-\",_xlfn.XLOOKUP(D178,プルダウンデータリスト!$V$2:$V$9,プルダウンデータリスト!$X$2:$X$9,\"-\"))","v":"-"},"-"]
[139,null,null,null,null,null,{"$f":"IF($D179=\"\",\"-\",IF($E179=\"\",\"-\",IF($D179=\"製材（製材・集成材・ＣＬＴ等）\",IF($F179=\"\",\"-\",_xlfn.XLOOKUP('シート2-2-2'!$F179,プルダウンデータリスト!$AC$2:$AC$65,プルダウンデータリスト!$AD$2:$AD$65)),_xlfn.XLOOKUP('シート2-2-2'!$D179,プルダウンデータリスト!$V$3:$V$9,プルダウンデータリスト!$W$3:$W$9,))))","v":"-"},null,"-","-",{"$f":"IF(D179=\"\",\"-\",_xlfn.XLOOKUP(D179,プルダウンデータリスト!$V$2:$V$9,プルダウンデータリスト!$X$2:$X$9,\"-\"))","v":"-"},"-"]
[140,null,null,null,null,null,{"$f":"IF($D180=\"\",\"-\",IF($E180=\"\",\"-\",IF($D180=\"製材（製材・集成材・ＣＬＴ等）\",IF($F180=\"\",\"-\",_xlfn.XLOOKUP('シート2-2-2'!$F180,プルダウンデータリスト!$AC$2:$AC$65,プルダウンデータリスト!$AD$2:$AD$65)),_xlfn.XLOOKUP('シート2-2-2'!$D180,プルダウンデータリスト!$V$3:$V$9,プルダウンデータリスト!$W$3:$W$9,))))","v":"-"},null,"-","-",{"$f":"IF(D180=\"\",\"-\",_xlfn.XLOOKUP(D180,プルダウンデータリスト!$V$2:$V$9,プルダウンデータリスト!$X$2:$X$9,\"-\"))","v":"-"},"-"]
[141,null,null,null,null,null,{"$f":"IF($D181=\"\",\"-\",IF($E181=\"\",\"-\",IF($D181=\"製材（製材・集成材・ＣＬＴ等）\",IF($F181=\"\",\"-\",_xlfn.XLOOKUP('シート2-2-2'!$F181,プルダウンデータリスト!$AC$2:$AC$65,プルダウンデータリスト!$AD$2:$AD$65)),_xlfn.XLOOKUP('シート2-2-2'!$D181,プルダウンデータリスト!$V$3:$V$9,プルダウンデータリスト!$W$3:$W$9,))))","v":"-"},null,"-","-",{"$f":"IF(D181=\"\",\"-\",_xlfn.XLOOKUP(D181,プルダウンデータリスト!$V$2:$V$9,プルダウンデータリスト!$X$2:$X$9,\"-\"))","v":"-"},"-"]
[142,null,null,null,null,null,{"$f":"IF($D182=\"\",\"-\",IF($E182=\"\",\"-\",IF($D182=\"製材（製材・集成材・ＣＬＴ等）\",IF($F182=\"\",\"-\",_xlfn.XLOOKUP('シート2-2-2'!$F182,プルダウンデータリスト!$AC$2:$AC$65,プルダウンデータリスト!$AD$2:$AD$65)),_xlfn.XLOOKUP('シート2-2-2'!$D182,プルダウンデータリスト!$V$3:$V$9,プルダウンデータリスト!$W$3:$W$9,))))","v":"-"},null,"-","-",{"$f":"IF(D182=\"\",\"-\",_xlfn.XLOOKUP(D182,プルダウンデータリスト!$V$2:$V$9,プルダウンデータリスト!$X$2:$X$9,\"-\"))","v":"-"},"-"]
[143,null,null,null,null,null,{"$f":"IF($D183=\"\",\"-\",IF($E183=\"\",\"-\",IF($D183=\"製材（製材・集成材・ＣＬＴ等）\",IF($F183=\"\",\"-\",_xlfn.XLOOKUP('シート2-2-2'!$F183,プルダウンデータリスト!$AC$2:$AC$65,プルダウンデータリスト!$AD$2:$AD$65)),_xlfn.XLOOKUP('シート2-2-2'!$D183,プルダウンデータリスト!$V$3:$V$9,プルダウンデータリスト!$W$3:$W$9,))))","v":"-"},null,"-","-",{"$f":"IF(D183=\"\",\"-\",_xlfn.XLOOKUP(D183,プルダウンデータリスト!$V$2:$V$9,プルダウンデータリスト!$X$2:$X$9,\"-\"))","v":"-"},"-"]
[144,null,null,null,null,null,{"$f":"IF($D184=\"\",\"-\",IF($E184=\"\",\"-\",IF($D184=\"製材（製材・集成材・ＣＬＴ等）\",IF($F184=\"\",\"-\",_xlfn.XLOOKUP('シート2-2-2'!$F184,プルダウンデータリスト!$AC$2:$AC$65,プルダウンデータリスト!$AD$2:$AD$65)),_xlfn.XLOOKUP('シート2-2-2'!$D184,プルダウンデータリスト!$V$3:$V$9,プルダウンデータリスト!$W$3:$W$9,))))","v":"-"},null,"-","-",{"$f":"IF(D184=\"\",\"-\",_xlfn.XLOOKUP(D184,プルダウンデータリスト!$V$2:$V$9,プルダウンデータリスト!$X$2:$X$9,\"-\"))","v":"-"},"-"]
[145,null,null,null,null,null,{"$f":"IF($D185=\"\",\"-\",IF($E185=\"\",\"-\",IF($D185=\"製材（製材・集成材・ＣＬＴ等）\",IF($F185=\"\",\"-\",_xlfn.XLOOKUP('シート2-2-2'!$F185,プルダウンデータリスト!$AC$2:$AC$65,プルダウンデータリスト!$AD$2:$AD$65)),_xlfn.XLOOKUP('シート2-2-2'!$D185,プルダウンデータリスト!$V$3:$V$9,プルダウンデータリスト!$W$3:$W$9,))))","v":"-"},null,"-","-",{"$f":"IF(D185=\"\",\"-\",_xlfn.XLOOKUP(D185,プルダウンデータリスト!$V$2:$V$9,プルダウンデータリスト!$X$2:$X$9,\"-\"))","v":"-"},"-"]
[146,null,null,null,null,null,{"$f":"IF($D186=\"\",\"-\",IF($E186=\"\",\"-\",IF($D186=\"製材（製材・集成材・ＣＬＴ等）\",IF($F186=\"\",\"-\",_xlfn.XLOOKUP('シート2-2-2'!$F186,プルダウンデータリスト!$AC$2:$AC$65,プルダウンデータリスト!$AD$2:$AD$65)),_xlfn.XLOOKUP('シート2-2-2'!$D186,プルダウンデータリスト!$V$3:$V$9,プルダウンデータリスト!$W$3:$W$9,))))","v":"-"},null,"-","-",{"$f":"IF(D186=\"\",\"-\",_xlfn.XLOOKUP(D186,プルダウンデータリスト!$V$2:$V$9,プルダウンデータリスト!$X$2:$X$9,\"-\"))","v":"-"},"-"]
[147,null,null,null,null,null,{"$f":"IF($D187=\"\",\"-\",IF($E187=\"\",\"-\",IF($D187=\"製材（製材・集成材・ＣＬＴ等）\",IF($F187=\"\",\"-\",_xlfn.XLOOKUP('シート2-2-2'!$F187,プルダウンデータリスト!$AC$2:$AC$65,プルダウンデータリスト!$AD$2:$AD$65)),_xlfn.XLOOKUP('シート2-2-2'!$D187,プルダウンデータリスト!$V$3:$V$9,プルダウンデータリスト!$W$3:$W$9,))))","v":"-"},null,"-","-",{"$f":"IF(D187=\"\",\"-\",_xlfn.XLOOKUP(D187,プルダウンデータリスト!$V$2:$V$9,プルダウンデータリスト!$X$2:$X$9,\"-\"))","v":"-"},"-"]
[148,null,null,null,null,null,{"$f":"IF($D188=\"\",\"-\",IF($E188=\"\",\"-\",IF($D188=\"製材（製材・集成材・ＣＬＴ等）\",IF($F188=\"\",\"-\",_xlfn.XLOOKUP('シート2-2-2'!$F188,プルダウンデータリスト!$AC$2:$AC$65,プルダウンデータリスト!$AD$2:$AD$65)),_xlfn.XLOOKUP('シート2-2-2'!$D188,プルダウンデータリスト!$V$3:$V$9,プルダウンデータリスト!$W$3:$W$9,))))","v":"-"},null,"-","-",{"$f":"IF(D188=\"\",\"-\",_xlfn.XLOOKUP(D188,プルダウンデータリスト!$V$2:$V$9,プルダウンデータリスト!$X$2:$X$9,\"-\"))","v":"-"},"-"]
[149,null,null,null,null,null,{"$f":"IF($D189=\"\",\"-\",IF($E189=\"\",\"-\",IF($D189=\"製材（製材・集成材・ＣＬＴ等）\",IF($F189=\"\",\"-\",_xlfn.XLOOKUP('シート2-2-2'!$F189,プルダウンデータリスト!$AC$2:$AC$65,プルダウンデータリスト!$AD$2:$AD$65)),_xlfn.XLOOKUP('シート2-2-2'!$D189,プルダウンデータリスト!$V$3:$V$9,プルダウンデータリスト!$W$3:$W$9,))))","v":"-"},null,"-","-",{"$f":"IF(D189=\"\",\"-\",_xlfn.XLOOKUP(D189,プルダウンデータリスト!$V$2:$V$9,プルダウンデータリスト!$X$2:$X$9,\"-\"))","v":"-"},"-"]
[150,null,null,null,null,null,{"$f":"IF($D190=\"\",\"-\",IF($E190=\"\",\"-\",IF($D190=\"製材（製材・集成材・ＣＬＴ等）\",IF($F190=\"\",\"-\",_xlfn.XLOOKUP('シート2-2-2'!$F190,プルダウンデータリスト!$AC$2:$AC$65,プルダウンデータリスト!$AD$2:$AD$65)),_xlfn.XLOOKUP('シート2-2-2'!$D190,プルダウンデータリスト!$V$3:$V$9,プルダウンデータリスト!$W$3:$W$9,))))","v":"-"},null,"-","-",{"$f":"IF(D190=\"\",\"-\",_xlfn.XLOOKUP(D190,プルダウンデータリスト!$V$2:$V$9,プルダウンデータリスト!$X$2:$X$9,\"-\"))","v":"-"},"-"]
[151,null,null,null,null,null,{"$f":"IF($D191=\"\",\"-\",IF($E191=\"\",\"-\",IF($D191=\"製材（製材・集成材・ＣＬＴ等）\",IF($F191=\"\",\"-\",_xlfn.XLOOKUP('シート2-2-2'!$F191,プルダウンデータリスト!$AC$2:$AC$65,プルダウンデータリスト!$AD$2:$AD$65)),_xlfn.XLOOKUP('シート2-2-2'!$D191,プルダウンデータリスト!$V$3:$V$9,プルダウンデータリスト!$W$3:$W$9,))))","v":"-"},null,"-","-",{"$f":"IF(D191=\"\",\"-\",_xlfn.XLOOKUP(D191,プルダウンデータリスト!$V$2:$V$9,プルダウンデータリスト!$X$2:$X$9,\"-\"))","v":"-"},"-"]
[152,null,null,null,null,null,{"$f":"IF($D192=\"\",\"-\",IF($E192=\"\",\"-\",IF($D192=\"製材（製材・集成材・ＣＬＴ等）\",IF($F192=\"\",\"-\",_xlfn.XLOOKUP('シート2-2-2'!$F192,プルダウンデータリスト!$AC$2:$AC$65,プルダウンデータリスト!$AD$2:$AD$65)),_xlfn.XLOOKUP('シート2-2-2'!$D192,プルダウンデータリスト!$V$3:$V$9,プルダウンデータリスト!$W$3:$W$9,))))","v":"-"},null,"-","-",{"$f":"IF(D192=\"\",\"-\",_xlfn.XLOOKUP(D192,プルダウンデータリスト!$V$2:$V$9,プルダウンデータリスト!$X$2:$X$9,\"-\"))","v":"-"},"-"]
[153,null,null,null,null,null,{"$f":"IF($D193=\"\",\"-\",IF($E193=\"\",\"-\",IF($D193=\"製材（製材・集成材・ＣＬＴ等）\",IF($F193=\"\",\"-\",_xlfn.XLOOKUP('シート2-2-2'!$F193,プルダウンデータリスト!$AC$2:$AC$65,プルダウンデータリスト!$AD$2:$AD$65)),_xlfn.XLOOKUP('シート2-2-2'!$D193,プルダウンデータリスト!$V$3:$V$9,プルダウンデータリスト!$W$3:$W$9,))))","v":"-"},null,"-","-",{"$f":"IF(D193=\"\",\"-\",_xlfn.XLOOKUP(D193,プルダウンデータリスト!$V$2:$V$9,プルダウンデータリスト!$X$2:$X$9,\"-\"))","v":"-"},"-"]
[154,null,null,null,null,null,{"$f":"IF($D194=\"\",\"-\",IF($E194=\"\",\"-\",IF($D194=\"製材（製材・集成材・ＣＬＴ等）\",IF($F194=\"\",\"-\",_xlfn.XLOOKUP('シート2-2-2'!$F194,プルダウンデータリスト!$AC$2:$AC$65,プルダウンデータリスト!$AD$2:$AD$65)),_xlfn.XLOOKUP('シート2-2-2'!$D194,プルダウンデータリスト!$V$3:$V$9,プルダウンデータリスト!$W$3:$W$9,))))","v":"-"},null,"-","-",{"$f":"IF(D194=\"\",\"-\",_xlfn.XLOOKUP(D194,プルダウンデータリスト!$V$2:$V$9,プルダウンデータリスト!$X$2:$X$9,\"-\"))","v":"-"},"-"]
[155,null,null,null,null,null,{"$f":"IF($D195=\"\",\"-\",IF($E195=\"\",\"-\",IF($D195=\"製材（製材・集成材・ＣＬＴ等）\",IF($F195=\"\",\"-\",_xlfn.XLOOKUP('シート2-2-2'!$F195,プルダウンデータリスト!$AC$2:$AC$65,プルダウンデータリスト!$AD$2:$AD$65)),_xlfn.XLOOKUP('シート2-2-2'!$D195,プルダウンデータリスト!$V$3:$V$9,プルダウンデータリスト!$W$3:$W$9,))))","v":"-"},null,"-","-",{"$f":"IF(D195=\"\",\"-\",_xlfn.XLOOKUP(D195,プルダウンデータリスト!$V$2:$V$9,プルダウンデータリスト!$X$2:$X$9,\"-\"))","v":"-"},"-"]
[156,null,null,null,null,null,{"$f":"IF($D196=\"\",\"-\",IF($E196=\"\",\"-\",IF($D196=\"製材（製材・集成材・ＣＬＴ等）\",IF($F196=\"\",\"-\",_xlfn.XLOOKUP('シート2-2-2'!$F196,プルダウンデータリスト!$AC$2:$AC$65,プルダウンデータリスト!$AD$2:$AD$65)),_xlfn.XLOOKUP('シート2-2-2'!$D196,プルダウンデータリスト!$V$3:$V$9,プルダウンデータリスト!$W$3:$W$9,))))","v":"-"},null,"-","-",{"$f":"IF(D196=\"\",\"-\",_xlfn.XLOOKUP(D196,プルダウンデータリスト!$V$2:$V$9,プルダウンデータリスト!$X$2:$X$9,\"-\"))","v":"-"},"-"]
[157,null,null,null,null,null,{"$f":"IF($D197=\"\",\"-\",IF($E197=\"\",\"-\",IF($D197=\"製材（製材・集成材・ＣＬＴ等）\",IF($F197=\"\",\"-\",_xlfn.XLOOKUP('シート2-2-2'!$F197,プルダウンデータリスト!$AC$2:$AC$65,プルダウンデータリスト!$AD$2:$AD$65)),_xlfn.XLOOKUP('シート2-2-2'!$D197,プルダウンデータリスト!$V$3:$V$9,プルダウンデータリスト!$W$3:$W$9,))))","v":"-"},null,"-","-",{"$f":"IF(D197=\"\",\"-\",_xlfn.XLOOKUP(D197,プルダウンデータリスト!$V$2:$V$9,プルダウンデータリスト!$X$2:$X$9,\"-\"))","v":"-"},"-"]
[158,null,null,null,null,null,{"$f":"IF($D198=\"\",\"-\",IF($E198=\"\",\"-\",IF($D198=\"製材（製材・集成材・ＣＬＴ等）\",IF($F198=\"\",\"-\",_xlfn.XLOOKUP('シート2-2-2'!$F198,プルダウンデータリスト!$AC$2:$AC$65,プルダウンデータリスト!$AD$2:$AD$65)),_xlfn.XLOOKUP('シート2-2-2'!$D198,プルダウンデータリスト!$V$3:$V$9,プルダウンデータリスト!$W$3:$W$9,))))","v":"-"},null,"-","-",{"$f":"IF(D198=\"\",\"-\",_xlfn.XLOOKUP(D198,プルダウンデータリスト!$V$2:$V$9,プルダウンデータリスト!$X$2:$X$9,\"-\"))","v":"-"},"-"]
[159,null,null,null,null,null,{"$f":"IF($D199=\"\",\"-\",IF($E199=\"\",\"-\",IF($D199=\"製材（製材・集成材・ＣＬＴ等）\",IF($F199=\"\",\"-\",_xlfn.XLOOKUP('シート2-2-2'!$F199,プルダウンデータリスト!$AC$2:$AC$65,プルダウンデータリスト!$AD$2:$AD$65)),_xlfn.XLOOKUP('シート2-2-2'!$D199,プルダウンデータリスト!$V$3:$V$9,プルダウンデータリスト!$W$3:$W$9,))))","v":"-"},null,"-","-",{"$f":"IF(D199=\"\",\"-\",_xlfn.XLOOKUP(D199,プルダウンデータリスト!$V$2:$V$9,プルダウンデータリスト!$X$2:$X$9,\"-\"))","v":"-"},"-"]
[160,null,null,null,null,null,{"$f":"IF($D200=\"\",\"-\",IF($E200=\"\",\"-\",IF($D200=\"製材（製材・集成材・ＣＬＴ等）\",IF($F200=\"\",\"-\",_xlfn.XLOOKUP('シート2-2-2'!$F200,プルダウンデータリスト!$AC$2:$AC$65,プルダウンデータリスト!$AD$2:$AD$65)),_xlfn.XLOOKUP('シート2-2-2'!$D200,プルダウンデータリスト!$V$3:$V$9,プルダウンデータリスト!$W$3:$W$9,))))","v":"-"},null,"-","-",{"$f":"IF(D200=\"\",\"-\",_xlfn.XLOOKUP(D200,プルダウンデータリスト!$V$2:$V$9,プルダウンデータリスト!$X$2:$X$9,\"-\"))","v":"-"},"-"]
[161,null,null,null,null,null,{"$f":"IF($D201=\"\",\"-\",IF($E201=\"\",\"-\",IF($D201=\"製材（製材・集成材・ＣＬＴ等）\",IF($F201=\"\",\"-\",_xlfn.XLOOKUP('シート2-2-2'!$F201,プルダウンデータリスト!$AC$2:$AC$65,プルダウンデータリスト!$AD$2:$AD$65)),_xlfn.XLOOKUP('シート2-2-2'!$D201,プルダウンデータリスト!$V$3:$V$9,プルダウンデータリスト!$W$3:$W$9,))))","v":"-"},null,{"$f":"IF(E201=\"\",\"-\",E201*C201)","v":"-"},{"$f":"IF(H201=\"\",\"-\",H201*C201)","v":"-"},{"$f":"IF(D201=\"\",\"-\",_xlfn.XLOOKUP(D201,プルダウンデータリスト!$V$2:$V$9,プルダウンデータリスト!$X$2:$X$9,\"-\"))","v":"-"},"-"]
[162,null,null,null,null,null,{"$f":"IF($D202=\"\",\"-\",IF($E202=\"\",\"-\",IF($D202=\"製材（製材・集成材・ＣＬＴ等）\",IF($F202=\"\",\"-\",_xlfn.XLOOKUP('シート2-2-2'!$F202,プルダウンデータリスト!$AC$2:$AC$65,プルダウンデータリスト!$AD$2:$AD$65)),_xlfn.XLOOKUP('シート2-2-2'!$D202,プルダウンデータリスト!$V$3:$V$9,プルダウンデータリスト!$W$3:$W$9,))))","v":"-"},null,"-","-",{"$f":"IF(D202=\"\",\"-\",_xlfn.XLOOKUP(D202,プルダウンデータリスト!$V$2:$V$9,プルダウンデータリスト!$X$2:$X$9,\"-\"))","v":"-"},"-"]
[163,null,null,null,null,null,{"$f":"IF($D203=\"\",\"-\",IF($E203=\"\",\"-\",IF($D203=\"製材（製材・集成材・ＣＬＴ等）\",IF($F203=\"\",\"-\",_xlfn.XLOOKUP('シート2-2-2'!$F203,プルダウンデータリスト!$AC$2:$AC$65,プルダウンデータリスト!$AD$2:$AD$65)),_xlfn.XLOOKUP('シート2-2-2'!$D203,プルダウンデータリスト!$V$3:$V$9,プルダウンデータリスト!$W$3:$W$9,))))","v":"-"},null,"-","-",{"$f":"IF(D203=\"\",\"-\",_xlfn.XLOOKUP(D203,プルダウンデータリスト!$V$2:$V$9,プルダウンデータリスト!$X$2:$X$9,\"-\"))","v":"-"},"-"]
[164,null,null,null,null,null,{"$f":"IF($D204=\"\",\"-\",IF($E204=\"\",\"-\",IF($D204=\"製材（製材・集成材・ＣＬＴ等）\",IF($F204=\"\",\"-\",_xlfn.XLOOKUP('シート2-2-2'!$F204,プルダウンデータリスト!$AC$2:$AC$65,プルダウンデータリスト!$AD$2:$AD$65)),_xlfn.XLOOKUP('シート2-2-2'!$D204,プルダウンデータリスト!$V$3:$V$9,プルダウンデータリスト!$W$3:$W$9,))))","v":"-"},null,"-","-",{"$f":"IF(D204=\"\",\"-\",_xlfn.XLOOKUP(D204,プルダウンデータリスト!$V$2:$V$9,プルダウンデータリスト!$X$2:$X$9,\"-\"))","v":"-"},"-"]
[165,null,null,null,null,null,{"$f":"IF($D205=\"\",\"-\",IF($E205=\"\",\"-\",IF($D205=\"製材（製材・集成材・ＣＬＴ等）\",IF($F205=\"\",\"-\",_xlfn.XLOOKUP('シート2-2-2'!$F205,プルダウンデータリスト!$AC$2:$AC$65,プルダウンデータリスト!$AD$2:$AD$65)),_xlfn.XLOOKUP('シート2-2-2'!$D205,プルダウンデータリスト!$V$3:$V$9,プルダウンデータリスト!$W$3:$W$9,))))","v":"-"},null,"-","-",{"$f":"IF(D205=\"\",\"-\",_xlfn.XLOOKUP(D205,プルダウンデータリスト!$V$2:$V$9,プルダウンデータリスト!$X$2:$X$9,\"-\"))","v":"-"},"-"]
[166,null,null,null,null,null,{"$f":"IF($D206=\"\",\"-\",IF($E206=\"\",\"-\",IF($D206=\"製材（製材・集成材・ＣＬＴ等）\",IF($F206=\"\",\"-\",_xlfn.XLOOKUP('シート2-2-2'!$F206,プルダウンデータリスト!$AC$2:$AC$65,プルダウンデータリスト!$AD$2:$AD$65)),_xlfn.XLOOKUP('シート2-2-2'!$D206,プルダウンデータリスト!$V$3:$V$9,プルダウンデータリスト!$W$3:$W$9,))))","v":"-"},null,"-","-",{"$f":"IF(D206=\"\",\"-\",_xlfn.XLOOKUP(D206,プルダウンデータリスト!$V$2:$V$9,プルダウンデータリスト!$X$2:$X$9,\"-\"))","v":"-"},"-"]
[167,null,null,null,null,null,{"$f":"IF($D207=\"\",\"-\",IF($E207=\"\",\"-\",IF($D207=\"製材（製材・集成材・ＣＬＴ等）\",IF($F207=\"\",\"-\",_xlfn.XLOOKUP('シート2-2-2'!$F207,プルダウンデータリスト!$AC$2:$AC$65,プルダウンデータリスト!$AD$2:$AD$65)),_xlfn.XLOOKUP('シート2-2-2'!$D207,プルダウンデータリスト!$V$3:$V$9,プルダウンデータリスト!$W$3:$W$9,))))","v":"-"},null,"-","-",{"$f":"IF(D207=\"\",\"-\",_xlfn.XLOOKUP(D207,プルダウンデータリスト!$V$2:$V$9,プルダウンデータリスト!$X$2:$X$9,\"-\"))","v":"-"},"-"]
[168,null,null,null,null,null,{"$f":"IF($D208=\"\",\"-\",IF($E208=\"\",\"-\",IF($D208=\"製材（製材・集成材・ＣＬＴ等）\",IF($F208=\"\",\"-\",_xlfn.XLOOKUP('シート2-2-2'!$F208,プルダウンデータリスト!$AC$2:$AC$65,プルダウンデータリスト!$AD$2:$AD$65)),_xlfn.XLOOKUP('シート2-2-2'!$D208,プルダウンデータリスト!$V$3:$V$9,プルダウンデータリスト!$W$3:$W$9,))))","v":"-"},null,"-","-",{"$f":"IF(D208=\"\",\"-\",_xlfn.XLOOKUP(D208,プルダウンデータリスト!$V$2:$V$9,プルダウンデータリスト!$X$2:$X$9,\"-\"))","v":"-"},"-"]
[169,null,null,null,null,null,{"$f":"IF($D209=\"\",\"-\",IF($E209=\"\",\"-\",IF($D209=\"製材（製材・集成材・ＣＬＴ等）\",IF($F209=\"\",\"-\",_xlfn.XLOOKUP('シート2-2-2'!$F209,プルダウンデータリスト!$AC$2:$AC$65,プルダウンデータリスト!$AD$2:$AD$65)),_xlfn.XLOOKUP('シート2-2-2'!$D209,プルダウンデータリスト!$V$3:$V$9,プルダウンデータリスト!$W$3:$W$9,))))","v":"-"},null,"-","-",{"$f":"IF(D209=\"\",\"-\",_xlfn.XLOOKUP(D209,プルダウンデータリスト!$V$2:$V$9,プルダウンデータリスト!$X$2:$X$9,\"-\"))","v":"-"},"-"]
[170,null,null,null,null,null,{"$f":"IF($D210=\"\",\"-\",IF($E210=\"\",\"-\",IF($D210=\"製材（製材・集成材・ＣＬＴ等）\",IF($F210=\"\",\"-\",_xlfn.XLOOKUP('シート2-2-2'!$F210,プルダウンデータリスト!$AC$2:$AC$65,プルダウンデータリスト!$AD$2:$AD$65)),_xlfn.XLOOKUP('シート2-2-2'!$D210,プルダウンデータリスト!$V$3:$V$9,プルダウンデータリスト!$W$3:$W$9,))))","v":"-"},null,"-","-",{"$f":"IF(D210=\"\",\"-\",_xlfn.XLOOKUP(D210,プルダウンデータリスト!$V$2:$V$9,プルダウンデータリスト!$X$2:$X$9,\"-\"))","v":"-"},"-"]
[171,null,null,null,null,null,{"$f":"IF($D211=\"\",\"-\",IF($E211=\"\",\"-\",IF($D211=\"製材（製材・集成材・ＣＬＴ等）\",IF($F211=\"\",\"-\",_xlfn.XLOOKUP('シート2-2-2'!$F211,プルダウンデータリスト!$AC$2:$AC$65,プルダウンデータリスト!$AD$2:$AD$65)),_xlfn.XLOOKUP('シート2-2-2'!$D211,プルダウンデータリスト!$V$3:$V$9,プルダウンデータリスト!$W$3:$W$9,))))","v":"-"},null,"-","-",{"$f":"IF(D211=\"\",\"-\",_xlfn.XLOOKUP(D211,プルダウンデータリスト!$V$2:$V$9,プルダウンデータリスト!$X$2:$X$9,\"-\"))","v":"-"},"-"]
[172,null,null,null,null,null,{"$f":"IF($D212=\"\",\"-\",IF($E212=\"\",\"-\",IF($D212=\"製材（製材・集成材・ＣＬＴ等）\",IF($F212=\"\",\"-\",_xlfn.XLOOKUP('シート2-2-2'!$F212,プルダウンデータリスト!$AC$2:$AC$65,プルダウンデータリスト!$AD$2:$AD$65)),_xlfn.XLOOKUP('シート2-2-2'!$D212,プルダウンデータリスト!$V$3:$V$9,プルダウンデータリスト!$W$3:$W$9,))))","v":"-"},null,"-","-",{"$f":"IF(D212=\"\",\"-\",_xlfn.XLOOKUP(D212,プルダウンデータリスト!$V$2:$V$9,プルダウンデータリスト!$X$2:$X$9,\"-\"))","v":"-"},"-"]
[173,null,null,null,null,null,{"$f":"IF($D213=\"\",\"-\",IF($E213=\"\",\"-\",IF($D213=\"製材（製材・集成材・ＣＬＴ等）\",IF($F213=\"\",\"-\",_xlfn.XLOOKUP('シート2-2-2'!$F213,プルダウンデータリスト!$AC$2:$AC$65,プルダウンデータリスト!$AD$2:$AD$65)),_xlfn.XLOOKUP('シート2-2-2'!$D213,プルダウンデータリスト!$V$3:$V$9,プルダウンデータリスト!$W$3:$W$9,))))","v":"-"},null,"-","-",{"$f":"IF(D213=\"\",\"-\",_xlfn.XLOOKUP(D213,プルダウンデータリスト!$V$2:$V$9,プルダウンデータリスト!$X$2:$X$9,\"-\"))","v":"-"},"-"]
[174,null,null,null,null,null,{"$f":"IF($D214=\"\",\"-\",IF($E214=\"\",\"-\",IF($D214=\"製材（製材・集成材・ＣＬＴ等）\",IF($F214=\"\",\"-\",_xlfn.XLOOKUP('シート2-2-2'!$F214,プルダウンデータリスト!$AC$2:$AC$65,プルダウンデータリスト!$AD$2:$AD$65)),_xlfn.XLOOKUP('シート2-2-2'!$D214,プルダウンデータリスト!$V$3:$V$9,プルダウンデータリスト!$W$3:$W$9,))))","v":"-"},null,"-","-",{"$f":"IF(D214=\"\",\"-\",_xlfn.XLOOKUP(D214,プルダウンデータリスト!$V$2:$V$9,プルダウンデータリスト!$X$2:$X$9,\"-\"))","v":"-"},"-"]
[175,null,null,null,null,null,{"$f":"IF($D215=\"\",\"-\",IF($E215=\"\",\"-\",IF($D215=\"製材（製材・集成材・ＣＬＴ等）\",IF($F215=\"\",\"-\",_xlfn.XLOOKUP('シート2-2-2'!$F215,プルダウンデータリスト!$AC$2:$AC$65,プルダウンデータリスト!$AD$2:$AD$65)),_xlfn.XLOOKUP('シート2-2-2'!$D215,プルダウンデータリスト!$V$3:$V$9,プルダウンデータリスト!$W$3:$W$9,))))","v":"-"},null,"-","-",{"$f":"IF(D215=\"\",\"-\",_xlfn.XLOOKUP(D215,プルダウンデータリスト!$V$2:$V$9,プルダウンデータリスト!$X$2:$X$9,\"-\"))","v":"-"},"-"]
[176,null,null,null,null,null,{"$f":"IF($D216=\"\",\"-\",IF($E216=\"\",\"-\",IF($D216=\"製材（製材・集成材・ＣＬＴ等）\",IF($F216=\"\",\"-\",_xlfn.XLOOKUP('シート2-2-2'!$F216,プルダウンデータリスト!$AC$2:$AC$65,プルダウンデータリスト!$AD$2:$AD$65)),_xlfn.XLOOKUP('シート2-2-2'!$D216,プルダウンデータリスト!$V$3:$V$9,プルダウンデータリスト!$W$3:$W$9,))))","v":"-"},null,"-","-",{"$f":"IF(D216=\"\",\"-\",_xlfn.XLOOKUP(D216,プルダウンデータリスト!$V$2:$V$9,プルダウンデータリスト!$X$2:$X$9,\"-\"))","v":"-"},"-"]
[177,null,null,null,null,null,{"$f":"IF($D217=\"\",\"-\",IF($E217=\"\",\"-\",IF($D217=\"製材（製材・集成材・ＣＬＴ等）\",IF($F217=\"\",\"-\",_xlfn.XLOOKUP('シート2-2-2'!$F217,プルダウンデータリスト!$AC$2:$AC$65,プルダウンデータリスト!$AD$2:$AD$65)),_xlfn.XLOOKUP('シート2-2-2'!$D217,プルダウンデータリスト!$V$3:$V$9,プルダウンデータリスト!$W$3:$W$9,))))","v":"-"},null,"-","-",{"$f":"IF(D217=\"\",\"-\",_xlfn.XLOOKUP(D217,プルダウンデータリスト!$V$2:$V$9,プルダウンデータリスト!$X$2:$X$9,\"-\"))","v":"-"},"-"]
[178,null,null,null,null,null,{"$f":"IF($D218=\"\",\"-\",IF($E218=\"\",\"-\",IF($D218=\"製材（製材・集成材・ＣＬＴ等）\",IF($F218=\"\",\"-\",_xlfn.XLOOKUP('シート2-2-2'!$F218,プルダウンデータリスト!$AC$2:$AC$65,プルダウンデータリスト!$AD$2:$AD$65)),_xlfn.XLOOKUP('シート2-2-2'!$D218,プルダウンデータリスト!$V$3:$V$9,プルダウンデータリスト!$W$3:$W$9,))))","v":"-"},null,"-","-",{"$f":"IF(D218=\"\",\"-\",_xlfn.XLOOKUP(D218,プルダウンデータリスト!$V$2:$V$9,プルダウンデータリスト!$X$2:$X$9,\"-\"))","v":"-"},"-"]
[179,null,null,null,null,null,{"$f":"IF($D219=\"\",\"-\",IF($E219=\"\",\"-\",IF($D219=\"製材（製材・集成材・ＣＬＴ等）\",IF($F219=\"\",\"-\",_xlfn.XLOOKUP('シート2-2-2'!$F219,プルダウンデータリスト!$AC$2:$AC$65,プルダウンデータリスト!$AD$2:$AD$65)),_xlfn.XLOOKUP('シート2-2-2'!$D219,プルダウンデータリスト!$V$3:$V$9,プルダウンデータリスト!$W$3:$W$9,))))","v":"-"},null,"-","-",{"$f":"IF(D219=\"\",\"-\",_xlfn.XLOOKUP(D219,プルダウンデータリスト!$V$2:$V$9,プルダウンデータリスト!$X$2:$X$9,\"-\"))","v":"-"},"-"]
[180,null,null,null,null,null,{"$f":"IF($D220=\"\",\"-\",IF($E220=\"\",\"-\",IF($D220=\"製材（製材・集成材・ＣＬＴ等）\",IF($F220=\"\",\"-\",_xlfn.XLOOKUP('シート2-2-2'!$F220,プルダウンデータリスト!$AC$2:$AC$65,プルダウンデータリスト!$AD$2:$AD$65)),_xlfn.XLOOKUP('シート2-2-2'!$D220,プルダウンデータリスト!$V$3:$V$9,プルダウンデータリスト!$W$3:$W$9,))))","v":"-"},null,"-","-",{"$f":"IF(D220=\"\",\"-\",_xlfn.XLOOKUP(D220,プルダウンデータリスト!$V$2:$V$9,プルダウンデータリスト!$X$2:$X$9,\"-\"))","v":"-"},"-"]
[181,null,null,null,null,null,{"$f":"IF($D221=\"\",\"-\",IF($E221=\"\",\"-\",IF($D221=\"製材（製材・集成材・ＣＬＴ等）\",IF($F221=\"\",\"-\",_xlfn.XLOOKUP('シート2-2-2'!$F221,プルダウンデータリスト!$AC$2:$AC$65,プルダウンデータリスト!$AD$2:$AD$65)),_xlfn.XLOOKUP('シート2-2-2'!$D221,プルダウンデータリスト!$V$3:$V$9,プルダウンデータリスト!$W$3:$W$9,))))","v":"-"},null,"-","-",{"$f":"IF(D221=\"\",\"-\",_xlfn.XLOOKUP(D221,プルダウンデータリスト!$V$2:$V$9,プルダウンデータリスト!$X$2:$X$9,\"-\"))","v":"-"},"-"]
[182,null,null,null,null,null,{"$f":"IF($D222=\"\",\"-\",IF($E222=\"\",\"-\",IF($D222=\"製材（製材・集成材・ＣＬＴ等）\",IF($F222=\"\",\"-\",_xlfn.XLOOKUP('シート2-2-2'!$F222,プルダウンデータリスト!$AC$2:$AC$65,プルダウンデータリスト!$AD$2:$AD$65)),_xlfn.XLOOKUP('シート2-2-2'!$D222,プルダウンデータリスト!$V$3:$V$9,プルダウンデータリスト!$W$3:$W$9,))))","v":"-"},null,"-","-",{"$f":"IF(D222=\"\",\"-\",_xlfn.XLOOKUP(D222,プルダウンデータリスト!$V$2:$V$9,プルダウンデータリスト!$X$2:$X$9,\"-\"))","v":"-"},"-"]
[183,null,null,null,null,null,{"$f":"IF($D223=\"\",\"-\",IF($E223=\"\",\"-\",IF($D223=\"製材（製材・集成材・ＣＬＴ等）\",IF($F223=\"\",\"-\",_xlfn.XLOOKUP('シート2-2-2'!$F223,プルダウンデータリスト!$AC$2:$AC$65,プルダウンデータリスト!$AD$2:$AD$65)),_xlfn.XLOOKUP('シート2-2-2'!$D223,プルダウンデータリスト!$V$3:$V$9,プルダウンデータリスト!$W$3:$W$9,))))","v":"-"},null,"-","-",{"$f":"IF(D223=\"\",\"-\",_xlfn.XLOOKUP(D223,プルダウンデータリスト!$V$2:$V$9,プルダウンデータリスト!$X$2:$X$9,\"-\"))","v":"-"},"-"]
[184,null,null,null,null,null,{"$f":"IF($D224=\"\",\"-\",IF($E224=\"\",\"-\",IF($D224=\"製材（製材・集成材・ＣＬＴ等）\",IF($F224=\"\",\"-\",_xlfn.XLOOKUP('シート2-2-2'!$F224,プルダウンデータリスト!$AC$2:$AC$65,プルダウンデータリスト!$AD$2:$AD$65)),_xlfn.XLOOKUP('シート2-2-2'!$D224,プルダウンデータリスト!$V$3:$V$9,プルダウンデータリスト!$W$3:$W$9,))))","v":"-"},null,"-","-",{"$f":"IF(D224=\"\",\"-\",_xlfn.XLOOKUP(D224,プルダウンデータリスト!$V$2:$V$9,プルダウンデータリスト!$X$2:$X$9,\"-\"))","v":"-"},"-"]
[185,null,null,null,null,null,{"$f":"IF($D225=\"\",\"-\",IF($E225=\"\",\"-\",IF($D225=\"製材（製材・集成材・ＣＬＴ等）\",IF($F225=\"\",\"-\",_xlfn.XLOOKUP('シート2-2-2'!$F225,プルダウンデータリスト!$AC$2:$AC$65,プルダウンデータリスト!$AD$2:$AD$65)),_xlfn.XLOOKUP('シート2-2-2'!$D225,プルダウンデータリスト!$V$3:$V$9,プルダウンデータリスト!$W$3:$W$9,))))","v":"-"},null,"-","-",{"$f":"IF(D225=\"\",\"-\",_xlfn.XLOOKUP(D225,プルダウンデータリスト!$V$2:$V$9,プルダウンデータリスト!$X$2:$X$9,\"-\"))","v":"-"},"-"]
[186,null,null,null,null,null,{"$f":"IF($D226=\"\",\"-\",IF($E226=\"\",\"-\",IF($D226=\"製材（製材・集成材・ＣＬＴ等）\",IF($F226=\"\",\"-\",_xlfn.XLOOKUP('シート2-2-2'!$F226,プルダウンデータリスト!$AC$2:$AC$65,プルダウンデータリスト!$AD$2:$AD$65)),_xlfn.XLOOKUP('シート2-2-2'!$D226,プルダウンデータリスト!$V$3:$V$9,プルダウンデータリスト!$W$3:$W$9,))))","v":"-"},null,"-","-",{"$f":"IF(D226=\"\",\"-\",_xlfn.XLOOKUP(D226,プルダウンデータリスト!$V$2:$V$9,プルダウンデータリスト!$X$2:$X$9,\"-\"))","v":"-"},"-"]
[187,null,null,null,null,null,{"$f":"IF($D227=\"\",\"-\",IF($E227=\"\",\"-\",IF($D227=\"製材（製材・集成材・ＣＬＴ等）\",IF($F227=\"\",\"-\",_xlfn.XLOOKUP('シート2-2-2'!$F227,プルダウンデータリスト!$AC$2:$AC$65,プルダウンデータリスト!$AD$2:$AD$65)),_xlfn.XLOOKUP('シート2-2-2'!$D227,プルダウンデータリスト!$V$3:$V$9,プルダウンデータリスト!$W$3:$W$9,))))","v":"-"},null,"-","-",{"$f":"IF(D227=\"\",\"-\",_xlfn.XLOOKUP(D227,プルダウンデータリスト!$V$2:$V$9,プルダウンデータリスト!$X$2:$X$9,\"-\"))","v":"-"},"-"]
[188,null,null,null,null,null,{"$f":"IF($D228=\"\",\"-\",IF($E228=\"\",\"-\",IF($D228=\"製材（製材・集成材・ＣＬＴ等）\",IF($F228=\"\",\"-\",_xlfn.XLOOKUP('シート2-2-2'!$F228,プルダウンデータリスト!$AC$2:$AC$65,プルダウンデータリスト!$AD$2:$AD$65)),_xlfn.XLOOKUP('シート2-2-2'!$D228,プルダウンデータリスト!$V$3:$V$9,プルダウンデータリスト!$W$3:$W$9,))))","v":"-"},null,"-","-",{"$f":"IF(D228=\"\",\"-\",_xlfn.XLOOKUP(D228,プルダウンデータリスト!$V$2:$V$9,プルダウンデータリスト!$X$2:$X$9,\"-\"))","v":"-"},"-"]
[189,null,null,null,null,null,{"$f":"IF($D229=\"\",\"-\",IF($E229=\"\",\"-\",IF($D229=\"製材（製材・集成材・ＣＬＴ等）\",IF($F229=\"\",\"-\",_xlfn.XLOOKUP('シート2-2-2'!$F229,プルダウンデータリスト!$AC$2:$AC$65,プルダウンデータリスト!$AD$2:$AD$65)),_xlfn.XLOOKUP('シート2-2-2'!$D229,プルダウンデータリスト!$V$3:$V$9,プルダウンデータリスト!$W$3:$W$9,))))","v":"-"},null,"-","-",{"$f":"IF(D229=\"\",\"-\",_xlfn.XLOOKUP(D229,プルダウンデータリスト!$V$2:$V$9,プルダウンデータリスト!$X$2:$X$9,\"-\"))","v":"-"},"-"]
[190,null,null,null,null,null,{"$f":"IF($D230=\"\",\"-\",IF($E230=\"\",\"-\",IF($D230=\"製材（製材・集成材・ＣＬＴ等）\",IF($F230=\"\",\"-\",_xlfn.XLOOKUP('シート2-2-2'!$F230,プルダウンデータリスト!$AC$2:$AC$65,プルダウンデータリスト!$AD$2:$AD$65)),_xlfn.XLOOKUP('シート2-2-2'!$D230,プルダウンデータリスト!$V$3:$V$9,プルダウンデータリスト!$W$3:$W$9,))))","v":"-"},null,"-","-",{"$f":"IF(D230=\"\",\"-\",_xlfn.XLOOKUP(D230,プルダウンデータリスト!$V$2:$V$9,プルダウンデータリスト!$X$2:$X$9,\"-\"))","v":"-"},"-"]
[191,null,null,null,null,null,{"$f":"IF($D231=\"\",\"-\",IF($E231=\"\",\"-\",IF($D231=\"製材（製材・集成材・ＣＬＴ等）\",IF($F231=\"\",\"-\",_xlfn.XLOOKUP('シート2-2-2'!$F231,プルダウンデータリスト!$AC$2:$AC$65,プルダウンデータリスト!$AD$2:$AD$65)),_xlfn.XLOOKUP('シート2-2-2'!$D231,プルダウンデータリスト!$V$3:$V$9,プルダウンデータリスト!$W$3:$W$9,))))","v":"-"},null,"-","-",{"$f":"IF(D231=\"\",\"-\",_xlfn.XLOOKUP(D231,プルダウンデータリスト!$V$2:$V$9,プルダウンデータリスト!$X$2:$X$9,\"-\"))","v":"-"},"-"]
[192,null,null,null,null,null,{"$f":"IF($D232=\"\",\"-\",IF($E232=\"\",\"-\",IF($D232=\"製材（製材・集成材・ＣＬＴ等）\",IF($F232=\"\",\"-\",_xlfn.XLOOKUP('シート2-2-2'!$F232,プルダウンデータリスト!$AC$2:$AC$65,プルダウンデータリスト!$AD$2:$AD$65)),_xlfn.XLOOKUP('シート2-2-2'!$D232,プルダウンデータリスト!$V$3:$V$9,プルダウンデータリスト!$W$3:$W$9,))))","v":"-"},null,"-","-",{"$f":"IF(D232=\"\",\"-\",_xlfn.XLOOKUP(D232,プルダウンデータリスト!$V$2:$V$9,プルダウンデータリスト!$X$2:$X$9,\"-\"))","v":"-"},"-"]
[193,null,null,null,null,null,{"$f":"IF($D233=\"\",\"-\",IF($E233=\"\",\"-\",IF($D233=\"製材（製材・集成材・ＣＬＴ等）\",IF($F233=\"\",\"-\",_xlfn.XLOOKUP('シート2-2-2'!$F233,プルダウンデータリスト!$AC$2:$AC$65,プルダウンデータリスト!$AD$2:$AD$65)),_xlfn.XLOOKUP('シート2-2-2'!$D233,プルダウンデータリスト!$V$3:$V$9,プルダウンデータリスト!$W$3:$W$9,))))","v":"-"},null,{"$f":"IF(E233=\"\",\"-\",E233*C233)","v":"-"},{"$f":"IF(H233=\"\",\"-\",H233*C233)","v":"-"},{"$f":"IF(D233=\"\",\"-\",_xlfn.XLOOKUP(D233,プルダウンデータリスト!$V$2:$V$9,プルダウンデータリスト!$X$2:$X$9,\"-\"))","v":"-"},"-"]
[194,null,null,null,null,null,{"$f":"IF($D234=\"\",\"-\",IF($E234=\"\",\"-\",IF($D234=\"製材（製材・集成材・ＣＬＴ等）\",IF($F234=\"\",\"-\",_xlfn.XLOOKUP('シート2-2-2'!$F234,プルダウンデータリスト!$AC$2:$AC$65,プルダウンデータリスト!$AD$2:$AD$65)),_xlfn.XLOOKUP('シート2-2-2'!$D234,プルダウンデータリスト!$V$3:$V$9,プルダウンデータリスト!$W$3:$W$9,))))","v":"-"},null,"-","-",{"$f":"IF(D234=\"\",\"-\",_xlfn.XLOOKUP(D234,プルダウンデータリスト!$V$2:$V$9,プルダウンデータリスト!$X$2:$X$9,\"-\"))","v":"-"},{"$f":"IFERROR(IF(LEN(E234)>0,I234*G234*K234,IF(LEN(H234)>0,J234*K234/1000,\"-\")),\"-\")","v":"-"}]
[195,null,null,null,null,null,{"$f":"IF($D235=\"\",\"-\",IF($E235=\"\",\"-\",IF($D235=\"製材（製材・集成材・ＣＬＴ等）\",IF($F235=\"\",\"-\",_xlfn.XLOOKUP('シート2-2-2'!$F235,プルダウンデータリスト!$AC$2:$AC$65,プルダウンデータリスト!$AD$2:$AD$65)),_xlfn.XLOOKUP('シート2-2-2'!$D235,プルダウンデータリスト!$V$3:$V$9,プルダウンデータリスト!$W$3:$W$9,))))","v":"-"},null,"-","-",{"$f":"IF(D235=\"\",\"-\",_xlfn.XLOOKUP(D235,プルダウンデータリスト!$V$2:$V$9,プルダウンデータリスト!$X$2:$X$9,\"-\"))","v":"-"},"-"]
[196,null,null,null,null,null,{"$f":"IF($D236=\"\",\"-\",IF($E236=\"\",\"-\",IF($D236=\"製材（製材・集成材・ＣＬＴ等）\",IF($F236=\"\",\"-\",_xlfn.XLOOKUP('シート2-2-2'!$F236,プルダウンデータリスト!$AC$2:$AC$65,プルダウンデータリスト!$AD$2:$AD$65)),_xlfn.XLOOKUP('シート2-2-2'!$D236,プルダウンデータリスト!$V$3:$V$9,プルダウンデータリスト!$W$3:$W$9,))))","v":"-"},null,"-","-",{"$f":"IF(D236=\"\",\"-\",_xlfn.XLOOKUP(D236,プルダウンデータリスト!$V$2:$V$9,プルダウンデータリスト!$X$2:$X$9,\"-\"))","v":"-"},"-"]
[197,null,null,null,null,null,{"$f":"IF($D237=\"\",\"-\",IF($E237=\"\",\"-\",IF($D237=\"製材（製材・集成材・ＣＬＴ等）\",IF($F237=\"\",\"-\",_xlfn.XLOOKUP('シート2-2-2'!$F237,プルダウンデータリスト!$AC$2:$AC$65,プルダウンデータリスト!$AD$2:$AD$65)),_xlfn.XLOOKUP('シート2-2-2'!$D237,プルダウンデータリスト!$V$3:$V$9,プルダウンデータリスト!$W$3:$W$9,))))","v":"-"},null,"-","-",{"$f":"IF(D237=\"\",\"-\",_xlfn.XLOOKUP(D237,プルダウンデータリスト!$V$2:$V$9,プルダウンデータリスト!$X$2:$X$9,\"-\"))","v":"-"},"-"]
[198,null,null,null,null,null,{"$f":"IF($D238=\"\",\"-\",IF($E238=\"\",\"-\",IF($D238=\"製材（製材・集成材・ＣＬＴ等）\",IF($F238=\"\",\"-\",_xlfn.XLOOKUP('シート2-2-2'!$F238,プルダウンデータリスト!$AC$2:$AC$65,プルダウンデータリスト!$AD$2:$AD$65)),_xlfn.XLOOKUP('シート2-2-2'!$D238,プルダウンデータリスト!$V$3:$V$9,プルダウンデータリスト!$W$3:$W$9,))))","v":"-"},null,"-","-",{"$f":"IF(D238=\"\",\"-\",_xlfn.XLOOKUP(D238,プルダウンデータリスト!$V$2:$V$9,プルダウンデータリスト!$X$2:$X$9,\"-\"))","v":"-"},"-"]
[199,null,null,null,null,null,{"$f":"IF($D239=\"\",\"-\",IF($E239=\"\",\"-\",IF($D239=\"製材（製材・集成材・ＣＬＴ等）\",IF($F239=\"\",\"-\",_xlfn.XLOOKUP('シート2-2-2'!$F239,プルダウンデータリスト!$AC$2:$AC$65,プルダウンデータリスト!$AD$2:$AD$65)),_xlfn.XLOOKUP('シート2-2-2'!$D239,プルダウンデータリスト!$V$3:$V$9,プルダウンデータリスト!$W$3:$W$9,))))","v":"-"},null,"-","-",{"$f":"IF(D239=\"\",\"-\",_xlfn.XLOOKUP(D239,プルダウンデータリスト!$V$2:$V$9,プルダウンデータリスト!$X$2:$X$9,\"-\"))","v":"-"},"-"]
[200,null,null,null,null,null,{"$f":"IF($D240=\"\",\"-\",IF($E240=\"\",\"-\",IF($D240=\"製材（製材・集成材・ＣＬＴ等）\",IF($F240=\"\",\"-\",_xlfn.XLOOKUP('シート2-2-2'!$F240,プルダウンデータリスト!$AC$2:$AC$65,プルダウンデータリスト!$AD$2:$AD$65)),_xlfn.XLOOKUP('シート2-2-2'!$D240,プルダウンデータリスト!$V$3:$V$9,プルダウンデータリスト!$W$3:$W$9,))))","v":"-"},null,"-","-",{"$f":"IF(D240=\"\",\"-\",_xlfn.XLOOKUP(D240,プルダウンデータリスト!$V$2:$V$9,プルダウンデータリスト!$X$2:$X$9,\"-\"))","v":"-"},"-"]

{"sheet":"係数表2-1","index":1,"n_rows":65,"n_cols":7,"rows_kept":65,"cut":false,"hidden":false,"merged":[[64,4,64,5],[19,4,63,4],[9,0,9,1],[19,0,38,0],[3,0,3,1],[4,0,4,1],[5,0,5,1],[6,0,6,1],[7,0,7,1],[8,0,8,1],[10,0,10,1]]}
["係数表2-1　変化した炭素蓄積の量（木材）の算定に使用する係数（品目及び樹種の区分ごとの係数）"]
[]
["係数表2-1-1　品目及び樹種の区分ごとの木材の密度及び炭素含有率"]
["部材、製品名等の品目区分",null,"木材の密度[t/㎥]","炭素含有率"]
["製材（製材・集成材・ＣＬＴ等）",null,"係数表2-1-2参照",0.5]
["合板（合板・ＬＶＬ）",null,0.54200000000000004,0.49299999999999999]
["木質ボード（パーティクルボード）",null,0.59599999999999997,0.45100000000000001]
["木質ボード（硬質繊維板）",null,0.78800000000000003,0.42499999999999999]
["木質ボード（中質繊維板）",null,0.69099999999999995,0.42699999999999999]
["木質ボード（軟質繊維板）",null,0.159,0.47399999999999998]
[]
["（備考）"]
["品目及び樹種の区分ごとの変化した炭素蓄積の量(木材、t-C)の算定式："]
["○木材の材積をもとに算出する場合"]
["　　当該品目及び樹種の区分における対象木材の材積(㎥)×木材の密度×炭素含有率"]
["○木材の重量をもとに算出する場合"]
["　　当該品目における対象木材の重量(kg)×炭素含有率"]
[]
["係数表2-1-2　製材における樹種の区分ごとの木材の密度"]
["針葉樹","樹種","木材の密度[t/㎥]",null,"広葉樹","樹種","木材の密度[t/㎥]"]
[null,"スギ",0.33,null,null,"イタヤカエデ",0.56999999999999995]
[null,"ヒノキ",0.38,null,null,"セン、ハリギリ",0.45]
[null,"アカマツ、メマツ",0.45,null,null,"マカンバ、ウダイカンバ",0.57999999999999996]
[null,"カラマツ",0.44,null,null,"シラカンバ",0.5]
[null,"トドマツ、アカトドマツ",0.35,null,null,"オノオレカンバ",0.78]
[null,"エゾマツ",0.37,null,null,"アサダ",0.64]
[null,"サワラ",0.3,null,null,"キリ",0.26]
[null,"ネズコ、クロベ",0.31,null,null,"ツゲ",0.78]
[null,"アスナロ",0.39,null,null,"カツラ",0.44]
[null,"イチョウ",0.41,null,null,"ミズキ",0.53]
[null,"モミ",0.38,null,null,"カキ",0.6]
[null,"ヒメコマツ",0.39,null,null,"クリ",0.52]
[null,"クロマツ、オマツ",0.47,null,null,"コジイ、ツブラジイ",0.47]
[null,"トガサワラ",0.43,null,null,"スダジイ、イタジイ",0.53]
[null,"ツガ",0.44,null,null,"ブナ",0.56999999999999995]
[null,"イヌマキ、ホンマキ、クサマキ",0.47,null,null,"イヌブナ",0.6]
[null,"コウヤマキ、ホンマキ",0.37,null,null,"アカガシ",0.76]
[null,"イチイ、アララギ、オンコ",0.44,null,null,"イチイガシ",0.7]
[null,"カヤ",0.46,null,null,"アラカシ",0.84]
[null,null,null,null,null,"シラカシ",0.72]
[null,null,null,null,null,"クヌギ",0.73]
[null,null,null,null,null,"ミズナラ、オオナラ、ナラ",0.59]
[null,null,null,null,null,"コナラ",0.69]
[null,null,null,null,null,"ウバメガシ",0.93]
[null,null,null,null,null,"イスノキ",0.78]
[null,null,null,null,null,"トチノキ",0.45]
[null,null,null,null,null,"オニグルミ",0.46]
[null,null,null,null,null,"サワグルミ",0.39]
[null,null,null,null,null,"クスノキ",0.45]
[null,null,null,null,null,"タブノキ",0.56999999999999995]
[null,null,null,null,null,"イヌエンジュ",0.51]
[null,null,null,null,null,"ホオノキ",0.43]
[null,null,null,null,null,"ヤマグワ、クワ",0.54]
[null,null,null,null,null,"ヤチダモ",0.48]
[null,null,null,null,null,"シオジ",0.46]
[null,null,null,null,null,"トネリコ",0.65]
[null,null,null,null,null,"アオダモ",0.62]
[null,null,null,null,null,"ヤマトアオダモ",0.63]
[null,null,null,null,null,"ヤマザクラ",0.54]
[null,null,null,null,null,"キハダ",0.43]
[null,null,null,null,null,"ドロノキ、ドロヤナギ",0.37]
[null,null,null,null,null,"シナノキ",0.44]
[null,null,null,null,null,"ハルニレ、アカダモ",0.55000000000000004]
[null,null,null,null,null,"ケヤキ",0.6]
[null,null,null,null,"樹種不明",null,0.33]

{"sheet":"係数表2-2","index":2,"n_rows":14,"n_cols":5,"rows_kept":14,"cut":false,"hidden":false,"merged":[[7,0,7,3],[2,0,2,3],[3,0,3,3],[4,0,4,3],[5,0,5,3],[6,0,6,3]]}
["表４．木材の変化した炭素蓄積の量の算定に使用する係数（対象木材の使用量の算定が困難な品目）"]
[]
["部材、製品等の品目",null,null,null,"国産材率"]
["木質ボード（パーティクルボード）",null,null,null,0.83]
["木質ボード（硬質繊維板）",null,null,null,0.55000000000000004]
["木質ボード（中質繊維板）",null,null,null,0.55000000000000004]
["木質ボード（軟質繊維板）",null,null,null,0.55000000000000004]
[]
["（備考）"]
["変化した炭素蓄積の量(木材、t-C)の算定式："]
["○木材の材積をもとに算出する場合"]
["　　当該品目及び樹種の区分における木材の材積(㎥)×木材の密度(係数表2-1-1)×炭素含有率(係数表2-1-1)×国産材率"]
["○木材の重量をもとに算出する場合"]
["　　当該品目における木材の重量(kg)×炭素含有率(係数表2-1-1)×国産材率"]

{"sheet":"係数表2-3","index":3,"n_rows":535,"n_cols":16,"rows_kept":535,"cut":false,"hidden":false,"merged":[[6,0,8,0],[6,1,6,10],[7,1,7,5],[7,6,7,10]]}
["係数表2-3　建替え等による建築物その他の工作物に使用した木材の減少した炭素蓄積の量の算定に使用する係数"]
["　　（対象木材の材積又は重量の算定が困難な場合）"]
[]
["（備考）"]
["建替え等による建築物その他の工作物に使用した木材の減少した炭素蓄積の量(t-C)の算出式：延床面積(㎡)×区分別の係数"]
[]
["当該建築物等の建築年度","区分別の係数（t-C）"]
[null,"住宅",null,null,null,null,"非住宅"]
[null,"木造","SRC造","RC造","S造","その他","木造","SRC造","RC造","S造","その他"]
["～1980",2.5265752998666909E-2,2.152892798754396E-3,3.1506053926743218E-3,4.4366084374409349E-3,7.9840448677111677E-3,2.6689443994065237E-2,9.6598257842075552E-4,1.4353542808528963E-3,1.0346629368064425E-3,2.26580290472678E-3]
[1981,2.5137151504965854E-2,2.1233408347989141E-3,3.105970136990877E-3,4.3727791193297833E-3,7.8683825883523635E-3,2.655263898132533E-2,9.5246905432267554E-4,1.4152394443299101E-3,1.0207883865921634E-3,2.2328692035796889E-3]
[1982,2.5032480561718244E-2,2.1064134013473522E-3,3.0708435012210033E-3,4.314429041781016E-3,7.7470254794023427E-3,2.6408404641331575E-2,9.5538782433188273E-4,1.4100648134829344E-3,1.0230957398283393E-3,2.2122961781509218E-3]
[1983,2.4867237762200921E-2,2.0526594402935053E-3,2.9857729246941995E-3,4.1888572841836218E-3,7.5091213021664877E-3,2.6230984922169603E-2,9.399324707283468E-4,1.3796057544058096E-3,1.0051136946009284E-3,2.1559153755154972E-3]
[1984,2.5127195278310237E-2,2.109268855210485E-3,3.0788068971701792E-3,4.3285744562673372E-3,7.776415947161973E-3,2.6527135910005124E-2,9.5525924203283938E-4,1.4115363965561969E-3,1.0222193729921877E-3,2.2184483178027126E-3]
[1985,2.4365621770731406E-2,1.9902985543474626E-3,2.8842656044651507E-3,4.0370959282280423E-3,7.2196512783886807E-3,2.5682331200037975E-2,9.2257298114966193E-4,1.3442370922141429E-3,9.8561703154291416E-4,2.0877455305332569E-3]
[1986,2.3907255903251039E-2,1.9428968558465145E-3,2.8192496992061273E-3,3.9492027131960185E-3,7.0678706842734846E-3,2.5211988702218288E-2,8.9746047875530189E-4,1.3104915008055591E-3,9.5881748641377411E-4,2.0395238494871617E-3]
[1987,2.3681631203347146E-2,1.7250453464303774E-3,2.4881732225812601E-3,3.4724968481974192E-3,6.1908505994502233E-3,2.4955100690748099E-2,8.1190329219206644E-4,1.1722913715746205E-3,8.6631993448164706E-4,1.8067475099794031E-3]
[1988,2.2829592486902778E-2,1.567079265075461E-3,2.245209876696234E-3,3.1201963295369103E-3,5.5379342966215056E-3,2.4036992279341637E-2,7.5335833840776511E-4,1.0741994961208955E-3,8.0252627816949267E-4,1.6376729394102622E-3]
[1989,2.265399602338802E-2,1.6006789017308542E-3,2.2948576614908564E-3,3.1904979325237844E-3,5.6650678480207354E-3,2.385280651359498E-2,7.6810872687808462E-4,1.0964368404573501E-3,8.1829530730610463E-4,1.6733015856757317E-3]
[1990,2.2388369932374884E-2,1.5794576626838959E-3,2.261345121035646E-3,3.1411672765380557E-3,5.5722144188303322E-3,2.356905772254602E-2,7.6131895654128886E-4,1.083914148934361E-3,8.1072720696468987E-4,1.6505217541544007E-3]
[1991,2.2249588816731943E-2,1.5645909846664942E-3,2.2376443836726987E-3,3.1060937002192475E-3,5.5058311331101393E-3,2.3418821713278647E-2,7.5685509386082879E-4,1.07532196030155E-3,8.0569307338197824E-4,1.6345617473476576E-3]
[1992,2.2042598159999174E-2,1.6340173474619082E-3,2.3422498908895126E-3,3.2559549103081745E-3,5.7801319097010653E-3,2.3205742998061753E-2,7.8511231533198755E-4,1.1199523191773295E-3,8.3612982692267076E-4,1.7085680247412689E-3]
[1993,2.2114957156041861E-2,1.5678189057205462E-3,2.2431212035889077E-3,3.1144684070913116E-3,5.5221959005488349E-3,2.3279824257022838E-2,7.5741407508355979E-4,1.0769372641416645E-3,8.0640458126581981E-4,1.6380498184955358E-3]
[1994,2.1480616172968529E-2,1.6050774083737529E-3,2.2952795816687773E-3,3.1862217111168073E-3,5.644419193429698E-3,2.2604019153860351E-2,7.7565727573575987E-4,1.1039672597318866E-3,8.2621699679039529E-4,1.6751544849515562E-3]
[1995,2.1745143454486238E-2,1.5288451385947752E-3,2.171849017861644E-3,3.0102311092721538E-3,5.3145878041480034E-3,2.287685029997729E-2,7.3802817586307698E-4,1.0591370913709802E-3,7.9095043521046002E-4,1.5862617981332269E-3]
[1996,2.172741961009806E-2,1.5505166931616917E-3,2.2063129833763242E-3,3.0615484328142496E-3,5.4117536625841508E-3,2.2865580945098916E-2,7.4422446767041057E-4,1.0718889415384399E-3,7.9807461536561108E-4,1.6097008226013533E-3]
[1997,2.1175974323316509E-2,1.5182993844607641E-3,2.153268336533707E-3,2.9806645226231011E-3,5.2535667602054649E-3,2.2273076374070382E-2,7.375926646523191E-4,1.0545910449214029E-3,7.8990241208966837E-4,1.5738074434919799E-3]
[1998,2.0836935748239162E-2,1.5080144343308877E-3,2.1313841394566884E-3,2.9490088510323829E-3,5.1720385568590635E-3,2.1909521935037181E-2,7.2698751458950318E-4,1.0540906135178675E-3,7.8378131073351585E-4,1.5486554513128943E-3]
[1999,2.0328553409250105E-2,1.5816666444724511E-3,2.0911910205554381E-3,2.9120077111091198E-3,5.2940029300490542E-3,2.1153299236018483E-2,7.0848082745770949E-4,1.1294907729084817E-3,8.1657353714934542E-4,1.6282800239111254E-3]
[2000,1.9901645092312261E-2,1.5704092328944538E-3,2.0969712438879914E-3,2.9126449365855013E-3,5.2553684183349082E-3,2.0690060596857643E-2,7.1855277434923362E-4,1.120069197875432E-3,8.1695876032875894E-4,1.6152863178536204E-3]
[2001,1.952020767308061E-2,1.5507504065806392E-3,2.0535321366164198E-3,2.8485820270635724E-3,5.1392623592550479E-3,2.0237133198768287E-2,7.1051404788560171E-4,1.1129106305002203E-3,8.1194834225605601E-4,1.5911843544654137E-3]
[2002,2.0228338732866721E-2,1.5447698564390803E-3,2.1063642020492431E-3,2.9268943238560173E-3,5.2546649625644674E-3,2.1186239163703217E-2,7.1904265254230874E-4,1.0884161100540501E-3,8.0037669067996948E-4,1.6038870192926994E-3]
[2003,1.9676392444113368E-2,1.5612641918215377E-3,2.1258605813470307E-3,2.9537188183142212E-3,5.3034593583376477E-3,2.0611097966795049E-2,7.2663068833205317E-4,1.1012293540478449E-3,8.0958594185513136E-4,1.6209937530358846E-3]
[2004,1.9785752808474683E-2,1.5136342961781651E-3,2.0728059002476521E-3,2.8720673463324374E-3,5.1074459028634103E-3,2.0726071735334174E-2,7.1406200941415512E-4,1.0709187468616404E-3,7.9021972467661341E-4,1.5612529536512165E-3]
[2005,1.9858564922378596E-2,1.4827721166335724E-3,2.0707353205133231E-3,2.860233882198891E-3,5.0165867621004608E-3,2.0844583945506631E-2,7.1535637182832583E-4,1.0455640758446232E-3,7.7753179981571337E-4,1.517872969206884E-3]
[2006,1.9481173219871434E-2,1.4627412089925382E-3,2.0488531843098116E-3,2.8236769916267033E-3,4.90101536216453E-3,2.0411948750157234E-2,7.1018024567124423E-4,1.0374313680721473E-3,7.7055776125291113E-4,1.4812538756446942E-3]
[2007,1.9408279224726294E-2,1.5106666326272877E-3,2.1242690122516509E-3,2.9337582842635674E-3,5.1332800047908774E-3,2.036610073502209E-2,7.3339286994730996E-4,1.0622205043469546E-3,7.9185668385023009E-4,1.5479716642601386E-3]
[2008,1.9329573488841099E-2,1.4746166172741038E-3,2.0451603929148633E-3,2.8208070956753884E-3,4.94136177588943E-3,2.0245700657877397E-2,7.1371257963619291E-4,1.0460307413749511E-3,7.7858789295768627E-4,1.5066833126327435E-3]
[2009,1.9137239233877761E-2,1.4993248456800867E-3,2.0384729676899763E-3,2.8210832827814687E-3,5.0278678049865862E-3,2.0049994452568096E-2,7.0825988536070178E-4,1.0644982739554606E-3,7.8668500075633431E-4,1.5482251826933998E-3]
[2010,1.799623082691262E-2,1.6171744390705448E-3,1.8989942175211864E-3,2.6975050073857758E-3,5.6195910641842328E-3,1.8682056420474553E-2,6.9992924195999952E-4,1.1294399175211319E-3,8.4271776976438265E-4,1.9250949333586823E-3]
[2011,1.8822372060544573E-2,1.4986683980705439E-3,1.9500985475875612E-3,2.7146498012520425E-3,5.0651843219931113E-3,1.9676501992160939E-2,6.9743023532700969E-4,1.0616013895441796E-3,7.9119729454767954E-4,1.6142673535762451E-3]
[2012,1.9113150176329103E-2,1.5263592550427674E-3,1.9936462360050002E-3,2.7788901366345544E-3,5.1599513445105228E-3,1.9982856044042693E-2,7.009710876800042E-4,1.0817993841302771E-3,7.9866758476655796E-4,1.6310942558164072E-3]
[2013,1.9349631480566298E-2,1.6010253977185094E-3,2.0203865886545555E-3,2.8444199937973694E-3,5.5721400405296904E-3,2.0243489327697452E-2,7.1466927852198718E-4,1.1134034508015532E-3,8.2783168644734841E-4,1.8219066602143115E-3]
[2014,1.8881958480111108E-2,1.5736868170774217E-3,1.961795895441714E-3,2.7591240539910646E-3,5.4199287030184144E-3,1.9727137951518529E-2,7.0321833627260528E-4,1.1020881318235885E-3,8.1974565634734321E-4,1.7913630740508124E-3]
[2015,1.7793001043707929E-2,1.5020514640981515E-3,1.9304448248987196E-3,2.6842996392604838E-3,5.0273063974221018E-3,1.8500467633645202E-2,7.0089244487966137E-4,1.0704217654983214E-3,7.9955272844186816E-4,1.6242433350978076E-3]
[2016,1.9404530470091195E-2,1.5253846488350513E-3,1.9577529198815222E-3,2.735386433075312E-3,5.1683682182185765E-3,2.0255755796798221E-2,6.9341051388062218E-4,1.0801819449357865E-3,7.9862575954907182E-4,1.6528035612168664E-3]
[2017,1.8151082052767636E-2,1.4946538334952063E-3,1.9667539318915083E-3,2.7177570758381698E-3,4.9135620925108451E-3,1.8833630184029816E-2,7.1178513434103996E-4,1.0757562482862618E-3,8.0348462367736554E-4,1.563562249936917E-3]
[2018,1.8064838824779914E-2,1.5570068016994144E-3,2.0536308116947954E-3,2.841769407033025E-3,5.1456040452861982E-3,1.8741602914396319E-2,7.3719686681547223E-4,1.1175390972441364E-3,8.3237988203577E-4,1.6314893739756858E-3]
[2019,1.8065285302866857E-2,1.4752665934265276E-3,1.9263417036617452E-3,2.6640375606856396E-3,4.8549961942161374E-3,1.8765965246917652E-2,7.016657231978128E-4,1.0608499891368534E-3,7.9426799957890357E-4,1.5593731297291493E-3]
[2020,1.8377649817089645E-2,1.4882646295142038E-3,1.9579360040443286E-3,2.7137641465187238E-3,4.9235815439780247E-3,1.9156409981586135E-2,6.964093626580202E-4,1.0684737703966526E-3,7.916766128088636E-4,1.5568206565618286E-3]
[2021,1.7818340412843102E-2,1.4723316353299808E-3,1.9412917372884279E-3,2.6828777401457981E-3,4.8492721756476708E-3,1.8505107702461356E-2,6.960148506555304E-4,1.0578570706108452E-3,7.8536711834529334E-4,1.5373170773869498E-3]
[2022,1.7875866953353237E-2,1.4818465517751726E-3,1.9216179610240642E-3,2.6651275457237476E-3,4.9021479059563455E-3,1.8584439233311156E-2,6.8883564797945747E-4,1.0636048092224871E-3,7.8767149809088948E-4,1.5682876676223964E-3]
[2023,1.7561038819701991E-2,1.4699720377544458E-3,1.8866802463434773E-3,2.615814860758083E-3,4.8392326744261119E-3,1.8231653589965792E-2,6.8337926638201618E-4,1.0588668444904345E-3,7.8562559377432731E-4,1.5643893378083943E-3]
[2024]
[2025]
[2026]
[{"$f":"A56+1","v":2027}]
[{"$f":"A57+1","v":2028}]
[2029]
[2030]
[2031]
[2032]
[2033]
[2034]
[2035]
[2036]
[2037]
[2038]
[2039]
[2040]
[2041]
[2042]
[2043]
[2044]
[2045]
[2046]
[2047]
[2048]
[2049]
[2050]
[2051]
[2052]
[2053]
[2054]
[2055]
[2056]
[2057]
[2058]
[2059]
[2060]
[2061]
[2062]
[2063]
[2064]
[2065]
[2066]
[2067]
[2068]
[2069]
[2070]
[2071]
[2072]
[2073]
[2074]
[2075]
[2076]
[2077]
[2078]
[2079]
[2080]
[2081]
[2082]
[2083]
[2084]
[2085]
[2086]
[2087]
[2088]
[2089]
[2090]
[2091]
[{"$f":"A121+1","v":2092}]
[2093]
[2094]
[2095]
[2096]
[2097]
[2098]
[2099]
[2100]
[2101]
[2102]
[2103]
[2104]
[2105]
[2106]
[2107]
[{"$f":"A137+1","v":2108}]
[2109]
[2110]
[2111]
[2112]
[2113]
[2114]
[2115]
[2116]
[2117]
[2118]
[2119]
[2120]
[2121]
[2122]
[2123]
[{"$f":"A153+1","v":2124}]
[2125]
[2126]
[2127]
[2128]
[2129]
[2130]
[2131]
[2132]
[2133]
[2134]
[2135]
[2136]
[2137]
[2138]
[2139]
[{"$f":"A169+1","v":2140}]
[2141]
[2142]
[2143]
[2144]
[2145]
[2146]
[2147]
[2148]
[2149]
[2150]
[2151]
[2152]
[2153]
[2154]
[2155]
[{"$f":"A185+1","v":2156}]
[2157]
[2158]
[2159]
[2160]
[2161]
[2162]
[2163]
[2164]
[2165]
[2166]
[2167]
[2168]
[2169]
[2170]
[2171]
[{"$f":"A201+1","v":2172}]
[2173]
[2174]
[2175]
[2176]
[2177]
[2178]
[2179]
[2180]
[2181]
[2182]
[2183]
[2184]
[2185]
[2186]
[2187]
[{"$f":"A217+1","v":2188}]
[2189]
[2190]
[2191]
[2192]
[2193]
[2194]
[2195]
[2196]
[2197]
[2198]
[2199]
[2200]
[2201]
[2202]
[2203]
[{"$f":"A233+1","v":2204}]
[2205]
[2206]
[2207]
[2208]
[2209]
[2210]
[2211]
[2212]
[2213]
[2214]
[2215]
[2216]
[2217]
[2218]
[2219]
[{"$f":"A249+1","v":2220}]
[2221]
[2222]
[2223]
[2224]
[2225]
[2226]
[2227]
[2228]
[2229]
[2230]
[2231]
[2232]
[2233]
[2234]
[2235]
[{"$f":"A265+1","v":2236}]
[2237]
[2238]
[2239]
[2240]
[2241]
[2242]
[2243]
[2244]
[2245]
[2246]
[2247]
[2248]
[2249]
[2250]
[2251]
[{"$f":"A281+1","v":2252}]
[2253]
[2254]
[2255]
[2256]
[2257]
[2258]
[2259]
[2260]
[2261]
[2262]
[2263]
[2264]
[2265]
[2266]
[2267]
[{"$f":"A297+1","v":2268}]
[2269]
[2270]
[2271]
[2272]
[2273]
[2274]
[2275]
[2276]
[2277]
[2278]
[2279]
[2280]
[2281]
[2282]
[2283]
[{"$f":"A313+1","v":2284}]
[2285]
[2286]
[2287]
[2288]
[2289]
[2290]
[2291]
[2292]
[2293]
[2294]
[2295]
[2296]
[2297]
[2298]
[2299]
[{"$f":"A329+1","v":2300}]
[2301]
[2302]
[2303]
[2304]
[2305]
[2306]
[2307]
[2308]
[2309]
[2310]
[2311]
[2312]
[2313]
[2314]
[2315]
[{"$f":"A345+1","v":2316}]
[2317]
[2318]
[2319]
[2320]
[2321]
[2322]
[2323]
[2324]
[2325]
[2326]
[2327]
[2328]
[2329]
[2330]
[2331]
[{"$f":"A361+1","v":2332}]
[2333]
[2334]
[2335]
[2336]
[2337]
[2338]
[2339]
[2340]
[2341]
[2342]
[2343]
[2344]
[2345]
[2346]
[2347]
[{"$f":"A377+1","v":2348}]
[2349]
[2350]
[2351]
[2352]
[2353]
[2354]
[2355]
[2356]
[2357]
[2358]
[2359]
[2360]
[2361]
[2362]
[2363]
[{"$f":"A393+1","v":2364}]
[2365]
[2366]
[2367]
[2368]
[2369]
[2370]
[2371]
[2372]
[2373]
[2374]
[2375]
[2376]
[2377]
[2378]
[2379]
[{"$f":"A409+1","v":2380}]
[2381]
[2382]
[2383]
[2384]
[2385]
[2386]
[2387]
[2388]
[2389]
[2390]
[2391]
[2392]
[2393]
[2394]
[2395]
[{"$f":"A425+1","v":2396}]
[2397]
[2398]
[2399]
[2400]
[2401]
[2402]
[2403]
[2404]
[2405]
[2406]
[2407]
[2408]
[2409]
[2410]
[2411]
[{"$f":"A441+1","v":2412}]
[2413]
[2414]
[2415]
[2416]
[2417]
[2418]
[2419]
[2420]
[2421]
[2422]
[2423]
[2424]
[2425]
[2426]
[2427]
[{"$f":"A457+1","v":2428}]
[2429]
[2430]
[2431]
[2432]
[2433]
[2434]
[2435]
[2436]
[2437]
[2438]
[2439]
[2440]
[2441]
[2442]
[2443]
[{"$f":"A473+1","v":2444}]
[2445]
[2446]
[2447]
[2448]
[2449]
[2450]
[2451]
[2452]
[2453]
[2454]
[2455]
[2456]
[2457]
[2458]
[2459]
[{"$f":"A489+1","v":2460}]
[2461]
[2462]
[2463]
[2464]
[2465]
[2466]
[2467]
[2468]
[2469]
[2470]
[2471]
[2472]
[2473]
[2474]
[2475]
[{"$f":"A505+1","v":2476}]
[2477]
[2478]
[2479]
[2480]
[2481]
[2482]
[2483]
[2484]
[2485]
[2486]
[2487]
[2488]
[2489]
[2490]
[2491]
[{"$f":"A521+1","v":2492}]
[2493]
[2494]
[2495]
[2496]
[2497]
[2498]
[2499]
[2500]
[2501]
[]
[]
[]
[null,null,null,null,null,null,null,null,null,null,null,null,null,null,null,"　　　　"]

{"sheet":"プルダウンデータリスト","index":4,"n_rows":5211,"n_cols":42,"rows_kept":2250,"cut":true,"hidden":true,"merged":[],"bounds":{"rows_first":1000,"rows_last":250,"rows_between":1000,"halvings":1}}
["樹種","BEF[-]_<=20 ","BEF[-]_>20 ","R","D","CF",null,null,null,null,null,"用途の変更内容","用途変更後20年間での１ha当たりの変化した炭素蓄積の量","炭素蓄積内訳（枯死木）","炭素蓄積内訳（リター）","炭素蓄積内訳（土壌）",null,"建築物その他の工作物/家具その他の物品の別",null,null,null,"部材、製品名等の区分","木材の密度[t/㎥]","炭素含有率",null,"構造材/非構造材の別",null,"針広","樹種","木材の密度[t/㎥]",null,"品目","国産材率",null,"当該建築物等の建築年度","住宅/非住宅","構造区分","区分別の係数(t-C)",null,"住宅/非住宅の別",null,"構造区分"]
["スギ",1.57,1.23,0.25,0.31,0.51,null,"20年生以下",null,"森林簿",null,"森林から田",{"$f":"SUM(N2:P2)","v":11.700000000000001},-10,-4.9000000000000004,{"$f":"1.33*20","v":26.6},null,"建築物その他の工作物（構造材）",null,"建築物その他の工作物",null,"製材（製材・集成材・ＣＬＴ等）","表３－２参照",0.5,null,"構造材",null,"針","スギ",0.33,null,"木質ボード（パーティクルボード）",0.83,null,"～1980","住宅","木造",{"$f":"INDEX('係数表2-3'!$B:$K, 10 + QUOTIENT(ROW(AL2)-2, 10), 1 + MOD(ROW(AL2)-2, 10))","v":2.5265752998666909E-2},null,"住宅",null,"木造"]
["ヒノキ",1.55,1.24,0.26,0.41,0.51,null,"21年生以上",null,"実測",null,"森林から普通畑、樹園地",{"$f":"SUM(N3:P3)","v":-32.5},-10,-4.9000000000000004,{"$f":"(-0.44)*40","v":-17.600000000000001},null,"建築物その他の工作物（非構造材）",null,"家具その他の物品",null,"合板（合板・ＬＶＬ）",0.54200000000000004,0.49299999999999999,null,"非構造材",null,"針","ヒノキ",0.38,null,"木質ボード（硬質繊維板）",0.55000000000000004,null,"～1980","住宅","SRC造",{"$f":"INDEX('係数表2-3'!$B:$K, 10 + QUOTIENT(ROW(AL3)-2, 10), 1 + MOD(ROW(AL3)-2, 10))","v":2.152892798754396E-3},null,"非住宅",null,"SRC造"]
["サワラ",1.55,1.24,0.26,0.28999999999999998,0.51,null,null,null,null,null,"森林から草地（牧草地）",-25.700000000000003,-10,-4.9000000000000004,{"$f":"(-0.54)*20","v":-10.8},null,"家具その他の物品",null,null,null,"木質ボード（パーティクルボード）",0.59599999999999997,0.45100000000000001,null,"-",null,"針","アカマツ、メマツ",0.45,null,"木質ボード（中質繊維板）",0.55000000000000004,null,"～1980","住宅","RC造",{"$f":"INDEX('係数表2-3'!$B:$K, 10 + QUOTIENT(ROW(AL4)-2, 10), 1 + MOD(ROW(AL4)-2, 10))","v":3.1506053926743218E-3},null,null,null,"RC造"]
["アカマツ",1.63,1.23,0.26,0.45,0.51,null,null,null,null,null,"森林から開発地",-62.8,-10,-4.9000000000000004,{"$f":"28.1-76","v":-47.9},null,null,null,null,null,"木質ボード（硬質繊維板）",0.78800000000000003,0.42499999999999999,null,null,null,"針","カラマツ",0.44,null,"木質ボード（軟質繊維板）",0.55000000000000004,null,"～1980","住宅","S造",{"$f":"INDEX('係数表2-3'!$B:$K, 10 + QUOTIENT(ROW(AL5)-2, 10), 1 + MOD(ROW(AL5)-2, 10))","v":4.4366084374409349E-3},null,null,null,"S造"]
["クロマツ",1.39,1.36,0.34,0.46,0.51,null,null,null,null,null,"森林からその他の土地",-70.8,-10,-4.9000000000000004,{"$f":"20.1-76","v":-55.9},null,null,null,null,null,"木質ボード（中質繊維板）",0.69099999999999995,0.42699999999999999,null,null,null,"針","トドマツ、アカトドマツ",0.35,null,"木質ボード（配向性ストランドボード）",0,null,"～1980","住宅","その他",{"$f":"INDEX('係数表2-3'!$B:$K, 10 + QUOTIENT(ROW(AL6)-2, 10), 1 + MOD(ROW(AL6)-2, 10))","v":7.9840448677111677E-3},null,null,null,"その他"]
["ヒバ",2.38,1.41,0.2,0.41,0.51,null,null,null,null,null,"田から森林",15.385000000000002,{"$f":"6.5*20/40","v":3.25},{"$f":"6.67*20/40","v":3.335},{"$f":"0.44*20","v":8.8000000000000007},null,null,null,null,null,"木質ボード（軟質繊維板）",0.159,0.47399999999999998,null,null,null,"針","エゾマツ",0.37,null,null,"-",null,"～1980","非住宅","木造",{"$f":"INDEX('係数表2-3'!$B:$K, 10 + QUOTIENT(ROW(AL7)-2, 10), 1 + MOD(ROW(AL7)-2, 10))","v":2.6689443994065237E-2},null,null,null,"木造"]
["カラマツ",1.5,1.1499999999999999,0.28999999999999998,0.4,0.51,null,null,null,null,null,"普通畑、樹園地から森林",15.385000000000002,{"$f":"6.5*20/40","v":3.25},{"$f":"6.67*20/40","v":3.335},{"$f":"0.44*20","v":8.8000000000000007},null,null,null,null,null,null,null,null,null,null,null,"針","サワラ",0.3,null,null,null,null,"～1980","非住宅","SRC造",{"$f":"INDEX('係数表2-3'!$B:$K, 10 + QUOTIENT(ROW(AL8)-2, 10), 1 + MOD(ROW(AL8)-2, 10))","v":9.6598257842075552E-4},null,null,null,"SRC造"]
["モミ",1.4,1.4,0.4,0.42,0.51,null,null,null,null,null,"草地（牧草地）から森林",15.385000000000002,3.25,3.335,8.8000000000000007,null,null,null,null,null,null,"-","-",null,null,null,"針","ネズコ、クロベ",0.31,null,null,null,null,"～1980","非住宅","RC造",{"$f":"INDEX('係数表2-3'!$B:$K, 10 + QUOTIENT(ROW(AL9)-2, 10), 1 + MOD(ROW(AL9)-2, 10))","v":1.4353542808528963E-3},null,null,null,"RC造"]
["トドマツ",1.88,1.48,0.21,0.32,0.51,null,null,null,null,null,"開発地から森林",36.585000000000001,3.25,3.335,{"$f":"1.5*20","v":30},null,null,null,null,null,null,null,null,null,null,null,"針","アスナロ",0.39,null,null,null,null,"～1980","非住宅","S造",{"$f":"INDEX('係数表2-3'!$B:$K, 10 + QUOTIENT(ROW(AL10)-2, 10), 1 + MOD(ROW(AL10)-2, 10))","v":1.0346629368064425E-3},null,null,null,"S造"]
["ツガ",1.4,1.4,0.4,0.46,0.51,null,null,null,null,null,"その他の土地から森林",36.585000000000001,3.25,3.335,{"$f":"1.5*20","v":30},null,null,null,null,null,null,null,null,null,null,null,"針","イチョウ",0.41,null,"表４，５と連動",null,null,"～1980","非住宅","その他",{"$f":"INDEX('係数表2-3'!$B:$K, 10 + QUOTIENT(ROW(AL11)-2, 10), 1 + MOD(ROW(AL11)-2, 10))","v":2.26580290472678E-3},null,null,null,"その他"]
["エゾマツ",2.1800000000000002,1.48,0.23,0.36,0.51,null,null,null,null,null,null,null,null,null,null,null,null,null,null,null,null,null,null,null,null,null,"針","モミ",0.38,null,null,null,null,1981,"住宅","木造",{"$f":"INDEX('係数表2-3'!$B:$K, 10 + QUOTIENT(ROW(AL12)-2, 10), 1 + MOD(ROW(AL12)-2, 10))","v":2.5137151504965854E-2}]
["アカエゾマツ",2.17,1.67,0.21,0.36,0.51,null,null,null,null,null,null,null,null,null,null,null,null,null,null,null,null,null,null,null,null,null,"針","ヒメコマツ",0.39,null,null,null,null,1981,"住宅","SRC造",{"$f":"INDEX('係数表2-3'!$B:$K, 10 + QUOTIENT(ROW(AL13)-2, 10), 1 + MOD(ROW(AL13)-2, 10))","v":2.1233408347989141E-3}]
["マキ",1.39,1.23,0.2,0.46,0.51,null,null,null,null,null,null,null,null,null,null,null,null,null,null,null,null,null,null,null,null,null,"針","クロマツ、オマツ",0.47,null,null,null,null,1981,"住宅","RC造",{"$f":"INDEX('係数表2-3'!$B:$K, 10 + QUOTIENT(ROW(AL14)-2, 10), 1 + MOD(ROW(AL14)-2, 10))","v":3.105970136990877E-3}]
["イチイ",1.39,1.23,0.2,0.45,0.51,null,null,null,null,null,null,null,null,null,null,null,null,null,null,null,null,null,null,null,null,null,"針","トガサワラ",0.43,null,null,null,null,1981,"住宅","S造",{"$f":"INDEX('係数表2-3'!$B:$K, 10 + QUOTIENT(ROW(AL15)-2, 10), 1 + MOD(ROW(AL15)-2, 10))","v":4.3727791193297833E-3}]
["イチョウ",1.5,1.1499999999999999,0.2,0.45,0.51,null,null,null,null,null,null,null,null,null,null,null,null,null,null,null,null,null,null,null,null,null,"針","ツガ",0.44,null,null,null,null,1981,"住宅","その他",{"$f":"INDEX('係数表2-3'!$B:$K, 10 + QUOTIENT(ROW(AL16)-2, 10), 1 + MOD(ROW(AL16)-2, 10))","v":7.8683825883523635E-3}]
["外来針葉樹",1.41,1.41,0.17,0.32,0.51,null,null,null,null,null,null,null,null,null,null,null,null,null,null,null,null,null,null,null,null,null,"針","イヌマキ、ホンマキ、クサマキ",0.47,null,null,null,null,1981,"非住宅","木造",{"$f":"INDEX('係数表2-3'!$B:$K, 10 + QUOTIENT(ROW(AL17)-2, 10), 1 + MOD(ROW(AL17)-2, 10))","v":2.655263898132533E-2}]
["その他針葉樹１",2.5499999999999998,1.32,0.34,0.35,0.51,null,null,null,null,null,null,null,null,null,null,null,null,null,null,null,null,null,null,null,null,null,"針","コウヤマキ、ホンマキ",0.37,null,null,null,null,1981,"非住宅","SRC造",{"$f":"INDEX('係数表2-3'!$B:$K, 10 + QUOTIENT(ROW(AL18)-2, 10), 1 + MOD(ROW(AL18)-2, 10))","v":9.5246905432267554E-4}]
["その他針葉樹２",1.39,1.36,0.34,0.46,0.51,null,null,null,null,null,null,null,null,null,null,null,null,null,null,null,null,null,null,null,null,null,"針","イチイ、アララギ、オンコ",0.44,null,null,null,null,1981,"非住宅","RC造",{"$f":"INDEX('係数表2-3'!$B:$K, 10 + QUOTIENT(ROW(AL19)-2, 10), 1 + MOD(ROW(AL19)-2, 10))","v":1.4152394443299101E-3}]
["その他針葉樹３",1.4,1.4,0.4,0.42,0.51,null,null,null,null,null,null,null,null,null,null,null,null,null,null,null,null,null,null,null,null,null,"針","カヤ",0.46,null,null,null,null,1981,"非住宅","S造",{"$f":"INDEX('係数表2-3'!$B:$K, 10 + QUOTIENT(ROW(AL20)-2, 10), 1 + MOD(ROW(AL20)-2, 10))","v":1.0207883865921634E-3}]
["ブナ",1.58,1.32,0.26,0.56999999999999995,0.48,null,null,null,null,null,null,null,null,null,null,null,null,null,null,null,null,null,null,null,null,null,"広","イタヤカエデ",0.56999999999999995,null,null,null,null,1981,"非住宅","その他",{"$f":"INDEX('係数表2-3'!$B:$K, 10 + QUOTIENT(ROW(AL21)-2, 10), 1 + MOD(ROW(AL21)-2, 10))","v":2.2328692035796889E-3}]
["カシ",1.52,1.33,0.26,0.65,0.48,null,null,null,null,null,null,null,null,null,null,null,null,null,null,null,null,null,null,null,null,null,"広","セン、ハリギリ",0.45,null,null,null,null,1982,"住宅","木造",{"$f":"INDEX('係数表2-3'!$B:$K, 10 + QUOTIENT(ROW(AL22)-2, 10), 1 + MOD(ROW(AL22)-2, 10))","v":2.5032480561718244E-2}]
["クリ",1.33,1.18,0.26,0.42,0.48,null,null,null,null,null,null,null,null,null,null,null,null,null,null,null,null,null,null,null,null,null,"広","マカンバ、ウダイカンバ",0.57999999999999996,null,null,null,null,1982,"住宅","SRC造",{"$f":"INDEX('係数表2-3'!$B:$K, 10 + QUOTIENT(ROW(AL23)-2, 10), 1 + MOD(ROW(AL23)-2, 10))","v":2.1064134013473522E-3}]
["クヌギ",1.36,1.32,0.26,0.67,0.48,null,null,null,null,null,null,null,null,null,null,null,null,null,null,null,null,null,null,null,null,null,"広","シラカンバ",0.5,null,null,null,null,1982,"住宅","RC造",{"$f":"INDEX('係数表2-3'!$B:$K, 10 + QUOTIENT(ROW(AL24)-2, 10), 1 + MOD(ROW(AL24)-2, 10))","v":3.0708435012210033E-3}]
["ナラ",1.4,1.26,0.26,0.62,0.48,null,null,null,null,null,null,null,null,null,null,null,null,null,null,null,null,null,null,null,null,null,"広","オノオレカンバ",0.78,null,null,null,null,1982,"住宅","S造",{"$f":"INDEX('係数表2-3'!$B:$K, 10 + QUOTIENT(ROW(AL25)-2, 10), 1 + MOD(ROW(AL25)-2, 10))","v":4.314429041781016E-3}]
["ドロノキ",1.33,1.18,0.26,0.28999999999999998,0.48,null,null,null,null,null,null,null,null,null,null,null,null,null,null,null,null,null,null,null,null,null,"広","アサダ",0.64,null,null,null,null,1982,"住宅","その他",{"$f":"INDEX('係数表2-3'!$B:$K, 10 + QUOTIENT(ROW(AL26)-2, 10), 1 + MOD(ROW(AL26)-2, 10))","v":7.7470254794023427E-3}]
["ハンノキ",1.33,1.25,0.26,0.45,0.48,null,null,null,null,null,null,null,null,null,null,null,null,null,null,null,null,null,null,null,null,null,"広","キリ",0.26,null,null,null,null,1982,"非住宅","木造",{"$f":"INDEX('係数表2-3'!$B:$K, 10 + QUOTIENT(ROW(AL27)-2, 10), 1 + MOD(ROW(AL27)-2, 10))","v":2.6408404641331575E-2}]
["ニレ",1.33,1.18,0.26,0.49,0.48,null,null,null,null,null,null,null,null,null,null,null,null,null,null,null,null,null,null,null,null,null,"広","ツゲ",0.78,null,null,null,null,1982,"非住宅","SRC造",{"$f":"INDEX('係数表2-3'!$B:$K, 10 + QUOTIENT(ROW(AL28)-2, 10), 1 + MOD(ROW(AL28)-2, 10))","v":9.5538782433188273E-4}]
["ケヤキ",1.58,1.18,0.26,0.61,0.48,null,null,null,null,null,null,null,null,null,null,null,null,null,null,null,null,null,null,null,null,null,"広","カツラ",0.44,null,null,null,null,1982,"非住宅","RC造",{"$f":"INDEX('係数表2-3'!$B:$K, 10 + QUOTIENT(ROW(AL29)-2, 10), 1 + MOD(ROW(AL29)-2, 10))","v":1.4100648134829344E-3}]
["カツラ",1.33,1.18,0.26,0.45,0.48,null,null,null,null,null,null,null,null,null,null,null,null,null,null,null,null,null,null,null,null,null,"広","ミズキ",0.53,null,null,null,null,1982,"非住宅","S造",{"$f":"INDEX('係数表2-3'!$B:$K, 10 + QUOTIENT(ROW(AL30)-2, 10), 1 + MOD(ROW(AL30)-2, 10))","v":1.0230957398283393E-3}]
["ホオノキ",1.33,1.18,0.26,0.39,0.48,null,null,null,null,null,null,null,null,null,null,null,null,null,null,null,null,null,null,null,null,null,"広","カキ",0.6,null,null,null,null,1982,"非住宅","その他",{"$f":"INDEX('係数表2-3'!$B:$K, 10 + QUOTIENT(ROW(AL31)-2, 10), 1 + MOD(ROW(AL31)-2, 10))","v":2.2122961781509218E-3}]
["カエデ",1.33,1.18,0.26,0.52,0.48,null,null,null,null,null,null,null,null,null,null,null,null,null,null,null,null,null,null,null,null,null,"広","クリ",0.52,null,null,null,null,1983,"住宅","木造",{"$f":"INDEX('係数表2-3'!$B:$K, 10 + QUOTIENT(ROW(AL32)-2, 10), 1 + MOD(ROW(AL32)-2, 10))","v":2.4867237762200921E-2}]
["キハダ",1.33,1.18,0.26,0.34,0.48,null,null,null,null,null,null,null,null,null,null,null,null,null,null,null,null,null,null,null,null,null,"広","コジイ、ツブラジイ",0.47,null,null,null,null,1983,"住宅","SRC造",{"$f":"INDEX('係数表2-3'!$B:$K, 10 + QUOTIENT(ROW(AL33)-2, 10), 1 + MOD(ROW(AL33)-2, 10))","v":2.0526594402935053E-3}]
["シナノキ",1.33,1.18,0.26,0.37,0.48,null,null,null,null,null,null,null,null,null,null,null,null,null,null,null,null,null,null,null,null,null,"広","スダジイ、イタジイ",0.53,null,null,null,null,1983,"住宅","RC造",{"$f":"INDEX('係数表2-3'!$B:$K, 10 + QUOTIENT(ROW(AL34)-2, 10), 1 + MOD(ROW(AL34)-2, 10))","v":2.9857729246941995E-3}]
["センノキ",1.33,1.18,0.26,0.4,0.48,null,null,null,null,null,null,null,null,null,null,null,null,null,null,null,null,null,null,null,null,null,"広","ブナ",0.56999999999999995,null,null,null,null,1983,"住宅","S造",{"$f":"INDEX('係数表2-3'!$B:$K, 10 + QUOTIENT(ROW(AL35)-2, 10), 1 + MOD(ROW(AL35)-2, 10))","v":4.1888572841836218E-3}]
["キリ",1.33,1.18,0.26,0.23,0.48,null,null,null,null,null,null,null,null,null,null,null,null,null,null,null,null,null,null,null,null,null,"広","イヌブナ",0.6,null,null,null,null,1983,"住宅","その他",{"$f":"INDEX('係数表2-3'!$B:$K, 10 + QUOTIENT(ROW(AL36)-2, 10), 1 + MOD(ROW(AL36)-2, 10))","v":7.5091213021664877E-3}]
["外来広葉樹",1.41,1.41,0.16,0.66,0.48,null,null,null,null,null,null,null,null,null,null,null,null,null,null,null,null,null,null,null,null,null,"広","アカガシ",0.76,null,null,null,null,1983,"非住宅","木造",{"$f":"INDEX('係数表2-3'!$B:$K, 10 + QUOTIENT(ROW(AL37)-2, 10), 1 + MOD(ROW(AL37)-2, 10))","v":2.6230984922169603E-2}]
["カンバ",1.31,1.2,0.26,0.47,0.48,null,null,null,null,null,null,null,null,null,null,null,null,null,null,null,null,null,null,null,null,null,"広","イチイガシ",0.7,null,null,null,null,1983,"非住宅","SRC造",{"$f":"INDEX('係数表2-3'!$B:$K, 10 + QUOTIENT(ROW(AL38)-2, 10), 1 + MOD(ROW(AL38)-2, 10))","v":9.399324707283468E-4}]
["その他広葉樹１",1.37,1.37,0.26,0.47,0.48,null,null,null,null,null,null,null,null,null,null,null,null,null,null,null,null,null,null,null,null,null,"広","アラカシ",0.84,null,null,null,null,1983,"非住宅","RC造",{"$f":"INDEX('係数表2-3'!$B:$K, 10 + QUOTIENT(ROW(AL39)-2, 10), 1 + MOD(ROW(AL39)-2, 10))","v":1.3796057544058096E-3}]
["その他広葉樹２",1.52,1.33,0.26,0.65,0.48,null,null,null,null,null,null,null,null,null,null,null,null,null,null,null,null,null,null,null,null,null,"広","シラカシ",0.72,null,null,null,null,1983,"非住宅","S造",{"$f":"INDEX('係数表2-3'!$B:$K, 10 + QUOTIENT(ROW(AL40)-2, 10), 1 + MOD(ROW(AL40)-2, 10))","v":1.0051136946009284E-3}]
["その他広葉樹３",1.4,1.26,0.26,0.62,0.48,null,null,null,null,null,null,null,null,null,null,null,null,null,null,null,null,null,null,null,null,null,"広","クヌギ",0.73,null,null,null,null,1983,"非住宅","その他",{"$f":"INDEX('係数表2-3'!$B:$K, 10 + QUOTIENT(ROW(AL41)-2, 10), 1 + MOD(ROW(AL41)-2, 10))","v":2.1559153755154972E-3}]
["無立木地(民有林)",1.27,1.27,0.26,0.48,0.5,null,null,null,null,null,null,null,null,null,null,null,null,null,null,null,null,null,null,null,null,null,"広","ミズナラ、オオナラ、ナラ",0.59,null,null,null,null,1984,"住宅","木造",{"$f":"INDEX('係数表2-3'!$B:$K, 10 + QUOTIENT(ROW(AL42)-2, 10), 1 + MOD(ROW(AL42)-2, 10))","v":2.5127195278310237E-2}]
["無立木地(国有林)",1.3,1.3,0.26,0.47,0.5,null,null,null,null,null,null,null,null,null,null,null,null,null,null,null,null,null,null,null,null,null,"広","コナラ",0.69,null,null,null,null,1984,"住宅","SRC造",{"$f":"INDEX('係数表2-3'!$B:$K, 10 + QUOTIENT(ROW(AL43)-2, 10), 1 + MOD(ROW(AL43)-2, 10))","v":2.109268855210485E-3}]
[null,null,null,null,null,null,null,null,null,null,null,null,null,null,null,null,null,null,null,null,null,null,null,null,null,null,null,"広","ウバメガシ",0.93,null,null,null,null,1984,"住宅","RC造",{"$f":"INDEX('係数表2-3'!$B:$K, 10 + QUOTIENT(ROW(AL44)-2, 10), 1 + MOD(ROW(AL44)-2, 10))","v":3.0788068971701792E-3}]
[null,null,null,null,null,null,null,null,null,null,null,null,null,null,null,null,null,null,null,null,null,null,null,null,null,null,null,"広","イスノキ",0.78,null,null,null,null,1984,"住宅","S造",{"$f":"INDEX('係数表2-3'!$B:$K, 10 + QUOTIENT(ROW(AL45)-2, 10), 1 + MOD(ROW(AL45)-2, 10))","v":4.3285744562673372E-3}]
[null,null,null,null,null,null,null,null,null,null,null,null,null,null,null,null,null,null,null,null,null,null,null,null,null,null,null,"広","トチノキ",0.45,null,null,null,null,1984,"住宅","その他",{"$f":"INDEX('係数表2-3'!$B:$K, 10 + QUOTIENT(ROW(AL46)-2, 10), 1 + MOD(ROW(AL46)-2, 10))","v":7.776415947161973E-3}]
[null,null,null,null,null,null,null,null,null,null,null,null,null,null,null,null,null,null,null,null,null,null,null,null,null,null,null,"広","オニグルミ",0.46,null,null,null,null,1984,"非住宅","木造",{"$f":"INDEX('係数表2-3'!$B:$K, 10 + QUOTIENT(ROW(AL47)-2, 10), 1 + MOD(ROW(AL47)-2, 10))","v":2.6527135910005124E-2}]
[null,null,null,null,null,null,null,null,null,null,null,null,null,null,null,null,null,null,null,null,null,null,null,null,null,null,null,"広","サワグルミ",0.39,null,null,null,null,1984,"非住宅","SRC造",{"$f":"INDEX('係数表2-3'!$B:$K, 10 + QUOTIENT(ROW(AL48)-2, 10), 1 + MOD(ROW(AL48)-2, 10))","v":9.5525924203283938E-4}]
[null,null,null,null,null,null,null,null,null,null,null,null,null,null,null,null,null,null,null,null,null,null,null,null,null,null,null,"広","クスノキ",0.45,null,null,null,null,1984,"非住宅","RC造",{"$f":"INDEX('係数表2-3'!$B:$K, 10 + QUOTIENT(ROW(AL49)-2, 10), 1 + MOD(ROW(AL49)-2, 10))","v":1.4115363965561969E-3}]
[null,null,null,null,null,null,null,null,null,null,null,null,null,null,null,null,null,null,null,null,null,null,null,null,null,null,null,"広","タブノキ",0.56999999999999995,null,null,null,null,1984,"非住宅","S造",{"$f":"INDEX('係数表2-3'!$B:$K, 10 + QUOTIENT(ROW(AL50)-2, 10), 1 + MOD(ROW(AL50)-2, 10))","v":1.0222193729921877E-3}]
[null,null,null,null,null,null,null,null,null,null,null,null,null,null,null,null,null,null,null,null,null,null,null,null,null,null,null,"広","イヌエンジュ",0.51,null,null,null,null,1984,"非住宅","その他",{"$f":"INDEX('係数表2-3'!$B:$K, 10 + QUOTIENT(ROW(AL51)-2, 10), 1 + MOD(ROW(AL51)-2, 10))","v":2.2184483178027126E-3}]
[null,null,null,null,null,null,null,null,null,null,null,null,null,null,null,null,null,null,null,null,null,null,null,null,null,null,null,"広","ホオノキ",0.43,null,null,null,null,1985,"住宅","木造",{"$f":"INDEX('係数表2-3'!$B:$K, 10 + QUOTIENT(ROW(AL52)-2, 10), 1 + MOD(ROW(AL52)-2, 10))","v":2.4365621770731406E-2}]
[null,null,null,null,null,null,null,null,null,null,null,null,null,null,null,null,null,null,null,null,null,null,null,null,null,null,null,"広","ヤマグワ、クワ",0.54,null,null,null,null,1985,"住宅","SRC造",{"$f":"INDEX('係数表2-3'!$B:$K, 10 + QUOTIENT(ROW(AL53)-2, 10), 1 + MOD(ROW(AL53)-2, 10))","v":1.9902985543474626E-3}]
[null,null,null,null,null,null,null,null,null,null,null,null,null,null,null,null,null,null,null,null,null,null,null,null,null,null,null,"広","ヤチダモ",0.48,null,null,null,null,1985,"住宅","RC造",{"$f":"INDEX('係数表2-3'!$B:$K, 10 + QUOTIENT(ROW(AL54)-2, 10), 1 + MOD(ROW(AL54)-2, 10))","v":2.8842656044651507E-3}]
[null,null,null,null,null,null,null,null,null,null,null,null,null,null,null,null,null,null,null,null,null,null,null,null,null,null,null,"広","シオジ",0.46,null,null,null,null,1985,"住宅","S造",{"$f":"INDEX('係数表2-3'!$B:$K, 10 + QUOTIENT(ROW(AL55)-2, 10), 1 + MOD(ROW(AL55)-2, 10))","v":4.0370959282280423E-3}]
[null,null,null,null,null,null,null,null,null,null,null,null,null,null,null,null,null,null,null,null,null,null,null,null,null,null,null,"広","トネリコ",0.65,null,null,null,null,1985,"住宅","その他",{"$f":"INDEX('係数表2-3'!$B:$K, 10 + QUOTIENT(ROW(AL56)-2, 10), 1 + MOD(ROW(AL56)-2, 10))","v":7.2196512783886807E-3}]
[null,null,null,null,null,null,null,null,null,null,null,null,null,null,null,null,null,null,null,null,null,null,null,null,null,null,null,"広","アオダモ",0.62,null,null,null,null,1985,"非住宅","木造",{"$f":"INDEX('係数表2-3'!$B:$K, 10 + QUOTIENT(ROW(AL57)-2, 10), 1 + MOD(ROW(AL57)-2, 10))","v":2.5682331200037975E-2}]
[null,null,null,null,null,null,null,null,null,null,null,null,null,null,null,null,null,null,null,null,null,null,null,null,null,null,null,"広","ヤマトアオダモ",0.63,null,null,null,null,1985,"非住宅","SRC造",{"$f":"INDEX('係数表2-3'!$B:$K, 10 + QUOTIENT(ROW(AL58)-2, 10), 1 + MOD(ROW(AL58)-2, 10))","v":9.2257298114966193E-4}]
[null,null,null,null,null,null,null,null,null,null,null,null,null,null,null,null,null,null,null,null,null,null,null,null,null,null,null,"広","ヤマザクラ",0.54,null,null,null,null,1985,"非住宅","RC造",{"$f":"INDEX('係数表2-3'!$B:$K, 10 + QUOTIENT(ROW(AL59)-2, 10), 1 + MOD(ROW(AL59)-2, 10))","v":1.3442370922141429E-3}]
[null,null,null,null,null,null,null,null,null,null,null,null,null,null,null,null,null,null,null,null,null,null,null,null,null,null,null,"広","キハダ",0.43,null,null,null,null,1985,"非住宅","S造",{"$f":"INDEX('係数表2-3'!$B:$K, 10 + QUOTIENT(ROW(AL60)-2, 10), 1 + MOD(ROW(AL60)-2, 10))","v":9.8561703154291416E-4}]
[null,null,null,null,null,null,null,null,null,null,null,null,null,null,null,null,null,null,null,null,null,null,null,null,null,null,null,"広","ドロノキ、ドロヤナギ",0.37,null,null,null,null,1985,"非住宅","その他",{"$f":"INDEX('係数表2-3'!$B:$K, 10 + QUOTIENT(ROW(AL61)-2, 10), 1 + MOD(ROW(AL61)-2, 10))","v":2.0877455305332569E-3}]
[null,null,null,null,null,null,null,null,null,null,null,null,null,null,null,null,null,null,null,null,null,null,null,null,null,null,null,"広","シナノキ",0.44,null,null,null,null,1986,"住宅","木造",{"$f":"INDEX('係数表2-3'!$B:$K, 10 + QUOTIENT(ROW(AL62)-2, 10), 1 + MOD(ROW(AL62)-2, 10))","v":2.3907255903251039E-2}]
[null,null,null,null,null,null,null,null,null,null,null,null,null,null,null,null,null,null,null,null,null,null,null,null,null,null,null,"広","ハルニレ、アカダモ",0.55000000000000004,null,null,null,null,1986,"住宅","SRC造",{"$f":"INDEX('係数表2-3'!$B:$K, 10 + QUOTIENT(ROW(AL63)-2, 10), 1 + MOD(ROW(AL63)-2, 10))","v":1.9428968558465145E-3}]
[null,null,null,null,null,null,null,null,null,null,null,null,null,null,null,null,null,null,null,null,null,null,null,null,null,null,null,"広","ケヤキ",0.6,null,null,null,null,1986,"住宅","RC造",{"$f":"INDEX('係数表2-3'!$B:$K, 10 + QUOTIENT(ROW(AL64)-2, 10), 1 + MOD(ROW(AL64)-2, 10))","v":2.8192496992061273E-3}]
[null,null,null,null,null,null,null,null,null,null,null,null,null,null,null,null,null,null,null,null,null,null,null,null,null,null,null,"-","樹種不明",0.33,null,null,null,null,1986,"住宅","S造",{"$f":"INDEX('係数表2-3'!$B:$K, 10 + QUOTIENT(ROW(AL65)-2, 10), 1 + MOD(ROW(AL65)-2, 10))","v":3.9492027131960185E-3}]
[null,null,null,null,null,null,null,null,null,null,null,null,null,null,null,null,null,null,null,null,null,null,null,null,null,null,null,null,null,null,null,null,null,null,1986,"住宅","その他",{"$f":"INDEX('係数表2-3'!$B:$K, 10 + QUOTIENT(ROW(AL66)-2, 10), 1 + MOD(ROW(AL66)-2, 10))","v":7.0678706842734846E-3}]
[null,null,null,null,null,null,null,null,null,null,null,null,null,null,null,null,null,null,null,null,null,null,null,null,null,null,null,null,null,null,null,null,null,null,1986,"非住宅","木造",{"$f":"INDEX('係数表2-3'!$B:$K, 10 + QUOTIENT(ROW(AL67)-2, 10), 1 + MOD(ROW(AL67)-2, 10))","v":2.5211988702218288E-2}]
[null,null,null,null,null,null,null,null,null,null,null,null,null,null,null,null,null,null,null,null,null,null,null,null,null,null,null,null,null,null,null,null,null,null,1986,"非住宅","SRC造",{"$f":"INDEX('係数表2-3'!$B:$K, 10 + QUOTIENT(ROW(AL68)-2, 10), 1 + MOD(ROW(AL68)-2, 10))","v":8.9746047875530189E-4}]
[null,null,null,null,null,null,null,null,null,null,null,null,null,null,null,null,null,null,null,null,null,null,null,null,null,null,null,null,null,null,null,null,null,null,1986,"非住宅","RC造",{"$f":"INDEX('係数表2-3'!$B:$K, 10 + QUOTIENT(ROW(AL69)-2, 10), 1 + MOD(ROW(AL69)-2, 10))","v":1.3104915008055591E-3}]
[null,null,null,null,null,null,null,null,null,null,null,null,null,null,null,null,null,null,null,null,null,null,null,null,null,null,null,null,null,null,null,null,null,null,1986,"非住宅","S造",{"$f":"INDEX('係数表2-3'!$B:$K, 10 + QUOTIENT(ROW(AL70)-2, 10), 1 + MOD(ROW(AL70)-2, 10))","v":9.5881748641377411E-4}]
[null,null,null,null,null,null,null,null,null,null,null,null,null,null,null,null,null,null,null,null,null,null,null,null,null,null,null,null,null,null,null,null,null,null,1986,"非住宅","その他",{"$f":"INDEX('係数表2-3'!$B:$K, 10 + QUOTIENT(ROW(AL71)-2, 10), 1 + MOD(ROW(AL71)-2, 10))","v":2.0395238494871617E-3}]
[null,null,null,null,null,null,null,null,null,null,null,null,null,null,null,null,null,null,null,null,null,null,null,null,null,null,null,null,null,null,null,null,null,null,1987,"住宅","木造",{"$f":"INDEX('係数表2-3'!$B:$K, 10 + QUOTIENT(ROW(AL72)-2, 10), 1 + MOD(ROW(AL72)-2, 10))","v":2.3681631203347146E-2}]
[null,null,null,null,null,null,null,null,null,null,null,null,null,null,null,null,null,null,null,null,null,null,null,null,null,null,null,null,null,null,null,null,null,null,1987,"住宅","SRC造",{"$f":"INDEX('係数表2-3'!$B:$K, 10 + QUOTIENT(ROW(AL73)-2, 10), 1 + MOD(ROW(AL73)-2, 10))","v":1.7250453464303774E-3}]
[null,null,null,null,null,null,null,null,null,null,null,null,null,null,null,null,null,null,null,null,null,null,null,null,null,null,null,null,null,null,null,null,null,null,1987,"住宅","RC造",{"$f":"INDEX('係数表2-3'!$B:$K, 10 + QUOTIENT(ROW(AL74)-2, 10), 1 + MOD(ROW(AL74)-2, 10))","v":2.4881732225812601E-3}]
[null,null,null,null,null,null,null,null,null,null,null,null,null,null,null,null,null,null,null,null,null,null,null,null,null,null,null,null,null,null,null,null,null,null,1987,"住宅","S造",{"$f":"INDEX('係数表2-3'!$B:$K, 10 + QUOTIENT(ROW(AL75)-2, 10), 1 + MOD(ROW(AL75)-2, 10))","v":3.4724968481974192E-3}]
[null,null,null,null,null,null,null,null,null,null,null,null,null,null,null,null,null,null,null,null,null,null,null,null,null,null,null,null,null,null,null,null,null,null,1987,"住宅","その他",{"$f":"INDEX('係数表2-3'!$B:$K, 10 + QUOTIENT(ROW(AL76)-2, 10), 1 + MOD(ROW(AL76)-2, 10))","v":6.1908505994502233E-3}]
[null,null,null,null,null,null,null,null,null,null,null,null,null,null,null,null,null,null,null,null,null,null,null,null,null,null,null,null,null,null,null,null,null,null,1987,"非住宅","木造",{"$f":"INDEX('係数表2-3'!$B:$K, 10 + QUOTIENT(ROW(AL77)-2, 10), 1 + MOD(ROW(AL77)-2, 10))","v":2.4955100690748099E-2}]
[null,null,null,null,null,null,null,null,null,null,null,null,null,null,null,null,null,null,null,null,null,null,null,null,null,null,null,null,null,null,null,null,null,null,1987,"非住宅","SRC造",{"$f":"INDEX('係数表2-3'!$B:$K, 10 + QUOTIENT(ROW(AL78)-2, 10), 1 + MOD(ROW(AL78)-2, 10))","v":8.1190329219206644E-4}]
[null,null,null,null,null,null,null,null,null,null,null,null,null,null,null,null,null,null,null,null,null,null,null,null,null,null,null,null,null,null,null,null,null,null,1987,"非住宅","RC造",{"$f":"INDEX('係数表2-3'!$B:$K, 10 + QUOTIENT(ROW(AL79)-2, 10), 1 + MOD(ROW(AL79)-2, 10))","v":1.1722913715746205E-3}]
[null,null,null,null,null,null,null,null,null,null,null,null,null,null,null,null,null,null,null,null,null,null,null,null,null,null,null,null,null,null,null,null,null,null,1987,"非住宅","S造",{"$f":"INDEX('係数表2-3'!$B:$K, 10 + QUOTIENT(ROW(AL80)-2, 10), 1 + MOD(ROW(AL80)-2, 10))","v":8.6631993448164706E-4}]
[null,null,null,null,null,null,null,null,null,null,null,null,null,null,null,null,null,null,null,null,null,null,null,null,null,null,null,null,null,null,null,null,null,null,1987,"非住宅","その他",{"$f":"INDEX('係数表2-3'!$B:$K, 10 + QUOTIENT(ROW(AL81)-2, 10), 1 + MOD(ROW(AL81)-2, 10))","v":1.8067475099794031E-3}]
[null,null,null,null,null,null,null,null,null,null,null,null,null,null,null,null,null,null,null,null,null,null,null,null,null,null,null,null,null,null,null,null,null,null,1988,"住宅","木造",{"$f":"INDEX('係数表2-3'!$B:$K, 10 + QUOTIENT(ROW(AL82)-2, 10), 1 + MOD(ROW(AL82)-2, 10))","v":2.2829592486902778E-2}]
[null,null,null,null,null,null,null,null,null,null,null,null,null,null,null,null,null,null,null,null,null,null,null,null,null,null,null,null,null,null,null,null,null,null,1988,"住宅","SRC造",{"$f":"INDEX('係数表2-3'!$B:$K, 10 + QUOTIENT(ROW(AL83)-2, 10), 1 + MOD(ROW(AL83)-2, 10))","v":1.567079265075461E-3}]
[null,null,null,null,null,null,null,null,null,null,null,null,null,null,null,null,null,null,null,null,null,null,null,null,null,null,null,null,null,null,null,null,null,null,1988,"住宅","RC造",{"$f":"INDEX('係数表2-3'!$B:$K, 10 + QUOTIENT(ROW(AL84)-2, 10), 1 + MOD(ROW(AL84)-2, 10))","v":2.245209876696234E-3}]
[null,null,null,null,null,null,null,null,null,null,null,null,null,null,null,null,null,null,null,null,null,null,null,null,null,null,null,null,null,null,null,null,null,null,1988,"住宅","S造",{"$f":"INDEX('係数表2-3'!$B:$K, 10 + QUOTIENT(ROW(AL85)-2, 10), 1 + MOD(ROW(AL85)-2, 10))","v":3.1201963295369103E-3}]
[null,null,null,null,null,null,null,null,null,null,null,null,null,null,null,null,null,null,null,null,null,null,null,null,null,null,null,null,null,null,null,null,null,null,1988,"住宅","その他",{"$f":"INDEX('係数表2-3'!$B:$K, 10 + QUOTIENT(ROW(AL86)-2, 10), 1 + MOD(ROW(AL86)-2, 10))","v":5.5379342966215056E-3}]
[null,null,null,null,null,null,null,null,null,null,null,null,null,null,null,null,null,null,null,null,null,null,null,null,null,null,null,null,null,null,null,null,null,null,1988,"非住宅","木造",{"$f":"INDEX('係数表2-3'!$B:$K, 10 + QUOTIENT(ROW(AL87)-2, 10), 1 + MOD(ROW(AL87)-2, 10))","v":2.4036992279341637E-2}]
[null,null,null,null,null,null,null,null,null,null,null,null,null,null,null,null,null,null,null,null,null,null,null,null,null,null,null,null,null,null,null,null,null,null,1988,"非住宅","SRC造",{"$f":"INDEX('係数表2-3'!$B:$K, 10 + QUOTIENT(ROW(AL88)-2, 10), 1 + MOD(ROW(AL88)-2, 10))","v":7.5335833840776511E-4}]
[null,null,null,null,null,null,null,null,null,null,null,null,null,null,null,null,null,null,null,null,null,null,null,null,null,null,null,null,null,null,null,null,null,null,1988,"非住宅","RC造",{"$f":"INDEX('係数表2-3'!$B:$K, 10 + QUOTIENT(ROW(AL89)-2, 10), 1 + MOD(ROW(AL89)-2, 10))","v":1.0741994961208955E-3}]
[null,null,null,null,null,null,null,null,null,null,null,null,null,null,null,null,null,null,null,null,null,null,null,null,null,null,null,null,null,null,null,null,null,null,1988,"非住宅","S造",{"$f":"INDEX('係数表2-3'!$B:$K, 10 + QUOTIENT(ROW(AL90)-2, 10), 1 + MOD(ROW(AL90)-2, 10))","v":8.0252627816949267E-4}]
[null,null,null,null,null,null,null,null,null,null,null,null,null,null,null,null,null,null,null,null,null,null,null,null,null,null,null,null,null,null,null,null,null,null,1988,"非住宅","その他",{"$f":"INDEX('係数表2-3'!$B:$K, 10 + QUOTIENT(ROW(AL91)-2, 10), 1 + MOD(ROW(AL91)-2, 10))","v":1.6376729394102622E-3}]
[null,null,null,null,null,null,null,null,null,null,null,null,null,null,null,null,null,null,null,null,null,null,null,null,null,null,null,null,null,null,null,null,null,null,1989,"住宅","木造",{"$f":"INDEX('係数表2-3'!$B:$K, 10 + QUOTIENT(ROW(AL92)-2, 10), 1 + MOD(ROW(AL92)-2, 10))","v":2.265399602338802E-2}]
[null,null,null,null,null,null,null,null,null,null,null,null,null,null,null,null,null,null,null,null,null,null,null,null,null,null,null,null,null,null,null,null,null,null,1989,"住宅","SRC造",{"$f":"INDEX('係数表2-3'!$B:$K, 10 + QUOTIENT(ROW(AL93)-2, 10), 1 + MOD(ROW(AL93)-2, 10))","v":1.6006789017308542E-3}]
[null,null,null,null,null,null,null,null,null,null,null,null,null,null,null,null,null,null,null,null,null,null,null,null,null,null,null,null,null,null,null,null,null,null,1989,"住宅","RC造",{"$f":"INDEX('係数表2-3'!$B:$K, 10 + QUOTIENT(ROW(AL94)-2, 10), 1 + MOD(ROW(AL94)-2, 10))","v":2.2948576614908564E-3}]
[null,null,null,null,null,null,null,null,null,null,null,null,null,null,null,null,null,null,null,null,null,null,null,null,null,null,null,null,null,null,null,null,null,null,1989,"住宅","S造",{"$f":"INDEX('係数表2-3'!$B:$K, 10 + QUOTIENT(ROW(AL95)-2, 10), 1 + MOD(ROW(AL95)-2, 10))","v":3.1904979325237844E-3}]
[null,null,null,null,null,null,null,null,null,null,null,null,null,null,null,null,null,null,null,null,null,null,null,null,null,null,null,null,null,null,null,null,null,null,1989,"住宅","その他",{"$f":"INDEX('係数表2-3'!$B:$K, 10 + QUOTIENT(ROW(AL96)-2, 10), 1 + MOD(ROW(AL96)-2, 10))","v":5.6650678480207354E-3}]
[null,null,null,null,null,null,null,null,null,null,null,null,null,null,null,null,null,null,null,null,null,null,null,null,null,null,null,null,null,null,null,null,null,null,1989,"非住宅","木造",{"$f":"INDEX('係数表2-3'!$B:$K, 10 + QUOTIENT(ROW(AL97)-2, 10), 1 + MOD(ROW(AL97)-2, 10))","v":2.385280651359498E-2}]
[null,null,null,null,null,null,null,null,null,null,null,null,null,null,null,null,null,null,null,null,null,null,null,null,null,null,null,null,null,null,null,null,null,null,1989,"非住宅","SRC造",{"$f":"INDEX('係数表2-3'!$B:$K, 10 + QUOTIENT(ROW(AL98)-2, 10), 1 + MOD(ROW(AL98)-2, 10))","v":7.6810872687808462E-4}]
[null,null,null,null,null,null,null,null,null,null,null,null,null,null,null,null,null,null,null,null,null,null,null,null,null,null,null,null,null,null,null,null,null,null,1989,"非住宅","RC造",{"$f":"INDEX('係数表2-3'!$B:$K, 10 + QUOTIENT(ROW(AL99)-2, 10), 1 + MOD(ROW(AL99)-2, 10))","v":1.0964368404573501E-3}]
[null,null,null,null,null,null,null,null,null,null,null,null,null,null,null,null,null,null,null,null,null,null,null,null,null,null,null,null,null,null,null,null,null,null,1989,"非住宅","S造",{"$f":"INDEX('係数表2-3'!$B:$K, 10 + QUOTIENT(ROW(AL100)-2, 10), 1 + MOD(ROW(AL100)-2, 10))","v":8.1829530730610463E-4}]
[null,null,null,null,null,null,null,null,null,null,null,null,null,null,null,null,null,null,null,null,null,null,null,null,null,null,null,null,null,null,null,null,null,null,1989,"非住宅","その他",{"$f":"INDEX('係数表2-3'!$B:$K, 10 + QUOTIENT(ROW(AL101)-2, 10), 1 + MOD(ROW(AL101)-2, 10))","v":1.6733015856757317E-3}]
[null,null,null,null,null,null,null,null,null,null,null,null,null,null,null,null,null,null,null,null,null,null,null,null,null,null,null,null,null,null,null,null,null,null,1990,"住宅","木造",{"$f":"INDEX('係数表2-3'!$B:$K, 10 + QUOTIENT(ROW(AL102)-2, 10), 1 + MOD(ROW(AL102)-2, 10))","v":2.2388369932374884E-2}]
[null,null,null,null,null,null,null,null,null,null,null,null,null,null,null,null,null,null,null,null,null,null,null,null,null,null,null,null,null,null,null,null,null,null,1990,"住宅","SRC造",{"$f":"INDEX('係数表2-3'!$B:$K, 10 + QUOTIENT(ROW(AL103)-2, 10), 1 + MOD(ROW(AL103)-2, 10))","v":1.5794576626838959E-3}]
[null,null,null,null,null,null,null,null,null,null,null,null,null,null,null,null,null,null,null,null,null,null,null,null,null,null,null,null,null,null,null,null,null,null,1990,"住宅","RC造",{"$f":"INDEX('係数表2-3'!$B:$K, 10 + QUOTIENT(ROW(AL104)-2, 10), 1 + MOD(ROW(AL104)-2, 10))","v":2.261345121035646E-3}]
[null,null,null,null,null,null,null,null,null,null,null,null,null,null,null,null,null,null,null,null,null,null,null,null,null,null,null,null,null,null,null,null,null,null,1990,"住宅","S造",{"$f":"INDEX('係数表2-3'!$B:$K, 10 + QUOTIENT(ROW(AL105)-2, 10), 1 + MOD(ROW(AL105)-2, 10))","v":3.1411672765380557E-3}]
[null,null,null,null,null,null,null,null,null,null,null,null,null,null,null,null,null,null,null,null,null,null,null,null,null,null,null,null,null,null,null,null,null,null,1990,"住宅","その他",{"$f":"INDEX('係数表2-3'!$B:$K, 10 + QUOTIENT(ROW(AL106)-2, 10), 1 + MOD(ROW(AL106)-2, 10))","v":5.5722144188303322E-3}]
[null,null,null,null,null,null,null,null,null,null,null,null,null,null,null,null,null,null,null,null,null,null,null,null,null,null,null,null,null,null,null,null,null,null,1990,"非住宅","木造",{"$f":"INDEX('係数表2-3'!$B:$K, 10 + QUOTIENT(ROW(AL107)-2, 10), 1 + MOD(ROW(AL107)-2, 10))","v":2.356905772254602E-2}]
[null,null,null,null,null,null,null,null,null,null,null,null,null,null,null,null,null,null,null,null,null,null,null,null,null,null,null,null,null,null,null,null,null,null,1990,"非住宅","SRC造",{"$f":"INDEX('係数表2-3'!$B:$K, 10 + QUOTIENT(ROW(AL108)-2, 10), 1 + MOD(ROW(AL108)-2, 10))","v":7.6131895654128886E-4}]
[null,null,null,null,null,null,null,null,null,null,null,null,null,null,null,null,null,null,null,null,null,null,null,null,null,null,null,null,null,null,null,null,null,null,1990,"非住宅","RC造",{"$f":"INDEX('係数表2-3'!$B:$K, 10 + QUOTIENT(ROW(AL109)-2, 10), 1 + MOD(ROW(AL109)-2, 10))","v":1.083914148934361E-3}]
[null,null,null,null,null,null,null,null,null,null,null,null,null,null,null,null,null,null,null,null,null,null,null,null,null,null,null,null,null,null,null,null,null,null,1990,"非住宅","S造",{"$f":"INDEX('係数表2-3'!$B:$K, 10 + QUOTIENT(ROW(AL110)-2, 10), 1 + MOD(ROW(AL110)-2, 10))","v":8.1072720696468987E-4}]
[null,null,null,null,null,null,null,null,null,null,null,null,null,null,null,null,null,null,null,null,null,null,null,null,null,null,null,null,null,null,null,null,null,null,1990,"非住宅","その他",{"$f":"INDEX('係数表2-3'!$B:$K, 10 + QUOTIENT(ROW(AL111)-2, 10), 1 + MOD(ROW(AL111)-2, 10))","v":1.6505217541544007E-3}]
[null,null,null,null,null,null,null,null,null,null,null,null,null,null,null,null,null,null,null,null,null,null,null,null,null,null,null,null,null,null,null,null,null,null,1991,"住宅","木造",{"$f":"INDEX('係数表2-3'!$B:$K, 10 + QUOTIENT(ROW(AL112)-2, 10), 1 + MOD(ROW(AL112)-2, 10))","v":2.2249588816731943E-2}]
[null,null,null,null,null,null,null,null,null,null,null,null,null,null,null,null,null,null,null,null,null,null,null,null,null,null,null,null,null,null,null,null,null,null,1991,"住宅","SRC造",{"$f":"INDEX('係数表2-3'!$B:$K, 10 + QUOTIENT(ROW(AL113)-2, 10), 1 + MOD(ROW(AL113)-2, 10))","v":1.5645909846664942E-3}]
[null,null,null,null,null,null,null,null,null,null,null,null,null,null,null,null,null,null,null,null,null,null,null,null,null,null,null,null,null,null,null,null,null,null,1991,"住宅","RC造",{"$f":"INDEX('係数表2-3'!$B:$K, 10 + QUOTIENT(ROW(AL114)-2, 10), 1 + MOD(ROW(AL114)-2, 10))","v":2.2376443836726987E-3}]
[null,null,null,null,null,null,null,null,null,null,null,null,null,null,null,null,null,null,null,null,null,null,null,null,null,null,null,null,null,null,null,null,null,null,1991,"住宅","S造",{"$f":"INDEX('係数表2-3'!$B:$K, 10 + QUOTIENT(ROW(AL115)-2, 10), 1 + MOD(ROW(AL115)-2, 10))","v":3.1060937002192475E-3}]
[null,null,null,null,null,null,null,null,null,null,null,null,null,null,null,null,null,null,null,null,null,null,null,null,null,null,null,null,null,null,null,null,null,null,1991,"住宅","その他",{"$f":"INDEX('係数表2-3'!$B:$K, 10 + QUOTIENT(ROW(AL116)-2, 10), 1 + MOD(ROW(AL116)-2, 10))","v":5.5058311331101393E-3}]
[null,null,null,null,null,null,null,null,null,null,null,null,null,null,null,null,null,null,null,null,null,null,null,null,null,null,null,null,null,null,null,null,null,null,1991,"非住宅","木造",{"$f":"INDEX('係数表2-3'!$B:$K, 10 + QUOTIENT(ROW(AL117)-2, 10), 1 + MOD(ROW(AL117)-2, 10))","v":2.3418821713278647E-2}]
[null,null,null,null,null,null,null,null,null,null,null,null,null,null,null,null,null,null,null,null,null,null,null,null,null,null,null,null,null,null,null,null,null,null,1991,"非住宅","SRC造",{"$f":"INDEX('係数表2-3'!$B:$K, 10 + QUOTIENT(ROW(AL118)-2, 10), 1 + MOD(ROW(AL118)-2, 10))","v":7.5685509386082879E-4}]
[null,null,null,null,null,null,null,null,null,null,null,null,null,null,null,null,null,null,null,null,null,null,null,null,null,null,null,null,null,null,null,null,null,null,1991,"非住宅","RC造",{"$f":"INDEX('係数表2-3'!$B:$K, 10 + QUOTIENT(ROW(AL119)-2, 10), 1 + MOD(ROW(AL119)-2, 10))","v":1.07532196030155E-3}]
[null,null,null,null,null,null,null,null,null,null,null,null,null,null,null,null,null,null,null,null,null,null,null,null,null,null,null,null,null,null,null,null,null,null,1991,"非住宅","S造",{"$f":"INDEX('係数表2-3'!$B:$K, 10 + QUOTIENT(ROW(AL120)-2, 10), 1 + MOD(ROW(AL120)-2, 10))","v":8.0569307338197824E-4}]
[null,null,null,null,null,null,null,null,null,null,null,null,null,null,null,null,null,null,null,null,null,null,null,null,null,null,null,null,null,null,null,null,null,null,1991,"非住宅","その他",{"$f":"INDEX('係数表2-3'!$B:$K, 10 + QUOTIENT(ROW(AL121)-2, 10), 1 + MOD(ROW(AL121)-2, 10))","v":1.6345617473476576E-3}]
[null,null,null,null,null,null,null,null,null,null,null,null,null,null,null,null,null,null,null,null,null,null,null,null,null,null,null,null,null,null,null,null,null,null,1992,"住宅","木造",{"$f":"INDEX('係数表2-3'!$B:$K, 10 + QUOTIENT(ROW(AL122)-2, 10), 1 + MOD(ROW(AL122)-2, 10))","v":2.2042598159999174E-2}]
[null,null,null,null,null,null,null,null,null,null,null,null,null,null,null,null,null,null,null,null,null,null,null,null,null,null,null,null,null,null,null,null,null,null,1992,"住宅","SRC造",{"$f":"INDEX('係数表2-3'!$B:$K, 10 + QUOTIENT(ROW(AL123)-2, 10), 1 + MOD(ROW(AL123)-2, 10))","v":1.6340173474619082E-3}]
[null,null,null,null,null,null,null,null,null,null,null,null,null,null,null,null,null,null,null,null,null,null,null,null,null,null,null,null,null,null,null,null,null,null,1992,"住宅","RC造",{"$f":"INDEX('係数表2-3'!$B:$K, 10 + QUOTIENT(ROW(AL124)-2, 10), 1 + MOD(ROW(AL124)-2, 10))","v":2.3422498908895126E-3}]
[null,null,null,null,null,null,null,null,null,null,null,null,null,null,null,null,null,null,null,null,null,null,null,null,null,null,null,null,null,null,null,null,null,null,1992,"住宅","S造",{"$f":"INDEX('係数表2-3'!$B:$K, 10 + QUOTIENT(ROW(AL125)-2, 10), 1 + MOD(ROW(AL125)-2, 10))","v":3.2559549103081745E-3}]
[null,null,null,null,null,null,null,null,null,null,null,null,null,null,null,null,null,null,null,null,null,null,null,null,null,null,null,null,null,null,null,null,null,null,1992,"住宅","その他",{"$f":"INDEX('係数表2-3'!$B:$K, 10 + QUOTIENT(ROW(AL126)-2, 10), 1 + MOD(ROW(AL126)-2, 10))","v":5.7801319097010653E-3}]
[null,null,null,null,null,null,null,null,null,null,null,null,null,null,null,null,null,null,null,null,null,null,null,null,null,null,null,null,null,null,null,null,null,null,1992,"非住宅","木造",{"$f":"INDEX('係数表2-3'!$B:$K, 10 + QUOTIENT(ROW(AL127)-2, 10), 1 + MOD(ROW(AL127)-2, 10))","v":2.3205742998061753E-2}]
[null,null,null,null,null,null,null,null,null,null,null,null,null,null,null,null,null,null,null,null,null,null,null,null,null,null,null,null,null,null,null,null,null,null,1992,"非住宅","SRC造",{"$f":"INDEX('係数表2-3'!$B:$K, 10 + QUOTIENT(ROW(AL128)-2, 10), 1 + MOD(ROW(AL128)-2, 10))","v":7.8511231533198755E-4}]
[null,null,null,null,null,null,null,null,null,null,null,null,null,null,null,null,null,null,null,null,null,null,null,null,null,null,null,null,null,null,null,null,null,null,1992,"非住宅","RC造",{"$f":"INDEX('係数表2-3'!$B:$K, 10 + QUOTIENT(ROW(AL129)-2, 10), 1 + MOD(ROW(AL129)-2, 10))","v":1.1199523191773295E-3}]
[null,null,null,null,null,null,null,null,null,null,null,null,null,null,null,null,null,null,null,null,null,null,null,null,null,null,null,null,null,null,null,null,null,null,1992,"非住宅","S造",{"$f":"INDEX('係数表2-3'!$B:$K, 10 + QUOTIENT(ROW(AL130)-2, 10), 1 + MOD(ROW(AL130)-2, 10))","v":8.3612982692267076E-4}]
[null,null,null,null,null,null,null,null,null,null,null,null,null,null,null,null,null,null,null,null,null,null,null,null,null,null,null,null,null,null,null,null,null,null,1992,"非住宅","その他",{"$f":"INDEX('係数表2-3'!$B:$K, 10 + QUOTIENT(ROW(AL131)-2, 10), 1 + MOD(ROW(AL131)-2, 10))","v":1.7085680247412689E-3}]
[null,null,null,null,null,null,null,null,null,null,null,null,null,null,null,null,null,null,null,null,null,null,null,null,null,null,null,null,null,null,null,null,null,null,1993,"住宅","木造",{"$f":"INDEX('係数表2-3'!$B:$K, 10 + QUOTIENT(ROW(AL132)-2, 10), 1 + MOD(ROW(AL132)-2, 10))","v":2.2114957156041861E-2}]
[null,null,null,null,null,null,null,null,null,null,null,null,null,null,null,null,null,null,null,null,null,null,null,null,null,null,null,null,null,null,null,null,null,null,1993,"住宅","SRC造",{"$f":"INDEX('係数表2-3'!$B:$K, 10 + QUOTIENT(ROW(AL133)-2, 10), 1 + MOD(ROW(AL133)-2, 10))","v":1.5678189057205462E-3}]
[null,null,null,null,null,null,null,null,null,null,null,null,null,null,null,null,null,null,null,null,null,null,null,null,null,null,null,null,null,null,null,null,null,null,1993,"住宅","RC造",{"$f":"INDEX('係数表2-3'!$B:$K, 10 + QUOTIENT(ROW(AL134)-2, 10), 1 + MOD(ROW(AL134)-2, 10))","v":2.2431212035889077E-3}]
[null,null,null,null,null,null,null,null,null,null,null,null,null,null,null,null,null,null,null,null,null,null,null,null,null,null,null,null,null,null,null,null,null,null,1993,"住宅","S造",{"$f":"INDEX('係数表2-3'!$B:$K, 10 + QUOTIENT(ROW(AL135)-2, 10), 1 + MOD(ROW(AL135)-2, 10))","v":3.1144684070913116E-3}]
[null,null,null,null,null,null,null,null,null,null,null,null,null,null,null,null,null,null,null,null,null,null,null,null,null,null,null,null,null,null,null,null,null,null,1993,"住宅","その他",{"$f":"INDEX('係数表2-3'!$B:$K, 10 + QUOTIENT(ROW(AL136)-2, 10), 1 + MOD(ROW(AL136)-2, 10))","v":5.5221959005488349E-3}]
[null,null,null,null,null,null,null,null,null,null,null,null,null,null,null,null,null,null,null,null,null,null,null,null,null,null,null,null,null,null,null,null,null,null,1993,"非住宅","木造",{"$f":"INDEX('係数表2-3'!$B:$K, 10 + QUOTIENT(ROW(AL137)-2, 10), 1 + MOD(ROW(AL137)-2, 10))","v":2.3279824257022838E-2}]
[null,null,null,null,null,null,null,null,null,null,null,null,null,null,null,null,null,null,null,null,null,null,null,null,null,null,null,null,null,null,null,null,null,null,1993,"非住宅","SRC造",{"$f":"INDEX('係数表2-3'!$B:$K, 10 + QUOTIENT(ROW(AL138)-2, 10), 1 + MOD(ROW(AL138)-2, 10))","v":7.5741407508355979E-4}]
[null,null,null,null,null,null,null,null,null,null,null,null,null,null,null,null,null,null,null,null,null,null,null,null,null,null,null,null,null,null,null,null,null,null,1993,"非住宅","RC造",{"$f":"INDEX('係数表2-3'!$B:$K, 10 + QUOTIENT(ROW(AL139)-2, 10), 1 + MOD(ROW(AL139)-2, 10))","v":1.0769372641416645E-3}]
[null,null,null,null,null,null,null,null,null,null,null,null,null,null,null,null,null,null,null,null,null,null,null,null,null,null,null,null,null,null,null,null,null,null,1993,"非住宅","S造",{"$f":"INDEX('係数表2-3'!$B:$K, 10 + QUOTIENT(ROW(AL140)-2, 10), 1 + MOD(ROW(AL140)-2, 10))","v":8.0640458126581981E-4}]
[null,null,null,null,null,null,null,null,null,null,null,null,null,null,null,null,null,null,null,null,null,null,null,null,null,null,null,null,null,null,null,null,null,null,1993,"非住宅","その他",{"$f":"INDEX('係数表2-3'!$B:$K, 10 + QUOTIENT(ROW(AL141)-2, 10), 1 + MOD(ROW(AL141)-2, 10))","v":1.6380498184955358E-3}]
[null,null,null,null,null,null,null,null,null,null,null,null,null,null,null,null,null,null,null,null,null,null,null,null,null,null,null,null,null,null,null,null,null,null,1994,"住宅","木造",{"$f":"INDEX('係数表2-3'!$B:$K, 10 + QUOTIENT(ROW(AL142)-2, 10), 1 + MOD(ROW(AL142)-2, 10))","v":2.1480616172968529E-2}]
[null,null,null,null,null,null,null,null,null,null,null,null,null,null,null,null,null,null,null,null,null,null,null,null,null,null,null,null,null,null,null,null,null,null,1994,"住宅","SRC造",{"$f":"INDEX('係数表2-3'!$B:$K, 10 + QUOTIENT(ROW(AL143)-2, 10), 1 + MOD(ROW(AL143)-2, 10))","v":1.6050774083737529E-3}]
[null,null,null,null,null,null,null,null,null,null,null,null,null,null,null,null,null,null,null,null,null,null,null,null,null,null,null,null,null,null,null,null,null,null,1994,"住宅","RC造",{"$f":"INDEX('係数表2-3'!$B:$K, 10 + QUOTIENT(ROW(AL144)-2, 10), 1 + MOD(ROW(AL144)-2, 10))","v":2.2952795816687773E-3}]
[null,null,null,null,null,null,null,null,null,null,null,null,null,null,null,null,null,null,null,null,null,null,null,null,null,null,null,null,null,null,null,null,null,null,1994,"住宅","S造",{"$f":"INDEX('係数表2-3'!$B:$K, 10 + QUOTIENT(ROW(AL145)-2, 10), 1 + MOD(ROW(AL145)-2, 10))","v":3.1862217111168073E-3}]
[null,null,null,null,null,null,null,null,null,null,null,null,null,null,null,null,null,null,null,null,null,null,null,null,null,null,null,null,null,null,null,null,null,null,1994,"住宅","その他",{"$f":"INDEX('係数表2-3'!$B:$K, 10 + QUOTIENT(ROW(AL146)-2, 10), 1 + MOD(ROW(AL146)-2, 10))","v":5.644419193429698E-3}]
[null,null,null,null,null,null,null,null,null,null,null,null,null,null,null,null,null,null,null,null,null,null,null,null,null,null,null,null,null,null,null,null,null,null,1994,"非住宅","木造",{"$f":"INDEX('係数表2-3'!$B:$K, 10 + QUOTIENT(ROW(AL147)-2, 10), 1 + MOD(ROW(AL147)-2, 10))","v":2.2604019153860351E-2}]
[null,null,null,null,null,null,null,null,null,null,null,null,null,null,null,null,null,null,null,null,null,null,null,null,null,null,null,null,null,null,null,null,null,null,1994,"非住宅","SRC造",{"$f":"INDEX('係数表2-3'!$B:$K, 10 + QUOTIENT(ROW(AL148)-2, 10), 1 + MOD(ROW(AL148)-2, 10))","v":7.7565727573575987E-4}]
[null,null,null,null,null,null,null,null,null,null,null,null,null,null,null,null,null,null,null,null,null,null,null,null,null,null,null,null,null,null,null,null,null,null,1994,"非住宅","RC造",{"$f":"INDEX('係数表2-3'!$B:$K, 10 + QUOTIENT(ROW(AL149)-2, 10), 1 + MOD(ROW(AL149)-2, 10))","v":1.1039672597318866E-3}]
[null,null,null,null,null,null,null,null,null,null,null,null,null,null,null,null,null,null,null,null,null,null,null,null,null,null,null,null,null,null,null,null,null,null,1994,"非住宅","S造",{"$f":"INDEX('係数表2-3'!$B:$K, 10 + QUOTIENT(ROW(AL150)-2, 10), 1 + MOD(ROW(AL150)-2, 10))","v":8.2621699679039529E-4}]
[null,null,null,null,null,null,null,null,null,null,null,null,null,null,null,null,null,null,null,null,null,null,null,null,null,null,null,null,null,null,null,null,null,null,1994,"非住宅","その他",{"$f":"INDEX('係数表2-3'!$B:$K, 10 + QUOTIENT(ROW(AL151)-2, 10), 1 + MOD(ROW(AL151)-2, 10))","v":1.6751544849515562E-3}]
[null,null,null,null,null,null,null,null,null,null,null,null,null,null,null,null,null,null,null,null,null,null,null,null,null,null,null,null,null,null,null,null,null,null,1995,"住宅","木造",{"$f":"INDEX('係数表2-3'!$B:$K, 10 + QUOTIENT(ROW(AL152)-2, 10), 1 + MOD(ROW(AL152)-2, 10))","v":2.1745143454486238E-2}]
[null,null,null,null,null,null,null,null,null,null,null,null,null,null,null,null,null,null,null,null,null,null,null,null,null,null,null,null,null,null,null,null,null,null,1995,"住宅","SRC造",{"$f":"INDEX('係数表2-3'!$B:$K, 10 + QUOTIENT(ROW(AL153)-2, 10), 1 + MOD(ROW(AL153)-2, 10))","v":1.5288451385947752E-3}]
[null,null,null,null,null,null,null,null,null,null,null,null,null,null,null,null,null,null,null,null,null,null,null,null,null,null,null,null,null,null,null,null,null,null,1995,"住宅","RC造",{"$f":"INDEX('係数表2-3'!$B:$K, 10 + QUOTIENT(ROW(AL154)-2, 10), 1 + MOD(ROW(AL154)-2, 10))","v":2.171849017861644E-3}]
[null,null,null,null,null,null,null,null,null,null,null,null,null,null,null,null,null,null,null,null,null,null,null,null,null,null,null,null,null,null,null,null,null,null,1995,"住宅","S造",{"$f":"INDEX('係数表2-3'!$B:$K, 10 + QUOTIENT(ROW(AL155)-2, 10), 1 + MOD(ROW(AL155)-2, 10))","v":3.0102311092721538E-3}]
[null,null,null,null,null,null,null,null,null,null,null,null,null,null,null,null,null,null,null,null,null,null,null,null,null,null,null,null,null,null,null,null,null,null,1995,"住宅","その他",{"$f":"INDEX('係数表2-3'!$B:$K, 10 + QUOTIENT(ROW(AL156)-2, 10), 1 + MOD(ROW(AL156)-2, 10))","v":5.3145878041480034E-3}]
[null,null,null,null,null,null,null,null,null,null,null,null,null,null,null,null,null,null,null,null,null,null,null,null,null,null,null,null,null,null,null,null,null,null,1995,"非住宅","木造",{"$f":"INDEX('係数表2-3'!$B:$K, 10 + QUOTIENT(ROW(AL157)-2, 10), 1 + MOD(ROW(AL157)-2, 10))","v":2.287685029997729E-2}]
[null,null,null,null,null,null,null,null,null,null,null,null,null,null,null,null,null,null,null,null,null,null,null,null,null,null,null,null,null,null,null,null,null,null,1995,"非住宅","SRC造",{"$f":"INDEX('係数表2-3'!$B:$K, 10 + QUOTIENT(ROW(AL158)-2, 10), 1 + MOD(ROW(AL158)-2, 10))","v":7.3802817586307698E-4}]
[null,null,null,null,null,null,null,null,null,null,null,null,null,null,null,null,null,null,null,null,null,null,null,null,null,null,null,null,null,null,null,null,null,null,1995,"非住宅","RC造",{"$f":"INDEX('係数表2-3'!$B:$K, 10 + QUOTIENT(ROW(AL159)-2, 10), 1 + MOD(ROW(AL159)-2, 10))","v":1.0591370913709802E-3}]
[null,null,null,null,null,null,null,null,null,null,null,null,null,null,null,null,null,null,null,null,null,null,null,null,null,null,null,null,null,null,null,null,null,null,1995,"非住宅","S造",{"$f":"INDEX('係数表2-3'!$B:$K, 10 + QUOTIENT(ROW(AL160)-2, 10), 1 + MOD(ROW(AL160)-2, 10))","v":7.9095043521046002E-4}]
[null,null,null,null,null,null,null,null,null,null,null,null,null,null,null,null,null,null,null,null,null,null,null,null,null,null,null,null,null,null,null,null,null,null,1995,"非住宅","その他",{"$f":"INDEX('係数表2-3'!$B:$K, 10 + QUOTIENT(ROW(AL161)-2, 10), 1 + MOD(ROW(AL161)-2, 10))","v":1.5862617981332269E-3}]
[null,null,null,null,null,null,null,null,null,null,null,null,null,null,null,null,null,null,null,null,null,null,null,null,null,null,null,null,null,null,null,null,null,null,1996,"住宅","木造",{"$f":"INDEX('係数表2-3'!$B:$K, 10 + QUOTIENT(ROW(AL162)-2, 10), 1 + MOD(ROW(AL162)-2, 10))","v":2.172741961009806E-2}]
[null,null,null,null,null,null,null,null,null,null,null,null,null,null,null,null,null,null,null,null,null,null,null,null,null,null,null,null,null,null,null,null,null,null,1996,"住宅","SRC造",{"$f":"INDEX('係数表2-3'!$B:$K, 10 + QUOTIENT(ROW(AL163)-2, 10), 1 + MOD(ROW(AL163)-2, 10))","v":1.5505166931616917E-3}]
[null,null,null,null,null,null,null,null,null,null,null,null,null,null,null,null,null,null,null,null,null,null,null,null,null,null,null,null,null,null,null,null,null,null,1996,"住宅","RC造",{"$f":"INDEX('係数表2-3'!$B:$K, 10 + QUOTIENT(ROW(AL164)-2, 10), 1 + MOD(ROW(AL164)-2, 10))","v":2.2063129833763242E-3}]
[null,null,null,null,null,null,null,null,null,null,null,null,null,null,null,null,null,null,null,null,null,null,null,null,null,null,null,null,null,null,null,null,null,null,1996,"住宅","S造",{"$f":"INDEX('係数表2-3'!$B:$K, 10 + QUOTIENT(ROW(AL165)-2, 10), 1 + MOD(ROW(AL165)-2, 10))","v":3.0615484328142496E-3}]
[null,null,null,null,null,null,null,null,null,null,null,null,null,null,null,null,null,null,null,null,null,null,null,null,null,null,null,null,null,null,null,null,null,null,1996,"住宅","その他",{"$f":"INDEX('係数表2-3'!$B:$K, 10 + QUOTIENT(ROW(AL166)-2, 10), 1 + MOD(ROW(AL166)-2, 10))","v":5.4117536625841508E-3}]
[null,null,null,null,null,null,null,null,null,null,null,null,null,null,null,null,null,null,null,null,null,null,null,null,null,null,null,null,null,null,null,null,null,null,1996,"非住宅","木造",{"$f":"INDEX('係数表2-3'!$B:$K, 10 + QUOTIENT(ROW(AL167)-2, 10), 1 + MOD(ROW(AL167)-2, 10))","v":2.2865580945098916E-2}]
[null,null,null,null,null,null,null,null,null,null,null,null,null,null,null,null,null,null,null,null,null,null,null,null,null,null,null,null,null,null,null,null,null,null,1996,"非住宅","SRC造",{"$f":"INDEX('係数表2-3'!$B:$K, 10 + QUOTIENT(ROW(AL168)-2, 10), 1 + MOD(ROW(AL168)-2, 10))","v":7.4422446767041057E-4}]
[null,null,null,null,null,null,null,null,null,null,null,null,null,null,null,null,null,null,null,null,null,null,null,null,null,null,null,null,null,null,null,null,null,null,1996,"非住宅","RC造",{"$f":"INDEX('係数表2-3'!$B:$K, 10 + QUOTIENT(ROW(AL169)-2, 10), 1 + MOD(ROW(AL169)-2, 10))","v":1.0718889415384399E-3}]
[null,null,null,null,null,null,null,null,null,null,null,null,null,null,null,null,null,null,null,null,null,null,null,null,null,null,null,null,null,null,null,null,null,null,1996,"非住宅","S造",{"$f":"INDEX('係数表2-3'!$B:$K, 10 + QUOTIENT(ROW(AL170)-2, 10), 1 + MOD(ROW(AL170)-2, 10))","v":7.9807461536561108E-4}]
[null,null,null,null,null,null,null,null,null,null,null,null,null,null,null,null,null,null,null,null,null,null,null,null,null,null,null,null,null,null,null,null,null,null,1996,"非住宅","その他",{"$f":"INDEX('係数表2-3'!$B:$K, 10 + QUOTIENT(ROW(AL171)-2, 10), 1 + MOD(ROW(AL171)-2, 10))","v":1.6097008226013533E-3}]
[null,null,null,null,null,null,null,null,null,null,null,null,null,null,null,null,null,null,null,null,null,null,null,null,null,null,null,null,null,null,null,null,null,null,1997,"住宅","木造",{"$f":"INDEX('係数表2-3'!$B:$K, 10 + QUOTIENT(ROW(AL172)-2, 10), 1 + MOD(ROW(AL172)-2, 10))","v":2.1175974323316509E-2}]
[null,null,null,null,null,null,null,null,null,null,null,null,null,null,null,null,null,null,null,null,null,null,null,null,null,null,null,null,null,null,null,null,null,null,1997,"住宅","SRC造",{"$f":"INDEX('係数表2-3'!$B:$K, 10 + QUOTIENT(ROW(AL173)-2, 10), 1 + MOD(ROW(AL173)-2, 10))","v":1.5182993844607641E-3}]
[null,null,null,null,null,null,null,null,null,null,null,null,null,null,null,null,null,null,null,null,null,null,null,null,null,null,null,null,null,null,null,null,null,null,1997,"住宅","RC造",{"$f":"INDEX('係数表2-3'!$B:$K, 10 + QUOTIENT(ROW(AL174)-2, 10), 1 + MOD(ROW(AL174)-2, 10))","v":2.153268336533707E-3}]
[null,null,null,null,null,null,null,null,null,null,null,null,null,null,null,null,null,null,null,null,null,null,null,null,null,null,null,null,null,null,null,null,null,null,1997,"住宅","S造",{"$f":"INDEX('係数表2-3'!$B:$K, 10 + QUOTIENT(ROW(AL175)-2, 10), 1 + MOD(ROW(AL175)-2, 10))","v":2.9806645226231011E-3}]
[null,null,null,null,null,null,null,null,null,null,null,null,null,null,null,null,null,null,null,null,null,null,null,null,null,null,null,null,null,null,null,null,null,null,1997,"住宅","その他",{"$f":"INDEX('係数表2-3'!$B:$K, 10 + QUOTIENT(ROW(AL176)-2, 10), 1 + MOD(ROW(AL176)-2, 10))","v":5.2535667602054649E-3}]
[null,null,null,null,null,null,null,null,null,null,null,null,null,null,null,null,null,null,null,null,null,null,null,null,null,null,null,null,null,null,null,null,null,null,1997,"非住宅","木造",{"$f":"INDEX('係数表2-3'!$B:$K, 10 + QUOTIENT(ROW(AL177)-2, 10), 1 + MOD(ROW(AL177)-2, 10))","v":2.2273076374070382E-2}]
[null,null,null,null,null,null,null,null,null,null,null,null,null,null,null,null,null,null,null,null,null,null,null,null,null,null,null,null,null,null,null,null,null,null,1997,"非住宅","SRC造",{"$f":"INDEX('係数表2-3'!$B:$K, 10 + QUOTIENT(ROW(AL178)-2, 10), 1 + MOD(ROW(AL178)-2, 10))","v":7.375926646523191E-4}]
[null,null,null,null,null,null,null,null,null,null,null,null,null,null,null,null,null,null,null,null,null,null,null,null,null,null,null,null,null,null,null,null,null,null,1997,"非住宅","RC造",{"$f":"INDEX('係数表2-3'!$B:$K, 10 + QUOTIENT(ROW(AL179)-2, 10), 1 + MOD(ROW(AL179)-2, 10))","v":1.0545910449214029E-3}]
[null,null,null,null,null,null,null,null,null,null,null,null,null,null,null,null,null,null,null,null,null,null,null,null,null,null,null,null,null,null,null,null,null,null,1997,"非住宅","S造",{"$f":"INDEX('係数表2-3'!$B:$K, 10 + QUOTIENT(ROW(AL180)-2, 10), 1 + MOD(ROW(AL180)-2, 10))","v":7.8990241208966837E-4}]
[null,null,null,null,null,null,null,null,null,null,null,null,null,null,null,null,null,null,null,null,null,null,null,null,null,null,null,null,null,null,null,null,null,null,1997,"非住宅","その他",{"$f":"INDEX('係数表2-3'!$B:$K, 10 + QUOTIENT(ROW(AL181)-2, 10), 1 + MOD(ROW(AL181)-2, 10))","v":1.5738074434919799E-3}]
[null,null,null,null,null,null,null,null,null,null,null,null,null,null,null,null,null,null,null,null,null,null,null,null,null,null,null,null,null,null,null,null,null,null,1998,"住宅","木造",{"$f":"INDEX('係数表2-3'!$B:$K, 10 + QUOTIENT(ROW(AL182)-2, 10), 1 + MOD(ROW(AL182)-2, 10))","v":2.0836935748239162E-2}]
[null,null,null,null,null,null,null,null,null,null,null,null,null,null,null,null,null,null,null,null,null,null,null,null,null,null,null,null,null,null,null,null,null,null,1998,"住宅","SRC造",{"$f":"INDEX('係数表2-3'!$B:$K, 10 + QUOTIENT(ROW(AL183)-2, 10), 1 + MOD(ROW(AL183)-2, 10))","v":1.5080144343308877E-3}]
[null,null,null,null,null,null,null,null,null,null,null,null,null,null,null,null,null,null,null,null,null,null,null,null,null,null,null,null,null,null,null,null,null,null,1998,"住宅","RC造",{"$f":"INDEX('係数表2-3'!$B:$K, 10 + QUOTIENT(ROW(AL184)-2, 10), 1 + MOD(ROW(AL184)-2, 10))","v":2.1313841394566884E-3}]
[null,null,null,null,null,null,null,null,null,null,null,null,null,null,null,null,null,null,null,null,null,null,null,null,null,null,null,null,null,null,null,null,null,null,1998,"住宅","S造",{"$f":"INDEX('係数表2-3'!$B:$K, 10 + QUOTIENT(ROW(AL185)-2, 10), 1 + MOD(ROW(AL185)-2, 10))","v":2.9490088510323829E-3}]
[null,null,null,null,null,null,null,null,null,null,null,null,null,null,null,null,null,null,null,null,null,null,null,null,null,null,null,null,null,null,null,null,null,null,1998,"住宅","その他",{"$f":"INDEX('係数表2-3'!$B:$K, 10 + QUOTIENT(ROW(AL186)-2, 10), 1 + MOD(ROW(AL186)-2, 10))","v":5.1720385568590635E-3}]
[null,null,null,null,null,null,null,null,null,null,null,null,null,null,null,null,null,null,null,null,null,null,null,null,null,null,null,null,null,null,null,null,null,null,1998,"非住宅","木造",{"$f":"INDEX('係数表2-3'!$B:$K, 10 + QUOTIENT(ROW(AL187)-2, 10), 1 + MOD(ROW(AL187)-2, 10))","v":2.1909521935037181E-2}]
[null,null,null,null,null,null,null,null,null,null,null,null,null,null,null,null,null,null,null,null,null,null,null,null,null,null,null,null,null,null,null,null,null,null,1998,"非住宅","SRC造",{"$f":"INDEX('係数表2-3'!$B:$K, 10 + QUOTIENT(ROW(AL188)-2, 10), 1 + MOD(ROW(AL188)-2, 10))","v":7.2698751458950318E-4}]
[null,null,null,null,null,null,null,null,null,null,null,null,null,null,null,null,null,null,null,null,null,null,null,null,null,null,null,null,null,null,null,null,null,null,1998,"非住宅","RC造",{"$f":"INDEX('係数表2-3'!$B:$K, 10 + QUOTIENT(ROW(AL189)-2, 10), 1 + MOD(ROW(AL189)-2, 10))","v":1.0540906135178675E-3}]
[null,null,null,null,null,null,null,null,null,null,null,null,null,null,null,null,null,null,null,null,null,null,null,null,null,null,null,null,null,null,null,null,null,null,1998,"非住宅","S造",{"$f":"INDEX('係数表2-3'!$B:$K, 10 + QUOTIENT(ROW(AL190)-2, 10), 1 + MOD(ROW(AL190)-2, 10))","v":7.8378131073351585E-4}]
[null,null,null,null,null,null,null,null,null,null,null,null,null,null,null,null,null,null,null,null,null,null,null,null,null,null,null,null,null,null,null,null,null,null,1998,"非住宅","その他",{"$f":"INDEX('係数表2-3'!$B:$K, 10 + QUOTIENT(ROW(AL191)-2, 10), 1 + MOD(ROW(AL191)-2, 10))","v":1.5486554513128943E-3}]
[null,null,null,null,null,null,null,null,null,null,null,null,null,null,null,null,null,null,null,null,null,null,null,null,null,null,null,null,null,null,null,null,null,null,1999,"住宅","木造",{"$f":"INDEX('係数表2-3'!$B:$K, 10 + QUOTIENT(ROW(AL192)-2, 10), 1 + MOD(ROW(AL192)-2, 10))","v":2.0328553409250105E-2}]
[null,null,null,null,null,null,null,null,null,null,null,null,null,null,null,null,null,null,null,null,null,null,null,null,null,null,null,null,null,null,null,null,null,null,1999,"住宅","SRC造",{"$f":"INDEX('係数表2-3'!$B:$K, 10 + QUOTIENT(ROW(AL193)-2, 10), 1 + MOD(ROW(AL193)-2, 10))","v":1.5816666444724511E-3}]
[null,null,null,null,null,null,null,null,null,null,null,null,null,null,null,null,null,null,null,null,null,null,null,null,null,null,null,null,null,null,null,null,null,null,1999,"住宅","RC造",{"$f":"INDEX('係数表2-3'!$B:$K, 10 + QUOTIENT(ROW(AL194)-2, 10), 1 + MOD(ROW(AL194)-2, 10))","v":2.0911910205554381E-3}]
[null,null,null,null,null,null,null,null,null,null,null,null,null,null,null,null,null,null,null,null,null,null,null,null,null,null,null,null,null,null,null,null,null,null,1999,"住宅","S造",{"$f":"INDEX('係数表2-3'!$B:$K, 10 + QUOTIENT(ROW(AL195)-2, 10), 1 + MOD(ROW(AL195)-2, 10))","v":2.9120077111091198E-3}]
[null,null,null,null,null,null,null,null,null,null,null,null,null,null,null,null,null,null,null,null,null,null,null,null,null,null,null,null,null,null,null,null,null,null,1999,"住宅","その他",{"$f":"INDEX('係数表2-3'!$B:$K, 10 + QUOTIENT(ROW(AL196)-2, 10), 1 + MOD(ROW(AL196)-2, 10))","v":5.2940029300490542E-3}]
[null,null,null,null,null,null,null,null,null,null,null,null,null,null,null,null,null,null,null,null,null,null,null,null,null,null,null,null,null,null,null,null,null,null,1999,"非住宅","木造",{"$f":"INDEX('係数表2-3'!$B:$K, 10 + QUOTIENT(ROW(AL197)-2, 10), 1 + MOD(ROW(AL197)-2, 10))","v":2.1153299236018483E-2}]
[null,null,null,null,null,null,null,null,null,null,null,null,null,null,null,null,null,null,null,null,null,null,null,null,null,null,null,null,null,null,null,null,null,null,1999,"非住宅","SRC造",{"$f":"INDEX('係数表2-3'!$B:$K, 10 + QUOTIENT(ROW(AL198)-2, 10), 1 + MOD(ROW(AL198)-2, 10))","v":7.0848082745770949E-4}]
[null,null,null,null,null,null,null,null,null,null,null,null,null,null,null,null,null,null,null,null,null,null,null,null,null,null,null,null,null,null,null,null,null,null,1999,"非住宅","RC造",{"$f":"INDEX('係数表2-3'!$B:$K, 10 + QUOTIENT(ROW(AL199)-2, 10), 1 + MOD(ROW(AL199)-2, 10))","v":1.1294907729084817E-3}]
[null,null,null,null,null,null,null,null,null,null,null,null,null,null,null,null,null,null,null,null,null,null,null,null,null,null,null,null,null,null,null,null,null,null,1999,"非住宅","S造",{"$f":"INDEX('係数表2-3'!$B:$K, 10 + QUOTIENT(ROW(AL200)-2, 10), 1 + MOD(ROW(AL200)-2, 10))","v":8.1657353714934542E-4}]
[null,null,null,null,null,null,null,null,null,null,null,null,null,null,null,null,null,null,null,null,null,null,null,null,null,null,null,null,null,null,null,null,null,null,1999,"非住宅","その他",{"$f":"INDEX('係数表2-3'!$B:$K, 10 + QUOTIENT(ROW(AL201)-2, 10), 1 + MOD(ROW(AL201)-2, 10))","v":1.6282800239111254E-3}]
[null,null,null,null,null,null,null,null,null,null,null,null,null,null,null,null,null,null,null,null,null,null,null,null,null,null,null,null,null,null,null,null,null,null,2000,"住宅","木造",{"$f":"INDEX('係数表2-3'!$B:$K, 10 + QUOTIENT(ROW(AL202)-2, 10), 1 + MOD(ROW(AL202)-2, 10))","v":1.9901645092312261E-2}]
[null,null,null,null,null,null,null,null,null,null,null,null,null,null,null,null,null,null,null,null,null,null,null,null,null,null,null,null,null,null,null,null,null,null,2000,"住宅","SRC造",{"$f":"INDEX('係数表2-3'!$B:$K, 10 + QUOTIENT(ROW(AL203)-2, 10), 1 + MOD(ROW(AL203)-2, 10))","v":1.5704092328944538E-3}]
[null,null,null,null,null,null,null,null,null,null,null,null,null,null,null,null,null,null,null,null,null,null,null,null,null,null,null,null,null,null,null,null,null,null,2000,"住宅","RC造",{"$f":"INDEX('係数表2-3'!$B:$K, 10 + QUOTIENT(ROW(AL204)-2, 10), 1 + MOD(ROW(AL204)-2, 10))","v":2.0969712438879914E-3}]
[null,null,null,null,null,null,null,null,null,null,null,null,null,null,null,null,null,null,null,null,null,null,null,null,null,null,null,null,null,null,null,null,null,null,2000,"住宅","S造",{"$f":"INDEX('係数表2-3'!$B:$K, 10 + QUOTIENT(ROW(AL205)-2, 10), 1 + MOD(ROW(AL205)-2, 10))","v":2.9126449365855013E-3}]
[null,null,null,null,null,null,null,null,null,null,null,null,null,null,null,null,null,null,null,null,null,null,null,null,null,null,null,null,null,null,null,null,null,null,2000,"住宅","その他",{"$f":"INDEX('係数表2-3'!$B:$K, 10 + QUOTIENT(ROW(AL206)-2, 10), 1 + MOD(ROW(AL206)-2, 10))","v":5.2553684183349082E-3}]
[null,null,null,null,null,null,null,null,null,null,null,null,null,null,null,null,null,null,null,null,null,null,null,null,null,null,null,null,null,null,null,null,null,null,2000,"非住宅","木造",{"$f":"INDEX('係数表2-3'!$B:$K, 10 + QUOTIENT(ROW(AL207)-2, 10), 1 + MOD(ROW(AL207)-2, 10))","v":2.0690060596857643E-2}]
[null,null,null,null,null,null,null,null,null,null,null,null,null,null,null,null,null,null,null,null,null,null,null,null,null,null,null,null,null,null,null,null,null,null,2000,"非住宅","SRC造",{"$f":"INDEX('係数表2-3'!$B:$K, 10 + QUOTIENT(ROW(AL208)-2, 10), 1 + MOD(ROW(AL208)-2, 10))","v":7.1855277434923362E-4}]
[null,null,null,null,null,null,null,null,null,null,null,null,null,null,null,null,null,null,null,null,null,null,null,null,null,null,null,null,null,null,null,null,null,null,2000,"非住宅","RC造",{"$f":"INDEX('係数表2-3'!$B:$K, 10 + QUOTIENT(ROW(AL209)-2, 10), 1 + MOD(ROW(AL209)-2, 10))","v":1.120069197875432E-3}]
[null,null,null,null,null,null,null,null,null,null,null,null,null,null,null,null,null,null,null,null,null,null,null,null,null,null,null,null,null,null,null,null,null,null,2000,"非住宅","S造",{"$f":"INDEX('係数表2-3'!$B:$K, 10 + QUOTIENT(ROW(AL210)-2, 10), 1 + MOD(ROW(AL210)-2, 10))","v":8.1695876032875894E-4}]
[null,null,null,null,null,null,null,null,null,null,null,null,null,null,null,null,null,null,null,null,null,null,null,null,null,null,null,null,null,null,null,null,null,null,2000,"非住宅","その他",{"$f":"INDEX('係数表2-3'!$B:$K, 10 + QUOTIENT(ROW(AL211)-2, 10), 1 + MOD(ROW(AL211)-2, 10))","v":1.6152863178536204E-3}]
[null,null,null,null,null,null,null,null,null,null,null,null,null,null,null,null,null,null,null,null,null,null,null,null,null,null,null,null,null,null,null,null,null,null,2001,"住宅","木造",{"$f":"INDEX('係数表2-3'!$B:$K, 10 + QUOTIENT(ROW(AL212)-2, 10), 1 + MOD(ROW(AL212)-2, 10))","v":1.952020767308061E-2}]
[null,null,null,null,null,null,null,null,null,null,null,null,null,null,null,null,null,null,null,null,null,null,null,null,null,null,null,null,null,null,null,null,null,null,2001,"住宅","SRC造",{"$f":"INDEX('係数表2-3'!$B:$K, 10 + QUOTIENT(ROW(AL213)-2, 10), 1 + MOD(ROW(AL213)-2, 10))","v":1.5507504065806392E-3}]
[null,null,null,null,null,null,null,null,null,null,null,null,null,null,null,null,null,null,null,null,null,null,null,null,null,null,null,null,null,null,null,null,null,null,2001,"住宅","RC造",{"$f":"INDEX('係数表2-3'!$B:$K, 10 + QUOTIENT(ROW(AL214)-2, 10), 1 + MOD(ROW(AL214)-2, 10))","v":2.0535321366164198E-3}]
[null,null,null,null,null,null,null,null,null,null,null,null,null,null,null,null,null,null,null,null,null,null,null,null,null,null,null,null,null,null,null,null,null,null,2001,"住宅","S造",{"$f":"INDEX('係数表2-3'!$B:$K, 10 + QUOTIENT(ROW(AL215)-2, 10), 1 + MOD(ROW(AL215)-2, 10))","v":2.8485820270635724E-3}]
[null,null,null,null,null,null,null,null,null,null,null,null,null,null,null,null,null,null,null,null,null,null,null,null,null,null,null,null,null,null,null,null,null,null,2001,"住宅","その他",{"$f":"INDEX('係数表2-3'!$B:$K, 10 + QUOTIENT(ROW(AL216)-2, 10), 1 + MOD(ROW(AL216)-2, 10))","v":5.1392623592550479E-3}]
[null,null,null,null,null,null,null,null,null,null,null,null,null,null,null,null,null,null,null,null,null,null,null,null,null,null,null,null,null,null,null,null,null,null,2001,"非住宅","木造",{"$f":"INDEX('係数表2-3'!$B:$K, 10 + QUOTIENT(ROW(AL217)-2, 10), 1 + MOD(ROW(AL217)-2, 10))","v":2.0237133198768287E-2}]
[null,null,null,null,null,null,null,null,null,null,null,null,null,null,null,null,null,null,null,null,null,null,null,null,null,null,null,null,null,null,null,null,null,null,2001,"非住宅","SRC造",{"$f":"INDEX('係数表2-3'!$B:$K, 10 + QUOTIENT(ROW(AL218)-2, 10), 1 + MOD(ROW(AL218)-2, 10))","v":7.1051404788560171E-4}]
[null,null,null,null,null,null,null,null,null,null,null,null,null,null,null,null,null,null,null,null,null,null,null,null,null,null,null,null,null,null,null,null,null,null,2001,"非住宅","RC造",{"$f":"INDEX('係数表2-3'!$B:$K, 10 + QUOTIENT(ROW(AL219)-2, 10), 1 + MOD(ROW(AL219)-2, 10))","v":1.1129106305002203E-3}]
[null,null,null,null,null,null,null,null,null,null,null,null,null,null,null,null,null,null,null,null,null,null,null,null,null,null,null,null,null,null,null,null,null,null,2001,"非住宅","S造",{"$f":"INDEX('係数表2-3'!$B:$K, 10 + QUOTIENT(ROW(AL220)-2, 10), 1 + MOD(ROW(AL220)-2, 10))","v":8.1194834225605601E-4}]
[null,null,null,null,null,null,null,null,null,null,null,null,null,null,null,null,null,null,null,null,null,null,null,null,null,null,null,null,null,null,null,null,null,null,2001,"非住宅","その他",{"$f":"INDEX('係数表2-3'!$B:$K, 10 + QUOTIENT(ROW(AL221)-2, 10), 1 + MOD(ROW(AL221)-2, 10))","v":1.5911843544654137E-3}]
[null,null,null,null,null,null,null,null,null,null,null,null,null,null,null,null,null,null,null,null,null,null,null,null,null,null,null,null,null,null,null,null,null,null,2002,"住宅","木造",{"$f":"INDEX('係数表2-3'!$B:$K, 10 + QUOTIENT(ROW(AL222)-2, 10), 1 + MOD(ROW(AL222)-2, 10))","v":2.0228338732866721E-2}]
[null,null,null,null,null,null,null,null,null,null,null,null,null,null,null,null,null,null,null,null,null,null,null,null,null,null,null,null,null,null,null,null,null,null,2002,"住宅","SRC造",{"$f":"INDEX('係数表2-3'!$B:$K, 10 + QUOTIENT(ROW(AL223)-2, 10), 1 + MOD(ROW(AL223)-2, 10))","v":1.5447698564390803E-3}]
[null,null,null,null,null,null,null,null,null,null,null,null,null,null,null,null,null,null,null,null,null,null,null,null,null,null,null,null,null,null,null,null,null,null,2002,"住宅","RC造",{"$f":"INDEX('係数表2-3'!$B:$K, 10 + QUOTIENT(ROW(AL224)-2, 10), 1 + MOD(ROW(AL224)-2, 10))","v":2.1063642020492431E-3}]
[null,null,null,null,null,null,null,null,null,null,null,null,null,null,null,null,null,null,null,null,null,null,null,null,null,null,null,null,null,null,null,null,null,null,2002,"住宅","S造",{"$f":"INDEX('係数表2-3'!$B:$K, 10 + QUOTIENT(ROW(AL225)-2, 10), 1 + MOD(ROW(AL225)-2, 10))","v":2.9268943238560173E-3}]
[null,null,null,null,null,null,null,null,null,null,null,null,null,null,null,null,null,null,null,null,null,null,null,null,null,null,null,null,null,null,null,null,null,null,2002,"住宅","その他",{"$f":"INDEX('係数表2-3'!$B:$K, 10 + QUOTIENT(ROW(AL226)-2, 10), 1 + MOD(ROW(AL226)-2, 10))","v":5.2546649625644674E-3}]
[null,null,null,null,null,null,null,null,null,null,null,null,null,null,null,null,null,null,null,null,null,null,null,null,null,null,null,null,null,null,null,null,null,null,2002,"非住宅","木造",{"$f":"INDEX('係数表2-3'!$B:$K, 10 + QUOTIENT(ROW(AL227)-2, 10), 1 + MOD(ROW(AL227)-2, 10))","v":2.1186239163703217E-2}]
[null,null,null,null,null,null,null,null,null,null,null,null,null,null,null,null,null,null,null,null,null,null,null,null,null,null,null,null,null,null,null,null,null,null,2002,"非住宅","SRC造",{"$f":"INDEX('係数表2-3'!$B:$K, 10 + QUOTIENT(ROW(AL228)-2, 10), 1 + MOD(ROW(AL228)-2, 10))","v":7.1904265254230874E-4}]
[null,null,null,null,null,null,null,null,null,null,null,null,null,null,null,null,null,null,null,null,null,null,null,null,null,null,null,null,null,null,null,null,null,null,2002,"非住宅","RC造",{"$f":"INDEX('係数表2-3'!$B:$K, 10 + QUOTIENT(ROW(AL229)-2, 10), 1 + MOD(ROW(AL229)-2, 10))","v":1.0884161100540501E-3}]
[null,null,null,null,null,null,null,null,null,null,null,null,null,null,null,null,null,null,null,null,null,null,null,null,null,null,null,null,null,null,null,null,null,null,2002,"非住宅","S造",{"$f":"INDEX('係数表2-3'!$B:$K, 10 + QUOTIENT(ROW(AL230)-2, 10), 1 + MOD(ROW(AL230)-2, 10))","v":8.0037669067996948E-4}]
[null,null,null,null,null,null,null,null,null,null,null,null,null,null,null,null,null,null,null,null,null,null,null,null,null,null,null,null,null,null,null,null,null,null,2002,"非住宅","その他",{"$f":"INDEX('係数表2-3'!$B:$K, 10 + QUOTIENT(ROW(AL231)-2, 10), 1 + MOD(ROW(AL231)-2, 10))","v":1.6038870192926994E-3}]
[null,null,null,null,null,null,null,null,null,null,null,null,null,null,null,null,null,null,null,null,null,null,null,null,null,null,null,null,null,null,null,null,null,null,2003,"住宅","木造",{"$f":"INDEX('係数表2-3'!$B:$K, 10 + QUOTIENT(ROW(AL232)-2, 10), 1 + MOD(ROW(AL232)-2, 10))","v":1.9676392444113368E-2}]
[null,null,null,null,null,null,null,null,null,null,null,null,null,null,null,null,null,null,null,null,null,null,null,null,null,null,null,null,null,null,null,null,null,null,2003,"住宅","SRC造",{"$f":"INDEX('係数表2-3'!$B:$K, 10 + QUOTIENT(ROW(AL233)-2, 10), 1 + MOD(ROW(AL233)-2, 10))","v":1.5612641918215377E-3}]
[null,null,null,null,null,null,null,null,null,null,null,null,null,null,null,null,null,null,null,null,null,null,null,null,null,null,null,null,null,null,null,null,null,null,2003,"住宅","RC造",{"$f":"INDEX('係数表2-3'!$B:$K, 10 + QUOTIENT(ROW(AL234)-2, 10), 1 + MOD(ROW(AL234)-2, 10))","v":2.1258605813470307E-3}]
[null,null,null,null,null,null,null,null,null,null,null,null,null,null,null,null,null,null,null,null,null,null,null,null,null,null,null,null,null,null,null,null,null,null,2003,"住宅","S造",{"$f":"INDEX('係数表2-3'!$B:$K, 10 + QUOTIENT(ROW(AL235)-2, 10), 1 + MOD(ROW(AL235)-2, 10))","v":2.9537188183142212E-3}]
[null,null,null,null,null,null,null,null,null,null,null,null,null,null,null,null,null,null,null,null,null,null,null,null,null,null,null,null,null,null,null,null,null,null,2003,"住宅","その他",{"$f":"INDEX('係数表2-3'!$B:$K, 10 + QUOTIENT(ROW(AL236)-2, 10), 1 + MOD(ROW(AL236)-2, 10))","v":5.3034593583376477E-3}]
[null,null,null,null,null,null,null,null,null,null,null,null,null,null,null,null,null,null,null,null,null,null,null,null,null,null,null,null,null,null,null,null,null,null,2003,"非住宅","木造",{"$f":"INDEX('係数表2-3'!$B:$K, 10 + QUOTIENT(ROW(AL237)-2, 10), 1 + MOD(ROW(AL237)-2, 10))","v":2.0611097966795049E-2}]
[null,null,null,null,null,null,null,null,null,null,null,null,null,null,null,null,null,null,null,null,null,null,null,null,null,null,null,null,null,null,null,null,null,null,2003,"非住宅","SRC造",{"$f":"INDEX('係数表2-3'!$B:$K, 10 + QUOTIENT(ROW(AL238)-2, 10), 1 + MOD(ROW(AL238)-2, 10))","v":7.2663068833205317E-4}]
[null,null,null,null,null,null,null,null,null,null,null,null,null,null,null,null,null,null,null,null,null,null,null,null,null,null,null,null,null,null,null,null,null,null,2003,"非住宅","RC造",{"$f":"INDEX('係数表2-3'!$B:$K, 10 + QUOTIENT(ROW(AL239)-2, 10), 1 + MOD(ROW(AL239)-2, 10))","v":1.1012293540478449E-3}]
[null,null,null,null,null,null,null,null,null,null,null,null,null,null,null,null,null,null,null,null,null,null,null,null,null,null,null,null,null,null,null,null,null,null,2003,"非住宅","S造",{"$f":"INDEX('係数表2-3'!$B:$K, 10 + QUOTIENT(ROW(AL240)-2, 10), 1 + MOD(ROW(AL240)-2, 10))","v":8.0958594185513136E-4}]
[null,null,null,null,null,null,null,null,null,null,null,null,null,null,null,null,null,null,null,null,null,null,null,null,null,null,null,null,null,null,null,null,null,null,2003,"非住宅","その他",{"$f":"INDEX('係数表2-3'!$B:$K, 10 + QUOTIENT(ROW(AL241)-2, 10), 1 + MOD(ROW(AL241)-2, 10))","v":1.6209937530358846E-3}]
[null,null,null,null,null,null,null,null,null,null,null,null,null,null,null,null,null,null,null,null,null,null,null,null,null,null,null,null,null,null,null,null,null,null,2004,"住宅","木造",{"$f":"INDEX('係数表2-3'!$B:$K, 10 + QUOTIENT(ROW(AL242)-2, 10), 1 + MOD(ROW(AL242)-2, 10))","v":1.9785752808474683E-2}]
[null,null,null,null,null,null,null,null,null,null,null,null,null,null,null,null,null,null,null,null,null,null,null,null,null,null,null,null,null,null,null,null,null,null,2004,"住宅","SRC造",{"$f":"INDEX('係数表2-3'!$B:$K, 10 + QUOTIENT(ROW(AL243)-2, 10), 1 + MOD(ROW(AL243)-2, 10))","v":1.5136342961781651E-3}]
[null,null,null,null,null,null,null,null,null,null,null,null,null,null,null,null,null,null,null,null,null,null,null,null,null,null,null,null,null,null,null,null,null,null,2004,"住宅","RC造",{"$f":"INDEX('係数表2-3'!$B:$K, 10 + QUOTIENT(ROW(AL244)-2, 10), 1 + MOD(ROW(AL244)-2, 10))","v":2.0728059002476521E-3}]
[null,null,null,null,null,null,null,null,null,null,null,null,null,null,null,null,null,null,null,null,null,null,null,null,null,null,null,null,null,null,null,null,null,null,2004,"住宅","S造",{"$f":"INDEX('係数表2-3'!$B:$K, 10 + QUOTIENT(ROW(AL245)-2, 10), 1 + MOD(ROW(AL245)-2, 10))","v":2.8720673463324374E-3}]
[null,null,null,null,null,null,null,null,null,null,null,null,null,null,null,null,null,null,null,null,null,null,null,null,null,null,null,null,null,null,null,null,null,null,2004,"住宅","その他",{"$f":"INDEX('係数表2-3'!$B:$K, 10 + QUOTIENT(ROW(AL246)-2, 10), 1 + MOD(ROW(AL246)-2, 10))","v":5.1074459028634103E-3}]
[null,null,null,null,null,null,null,null,null,null,null,null,null,null,null,null,null,null,null,null,null,null,null,null,null,null,null,null,null,null,null,null,null,null,2004,"非住宅","木造",{"$f":"INDEX('係数表2-3'!$B:$K, 10 + QUOTIENT(ROW(AL247)-2, 10), 1 + MOD(ROW(AL247)-2, 10))","v":2.0726071735334174E-2}]
[null,null,null,null,null,null,null,null,null,null,null,null,null,null,null,null,null,null,null,null,null,null,null,null,null,null,null,null,null,null,null,null,null,null,2004,"非住宅","SRC造",{"$f":"INDEX('係数表2-3'!$B:$K, 10 + QUOTIENT(ROW(AL248)-2, 10), 1 + MOD(ROW(AL248)-2, 10))","v":7.1406200941415512E-4}]
[null,null,null,null,null,null,null,null,null,null,null,null,null,null,null,null,null,null,null,null,null,null,null,null,null,null,null,null,null,null,null,null,null,null,2004,"非住宅","RC造",{"$f":"INDEX('係数表2-3'!$B:$K, 10 + QUOTIENT(ROW(AL249)-2, 10), 1 + MOD(ROW(AL249)-2, 10))","v":1.0709187468616404E-3}]
[null,null,null,null,null,null,null,null,null,null,null,null,null,null,null,null,null,null,null,null,null,null,null,null,null,null,null,null,null,null,null,null,null,null,2004,"非住宅","S造",{"$f":"INDEX('係数表2-3'!$B:$K, 10 + QUOTIENT(ROW(AL250)-2, 10), 1 + MOD(ROW(AL250)-2, 10))","v":7.9021972467661341E-4}]
[null,null,null,null,null,null,null,null,null,null,null,null,null,null,null,null,null,null,null,null,null,null,null,null,null,null,null,null,null,null,null,null,null,null,2004,"非住宅","その他",{"$f":"INDEX('係数表2-3'!$B:$K, 10 + QUOTIENT(ROW(AL251)-2, 10), 1 + MOD(ROW(AL251)-2, 10))","v":1.5612529536512165E-3}]
[null,null,null,null,null,null,null,null,null,null,null,null,null,null,null,null,null,null,null,null,null,null,null,null,null,null,null,null,null,null,null,null,null,null,2005,"住宅","木造",{"$f":"INDEX('係数表2-3'!$B:$K, 10 + QUOTIENT(ROW(AL252)-2, 10), 1 + MOD(ROW(AL252)-2, 10))","v":1.9858564922378596E-2}]
[null,null,null,null,null,null,null,null,null,null,null,null,null,null,null,null,null,null,null,null,null,null,null,null,null,null,null,null,null,null,null,null,null,null,2005,"住宅","SRC造",{"$f":"INDEX('係数表2-3'!$B:$K, 10 + QUOTIENT(ROW(AL253)-2, 10), 1 + MOD(ROW(AL253)-2, 10))","v":1.4827721166335724E-3}]
[null,null,null,null,null,null,null,null,null,null,null,null,null,null,null,null,null,null,null,null,null,null,null,null,null,null,null,null,null,null,null,null,null,null,2005,"住宅","RC造",{"$f":"INDEX('係数表2-3'!$B:$K, 10 + QUOTIENT(ROW(AL254)-2, 10), 1 + MOD(ROW(AL254)-2, 10))","v":2.0707353205133231E-3}]
[null,null,null,null,null,null,null,null,null,null,null,null,null,null,null,null,null,null,null,null,null,null,null,null,null,null,null,null,null,null,null,null,null,null,2005,"住宅","S造",{"$f":"INDEX('係数表2-3'!$B:$K, 10 + QUOTIENT(ROW(AL255)-2, 10), 1 + MOD(ROW(AL255)-2, 10))","v":2.860233882198891E-3}]
[null,null,null,null,null,null,null,null,null,null,null,null,null,null,null,null,null,null,null,null,null,null,null,null,null,null,null,null,null,null,null,null,null,null,2005,"住宅","その他",{"$f":"INDEX('係数表2-3'!$B:$K, 10 + QUOTIENT(ROW(AL256)-2, 10), 1 + MOD(ROW(AL256)-2, 10))","v":5.0165867621004608E-3}]
[null,null,null,null,null,null,null,null,null,null,null,null,null,null,null,null,null,null,null,null,null,null,null,null,null,null,null,null,null,null,null,null,null,null,2005,"非住宅","木造",{"$f":"INDEX('係数表2-3'!$B:$K, 10 + QUOTIENT(ROW(AL257)-2, 10), 1 + MOD(ROW(AL257)-2, 10))","v":2.0844583945506631E-2}]
[null,null,null,null,null,null,null,null,null,null,null,null,null,null,null,null,null,null,null,null,null,null,null,null,null,null,null,null,null,null,null,null,null,null,2005,"非住宅","SRC造",{"$f":"INDEX('係数表2-3'!$B:$K, 10 + QUOTIENT(ROW(AL258)-2, 10), 1 + MOD(ROW(AL258)-2, 10))","v":7.1535637182832583E-4}]
[null,null,null,null,null,null,null,null,null,null,null,null,null,null,null,null,null,null,null,null,null,null,null,null,null,null,null,null,null,null,null,null,null,null,2005,"非住宅","RC造",{"$f":"INDEX('係数表2-3'!$B:$K, 10 + QUOTIENT(ROW(AL259)-2, 10), 1 + MOD(ROW(AL259)-2, 10))","v":1.0455640758446232E-3}]
[null,null,null,null,null,null,null,null,null,null,null,null,null,null,null,null,null,null,null,null,null,null,null,null,null,null,null,null,null,null,null,null,null,null,2005,"非住宅","S造",{"$f":"INDEX('係数表2-3'!$B:$K, 10 + QUOTIENT(ROW(AL260)-2, 10), 1 + MOD(ROW(AL260)-2, 10))","v":7.7753179981571337E-4}]
[null,null,null,null,null,null,null,null,null,null,null,null,null,null,null,null,null,null,null,null,null,null,null,null,null,null,null,null,null,null,null,null,null,null,2005,"非住宅","その他",{"$f":"INDEX('係数表2-3'!$B:$K, 10 + QUOTIENT(ROW(AL261)-2, 10), 1 + MOD(ROW(AL261)-2, 10))","v":1.517872969206884E-3}]
[null,null,null,null,null,null,null,null,null,null,null,null,null,null,null,null,null,null,null,null,null,null,null,null,null,null,null,null,null,null,null,null,null,null,2006,"住宅","木造",{"$f":"INDEX('係数表2-3'!$B:$K, 10 + QUOTIENT(ROW(AL262)-2, 10), 1 + MOD(ROW(AL262)-2, 10))","v":1.9481173219871434E-2}]
[null,null,null,null,null,null,null,null,null,null,null,null,null,null,null,null,null,null,null,null,null,null,null,null,null,null,null,null,null,null,null,null,null,null,2006,"住宅","SRC造",{"$f":"INDEX('係数表2-3'!$B:$K, 10 + QUOTIENT(ROW(AL263)-2, 10), 1 + MOD(ROW(AL263)-2, 10))","v":1.4627412089925382E-3}]
[null,null,null,null,null,null,null,null,null,null,null,null,null,null,null,null,null,null,null,null,null,null,null,null,null,null,null,null,null,null,null,null,null,null,2006,"住宅","RC造",{"$f":"INDEX('係数表2-3'!$B:$K, 10 + QUOTIENT(ROW(AL264)-2, 10), 1 + MOD(ROW(AL264)-2, 10))","v":2.0488531843098116E-3}]
[null,null,null,null,null,null,null,null,null,null,null,null,null,null,null,null,null,null,null,null,null,null,null,null,null,null,null,null,null,null,null,null,null,null,2006,"住宅","S造",{"$f":"INDEX('係数表2-3'!$B:$K, 10 + QUOTIENT(ROW(AL265)-2, 10), 1 + MOD(ROW(AL265)-2, 10))","v":2.8236769916267033E-3}]
[null,null,null,null,null,null,null,null,null,null,null,null,null,null,null,null,null,null,null,null,null,null,null,null,null,null,null,null,null,null,null,null,null,null,2006,"住宅","その他",{"$f":"INDEX('係数表2-3'!$B:$K, 10 + QUOTIENT(ROW(AL266)-2, 10), 1 + MOD(ROW(AL266)-2, 10))","v":4.90101536216453E-3}]
[null,null,null,null,null,null,null,null,null,null,null,null,null,null,null,null,null,null,null,null,null,null,null,null,null,null,null,null,null,null,null,null,null,null,2006,"非住宅","木造",{"$f":"INDEX('係数表2-3'!$B:$K, 10 + QUOTIENT(ROW(AL267)-2, 10), 1 + MOD(ROW(AL267)-2, 10))","v":2.0411948750157234E-2}]
[null,null,null,null,null,null,null,null,null,null,null,null,null,null,null,null,null,null,null,null,null,null,null,null,null,null,null,null,null,null,null,null,null,null,2006,"非住宅","SRC造",{"$f":"INDEX('係数表2-3'!$B:$K, 10 + QUOTIENT(ROW(AL268)-2, 10), 1 + MOD(ROW(AL268)-2, 10))","v":7.1018024567124423E-4}]
[null,null,null,null,null,null,null,null,null,null,null,null,null,null,null,null,null,null,null,null,null,null,null,null,null,null,null,null,null,null,null,null,null,null,2006,"非住宅","RC造",{"$f":"INDEX('係数表2-3'!$B:$K, 10 + QUOTIENT(ROW(AL269)-2, 10), 1 + MOD(ROW(AL269)-2, 10))","v":1.0374313680721473E-3}]
[null,null,null,null,null,null,null,null,null,null,null,null,null,null,null,null,null,null,null,null,null,null,null,null,null,null,null,null,null,null,null,null,null,null,2006,"非住宅","S造",{"$f":"INDEX('係数表2-3'!$B:$K, 10 + QUOTIENT(ROW(AL270)-2, 10), 1 + MOD(ROW(AL270)-2, 10))","v":7.7055776125291113E-4}]
[null,null,null,null,null,null,null,null,null,null,null,null,null,null,null,null,null,null,null,null,null,null,null,null,null,null,null,null,null,null,null,null,null,null,2006,"非住宅","その他",{"$f":"INDEX('係数表2-3'!$B:$K, 10 + QUOTIENT(ROW(AL271)-2, 10), 1 + MOD(ROW(AL271)-2, 10))","v":1.4812538756446942E-3}]
[null,null,null,null,null,null,null,null,null,null,null,null,null,null,null,null,null,null,null,null,null,null,null,null,null,null,null,null,null,null,null,null,null,null,2007,"住宅","木造",{"$f":"INDEX('係数表2-3'!$B:$K, 10 + QUOTIENT(ROW(AL272)-2, 10), 1 + MOD(ROW(AL272)-2, 10))","v":1.9408279224726294E-2}]
[null,null,null,null,null,null,null,null,null,null,null,null,null,null,null,null,null,null,null,null,null,null,null,null,null,null,null,null,null,null,null,null,null,null,2007,"住宅","SRC造",{"$f":"INDEX('係数表2-3'!$B:$K, 10 + QUOTIENT(ROW(AL273)-2, 10), 1 + MOD(ROW(AL273)-2, 10))","v":1.5106666326272877E-3}]
[null,null,null,null,null,null,null,null,null,null,null,null,null,null,null,null,null,null,null,null,null,null,null,null,null,null,null,null,null,null,null,null,null,null,2007,"住宅","RC造",{"$f":"INDEX('係数表2-3'!$B:$K, 10 + QUOTIENT(ROW(AL274)-2, 10), 1 + MOD(ROW(AL274)-2, 10))","v":2.1242690122516509E-3}]
[null,null,null,null,null,null,null,null,null,null,null,null,null,null,null,null,null,null,null,null,null,null,null,null,null,null,null,null,null,null,null,null,null,null,2007,"住宅","S造",{"$f":"INDEX('係数表2-3'!$B:$K, 10 + QUOTIENT(ROW(AL275)-2, 10), 1 + MOD(ROW(AL275)-2, 10))","v":2.9337582842635674E-3}]
[null,null,null,null,null,null,null,null,null,null,null,null,null,null,null,null,null,null,null,null,null,null,null,null,null,null,null,null,null,null,null,null,null,null,2007,"住宅","その他",{"$f":"INDEX('係数表2-3'!$B:$K, 10 + QUOTIENT(ROW(AL276)-2, 10), 1 + MOD(ROW(AL276)-2, 10))","v":5.1332800047908774E-3}]
[null,null,null,null,null,null,null,null,null,null,null,null,null,null,null,null,null,null,null,null,null,null,null,null,null,null,null,null,null,null,null,null,null,null,2007,"非住宅","木造",{"$f":"INDEX('係数表2-3'!$B:$K, 10 + QUOTIENT(ROW(AL277)-2, 10), 1 + MOD(ROW(AL277)-2, 10))","v":2.036610073502209E-2}]
[null,null,null,null,null,null,null,null,null,null,null,null,null,null,null,null,null,null,null,null,null,null,null,null,null,null,null,null,null,null,null,null,null,null,2007,"非住宅","SRC造",{"$f":"INDEX('係数表2-3'!$B:$K, 10 + QUOTIENT(ROW(AL278)-2, 10), 1 + MOD(ROW(AL278)-2, 10))","v":7.3339286994730996E-4}]
[null,null,null,null,null,null,null,null,null,null,null,null,null,null,null,null,null,null,null,null,null,null,null,null,null,null,null,null,null,null,null,null,null,null,2007,"非住宅","RC造",{"$f":"INDEX('係数表2-3'!$B:$K, 10 + QUOTIENT(ROW(AL279)-2, 10), 1 + MOD(ROW(AL279)-2, 10))","v":1.0622205043469546E-3}]
[null,null,null,null,null,null,null,null,null,null,null,null,null,null,null,null,null,null,null,null,null,null,null,null,null,null,null,null,null,null,null,null,null,null,2007,"非住宅","S造",{"$f":"INDEX('係数表2-3'!$B:$K, 10 + QUOTIENT(ROW(AL280)-2, 10), 1 + MOD(ROW(AL280)-2, 10))","v":7.9185668385023009E-4}]
[null,null,null,null,null,null,null,null,null,null,null,null,null,null,null,null,null,null,null,null,null,null,null,null,null,null,null,null,null,null,null,null,null,null,2007,"非住宅","その他",{"$f":"INDEX('係数表2-3'!$B:$K, 10 + QUOTIENT(ROW(AL281)-2, 10), 1 + MOD(ROW(AL281)-2, 10))","v":1.5479716642601386E-3}]
[null,null,null,null,null,null,null,null,null,null,null,null,null,null,null,null,null,null,null,null,null,null,null,null,null,null,null,null,null,null,null,null,null,null,2008,"住宅","木造",{"$f":"INDEX('係数表2-3'!$B:$K, 10 + QUOTIENT(ROW(AL282)-2, 10), 1 + MOD(ROW(AL282)-2, 10))","v":1.9329573488841099E-2}]
[null,null,null,null,null,null,null,null,null,null,null,null,null,null,null,null,null,null,null,null,null,null,null,null,null,null,null,null,null,null,null,null,null,null,2008,"住宅","SRC造",{"$f":"INDEX('係数表2-3'!$B:$K, 10 + QUOTIENT(ROW(AL283)-2, 10), 1 + MOD(ROW(AL283)-2, 10))","v":1.4746166172741038E-3}]
[null,null,null,null,null,null,null,null,null,null,null,null,null,null,null,null,null,null,null,null,null,null,null,null,null,null,null,null,null,null,null,null,null,null,2008,"住宅","RC造",{"$f":"INDEX('係数表2-3'!$B:$K, 10 + QUOTIENT(ROW(AL284)-2, 10), 1 + MOD(ROW(AL284)-2, 10))","v":2.0451603929148633E-3}]
[null,null,null,null,null,null,null,null,null,null,null,null,null,null,null,null,null,null,null,null,null,null,null,null,null,null,null,null,null,null,null,null,null,null,2008,"住宅","S造",{"$f":"INDEX('係数表2-3'!$B:$K, 10 + QUOTIENT(ROW(AL285)-2, 10), 1 + MOD(ROW(AL285)-2, 10))","v":2.8208070956753884E-3}]
[null,null,null,null,null,null,null,null,null,null,null,null,null,null,null,null,null,null,null,null,null,null,null,null,null,null,null,null,null,null,null,null,null,null,2008,"住宅","その他",{"$f":"INDEX('係数表2-3'!$B:$K, 10 + QUOTIENT(ROW(AL286)-2, 10), 1 + MOD(ROW(AL286)-2, 10))","v":4.94136177588943E-3}]
[null,null,null,null,null,null,null,null,null,null,null,null,null,null,null,null,null,null,null,null,null,null,null,null,null,null,null,null,null,null,null,null,null,null,2008,"非住宅","木造",{"$f":"INDEX('係数表2-3'!$B:$K, 10 + QUOTIENT(ROW(AL287)-2, 10), 1 + MOD(ROW(AL287)-2, 10))","v":2.0245700657877397E-2}]
[null,null,null,null,null,null,null,null,null,null,null,null,null,null,null,null,null,null,null,null,null,null,null,null,null,null,null,null,null,null,null,null,null,null,2008,"非住宅","SRC造",{"$f":"INDEX('係数表2-3'!$B:$K, 10 + QUOTIENT(ROW(AL288)-2, 10), 1 + MOD(ROW(AL288)-2, 10))","v":7.1371257963619291E-4}]
[null,null,null,null,null,null,null,null,null,null,null,null,null,null,null,null,null,null,null,null,null,null,null,null,null,null,null,null,null,null,null,null,null,null,2008,"非住宅","RC造",{"$f":"INDEX('係数表2-3'!$B:$K, 10 + QUOTIENT(ROW(AL289)-2, 10), 1 + MOD(ROW(AL289)-2, 10))","v":1.0460307413749511E-3}]
[null,null,null,null,null,null,null,null,null,null,null,null,null,null,null,null,null,null,null,null,null,null,null,null,null,null,null,null,null,null,null,null,null,null,2008,"非住宅","S造",{"$f":"INDEX('係数表2-3'!$B:$K, 10 + QUOTIENT(ROW(AL290)-2, 10), 1 + MOD(ROW(AL290)-2, 10))","v":7.7858789295768627E-4}]
[null,null,null,null,null,null,null,null,null,null,null,null,null,null,null,null,null,null,null,null,null,null,null,null,null,null,null,null,null,null,null,null,null,null,2008,"非住宅","その他",{"$f":"INDEX('係数表2-3'!$B:$K, 10 + QUOTIENT(ROW(AL291)-2, 10), 1 + MOD(ROW(AL291)-2, 10))","v":1.5066833126327435E-3}]
[null,null,null,null,null,null,null,null,null,null,null,null,null,null,null,null,null,null,null,null,null,null,null,null,null,null,null,null,null,null,null,null,null,null,2009,"住宅","木造",{"$f":"INDEX('係数表2-3'!$B:$K, 10 + QUOTIENT(ROW(AL292)-2, 10), 1 + MOD(ROW(AL292)-2, 10))","v":1.9137239233877761E-2}]
[null,null,null,null,null,null,null,null,null,null,null,null,null,null,null,null,null,null,null,null,null,null,null,null,null,null,null,null,null,null,null,null,null,null,2009,"住宅","SRC造",{"$f":"INDEX('係数表2-3'!$B:$K, 10 + QUOTIENT(ROW(AL293)-2, 10), 1 + MOD(ROW(AL293)-2, 10))","v":1.4993248456800867E-3}]
[null,null,null,null,null,null,null,null,null,null,null,null,null,null,null,null,null,null,null,null,null,null,null,null,null,null,null,null,null,null,null,null,null,null,2009,"住宅","RC造",{"$f":"INDEX('係数表2-3'!$B:$K, 10 + QUOTIENT(ROW(AL294)-2, 10), 1 + MOD(ROW(AL294)-2, 10))","v":2.0384729676899763E-3}]
[null,null,null,null,null,null,null,null,null,null,null,null,null,null,null,null,null,null,null,null,null,null,null,null,null,null,null,null,null,null,null,null,null,null,2009,"住宅","S造",{"$f":"INDEX('係数表2-3'!$B:$K, 10 + QUOTIENT(ROW(AL295)-2, 10), 1 + MOD(ROW(AL295)-2, 10))","v":2.8210832827814687E-3}]
[null,null,null,null,null,null,null,null,null,null,null,null,null,null,null,null,null,null,null,null,null,null,null,null,null,null,null,null,null,null,null,null,null,null,2009,"住宅","その他",{"$f":"INDEX('係数表2-3'!$B:$K, 10 + QUOTIENT(ROW(AL296)-2, 10), 1 + MOD(ROW(AL296)-2, 10))","v":5.0278678049865862E-3}]
[null,null,null,null,null,null,null,null,null,null,null,null,null,null,null,null,null,null,null,null,null,null,null,null,null,null,null,null,null,null,null,null,null,null,2009,"非住宅","木造",{"$f":"INDEX('係数表2-3'!$B:$K, 10 + QUOTIENT(ROW(AL297)-2, 10), 1 + MOD(ROW(AL297)-2, 10))","v":2.0049994452568096E-2}]
[null,null,null,null,null,null,null,null,null,null,null,null,null,null,null,null,null,null,null,null,null,null,null,null,null,null,null,null,null,null,null,null,null,null,2009,"非住宅","SRC造",{"$f":"INDEX('係数表2-3'!$B:$K, 10 + QUOTIENT(ROW(AL298)-2, 10), 1 + MOD(ROW(AL298)-2, 10))","v":7.0825988536070178E-4}]
[null,null,null,null,null,null,null,null,null,null,null,null,null,null,null,null,null,null,null,null,null,null,null,null,null,null,null,null,null,null,null,null,null,null,2009,"非住宅","RC造",{"$f":"INDEX('係数表2-3'!$B:$K, 10 + QUOTIENT(ROW(AL299)-2, 10), 1 + MOD(ROW(AL299)-2, 10))","v":1.0644982739554606E-3}]
[null,null,null,null,null,null,null,null,null,null,null,null,null,null,null,null,null,null,null,null,null,null,null,null,null,null,null,null,null,null,null,null,null,null,2009,"非住宅","S造",{"$f":"INDEX('係数表2-3'!$B:$K, 10 + QUOTIENT(ROW(AL300)-2, 10), 1 + MOD(ROW(AL300)-2, 10))","v":7.8668500075633431E-4}]
[null,null,null,null,null,null,null,null,null,null,null,null,null,null,null,null,null,null,null,null,null,null,null,null,null,null,null,null,null,null,null,null,null,null,2009,"非住宅","その他",{"$f":"INDEX('係数表2-3'!$B:$K, 10 + QUOTIENT(ROW(AL301)-2, 10), 1 + MOD(ROW(AL301)-2, 10))","v":1.5482251826933998E-3}]
[null,null,null,null,null,null,null,null,null,null,null,null,null,null,null,null,null,null,null,null,null,null,null,null,null,null,null,null,null,null,null,null,null,null,2010,"住宅","木造",{"$f":"INDEX('係数表2-3'!$B:$K, 10 + QUOTIENT(ROW(AL302)-2, 10), 1 + MOD(ROW(AL302)-2, 10))","v":1.799623082691262E-2}]
[null,null,null,null,null,null,null,null,null,null,null,null,null,null,null,null,null,null,null,null,null,null,null,null,null,null,null,null,null,null,null,null,null,null,2010,"住宅","SRC造",{"$f":"INDEX('係数表2-3'!$B:$K, 10 + QUOTIENT(ROW(AL303)-2, 10), 1 + MOD(ROW(AL303)-2, 10))","v":1.6171744390705448E-3}]
[null,null,null,null,null,null,null,null,null,null,null,null,null,null,null,null,null,null,null,null,null,null,null,null,null,null,null,null,null,null,null,null,null,null,2010,"住宅","RC造",{"$f":"INDEX('係数表2-3'!$B:$K, 10 + QUOTIENT(ROW(AL304)-2, 10), 1 + MOD(ROW(AL304)-2, 10))","v":1.8989942175211864E-3}]
[null,null,null,null,null,null,null,null,null,null,null,null,null,null,null,null,null,null,null,null,null,null,null,null,null,null,null,null,null,null,null,null,null,null,2010,"住宅","S造",{"$f":"INDEX('係数表2-3'!$B:$K, 10 + QUOTIENT(ROW(AL305)-2, 10), 1 + MOD(ROW(AL305)-2, 10))","v":2.6975050073857758E-3}]
[null,null,null,null,null,null,null,null,null,null,null,null,null,null,null,null,null,null,null,null,null,null,null,null,null,null,null,null,null,null,null,null,null,null,2010,"住宅","その他",{"$f":"INDEX('係数表2-3'!$B:$K, 10 + QUOTIENT(ROW(AL306)-2, 10), 1 + MOD(ROW(AL306)-2, 10))","v":5.6195910641842328E-3}]
[null,null,null,null,null,null,null,null,null,null,null,null,null,null,null,null,null,null,null,null,null,null,null,null,null,null,null,null,null,null,null,null,null,null,2010,"非住宅","木造",{"$f":"INDEX('係数表2-3'!$B:$K, 10 + QUOTIENT(ROW(AL307)-2, 10), 1 + MOD(ROW(AL307)-2, 10))","v":1.8682056420474553E-2}]
[null,null,null,null,null,null,null,null,null,null,null,null,null,null,null,null,null,null,null,null,null,null,null,null,null,null,null,null,null,null,null,null,null,null,2010,"非住宅","SRC造",{"$f":"INDEX('係数表2-3'!$B:$K, 10 + QUOTIENT(ROW(AL308)-2, 10), 1 + MOD(ROW(AL308)-2, 10))","v":6.9992924195999952E-4}]
[null,null,null,null,null,null,null,null,null,null,null,null,null,null,null,null,null,null,null,null,null,null,null,null,null,null,null,null,null,null,null,null,null,null,2010,"非住宅","RC造",{"$f":"INDEX('係数表2-3'!$B:$K, 10 + QUOTIENT(ROW(AL309)-2, 10), 1 + MOD(ROW(AL309)-2, 10))","v":1.1294399175211319E-3}]
[null,null,null,null,null,null,null,null,null,null,null,null,null,null,null,null,null,null,null,null,null,null,null,null,null,null,null,null,null,null,null,null,null,null,2010,"非住宅","S造",{"$f":"INDEX('係数表2-3'!$B:$K, 10 + QUOTIENT(ROW(AL310)-2, 10), 1 + MOD(ROW(AL310)-2, 10))","v":8.4271776976438265E-4}]
[null,null,null,null,null,null,null,null,null,null,null,null,null,null,null,null,null,null,null,null,null,null,null,null,null,null,null,null,null,null,null,null,null,null,2010,"非住宅","その他",{"$f":"INDEX('係数表2-3'!$B:$K, 10 + QUOTIENT(ROW(AL311)-2, 10), 1 + MOD(ROW(AL311)-2, 10))","v":1.9250949333586823E-3}]
[null,null,null,null,null,null,null,null,null,null,null,null,null,null,null,null,null,null,null,null,null,null,null,null,null,null,null,null,null,null,null,null,null,null,2011,"住宅","木造",{"$f":"INDEX('係数表2-3'!$B:$K, 10 + QUOTIENT(ROW(AL312)-2, 10), 1 + MOD(ROW(AL312)-2, 10))","v":1.8822372060544573E-2}]
[null,null,null,null,null,null,null,null,null,null,null,null,null,null,null,null,null,null,null,null,null,null,null,null,null,null,null,null,null,null,null,null,null,null,2011,"住宅","SRC造",{"$f":"INDEX('係数表2-3'!$B:$K, 10 + QUOTIENT(ROW(AL313)-2, 10), 1 + MOD(ROW(AL313)-2, 10))","v":1.4986683980705439E-3}]
[null,null,null,null,null,null,null,null,null,null,null,null,null,null,null,null,null,null,null,null,null,null,null,null,null,null,null,null,null,null,null,null,null,null,2011,"住宅","RC造",{"$f":"INDEX('係数表2-3'!$B:$K, 10 + QUOTIENT(ROW(AL314)-2, 10), 1 + MOD(ROW(AL314)-2, 10))","v":1.9500985475875612E-3}]
[null,null,null,null,null,null,null,null,null,null,null,null,null,null,null,null,null,null,null,null,null,null,null,null,null,null,null,null,null,null,null,null,null,null,2011,"住宅","S造",{"$f":"INDEX('係数表2-3'!$B:$K, 10 + QUOTIENT(ROW(AL315)-2, 10), 1 + MOD(ROW(AL315)-2, 10))","v":2.7146498012520425E-3}]
[null,null,null,null,null,null,null,null,null,null,null,null,null,null,null,null,null,null,null,null,null,null,null,null,null,null,null,null,null,null,null,null,null,null,2011,"住宅","その他",{"$f":"INDEX('係数表2-3'!$B:$K, 10 + QUOTIENT(ROW(AL316)-2, 10), 1 + MOD(ROW(AL316)-2, 10))","v":5.0651843219931113E-3}]
[null,null,null,null,null,null,null,null,null,null,null,null,null,null,null,null,null,null,null,null,null,null,null,null,null,null,null,null,null,null,null,null,null,null,2011,"非住宅","木造",{"$f":"INDEX('係数表2-3'!$B:$K, 10 + QUOTIENT(ROW(AL317)-2, 10), 1 + MOD(ROW(AL317)-2, 10))","v":1.9676501992160939E-2}]
[null,null,null,null,null,null,null,null,null,null,null,null,null,null,null,null,null,null,null,null,null,null,null,null,null,null,null,null,null,null,null,null,null,null,2011,"非住宅","SRC造",{"$f":"INDEX('係数表2-3'!$B:$K, 10 + QUOTIENT(ROW(AL318)-2, 10), 1 + MOD(ROW(AL318)-2, 10))","v":6.9743023532700969E-4}]
[null,null,null,null,null,null,null,null,null,null,null,null,null,null,null,null,null,null,null,null,null,null,null,null,null,null,null,null,null,null,null,null,null,null,2011,"非住宅","RC造",{"$f":"INDEX('係数表2-3'!$B:$K, 10 + QUOTIENT(ROW(AL319)-2, 10), 1 + MOD(ROW(AL319)-2, 10))","v":1.0616013895441796E-3}]
[null,null,null,null,null,null,null,null,null,null,null,null,null,null,null,null,null,null,null,null,null,null,null,null,null,null,null,null,null,null,null,null,null,null,2011,"非住宅","S造",{"$f":"INDEX('係数表2-3'!$B:$K, 10 + QUOTIENT(ROW(AL320)-2, 10), 1 + MOD(ROW(AL320)-2, 10))","v":7.9119729454767954E-4}]
[null,null,null,null,null,null,null,null,null,null,null,null,null,null,null,null,null,null,null,null,null,null,null,null,null,null,null,null,null,null,null,null,null,null,2011,"非住宅","その他",{"$f":"INDEX('係数表2-3'!$B:$K, 10 + QUOTIENT(ROW(AL321)-2, 10), 1 + MOD(ROW(AL321)-2, 10))","v":1.6142673535762451E-3}]
[null,null,null,null,null,null,null,null,null,null,null,null,null,null,null,null,null,null,null,null,null,null,null,null,null,null,null,null,null,null,null,null,null,null,2012,"住宅","木造",{"$f":"INDEX('係数表2-3'!$B:$K, 10 + QUOTIENT(ROW(AL322)-2, 10), 1 + MOD(ROW(AL322)-2, 10))","v":1.9113150176329103E-2}]
[null,null,null,null,null,null,null,null,null,null,null,null,null,null,null,null,null,null,null,null,null,null,null,null,null,null,null,null,null,null,null,null,null,null,2012,"住宅","SRC造",{"$f":"INDEX('係数表2-3'!$B:$K, 10 + QUOTIENT(ROW(AL323)-2, 10), 1 + MOD(ROW(AL323)-2, 10))","v":1.5263592550427674E-3}]
[null,null,null,null,null,null,null,null,null,null,null,null,null,null,null,null,null,null,null,null,null,null,null,null,null,null,null,null,null,null,null,null,null,null,2012,"住宅","RC造",{"$f":"INDEX('係数表2-3'!$B:$K, 10 + QUOTIENT(ROW(AL324)-2, 10), 1 + MOD(ROW(AL324)-2, 10))","v":1.9936462360050002E-3}]
[null,null,null,null,null,null,null,null,null,null,null,null,null,null,null,null,null,null,null,null,null,null,null,null,null,null,null,null,null,null,null,null,null,null,2012,"住宅","S造",{"$f":"INDEX('係数表2-3'!$B:$K, 10 + QUOTIENT(ROW(AL325)-2, 10), 1 + MOD(ROW(AL325)-2, 10))","v":2.7788901366345544E-3}]
[null,null,null,null,null,null,null,null,null,null,null,null,null,null,null,null,null,null,null,null,null,null,null,null,null,null,null,null,null,null,null,null,null,null,2012,"住宅","その他",{"$f":"INDEX('係数表2-3'!$B:$K, 10 + QUOTIENT(ROW(AL326)-2, 10), 1 + MOD(ROW(AL326)-2, 10))","v":5.1599513445105228E-3}]
[null,null,null,null,null,null,null,null,null,null,null,null,null,null,null,null,null,null,null,null,null,null,null,null,null,null,null,null,null,null,null,null,null,null,2012,"非住宅","木造",{"$f":"INDEX('係数表2-3'!$B:$K, 10 + QUOTIENT(ROW(AL327)-2, 10), 1 + MOD(ROW(AL327)-2, 10))","v":1.9982856044042693E-2}]
[null,null,null,null,null,null,null,null,null,null,null,null,null,null,null,null,null,null,null,null,null,null,null,null,null,null,null,null,null,null,null,null,null,null,2012,"非住宅","SRC造",{"$f":"INDEX('係数表2-3'!$B:$K, 10 + QUOTIENT(ROW(AL328)-2, 10), 1 + MOD(ROW(AL328)-2, 10))","v":7.009710876800042E-4}]
[null,null,null,null,null,null,null,null,null,null,null,null,null,null,null,null,null,null,null,null,null,null,null,null,null,null,null,null,null,null,null,null,null,null,2012,"非住宅","RC造",{"$f":"INDEX('係数表2-3'!$B:$K, 10 + QUOTIENT(ROW(AL329)-2, 10), 1 + MOD(ROW(AL329)-2, 10))","v":1.0817993841302771E-3}]
[null,null,null,null,null,null,null,null,null,null,null,null,null,null,null,null,null,null,null,null,null,null,null,null,null,null,null,null,null,null,null,null,null,null,2012,"非住宅","S造",{"$f":"INDEX('係数表2-3'!$B:$K, 10 + QUOTIENT(ROW(AL330)-2, 10), 1 + MOD(ROW(AL330)-2, 10))","v":7.9866758476655796E-4}]
[null,null,null,null,null,null,null,null,null,null,null,null,null,null,null,null,null,null,null,null,null,null,null,null,null,null,null,null,null,null,null,null,null,null,2012,"非住宅","その他",{"$f":"INDEX('係数表2-3'!$B:$K, 10 + QUOTIENT(ROW(AL331)-2, 10), 1 + MOD(ROW(AL331)-2, 10))","v":1.6310942558164072E-3}]
[null,null,null,null,null,null,null,null,null,null,null,null,null,null,null,null,null,null,null,null,null,null,null,null,null,null,null,null,null,null,null,null,null,null,2013,"住宅","木造",{"$f":"INDEX('係数表2-3'!$B:$K, 10 + QUOTIENT(ROW(AL332)-2, 10), 1 + MOD(ROW(AL332)-2, 10))","v":1.9349631480566298E-2}]
[null,null,null,null,null,null,null,null,null,null,null,null,null,null,null,null,null,null,null,null,null,null,null,null,null,null,null,null,null,null,null,null,null,null,2013,"住宅","SRC造",{"$f":"INDEX('係数表2-3'!$B:$K, 10 + QUOTIENT(ROW(AL333)-2, 10), 1 + MOD(ROW(AL333)-2, 10))","v":1.6010253977185094E-3}]
[null,null,null,null,null,null,null,null,null,null,null,null,null,null,null,null,null,null,null,null,null,null,null,null,null,null,null,null,null,null,null,null,null,null,2013,"住宅","RC造",{"$f":"INDEX('係数表2-3'!$B:$K, 10 + QUOTIENT(ROW(AL334)-2, 10), 1 + MOD(ROW(AL334)-2, 10))","v":2.0203865886545555E-3}]
[null,null,null,null,null,null,null,null,null,null,null,null,null,null,null,null,null,null,null,null,null,null,null,null,null,null,null,null,null,null,null,null,null,null,2013,"住宅","S造",{"$f":"INDEX('係数表2-3'!$B:$K, 10 + QUOTIENT(ROW(AL335)-2, 10), 1 + MOD(ROW(AL335)-2, 10))","v":2.8444199937973694E-3}]
[null,null,null,null,null,null,null,null,null,null,null,null,null,null,null,null,null,null,null,null,null,null,null,null,null,null,null,null,null,null,null,null,null,null,2013,"住宅","その他",{"$f":"INDEX('係数表2-3'!$B:$K, 10 + QUOTIENT(ROW(AL336)-2, 10), 1 + MOD(ROW(AL336)-2, 10))","v":5.5721400405296904E-3}]
[null,null,null,null,null,null,null,null,null,null,null,null,null,null,null,null,null,null,null,null,null,null,null,null,null,null,null,null,null,null,null,null,null,null,2013,"非住宅","木造",{"$f":"INDEX('係数表2-3'!$B:$K, 10 + QUOTIENT(ROW(AL337)-2, 10), 1 + MOD(ROW(AL337)-2, 10))","v":2.0243489327697452E-2}]
[null,null,null,null,null,null,null,null,null,null,null,null,null,null,null,null,null,null,null,null,null,null,null,null,null,null,null,null,null,null,null,null,null,null,2013,"非住宅","SRC造",{"$f":"INDEX('係数表2-3'!$B:$K, 10 + QUOTIENT(ROW(AL338)-2, 10), 1 + MOD(ROW(AL338)-2, 10))","v":7.1466927852198718E-4}]
[null,null,null,null,null,null,null,null,null,null,null,null,null,null,null,null,null,null,null,null,null,null,null,null,null,null,null,null,null,null,null,null,null,null,2013,"非住宅","RC造",{"$f":"INDEX('係数表2-3'!$B:$K, 10 + QUOTIENT(ROW(AL339)-2, 10), 1 + MOD(ROW(AL339)-2, 10))","v":1.1134034508015532E-3}]
[null,null,null,null,null,null,null,null,null,null,null,null,null,null,null,null,null,null,null,null,null,null,null,null,null,null,null,null,null,null,null,null,null,null,2013,"非住宅","S造",{"$f":"INDEX('係数表2-3'!$B:$K, 10 + QUOTIENT(ROW(AL340)-2, 10), 1 + MOD(ROW(AL340)-2, 10))","v":8.2783168644734841E-4}]
[null,null,null,null,null,null,null,null,null,null,null,null,null,null,null,null,null,null,null,null,null,null,null,null,null,null,null,null,null,null,null,null,null,null,2013,"非住宅","その他",{"$f":"INDEX('係数表2-3'!$B:$K, 10 + QUOTIENT(ROW(AL341)-2, 10), 1 + MOD(ROW(AL341)-2, 10))","v":1.8219066602143115E-3}]
[null,null,null,null,null,null,null,null,null,null,null,null,null,null,null,null,null,null,null,null,null,null,null,null,null,null,null,null,null,null,null,null,null,null,2014,"住宅","木造",{"$f":"INDEX('係数表2-3'!$B:$K, 10 + QUOTIENT(ROW(AL342)-2, 10), 1 + MOD(ROW(AL342)-2, 10))","v":1.8881958480111108E-2}]
[null,null,null,null,null,null,null,null,null,null,null,null,null,null,null,null,null,null,null,null,null,null,null,null,null,null,null,null,null,null,null,null,null,null,2014,"住宅","SRC造",{"$f":"INDEX('係数表2-3'!$B:$K, 10 + QUOTIENT(ROW(AL343)-2, 10), 1 + MOD(ROW(AL343)-2, 10))","v":1.5736868170774217E-3}]
[null,null,null,null,null,null,null,null,null,null,null,null,null,null,null,null,null,null,null,null,null,null,null,null,null,null,null,null,null,null,null,null,null,null,2014,"住宅","RC造",{"$f":"INDEX('係数表2-3'!$B:$K, 10 + QUOTIENT(ROW(AL344)-2, 10), 1 + MOD(ROW(AL344)-2, 10))","v":1.961795895441714E-3}]
[null,null,null,null,null,null,null,null,null,null,null,null,null,null,null,null,null,null,null,null,null,null,null,null,null,null,null,null,null,null,null,null,null,null,2014,"住宅","S造",{"$f":"INDEX('係数表2-3'!$B:$K, 10 + QUOTIENT(ROW(AL345)-2, 10), 1 + MOD(ROW(AL345)-2, 10))","v":2.7591240539910646E-3}]
[null,null,null,null,null,null,null,null,null,null,null,null,null,null,null,null,null,null,null,null,null,null,null,null,null,null,null,null,null,null,null,null,null,null,2014,"住宅","その他",{"$f":"INDEX('係数表2-3'!$B:$K, 10 + QUOTIENT(ROW(AL346)-2, 10), 1 + MOD(ROW(AL346)-2, 10))","v":5.4199287030184144E-3}]
[null,null,null,null,null,null,null,null,null,null,null,null,null,null,null,null,null,null,null,null,null,null,null,null,null,null,null,null,null,null,null,null,null,null,2014,"非住宅","木造",{"$f":"INDEX('係数表2-3'!$B:$K, 10 + QUOTIENT(ROW(AL347)-2, 10), 1 + MOD(ROW(AL347)-2, 10))","v":1.9727137951518529E-2}]
[null,null,null,null,null,null,null,null,null,null,null,null,null,null,null,null,null,null,null,null,null,null,null,null,null,null,null,null,null,null,null,null,null,null,2014,"非住宅","SRC造",{"$f":"INDEX('係数表2-3'!$B:$K, 10 + QUOTIENT(ROW(AL348)-2, 10), 1 + MOD(ROW(AL348)-2, 10))","v":7.0321833627260528E-4}]
[null,null,null,null,null,null,null,null,null,null,null,null,null,null,null,null,null,null,null,null,null,null,null,null,null,null,null,null,null,null,null,null,null,null,2014,"非住宅","RC造",{"$f":"INDEX('係数表2-3'!$B:$K, 10 + QUOTIENT(ROW(AL349)-2, 10), 1 + MOD(ROW(AL349)-2, 10))","v":1.1020881318235885E-3}]
[null,null,null,null,null,null,null,null,null,null,null,null,null,null,null,null,null,null,null,null,null,null,null,null,null,null,null,null,null,null,null,null,null,null,2014,"非住宅","S造",{"$f":"INDEX('係数表2-3'!$B:$K, 10 + QUOTIENT(ROW(AL350)-2, 10), 1 + MOD(ROW(AL350)-2, 10))","v":8.1974565634734321E-4}]
[null,null,null,null,null,null,null,null,null,null,null,null,null,null,null,null,null,null,null,null,null,null,null,null,null,null,null,null,null,null,null,null,null,null,2014,"非住宅","その他",{"$f":"INDEX('係数表2-3'!$B:$K, 10 + QUOTIENT(ROW(AL351)-2, 10), 1 + MOD(ROW(AL351)-2, 10))","v":1.7913630740508124E-3}]
[null,null,null,null,null,null,null,null,null,null,null,null,null,null,null,null,null,null,null,null,null,null,null,null,null,null,null,null,null,null,null,null,null,null,2015,"住宅","木造",{"$f":"INDEX('係数表2-3'!$B:$K, 10 + QUOTIENT(ROW(AL352)-2, 10), 1 + MOD(ROW(AL352)-2, 10))","v":1.7793001043707929E-2}]
[null,null,null,null,null,null,null,null,null,null,null,null,null,null,null,null,null,null,null,null,null,null,null,null,null,null,null,null,null,null,null,null,null,null,2015,"住宅","SRC造",{"$f":"INDEX('係数表2-3'!$B:$K, 10 + QUOTIENT(ROW(AL353)-2, 10), 1 + MOD(ROW(AL353)-2, 10))","v":1.5020514640981515E-3}]
[null,null,null,null,null,null,null,null,null,null,null,null,null,null,null,null,null,null,null,null,null,null,null,null,null,null,null,null,null,null,null,null,null,null,2015,"住宅","RC造",{"$f":"INDEX('係数表2-3'!$B:$K, 10 + QUOTIENT(ROW(AL354)-2, 10), 1 + MOD(ROW(AL354)-2, 10))","v":1.9304448248987196E-3}]
[null,null,null,null,null,null,null,null,null,null,null,null,null,null,null,null,null,null,null,null,null,null,null,null,null,null,null,null,null,null,null,null,null,null,2015,"住宅","S造",{"$f":"INDEX('係数表2-3'!$B:$K, 10 + QUOTIENT(ROW(AL355)-2, 10), 1 + MOD(ROW(AL355)-2, 10))","v":2.6842996392604838E-3}]
[null,null,null,null,null,null,null,null,null,null,null,null,null,null,null,null,null,null,null,null,null,null,null,null,null,null,null,null,null,null,null,null,null,null,2015,"住宅","その他",{"$f":"INDEX('係数表2-3'!$B:$K, 10 + QUOTIENT(ROW(AL356)-2, 10), 1 + MOD(ROW(AL356)-2, 10))","v":5.0273063974221018E-3}]
[null,null,null,null,null,null,null,null,null,null,null,null,null,null,null,null,null,null,null,null,null,null,null,null,null,null,null,null,null,null,null,null,null,null,2015,"非住宅","木造",{"$f":"INDEX('係数表2-3'!$B:$K, 10 + QUOTIENT(ROW(AL357)-2, 10), 1 + MOD(ROW(AL357)-2, 10))","v":1.8500467633645202E-2}]
[null,null,null,null,null,null,null,null,null,null,null,null,null,null,null,null,null,null,null,null,null,null,null,null,null,null,null,null,null,null,null,null,null,null,2015,"非住宅","SRC造",{"$f":"INDEX('係数表2-3'!$B:$K, 10 + QUOTIENT(ROW(AL358)-2, 10), 1 + MOD(ROW(AL358)-2, 10))","v":7.0089244487966137E-4}]
[null,null,null,null,null,null,null,null,null,null,null,null,null,null,null,null,null,null,null,null,null,null,null,null,null,null,null,null,null,null,null,null,null,null,2015,"非住宅","RC造",{"$f":"INDEX('係数表2-3'!$B:$K, 10 + QUOTIENT(ROW(AL359)-2, 10), 1 + MOD(ROW(AL359)-2, 10))","v":1.0704217654983214E-3}]
[null,null,null,null,null,null,null,null,null,null,null,null,null,null,null,null,null,null,null,null,null,null,null,null,null,null,null,null,null,null,null,null,null,null,2015,"非住宅","S造",{"$f":"INDEX('係数表2-3'!$B:$K, 10 + QUOTIENT(ROW(AL360)-2, 10), 1 + MOD(ROW(AL360)-2, 10))","v":7.9955272844186816E-4}]
[null,null,null,null,null,null,null,null,null,null,null,null,null,null,null,null,null,null,null,null,null,null,null,null,null,null,null,null,null,null,null,null,null,null,2015,"非住宅","その他",{"$f":"INDEX('係数表2-3'!$B:$K, 10 + QUOTIENT(ROW(AL361)-2, 10), 1 + MOD(ROW(AL361)-2, 10))","v":1.6242433350978076E-3}]
[null,null,null,null,null,null,null,null,null,null,null,null,null,null,null,null,null,null,null,null,null,null,null,null,null,null,null,null,null,null,null,null,null,null,2016,"住宅","木造",{"$f":"INDEX('係数表2-3'!$B:$K, 10 + QUOTIENT(ROW(AL362)-2, 10), 1 + MOD(ROW(AL362)-2, 10))","v":1.9404530470091195E-2}]
[null,null,null,null,null,null,null,null,null,null,null,null,null,null,null,null,null,null,null,null,null,null,null,null,null,null,null,null,null,null,null,null,null,null,2016,"住宅","SRC造",{"$f":"INDEX('係数表2-3'!$B:$K, 10 + QUOTIENT(ROW(AL363)-2, 10), 1 + MOD(ROW(AL363)-2, 10))","v":1.5253846488350513E-3}]
[null,null,null,null,null,null,null,null,null,null,null,null,null,null,null,null,null,null,null,null,null,null,null,null,null,null,null,null,null,null,null,null,null,null,2016,"住宅","RC造",{"$f":"INDEX('係数表2-3'!$B:$K, 10 + QUOTIENT(ROW(AL364)-2, 10), 1 + MOD(ROW(AL364)-2, 10))","v":1.9577529198815222E-3}]
[null,null,null,null,null,null,null,null,null,null,null,null,null,null,null,null,null,null,null,null,null,null,null,null,null,null,null,null,null,null,null,null,null,null,2016,"住宅","S造",{"$f":"INDEX('係数表2-3'!$B:$K, 10 + QUOTIENT(ROW(AL365)-2, 10), 1 + MOD(ROW(AL365)-2, 10))","v":2.735386433075312E-3}]
[null,null,null,null,null,null,null,null,null,null,null,null,null,null,null,null,null,null,null,null,null,null,null,null,null,null,null,null,null,null,null,null,null,null,2016,"住宅","その他",{"$f":"INDEX('係数表2-3'!$B:$K, 10 + QUOTIENT(ROW(AL366)-2, 10), 1 + MOD(ROW(AL366)-2, 10))","v":5.1683682182185765E-3}]
[null,null,null,null,null,null,null,null,null,null,null,null,null,null,null,null,null,null,null,null,null,null,null,null,null,null,null,null,null,null,null,null,null,null,2016,"非住宅","木造",{"$f":"INDEX('係数表2-3'!$B:$K, 10 + QUOTIENT(ROW(AL367)-2, 10), 1 + MOD(ROW(AL367)-2, 10))","v":2.0255755796798221E-2}]
[null,null,null,null,null,null,null,null,null,null,null,null,null,null,null,null,null,null,null,null,null,null,null,null,null,null,null,null,null,null,null,null,null,null,2016,"非住宅","SRC造",{"$f":"INDEX('係数表2-3'!$B:$K, 10 + QUOTIENT(ROW(AL368)-2, 10), 1 + MOD(ROW(AL368)-2, 10))","v":6.9341051388062218E-4}]
[null,null,null,null,null,null,null,null,null,null,null,null,null,null,null,null,null,null,null,null,null,null,null,null,null,null,null,null,null,null,null,null,null,null,2016,"非住宅","RC造",{"$f":"INDEX('係数表2-3'!$B:$K, 10 + QUOTIENT(ROW(AL369)-2, 10), 1 + MOD(ROW(AL369)-2, 10))","v":1.0801819449357865E-3}]
[null,null,null,null,null,null,null,null,null,null,null,null,null,null,null,null,null,null,null,null,null,null,null,null,null,null,null,null,null,null,null,null,null,null,2016,"非住宅","S造",{"$f":"INDEX('係数表2-3'!$B:$K, 10 + QUOTIENT(ROW(AL370)-2, 10), 1 + MOD(ROW(AL370)-2, 10))","v":7.9862575954907182E-4}]
[null,null,null,null,null,null,null,null,null,null,null,null,null,null,null,null,null,null,null,null,null,null,null,null,null,null,null,null,null,null,null,null,null,null,2016,"非住宅","その他",{"$f":"INDEX('係数表2-3'!$B:$K, 10 + QUOTIENT(ROW(AL371)-2, 10), 1 + MOD(ROW(AL371)-2, 10))","v":1.6528035612168664E-3}]
[null,null,null,null,null,null,null,null,null,null,null,null,null,null,null,null,null,null,null,null,null,null,null,null,null,null,null,null,null,null,null,null,null,null,2017,"住宅","木造",{"$f":"INDEX('係数表2-3'!$B:$K, 10 + QUOTIENT(ROW(AL372)-2, 10), 1 + MOD(ROW(AL372)-2, 10))","v":1.8151082052767636E-2}]
[null,null,null,null,null,null,null,null,null,null,null,null,null,null,null,null,null,null,null,null,null,null,null,null,null,null,null,null,null,null,null,null,null,null,2017,"住宅","SRC造",{"$f":"INDEX('係数表2-3'!$B:$K, 10 + QUOTIENT(ROW(AL373)-2, 10), 1 + MOD(ROW(AL373)-2, 10))","v":1.4946538334952063E-3}]
[null,null,null,null,null,null,null,null,null,null,null,null,null,null,null,null,null,null,null,null,null,null,null,null,null,null,null,null,null,null,null,null,null,null,2017,"住宅","RC造",{"$f":"INDEX('係数表2-3'!$B:$K, 10 + QUOTIENT(ROW(AL374)-2, 10), 1 + MOD(ROW(AL374)-2, 10))","v":1.9667539318915083E-3}]
[null,null,null,null,null,null,null,null,null,null,null,null,null,null,null,null,null,null,null,null,null,null,null,null,null,null,null,null,null,null,null,null,null,null,2017,"住宅","S造",{"$f":"INDEX('係数表2-3'!$B:$K, 10 + QUOTIENT(ROW(AL375)-2, 10), 1 + MOD(ROW(AL375)-2, 10))","v":2.7177570758381698E-3}]
[null,null,null,null,null,null,null,null,null,null,null,null,null,null,null,null,null,null,null,null,null,null,null,null,null,null,null,null,null,null,null,null,null,null,2017,"住宅","その他",{"$f":"INDEX('係数表2-3'!$B:$K, 10 + QUOTIENT(ROW(AL376)-2, 10), 1 + MOD(ROW(AL376)-2, 10))","v":4.9135620925108451E-3}]
[null,null,null,null,null,null,null,null,null,null,null,null,null,null,null,null,null,null,null,null,null,null,null,null,null,null,null,null,null,null,null,null,null,null,2017,"非住宅","木造",{"$f":"INDEX('係数表2-3'!$B:$K, 10 + QUOTIENT(ROW(AL377)-2, 10), 1 + MOD(ROW(AL377)-2, 10))","v":1.8833630184029816E-2}]
[null,null,null,null,null,null,null,null,null,null,null,null,null,null,null,null,null,null,null,null,null,null,null,null,null,null,null,null,null,null,null,null,null,null,2017,"非住宅","SRC造",{"$f":"INDEX('係数表2-3'!$B:$K, 10 + QUOTIENT(ROW(AL378)-2, 10), 1 + MOD(ROW(AL378)-2, 10))","v":7.1178513434103996E-4}]
[null,null,null,null,null,null,null,null,null,null,null,null,null,null,null,null,null,null,null,null,null,null,null,null,null,null,null,null,null,null,null,null,null,null,2017,"非住宅","RC造",{"$f":"INDEX('係数表2-3'!$B:$K, 10 + QUOTIENT(ROW(AL379)-2, 10), 1 + MOD(ROW(AL379)-2, 10))","v":1.0757562482862618E-3}]
[null,null,null,null,null,null,null,null,null,null,null,null,null,null,null,null,null,null,null,null,null,null,null,null,null,null,null,null,null,null,null,null,null,null,2017,"非住宅","S造",{"$f":"INDEX('係数表2-3'!$B:$K, 10 + QUOTIENT(ROW(AL380)-2, 10), 1 + MOD(ROW(AL380)-2, 10))","v":8.0348462367736554E-4}]
[null,null,null,null,null,null,null,null,null,null,null,null,null,null,null,null,null,null,null,null,null,null,null,null,null,null,null,null,null,null,null,null,null,null,2017,"非住宅","その他",{"$f":"INDEX('係数表2-3'!$B:$K, 10 + QUOTIENT(ROW(AL381)-2, 10), 1 + MOD(ROW(AL381)-2, 10))","v":1.563562249936917E-3}]
[null,null,null,null,null,null,null,null,null,null,null,null,null,null,null,null,null,null,null,null,null,null,null,null,null,null,null,null,null,null,null,null,null,null,2018,"住宅","木造",{"$f":"INDEX('係数表2-3'!$B:$K, 10 + QUOTIENT(ROW(AL382)-2, 10), 1 + MOD(ROW(AL382)-2, 10))","v":1.8064838824779914E-2}]
[null,null,null,null,null,null,null,null,null,null,null,null,null,null,null,null,null,null,null,null,null,null,null,null,null,null,null,null,null,null,null,null,null,null,2018,"住宅","SRC造",{"$f":"INDEX('係数表2-3'!$B:$K, 10 + QUOTIENT(ROW(AL383)-2, 10), 1 + MOD(ROW(AL383)-2, 10))","v":1.5570068016994144E-3}]
[null,null,null,null,null,null,null,null,null,null,null,null,null,null,null,null,null,null,null,null,null,null,null,null,null,null,null,null,null,null,null,null,null,null,2018,"住宅","RC造",{"$f":"INDEX('係数表2-3'!$B:$K, 10 + QUOTIENT(ROW(AL384)-2, 10), 1 + MOD(ROW(AL384)-2, 10))","v":2.0536308116947954E-3}]
[null,null,null,null,null,null,null,null,null,null,null,null,null,null,null,null,null,null,null,null,null,null,null,null,null,null,null,null,null,null,null,null,null,null,2018,"住宅","S造",{"$f":"INDEX('係数表2-3'!$B:$K, 10 + QUOTIENT(ROW(AL385)-2, 10), 1 + MOD(ROW(AL385)-2, 10))","v":2.841769407033025E-3}]
[null,null,null,null,null,null,null,null,null,null,null,null,null,null,null,null,null,null,null,null,null,null,null,null,null,null,null,null,null,null,null,null,null,null,2018,"住宅","その他",{"$f":"INDEX('係数表2-3'!$B:$K, 10 + QUOTIENT(ROW(AL386)-2, 10), 1 + MOD(ROW(AL386)-2, 10))","v":5.1456040452861982E-3}]
[null,null,null,null,null,null,null,null,null,null,null,null,null,null,null,null,null,null,null,null,null,null,null,null,null,null,null,null,null,null,null,null,null,null,2018,"非住宅","木造",{"$f":"INDEX('係数表2-3'!$B:$K, 10 + QUOTIENT(ROW(AL387)-2, 10), 1 + MOD(ROW(AL387)-2, 10))","v":1.8741602914396319E-2}]
[null,null,null,null,null,null,null,null,null,null,null,null,null,null,null,null,null,null,null,null,null,null,null,null,null,null,null,null,null,null,null,null,null,null,2018,"非住宅","SRC造",{"$f":"INDEX('係数表2-3'!$B:$K, 10 + QUOTIENT(ROW(AL388)-2, 10), 1 + MOD(ROW(AL388)-2, 10))","v":7.3719686681547223E-4}]
[null,null,null,null,null,null,null,null,null,null,null,null,null,null,null,null,null,null,null,null,null,null,null,null,null,null,null,null,null,null,null,null,null,null,2018,"非住宅","RC造",{"$f":"INDEX('係数表2-3'!$B:$K, 10 + QUOTIENT(ROW(AL389)-2, 10), 1 + MOD(ROW(AL389)-2, 10))","v":1.1175390972441364E-3}]
[null,null,null,null,null,null,null,null,null,null,null,null,null,null,null,null,null,null,null,null,null,null,null,null,null,null,null,null,null,null,null,null,null,null,2018,"非住宅","S造",{"$f":"INDEX('係数表2-3'!$B:$K, 10 + QUOTIENT(ROW(AL390)-2, 10), 1 + MOD(ROW(AL390)-2, 10))","v":8.3237988203577E-4}]
[null,null,null,null,null,null,null,null,null,null,null,null,null,null,null,null,null,null,null,null,null,null,null,null,null,null,null,null,null,null,null,null,null,null,2018,"非住宅","その他",{"$f":"INDEX('係数表2-3'!$B:$K, 10 + QUOTIENT(ROW(AL391)-2, 10), 1 + MOD(ROW(AL391)-2, 10))","v":1.6314893739756858E-3}]
[null,null,null,null,null,null,null,null,null,null,null,null,null,null,null,null,null,null,null,null,null,null,null,null,null,null,null,null,null,null,null,null,null,null,2019,"住宅","木造",{"$f":"INDEX('係数表2-3'!$B:$K, 10 + QUOTIENT(ROW(AL392)-2, 10), 1 + MOD(ROW(AL392)-2, 10))","v":1.8065285302866857E-2}]
[null,null,null,null,null,null,null,null,null,null,null,null,null,null,null,null,null,null,null,null,null,null,null,null,null,null,null,null,null,null,null,null,null,null,2019,"住宅","SRC造",{"$f":"INDEX('係数表2-3'!$B:$K, 10 + QUOTIENT(ROW(AL393)-2, 10), 1 + MOD(ROW(AL393)-2, 10))","v":1.4752665934265276E-3}]
[null,null,null,null,null,null,null,null,null,null,null,null,null,null,null,null,null,null,null,null,null,null,null,null,null,null,null,null,null,null,null,null,null,null,2019,"住宅","RC造",{"$f":"INDEX('係数表2-3'!$B:$K, 10 + QUOTIENT(ROW(AL394)-2, 10), 1 + MOD(ROW(AL394)-2, 10))","v":1.9263417036617452E-3}]
[null,null,null,null,null,null,null,null,null,null,null,null,null,null,null,null,null,null,null,null,null,null,null,null,null,null,null,null,null,null,null,null,null,null,2019,"住宅","S造",{"$f":"INDEX('係数表2-3'!$B:$K, 10 + QUOTIENT(ROW(AL395)-2, 10), 1 + MOD(ROW(AL395)-2, 10))","v":2.6640375606856396E-3}]
[null,null,null,null,null,null,null,null,null,null,null,null,null,null,null,null,null,null,null,null,null,null,null,null,null,null,null,null,null,null,null,null,null,null,2019,"住宅","その他",{"$f":"INDEX('係数表2-3'!$B:$K, 10 + QUOTIENT(ROW(AL396)-2, 10), 1 + MOD(ROW(AL396)-2, 10))","v":4.8549961942161374E-3}]
[null,null,null,null,null,null,null,null,null,null,null,null,null,null,null,null,null,null,null,null,null,null,null,null,null,null,null,null,null,null,null,null,null,null,2019,"非住宅","木造",{"$f":"INDEX('係数表2-3'!$B:$K, 10 + QUOTIENT(ROW(AL397)-2, 10), 1 + MOD(ROW(AL397)-2, 10))","v":1.8765965246917652E-2}]
[null,null,null,null,null,null,null,null,null,null,null,null,null,null,null,null,null,null,null,null,null,null,null,null,null,null,null,null,null,null,null,null,null,null,2019,"非住宅","SRC造",{"$f":"INDEX('係数表2-3'!$B:$K, 10 + QUOTIENT(ROW(AL398)-2, 10), 1 + MOD(ROW(AL398)-2, 10))","v":7.016657231978128E-4}]
[null,null,null,null,null,null,null,null,null,null,null,null,null,null,null,null,null,null,null,null,null,null,null,null,null,null,null,null,null,null,null,null,null,null,2019,"非住宅","RC造",{"$f":"INDEX('係数表2-3'!$B:$K, 10 + QUOTIENT(ROW(AL399)-2, 10), 1 + MOD(ROW(AL399)-2, 10))","v":1.0608499891368534E-3}]
[null,null,null,null,null,null,null,null,null,null,null,null,null,null,null,null,null,null,null,null,null,null,null,null,null,null,null,null,null,null,null,null,null,null,2019,"非住宅","S造",{"$f":"INDEX('係数表2-3'!$B:$K, 10 + QUOTIENT(ROW(AL400)-2, 10), 1 + MOD(ROW(AL400)-2, 10))","v":7.9426799957890357E-4}]
[null,null,null,null,null,null,null,null,null,null,null,null,null,null,null,null,null,null,null,null,null,null,null,null,null,null,null,null,null,null,null,null,null,null,2019,"非住宅","その他",{"$f":"INDEX('係数表2-3'!$B:$K, 10 + QUOTIENT(ROW(AL401)-2, 10), 1 + MOD(ROW(AL401)-2, 10))","v":1.5593731297291493E-3}]
[null,null,null,null,null,null,null,null,null,null,null,null,null,null,null,null,null,null,null,null,null,null,null,null,null,null,null,null,null,null,null,null,null,null,2020,"住宅","木造",{"$f":"INDEX('係数表2-3'!$B:$K, 10 + QUOTIENT(ROW(AL402)-2, 10), 1 + MOD(ROW(AL402)-2, 10))","v":1.8377649817089645E-2}]
[null,null,null,null,null,null,null,null,null,null,null,null,null,null,null,null,null,null,null,null,null,null,null,null,null,null,null,null,null,null,null,null,null,null,2020,"住宅","SRC造",{"$f":"INDEX('係数表2-3'!$B:$K, 10 + QUOTIENT(ROW(AL403)-2, 10), 1 + MOD(ROW(AL403)-2, 10))","v":1.4882646295142038E-3}]
[null,null,null,null,null,null,null,null,null,null,null,null,null,null,null,null,null,null,null,null,null,null,null,null,null,null,null,null,null,null,null,null,null,null,2020,"住宅","RC造",{"$f":"INDEX('係数表2-3'!$B:$K, 10 + QUOTIENT(ROW(AL404)-2, 10), 1 + MOD(ROW(AL404)-2, 10))","v":1.9579360040443286E-3}]
[null,null,null,null,null,null,null,null,null,null,null,null,null,null,null,null,null,null,null,null,null,null,null,null,null,null,null,null,null,null,null,null,null,null,2020,"住宅","S造",{"$f":"INDEX('係数表2-3'!$B:$K, 10 + QUOTIENT(ROW(AL405)-2, 10), 1 + MOD(ROW(AL405)-2, 10))","v":2.7137641465187238E-3}]
[null,null,null,null,null,null,null,null,null,null,null,null,null,null,null,null,null,null,null,null,null,null,null,null,null,null,null,null,null,null,null,null,null,null,2020,"住宅","その他",{"$f":"INDEX('係数表2-3'!$B:$K, 10 + QUOTIENT(ROW(AL406)-2, 10), 1 + MOD(ROW(AL406)-2, 10))","v":4.9235815439780247E-3}]
[null,null,null,null,null,null,null,null,null,null,null,null,null,null,null,null,null,null,null,null,null,null,null,null,null,null,null,null,null,null,null,null,null,null,2020,"非住宅","木造",{"$f":"INDEX('係数表2-3'!$B:$K, 10 + QUOTIENT(ROW(AL407)-2, 10), 1 + MOD(ROW(AL407)-2, 10))","v":1.9156409981586135E-2}]
[null,null,null,null,null,null,null,null,null,null,null,null,null,null,null,null,null,null,null,null,null,null,null,null,null,null,null,null,null,null,null,null,null,null,2020,"非住宅","SRC造",{"$f":"INDEX('係数表2-3'!$B:$K, 10 + QUOTIENT(ROW(AL408)-2, 10), 1 + MOD(ROW(AL408)-2, 10))","v":6.964093626580202E-4}]
[null,null,null,null,null,null,null,null,null,null,null,null,null,null,null,null,null,null,null,null,null,null,null,null,null,null,null,null,null,null,null,null,null,null,2020,"非住宅","RC造",{"$f":"INDEX('係数表2-3'!$B:$K, 10 + QUOTIENT(ROW(AL409)-2, 10), 1 + MOD(ROW(AL409)-2, 10))","v":1.0684737703966526E-3}]
[null,null,null,null,null,null,null,null,null,null,null,null,null,null,null,null,null,null,null,null,null,null,null,null,null,null,null,null,null,null,null,null,null,null,2020,"非住宅","S造",{"$f":"INDEX('係数表2-3'!$B:$K, 10 + QUOTIENT(ROW(AL410)-2, 10), 1 + MOD(ROW(AL410)-2, 10))","v":7.916766128088636E-4}]
[null,null,null,null,null,null,null,null,null,null,null,null,null,null,null,null,null,null,null,null,null,null,null,null,null,null,null,null,null,null,null,null,null,null,2020,"非住宅","その他",{"$f":"INDEX('係数表2-3'!$B:$K, 10 + QUOTIENT(ROW(AL411)-2, 10), 1 + MOD(ROW(AL411)-2, 10))","v":1.5568206565618286E-3}]
[null,null,null,null,null,null,null,null,null,null,null,null,null,null,null,null,null,null,null,null,null,null,null,null,null,null,null,null,null,null,null,null,null,null,2021,"住宅","木造",{"$f":"INDEX('係数表2-3'!$B:$K, 10 + QUOTIENT(ROW(AL412)-2, 10), 1 + MOD(ROW(AL412)-2, 10))","v":1.7818340412843102E-2}]
[null,null,null,null,null,null,null,null,null,null,null,null,null,null,null,null,null,null,null,null,null,null,null,null,null,null,null,null,null,null,null,null,null,null,2021,"住宅","SRC造",{"$f":"INDEX('係数表2-3'!$B:$K, 10 + QUOTIENT(ROW(AL413)-2, 10), 1 + MOD(ROW(AL413)-2, 10))","v":1.4723316353299808E-3}]
[null,null,null,null,null,null,null,null,null,null,null,null,null,null,null,null,null,null,null,null,null,null,null,null,null,null,null,null,null,null,null,null,null,null,2021,"住宅","RC造",{"$f":"INDEX('係数表2-3'!$B:$K, 10 + QUOTIENT(ROW(AL414)-2, 10), 1 + MOD(ROW(AL414)-2, 10))","v":1.9412917372884279E-3}]
[null,null,null,null,null,null,null,null,null,null,null,null,null,null,null,null,null,null,null,null,null,null,null,null,null,null,null,null,null,null,null,null,null,null,2021,"住宅","S造",{"$f":"INDEX('係数表2-3'!$B:$K, 10 + QUOTIENT(ROW(AL415)-2, 10), 1 + MOD(ROW(AL415)-2, 10))","v":2.6828777401457981E-3}]
[null,null,null,null,null,null,null,null,null,null,null,null,null,null,null,null,null,null,null,null,null,null,null,null,null,null,null,null,null,null,null,null,null,null,2021,"住宅","その他",{"$f":"INDEX('係数表2-3'!$B:$K, 10 + QUOTIENT(ROW(AL416)-2, 10), 1 + MOD(ROW(AL416)-2, 10))","v":4.8492721756476708E-3}]
[null,null,null,null,null,null,null,null,null,null,null,null,null,null,null,null,null,null,null,null,null,null,null,null,null,null,null,null,null,null,null,null,null,null,2021,"非住宅","木造",{"$f":"INDEX('係数表2-3'!$B:$K, 10 + QUOTIENT(ROW(AL417)-2, 10), 1 + MOD(ROW(AL417)-2, 10))","v":1.8505107702461356E-2}]
[null,null,null,null,null,null,null,null,null,null,null,null,null,null,null,null,null,null,null,null,null,null,null,null,null,null,null,null,null,null,null,null,null,null,2021,"非住宅","SRC造",{"$f":"INDEX('係数表2-3'!$B:$K, 10 + QUOTIENT(ROW(AL418)-2, 10), 1 + MOD(ROW(AL418)-2, 10))","v":6.960148506555304E-4}]
[null,null,null,null,null,null,null,null,null,null,null,null,null,null,null,null,null,null,null,null,null,null,null,null,null,null,null,null,null,null,null,null,null,null,2021,"非住宅","RC造",{"$f":"INDEX('係数表2-3'!$B:$K, 10 + QUOTIENT(ROW(AL419)-2, 10), 1 + MOD(ROW(AL419)-2, 10))","v":1.0578570706108452E-3}]
[null,null,null,null,null,null,null,null,null,null,null,null,null,null,null,null,null,null,null,null,null,null,null,null,null,null,null,null,null,null,null,null,null,null,2021,"非住宅","S造",{"$f":"INDEX('係数表2-3'!$B:$K, 10 + QUOTIENT(ROW(AL420)-2, 10), 1 + MOD(ROW(AL420)-2, 10))","v":7.8536711834529334E-4}]
[null,null,null,null,null,null,null,null,null,null,null,null,null,null,null,null,null,null,null,null,null,null,null,null,null,null,null,null,null,null,null,null,null,null,2021,"非住宅","その他",{"$f":"INDEX('係数表2-3'!$B:$K, 10 + QUOTIENT(ROW(AL421)-2, 10), 1 + MOD(ROW(AL421)-2, 10))","v":1.5373170773869498E-3}]
[null,null,null,null,null,null,null,null,null,null,null,null,null,null,null,null,null,null,null,null,null,null,null,null,null,null,null,null,null,null,null,null,null,null,2022,"住宅","木造",{"$f":"INDEX('係数表2-3'!$B:$K, 10 + QUOTIENT(ROW(AL422)-2, 10), 1 + MOD(ROW(AL422)-2, 10))","v":1.7875866953353237E-2}]
[null,null,null,null,null,null,null,null,null,null,null,null,null,null,null,null,null,null,null,null,null,null,null,null,null,null,null,null,null,null,null,null,null,null,2022,"住宅","SRC造",{"$f":"INDEX('係数表2-3'!$B:$K, 10 + QUOTIENT(ROW(AL423)-2, 10), 1 + MOD(ROW(AL423)-2, 10))","v":1.4818465517751726E-3}]
[null,null,null,null,null,null,null,null,null,null,null,null,null,null,null,null,null,null,null,null,null,null,null,null,null,null,null,null,null,null,null,null,null,null,2022,"住宅","RC造",{"$f":"INDEX('係数表2-3'!$B:$K, 10 + QUOTIENT(ROW(AL424)-2, 10), 1 + MOD(ROW(AL424)-2, 10))","v":1.9216179610240642E-3}]
[null,null,null,null,null,null,null,null,null,null,null,null,null,null,null,null,null,null,null,null,null,null,null,null,null,null,null,null,null,null,null,null,null,null,2022,"住宅","S造",{"$f":"INDEX('係数表2-3'!$B:$K, 10 + QUOTIENT(ROW(AL425)-2, 10), 1 + MOD(ROW(AL425)-2, 10))","v":2.6651275457237476E-3}]
[null,null,null,null,null,null,null,null,null,null,null,null,null,null,null,null,null,null,null,null,null,null,null,null,null,null,null,null,null,null,null,null,null,null,2022,"住宅","その他",{"$f":"INDEX('係数表2-3'!$B:$K, 10 + QUOTIENT(ROW(AL426)-2, 10), 1 + MOD(ROW(AL426)-2, 10))","v":4.9021479059563455E-3}]
[null,null,null,null,null,null,null,null,null,null,null,null,null,null,null,null,null,null,null,null,null,null,null,null,null,null,null,null,null,null,null,null,null,null,2022,"非住宅","木造",{"$f":"INDEX('係数表2-3'!$B:$K, 10 + QUOTIENT(ROW(AL427)-2, 10), 1 + MOD(ROW(AL427)-2, 10))","v":1.8584439233311156E-2}]
[null,null,null,null,null,null,null,null,null,null,null,null,null,null,null,null,null,null,null,null,null,null,null,null,null,null,null,null,null,null,null,null,null,null,2022,"非住宅","SRC造",{"$f":"INDEX('係数表2-3'!$B:$K, 10 + QUOTIENT(ROW(AL428)-2, 10), 1 + MOD(ROW(AL428)-2, 10))","v":6.8883564797945747E-4}]
[null,null,null,null,null,null,null,null,null,null,null,null,null,null,null,null,null,null,null,null,null,null,null,null,null,null,null,null,null,null,null,null,null,null,2022,"非住宅","RC造",{"$f":"INDEX('係数表2-3'!$B:$K, 10 + QUOTIENT(ROW(AL429)-2, 10), 1 + MOD(ROW(AL429)-2, 10))","v":1.0636048092224871E-3}]
[null,null,null,null,null,null,null,null,null,null,null,null,null,null,null,null,null,null,null,null,null,null,null,null,null,null,null,null,null,null,null,null,null,null,2022,"非住宅","S造",{"$f":"INDEX('係数表2-3'!$B:$K, 10 + QUOTIENT(ROW(AL430)-2, 10), 1 + MOD(ROW(AL430)-2, 10))","v":7.8767149809088948E-4}]
[null,null,null,null,null,null,null,null,null,null,null,null,null,null,null,null,null,null,null,null,null,null,null,null,null,null,null,null,null,null,null,null,null,null,2022,"非住宅","その他",{"$f":"INDEX('係数表2-3'!$B:$K, 10 + QUOTIENT(ROW(AL431)-2, 10), 1 + MOD(ROW(AL431)-2, 10))","v":1.5682876676223964E-3}]
[null,null,null,null,null,null,null,null,null,null,null,null,null,null,null,null,null,null,null,null,null,null,null,null,null,null,null,null,null,null,null,null,null,null,2023,"住宅","木造",{"$f":"INDEX('係数表2-3'!$B:$K, 10 + QUOTIENT(ROW(AL432)-2, 10), 1 + MOD(ROW(AL432)-2, 10))","v":1.7561038819701991E-2}]
[null,null,null,null,null,null,null,null,null,null,null,null,null,null,null,null,null,null,null,null,null,null,null,null,null,null,null,null,null,null,null,null,null,null,2023,"住宅","SRC造",{"$f":"INDEX('係数表2-3'!$B:$K, 10 + QUOTIENT(ROW(AL433)-2, 10), 1 + MOD(ROW(AL433)-2, 10))","v":1.4699720377544458E-3}]
[null,null,null,null,null,null,null,null,null,null,null,null,null,null,null,null,null,null,null,null,null,null,null,null,null,null,null,null,null,null,null,null,null,null,2023,"住宅","RC造",{"$f":"INDEX('係数表2-3'!$B:$K, 10 + QUOTIENT(ROW(AL434)-2, 10), 1 + MOD(ROW(AL434)-2, 10))","v":1.8866802463434773E-3}]
[null,null,null,null,null,null,null,null,null,null,null,null,null,null,null,null,null,null,null,null,null,null,null,null,null,null,null,null,null,null,null,null,null,null,2023,"住宅","S造",{"$f":"INDEX('係数表2-3'!$B:$K, 10 + QUOTIENT(ROW(AL435)-2, 10), 1 + MOD(ROW(AL435)-2, 10))","v":2.615814860758083E-3}]
[null,null,null,null,null,null,null,null,null,null,null,null,null,null,null,null,null,null,null,null,null,null,null,null,null,null,null,null,null,null,null,null,null,null,2023,"住宅","その他",{"$f":"INDEX('係数表2-3'!$B:$K, 10 + QUOTIENT(ROW(AL436)-2, 10), 1 + MOD(ROW(AL436)-2, 10))","v":4.8392326744261119E-3}]
[null,null,null,null,null,null,null,null,null,null,null,null,null,null,null,null,null,null,null,null,null,null,null,null,null,null,null,null,null,null,null,null,null,null,2023,"非住宅","木造",{"$f":"INDEX('係数表2-3'!$B:$K, 10 + QUOTIENT(ROW(AL437)-2, 10), 1 + MOD(ROW(AL437)-2, 10))","v":1.8231653589965792E-2}]
[null,null,null,null,null,null,null,null,null,null,null,null,null,null,null,null,null,null,null,null,null,null,null,null,null,null,null,null,null,null,null,null,null,null,2023,"非住宅","SRC造",{"$f":"INDEX('係数表2-3'!$B:$K, 10 + QUOTIENT(ROW(AL438)-2, 10), 1 + MOD(ROW(AL438)-2, 10))","v":6.8337926638201618E-4}]
[null,null,null,null,null,null,null,null,null,null,null,null,null,null,null,null,null,null,null,null,null,null,null,null,null,null,null,null,null,null,null,null,null,null,2023,"非住宅","RC造",{"$f":"INDEX('係数表2-3'!$B:$K, 10 + QUOTIENT(ROW(AL439)-2, 10), 1 + MOD(ROW(AL439)-2, 10))","v":1.0588668444904345E-3}]
[null,null,null,null,null,null,null,null,null,null,null,null,null,null,null,null,null,null,null,null,null,null,null,null,null,null,null,null,null,null,null,null,null,null,2023,"非住宅","S造",{"$f":"INDEX('係数表2-3'!$B:$K, 10 + QUOTIENT(ROW(AL440)-2, 10), 1 + MOD(ROW(AL440)-2, 10))","v":7.8562559377432731E-4}]
[null,null,null,null,null,null,null,null,null,null,null,null,null,null,null,null,null,null,null,null,null,null,null,null,null,null,null,null,null,null,null,null,null,null,2023,"非住宅","その他",{"$f":"INDEX('係数表2-3'!$B:$K, 10 + QUOTIENT(ROW(AL441)-2, 10), 1 + MOD(ROW(AL441)-2, 10))","v":1.5643893378083943E-3}]
[null,null,null,null,null,null,null,null,null,null,null,null,null,null,null,null,null,null,null,null,null,null,null,null,null,null,null,null,null,null,null,null,null,null,2024,"住宅","木造",{"$f":"INDEX('係数表2-3'!$B:$K, 10 + QUOTIENT(ROW(AL442)-2, 10), 1 + MOD(ROW(AL442)-2, 10))","v":0}]
[null,null,null,null,null,null,null,null,null,null,null,null,null,null,null,null,null,null,null,null,null,null,null,null,null,null,null,null,null,null,null,null,null,null,2024,"住宅","SRC造",{"$f":"INDEX('係数表2-3'!$B:$K, 10 + QUOTIENT(ROW(AL443)-2, 10), 1 + MOD(ROW(AL443)-2, 10))","v":0}]
[null,null,null,null,null,null,null,null,null,null,null,null,null,null,null,null,null,null,null,null,null,null,null,null,null,null,null,null,null,null,null,null,null,null,2024,"住宅","RC造",{"$f":"INDEX('係数表2-3'!$B:$K, 10 + QUOTIENT(ROW(AL444)-2, 10), 1 + MOD(ROW(AL444)-2, 10))","v":0}]
[null,null,null,null,null,null,null,null,null,null,null,null,null,null,null,null,null,null,null,null,null,null,null,null,null,null,null,null,null,null,null,null,null,null,2024,"住宅","S造",{"$f":"INDEX('係数表2-3'!$B:$K, 10 + QUOTIENT(ROW(AL445)-2, 10), 1 + MOD(ROW(AL445)-2, 10))","v":0}]
[null,null,null,null,null,null,null,null,null,null,null,null,null,null,null,null,null,null,null,null,null,null,null,null,null,null,null,null,null,null,null,null,null,null,2024,"住宅","その他",{"$f":"INDEX('係数表2-3'!$B:$K, 10 + QUOTIENT(ROW(AL446)-2, 10), 1 + MOD(ROW(AL446)-2, 10))","v":0}]
[null,null,null,null,null,null,null,null,null,null,null,null,null,null,null,null,null,null,null,null,null,null,null,null,null,null,null,null,null,null,null,null,null,null,2024,"非住宅","木造",{"$f":"INDEX('係数表2-3'!$B:$K, 10 + QUOTIENT(ROW(AL447)-2, 10), 1 + MOD(ROW(AL447)-2, 10))","v":0}]
[null,null,null,null,null,null,null,null,null,null,null,null,null,null,null,null,null,null,null,null,null,null,null,null,null,null,null,null,null,null,null,null,null,null,2024,"非住宅","SRC造",{"$f":"INDEX('係数表2-3'!$B:$K, 10 + QUOTIENT(ROW(AL448)-2, 10), 1 + MOD(ROW(AL448)-2, 10))","v":0}]
[null,null,null,null,null,null,null,null,null,null,null,null,null,null,null,null,null,null,null,null,null,null,null,null,null,null,null,null,null,null,null,null,null,null,2024,"非住宅","RC造",{"$f":"INDEX('係数表2-3'!$B:$K, 10 + QUOTIENT(ROW(AL449)-2, 10), 1 + MOD(ROW(AL449)-2, 10))","v":0}]
[null,null,null,null,null,null,null,null,null,null,null,null,null,null,null,null,null,null,null,null,null,null,null,null,null,null,null,null,null,null,null,null,null,null,2024,"非住宅","S造",{"$f":"INDEX('係数表2-3'!$B:$K, 10 + QUOTIENT(ROW(AL450)-2, 10), 1 + MOD(ROW(AL450)-2, 10))","v":0}]
[null,null,null,null,null,null,null,null,null,null,null,null,null,null,null,null,null,null,null,null,null,null,null,null,null,null,null,null,null,null,null,null,null,null,2024,"非住宅","その他",{"$f":"INDEX('係数表2-3'!$B:$K, 10 + QUOTIENT(ROW(AL451)-2, 10), 1 + MOD(ROW(AL451)-2, 10))","v":0}]
[null,null,null,null,null,null,null,null,null,null,null,null,null,null,null,null,null,null,null,null,null,null,null,null,null,null,null,null,null,null,null,null,null,null,2025,"住宅","木造",{"$f":"INDEX('係数表2-3'!$B:$K, 10 + QUOTIENT(ROW(AL452)-2, 10), 1 + MOD(ROW(AL452)-2, 10))","v":0}]
[null,null,null,null,null,null,null,null,null,null,null,null,null,null,null,null,null,null,null,null,null,null,null,null,null,null,null,null,null,null,null,null,null,null,2025,"住宅","SRC造",{"$f":"INDEX('係数表2-3'!$B:$K, 10 + QUOTIENT(ROW(AL453)-2, 10), 1 + MOD(ROW(AL453)-2, 10))","v":0}]
[null,null,null,null,null,null,null,null,null,null,null,null,null,null,null,null,null,null,null,null,null,null,null,null,null,null,null,null,null,null,null,null,null,null,2025,"住宅","RC造",{"$f":"INDEX('係数表2-3'!$B:$K, 10 + QUOTIENT(ROW(AL454)-2, 10), 1 + MOD(ROW(AL454)-2, 10))","v":0}]
[null,null,null,null,null,null,null,null,null,null,null,null,null,null,null,null,null,null,null,null,null,null,null,null,null,null,null,null,null,null,null,null,null,null,2025,"住宅","S造",{"$f":"INDEX('係数表2-3'!$B:$K, 10 + QUOTIENT(ROW(AL455)-2, 10), 1 + MOD(ROW(AL455)-2, 10))","v":0}]
[null,null,null,null,null,null,null,null,null,null,null,null,null,null,null,null,null,null,null,null,null,null,null,null,null,null,null,null,null,null,null,null,null,null,2025,"住宅","その他",{"$f":"INDEX('係数表2-3'!$B:$K, 10 + QUOTIENT(ROW(AL456)-2, 10), 1 + MOD(ROW(AL456)-2, 10))","v":0}]
[null,null,null,null,null,null,null,null,null,null,null,null,null,null,null,null,null,null,null,null,null,null,null,null,null,null,null,null,null,null,null,null,null,null,2025,"非住宅","木造",{"$f":"INDEX('係数表2-3'!$B:$K, 10 + QUOTIENT(ROW(AL457)-2, 10), 1 + MOD(ROW(AL457)-2, 10))","v":0}]
[null,null,null,null,null,null,null,null,null,null,null,null,null,null,null,null,null,null,null,null,null,null,null,null,null,null,null,null,null,null,null,null,null,null,2025,"非住宅","SRC造",{"$f":"INDEX('係数表2-3'!$B:$K, 10 + QUOTIENT(ROW(AL458)-2, 10), 1 + MOD(ROW(AL458)-2, 10))","v":0}]
[null,null,null,null,null,null,null,null,null,null,null,null,null,null,null,null,null,null,null,null,null,null,null,null,null,null,null,null,null,null,null,null,null,null,2025,"非住宅","RC造",{"$f":"INDEX('係数表2-3'!$B:$K, 10 + QUOTIENT(ROW(AL459)-2, 10), 1 + MOD(ROW(AL459)-2, 10))","v":0}]
[null,null,null,null,null,null,null,null,null,null,null,null,null,null,null,null,null,null,null,null,null,null,null,null,null,null,null,null,null,null,null,null,null,null,2025,"非住宅","S造",{"$f":"INDEX('係数表2-3'!$B:$K, 10 + QUOTIENT(ROW(AL460)-2, 10), 1 + MOD(ROW(AL460)-2, 10))","v":0}]
[null,null,null,null,null,null,null,null,null,null,null,null,null,null,null,null,null,null,null,null,null,null,null,null,null,null,null,null,null,null,null,null,null,null,2025,"非住宅","その他",{"$f":"INDEX('係数表2-3'!$B:$K, 10 + QUOTIENT(ROW(AL461)-2, 10), 1 + MOD(ROW(AL461)-2, 10))","v":0}]
[null,null,null,null,null,null,null,null,null,null,null,null,null,null,null,null,null,null,null,null,null,null,null,null,null,null,null,null,null,null,null,null,null,null,2026,"住宅","木造",{"$f":"INDEX('係数表2-3'!$B:$K, 10 + QUOTIENT(ROW(AL462)-2, 10), 1 + MOD(ROW(AL462)-2, 10))","v":0}]
[null,null,null,null,null,null,null,null,null,null,null,null,null,null,null,null,null,null,null,null,null,null,null,null,null,null,null,null,null,null,null,null,null,null,2026,"住宅","SRC造",{"$f":"INDEX('係数表2-3'!$B:$K, 10 + QUOTIENT(ROW(AL463)-2, 10), 1 + MOD(ROW(AL463)-2, 10))","v":0}]
[null,null,null,null,null,null,null,null,null,null,null,null,null,null,null,null,null,null,null,null,null,null,null,null,null,null,null,null,null,null,null,null,null,null,2026,"住宅","RC造",{"$f":"INDEX('係数表2-3'!$B:$K, 10 + QUOTIENT(ROW(AL464)-2, 10), 1 + MOD(ROW(AL464)-2, 10))","v":0}]
[null,null,null,null,null,null,null,null,null,null,null,null,null,null,null,null,null,null,null,null,null,null,null,null,null,null,null,null,null,null,null,null,null,null,2026,"住宅","S造",{"$f":"INDEX('係数表2-3'!$B:$K, 10 + QUOTIENT(ROW(AL465)-2, 10), 1 + MOD(ROW(AL465)-2, 10))","v":0}]
[null,null,null,null,null,null,null,null,null,null,null,null,null,null,null,null,null,null,null,null,null,null,null,null,null,null,null,null,null,null,null,null,null,null,2026,"住宅","その他",{"$f":"INDEX('係数表2-3'!$B:$K, 10 + QUOTIENT(ROW(AL466)-2, 10), 1 + MOD(ROW(AL466)-2, 10))","v":0}]
[null,null,null,null,null,null,null,null,null,null,null,null,null,null,null,null,null,null,null,null,null,null,null,null,null,null,null,null,null,null,null,null,null,null,2026,"非住宅","木造",{"$f":"INDEX('係数表2-3'!$B:$K, 10 + QUOTIENT(ROW(AL467)-2, 10), 1 + MOD(ROW(AL467)-2, 10))","v":0}]
[null,null,null,null,null,null,null,null,null,null,null,null,null,null,null,null,null,null,null,null,null,null,null,null,null,null,null,null,null,null,null,null,null,null,2026,"非住宅","SRC造",{"$f":"INDEX('係数表2-3'!$B:$K, 10 + QUOTIENT(ROW(AL468)-2, 10), 1 + MOD(ROW(AL468)-2, 10))","v":0}]
[null,null,null,null,null,null,null,null,null,null,null,null,null,null,null,null,null,null,null,null,null,null,null,null,null,null,null,null,null,null,null,null,null,null,2026,"非住宅","RC造",{"$f":"INDEX('係数表2-3'!$B:$K, 10 + QUOTIENT(ROW(AL469)-2, 10), 1 + MOD(ROW(AL469)-2, 10))","v":0}]
[null,null,null,null,null,null,null,null,null,null,null,null,null,null,null,null,null,null,null,null,null,null,null,null,null,null,null,null,null,null,null,null,null,null,2026,"非住宅","S造",{"$f":"INDEX('係数表2-3'!$B:$K, 10 + QUOTIENT(ROW(AL470)-2, 10), 1 + MOD(ROW(AL470)-2, 10))","v":0}]
[null,null,null,null,null,null,null,null,null,null,null,null,null,null,null,null,null,null,null,null,null,null,null,null,null,null,null,null,null,null,null,null,null,null,2026,"非住宅","その他",{"$f":"INDEX('係数表2-3'!$B:$K, 10 + QUOTIENT(ROW(AL471)-2, 10), 1 + MOD(ROW(AL471)-2, 10))","v":0}]
[null,null,null,null,null,null,null,null,null,null,null,null,null,null,null,null,null,null,null,null,null,null,null,null,null,null,null,null,null,null,null,null,null,null,2027,"住宅","木造",{"$f":"INDEX('係数表2-3'!$B:$K, 10 + QUOTIENT(ROW(AL472)-2, 10), 1 + MOD(ROW(AL472)-2, 10))","v":0}]
[null,null,null,null,null,null,null,null,null,null,null,null,null,null,null,null,null,null,null,null,null,null,null,null,null,null,null,null,null,null,null,null,null,null,2027,"住宅","SRC造",{"$f":"INDEX('係数表2-3'!$B:$K, 10 + QUOTIENT(ROW(AL473)-2, 10), 1 + MOD(ROW(AL473)-2, 10))","v":0}]
[null,null,null,null,null,null,null,null,null,null,null,null,null,null,null,null,null,null,null,null,null,null,null,null,null,null,null,null,null,null,null,null,null,null,2027,"住宅","RC造",{"$f":"INDEX('係数表2-3'!$B:$K, 10 + QUOTIENT(ROW(AL474)-2, 10), 1 + MOD(ROW(AL474)-2, 10))","v":0}]
[null,null,null,null,null,null,null,null,null,null,null,null,null,null,null,null,null,null,null,null,null,null,null,null,null,null,null,null,null,null,null,null,null,null,2027,"住宅","S造",{"$f":"INDEX('係数表2-3'!$B:$K, 10 + QUOTIENT(ROW(AL475)-2, 10), 1 + MOD(ROW(AL475)-2, 10))","v":0}]
[null,null,null,null,null,null,null,null,null,null,null,null,null,null,null,null,null,null,null,null,null,null,null,null,null,null,null,null,null,null,null,null,null,null,2027,"住宅","その他",{"$f":"INDEX('係数表2-3'!$B:$K, 10 + QUOTIENT(ROW(AL476)-2, 10), 1 + MOD(ROW(AL476)-2, 10))","v":0}]
[null,null,null,null,null,null,null,null,null,null,null,null,null,null,null,null,null,null,null,null,null,null,null,null,null,null,null,null,null,null,null,null,null,null,2027,"非住宅","木造",{"$f":"INDEX('係数表2-3'!$B:$K, 10 + QUOTIENT(ROW(AL477)-2, 10), 1 + MOD(ROW(AL477)-2, 10))","v":0}]
[null,null,null,null,null,null,null,null,null,null,null,null,null,null,null,null,null,null,null,null,null,null,null,null,null,null,null,null,null,null,null,null,null,null,2027,"非住宅","SRC造",{"$f":"INDEX('係数表2-3'!$B:$K, 10 + QUOTIENT(ROW(AL478)-2, 10), 1 + MOD(ROW(AL478)-2, 10))","v":0}]
[null,null,null,null,null,null,null,null,null,null,null,null,null,null,null,null,null,null,null,null,null,null,null,null,null,null,null,null,null,null,null,null,null,null,2027,"非住宅","RC造",{"$f":"INDEX('係数表2-3'!$B:$K, 10 + QUOTIENT(ROW(AL479)-2, 10), 1 + MOD(ROW(AL479)-2, 10))","v":0}]
[null,null,null,null,null,null,null,null,null,null,null,null,null,null,null,null,null,null,null,null,null,null,null,null,null,null,null,null,null,null,null,null,null,null,2027,"非住宅","S造",{"$f":"INDEX('係数表2-3'!$B:$K, 10 + QUOTIENT(ROW(AL480)-2, 10), 1 + MOD(ROW(AL480)-2, 10))","v":0}]
[null,null,null,null,null,null,null,null,null,null,null,null,null,null,null,null,null,null,null,null,null,null,null,null,null,null,null,null,null,null,null,null,null,null,2027,"非住宅","その他",{"$f":"INDEX('係数表2-3'!$B:$K, 10 + QUOTIENT(ROW(AL481)-2, 10), 1 + MOD(ROW(AL481)-2, 10))","v":0}]
[null,null,null,null,null,null,null,null,null,null,null,null,null,null,null,null,null,null,null,null,null,null,null,null,null,null,null,null,null,null,null,null,null,null,2028,"住宅","木造",{"$f":"INDEX('係数表2-3'!$B:$K, 10 + QUOTIENT(ROW(AL482)-2, 10), 1 + MOD(ROW(AL482)-2, 10))","v":0}]
[null,null,null,null,null,null,null,null,null,null,null,null,null,null,null,null,null,null,null,null,null,null,null,null,null,null,null,null,null,null,null,null,null,null,2028,"住宅","SRC造",{"$f":"INDEX('係数表2-3'!$B:$K, 10 + QUOTIENT(ROW(AL483)-2, 10), 1 + MOD(ROW(AL483)-2, 10))","v":0}]
[null,null,null,null,null,null,null,null,null,null,null,null,null,null,null,null,null,null,null,null,null,null,null,null,null,null,null,null,null,null,null,null,null,null,2028,"住宅","RC造",{"$f":"INDEX('係数表2-3'!$B:$K, 10 + QUOTIENT(ROW(AL484)-2, 10), 1 + MOD(ROW(AL484)-2, 10))","v":0}]
[null,null,null,null,null,null,null,null,null,null,null,null,null,null,null,null,null,null,null,null,null,null,null,null,null,null,null,null,null,null,null,null,null,null,2028,"住宅","S造",{"$f":"INDEX('係数表2-3'!$B:$K, 10 + QUOTIENT(ROW(AL485)-2, 10), 1 + MOD(ROW(AL485)-2, 10))","v":0}]
[null,null,null,null,null,null,null,null,null,null,null,null,null,null,null,null,null,null,null,null,null,null,null,null,null,null,null,null,null,null,null,null,null,null,2028,"住宅","その他",{"$f":"INDEX('係数表2-3'!$B:$K, 10 + QUOTIENT(ROW(AL486)-2, 10), 1 + MOD(ROW(AL486)-2, 10))","v":0}]
[null,null,null,null,null,null,null,null,null,null,null,null,null,null,null,null,null,null,null,null,null,null,null,null,null,null,null,null,null,null,null,null,null,null,2028,"非住宅","木造",{"$f":"INDEX('係数表2-3'!$B:$K, 10 + QUOTIENT(ROW(AL487)-2, 10), 1 + MOD(ROW(AL487)-2, 10))","v":0}]
[null,null,null,null,null,null,null,null,null,null,null,null,null,null,null,null,null,null,null,null,null,null,null,null,null,null,null,null,null,null,null,null,null,null,2028,"非住宅","SRC造",{"$f":"INDEX('係数表2-3'!$B:$K, 10 + QUOTIENT(ROW(AL488)-2, 10), 1 + MOD(ROW(AL488)-2, 10))","v":0}]
[null,null,null,null,null,null,null,null,null,null,null,null,null,null,null,null,null,null,null,null,null,null,null,null,null,null,null,null,null,null,null,null,null,null,2028,"非住宅","RC造",{"$f":"INDEX('係数表2-3'!$B:$K, 10 + QUOTIENT(ROW(AL489)-2, 10), 1 + MOD(ROW(AL489)-2, 10))","v":0}]
[null,null,null,null,null,null,null,null,null,null,null,null,null,null,null,null,null,null,null,null,null,null,null,null,null,null,null,null,null,null,null,null,null,null,2028,"非住宅","S造",{"$f":"INDEX('係数表2-3'!$B:$K, 10 + QUOTIENT(ROW(AL490)-2, 10), 1 + MOD(ROW(AL490)-2, 10))","v":0}]
[null,null,null,null,null,null,null,null,null,null,null,null,null,null,null,null,null,null,null,null,null,null,null,null,null,null,null,null,null,null,null,null,null,null,2028,"非住宅","その他",{"$f":"INDEX('係数表2-3'!$B:$K, 10 + QUOTIENT(ROW(AL491)-2, 10), 1 + MOD(ROW(AL491)-2, 10))","v":0}]
[null,null,null,null,null,null,null,null,null,null,null,null,null,null,null,null,null,null,null,null,null,null,null,null,null,null,null,null,null,null,null,null,null,null,2029,"住宅","木造",{"$f":"INDEX('係数表2-3'!$B:$K, 10 + QUOTIENT(ROW(AL492)-2, 10), 1 + MOD(ROW(AL492)-2, 10))","v":0}]
[null,null,null,null,null,null,null,null,null,null,null,null,null,null,null,null,null,null,null,null,null,null,null,null,null,null,null,null,null,null,null,null,null,null,2029,"住宅","SRC造",{"$f":"INDEX('係数表2-3'!$B:$K, 10 + QUOTIENT(ROW(AL493)-2, 10), 1 + MOD(ROW(AL493)-2, 10))","v":0}]
[null,null,null,null,null,null,null,null,null,null,null,null,null,null,null,null,null,null,null,null,null,null,null,null,null,null,null,null,null,null,null,null,null,null,2029,"住宅","RC造",{"$f":"INDEX('係数表2-3'!$B:$K, 10 + QUOTIENT(ROW(AL494)-2, 10), 1 + MOD(ROW(AL494)-2, 10))","v":0}]
[null,null,null,null,null,null,null,null,null,null,null,null,null,null,null,null,null,null,null,null,null,null,null,null,null,null,null,null,null,null,null,null,null,null,2029,"住宅","S造",{"$f":"INDEX('係数表2-3'!$B:$K, 10 + QUOTIENT(ROW(AL495)-2, 10), 1 + MOD(ROW(AL495)-2, 10))","v":0}]
[null,null,null,null,null,null,null,null,null,null,null,null,null,null,null,null,null,null,null,null,null,null,null,null,null,null,null,null,null,null,null,null,null,null,2029,"住宅","その他",{"$f":"INDEX('係数表2-3'!$B:$K, 10 + QUOTIENT(ROW(AL496)-2, 10), 1 + MOD(ROW(AL496)-2, 10))","v":0}]
[null,null,null,null,null,null,null,null,null,null,null,null,null,null,null,null,null,null,null,null,null,null,null,null,null,null,null,null,null,null,null,null,null,null,2029,"非住宅","木造",{"$f":"INDEX('係数表2-3'!$B:$K, 10 + QUOTIENT(ROW(AL497)-2, 10), 1 + MOD(ROW(AL497)-2, 10))","v":0}]
[null,null,null,null,null,null,null,null,null,null,null,null,null,null,null,null,null,null,null,null,null,null,null,null,null,null,null,null,null,null,null,null,null,null,2029,"非住宅","SRC造",{"$f":"INDEX('係数表2-3'!$B:$K, 10 + QUOTIENT(ROW(AL498)-2, 10), 1 + MOD(ROW(AL498)-2, 10))","v":0}]
[null,null,null,null,null,null,null,null,null,null,null,null,null,null,null,null,null,null,null,null,null,null,null,null,null,null,null,null,null,null,null,null,null,null,2029,"非住宅","RC造",{"$f":"INDEX('係数表2-3'!$B:$K, 10 + QUOTIENT(ROW(AL499)-2, 10), 1 + MOD(ROW(AL499)-2, 10))","v":0}]
[null,null,null,null,null,null,null,null,null,null,null,null,null,null,null,null,null,null,null,null,null,null,null,null,null,null,null,null,null,null,null,null,null,null,2029,"非住宅","S造",{"$f":"INDEX('係数表2-3'!$B:$K, 10 + QUOTIENT(ROW(AL500)-2, 10), 1 + MOD(ROW(AL500)-2, 10))","v":0}]
[null,null,null,null,null,null,null,null,null,null,null,null,null,null,null,null,null,null,null,null,null,null,null,null,null,null,null,null,null,null,null,null,null,null,2029,"非住宅","その他",{"$f":"INDEX('係数表2-3'!$B:$K, 10 + QUOTIENT(ROW(AL501)-2, 10), 1 + MOD(ROW(AL501)-2, 10))","v":0}]
[null,null,null,null,null,null,null,null,null,null,null,null,null,null,null,null,null,null,null,null,null,null,null,null,null,null,null,null,null,null,null,null,null,null,2030,"住宅","木造",{"$f":"INDEX('係数表2-3'!$B:$K, 10 + QUOTIENT(ROW(AL502)-2, 10), 1 + MOD(ROW(AL502)-2, 10))","v":0}]
[null,null,null,null,null,null,null,null,null,null,null,null,null,null,null,null,null,null,null,null,null,null,null,null,null,null,null,null,null,null,null,null,null,null,2030,"住宅","SRC造",{"$f":"INDEX('係数表2-3'!$B:$K, 10 + QUOTIENT(ROW(AL503)-2, 10), 1 + MOD(ROW(AL503)-2, 10))","v":0}]
[null,null,null,null,null,null,null,null,null,null,null,null,null,null,null,null,null,null,null,null,null,null,null,null,null,null,null,null,null,null,null,null,null,null,2030,"住宅","RC造",{"$f":"INDEX('係数表2-3'!$B:$K, 10 + QUOTIENT(ROW(AL504)-2, 10), 1 + MOD(ROW(AL504)-2, 10))","v":0}]
[null,null,null,null,null,null,null,null,null,null,null,null,null,null,null,null,null,null,null,null,null,null,null,null,null,null,null,null,null,null,null,null,null,null,2030,"住宅","S造",{"$f":"INDEX('係数表2-3'!$B:$K, 10 + QUOTIENT(ROW(AL505)-2, 10), 1 + MOD(ROW(AL505)-2, 10))","v":0}]
[null,null,null,null,null,null,null,null,null,null,null,null,null,null,null,null,null,null,null,null,null,null,null,null,null,null,null,null,null,null,null,null,null,null,2030,"住宅","その他",{"$f":"INDEX('係数表2-3'!$B:$K, 10 + QUOTIENT(ROW(AL506)-2, 10), 1 + MOD(ROW(AL506)-2, 10))","v":0}]
[null,null,null,null,null,null,null,null,null,null,null,null,null,null,null,null,null,null,null,null,null,null,null,null,null,null,null,null,null,null,null,null,null,null,2030,"非住宅","木造",{"$f":"INDEX('係数表2-3'!$B:$K, 10 + QUOTIENT(ROW(AL507)-2, 10), 1 + MOD(ROW(AL507)-2, 10))","v":0}]
[null,null,null,null,null,null,null,null,null,null,null,null,null,null,null,null,null,null,null,null,null,null,null,null,null,null,null,null,null,null,null,null,null,null,2030,"非住宅","SRC造",{"$f":"INDEX('係数表2-3'!$B:$K, 10 + QUOTIENT(ROW(AL508)-2, 10), 1 + MOD(ROW(AL508)-2, 10))","v":0}]
[null,null,null,null,null,null,null,null,null,null,null,null,null,null,null,null,null,null,null,null,null,null,null,null,null,null,null,null,null,null,null,null,null,null,2030,"非住宅","RC造",{"$f":"INDEX('係数表2-3'!$B:$K, 10 + QUOTIENT(ROW(AL509)-2, 10), 1 + MOD(ROW(AL509)-2, 10))","v":0}]
[null,null,null,null,null,null,null,null,null,null,null,null,null,null,null,null,null,null,null,null,null,null,null,null,null,null,null,null,null,null,null,null,null,null,2030,"非住宅","S造",{"$f":"INDEX('係数表2-3'!$B:$K, 10 + QUOTIENT(ROW(AL510)-2, 10), 1 + MOD(ROW(AL510)-2, 10))","v":0}]
[null,null,null,null,null,null,null,null,null,null,null,null,null,null,null,null,null,null,null,null,null,null,null,null,null,null,null,null,null,null,null,null,null,null,2030,"非住宅","その他",{"$f":"INDEX('係数表2-3'!$B:$K, 10 + QUOTIENT(ROW(AL511)-2, 10), 1 + MOD(ROW(AL511)-2, 10))","v":0}]
[null,null,null,null,null,null,null,null,null,null,null,null,null,null,null,null,null,null,null,null,null,null,null,null,null,null,null,null,null,null,null,null,null,null,2031,"住宅","木造",{"$f":"INDEX('係数表2-3'!$B:$K, 10 + QUOTIENT(ROW(AL512)-2, 10), 1 + MOD(ROW(AL512)-2, 10))","v":0}]
[null,null,null,null,null,null,null,null,null,null,null,null,null,null,null,null,null,null,null,null,null,null,null,null,null,null,null,null,null,null,null,null,null,null,2031,"住宅","SRC造",{"$f":"INDEX('係数表2-3'!$B:$K, 10 + QUOTIENT(ROW(AL513)-2, 10), 1 + MOD(ROW(AL513)-2, 10))","v":0}]
[null,null,null,null,null,null,null,null,null,null,null,null,null,null,null,null,null,null,null,null,null,null,null,null,null,null,null,null,null,null,null,null,null,null,2031,"住宅","RC造",{"$f":"INDEX('係数表2-3'!$B:$K, 10 + QUOTIENT(ROW(AL514)-2, 10), 1 + MOD(ROW(AL514)-2, 10))","v":0}]
[null,null,null,null,null,null,null,null,null,null,null,null,null,null,null,null,null,null,null,null,null,null,null,null,null,null,null,null,null,null,null,null,null,null,2031,"住宅","S造",{"$f":"INDEX('係数表2-3'!$B:$K, 10 + QUOTIENT(ROW(AL515)-2, 10), 1 + MOD(ROW(AL515)-2, 10))","v":0}]
[null,null,null,null,null,null,null,null,null,null,null,null,null,null,null,null,null,null,null,null,null,null,null,null,null,null,null,null,null,null,null,null,null,null,2031,"住宅","その他",{"$f":"INDEX('係数表2-3'!$B:$K, 10 + QUOTIENT(ROW(AL516)-2, 10), 1 + MOD(ROW(AL516)-2, 10))","v":0}]
[null,null,null,null,null,null,null,null,null,null,null,null,null,null,null,null,null,null,null,null,null,null,null,null,null,null,null,null,null,null,null,null,null,null,2031,"非住宅","木造",{"$f":"INDEX('係数表2-3'!$B:$K, 10 + QUOTIENT(ROW(AL517)-2, 10), 1 + MOD(ROW(AL517)-2, 10))","v":0}]
[null,null,null,null,null,null,null,null,null,null,null,null,null,null,null,null,null,null,null,null,null,null,null,null,null,null,null,null,null,null,null,null,null,null,2031,"非住宅","SRC造",{"$f":"INDEX('係数表2-3'!$B:$K, 10 + QUOTIENT(ROW(AL518)-2, 10), 1 + MOD(ROW(AL518)-2, 10))","v":0}]
[null,null,null,null,null,null,null,null,null,null,null,null,null,null,null,null,null,null,null,null,null,null,null,null,null,null,null,null,null,null,null,null,null,null,2031,"非住宅","RC造",{"$f":"INDEX('係数表2-3'!$B:$K, 10 + QUOTIENT(ROW(AL519)-2, 10), 1 + MOD(ROW(AL519)-2, 10))","v":0}]
[null,null,null,null,null,null,null,null,null,null,null,null,null,null,null,null,null,null,null,null,null,null,null,null,null,null,null,null,null,null,null,null,null,null,2031,"非住宅","S造",{"$f":"INDEX('係数表2-3'!$B:$K, 10 + QUOTIENT(ROW(AL520)-2, 10), 1 + MOD(ROW(AL520)-2, 10))","v":0}]
[null,null,null,null,null,null,null,null,null,null,null,null,null,null,null,null,null,null,null,null,null,null,null,null,null,null,null,null,null,null,null,null,null,null,2031,"非住宅","その他",{"$f":"INDEX('係数表2-3'!$B:$K, 10 + QUOTIENT(ROW(AL521)-2, 10), 1 + MOD(ROW(AL521)-2, 10))","v":0}]
[null,null,null,null,null,null,null,null,null,null,null,null,null,null,null,null,null,null,null,null,null,null,null,null,null,null,null,null,null,null,null,null,null,null,2032,"住宅","木造",{"$f":"INDEX('係数表2-3'!$B:$K, 10 + QUOTIENT(ROW(AL522)-2, 10), 1 + MOD(ROW(AL522)-2, 10))","v":0}]
[null,null,null,null,null,null,null,null,null,null,null,null,null,null,null,null,null,null,null,null,null,null,null,null,null,null,null,null,null,null,null,null,null,null,2032,"住宅","SRC造",{"$f":"INDEX('係数表2-3'!$B:$K, 10 + QUOTIENT(ROW(AL523)-2, 10), 1 + MOD(ROW(AL523)-2, 10))","v":0}]
[null,null,null,null,null,null,null,null,null,null,null,null,null,null,null,null,null,null,null,null,null,null,null,null,null,null,null,null,null,null,null,null,null,null,2032,"住宅","RC造",{"$f":"INDEX('係数表2-3'!$B:$K, 10 + QUOTIENT(ROW(AL524)-2, 10), 1 + MOD(ROW(AL524)-2, 10))","v":0}]
[null,null,null,null,null,null,null,null,null,null,null,null,null,null,null,null,null,null,null,null,null,null,null,null,null,null,null,null,null,null,null,null,null,null,2032,"住宅","S造",{"$f":"INDEX('係数表2-3'!$B:$K, 10 + QUOTIENT(ROW(AL525)-2, 10), 1 + MOD(ROW(AL525)-2, 10))","v":0}]
[null,null,null,null,null,null,null,null,null,null,null,null,null,null,null,null,null,null,null,null,null,null,null,null,null,null,null,null,null,null,null,null,null,null,2032,"住宅","その他",{"$f":"INDEX('係数表2-3'!$B:$K, 10 + QUOTIENT(ROW(AL526)-2, 10), 1 + MOD(ROW(AL526)-2, 10))","v":0}]
[null,null,null,null,null,null,null,null,null,null,null,null,null,null,null,null,null,null,null,null,null,null,null,null,null,null,null,null,null,null,null,null,null,null,2032,"非住宅","木造",{"$f":"INDEX('係数表2-3'!$B:$K, 10 + QUOTIENT(ROW(AL527)-2, 10), 1 + MOD(ROW(AL527)-2, 10))","v":0}]
[null,null,null,null,null,null,null,null,null,null,null,null,null,null,null,null,null,null,null,null,null,null,null,null,null,null,null,null,null,null,null,null,null,null,2032,"非住宅","SRC造",{"$f":"INDEX('係数表2-3'!$B:$K, 10 + QUOTIENT(ROW(AL528)-2, 10), 1 + MOD(ROW(AL528)-2, 10))","v":0}]
[null,null,null,null,null,null,null,null,null,null,null,null,null,null,null,null,null,null,null,null,null,null,null,null,null,null,null,null,null,null,null,null,null,null,2032,"非住宅","RC造",{"$f":"INDEX('係数表2-3'!$B:$K, 10 + QUOTIENT(ROW(AL529)-2, 10), 1 + MOD(ROW(AL529)-2, 10))","v":0}]
[null,null,null,null,null,null,null,null,null,null,null,null,null,null,null,null,null,null,null,null,null,null,null,null,null,null,null,null,null,null,null,null,null,null,2032,"非住宅","S造",{"$f":"INDEX('係数表2-3'!$B:$K, 10 + QUOTIENT(ROW(AL530)-2, 10), 1 + MOD(ROW(AL530)-2, 10))","v":0}]
[null,null,null,null,null,null,null,null,null,null,null,null,null,null,null,null,null,null,null,null,null,null,null,null,null,null,null,null,null,null,null,null,null,null,2032,"非住宅","その他",{"$f":"INDEX('係数表2-3'!$B:$K, 10 + QUOTIENT(ROW(AL531)-2, 10), 1 + MOD(ROW(AL531)-2, 10))","v":0}]
[null,null,null,null,null,null,null,null,null,null,null,null,null,null,null,null,null,null,null,null,null,null,null,null,null,null,null,null,null,null,null,null,null,null,2033,"住宅","木造",{"$f":"INDEX('係数表2-3'!$B:$K, 10 + QUOTIENT(ROW(AL532)-2, 10), 1 + MOD(ROW(AL532)-2, 10))","v":0}]
[null,null,null,null,null,null,null,null,null,null,null,null,null,null,null,null,null,null,null,null,null,null,null,null,null,null,null,null,null,null,null,null,null,null,2033,"住宅","SRC造",{"$f":"INDEX('係数表2-3'!$B:$K, 10 + QUOTIENT(ROW(AL533)-2, 10), 1 + MOD(ROW(AL533)-2, 10))","v":0}]
[null,null,null,null,null,null,null,null,null,null,null,null,null,null,null,null,null,null,null,null,null,null,null,null,null,null,null,null,null,null,null,null,null,null,2033,"住宅","RC造",{"$f":"INDEX('係数表2-3'!$B:$K, 10 + QUOTIENT(ROW(AL534)-2, 10), 1 + MOD(ROW(AL534)-2, 10))","v":0}]
[null,null,null,null,null,null,null,null,null,null,null,null,null,null,null,null,null,null,null,null,null,null,null,null,null,null,null,null,null,null,null,null,null,null,2033,"住宅","S造",{"$f":"INDEX('係数表2-3'!$B:$K, 10 + QUOTIENT(ROW(AL535)-2, 10), 1 + MOD(ROW(AL535)-2, 10))","v":0}]
[null,null,null,null,null,null,null,null,null,null,null,null,null,null,null,null,null,null,null,null,null,null,null,null,null,null,null,null,null,null,null,null,null,null,2033,"住宅","その他",{"$f":"INDEX('係数表2-3'!$B:$K, 10 + QUOTIENT(ROW(AL536)-2, 10), 1 + MOD(ROW(AL536)-2, 10))","v":0}]
[null,null,null,null,null,null,null,null,null,null,null,null,null,null,null,null,null,null,null,null,null,null,null,null,null,null,null,null,null,null,null,null,null,null,2033,"非住宅","木造",{"$f":"INDEX('係数表2-3'!$B:$K, 10 + QUOTIENT(ROW(AL537)-2, 10), 1 + MOD(ROW(AL537)-2, 10))","v":0}]
[null,null,null,null,null,null,null,null,null,null,null,null,null,null,null,null,null,null,null,null,null,null,null,null,null,null,null,null,null,null,null,null,null,null,2033,"非住宅","SRC造",{"$f":"INDEX('係数表2-3'!$B:$K, 10 + QUOTIENT(ROW(AL538)-2, 10), 1 + MOD(ROW(AL538)-2, 10))","v":0}]
[null,null,null,null,null,null,null,null,null,null,null,null,null,null,null,null,null,null,null,null,null,null,null,null,null,null,null,null,null,null,null,null,null,null,2033,"非住宅","RC造",{"$f":"INDEX('係数表2-3'!$B:$K, 10 + QUOTIENT(ROW(AL539)-2, 10), 1 + MOD(ROW(AL539)-2, 10))","v":0}]
[null,null,null,null,null,null,null,null,null,null,null,null,null,null,null,null,null,null,null,null,null,null,null,null,null,null,null,null,null,null,null,null,null,null,2033,"非住宅","S造",{"$f":"INDEX('係数表2-3'!$B:$K, 10 + QUOTIENT(ROW(AL540)-2, 10), 1 + MOD(ROW(AL540)-2, 10))","v":0}]
[null,null,null,null,null,null,null,null,null,null,null,null,null,null,null,null,null,null,null,null,null,null,null,null,null,null,null,null,null,null,null,null,null,null,2033,"非住宅","その他",{"$f":"INDEX('係数表2-3'!$B:$K, 10 + QUOTIENT(ROW(AL541)-2, 10), 1 + MOD(ROW(AL541)-2, 10))","v":0}]
[null,null,null,null,null,null,null,null,null,null,null,null,null,null,null,null,null,null,null,null,null,null,null,null,null,null,null,null,null,null,null,null,null,null,2034,"住宅","木造",{"$f":"INDEX('係数表2-3'!$B:$K, 10 + QUOTIENT(ROW(AL542)-2, 10), 1 + MOD(ROW(AL542)-2, 10))","v":0}]
[null,null,null,null,null,null,null,null,null,null,null,null,null,null,null,null,null,null,null,null,null,null,null,null,null,null,null,null,null,null,null,null,null,null,2034,"住宅","SRC造",{"$f":"INDEX('係数表2-3'!$B:$K, 10 + QUOTIENT(ROW(AL543)-2, 10), 1 + MOD(ROW(AL543)-2, 10))","v":0}]
[null,null,null,null,null,null,null,null,null,null,null,null,null,null,null,null,null,null,null,null,null,null,null,null,null,null,null,null,null,null,null,null,null,null,2034,"住宅","RC造",{"$f":"INDEX('係数表2-3'!$B:$K, 10 + QUOTIENT(ROW(AL544)-2, 10), 1 + MOD(ROW(AL544)-2, 10))","v":0}]
[null,null,null,null,null,null,null,null,null,null,null,null,null,null,null,null,null,null,null,null,null,null,null,null,null,null,null,null,null,null,null,null,null,null,2034,"住宅","S造",{"$f":"INDEX('係数表2-3'!$B:$K, 10 + QUOTIENT(ROW(AL545)-2, 10), 1 + MOD(ROW(AL545)-2, 10))","v":0}]
[null,null,null,null,null,null,null,null,null,null,null,null,null,null,null,null,null,null,null,null,null,null,null,null,null,null,null,null,null,null,null,null,null,null,2034,"住宅","その他",{"$f":"INDEX('係数表2-3'!$B:$K, 10 + QUOTIENT(ROW(AL546)-2, 10), 1 + MOD(ROW(AL546)-2, 10))","v":0}]
[null,null,null,null,null,null,null,null,null,null,null,null,null,null,null,null,null,null,null,null,null,null,null,null,null,null,null,null,null,null,null,null,null,null,2034,"非住宅","木造",{"$f":"INDEX('係数表2-3'!$B:$K, 10 + QUOTIENT(ROW(AL547)-2, 10), 1 + MOD(ROW(AL547)-2, 10))","v":0}]
[null,null,null,null,null,null,null,null,null,null,null,null,null,null,null,null,null,null,null,null,null,null,null,null,null,null,null,null,null,null,null,null,null,null,2034,"非住宅","SRC造",{"$f":"INDEX('係数表2-3'!$B:$K, 10 + QUOTIENT(ROW(AL548)-2, 10), 1 + MOD(ROW(AL548)-2, 10))","v":0}]
[null,null,null,null,null,null,null,null,null,null,null,null,null,null,null,null,null,null,null,null,null,null,null,null,null,null,null,null,null,null,null,null,null,null,2034,"非住宅","RC造",{"$f":"INDEX('係数表2-3'!$B:$K, 10 + QUOTIENT(ROW(AL549)-2, 10), 1 + MOD(ROW(AL549)-2, 10))","v":0}]
[null,null,null,null,null,null,null,null,null,null,null,null,null,null,null,null,null,null,null,null,null,null,null,null,null,null,null,null,null,null,null,null,null,null,2034,"非住宅","S造",{"$f":"INDEX('係数表2-3'!$B:$K, 10 + QUOTIENT(ROW(AL550)-2, 10), 1 + MOD(ROW(AL550)-2, 10))","v":0}]
[null,null,null,null,null,null,null,null,null,null,null,null,null,null,null,null,null,null,null,null,null,null,null,null,null,null,null,null,null,null,null,null,null,null,2034,"非住宅","その他",{"$f":"INDEX('係数表2-3'!$B:$K, 10 + QUOTIENT(ROW(AL551)-2, 10), 1 + MOD(ROW(AL551)-2, 10))","v":0}]
[null,null,null,null,null,null,null,null,null,null,null,null,null,null,null,null,null,null,null,null,null,null,null,null,null,null,null,null,null,null,null,null,null,null,2035,"住宅","木造",{"$f":"INDEX('係数表2-3'!$B:$K, 10 + QUOTIENT(ROW(AL552)-2, 10), 1 + MOD(ROW(AL552)-2, 10))","v":0}]
[null,null,null,null,null,null,null,null,null,null,null,null,null,null,null,null,null,null,null,null,null,null,null,null,null,null,null,null,null,null,null,null,null,null,2035,"住宅","SRC造",{"$f":"INDEX('係数表2-3'!$B:$K, 10 + QUOTIENT(ROW(AL553)-2, 10), 1 + MOD(ROW(AL553)-2, 10))","v":0}]
[null,null,null,null,null,null,null,null,null,null,null,null,null,null,null,null,null,null,null,null,null,null,null,null,null,null,null,null,null,null,null,null,null,null,2035,"住宅","RC造",{"$f":"INDEX('係数表2-3'!$B:$K, 10 + QUOTIENT(ROW(AL554)-2, 10), 1 + MOD(ROW(AL554)-2, 10))","v":0}]
[null,null,null,null,null,null,null,null,null,null,null,null,null,null,null,null,null,null,null,null,null,null,null,null,null,null,null,null,null,null,null,null,null,null,2035,"住宅","S造",{"$f":"INDEX('係数表2-3'!$B:$K, 10 + QUOTIENT(ROW(AL555)-2, 10), 1 + MOD(ROW(AL555)-2, 10))","v":0}]
[null,null,null,null,null,null,null,null,null,null,null,null,null,null,null,null,null,null,null,null,null,null,null,null,null,null,null,null,null,null,null,null,null,null,2035,"住宅","その他",{"$f":"INDEX('係数表2-3'!$B:$K, 10 + QUOTIENT(ROW(AL556)-2, 10), 1 + MOD(ROW(AL556)-2, 10))","v":0}]
[null,null,null,null,null,null,null,null,null,null,null,null,null,null,null,null,null,null,null,null,null,null,null,null,null,null,null,null,null,null,null,null,null,null,2035,"非住宅","木造",{"$f":"INDEX('係数表2-3'!$B:$K, 10 + QUOTIENT(ROW(AL557)-2, 10), 1 + MOD(ROW(AL557)-2, 10))","v":0}]
[null,null,null,null,null,null,null,null,null,null,null,null,null,null,null,null,null,null,null,null,null,null,null,null,null,null,null,null,null,null,null,null,null,null,2035,"非住宅","SRC造",{"$f":"INDEX('係数表2-3'!$B:$K, 10 + QUOTIENT(ROW(AL558)-2, 10), 1 + MOD(ROW(AL558)-2, 10))","v":0}]
[null,null,null,null,null,null,null,null,null,null,null,null,null,null,null,null,null,null,null,null,null,null,null,null,null,null,null,null,null,null,null,null,null,null,2035,"非住宅","RC造",{"$f":"INDEX('係数表2-3'!$B:$K, 10 + QUOTIENT(ROW(AL559)-2, 10), 1 + MOD(ROW(AL559)-2, 10))","v":0}]
[null,null,null,null,null,null,null,null,null,null,null,null,null,null,null,null,null,null,null,null,null,null,null,null,null,null,null,null,null,null,null,null,null,null,2035,"非住宅","S造",{"$f":"INDEX('係数表2-3'!$B:$K, 10 + QUOTIENT(ROW(AL560)-2, 10), 1 + MOD(ROW(AL560)-2, 10))","v":0}]
[null,null,null,null,null,null,null,null,null,null,null,null,null,null,null,null,null,null,null,null,null,null,null,null,null,null,null,null,null,null,null,null,null,null,2035,"非住宅","その他",{"$f":"INDEX('係数表2-3'!$B:$K, 10 + QUOTIENT(ROW(AL561)-2, 10), 1 + MOD(ROW(AL561)-2, 10))","v":0}]
[null,null,null,null,null,null,null,null,null,null,null,null,null,null,null,null,null,null,null,null,null,null,null,null,null,null,null,null,null,null,null,null,null,null,2036,"住宅","木造",{"$f":"INDEX('係数表2-3'!$B:$K, 10 + QUOTIENT(ROW(AL562)-2, 10), 1 + MOD(ROW(AL562)-2, 10))","v":0}]
[null,null,null,null,null,null,null,null,null,null,null,null,null,null,null,null,null,null,null,null,null,null,null,null,null,null,null,null,null,null,null,null,null,null,2036,"住宅","SRC造",{"$f":"INDEX('係数表2-3'!$B:$K, 10 + QUOTIENT(ROW(AL563)-2, 10), 1 + MOD(ROW(AL563)-2, 10))","v":0}]
[null,null,null,null,null,null,null,null,null,null,null,null,null,null,null,null,null,null,null,null,null,null,null,null,null,null,null,null,null,null,null,null,null,null,2036,"住宅","RC造",{"$f":"INDEX('係数表2-3'!$B:$K, 10 + QUOTIENT(ROW(AL564)-2, 10), 1 + MOD(ROW(AL564)-2, 10))","v":0}]
[null,null,null,null,null,null,null,null,null,null,null,null,null,null,null,null,null,null,null,null,null,null,null,null,null,null,null,null,null,null,null,null,null,null,2036,"住宅","S造",{"$f":"INDEX('係数表2-3'!$B:$K, 10 + QUOTIENT(ROW(AL565)-2, 10), 1 + MOD(ROW(AL565)-2, 10))","v":0}]
[null,null,null,null,null,null,null,null,null,null,null,null,null,null,null,null,null,null,null,null,null,null,null,null,null,null,null,null,null,null,null,null,null,null,2036,"住宅","その他",{"$f":"INDEX('係数表2-3'!$B:$K, 10 + QUOTIENT(ROW(AL566)-2, 10), 1 + MOD(ROW(AL566)-2, 10))","v":0}]
[null,null,null,null,null,null,null,null,null,null,null,null,null,null,null,null,null,null,null,null,null,null,null,null,null,null,null,null,null,null,null,null,null,null,2036,"非住宅","木造",{"$f":"INDEX('係数表2-3'!$B:$K, 10 + QUOTIENT(ROW(AL567)-2, 10), 1 + MOD(ROW(AL567)-2, 10))","v":0}]
[null,null,null,null,null,null,null,null,null,null,null,null,null,null,null,null,null,null,null,null,null,null,null,null,null,null,null,null,null,null,null,null,null,null,2036,"非住宅","SRC造",{"$f":"INDEX('係数表2-3'!$B:$K, 10 + QUOTIENT(ROW(AL568)-2, 10), 1 + MOD(ROW(AL568)-2, 10))","v":0}]
[null,null,null,null,null,null,null,null,null,null,null,null,null,null,null,null,null,null,null,null,null,null,null,null,null,null,null,null,null,null,null,null,null,null,2036,"非住宅","RC造",{"$f":"INDEX('係数表2-3'!$B:$K, 10 + QUOTIENT(ROW(AL569)-2, 10), 1 + MOD(ROW(AL569)-2, 10))","v":0}]
[null,null,null,null,null,null,null,null,null,null,null,null,null,null,null,null,null,null,null,null,null,null,null,null,null,null,null,null,null,null,null,null,null,null,2036,"非住宅","S造",{"$f":"INDEX('係数表2-3'!$B:$K, 10 + QUOTIENT(ROW(AL570)-2, 10), 1 + MOD(ROW(AL570)-2, 10))","v":0}]
[null,null,null,null,null,null,null,null,null,null,null,null,null,null,null,null,null,null,null,null,null,null,null,null,null,null,null,null,null,null,null,null,null,null,2036,"非住宅","その他",{"$f":"INDEX('係数表2-3'!$B:$K, 10 + QUOTIENT(ROW(AL571)-2, 10), 1 + MOD(ROW(AL571)-2, 10))","v":0}]
[null,null,null,null,null,null,null,null,null,null,null,null,null,null,null,null,null,null,null,null,null,null,null,null,null,null,null,null,null,null,null,null,null,null,2037,"住宅","木造",{"$f":"INDEX('係数表2-3'!$B:$K, 10 + QUOTIENT(ROW(AL572)-2, 10), 1 + MOD(ROW(AL572)-2, 10))","v":0}]
[null,null,null,null,null,null,null,null,null,null,null,null,null,null,null,null,null,null,null,null,null,null,null,null,null,null,null,null,null,null,null,null,null,null,2037,"住宅","SRC造",{"$f":"INDEX('係数表2-3'!$B:$K, 10 + QUOTIENT(ROW(AL573)-2, 10), 1 + MOD(ROW(AL573)-2, 10))","v":0}]
[null,null,null,null,null,null,null,null,null,null,null,null,null,null,null,null,null,null,null,null,null,null,null,null,null,null,null,null,null,null,null,null,null,null,2037,"住宅","RC造",{"$f":"INDEX('係数表2-3'!$B:$K, 10 + QUOTIENT(ROW(AL574)-2, 10), 1 + MOD(ROW(AL574)-2, 10))","v":0}]
[null,null,null,null,null,null,null,null,null,null,null,null,null,null,null,null,null,null,null,null,null,null,null,null,null,null,null,null,null,null,null,null,null,null,2037,"住宅","S造",{"$f":"INDEX('係数表2-3'!$B:$K, 10 + QUOTIENT(ROW(AL575)-2, 10), 1 + MOD(ROW(AL575)-2, 10))","v":0}]
[null,null,null,null,null,null,null,null,null,null,null,null,null,null,null,null,null,null,null,null,null,null,null,null,null,null,null,null,null,null,null,null,null,null,2037,"住宅","その他",{"$f":"INDEX('係数表2-3'!$B:$K, 10 + QUOTIENT(ROW(AL576)-2, 10), 1 + MOD(ROW(AL576)-2, 10))","v":0}]
[null,null,null,null,null,null,null,null,null,null,null,null,null,null,null,null,null,null,null,null,null,null,null,null,null,null,null,null,null,null,null,null,null,null,2037,"非住宅","木造",{"$f":"INDEX('係数表2-3'!$B:$K, 10 + QUOTIENT(ROW(AL577)-2, 10), 1 + MOD(ROW(AL577)-2, 10))","v":0}]
[null,null,null,null,null,null,null,null,null,null,null,null,null,null,null,null,null,null,null,null,null,null,null,null,null,null,null,null,null,null,null,null,null,null,2037,"非住宅","SRC造",{"$f":"INDEX('係数表2-3'!$B:$K, 10 + QUOTIENT(ROW(AL578)-2, 10), 1 + MOD(ROW(AL578)-2, 10))","v":0}]
[null,null,null,null,null,null,null,null,null,null,null,null,null,null,null,null,null,null,null,null,null,null,null,null,null,null,null,null,null,null,null,null,null,null,2037,"非住宅","RC造",{"$f":"INDEX('係数表2-3'!$B:$K, 10 + QUOTIENT(ROW(AL579)-2, 10), 1 + MOD(ROW(AL579)-2, 10))","v":0}]
[null,null,null,null,null,null,null,null,null,null,null,null,null,null,null,null,null,null,null,null,null,null,null,null,null,null,null,null,null,null,null,null,null,null,2037,"非住宅","S造",{"$f":"INDEX('係数表2-3'!$B:$K, 10 + QUOTIENT(ROW(AL580)-2, 10), 1 + MOD(ROW(AL580)-2, 10))","v":0}]
[null,null,null,null,null,null,null,null,null,null,null,null,null,null,null,null,null,null,null,null,null,null,null,null,null,null,null,null,null,null,null,null,null,null,2037,"非住宅","その他",{"$f":"INDEX('係数表2-3'!$B:$K, 10 + QUOTIENT(ROW(AL581)-2, 10), 1 + MOD(ROW(AL581)-2, 10))","v":0}]
[null,null,null,null,null,null,null,null,null,null,null,null,null,null,null,null,null,null,null,null,null,null,null,null,null,null,null,null,null,null,null,null,null,null,2038,"住宅","木造",{"$f":"INDEX('係数表2-3'!$B:$K, 10 + QUOTIENT(ROW(AL582)-2, 10), 1 + MOD(ROW(AL582)-2, 10))","v":0}]
[null,null,null,null,null,null,null,null,null,null,null,null,null,null,null,null,null,null,null,null,null,null,null,null,null,null,null,null,null,null,null,null,null,null,2038,"住宅","SRC造",{"$f":"INDEX('係数表2-3'!$B:$K, 10 + QUOTIENT(ROW(AL583)-2, 10), 1 + MOD(ROW(AL583)-2, 10))","v":0}]
[null,null,null,null,null,null,null,null,null,null,null,null,null,null,null,null,null,null,null,null,null,null,null,null,null,null,null,null,null,null,null,null,null,null,2038,"住宅","RC造",{"$f":"INDEX('係数表2-3'!$B:$K, 10 + QUOTIENT(ROW(AL584)-2, 10), 1 + MOD(ROW(AL584)-2, 10))","v":0}]
[null,null,null,null,null,null,null,null,null,null,null,null,null,null,null,null,null,null,null,null,null,null,null,null,null,null,null,null,null,null,null,null,null,null,2038,"住宅","S造",{"$f":"INDEX('係数表2-3'!$B:$K, 10 + QUOTIENT(ROW(AL585)-2, 10), 1 + MOD(ROW(AL585)-2, 10))","v":0}]
[null,null,null,null,null,null,null,null,null,null,null,null,null,null,null,null,null,null,null,null,null,null,null,null,null,null,null,null,null,null,null,null,null,null,2038,"住宅","その他",{"$f":"INDEX('係数表2-3'!$B:$K, 10 + QUOTIENT(ROW(AL586)-2, 10), 1 + MOD(ROW(AL586)-2, 10))","v":0}]
[null,null,null,null,null,null,null,null,null,null,null,null,null,null,null,null,null,null,null,null,null,null,null,null,null,null,null,null,null,null,null,null,null,null,2038,"非住宅","木造",{"$f":"INDEX('係数表2-3'!$B:$K, 10 + QUOTIENT(ROW(AL587)-2, 10), 1 + MOD(ROW(AL587)-2, 10))","v":0}]
[null,null,null,null,null,null,null,null,null,null,null,null,null,null,null,null,null,null,null,null,null,null,null,null,null,null,null,null,null,null,null,null,null,null,2038,"非住宅","SRC造",{"$f":"INDEX('係数表2-3'!$B:$K, 10 + QUOTIENT(ROW(AL588)-2, 10), 1 + MOD(ROW(AL588)-2, 10))","v":0}]
[null,null,null,null,null,null,null,null,null,null,null,null,null,null,null,null,null,null,null,null,null,null,null,null,null,null,null,null,null,null,null,null,null,null,2038,"非住宅","RC造",{"$f":"INDEX('係数表2-3'!$B:$K, 10 + QUOTIENT(ROW(AL589)-2, 10), 1 + MOD(ROW(AL589)-2, 10))","v":0}]
[null,null,null,null,null,null,null,null,null,null,null,null,null,null,null,null,null,null,null,null,null,null,null,null,null,null,null,null,null,null,null,null,null,null,2038,"非住宅","S造",{"$f":"INDEX('係数表2-3'!$B:$K, 10 + QUOTIENT(ROW(AL590)-2, 10), 1 + MOD(ROW(AL590)-2, 10))","v":0}]
[null,null,null,null,null,null,null,null,null,null,null,null,null,null,null,null,null,null,null,null,null,null,null,null,null,null,null,null,null,null,null,null,null,null,2038,"非住宅","その他",{"$f":"INDEX('係数表2-3'!$B:$K, 10 + QUOTIENT(ROW(AL591)-2, 10), 1 + MOD(ROW(AL591)-2, 10))","v":0}]
[null,null,null,null,null,null,null,null,null,null,null,null,null,null,null,null,null,null,null,null,null,null,null,null,null,null,null,null,null,null,null,null,null,null,2039,"住宅","木造",{"$f":"INDEX('係数表2-3'!$B:$K, 10 + QUOTIENT(ROW(AL592)-2, 10), 1 + MOD(ROW(AL592)-2, 10))","v":0}]
[null,null,null,null,null,null,null,null,null,null,null,null,null,null,null,null,null,null,null,null,null,null,null,null,null,null,null,null,null,null,null,null,null,null,2039,"住宅","SRC造",{"$f":"INDEX('係数表2-3'!$B:$K, 10 + QUOTIENT(ROW(AL593)-2, 10), 1 + MOD(ROW(AL593)-2, 10))","v":0}]
[null,null,null,null,null,null,null,null,null,null,null,null,null,null,null,null,null,null,null,null,null,null,null,null,null,null,null,null,null,null,null,null,null,null,2039,"住宅","RC造",{"$f":"INDEX('係数表2-3'!$B:$K, 10 + QUOTIENT(ROW(AL594)-2, 10), 1 + MOD(ROW(AL594)-2, 10))","v":0}]
[null,null,null,null,null,null,null,null,null,null,null,null,null,null,null,null,null,null,null,null,null,null,null,null,null,null,null,null,null,null,null,null,null,null,2039,"住宅","S造",{"$f":"INDEX('係数表2-3'!$B:$K, 10 + QUOTIENT(ROW(AL595)-2, 10), 1 + MOD(ROW(AL595)-2, 10))","v":0}]
[null,null,null,null,null,null,null,null,null,null,null,null,null,null,null,null,null,null,null,null,null,null,null,null,null,null,null,null,null,null,null,null,null,null,2039,"住宅","その他",{"$f":"INDEX('係数表2-3'!$B:$K, 10 + QUOTIENT(ROW(AL596)-2, 10), 1 + MOD(ROW(AL596)-2, 10))","v":0}]
[null,null,null,null,null,null,null,null,null,null,null,null,null,null,null,null,null,null,null,null,null,null,null,null,null,null,null,null,null,null,null,null,null,null,2039,"非住宅","木造",{"$f":"INDEX('係数表2-3'!$B:$K, 10 + QUOTIENT(ROW(AL597)-2, 10), 1 + MOD(ROW(AL597)-2, 10))","v":0}]
[null,null,null,null,null,null,null,null,null,null,null,null,null,null,null,null,null,null,null,null,null,null,null,null,null,null,null,null,null,null,null,null,null,null,2039,"非住宅","SRC造",{"$f":"INDEX('係数表2-3'!$B:$K, 10 + QUOTIENT(ROW(AL598)-2, 10), 1 + MOD(ROW(AL598)-2, 10))","v":0}]
[null,null,null,null,null,null,null,null,null,null,null,null,null,null,null,null,null,null,null,null,null,null,null,null,null,null,null,null,null,null,null,null,null,null,2039,"非住宅","RC造",{"$f":"INDEX('係数表2-3'!$B:$K, 10 + QUOTIENT(ROW(AL599)-2, 10), 1 + MOD(ROW(AL599)-2, 10))","v":0}]
[null,null,null,null,null,null,null,null,null,null,null,null,null,null,null,null,null,null,null,null,null,null,null,null,null,null,null,null,null,null,null,null,null,null,2039,"非住宅","S造",{"$f":"INDEX('係数表2-3'!$B:$K, 10 + QUOTIENT(ROW(AL600)-2, 10), 1 + MOD(ROW(AL600)-2, 10))","v":0}]
[null,null,null,null,null,null,null,null,null,null,null,null,null,null,null,null,null,null,null,null,null,null,null,null,null,null,null,null,null,null,null,null,null,null,2039,"非住宅","その他",{"$f":"INDEX('係数表2-3'!$B:$K, 10 + QUOTIENT(ROW(AL601)-2, 10), 1 + MOD(ROW(AL601)-2, 10))","v":0}]
[null,null,null,null,null,null,null,null,null,null,null,null,null,null,null,null,null,null,null,null,null,null,null,null,null,null,null,null,null,null,null,null,null,null,2040,"住宅","木造",{"$f":"INDEX('係数表2-3'!$B:$K, 10 + QUOTIENT(ROW(AL602)-2, 10), 1 + MOD(ROW(AL602)-2, 10))","v":0}]
[null,null,null,null,null,null,null,null,null,null,null,null,null,null,null,null,null,null,null,null,null,null,null,null,null,null,null,null,null,null,null,null,null,null,2040,"住宅","SRC造",{"$f":"INDEX('係数表2-3'!$B:$K, 10 + QUOTIENT(ROW(AL603)-2, 10), 1 + MOD(ROW(AL603)-2, 10))","v":0}]
[null,null,null,null,null,null,null,null,null,null,null,null,null,null,null,null,null,null,null,null,null,null,null,null,null,null,null,null,null,null,null,null,null,null,2040,"住宅","RC造",{"$f":"INDEX('係数表2-3'!$B:$K, 10 + QUOTIENT(ROW(AL604)-2, 10), 1 + MOD(ROW(AL604)-2, 10))","v":0}]
[null,null,null,null,null,null,null,null,null,null,null,null,null,null,null,null,null,null,null,null,null,null,null,null,null,null,null,null,null,null,null,null,null,null,2040,"住宅","S造",{"$f":"INDEX('係数表2-3'!$B:$K, 10 + QUOTIENT(ROW(AL605)-2, 10), 1 + MOD(ROW(AL605)-2, 10))","v":0}]
[null,null,null,null,null,null,null,null,null,null,null,null,null,null,null,null,null,null,null,null,null,null,null,null,null,null,null,null,null,null,null,null,null,null,2040,"住宅","その他",{"$f":"INDEX('係数表2-3'!$B:$K, 10 + QUOTIENT(ROW(AL606)-2, 10), 1 + MOD(ROW(AL606)-2, 10))","v":0}]
[null,null,null,null,null,null,null,null,null,null,null,null,null,null,null,null,null,null,null,null,null,null,null,null,null,null,null,null,null,null,null,null,null,null,2040,"非住宅","木造",{"$f":"INDEX('係数表2-3'!$B:$K, 10 + QUOTIENT(ROW(AL607)-2, 10), 1 + MOD(ROW(AL607)-2, 10))","v":0}]
[null,null,null,null,null,null,null,null,null,null,null,null,null,null,null,null,null,null,null,null,null,null,null,null,null,null,null,null,null,null,null,null,null,null,2040,"非住宅","SRC造",{"$f":"INDEX('係数表2-3'!$B:$K, 10 + QUOTIENT(ROW(AL608)-2, 10), 1 + MOD(ROW(AL608)-2, 10))","v":0}]
[null,null,null,null,null,null,null,null,null,null,null,null,null,null,null,null,null,null,null,null,null,null,null,null,null,null,null,null,null,null,null,null,null,null,2040,"非住宅","RC造",{"$f":"INDEX('係数表2-3'!$B:$K, 10 + QUOTIENT(ROW(AL609)-2, 10), 1 + MOD(ROW(AL609)-2, 10))","v":0}]
[null,null,null,null,null,null,null,null,null,null,null,null,null,null,null,null,null,null,null,null,null,null,null,null,null,null,null,null,null,null,null,null,null,null,2040,"非住宅","S造",{"$f":"INDEX('係数表2-3'!$B:$K, 10 + QUOTIENT(ROW(AL610)-2, 10), 1 + MOD(ROW(AL610)-2, 10))","v":0}]
[null,null,null,null,null,null,null,null,null,null,null,null,null,null,null,null,null,null,null,null,null,null,null,null,null,null,null,null,null,null,null,null,null,null,2040,"非住宅","その他",{"$f":"INDEX('係数表2-3'!$B:$K, 10 + QUOTIENT(ROW(AL611)-2, 10), 1 + MOD(ROW(AL611)-2, 10))","v":0}]
[null,null,null,null,null,null,null,null,null,null,null,null,null,null,null,null,null,null,null,null,null,null,null,null,null,null,null,null,null,null,null,null,null,null,2041,"住宅","木造",{"$f":"INDEX('係数表2-3'!$B:$K, 10 + QUOTIENT(ROW(AL612)-2, 10), 1 + MOD(ROW(AL612)-2, 10))","v":0}]
[null,null,null,null,null,null,null,null,null,null,null,null,null,null,null,null,null,null,null,null,null,null,null,null,null,null,null,null,null,null,null,null,null,null,2041,"住宅","SRC造",{"$f":"INDEX('係数表2-3'!$B:$K, 10 + QUOTIENT(ROW(AL613)-2, 10), 1 + MOD(ROW(AL613)-2, 10))","v":0}]
[null,null,null,null,null,null,null,null,null,null,null,null,null,null,null,null,null,null,null,null,null,null,null,null,null,null,null,null,null,null,null,null,null,null,2041,"住宅","RC造",{"$f":"INDEX('係数表2-3'!$B:$K, 10 + QUOTIENT(ROW(AL614)-2, 10), 1 + MOD(ROW(AL614)-2, 10))","v":0}]
[null,null,null,null,null,null,null,null,null,null,null,null,null,null,null,null,null,null,null,null,null,null,null,null,null,null,null,null,null,null,null,null,null,null,2041,"住宅","S造",{"$f":"INDEX('係数表2-3'!$B:$K, 10 + QUOTIENT(ROW(AL615)-2, 10), 1 + MOD(ROW(AL615)-2, 10))","v":0}]
[null,null,null,null,null,null,null,null,null,null,null,null,null,null,null,null,null,null,null,null,null,null,null,null,null,null,null,null,null,null,null,null,null,null,2041,"住宅","その他",{"$f":"INDEX('係数表2-3'!$B:$K, 10 + QUOTIENT(ROW(AL616)-2, 10), 1 + MOD(ROW(AL616)-2, 10))","v":0}]
[null,null,null,null,null,null,null,null,null,null,null,null,null,null,null,null,null,null,null,null,null,null,null,null,null,null,null,null,null,null,null,null,null,null,2041,"非住宅","木造",{"$f":"INDEX('係数表2-3'!$B:$K, 10 + QUOTIENT(ROW(AL617)-2, 10), 1 + MOD(ROW(AL617)-2, 10))","v":0}]
[null,null,null,null,null,null,null,null,null,null,null,null,null,null,null,null,null,null,null,null,null,null,null,null,null,null,null,null,null,null,null,null,null,null,2041,"非住宅","SRC造",{"$f":"INDEX('係数表2-3'!$B:$K, 10 + QUOTIENT(ROW(AL618)-2, 10), 1 + MOD(ROW(AL618)-2, 10))","v":0}]
[null,null,null,null,null,null,null,null,null,null,null,null,null,null,null,null,null,null,null,null,null,null,null,null,null,null,null,null,null,null,null,null,null,null,2041,"非住宅","RC造",{"$f":"INDEX('係数表2-3'!$B:$K, 10 + QUOTIENT(ROW(AL619)-2, 10), 1 + MOD(ROW(AL619)-2, 10))","v":0}]
[null,null,null,null,null,null,null,null,null,null,null,null,null,null,null,null,null,null,null,null,null,null,null,null,null,null,null,null,null,null,null,null,null,null,2041,"非住宅","S造",{"$f":"INDEX('係数表2-3'!$B:$K, 10 + QUOTIENT(ROW(AL620)-2, 10), 1 + MOD(ROW(AL620)-2, 10))","v":0}]
[null,null,null,null,null,null,null,null,null,null,null,null,null,null,null,null,null,null,null,null,null,null,null,null,null,null,null,null,null,null,null,null,null,null,2041,"非住宅","その他",{"$f":"INDEX('係数表2-3'!$B:$K, 10 + QUOTIENT(ROW(AL621)-2, 10), 1 + MOD(ROW(AL621)-2, 10))","v":0}]
[null,null,null,null,null,null,null,null,null,null,null,null,null,null,null,null,null,null,null,null,null,null,null,null,null,null,null,null,null,null,null,null,null,null,2042,"住宅","木造",{"$f":"INDEX('係数表2-3'!$B:$K, 10 + QUOTIENT(ROW(AL622)-2, 10), 1 + MOD(ROW(AL622)-2, 10))","v":0}]
[null,null,null,null,null,null,null,null,null,null,null,null,null,null,null,null,null,null,null,null,null,null,null,null,null,null,null,null,null,null,null,null,null,null,2042,"住宅","SRC造",{"$f":"INDEX('係数表2-3'!$B:$K, 10 + QUOTIENT(ROW(AL623)-2, 10), 1 + MOD(ROW(AL623)-2, 10))","v":0}]
[null,null,null,null,null,null,null,null,null,null,null,null,null,null,null,null,null,null,null,null,null,null,null,null,null,null,null,null,null,null,null,null,null,null,2042,"住宅","RC造",{"$f":"INDEX('係数表2-3'!$B:$K, 10 + QUOTIENT(ROW(AL624)-2, 10), 1 + MOD(ROW(AL624)-2, 10))","v":0}]
[null,null,null,null,null,null,null,null,null,null,null,null,null,null,null,null,null,null,null,null,null,null,null,null,null,null,null,null,null,null,null,null,null,null,2042,"住宅","S造",{"$f":"INDEX('係数表2-3'!$B:$K, 10 + QUOTIENT(ROW(AL625)-2, 10), 1 + MOD(ROW(AL625)-2, 10))","v":0}]
[null,null,null,null,null,null,null,null,null,null,null,null,null,null,null,null,null,null,null,null,null,null,null,null,null,null,null,null,null,null,null,null,null,null,2042,"住宅","その他",{"$f":"INDEX('係数表2-3'!$B:$K, 10 + QUOTIENT(ROW(AL626)-2, 10), 1 + MOD(ROW(AL626)-2, 10))","v":0}]
[null,null,null,null,null,null,null,null,null,null,null,null,null,null,null,null,null,null,null,null,null,null,null,null,null,null,null,null,null,null,null,null,null,null,2042,"非住宅","木造",{"$f":"INDEX('係数表2-3'!$B:$K, 10 + QUOTIENT(ROW(AL627)-2, 10), 1 + MOD(ROW(AL627)-2, 10))","v":0}]
[null,null,null,null,null,null,null,null,null,null,null,null,null,null,null,null,null,null,null,null,null,null,null,null,null,null,null,null,null,null,null,null,null,null,2042,"非住宅","SRC造",{"$f":"INDEX('係数表2-3'!$B:$K, 10 + QUOTIENT(ROW(AL628)-2, 10), 1 + MOD(ROW(AL628)-2, 10))","v":0}]
[null,null,null,null,null,null,null,null,null,null,null,null,null,null,null,null,null,null,null,null,null,null,null,null,null,null,null,null,null,null,null,null,null,null,2042,"非住宅","RC造",{"$f":"INDEX('係数表2-3'!$B:$K, 10 + QUOTIENT(ROW(AL629)-2, 10), 1 + MOD(ROW(AL629)-2, 10))","v":0}]
[null,null,null,null,null,null,null,null,null,null,null,null,null,null,null,null,null,null,null,null,null,null,null,null,null,null,null,null,null,null,null,null,null,null,2042,"非住宅","S造",{"$f":"INDEX('係数表2-3'!$B:$K, 10 + QUOTIENT(ROW(AL630)-2, 10), 1 + MOD(ROW(AL630)-2, 10))","v":0}]
[null,null,null,null,null,null,null,null,null,null,null,null,null,null,null,null,null,null,null,null,null,null,null,null,null,null,null,null,null,null,null,null,null,null,2042,"非住宅","その他",{"$f":"INDEX('係数表2-3'!$B:$K, 10 + QUOTIENT(ROW(AL631)-2, 10), 1 + MOD(ROW(AL631)-2, 10))","v":0}]
[null,null,null,null,null,null,null,null,null,null,null,null,null,null,null,null,null,null,null,null,null,null,null,null,null,null,null,null,null,null,null,null,null,null,2043,"住宅","木造",{"$f":"INDEX('係数表2-3'!$B:$K, 10 + QUOTIENT(ROW(AL632)-2, 10), 1 + MOD(ROW(AL632)-2, 10))","v":0}]
[null,null,null,null,null,null,null,null,null,null,null,null,null,null,null,null,null,null,null,null,null,null,null,null,null,null,null,null,null,null,null,null,null,null,2043,"住宅","SRC造",{"$f":"INDEX('係数表2-3'!$B:$K, 10 + QUOTIENT(ROW(AL633)-2, 10), 1 + MOD(ROW(AL633)-2, 10))","v":0}]
[null,null,null,null,null,null,null,null,null,null,null,null,null,null,null,null,null,null,null,null,null,null,null,null,null,null,null,null,null,null,null,null,null,null,2043,"住宅","RC造",{"$f":"INDEX('係数表2-3'!$B:$K, 10 + QUOTIENT(ROW(AL634)-2, 10), 1 + MOD(ROW(AL634)-2, 10))","v":0}]
[null,null,null,null,null,null,null,null,null,null,null,null,null,null,null,null,null,null,null,null,null,null,null,null,null,null,null,null,null,null,null,null,null,null,2043,"住宅","S造",{"$f":"INDEX('係数表2-3'!$B:$K, 10 + QUOTIENT(ROW(AL635)-2, 10), 1 + MOD(ROW(AL635)-2, 10))","v":0}]
[null,null,null,null,null,null,null,null,null,null,null,null,null,null,null,null,null,null,null,null,null,null,null,null,null,null,null,null,null,null,null,null,null,null,2043,"住宅","その他",{"$f":"INDEX('係数表2-3'!$B:$K, 10 + QUOTIENT(ROW(AL636)-2, 10), 1 + MOD(ROW(AL636)-2, 10))","v":0}]
[null,null,null,null,null,null,null,null,null,null,null,null,null,null,null,null,null,null,null,null,null,null,null,null,null,null,null,null,null,null,null,null,null,null,2043,"非住宅","木造",{"$f":"INDEX('係数表2-3'!$B:$K, 10 + QUOTIENT(ROW(AL637)-2, 10), 1 + MOD(ROW(AL637)-2, 10))","v":0}]
[null,null,null,null,null,null,null,null,null,null,null,null,null,null,null,null,null,null,null,null,null,null,null,null,null,null,null,null,null,null,null,null,null,null,2043,"非住宅","SRC造",{"$f":"INDEX('係数表2-3'!$B:$K, 10 + QUOTIENT(ROW(AL638)-2, 10), 1 + MOD(ROW(AL638)-2, 10))","v":0}]
[null,null,null,null,null,null,null,null,null,null,null,null,null,null,null,null,null,null,null,null,null,null,null,null,null,null,null,null,null,null,null,null,null,null,2043,"非住宅","RC造",{"$f":"INDEX('係数表2-3'!$B:$K, 10 + QUOTIENT(ROW(AL639)-2, 10), 1 + MOD(ROW(AL639)-2, 10))","v":0}]
[null,null,null,null,null,null,null,null,null,null,null,null,null,null,null,null,null,null,null,null,null,null,null,null,null,null,null,null,null,null,null,null,null,null,2043,"非住宅","S造",{"$f":"INDEX('係数表2-3'!$B:$K, 10 + QUOTIENT(ROW(AL640)-2, 10), 1 + MOD(ROW(AL640)-2, 10))","v":0}]
[null,null,null,null,null,null,null,null,null,null,null,null,null,null,null,null,null,null,null,null,null,null,null,null,null,null,null,null,null,null,null,null,null,null,2043,"非住宅","その他",{"$f":"INDEX('係数表2-3'!$B:$K, 10 + QUOTIENT(ROW(AL641)-2, 10), 1 + MOD(ROW(AL641)-2, 10))","v":0}]
[null,null,null,null,null,null,null,null,null,null,null,null,null,null,null,null,null,null,null,null,null,null,null,null,null,null,null,null,null,null,null,null,null,null,2044,"住宅","木造",{"$f":"INDEX('係数表2-3'!$B:$K, 10 + QUOTIENT(ROW(AL642)-2, 10), 1 + MOD(ROW(AL642)-2, 10))","v":0}]
[null,null,null,null,null,null,null,null,null,null,null,null,null,null,null,null,null,null,null,null,null,null,null,null,null,null,null,null,null,null,null,null,null,null,2044,"住宅","SRC造",{"$f":"INDEX('係数表2-3'!$B:$K, 10 + QUOTIENT(ROW(AL643)-2, 10), 1 + MOD(ROW(AL643)-2, 10))","v":0}]
[null,null,null,null,null,null,null,null,null,null,null,null,null,null,null,null,null,null,null,null,null,null,null,null,null,null,null,null,null,null,null,null,null,null,2044,"住宅","RC造",{"$f":"INDEX('係数表2-3'!$B:$K, 10 + QUOTIENT(ROW(AL644)-2, 10), 1 + MOD(ROW(AL644)-2, 10))","v":0}]
[null,null,null,null,null,null,null,null,null,null,null,null,null,null,null,null,null,null,null,null,null,null,null,null,null,null,null,null,null,null,null,null,null,null,2044,"住宅","S造",{"$f":"INDEX('係数表2-3'!$B:$K, 10 + QUOTIENT(ROW(AL645)-2, 10), 1 + MOD(ROW(AL645)-2, 10))","v":0}]
[null,null,null,null,null,null,null,null,null,null,null,null,null,null,null,null,null,null,null,null,null,null,null,null,null,null,null,null,null,null,null,null,null,null,2044,"住宅","その他",{"$f":"INDEX('係数表2-3'!$B:$K, 10 + QUOTIENT(ROW(AL646)-2, 10), 1 + MOD(ROW(AL646)-2, 10))","v":0}]
[null,null,null,null,null,null,null,null,null,null,null,null,null,null,null,null,null,null,null,null,null,null,null,null,null,null,null,null,null,null,null,null,null,null,2044,"非住宅","木造",{"$f":"INDEX('係数表2-3'!$B:$K, 10 + QUOTIENT(ROW(AL647)-2, 10), 1 + MOD(ROW(AL647)-2, 10))","v":0}]
[null,null,null,null,null,null,null,null,null,null,null,null,null,null,null,null,null,null,null,null,null,null,null,null,null,null,null,null,null,null,null,null,null,null,2044,"非住宅","SRC造",{"$f":"INDEX('係数表2-3'!$B:$K, 10 + QUOTIENT(ROW(AL648)-2, 10), 1 + MOD(ROW(AL648)-2, 10))","v":0}]
[null,null,null,null,null,null,null,null,null,null,null,null,null,null,null,null,null,null,null,null,null,null,null,null,null,null,null,null,null,null,null,null,null,null,2044,"非住宅","RC造",{"$f":"INDEX('係数表2-3'!$B:$K, 10 + QUOTIENT(ROW(AL649)-2, 10), 1 + MOD(ROW(AL649)-2, 10))","v":0}]
[null,null,null,null,null,null,null,null,null,null,null,null,null,null,null,null,null,null,null,null,null,null,null,null,null,null,null,null,null,null,null,null,null,null,2044,"非住宅","S造",{"$f":"INDEX('係数表2-3'!$B:$K, 10 + QUOTIENT(ROW(AL650)-2, 10), 1 + MOD(ROW(AL650)-2, 10))","v":0}]
[null,null,null,null,null,null,null,null,null,null,null,null,null,null,null,null,null,null,null,null,null,null,null,null,null,null,null,null,null,null,null,null,null,null,2044,"非住宅","その他",{"$f":"INDEX('係数表2-3'!$B:$K, 10 + QUOTIENT(ROW(AL651)-2, 10), 1 + MOD(ROW(AL651)-2, 10))","v":0}]
[null,null,null,null,null,null,null,null,null,null,null,null,null,null,null,null,null,null,null,null,null,null,null,null,null,null,null,null,null,null,null,null,null,null,2045,"住宅","木造",{"$f":"INDEX('係数表2-3'!$B:$K, 10 + QUOTIENT(ROW(AL652)-2, 10), 1 + MOD(ROW(AL652)-2, 10))","v":0}]
[null,null,null,null,null,null,null,null,null,null,null,null,null,null,null,null,null,null,null,null,null,null,null,null,null,null,null,null,null,null,null,null,null,null,2045,"住宅","SRC造",{"$f":"INDEX('係数表2-3'!$B:$K, 10 + QUOTIENT(ROW(AL653)-2, 10), 1 + MOD(ROW(AL653)-2, 10))","v":0}]
[null,null,null,null,null,null,null,null,null,null,null,null,null,null,null,null,null,null,null,null,null,null,null,null,null,null,null,null,null,null,null,null,null,null,2045,"住宅","RC造",{"$f":"INDEX('係数表2-3'!$B:$K, 10 + QUOTIENT(ROW(AL654)-2, 10), 1 + MOD(ROW(AL654)-2, 10))","v":0}]
[null,null,null,null,null,null,null,null,null,null,null,null,null,null,null,null,null,null,null,null,null,null,null,null,null,null,null,null,null,null,null,null,null,null,2045,"住宅","S造",{"$f":"INDEX('係数表2-3'!$B:$K, 10 + QUOTIENT(ROW(AL655)-2, 10), 1 + MOD(ROW(AL655)-2, 10))","v":0}]
[null,null,null,null,null,null,null,null,null,null,null,null,null,null,null,null,null,null,null,null,null,null,null,null,null,null,null,null,null,null,null,null,null,null,2045,"住宅","その他",{"$f":"INDEX('係数表2-3'!$B:$K, 10 + QUOTIENT(ROW(AL656)-2, 10), 1 + MOD(ROW(AL656)-2, 10))","v":0}]
[null,null,null,null,null,null,null,null,null,null,null,null,null,null,null,null,null,null,null,null,null,null,null,null,null,null,null,null,null,null,null,null,null,null,2045,"非住宅","木造",{"$f":"INDEX('係数表2-3'!$B:$K, 10 + QUOTIENT(ROW(AL657)-2, 10), 1 + MOD(ROW(AL657)-2, 10))","v":0}]
[null,null,null,null,null,null,null,null,null,null,null,null,null,null,null,null,null,null,null,null,null,null,null,null,null,null,null,null,null,null,null,null,null,null,2045,"非住宅","SRC造",{"$f":"INDEX('係数表2-3'!$B:$K, 10 + QUOTIENT(ROW(AL658)-2, 10), 1 + MOD(ROW(AL658)-2, 10))","v":0}]
[null,null,null,null,null,null,null,null,null,null,null,null,null,null,null,null,null,null,null,null,null,null,null,null,null,null,null,null,null,null,null,null,null,null,2045,"非住宅","RC造",{"$f":"INDEX('係数表2-3'!$B:$K, 10 + QUOTIENT(ROW(AL659)-2, 10), 1 + MOD(ROW(AL659)-2, 10))","v":0}]
[null,null,null,null,null,null,null,null,null,null,null,null,null,null,null,null,null,null,null,null,null,null,null,null,null,null,null,null,null,null,null,null,null,null,2045,"非住宅","S造",{"$f":"INDEX('係数表2-3'!$B:$K, 10 + QUOTIENT(ROW(AL660)-2, 10), 1 + MOD(ROW(AL660)-2, 10))","v":0}]
[null,null,null,null,null,null,null,null,null,null,null,null,null,null,null,null,null,null,null,null,null,null,null,null,null,null,null,null,null,null,null,null,null,null,2045,"非住宅","その他",{"$f":"INDEX('係数表2-3'!$B:$K, 10 + QUOTIENT(ROW(AL661)-2, 10), 1 + MOD(ROW(AL661)-2, 10))","v":0}]
[null,null,null,null,null,null,null,null,null,null,null,null,null,null,null,null,null,null,null,null,null,null,null,null,null,null,null,null,null,null,null,null,null,null,2046,"住宅","木造",{"$f":"INDEX('係数表2-3'!$B:$K, 10 + QUOTIENT(ROW(AL662)-2, 10), 1 + MOD(ROW(AL662)-2, 10))","v":0}]
[null,null,null,null,null,null,null,null,null,null,null,null,null,null,null,null,null,null,null,null,null,null,null,null,null,null,null,null,null,null,null,null,null,null,2046,"住宅","SRC造",{"$f":"INDEX('係数表2-3'!$B:$K, 10 + QUOTIENT(ROW(AL663)-2, 10), 1 + MOD(ROW(AL663)-2, 10))","v":0}]
[null,null,null,null,null,null,null,null,null,null,null,null,null,null,null,null,null,null,null,null,null,null,null,null,null,null,null,null,null,null,null,null,null,null,2046,"住宅","RC造",{"$f":"INDEX('係数表2-3'!$B:$K, 10 + QUOTIENT(ROW(AL664)-2, 10), 1 + MOD(ROW(AL664)-2, 10))","v":0}]
[null,null,null,null,null,null,null,null,null,null,null,null,null,null,null,null,null,null,null,null,null,null,null,null,null,null,null,null,null,null,null,null,null,null,2046,"住宅","S造",{"$f":"INDEX('係数表2-3'!$B:$K, 10 + QUOTIENT(ROW(AL665)-2, 10), 1 + MOD(ROW(AL665)-2, 10))","v":0}]
[null,null,null,null,null,null,null,null,null,null,null,null,null,null,null,null,null,null,null,null,null,null,null,null,null,null,null,null,null,null,null,null,null,null,2046,"住宅","その他",{"$f":"INDEX('係数表2-3'!$B:$K, 10 + QUOTIENT(ROW(AL666)-2, 10), 1 + MOD(ROW(AL666)-2, 10))","v":0}]
[null,null,null,null,null,null,null,null,null,null,null,null,null,null,null,null,null,null,null,null,null,null,null,null,null,null,null,null,null,null,null,null,null,null,2046,"非住宅","木造",{"$f":"INDEX('係数表2-3'!$B:$K, 10 + QUOTIENT(ROW(AL667)-2, 10), 1 + MOD(ROW(AL667)-2, 10))","v":0}]
[null,null,null,null,null,null,null,null,null,null,null,null,null,null,null,null,null,null,null,null,null,null,null,null,null,null,null,null,null,null,null,null,null,null,2046,"非住宅","SRC造",{"$f":"INDEX('係数表2-3'!$B:$K, 10 + QUOTIENT(ROW(AL668)-2, 10), 1 + MOD(ROW(AL668)-2, 10))","v":0}]
[null,null,null,null,null,null,null,null,null,null,null,null,null,null,null,null,null,null,null,null,null,null,null,null,null,null,null,null,null,null,null,null,null,null,2046,"非住宅","RC造",{"$f":"INDEX('係数表2-3'!$B:$K, 10 + QUOTIENT(ROW(AL669)-2, 10), 1 + MOD(ROW(AL669)-2, 10))","v":0}]
[null,null,null,null,null,null,null,null,null,null,null,null,null,null,null,null,null,null,null,null,null,null,null,null,null,null,null,null,null,null,null,null,null,null,2046,"非住宅","S造",{"$f":"INDEX('係数表2-3'!$B:$K, 10 + QUOTIENT(ROW(AL670)-2, 10), 1 + MOD(ROW(AL670)-2, 10))","v":0}]
[null,null,null,null,null,null,null,null,null,null,null,null,null,null,null,null,null,null,null,null,null,null,null,null,null,null,null,null,null,null,null,null,null,null,2046,"非住宅","その他",{"$f":"INDEX('係数表2-3'!$B:$K, 10 + QUOTIENT(ROW(AL671)-2, 10), 1 + MOD(ROW(AL671)-2, 10))","v":0}]
[null,null,null,null,null,null,null,null,null,null,null,null,null,null,null,null,null,null,null,null,null,null,null,null,null,null,null,null,null,null,null,null,null,null,2047,"住宅","木造",{"$f":"INDEX('係数表2-3'!$B:$K, 10 + QUOTIENT(ROW(AL672)-2, 10), 1 + MOD(ROW(AL672)-2, 10))","v":0}]
[null,null,null,null,null,null,null,null,null,null,null,null,null,null,null,null,null,null,null,null,null,null,null,null,null,null,null,null,null,null,null,null,null,null,2047,"住宅","SRC造",{"$f":"INDEX('係数表2-3'!$B:$K, 10 + QUOTIENT(ROW(AL673)-2, 10), 1 + MOD(ROW(AL673)-2, 10))","v":0}]
[null,null,null,null,null,null,null,null,null,null,null,null,null,null,null,null,null,null,null,null,null,null,null,null,null,null,null,null,null,null,null,null,null,null,2047,"住宅","RC造",{"$f":"INDEX('係数表2-3'!$B:$K, 10 + QUOTIENT(ROW(AL674)-2, 10), 1 + MOD(ROW(AL674)-2, 10))","v":0}]
[null,null,null,null,null,null,null,null,null,null,null,null,null,null,null,null,null,null,null,null,null,null,null,null,null,null,null,null,null,null,null,null,null,null,2047,"住宅","S造",{"$f":"INDEX('係数表2-3'!$B:$K, 10 + QUOTIENT(ROW(AL675)-2, 10), 1 + MOD(ROW(AL675)-2, 10))","v":0}]
[null,null,null,null,null,null,null,null,null,null,null,null,null,null,null,null,null,null,null,null,null,null,null,null,null,null,null,null,null,null,null,null,null,null,2047,"住宅","その他",{"$f":"INDEX('係数表2-3'!$B:$K, 10 + QUOTIENT(ROW(AL676)-2, 10), 1 + MOD(ROW(AL676)-2, 10))","v":0}]
[null,null,null,null,null,null,null,null,null,null,null,null,null,null,null,null,null,null,null,null,null,null,null,null,null,null,null,null,null,null,null,null,null,null,2047,"非住宅","木造",{"$f":"INDEX('係数表2-3'!$B:$K, 10 + QUOTIENT(ROW(AL677)-2, 10), 1 + MOD(ROW(AL677)-2, 10))","v":0}]
[null,null,null,null,null,null,null,null,null,null,null,null,null,null,null,null,null,null,null,null,null,null,null,null,null,null,null,null,null,null,null,null,null,null,2047,"非住宅","SRC造",{"$f":"INDEX('係数表2-3'!$B:$K, 10 + QUOTIENT(ROW(AL678)-2, 10), 1 + MOD(ROW(AL678)-2, 10))","v":0}]
[null,null,null,null,null,null,null,null,null,null,null,null,null,null,null,null,null,null,null,null,null,null,null,null,null,null,null,null,null,null,null,null,null,null,2047,"非住宅","RC造",{"$f":"INDEX('係数表2-3'!$B:$K, 10 + QUOTIENT(ROW(AL679)-2, 10), 1 + MOD(ROW(AL679)-2, 10))","v":0}]
[null,null,null,null,null,null,null,null,null,null,null,null,null,null,null,null,null,null,null,null,null,null,null,null,null,null,null,null,null,null,null,null,null,null,2047,"非住宅","S造",{"$f":"INDEX('係数表2-3'!$B:$K, 10 + QUOTIENT(ROW(AL680)-2, 10), 1 + MOD(ROW(AL680)-2, 10))","v":0}]
[null,null,null,null,null,null,null,null,null,null,null,null,null,null,null,null,null,null,null,null,null,null,null,null,null,null,null,null,null,null,null,null,null,null,2047,"非住宅","その他",{"$f":"INDEX('係数表2-3'!$B:$K, 10 + QUOTIENT(ROW(AL681)-2, 10), 1 + MOD(ROW(AL681)-2, 10))","v":0}]
[null,null,null,null,null,null,null,null,null,null,null,null,null,null,null,null,null,null,null,null,null,null,null,null,null,null,null,null,null,null,null,null,null,null,2048,"住宅","木造",{"$f":"INDEX('係数表2-3'!$B:$K, 10 + QUOTIENT(ROW(AL682)-2, 10), 1 + MOD(ROW(AL682)-2, 10))","v":0}]
[null,null,null,null,null,null,null,null,null,null,null,null,null,null,null,null,null,null,null,null,null,null,null,null,null,null,null,null,null,null,null,null,null,null,2048,"住宅","SRC造",{"$f":"INDEX('係数表2-3'!$B:$K, 10 + QUOTIENT(ROW(AL683)-2, 10), 1 + MOD(ROW(AL683)-2, 10))","v":0}]
[null,null,null,null,null,null,null,null,null,null,null,null,null,null,null,null,null,null,null,null,null,null,null,null,null,null,null,null,null,null,null,null,null,null,2048,"住宅","RC造",{"$f":"INDEX('係数表2-3'!$B:$K, 10 + QUOTIENT(ROW(AL684)-2, 10), 1 + MOD(ROW(AL684)-2, 10))","v":0}]
[null,null,null,null,null,null,null,null,null,null,null,null,null,null,null,null,null,null,null,null,null,null,null,null,null,null,null,null,null,null,null,null,null,null,2048,"住宅","S造",{"$f":"INDEX('係数表2-3'!$B:$K, 10 + QUOTIENT(ROW(AL685)-2, 10), 1 + MOD(ROW(AL685)-2, 10))","v":0}]
[null,null,null,null,null,null,null,null,null,null,null,null,null,null,null,null,null,null,null,null,null,null,null,null,null,null,null,null,null,null,null,null,null,null,2048,"住宅","その他",{"$f":"INDEX('係数表2-3'!$B:$K, 10 + QUOTIENT(ROW(AL686)-2, 10), 1 + MOD(ROW(AL686)-2, 10))","v":0}]
[null,null,null,null,null,null,null,null,null,null,null,null,null,null,null,null,null,null,null,null,null,null,null,null,null,null,null,null,null,null,null,null,null,null,2048,"非住宅","木造",{"$f":"INDEX('係数表2-3'!$B:$K, 10 + QUOTIENT(ROW(AL687)-2, 10), 1 + MOD(ROW(AL687)-2, 10))","v":0}]
[null,null,null,null,null,null,null,null,null,null,null,null,null,null,null,null,null,null,null,null,null,null,null,null,null,null,null,null,null,null,null,null,null,null,2048,"非住宅","SRC造",{"$f":"INDEX('係数表2-3'!$B:$K, 10 + QUOTIENT(ROW(AL688)-2, 10), 1 + MOD(ROW(AL688)-2, 10))","v":0}]
[null,null,null,null,null,null,null,null,null,null,null,null,null,null,null,null,null,null,null,null,null,null,null,null,null,null,null,null,null,null,null,null,null,null,2048,"非住宅","RC造",{"$f":"INDEX('係数表2-3'!$B:$K, 10 + QUOTIENT(ROW(AL689)-2, 10), 1 + MOD(ROW(AL689)-2, 10))","v":0}]
[null,null,null,null,null,null,null,null,null,null,null,null,null,null,null,null,null,null,null,null,null,null,null,null,null,null,null,null,null,null,null,null,null,null,2048,"非住宅","S造",{"$f":"INDEX('係数表2-3'!$B:$K, 10 + QUOTIENT(ROW(AL690)-2, 10), 1 + MOD(ROW(AL690)-2, 10))","v":0}]
[null,null,null,null,null,null,null,null,null,null,null,null,null,null,null,null,null,null,null,null,null,null,null,null,null,null,null,null,null,null,null,null,null,null,2048,"非住宅","その他",{"$f":"INDEX('係数表2-3'!$B:$K, 10 + QUOTIENT(ROW(AL691)-2, 10), 1 + MOD(ROW(AL691)-2, 10))","v":0}]
[null,null,null,null,null,null,null,null,null,null,null,null,null,null,null,null,null,null,null,null,null,null,null,null,null,null,null,null,null,null,null,null,null,null,2049,"住宅","木造",{"$f":"INDEX('係数表2-3'!$B:$K, 10 + QUOTIENT(ROW(AL692)-2, 10), 1 + MOD(ROW(AL692)-2, 10))","v":0}]
[null,null,null,null,null,null,null,null,null,null,null,null,null,null,null,null,null,null,null,null,null,null,null,null,null,null,null,null,null,null,null,null,null,null,2049,"住宅","SRC造",{"$f":"INDEX('係数表2-3'!$B:$K, 10 + QUOTIENT(ROW(AL693)-2, 10), 1 + MOD(ROW(AL693)-2, 10))","v":0}]
[null,null,null,null,null,null,null,null,null,null,null,null,null,null,null,null,null,null,null,null,null,null,null,null,null,null,null,null,null,null,null,null,null,null,2049,"住宅","RC造",{"$f":"INDEX('係数表2-3'!$B:$K, 10 + QUOTIENT(ROW(AL694)-2, 10), 1 + MOD(ROW(AL694)-2, 10))","v":0}]
[null,null,null,null,null,null,null,null,null,null,null,null,null,null,null,null,null,null,null,null,null,null,null,null,null,null,null,null,null,null,null,null,null,null,2049,"住宅","S造",{"$f":"INDEX('係数表2-3'!$B:$K, 10 + QUOTIENT(ROW(AL695)-2, 10), 1 + MOD(ROW(AL695)-2, 10))","v":0}]
[null,null,null,null,null,null,null,null,null,null,null,null,null,null,null,null,null,null,null,null,null,null,null,null,null,null,null,null,null,null,null,null,null,null,2049,"住宅","その他",{"$f":"INDEX('係数表2-3'!$B:$K, 10 + QUOTIENT(ROW(AL696)-2, 10), 1 + MOD(ROW(AL696)-2, 10))","v":0}]
[null,null,null,null,null,null,null,null,null,null,null,null,null,null,null,null,null,null,null,null,null,null,null,null,null,null,null,null,null,null,null,null,null,null,2049,"非住宅","木造",{"$f":"INDEX('係数表2-3'!$B:$K, 10 + QUOTIENT(ROW(AL697)-2, 10), 1 + MOD(ROW(AL697)-2, 10))","v":0}]
[null,null,null,null,null,null,null,null,null,null,null,null,null,null,null,null,null,null,null,null,null,null,null,null,null,null,null,null,null,null,null,null,null,null,2049,"非住宅","SRC造",{"$f":"INDEX('係数表2-3'!$B:$K, 10 + QUOTIENT(ROW(AL698)-2, 10), 1 + MOD(ROW(AL698)-2, 10))","v":0}]
[null,null,null,null,null,null,null,null,null,null,null,null,null,null,null,null,null,null,null,null,null,null,null,null,null,null,null,null,null,null,null,null,null,null,2049,"非住宅","RC造",{"$f":"INDEX('係数表2-3'!$B:$K, 10 + QUOTIENT(ROW(AL699)-2, 10), 1 + MOD(ROW(AL699)-2, 10))","v":0}]
[null,null,null,null,null,null,null,null,null,null,null,null,null,null,null,null,null,null,null,null,null,null,null,null,null,null,null,null,null,null,null,null,null,null,2049,"非住宅","S造",{"$f":"INDEX('係数表2-3'!$B:$K, 10 + QUOTIENT(ROW(AL700)-2, 10), 1 + MOD(ROW(AL700)-2, 10))","v":0}]
[null,null,null,null,null,null,null,null,null,null,null,null,null,null,null,null,null,null,null,null,null,null,null,null,null,null,null,null,null,null,null,null,null,null,2049,"非住宅","その他",{"$f":"INDEX('係数表2-3'!$B:$K, 10 + QUOTIENT(ROW(AL701)-2, 10), 1 + MOD(ROW(AL701)-2, 10))","v":0}]
[null,null,null,null,null,null,null,null,null,null,null,null,null,null,null,null,null,null,null,null,null,null,null,null,null,null,null,null,null,null,null,null,null,null,2050,"住宅","木造",{"$f":"INDEX('係数表2-3'!$B:$K, 10 + QUOTIENT(ROW(AL702)-2, 10), 1 + MOD(ROW(AL702)-2, 10))","v":0}]
[null,null,null,null,null,null,null,null,null,null,null,null,null,null,null,null,null,null,null,null,null,null,null,null,null,null,null,null,null,null,null,null,null,null,2050,"住宅","SRC造",{"$f":"INDEX('係数表2-3'!$B:$K, 10 + QUOTIENT(ROW(AL703)-2, 10), 1 + MOD(ROW(AL703)-2, 10))","v":0}]
[null,null,null,null,null,null,null,null,null,null,null,null,null,null,null,null,null,null,null,null,null,null,null,null,null,null,null,null,null,null,null,null,null,null,2050,"住宅","RC造",{"$f":"INDEX('係数表2-3'!$B:$K, 10 + QUOTIENT(ROW(AL704)-2, 10), 1 + MOD(ROW(AL704)-2, 10))","v":0}]
[null,null,null,null,null,null,null,null,null,null,null,null,null,null,null,null,null,null,null,null,null,null,null,null,null,null,null,null,null,null,null,null,null,null,2050,"住宅","S造",{"$f":"INDEX('係数表2-3'!$B:$K, 10 + QUOTIENT(ROW(AL705)-2, 10), 1 + MOD(ROW(AL705)-2, 10))","v":0}]
[null,null,null,null,null,null,null,null,null,null,null,null,null,null,null,null,null,null,null,null,null,null,null,null,null,null,null,null,null,null,null,null,null,null,2050,"住宅","その他",{"$f":"INDEX('係数表2-3'!$B:$K, 10 + QUOTIENT(ROW(AL706)-2, 10), 1 + MOD(ROW(AL706)-2, 10))","v":0}]
[null,null,null,null,null,null,null,null,null,null,null,null,null,null,null,null,null,null,null,null,null,null,null,null,null,null,null,null,null,null,null,null,null,null,2050,"非住宅","木造",{"$f":"INDEX('係数表2-3'!$B:$K, 10 + QUOTIENT(ROW(AL707)-2, 10), 1 + MOD(ROW(AL707)-2, 10))","v":0}]
[null,null,null,null,null,null,null,null,null,null,null,null,null,null,null,null,null,null,null,null,null,null,null,null,null,null,null,null,null,null,null,null,null,null,2050,"非住宅","SRC造",{"$f":"INDEX('係数表2-3'!$B:$K, 10 + QUOTIENT(ROW(AL708)-2, 10), 1 + MOD(ROW(AL708)-2, 10))","v":0}]
[null,null,null,null,null,null,null,null,null,null,null,null,null,null,null,null,null,null,null,null,null,null,null,null,null,null,null,null,null,null,null,null,null,null,2050,"非住宅","RC造",{"$f":"INDEX('係数表2-3'!$B:$K, 10 + QUOTIENT(ROW(AL709)-2, 10), 1 + MOD(ROW(AL709)-2, 10))","v":0}]
[null,null,null,null,null,null,null,null,null,null,null,null,null,null,null,null,null,null,null,null,null,null,null,null,null,null,null,null,null,null,null,null,null,null,2050,"非住宅","S造",{"$f":"INDEX('係数表2-3'!$B:$K, 10 + QUOTIENT(ROW(AL710)-2, 10), 1 + MOD(ROW(AL710)-2, 10))","v":0}]
[null,null,null,null,null,null,null,null,null,null,null,null,null,null,null,null,null,null,null,null,null,null,null,null,null,null,null,null,null,null,null,null,null,null,2050,"非住宅","その他",{"$f":"INDEX('係数表2-3'!$B:$K, 10 + QUOTIENT(ROW(AL711)-2, 10), 1 + MOD(ROW(AL711)-2, 10))","v":0}]
[null,null,null,null,null,null,null,null,null,null,null,null,null,null,null,null,null,null,null,null,null,null,null,null,null,null,null,null,null,null,null,null,null,null,2051,"住宅","木造",{"$f":"INDEX('係数表2-3'!$B:$K, 10 + QUOTIENT(ROW(AL712)-2, 10), 1 + MOD(ROW(AL712)-2, 10))","v":0}]
[null,null,null,null,null,null,null,null,null,null,null,null,null,null,null,null,null,null,null,null,null,null,null,null,null,null,null,null,null,null,null,null,null,null,2051,"住宅","SRC造",{"$f":"INDEX('係数表2-3'!$B:$K, 10 + QUOTIENT(ROW(AL713)-2, 10), 1 + MOD(ROW(AL713)-2, 10))","v":0}]
[null,null,null,null,null,null,null,null,null,null,null,null,null,null,null,null,null,null,null,null,null,null,null,null,null,null,null,null,null,null,null,null,null,null,2051,"住宅","RC造",{"$f":"INDEX('係数表2-3'!$B:$K, 10 + QUOTIENT(ROW(AL714)-2, 10), 1 + MOD(ROW(AL714)-2, 10))","v":0}]
[null,null,null,null,null,null,null,null,null,null,null,null,null,null,null,null,null,null,null,null,null,null,null,null,null,null,null,null,null,null,null,null,null,null,2051,"住宅","S造",{"$f":"INDEX('係数表2-3'!$B:$K, 10 + QUOTIENT(ROW(AL715)-2, 10), 1 + MOD(ROW(AL715)-2, 10))","v":0}]
[null,null,null,null,null,null,null,null,null,null,null,null,null,null,null,null,null,null,null,null,null,null,null,null,null,null,null,null,null,null,null,null,null,null,2051,"住宅","その他",{"$f":"INDEX('係数表2-3'!$B:$K, 10 + QUOTIENT(ROW(AL716)-2, 10), 1 + MOD(ROW(AL716)-2, 10))","v":0}]
[null,null,null,null,null,null,null,null,null,null,null,null,null,null,null,null,null,null,null,null,null,null,null,null,null,null,null,null,null,null,null,null,null,null,2051,"非住宅","木造",{"$f":"INDEX('係数表2-3'!$B:$K, 10 + QUOTIENT(ROW(AL717)-2, 10), 1 + MOD(ROW(AL717)-2, 10))","v":0}]
[null,null,null,null,null,null,null,null,null,null,null,null,null,null,null,null,null,null,null,null,null,null,null,null,null,null,null,null,null,null,null,null,null,null,2051,"非住宅","SRC造",{"$f":"INDEX('係数表2-3'!$B:$K, 10 + QUOTIENT(ROW(AL718)-2, 10), 1 + MOD(ROW(AL718)-2, 10))","v":0}]
[null,null,null,null,null,null,null,null,null,null,null,null,null,null,null,null,null,null,null,null,null,null,null,null,null,null,null,null,null,null,null,null,null,null,2051,"非住宅","RC造",{"$f":"INDEX('係数表2-3'!$B:$K, 10 + QUOTIENT(ROW(AL719)-2, 10), 1 + MOD(ROW(AL719)-2, 10))","v":0}]
[null,null,null,null,null,null,null,null,null,null,null,null,null,null,null,null,null,null,null,null,null,null,null,null,null,null,null,null,null,null,null,null,null,null,2051,"非住宅","S造",{"$f":"INDEX('係数表2-3'!$B:$K, 10 + QUOTIENT(ROW(AL720)-2, 10), 1 + MOD(ROW(AL720)-2, 10))","v":0}]
[null,null,null,null,null,null,null,null,null,null,null,null,null,null,null,null,null,null,null,null,null,null,null,null,null,null,null,null,null,null,null,null,null,null,2051,"非住宅","その他",{"$f":"INDEX('係数表2-3'!$B:$K, 10 + QUOTIENT(ROW(AL721)-2, 10), 1 + MOD(ROW(AL721)-2, 10))","v":0}]
[null,null,null,null,null,null,null,null,null,null,null,null,null,null,null,null,null,null,null,null,null,null,null,null,null,null,null,null,null,null,null,null,null,null,2052,"住宅","木造",{"$f":"INDEX('係数表2-3'!$B:$K, 10 + QUOTIENT(ROW(AL722)-2, 10), 1 + MOD(ROW(AL722)-2, 10))","v":0}]
[null,null,null,null,null,null,null,null,null,null,null,null,null,null,null,null,null,null,null,null,null,null,null,null,null,null,null,null,null,null,null,null,null,null,2052,"住宅","SRC造",{"$f":"INDEX('係数表2-3'!$B:$K, 10 + QUOTIENT(ROW(AL723)-2, 10), 1 + MOD(ROW(AL723)-2, 10))","v":0}]
[null,null,null,null,null,null,null,null,null,null,null,null,null,null,null,null,null,null,null,null,null,null,null,null,null,null,null,null,null,null,null,null,null,null,2052,"住宅","RC造",{"$f":"INDEX('係数表2-3'!$B:$K, 10 + QUOTIENT(ROW(AL724)-2, 10), 1 + MOD(ROW(AL724)-2, 10))","v":0}]
[null,null,null,null,null,null,null,null,null,null,null,null,null,null,null,null,null,null,null,null,null,null,null,null,null,null,null,null,null,null,null,null,null,null,2052,"住宅","S造",{"$f":"INDEX('係数表2-3'!$B:$K, 10 + QUOTIENT(ROW(AL725)-2, 10), 1 + MOD(ROW(AL725)-2, 10))","v":0}]
[null,null,null,null,null,null,null,null,null,null,null,null,null,null,null,null,null,null,null,null,null,null,null,null,null,null,null,null,null,null,null,null,null,null,2052,"住宅","その他",{"$f":"INDEX('係数表2-3'!$B:$K, 10 + QUOTIENT(ROW(AL726)-2, 10), 1 + MOD(ROW(AL726)-2, 10))","v":0}]
[null,null,null,null,null,null,null,null,null,null,null,null,null,null,null,null,null,null,null,null,null,null,null,null,null,null,null,null,null,null,null,null,null,null,2052,"非住宅","木造",{"$f":"INDEX('係数表2-3'!$B:$K, 10 + QUOTIENT(ROW(AL727)-2, 10), 1 + MOD(ROW(AL727)-2, 10))","v":0}]
[null,null,null,null,null,null,null,null,null,null,null,null,null,null,null,null,null,null,null,null,null,null,null,null,null,null,null,null,null,null,null,null,null,null,2052,"非住宅","SRC造",{"$f":"INDEX('係数表2-3'!$B:$K, 10 + QUOTIENT(ROW(AL728)-2, 10), 1 + MOD(ROW(AL728)-2, 10))","v":0}]
[null,null,null,null,null,null,null,null,null,null,null,null,null,null,null,null,null,null,null,null,null,null,null,null,null,null,null,null,null,null,null,null,null,null,2052,"非住宅","RC造",{"$f":"INDEX('係数表2-3'!$B:$K, 10 + QUOTIENT(ROW(AL729)-2, 10), 1 + MOD(ROW(AL729)-2, 10))","v":0}]
[null,null,null,null,null,null,null,null,null,null,null,null,null,null,null,null,null,null,null,null,null,null,null,null,null,null,null,null,null,null,null,null,null,null,2052,"非住宅","S造",{"$f":"INDEX('係数表2-3'!$B:$K, 10 + QUOTIENT(ROW(AL730)-2, 10), 1 + MOD(ROW(AL730)-2, 10))","v":0}]
[null,null,null,null,null,null,null,null,null,null,null,null,null,null,null,null,null,null,null,null,null,null,null,null,null,null,null,null,null,null,null,null,null,null,2052,"非住宅","その他",{"$f":"INDEX('係数表2-3'!$B:$K, 10 + QUOTIENT(ROW(AL731)-2, 10), 1 + MOD(ROW(AL731)-2, 10))","v":0}]
[null,null,null,null,null,null,null,null,null,null,null,null,null,null,null,null,null,null,null,null,null,null,null,null,null,null,null,null,null,null,null,null,null,null,2053,"住宅","木造",{"$f":"INDEX('係数表2-3'!$B:$K, 10 + QUOTIENT(ROW(AL732)-2, 10), 1 + MOD(ROW(AL732)-2, 10))","v":0}]
[null,null,null,null,null,null,null,null,null,null,null,null,null,null,null,null,null,null,null,null,null,null,null,null,null,null,null,null,null,null,null,null,null,null,2053,"住宅","SRC造",{"$f":"INDEX('係数表2-3'!$B:$K, 10 + QUOTIENT(ROW(AL733)-2, 10), 1 + MOD(ROW(AL733)-2, 10))","v":0}]
[null,null,null,null,null,null,null,null,null,null,null,null,null,null,null,null,null,null,null,null,null,null,null,null,null,null,null,null,null,null,null,null,null,null,2053,"住宅","RC造",{"$f":"INDEX('係数表2-3'!$B:$K, 10 + QUOTIENT(ROW(AL734)-2, 10), 1 + MOD(ROW(AL734)-2, 10))","v":0}]
[null,null,null,null,null,null,null,null,null,null,null,null,null,null,null,null,null,null,null,null,null,null,null,null,null,null,null,null,null,null,null,null,null,null,2053,"住宅","S造",{"$f":"INDEX('係数表2-3'!$B:$K, 10 + QUOTIENT(ROW(AL735)-2, 10), 1 + MOD(ROW(AL735)-2, 10))","v":0}]
[null,null,null,null,null,null,null,null,null,null,null,null,null,null,null,null,null,null,null,null,null,null,null,null,null,null,null,null,null,null,null,null,null,null,2053,"住宅","その他",{"$f":"INDEX('係数表2-3'!$B:$K, 10 + QUOTIENT(ROW(AL736)-2, 10), 1 + MOD(ROW(AL736)-2, 10))","v":0}]
[null,null,null,null,null,null,null,null,null,null,null,null,null,null,null,null,null,null,null,null,null,null,null,null,null,null,null,null,null,null,null,null,null,null,2053,"非住宅","木造",{"$f":"INDEX('係数表2-3'!$B:$K, 10 + QUOTIENT(ROW(AL737)-2, 10), 1 + MOD(ROW(AL737)-2, 10))","v":0}]
[null,null,null,null,null,null,null,null,null,null,null,null,null,null,null,null,null,null,null,null,null,null,null,null,null,null,null,null,null,null,null,null,null,null,2053,"非住宅","SRC造",{"$f":"INDEX('係数表2-3'!$B:$K, 10 + QUOTIENT(ROW(AL738)-2, 10), 1 + MOD(ROW(AL738)-2, 10))","v":0}]
[null,null,null,null,null,null,null,null,null,null,null,null,null,null,null,null,null,null,null,null,null,null,null,null,null,null,null,null,null,null,null,null,null,null,2053,"非住宅","RC造",{"$f":"INDEX('係数表2-3'!$B:$K, 10 + QUOTIENT(ROW(AL739)-2, 10), 1 + MOD(ROW(AL739)-2, 10))","v":0}]
[null,null,null,null,null,null,null,null,null,null,null,null,null,null,null,null,null,null,null,null,null,null,null,null,null,null,null,null,null,null,null,null,null,null,2053,"非住宅","S造",{"$f":"INDEX('係数表2-3'!$B:$K, 10 + QUOTIENT(ROW(AL740)-2, 10), 1 + MOD(ROW(AL740)-2, 10))","v":0}]
[null,null,null,null,null,null,null,null,null,null,null,null,null,null,null,null,null,null,null,null,null,null,null,null,null,null,null,null,null,null,null,null,null,null,2053,"非住宅","その他",{"$f":"INDEX('係数表2-3'!$B:$K, 10 + QUOTIENT(ROW(AL741)-2, 10), 1 + MOD(ROW(AL741)-2, 10))","v":0}]
[null,null,null,null,null,null,null,null,null,null,null,null,null,null,null,null,null,null,null,null,null,null,null,null,null,null,null,null,null,null,null,null,null,null,2054,"住宅","木造",{"$f":"INDEX('係数表2-3'!$B:$K, 10 + QUOTIENT(ROW(AL742)-2, 10), 1 + MOD(ROW(AL742)-2, 10))","v":0}]
[null,null,null,null,null,null,null,null,null,null,null,null,null,null,null,null,null,null,null,null,null,null,null,null,null,null,null,null,null,null,null,null,null,null,2054,"住宅","SRC造",{"$f":"INDEX('係数表2-3'!$B:$K, 10 + QUOTIENT(ROW(AL743)-2, 10), 1 + MOD(ROW(AL743)-2, 10))","v":0}]
[null,null,null,null,null,null,null,null,null,null,null,null,null,null,null,null,null,null,null,null,null,null,null,null,null,null,null,null,null,null,null,null,null,null,2054,"住宅","RC造",{"$f":"INDEX('係数表2-3'!$B:$K, 10 + QUOTIENT(ROW(AL744)-2, 10), 1 + MOD(ROW(AL744)-2, 10))","v":0}]
[null,null,null,null,null,null,null,null,null,null,null,null,null,null,null,null,null,null,null,null,null,null,null,null,null,null,null,null,null,null,null,null,null,null,2054,"住宅","S造",{"$f":"INDEX('係数表2-3'!$B:$K, 10 + QUOTIENT(ROW(AL745)-2, 10), 1 + MOD(ROW(AL745)-2, 10))","v":0}]
[null,null,null,null,null,null,null,null,null,null,null,null,null,null,null,null,null,null,null,null,null,null,null,null,null,null,null,null,null,null,null,null,null,null,2054,"住宅","その他",{"$f":"INDEX('係数表2-3'!$B:$K, 10 + QUOTIENT(ROW(AL746)-2, 10), 1 + MOD(ROW(AL746)-2, 10))","v":0}]
[null,null,null,null,null,null,null,null,null,null,null,null,null,null,null,null,null,null,null,null,null,null,null,null,null,null,null,null,null,null,null,null,null,null,2054,"非住宅","木造",{"$f":"INDEX('係数表2-3'!$B:$K, 10 + QUOTIENT(ROW(AL747)-2, 10), 1 + MOD(ROW(AL747)-2, 10))","v":0}]
[null,null,null,null,null,null,null,null,null,null,null,null,null,null,null,null,null,null,null,null,null,null,null,null,null,null,null,null,null,null,null,null,null,null,2054,"非住宅","SRC造",{"$f":"INDEX('係数表2-3'!$B:$K, 10 + QUOTIENT(ROW(AL748)-2, 10), 1 + MOD(ROW(AL748)-2, 10))","v":0}]
[null,null,null,null,null,null,null,null,null,null,null,null,null,null,null,null,null,null,null,null,null,null,null,null,null,null,null,null,null,null,null,null,null,null,2054,"非住宅","RC造",{"$f":"INDEX('係数表2-3'!$B:$K, 10 + QUOTIENT(ROW(AL749)-2, 10), 1 + MOD(ROW(AL749)-2, 10))","v":0}]
[null,null,null,null,null,null,null,null,null,null,null,null,null,null,null,null,null,null,null,null,null,null,null,null,null,null,null,null,null,null,null,null,null,null,2054,"非住宅","S造",{"$f":"INDEX('係数表2-3'!$B:$K, 10 + QUOTIENT(ROW(AL750)-2, 10), 1 + MOD(ROW(AL750)-2, 10))","v":0}]
[null,null,null,null,null,null,null,null,null,null,null,null,null,null,null,null,null,null,null,null,null,null,null,null,null,null,null,null,null,null,null,null,null,null,2054,"非住宅","その他",{"$f":"INDEX('係数表2-3'!$B:$K, 10 + QUOTIENT(ROW(AL751)-2, 10), 1 + MOD(ROW(AL751)-2, 10))","v":0}]
[null,null,null,null,null,null,null,null,null,null,null,null,null,null,null,null,null,null,null,null,null,null,null,null,null,null,null,null,null,null,null,null,null,null,2055,"住宅","木造",{"$f":"INDEX('係数表2-3'!$B:$K, 10 + QUOTIENT(ROW(AL752)-2, 10), 1 + MOD(ROW(AL752)-2, 10))","v":0}]
[null,null,null,null,null,null,null,null,null,null,null,null,null,null,null,null,null,null,null,null,null,null,null,null,null,null,null,null,null,null,null,null,null,null,2055,"住宅","SRC造",{"$f":"INDEX('係数表2-3'!$B:$K, 10 + QUOTIENT(ROW(AL753)-2, 10), 1 + MOD(ROW(AL753)-2, 10))","v":0}]
[null,null,null,null,null,null,null,null,null,null,null,null,null,null,null,null,null,null,null,null,null,null,null,null,null,null,null,null,null,null,null,null,null,null,2055,"住宅","RC造",{"$f":"INDEX('係数表2-3'!$B:$K, 10 + QUOTIENT(ROW(AL754)-2, 10), 1 + MOD(ROW(AL754)-2, 10))","v":0}]
[null,null,null,null,null,null,null,null,null,null,null,null,null,null,null,null,null,null,null,null,null,null,null,null,null,null,null,null,null,null,null,null,null,null,2055,"住宅","S造",{"$f":"INDEX('係数表2-3'!$B:$K, 10 + QUOTIENT(ROW(AL755)-2, 10), 1 + MOD(ROW(AL755)-2, 10))","v":0}]
[null,null,null,null,null,null,null,null,null,null,null,null,null,null,null,null,null,null,null,null,null,null,null,null,null,null,null,null,null,null,null,null,null,null,2055,"住宅","その他",{"$f":"INDEX('係数表2-3'!$B:$K, 10 + QUOTIENT(ROW(AL756)-2, 10), 1 + MOD(ROW(AL756)-2, 10))","v":0}]
[null,null,null,null,null,null,null,null,null,null,null,null,null,null,null,null,null,null,null,null,null,null,null,null,null,null,null,null,null,null,null,null,null,null,2055,"非住宅","木造",{"$f":"INDEX('係数表2-3'!$B:$K, 10 + QUOTIENT(ROW(AL757)-2, 10), 1 + MOD(ROW(AL757)-2, 10))","v":0}]
[null,null,null,null,null,null,null,null,null,null,null,null,null,null,null,null,null,null,null,null,null,null,null,null,null,null,null,null,null,null,null,null,null,null,2055,"非住宅","SRC造",{"$f":"INDEX('係数表2-3'!$B:$K, 10 + QUOTIENT(ROW(AL758)-2, 10), 1 + MOD(ROW(AL758)-2, 10))","v":0}]
[null,null,null,null,null,null,null,null,null,null,null,null,null,null,null,null,null,null,null,null,null,null,null,null,null,null,null,null,null,null,null,null,null,null,2055,"非住宅","RC造",{"$f":"INDEX('係数表2-3'!$B:$K, 10 + QUOTIENT(ROW(AL759)-2, 10), 1 + MOD(ROW(AL759)-2, 10))","v":0}]
[null,null,null,null,null,null,null,null,null,null,null,null,null,null,null,null,null,null,null,null,null,null,null,null,null,null,null,null,null,null,null,null,null,null,2055,"非住宅","S造",{"$f":"INDEX('係数表2-3'!$B:$K, 10 + QUOTIENT(ROW(AL760)-2, 10), 1 + MOD(ROW(AL760)-2, 10))","v":0}]
[null,null,null,null,null,null,null,null,null,null,null,null,null,null,null,null,null,null,null,null,null,null,null,null,null,null,null,null,null,null,null,null,null,null,2055,"非住宅","その他",{"$f":"INDEX('係数表2-3'!$B:$K, 10 + QUOTIENT(ROW(AL761)-2, 10), 1 + MOD(ROW(AL761)-2, 10))","v":0}]
[null,null,null,null,null,null,null,null,null,null,null,null,null,null,null,null,null,null,null,null,null,null,null,null,null,null,null,null,null,null,null,null,null,null,2056,"住宅","木造",{"$f":"INDEX('係数表2-3'!$B:$K, 10 + QUOTIENT(ROW(AL762)-2, 10), 1 + MOD(ROW(AL762)-2, 10))","v":0}]
[null,null,null,null,null,null,null,null,null,null,null,null,null,null,null,null,null,null,null,null,null,null,null,null,null,null,null,null,null,null,null,null,null,null,2056,"住宅","SRC造",{"$f":"INDEX('係数表2-3'!$B:$K, 10 + QUOTIENT(ROW(AL763)-2, 10), 1 + MOD(ROW(AL763)-2, 10))","v":0}]
[null,null,null,null,null,null,null,null,null,null,null,null,null,null,null,null,null,null,null,null,null,null,null,null,null,null,null,null,null,null,null,null,null,null,2056,"住宅","RC造",{"$f":"INDEX('係数表2-3'!$B:$K, 10 + QUOTIENT(ROW(AL764)-2, 10), 1 + MOD(ROW(AL764)-2, 10))","v":0}]
[null,null,null,null,null,null,null,null,null,null,null,null,null,null,null,null,null,null,null,null,null,null,null,null,null,null,null,null,null,null,null,null,null,null,2056,"住宅","S造",{"$f":"INDEX('係数表2-3'!$B:$K, 10 + QUOTIENT(ROW(AL765)-2, 10), 1 + MOD(ROW(AL765)-2, 10))","v":0}]
[null,null,null,null,null,null,null,null,null,null,null,null,null,null,null,null,null,null,null,null,null,null,null,null,null,null,null,null,null,null,null,null,null,null,2056,"住宅","その他",{"$f":"INDEX('係数表2-3'!$B:$K, 10 + QUOTIENT(ROW(AL766)-2, 10), 1 + MOD(ROW(AL766)-2, 10))","v":0}]
[null,null,null,null,null,null,null,null,null,null,null,null,null,null,null,null,null,null,null,null,null,null,null,null,null,null,null,null,null,null,null,null,null,null,2056,"非住宅","木造",{"$f":"INDEX('係数表2-3'!$B:$K, 10 + QUOTIENT(ROW(AL767)-2, 10), 1 + MOD(ROW(AL767)-2, 10))","v":0}]
[null,null,null,null,null,null,null,null,null,null,null,null,null,null,null,null,null,null,null,null,null,null,null,null,null,null,null,null,null,null,null,null,null,null,2056,"非住宅","SRC造",{"$f":"INDEX('係数表2-3'!$B:$K, 10 + QUOTIENT(ROW(AL768)-2, 10), 1 + MOD(ROW(AL768)-2, 10))","v":0}]
[null,null,null,null,null,null,null,null,null,null,null,null,null,null,null,null,null,null,null,null,null,null,null,null,null,null,null,null,null,null,null,null,null,null,2056,"非住宅","RC造",{"$f":"INDEX('係数表2-3'!$B:$K, 10 + QUOTIENT(ROW(AL769)-2, 10), 1 + MOD(ROW(AL769)-2, 10))","v":0}]
[null,null,null,null,null,null,null,null,null,null,null,null,null,null,null,null,null,null,null,null,null,null,null,null,null,null,null,null,null,null,null,null,null,null,2056,"非住宅","S造",{"$f":"INDEX('係数表2-3'!$B:$K, 10 + QUOTIENT(ROW(AL770)-2, 10), 1 + MOD(ROW(AL770)-2, 10))","v":0}]
[null,null,null,null,null,null,null,null,null,null,null,null,null,null,null,null,null,null,null,null,null,null,null,null,null,null,null,null,null,null,null,null,null,null,2056,"非住宅","その他",{"$f":"INDEX('係数表2-3'!$B:$K, 10 + QUOTIENT(ROW(AL771)-2, 10), 1 + MOD(ROW(AL771)-2, 10))","v":0}]
[null,null,null,null,null,null,null,null,null,null,null,null,null,null,null,null,null,null,null,null,null,null,null,null,null,null,null,null,null,null,null,null,null,null,2057,"住宅","木造",{"$f":"INDEX('係数表2-3'!$B:$K, 10 + QUOTIENT(ROW(AL772)-2, 10), 1 + MOD(ROW(AL772)-2, 10))","v":0}]
[null,null,null,null,null,null,null,null,null,null,null,null,null,null,null,null,null,null,null,null,null,null,null,null,null,null,null,null,null,null,null,null,null,null,2057,"住宅","SRC造",{"$f":"INDEX('係数表2-3'!$B:$K, 10 + QUOTIENT(ROW(AL773)-2, 10), 1 + MOD(ROW(AL773)-2, 10))","v":0}]
[null,null,null,null,null,null,null,null,null,null,null,null,null,null,null,null,null,null,null,null,null,null,null,null,null,null,null,null,null,null,null,null,null,null,2057,"住宅","RC造",{"$f":"INDEX('係数表2-3'!$B:$K, 10 + QUOTIENT(ROW(AL774)-2, 10), 1 + MOD(ROW(AL774)-2, 10))","v":0}]
[null,null,null,null,null,null,null,null,null,null,null,null,null,null,null,null,null,null,null,null,null,null,null,null,null,null,null,null,null,null,null,null,null,null,2057,"住宅","S造",{"$f":"INDEX('係数表2-3'!$B:$K, 10 + QUOTIENT(ROW(AL775)-2, 10), 1 + MOD(ROW(AL775)-2, 10))","v":0}]
[null,null,null,null,null,null,null,null,null,null,null,null,null,null,null,null,null,null,null,null,null,null,null,null,null,null,null,null,null,null,null,null,null,null,2057,"住宅","その他",{"$f":"INDEX('係数表2-3'!$B:$K, 10 + QUOTIENT(ROW(AL776)-2, 10), 1 + MOD(ROW(AL776)-2, 10))","v":0}]
[null,null,null,null,null,null,null,null,null,null,null,null,null,null,null,null,null,null,null,null,null,null,null,null,null,null,null,null,null,null,null,null,null,null,2057,"非住宅","木造",{"$f":"INDEX('係数表2-3'!$B:$K, 10 + QUOTIENT(ROW(AL777)-2, 10), 1 + MOD(ROW(AL777)-2, 10))","v":0}]
[null,null,null,null,null,null,null,null,null,null,null,null,null,null,null,null,null,null,null,null,null,null,null,null,null,null,null,null,null,null,null,null,null,null,2057,"非住宅","SRC造",{"$f":"INDEX('係数表2-3'!$B:$K, 10 + QUOTIENT(ROW(AL778)-2, 10), 1 + MOD(ROW(AL778)-2, 10))","v":0}]
[null,null,null,null,null,null,null,null,null,null,null,null,null,null,null,null,null,null,null,null,null,null,null,null,null,null,null,null,null,null,null,null,null,null,2057,"非住宅","RC造",{"$f":"INDEX('係数表2-3'!$B:$K, 10 + QUOTIENT(ROW(AL779)-2, 10), 1 + MOD(ROW(AL779)-2, 10))","v":0}]
[null,null,null,null,null,null,null,null,null,null,null,null,null,null,null,null,null,null,null,null,null,null,null,null,null,null,null,null,null,null,null,null,null,null,2057,"非住宅","S造",{"$f":"INDEX('係数表2-3'!$B:$K, 10 + QUOTIENT(ROW(AL780)-2, 10), 1 + MOD(ROW(AL780)-2, 10))","v":0}]
[null,null,null,null,null,null,null,null,null,null,null,null,null,null,null,null,null,null,null,null,null,null,null,null,null,null,null,null,null,null,null,null,null,null,2057,"非住宅","その他",{"$f":"INDEX('係数表2-3'!$B:$K, 10 + QUOTIENT(ROW(AL781)-2, 10), 1 + MOD(ROW(AL781)-2, 10))","v":0}]
[null,null,null,null,null,null,null,null,null,null,null,null,null,null,null,null,null,null,null,null,null,null,null,null,null,null,null,null,null,null,null,null,null,null,2058,"住宅","木造",{"$f":"INDEX('係数表2-3'!$B:$K, 10 + QUOTIENT(ROW(AL782)-2, 10), 1 + MOD(ROW(AL782)-2, 10))","v":0}]
[null,null,null,null,null,null,null,null,null,null,null,null,null,null,null,null,null,null,null,null,null,null,null,null,null,null,null,null,null,null,null,null,null,null,2058,"住宅","SRC造",{"$f":"INDEX('係数表2-3'!$B:$K, 10 + QUOTIENT(ROW(AL783)-2, 10), 1 + MOD(ROW(AL783)-2, 10))","v":0}]
[null,null,null,null,null,null,null,null,null,null,null,null,null,null,null,null,null,null,null,null,null,null,null,null,null,null,null,null,null,null,null,null,null,null,2058,"住宅","RC造",{"$f":"INDEX('係数表2-3'!$B:$K, 10 + QUOTIENT(ROW(AL784)-2, 10), 1 + MOD(ROW(AL784)-2, 10))","v":0}]
[null,null,null,null,null,null,null,null,null,null,null,null,null,null,null,null,null,null,null,null,null,null,null,null,null,null,null,null,null,null,null,null,null,null,2058,"住宅","S造",{"$f":"INDEX('係数表2-3'!$B:$K, 10 + QUOTIENT(ROW(AL785)-2, 10), 1 + MOD(ROW(AL785)-2, 10))","v":0}]
[null,null,null,null,null,null,null,null,null,null,null,null,null,null,null,null,null,null,null,null,null,null,null,null,null,null,null,null,null,null,null,null,null,null,2058,"住宅","その他",{"$f":"INDEX('係数表2-3'!$B:$K, 10 + QUOTIENT(ROW(AL786)-2, 10), 1 + MOD(ROW(AL786)-2, 10))","v":0}]
[null,null,null,null,null,null,null,null,null,null,null,null,null,null,null,null,null,null,null,null,null,null,null,null,null,null,null,null,null,null,null,null,null,null,2058,"非住宅","木造",{"$f":"INDEX('係数表2-3'!$B:$K, 10 + QUOTIENT(ROW(AL787)-2, 10), 1 + MOD(ROW(AL787)-2, 10))","v":0}]
[null,null,null,null,null,null,null,null,null,null,null,null,null,null,null,null,null,null,null,null,null,null,null,null,null,null,null,null,null,null,null,null,null,null,2058,"非住宅","SRC造",{"$f":"INDEX('係数表2-3'!$B:$K, 10 + QUOTIENT(ROW(AL788)-2, 10), 1 + MOD(ROW(AL788)-2, 10))","v":0}]
[null,null,null,null,null,null,null,null,null,null,null,null,null,null,null,null,null,null,null,null,null,null,null,null,null,null,null,null,null,null,null,null,null,null,2058,"非住宅","RC造",{"$f":"INDEX('係数表2-3'!$B:$K, 10 + QUOTIENT(ROW(AL789)-2, 10), 1 + MOD(ROW(AL789)-2, 10))","v":0}]
[null,null,null,null,null,null,null,null,null,null,null,null,null,null,null,null,null,null,null,null,null,null,null,null,null,null,null,null,null,null,null,null,null,null,2058,"非住宅","S造",{"$f":"INDEX('係数表2-3'!$B:$K, 10 + QUOTIENT(ROW(AL790)-2, 10), 1 + MOD(ROW(AL790)-2, 10))","v":0}]
[null,null,null,null,null,null,null,null,null,null,null,null,null,null,null,null,null,null,null,null,null,null,null,null,null,null,null,null,null,null,null,null,null,null,2058,"非住宅","その他",{"$f":"INDEX('係数表2-3'!$B:$K, 10 + QUOTIENT(ROW(AL791)-2, 10), 1 + MOD(ROW(AL791)-2, 10))","v":0}]
[null,null,null,null,null,null,null,null,null,null,null,null,null,null,null,null,null,null,null,null,null,null,null,null,null,null,null,null,null,null,null,null,null,null,2059,"住宅","木造",{"$f":"INDEX('係数表2-3'!$B:$K, 10 + QUOTIENT(ROW(AL792)-2, 10), 1 + MOD(ROW(AL792)-2, 10))","v":0}]
[null,null,null,null,null,null,null,null,null,null,null,null,null,null,null,null,null,null,null,null,null,null,null,null,null,null,null,null,null,null,null,null,null,null,2059,"住宅","SRC造",{"$f":"INDEX('係数表2-3'!$B:$K, 10 + QUOTIENT(ROW(AL793)-2, 10), 1 + MOD(ROW(AL793)-2, 10))","v":0}]
[null,null,null,null,null,null,null,null,null,null,null,null,null,null,null,null,null,null,null,null,null,null,null,null,null,null,null,null,null,null,null,null,null,null,2059,"住宅","RC造",{"$f":"INDEX('係数表2-3'!$B:$K, 10 + QUOTIENT(ROW(AL794)-2, 10), 1 + MOD(ROW(AL794)-2, 10))","v":0}]
[null,null,null,null,null,null,null,null,null,null,null,null,null,null,null,null,null,null,null,null,null,null,null,null,null,null,null,null,null,null,null,null,null,null,2059,"住宅","S造",{"$f":"INDEX('係数表2-3'!$B:$K, 10 + QUOTIENT(ROW(AL795)-2, 10), 1 + MOD(ROW(AL795)-2, 10))","v":0}]
[null,null,null,null,null,null,null,null,null,null,null,null,null,null,null,null,null,null,null,null,null,null,null,null,null,null,null,null,null,null,null,null,null,null,2059,"住宅","その他",{"$f":"INDEX('係数表2-3'!$B:$K, 10 + QUOTIENT(ROW(AL796)-2, 10), 1 + MOD(ROW(AL796)-2, 10))","v":0}]
[null,null,null,null,null,null,null,null,null,null,null,null,null,null,null,null,null,null,null,null,null,null,null,null,null,null,null,null,null,null,null,null,null,null,2059,"非住宅","木造",{"$f":"INDEX('係数表2-3'!$B:$K, 10 + QUOTIENT(ROW(AL797)-2, 10), 1 + MOD(ROW(AL797)-2, 10))","v":0}]
[null,null,null,null,null,null,null,null,null,null,null,null,null,null,null,null,null,null,null,null,null,null,null,null,null,null,null,null,null,null,null,null,null,null,2059,"非住宅","SRC造",{"$f":"INDEX('係数表2-3'!$B:$K, 10 + QUOTIENT(ROW(AL798)-2, 10), 1 + MOD(ROW(AL798)-2, 10))","v":0}]
[null,null,null,null,null,null,null,null,null,null,null,null,null,null,null,null,null,null,null,null,null,null,null,null,null,null,null,null,null,null,null,null,null,null,2059,"非住宅","RC造",{"$f":"INDEX('係数表2-3'!$B:$K, 10 + QUOTIENT(ROW(AL799)-2, 10), 1 + MOD(ROW(AL799)-2, 10))","v":0}]
[null,null,null,null,null,null,null,null,null,null,null,null,null,null,null,null,null,null,null,null,null,null,null,null,null,null,null,null,null,null,null,null,null,null,2059,"非住宅","S造",{"$f":"INDEX('係数表2-3'!$B:$K, 10 + QUOTIENT(ROW(AL800)-2, 10), 1 + MOD(ROW(AL800)-2, 10))","v":0}]
[null,null,null,null,null,null,null,null,null,null,null,null,null,null,null,null,null,null,null,null,null,null,null,null,null,null,null,null,null,null,null,null,null,null,2059,"非住宅","その他",{"$f":"INDEX('係数表2-3'!$B:$K, 10 + QUOTIENT(ROW(AL801)-2, 10), 1 + MOD(ROW(AL801)-2, 10))","v":0}]
[null,null,null,null,null,null,null,null,null,null,null,null,null,null,null,null,null,null,null,null,null,null,null,null,null,null,null,null,null,null,null,null,null,null,2060,"住宅","木造",{"$f":"INDEX('係数表2-3'!$B:$K, 10 + QUOTIENT(ROW(AL802)-2, 10), 1 + MOD(ROW(AL802)-2, 10))","v":0}]
[null,null,null,null,null,null,null,null,null,null,null,null,null,null,null,null,null,null,null,null,null,null,null,null,null,null,null,null,null,null,null,null,null,null,2060,"住宅","SRC造",{"$f":"INDEX('係数表2-3'!$B:$K, 10 + QUOTIENT(ROW(AL803)-2, 10), 1 + MOD(ROW(AL803)-2, 10))","v":0}]
[null,null,null,null,null,null,null,null,null,null,null,null,null,null,null,null,null,null,null,null,null,null,null,null,null,null,null,null,null,null,null,null,null,null,2060,"住宅","RC造",{"$f":"INDEX('係数表2-3'!$B:$K, 10 + QUOTIENT(ROW(AL804)-2, 10), 1 + MOD(ROW(AL804)-2, 10))","v":0}]
[null,null,null,null,null,null,null,null,null,null,null,null,null,null,null,null,null,null,null,null,null,null,null,null,null,null,null,null,null,null,null,null,null,null,2060,"住宅","S造",{"$f":"INDEX('係数表2-3'!$B:$K, 10 + QUOTIENT(ROW(AL805)-2, 10), 1 + MOD(ROW(AL805)-2, 10))","v":0}]
[null,null,null,null,null,null,null,null,null,null,null,null,null,null,null,null,null,null,null,null,null,null,null,null,null,null,null,null,null,null,null,null,null,null,2060,"住宅","その他",{"$f":"INDEX('係数表2-3'!$B:$K, 10 + QUOTIENT(ROW(AL806)-2, 10), 1 + MOD(ROW(AL806)-2, 10))","v":0}]
[null,null,null,null,null,null,null,null,null,null,null,null,null,null,null,null,null,null,null,null,null,null,null,null,null,null,null,null,null,null,null,null,null,null,2060,"非住宅","木造",{"$f":"INDEX('係数表2-3'!$B:$K, 10 + QUOTIENT(ROW(AL807)-2, 10), 1 + MOD(ROW(AL807)-2, 10))","v":0}]
[null,null,null,null,null,null,null,null,null,null,null,null,null,null,null,null,null,null,null,null,null,null,null,null,null,null,null,null,null,null,null,null,null,null,2060,"非住宅","SRC造",{"$f":"INDEX('係数表2-3'!$B:$K, 10 + QUOTIENT(ROW(AL808)-2, 10), 1 + MOD(ROW(AL808)-2, 10))","v":0}]
[null,null,null,null,null,null,null,null,null,null,null,null,null,null,null,null,null,null,null,null,null,null,null,null,null,null,null,null,null,null,null,null,null,null,2060,"非住宅","RC造",{"$f":"INDEX('係数表2-3'!$B:$K, 10 + QUOTIENT(ROW(AL809)-2, 10), 1 + MOD(ROW(AL809)-2, 10))","v":0}]
[null,null,null,null,null,null,null,null,null,null,null,null,null,null,null,null,null,null,null,null,null,null,null,null,null,null,null,null,null,null,null,null,null,null,2060,"非住宅","S造",{"$f":"INDEX('係数表2-3'!$B:$K, 10 + QUOTIENT(ROW(AL810)-2, 10), 1 + MOD(ROW(AL810)-2, 10))","v":0}]
[null,null,null,null,null,null,null,null,null,null,null,null,null,null,null,null,null,null,null,null,null,null,null,null,null,null,null,null,null,null,null,null,null,null,2060,"非住宅","その他",{"$f":"INDEX('係数表2-3'!$B:$K, 10 + QUOTIENT(ROW(AL811)-2, 10), 1 + MOD(ROW(AL811)-2, 10))","v":0}]
[null,null,null,null,null,null,null,null,null,null,null,null,null,null,null,null,null,null,null,null,null,null,null,null,null,null,null,null,null,null,null,null,null,null,2061,"住宅","木造",{"$f":"INDEX('係数表2-3'!$B:$K, 10 + QUOTIENT(ROW(AL812)-2, 10), 1 + MOD(ROW(AL812)-2, 10))","v":0}]
[null,null,null,null,null,null,null,null,null,null,null,null,null,null,null,null,null,null,null,null,null,null,null,null,null,null,null,null,null,null,null,null,null,null,2061,"住宅","SRC造",{"$f":"INDEX('係数表2-3'!$B:$K, 10 + QUOTIENT(ROW(AL813)-2, 10), 1 + MOD(ROW(AL813)-2, 10))","v":0}]
[null,null,null,null,null,null,null,null,null,null,null,null,null,null,null,null,null,null,null,null,null,null,null,null,null,null,null,null,null,null,null,null,null,null,2061,"住宅","RC造",{"$f":"INDEX('係数表2-3'!$B:$K, 10 + QUOTIENT(ROW(AL814)-2, 10), 1 + MOD(ROW(AL814)-2, 10))","v":0}]
[null,null,null,null,null,null,null,null,null,null,null,null,null,null,null,null,null,null,null,null,null,null,null,null,null,null,null,null,null,null,null,null,null,null,2061,"住宅","S造",{"$f":"INDEX('係数表2-3'!$B:$K, 10 + QUOTIENT(ROW(AL815)-2, 10), 1 + MOD(ROW(AL815)-2, 10))","v":0}]
[null,null,null,null,null,null,null,null,null,null,null,null,null,null,null,null,null,null,null,null,null,null,null,null,null,null,null,null,null,null,null,null,null,null,2061,"住宅","その他",{"$f":"INDEX('係数表2-3'!$B:$K, 10 + QUOTIENT(ROW(AL816)-2, 10), 1 + MOD(ROW(AL816)-2, 10))","v":0}]
[null,null,null,null,null,null,null,null,null,null,null,null,null,null,null,null,null,null,null,null,null,null,null,null,null,null,null,null,null,null,null,null,null,null,2061,"非住宅","木造",{"$f":"INDEX('係数表2-3'!$B:$K, 10 + QUOTIENT(ROW(AL817)-2, 10), 1 + MOD(ROW(AL817)-2, 10))","v":0}]
[null,null,null,null,null,null,null,null,null,null,null,null,null,null,null,null,null,null,null,null,null,null,null,null,null,null,null,null,null,null,null,null,null,null,2061,"非住宅","SRC造",{"$f":"INDEX('係数表2-3'!$B:$K, 10 + QUOTIENT(ROW(AL818)-2, 10), 1 + MOD(ROW(AL818)-2, 10))","v":0}]
[null,null,null,null,null,null,null,null,null,null,null,null,null,null,null,null,null,null,null,null,null,null,null,null,null,null,null,null,null,null,null,null,null,null,2061,"非住宅","RC造",{"$f":"INDEX('係数表2-3'!$B:$K, 10 + QUOTIENT(ROW(AL819)-2, 10), 1 + MOD(ROW(AL819)-2, 10))","v":0}]
[null,null,null,null,null,null,null,null,null,null,null,null,null,null,null,null,null,null,null,null,null,null,null,null,null,null,null,null,null,null,null,null,null,null,2061,"非住宅","S造",{"$f":"INDEX('係数表2-3'!$B:$K, 10 + QUOTIENT(ROW(AL820)-2, 10), 1 + MOD(ROW(AL820)-2, 10))","v":0}]
[null,null,null,null,null,null,null,null,null,null,null,null,null,null,null,null,null,null,null,null,null,null,null,null,null,null,null,null,null,null,null,null,null,null,2061,"非住宅","その他",{"$f":"INDEX('係数表2-3'!$B:$K, 10 + QUOTIENT(ROW(AL821)-2, 10), 1 + MOD(ROW(AL821)-2, 10))","v":0}]
[null,null,null,null,null,null,null,null,null,null,null,null,null,null,null,null,null,null,null,null,null,null,null,null,null,null,null,null,null,null,null,null,null,null,2062,"住宅","木造",{"$f":"INDEX('係数表2-3'!$B:$K, 10 + QUOTIENT(ROW(AL822)-2, 10), 1 + MOD(ROW(AL822)-2, 10))","v":0}]
[null,null,null,null,null,null,null,null,null,null,null,null,null,null,null,null,null,null,null,null,null,null,null,null,null,null,null,null,null,null,null,null,null,null,2062,"住宅","SRC造",{"$f":"INDEX('係数表2-3'!$B:$K, 10 + QUOTIENT(ROW(AL823)-2, 10), 1 + MOD(ROW(AL823)-2, 10))","v":0}]
[null,null,null,null,null,null,null,null,null,null,null,null,null,null,null,null,null,null,null,null,null,null,null,null,null,null,null,null,null,null,null,null,null,null,2062,"住宅","RC造",{"$f":"INDEX('係数表2-3'!$B:$K, 10 + QUOTIENT(ROW(AL824)-2, 10), 1 + MOD(ROW(AL824)-2, 10))","v":0}]
[null,null,null,null,null,null,null,null,null,null,null,null,null,null,null,null,null,null,null,null,null,null,null,null,null,null,null,null,null,null,null,null,null,null,2062,"住宅","S造",{"$f":"INDEX('係数表2-3'!$B:$K, 10 + QUOTIENT(ROW(AL825)-2, 10), 1 + MOD(ROW(AL825)-2, 10))","v":0}]
[null,null,null,null,null,null,null,null,null,null,null,null,null,null,null,null,null,null,null,null,null,null,null,null,null,null,null,null,null,null,null,null,null,null,2062,"住宅","その他",{"$f":"INDEX('係数表2-3'!$B:$K, 10 + QUOTIENT(ROW(AL826)-2, 10), 1 + MOD(ROW(AL826)-2, 10))","v":0}]
[null,null,null,null,null,null,null,null,null,null,null,null,null,null,null,null,null,null,null,null,null,null,null,null,null,null,null,null,null,null,null,null,null,null,2062,"非住宅","木造",{"$f":"INDEX('係数表2-3'!$B:$K, 10 + QUOTIENT(ROW(AL827)-2, 10), 1 + MOD(ROW(AL827)-2, 10))","v":0}]
[null,null,null,null,null,null,null,null,null,null,null,null,null,null,null,null,null,null,null,null,null,null,null,null,null,null,null,null,null,null,null,null,null,null,2062,"非住宅","SRC造",{"$f":"INDEX('係数表2-3'!$B:$K, 10 + QUOTIENT(ROW(AL828)-2, 10), 1 + MOD(ROW(AL828)-2, 10))","v":0}]
[null,null,null,null,null,null,null,null,null,null,null,null,null,null,null,null,null,null,null,null,null,null,null,null,null,null,null,null,null,null,null,null,null,null,2062,"非住宅","RC造",{"$f":"INDEX('係数表2-3'!$B:$K, 10 + QUOTIENT(ROW(AL829)-2, 10), 1 + MOD(ROW(AL829)-2, 10))","v":0}]
[null,null,null,null,null,null,null,null,null,null,null,null,null,null,null,null,null,null,null,null,null,null,null,null,null,null,null,null,null,null,null,null,null,null,2062,"非住宅","S造",{"$f":"INDEX('係数表2-3'!$B:$K, 10 + QUOTIENT(ROW(AL830)-2, 10), 1 + MOD(ROW(AL830)-2, 10))","v":0}]
[null,null,null,null,null,null,null,null,null,null,null,null,null,null,null,null,null,null,null,null,null,null,null,null,null,null,null,null,null,null,null,null,null,null,2062,"非住宅","その他",{"$f":"INDEX('係数表2-3'!$B:$K, 10 + QUOTIENT(ROW(AL831)-2, 10), 1 + MOD(ROW(AL831)-2, 10))","v":0}]
[null,null,null,null,null,null,null,null,null,null,null,null,null,null,null,null,null,null,null,null,null,null,null,null,null,null,null,null,null,null,null,null,null,null,2063,"住宅","木造",{"$f":"INDEX('係数表2-3'!$B:$K, 10 + QUOTIENT(ROW(AL832)-2, 10), 1 + MOD(ROW(AL832)-2, 10))","v":0}]
[null,null,null,null,null,null,null,null,null,null,null,null,null,null,null,null,null,null,null,null,null,null,null,null,null,null,null,null,null,null,null,null,null,null,2063,"住宅","SRC造",{"$f":"INDEX('係数表2-3'!$B:$K, 10 + QUOTIENT(ROW(AL833)-2, 10), 1 + MOD(ROW(AL833)-2, 10))","v":0}]
[null,null,null,null,null,null,null,null,null,null,null,null,null,null,null,null,null,null,null,null,null,null,null,null,null,null,null,null,null,null,null,null,null,null,2063,"住宅","RC造",{"$f":"INDEX('係数表2-3'!$B:$K, 10 + QUOTIENT(ROW(AL834)-2, 10), 1 + MOD(ROW(AL834)-2, 10))","v":0}]
[null,null,null,null,null,null,null,null,null,null,null,null,null,null,null,null,null,null,null,null,null,null,null,null,null,null,null,null,null,null,null,null,null,null,2063,"住宅","S造",{"$f":"INDEX('係数表2-3'!$B:$K, 10 + QUOTIENT(ROW(AL835)-2, 10), 1 + MOD(ROW(AL835)-2, 10))","v":0}]
[null,null,null,null,null,null,null,null,null,null,null,null,null,null,null,null,null,null,null,null,null,null,null,null,null,null,null,null,null,null,null,null,null,null,2063,"住宅","その他",{"$f":"INDEX('係数表2-3'!$B:$K, 10 + QUOTIENT(ROW(AL836)-2, 10), 1 + MOD(ROW(AL836)-2, 10))","v":0}]
[null,null,null,null,null,null,null,null,null,null,null,null,null,null,null,null,null,null,null,null,null,null,null,null,null,null,null,null,null,null,null,null,null,null,2063,"非住宅","木造",{"$f":"INDEX('係数表2-3'!$B:$K, 10 + QUOTIENT(ROW(AL837)-2, 10), 1 + MOD(ROW(AL837)-2, 10))","v":0}]
[null,null,null,null,null,null,null,null,null,null,null,null,null,null,null,null,null,null,null,null,null,null,null,null,null,null,null,null,null,null,null,null,null,null,2063,"非住宅","SRC造",{"$f":"INDEX('係数表2-3'!$B:$K, 10 + QUOTIENT(ROW(AL838)-2, 10), 1 + MOD(ROW(AL838)-2, 10))","v":0}]
[null,null,null,null,null,null,null,null,null,null,null,null,null,null,null,null,null,null,null,null,null,null,null,null,null,null,null,null,null,null,null,null,null,null,2063,"非住宅","RC造",{"$f":"INDEX('係数表2-3'!$B:$K, 10 + QUOTIENT(ROW(AL839)-2, 10), 1 + MOD(ROW(AL839)-2, 10))","v":0}]
[null,null,null,null,null,null,null,null,null,null,null,null,null,null,null,null,null,null,null,null,null,null,null,null,null,null,null,null,null,null,null,null,null,null,2063,"非住宅","S造",{"$f":"INDEX('係数表2-3'!$B:$K, 10 + QUOTIENT(ROW(AL840)-2, 10), 1 + MOD(ROW(AL840)-2, 10))","v":0}]
[null,null,null,null,null,null,null,null,null,null,null,null,null,null,null,null,null,null,null,null,null,null,null,null,null,null,null,null,null,null,null,null,null,null,2063,"非住宅","その他",{"$f":"INDEX('係数表2-3'!$B:$K, 10 + QUOTIENT(ROW(AL841)-2, 10), 1 + MOD(ROW(AL841)-2, 10))","v":0}]
[null,null,null,null,null,null,null,null,null,null,null,null,null,null,null,null,null,null,null,null,null,null,null,null,null,null,null,null,null,null,null,null,null,null,2064,"住宅","木造",{"$f":"INDEX('係数表2-3'!$B:$K, 10 + QUOTIENT(ROW(AL842)-2, 10), 1 + MOD(ROW(AL842)-2, 10))","v":0}]
[null,null,null,null,null,null,null,null,null,null,null,null,null,null,null,null,null,null,null,null,null,null,null,null,null,null,null,null,null,null,null,null,null,null,2064,"住宅","SRC造",{"$f":"INDEX('係数表2-3'!$B:$K, 10 + QUOTIENT(ROW(AL843)-2, 10), 1 + MOD(ROW(AL843)-2, 10))","v":0}]
[null,null,null,null,null,null,null,null,null,null,null,null,null,null,null,null,null,null,null,null,null,null,null,null,null,null,null,null,null,null,null,null,null,null,2064,"住宅","RC造",{"$f":"INDEX('係数表2-3'!$B:$K, 10 + QUOTIENT(ROW(AL844)-2, 10), 1 + MOD(ROW(AL844)-2, 10))","v":0}]
[null,null,null,null,null,null,null,null,null,null,null,null,null,null,null,null,null,null,null,null,null,null,null,null,null,null,null,null,null,null,null,null,null,null,2064,"住宅","S造",{"$f":"INDEX('係数表2-3'!$B:$K, 10 + QUOTIENT(ROW(AL845)-2, 10), 1 + MOD(ROW(AL845)-2, 10))","v":0}]
[null,null,null,null,null,null,null,null,null,null,null,null,null,null,null,null,null,null,null,null,null,null,null,null,null,null,null,null,null,null,null,null,null,null,2064,"住宅","その他",{"$f":"INDEX('係数表2-3'!$B:$K, 10 + QUOTIENT(ROW(AL846)-2, 10), 1 + MOD(ROW(AL846)-2, 10))","v":0}]
[null,null,null,null,null,null,null,null,null,null,null,null,null,null,null,null,null,null,null,null,null,null,null,null,null,null,null,null,null,null,null,null,null,null,2064,"非住宅","木造",{"$f":"INDEX('係数表2-3'!$B:$K, 10 + QUOTIENT(ROW(AL847)-2, 10), 1 + MOD(ROW(AL847)-2, 10))","v":0}]
[null,null,null,null,null,null,null,null,null,null,null,null,null,null,null,null,null,null,null,null,null,null,null,null,null,null,null,null,null,null,null,null,null,null,2064,"非住宅","SRC造",{"$f":"INDEX('係数表2-3'!$B:$K, 10 + QUOTIENT(ROW(AL848)-2, 10), 1 + MOD(ROW(AL848)-2, 10))","v":0}]
[null,null,null,null,null,null,null,null,null,null,null,null,null,null,null,null,null,null,null,null,null,null,null,null,null,null,null,null,null,null,null,null,null,null,2064,"非住宅","RC造",{"$f":"INDEX('係数表2-3'!$B:$K, 10 + QUOTIENT(ROW(AL849)-2, 10), 1 + MOD(ROW(AL849)-2, 10))","v":0}]
[null,null,null,null,null,null,null,null,null,null,null,null,null,null,null,null,null,null,null,null,null,null,null,null,null,null,null,null,null,null,null,null,null,null,2064,"非住宅","S造",{"$f":"INDEX('係数表2-3'!$B:$K, 10 + QUOTIENT(ROW(AL850)-2, 10), 1 + MOD(ROW(AL850)-2, 10))","v":0}]
[null,null,null,null,null,null,null,null,null,null,null,null,null,null,null,null,null,null,null,null,null,null,null,null,null,null,null,null,null,null,null,null,null,null,2064,"非住宅","その他",{"$f":"INDEX('係数表2-3'!$B:$K, 10 + QUOTIENT(ROW(AL851)-2, 10), 1 + MOD(ROW(AL851)-2, 10))","v":0}]
[null,null,null,null,null,null,null,null,null,null,null,null,null,null,null,null,null,null,null,null,null,null,null,null,null,null,null,null,null,null,null,null,null,null,2065,"住宅","木造",{"$f":"INDEX('係数表2-3'!$B:$K, 10 + QUOTIENT(ROW(AL852)-2, 10), 1 + MOD(ROW(AL852)-2, 10))","v":0}]
[null,null,null,null,null,null,null,null,null,null,null,null,null,null,null,null,null,null,null,null,null,null,null,null,null,null,null,null,null,null,null,null,null,null,2065,"住宅","SRC造",{"$f":"INDEX('係数表2-3'!$B:$K, 10 + QUOTIENT(ROW(AL853)-2, 10), 1 + MOD(ROW(AL853)-2, 10))","v":0}]
[null,null,null,null,null,null,null,null,null,null,null,null,null,null,null,null,null,null,null,null,null,null,null,null,null,null,null,null,null,null,null,null,null,null,2065,"住宅","RC造",{"$f":"INDEX('係数表2-3'!$B:$K, 10 + QUOTIENT(ROW(AL854)-2, 10), 1 + MOD(ROW(AL854)-2, 10))","v":0}]
[null,null,null,null,null,null,null,null,null,null,null,null,null,null,null,null,null,null,null,null,null,null,null,null,null,null,null,null,null,null,null,null,null,null,2065,"住宅","S造",{"$f":"INDEX('係数表2-3'!$B:$K, 10 + QUOTIENT(ROW(AL855)-2, 10), 1 + MOD(ROW(AL855)-2, 10))","v":0}]
[null,null,null,null,null,null,null,null,null,null,null,null,null,null,null,null,null,null,null,null,null,null,null,null,null,null,null,null,null,null,null,null,null,null,2065,"住宅","その他",{"$f":"INDEX('係数表2-3'!$B:$K, 10 + QUOTIENT(ROW(AL856)-2, 10), 1 + MOD(ROW(AL856)-2, 10))","v":0}]
[null,null,null,null,null,null,null,null,null,null,null,null,null,null,null,null,null,null,null,null,null,null,null,null,null,null,null,null,null,null,null,null,null,null,2065,"非住宅","木造",{"$f":"INDEX('係数表2-3'!$B:$K, 10 + QUOTIENT(ROW(AL857)-2, 10), 1 + MOD(ROW(AL857)-2, 10))","v":0}]
[null,null,null,null,null,null,null,null,null,null,null,null,null,null,null,null,null,null,null,null,null,null,null,null,null,null,null,null,null,null,null,null,null,null,2065,"非住宅","SRC造",{"$f":"INDEX('係数表2-3'!$B:$K, 10 + QUOTIENT(ROW(AL858)-2, 10), 1 + MOD(ROW(AL858)-2, 10))","v":0}]
[null,null,null,null,null,null,null,null,null,null,null,null,null,null,null,null,null,null,null,null,null,null,null,null,null,null,null,null,null,null,null,null,null,null,2065,"非住宅","RC造",{"$f":"INDEX('係数表2-3'!$B:$K, 10 + QUOTIENT(ROW(AL859)-2, 10), 1 + MOD(ROW(AL859)-2, 10))","v":0}]
[null,null,null,null,null,null,null,null,null,null,null,null,null,null,null,null,null,null,null,null,null,null,null,null,null,null,null,null,null,null,null,null,null,null,2065,"非住宅","S造",{"$f":"INDEX('係数表2-3'!$B:$K, 10 + QUOTIENT(ROW(AL860)-2, 10), 1 + MOD(ROW(AL860)-2, 10))","v":0}]
[null,null,null,null,null,null,null,null,null,null,null,null,null,null,null,null,null,null,null,null,null,null,null,null,null,null,null,null,null,null,null,null,null,null,2065,"非住宅","その他",{"$f":"INDEX('係数表2-3'!$B:$K, 10 + QUOTIENT(ROW(AL861)-2, 10), 1 + MOD(ROW(AL861)-2, 10))","v":0}]
[null,null,null,null,null,null,null,null,null,null,null,null,null,null,null,null,null,null,null,null,null,null,null,null,null,null,null,null,null,null,null,null,null,null,2066,"住宅","木造",{"$f":"INDEX('係数表2-3'!$B:$K, 10 + QUOTIENT(ROW(AL862)-2, 10), 1 + MOD(ROW(AL862)-2, 10))","v":0}]
[null,null,null,null,null,null,null,null,null,null,null,null,null,null,null,null,null,null,null,null,null,null,null,null,null,null,null,null,null,null,null,null,null,null,2066,"住宅","SRC造",{"$f":"INDEX('係数表2-3'!$B:$K, 10 + QUOTIENT(ROW(AL863)-2, 10), 1 + MOD(ROW(AL863)-2, 10))","v":0}]
[null,null,null,null,null,null,null,null,null,null,null,null,null,null,null,null,null,null,null,null,null,null,null,null,null,null,null,null,null,null,null,null,null,null,2066,"住宅","RC造",{"$f":"INDEX('係数表2-3'!$B:$K, 10 + QUOTIENT(ROW(AL864)-2, 10), 1 + MOD(ROW(AL864)-2, 10))","v":0}]
[null,null,null,null,null,null,null,null,null,null,null,null,null,null,null,null,null,null,null,null,null,null,null,null,null,null,null,null,null,null,null,null,null,null,2066,"住宅","S造",{"$f":"INDEX('係数表2-3'!$B:$K, 10 + QUOTIENT(ROW(AL865)-2, 10), 1 + MOD(ROW(AL865)-2, 10))","v":0}]
[null,null,null,null,null,null,null,null,null,null,null,null,null,null,null,null,null,null,null,null,null,null,null,null,null,null,null,null,null,null,null,null,null,null,2066,"住宅","その他",{"$f":"INDEX('係数表2-3'!$B:$K, 10 + QUOTIENT(ROW(AL866)-2, 10), 1 + MOD(ROW(AL866)-2, 10))","v":0}]
[null,null,null,null,null,null,null,null,null,null,null,null,null,null,null,null,null,null,null,null,null,null,null,null,null,null,null,null,null,null,null,null,null,null,2066,"非住宅","木造",{"$f":"INDEX('係数表2-3'!$B:$K, 10 + QUOTIENT(ROW(AL867)-2, 10), 1 + MOD(ROW(AL867)-2, 10))","v":0}]
[null,null,null,null,null,null,null,null,null,null,null,null,null,null,null,null,null,null,null,null,null,null,null,null,null,null,null,null,null,null,null,null,null,null,2066,"非住宅","SRC造",{"$f":"INDEX('係数表2-3'!$B:$K, 10 + QUOTIENT(ROW(AL868)-2, 10), 1 + MOD(ROW(AL868)-2, 10))","v":0}]
[null,null,null,null,null,null,null,null,null,null,null,null,null,null,null,null,null,null,null,null,null,null,null,null,null,null,null,null,null,null,null,null,null,null,2066,"非住宅","RC造",{"$f":"INDEX('係数表2-3'!$B:$K, 10 + QUOTIENT(ROW(AL869)-2, 10), 1 + MOD(ROW(AL869)-2, 10))","v":0}]
[null,null,null,null,null,null,null,null,null,null,null,null,null,null,null,null,null,null,null,null,null,null,null,null,null,null,null,null,null,null,null,null,null,null,2066,"非住宅","S造",{"$f":"INDEX('係数表2-3'!$B:$K, 10 + QUOTIENT(ROW(AL870)-2, 10), 1 + MOD(ROW(AL870)-2, 10))","v":0}]
[null,null,null,null,null,null,null,null,null,null,null,null,null,null,null,null,null,null,null,null,null,null,null,null,null,null,null,null,null,null,null,null,null,null,2066,"非住宅","その他",{"$f":"INDEX('係数表2-3'!$B:$K, 10 + QUOTIENT(ROW(AL871)-2, 10), 1 + MOD(ROW(AL871)-2, 10))","v":0}]
[null,null,null,null,null,null,null,null,null,null,null,null,null,null,null,null,null,null,null,null,null,null,null,null,null,null,null,null,null,null,null,null,null,null,2067,"住宅","木造",{"$f":"INDEX('係数表2-3'!$B:$K, 10 + QUOTIENT(ROW(AL872)-2, 10), 1 + MOD(ROW(AL872)-2, 10))","v":0}]
[null,null,null,null,null,null,null,null,null,null,null,null,null,null,null,null,null,null,null,null,null,null,null,null,null,null,null,null,null,null,null,null,null,null,2067,"住宅","SRC造",{"$f":"INDEX('係数表2-3'!$B:$K, 10 + QUOTIENT(ROW(AL873)-2, 10), 1 + MOD(ROW(AL873)-2, 10))","v":0}]
[null,null,null,null,null,null,null,null,null,null,null,null,null,null,null,null,null,null,null,null,null,null,null,null,null,null,null,null,null,null,null,null,null,null,2067,"住宅","RC造",{"$f":"INDEX('係数表2-3'!$B:$K, 10 + QUOTIENT(ROW(AL874)-2, 10), 1 + MOD(ROW(AL874)-2, 10))","v":0}]
[null,null,null,null,null,null,null,null,null,null,null,null,null,null,null,null,null,null,null,null,null,null,null,null,null,null,null,null,null,null,null,null,null,null,2067,"住宅","S造",{"$f":"INDEX('係数表2-3'!$B:$K, 10 + QUOTIENT(ROW(AL875)-2, 10), 1 + MOD(ROW(AL875)-2, 10))","v":0}]
[null,null,null,null,null,null,null,null,null,null,null,null,null,null,null,null,null,null,null,null,null,null,null,null,null,null,null,null,null,null,null,null,null,null,2067,"住宅","その他",{"$f":"INDEX('係数表2-3'!$B:$K, 10 + QUOTIENT(ROW(AL876)-2, 10), 1 + MOD(ROW(AL876)-2, 10))","v":0}]
[null,null,null,null,null,null,null,null,null,null,null,null,null,null,null,null,null,null,null,null,null,null,null,null,null,null,null,null,null,null,null,null,null,null,2067,"非住宅","木造",{"$f":"INDEX('係数表2-3'!$B:$K, 10 + QUOTIENT(ROW(AL877)-2, 10), 1 + MOD(ROW(AL877)-2, 10))","v":0}]
[null,null,null,null,null,null,null,null,null,null,null,null,null,null,null,null,null,null,null,null,null,null,null,null,null,null,null,null,null,null,null,null,null,null,2067,"非住宅","SRC造",{"$f":"INDEX('係数表2-3'!$B:$K, 10 + QUOTIENT(ROW(AL878)-2, 10), 1 + MOD(ROW(AL878)-2, 10))","v":0}]
[null,null,null,null,null,null,null,null,null,null,null,null,null,null,null,null,null,null,null,null,null,null,null,null,null,null,null,null,null,null,null,null,null,null,2067,"非住宅","RC造",{"$f":"INDEX('係数表2-3'!$B:$K, 10 + QUOTIENT(ROW(AL879)-2, 10), 1 + MOD(ROW(AL879)-2, 10))","v":0}]
[null,null,null,null,null,null,null,null,null,null,null,null,null,null,null,null,null,null,null,null,null,null,null,null,null,null,null,null,null,null,null,null,null,null,2067,"非住宅","S造",{"$f":"INDEX('係数表2-3'!$B:$K, 10 + QUOTIENT(ROW(AL880)-2, 10), 1 + MOD(ROW(AL880)-2, 10))","v":0}]
[null,null,null,null,null,null,null,null,null,null,null,null,null,null,null,null,null,null,null,null,null,null,null,null,null,null,null,null,null,null,null,null,null,null,2067,"非住宅","その他",{"$f":"INDEX('係数表2-3'!$B:$K, 10 + QUOTIENT(ROW(AL881)-2, 10), 1 + MOD(ROW(AL881)-2, 10))","v":0}]
[null,null,null,null,null,null,null,null,null,null,null,null,null,null,null,null,null,null,null,null,null,null,null,null,null,null,null,null,null,null,null,null,null,null,2068,"住宅","木造",{"$f":"INDEX('係数表2-3'!$B:$K, 10 + QUOTIENT(ROW(AL882)-2, 10), 1 + MOD(ROW(AL882)-2, 10))","v":0}]
[null,null,null,null,null,null,null,null,null,null,null,null,null,null,null,null,null,null,null,null,null,null,null,null,null,null,null,null,null,null,null,null,null,null,2068,"住宅","SRC造",{"$f":"INDEX('係数表2-3'!$B:$K, 10 + QUOTIENT(ROW(AL883)-2, 10), 1 + MOD(ROW(AL883)-2, 10))","v":0}]
[null,null,null,null,null,null,null,null,null,null,null,null,null,null,null,null,null,null,null,null,null,null,null,null,null,null,null,null,null,null,null,null,null,null,2068,"住宅","RC造",{"$f":"INDEX('係数表2-3'!$B:$K, 10 + QUOTIENT(ROW(AL884)-2, 10), 1 + MOD(ROW(AL884)-2, 10))","v":0}]
[null,null,null,null,null,null,null,null,null,null,null,null,null,null,null,null,null,null,null,null,null,null,null,null,null,null,null,null,null,null,null,null,null,null,2068,"住宅","S造",{"$f":"INDEX('係数表2-3'!$B:$K, 10 + QUOTIENT(ROW(AL885)-2, 10), 1 + MOD(ROW(AL885)-2, 10))","v":0}]
[null,null,null,null,null,null,null,null,null,null,null,null,null,null,null,null,null,null,null,null,null,null,null,null,null,null,null,null,null,null,null,null,null,null,2068,"住宅","その他",{"$f":"INDEX('係数表2-3'!$B:$K, 10 + QUOTIENT(ROW(AL886)-2, 10), 1 + MOD(ROW(AL886)-2, 10))","v":0}]
[null,null,null,null,null,null,null,null,null,null,null,null,null,null,null,null,null,null,null,null,null,null,null,null,null,null,null,null,null,null,null,null,null,null,2068,"非住宅","木造",{"$f":"INDEX('係数表2-3'!$B:$K, 10 + QUOTIENT(ROW(AL887)-2, 10), 1 + MOD(ROW(AL887)-2, 10))","v":0}]
[null,null,null,null,null,null,null,null,null,null,null,null,null,null,null,null,null,null,null,null,null,null,null,null,null,null,null,null,null,null,null,null,null,null,2068,"非住宅","SRC造",{"$f":"INDEX('係数表2-3'!$B:$K, 10 + QUOTIENT(ROW(AL888)-2, 10), 1 + MOD(ROW(AL888)-2, 10))","v":0}]
[null,null,null,null,null,null,null,null,null,null,null,null,null,null,null,null,null,null,null,null,null,null,null,null,null,null,null,null,null,null,null,null,null,null,2068,"非住宅","RC造",{"$f":"INDEX('係数表2-3'!$B:$K, 10 + QUOTIENT(ROW(AL889)-2, 10), 1 + MOD(ROW(AL889)-2, 10))","v":0}]
[null,null,null,null,null,null,null,null,null,null,null,null,null,null,null,null,null,null,null,null,null,null,null,null,null,null,null,null,null,null,null,null,null,null,2068,"非住宅","S造",{"$f":"INDEX('係数表2-3'!$B:$K, 10 + QUOTIENT(ROW(AL890)-2, 10), 1 + MOD(ROW(AL890)-2, 10))","v":0}]
[null,null,null,null,null,null,null,null,null,null,null,null,null,null,null,null,null,null,null,null,null,null,null,null,null,null,null,null,null,null,null,null,null,null,2068,"非住宅","その他",{"$f":"INDEX('係数表2-3'!$B:$K, 10 + QUOTIENT(ROW(AL891)-2, 10), 1 + MOD(ROW(AL891)-2, 10))","v":0}]
[null,null,null,null,null,null,null,null,null,null,null,null,null,null,null,null,null,null,null,null,null,null,null,null,null,null,null,null,null,null,null,null,null,null,2069,"住宅","木造",{"$f":"INDEX('係数表2-3'!$B:$K, 10 + QUOTIENT(ROW(AL892)-2, 10), 1 + MOD(ROW(AL892)-2, 10))","v":0}]
[null,null,null,null,null,null,null,null,null,null,null,null,null,null,null,null,null,null,null,null,null,null,null,null,null,null,null,null,null,null,null,null,null,null,2069,"住宅","SRC造",{"$f":"INDEX('係数表2-3'!$B:$K, 10 + QUOTIENT(ROW(AL893)-2, 10), 1 + MOD(ROW(AL893)-2, 10))","v":0}]
[null,null,null,null,null,null,null,null,null,null,null,null,null,null,null,null,null,null,null,null,null,null,null,null,null,null,null,null,null,null,null,null,null,null,2069,"住宅","RC造",{"$f":"INDEX('係数表2-3'!$B:$K, 10 + QUOTIENT(ROW(AL894)-2, 10), 1 + MOD(ROW(AL894)-2, 10))","v":0}]
[null,null,null,null,null,null,null,null,null,null,null,null,null,null,null,null,null,null,null,null,null,null,null,null,null,null,null,null,null,null,null,null,null,null,2069,"住宅","S造",{"$f":"INDEX('係数表2-3'!$B:$K, 10 + QUOTIENT(ROW(AL895)-2, 10), 1 + MOD(ROW(AL895)-2, 10))","v":0}]
[null,null,null,null,null,null,null,null,null,null,null,null,null,null,null,null,null,null,null,null,null,null,null,null,null,null,null,null,null,null,null,null,null,null,2069,"住宅","その他",{"$f":"INDEX('係数表2-3'!$B:$K, 10 + QUOTIENT(ROW(AL896)-2, 10), 1 + MOD(ROW(AL896)-2, 10))","v":0}]
[null,null,null,null,null,null,null,null,null,null,null,null,null,null,null,null,null,null,null,null,null,null,null,null,null,null,null,null,null,null,null,null,null,null,2069,"非住宅","木造",{"$f":"INDEX('係数表2-3'!$B:$K, 10 + QUOTIENT(ROW(AL897)-2, 10), 1 + MOD(ROW(AL897)-2, 10))","v":0}]
[null,null,null,null,null,null,null,null,null,null,null,null,null,null,null,null,null,null,null,null,null,null,null,null,null,null,null,null,null,null,null,null,null,null,2069,"非住宅","SRC造",{"$f":"INDEX('係数表2-3'!$B:$K, 10 + QUOTIENT(ROW(AL898)-2, 10), 1 + MOD(ROW(AL898)-2, 10))","v":0}]
[null,null,null,null,null,null,null,null,null,null,null,null,null,null,null,null,null,null,null,null,null,null,null,null,null,null,null,null,null,null,null,null,null,null,2069,"非住宅","RC造",{"$f":"INDEX('係数表2-3'!$B:$K, 10 + QUOTIENT(ROW(AL899)-2, 10), 1 + MOD(ROW(AL899)-2, 10))","v":0}]
[null,null,null,null,null,null,null,null,null,null,null,null,null,null,null,null,null,null,null,null,null,null,null,null,null,null,null,null,null,null,null,null,null,null,2069,"非住宅","S造",{"$f":"INDEX('係数表2-3'!$B:$K, 10 + QUOTIENT(ROW(AL900)-2, 10), 1 + MOD(ROW(AL900)-2, 10))","v":0}]
[null,null,null,null,null,null,null,null,null,null,null,null,null,null,null,null,null,null,null,null,null,null,null,null,null,null,null,null,null,null,null,null,null,null,2069,"非住宅","その他",{"$f":"INDEX('係数表2-3'!$B:$K, 10 + QUOTIENT(ROW(AL901)-2, 10), 1 + MOD(ROW(AL901)-2, 10))","v":0}]
[null,null,null,null,null,null,null,null,null,null,null,null,null,null,null,null,null,null,null,null,null,null,null,null,null,null,null,null,null,null,null,null,null,null,2070,"住宅","木造",{"$f":"INDEX('係数表2-3'!$B:$K, 10 + QUOTIENT(ROW(AL902)-2, 10), 1 + MOD(ROW(AL902)-2, 10))","v":0}]
[null,null,null,null,null,null,null,null,null,null,null,null,null,null,null,null,null,null,null,null,null,null,null,null,null,null,null,null,null,null,null,null,null,null,2070,"住宅","SRC造",{"$f":"INDEX('係数表2-3'!$B:$K, 10 + QUOTIENT(ROW(AL903)-2, 10), 1 + MOD(ROW(AL903)-2, 10))","v":0}]
[null,null,null,null,null,null,null,null,null,null,null,null,null,null,null,null,null,null,null,null,null,null,null,null,null,null,null,null,null,null,null,null,null,null,2070,"住宅","RC造",{"$f":"INDEX('係数表2-3'!$B:$K, 10 + QUOTIENT(ROW(AL904)-2, 10), 1 + MOD(ROW(AL904)-2, 10))","v":0}]
[null,null,null,null,null,null,null,null,null,null,null,null,null,null,null,null,null,null,null,null,null,null,null,null,null,null,null,null,null,null,null,null,null,null,2070,"住宅","S造",{"$f":"INDEX('係数表2-3'!$B:$K, 10 + QUOTIENT(ROW(AL905)-2, 10), 1 + MOD(ROW(AL905)-2, 10))","v":0}]
[null,null,null,null,null,null,null,null,null,null,null,null,null,null,null,null,null,null,null,null,null,null,null,null,null,null,null,null,null,null,null,null,null,null,2070,"住宅","その他",{"$f":"INDEX('係数表2-3'!$B:$K, 10 + QUOTIENT(ROW(AL906)-2, 10), 1 + MOD(ROW(AL906)-2, 10))","v":0}]
[null,null,null,null,null,null,null,null,null,null,null,null,null,null,null,null,null,null,null,null,null,null,null,null,null,null,null,null,null,null,null,null,null,null,2070,"非住宅","木造",{"$f":"INDEX('係数表2-3'!$B:$K, 10 + QUOTIENT(ROW(AL907)-2, 10), 1 + MOD(ROW(AL907)-2, 10))","v":0}]
[null,null,null,null,null,null,null,null,null,null,null,null,null,null,null,null,null,null,null,null,null,null,null,null,null,null,null,null,null,null,null,null,null,null,2070,"非住宅","SRC造",{"$f":"INDEX('係数表2-3'!$B:$K, 10 + QUOTIENT(ROW(AL908)-2, 10), 1 + MOD(ROW(AL908)-2, 10))","v":0}]
[null,null,null,null,null,null,null,null,null,null,null,null,null,null,null,null,null,null,null,null,null,null,null,null,null,null,null,null,null,null,null,null,null,null,2070,"非住宅","RC造",{"$f":"INDEX('係数表2-3'!$B:$K, 10 + QUOTIENT(ROW(AL909)-2, 10), 1 + MOD(ROW(AL909)-2, 10))","v":0}]
[null,null,null,null,null,null,null,null,null,null,null,null,null,null,null,null,null,null,null,null,null,null,null,null,null,null,null,null,null,null,null,null,null,null,2070,"非住宅","S造",{"$f":"INDEX('係数表2-3'!$B:$K, 10 + QUOTIENT(ROW(AL910)-2, 10), 1 + MOD(ROW(AL910)-2, 10))","v":0}]
[null,null,null,null,null,null,null,null,null,null,null,null,null,null,null,null,null,null,null,null,null,null,null,null,null,null,null,null,null,null,null,null,null,null,2070,"非住宅","その他",{"$f":"INDEX('係数表2-3'!$B:$K, 10 + QUOTIENT(ROW(AL911)-2, 10), 1 + MOD(ROW(AL911)-2, 10))","v":0}]
[null,null,null,null,null,null,null,null,null,null,null,null,null,null,null,null,null,null,null,null,null,null,null,null,null,null,null,null,null,null,null,null,null,null,2071,"住宅","木造",{"$f":"INDEX('係数表2-3'!$B:$K, 10 + QUOTIENT(ROW(AL912)-2, 10), 1 + MOD(ROW(AL912)-2, 10))","v":0}]
[null,null,null,null,null,null,null,null,null,null,null,null,null,null,null,null,null,null,null,null,null,null,null,null,null,null,null,null,null,null,null,null,null,null,2071,"住宅","SRC造",{"$f":"INDEX('係数表2-3'!$B:$K, 10 + QUOTIENT(ROW(AL913)-2, 10), 1 + MOD(ROW(AL913)-2, 10))","v":0}]
[null,null,null,null,null,null,null,null,null,null,null,null,null,null,null,null,null,null,null,null,null,null,null,null,null,null,null,null,null,null,null,null,null,null,2071,"住宅","RC造",{"$f":"INDEX('係数表2-3'!$B:$K, 10 + QUOTIENT(ROW(AL914)-2, 10), 1 + MOD(ROW(AL914)-2, 10))","v":0}]
[null,null,null,null,null,null,null,null,null,null,null,null,null,null,null,null,null,null,null,null,null,null,null,null,null,null,null,null,null,null,null,null,null,null,2071,"住宅","S造",{"$f":"INDEX('係数表2-3'!$B:$K, 10 + QUOTIENT(ROW(AL915)-2, 10), 1 + MOD(ROW(AL915)-2, 10))","v":0}]
[null,null,null,null,null,null,null,null,null,null,null,null,null,null,null,null,null,null,null,null,null,null,null,null,null,null,null,null,null,null,null,null,null,null,2071,"住宅","その他",{"$f":"INDEX('係数表2-3'!$B:$K, 10 + QUOTIENT(ROW(AL916)-2, 10), 1 + MOD(ROW(AL916)-2, 10))","v":0}]
[null,null,null,null,null,null,null,null,null,null,null,null,null,null,null,null,null,null,null,null,null,null,null,null,null,null,null,null,null,null,null,null,null,null,2071,"非住宅","木造",{"$f":"INDEX('係数表2-3'!$B:$K, 10 + QUOTIENT(ROW(AL917)-2, 10), 1 + MOD(ROW(AL917)-2, 10))","v":0}]
[null,null,null,null,null,null,null,null,null,null,null,null,null,null,null,null,null,null,null,null,null,null,null,null,null,null,null,null,null,null,null,null,null,null,2071,"非住宅","SRC造",{"$f":"INDEX('係数表2-3'!$B:$K, 10 + QUOTIENT(ROW(AL918)-2, 10), 1 + MOD(ROW(AL918)-2, 10))","v":0}]
[null,null,null,null,null,null,null,null,null,null,null,null,null,null,null,null,null,null,null,null,null,null,null,null,null,null,null,null,null,null,null,null,null,null,2071,"非住宅","RC造",{"$f":"INDEX('係数表2-3'!$B:$K, 10 + QUOTIENT(ROW(AL919)-2, 10), 1 + MOD(ROW(AL919)-2, 10))","v":0}]
[null,null,null,null,null,null,null,null,null,null,null,null,null,null,null,null,null,null,null,null,null,null,null,null,null,null,null,null,null,null,null,null,null,null,2071,"非住宅","S造",{"$f":"INDEX('係数表2-3'!$B:$K, 10 + QUOTIENT(ROW(AL920)-2, 10), 1 + MOD(ROW(AL920)-2, 10))","v":0}]
[null,null,null,null,null,null,null,null,null,null,null,null,null,null,null,null,null,null,null,null,null,null,null,null,null,null,null,null,null,null,null,null,null,null,2071,"非住宅","その他",{"$f":"INDEX('係数表2-3'!$B:$K, 10 + QUOTIENT(ROW(AL921)-2, 10), 1 + MOD(ROW(AL921)-2, 10))","v":0}]
[null,null,null,null,null,null,null,null,null,null,null,null,null,null,null,null,null,null,null,null,null,null,null,null,null,null,null,null,null,null,null,null,null,null,2072,"住宅","木造",{"$f":"INDEX('係数表2-3'!$B:$K, 10 + QUOTIENT(ROW(AL922)-2, 10), 1 + MOD(ROW(AL922)-2, 10))","v":0}]
[null,null,null,null,null,null,null,null,null,null,null,null,null,null,null,null,null,null,null,null,null,null,null,null,null,null,null,null,null,null,null,null,null,null,2072,"住宅","SRC造",{"$f":"INDEX('係数表2-3'!$B:$K, 10 + QUOTIENT(ROW(AL923)-2, 10), 1 + MOD(ROW(AL923)-2, 10))","v":0}]
[null,null,null,null,null,null,null,null,null,null,null,null,null,null,null,null,null,null,null,null,null,null,null,null,null,null,null,null,null,null,null,null,null,null,2072,"住宅","RC造",{"$f":"INDEX('係数表2-3'!$B:$K, 10 + QUOTIENT(ROW(AL924)-2, 10), 1 + MOD(ROW(AL924)-2, 10))","v":0}]
[null,null,null,null,null,null,null,null,null,null,null,null,null,null,null,null,null,null,null,null,null,null,null,null,null,null,null,null,null,null,null,null,null,null,2072,"住宅","S造",{"$f":"INDEX('係数表2-3'!$B:$K, 10 + QUOTIENT(ROW(AL925)-2, 10), 1 + MOD(ROW(AL925)-2, 10))","v":0}]
[null,null,null,null,null,null,null,null,null,null,null,null,null,null,null,null,null,null,null,null,null,null,null,null,null,null,null,null,null,null,null,null,null,null,2072,"住宅","その他",{"$f":"INDEX('係数表2-3'!$B:$K, 10 + QUOTIENT(ROW(AL926)-2, 10), 1 + MOD(ROW(AL926)-2, 10))","v":0}]
[null,null,null,null,null,null,null,null,null,null,null,null,null,null,null,null,null,null,null,null,null,null,null,null,null,null,null,null,null,null,null,null,null,null,2072,"非住宅","木造",{"$f":"INDEX('係数表2-3'!$B:$K, 10 + QUOTIENT(ROW(AL927)-2, 10), 1 + MOD(ROW(AL927)-2, 10))","v":0}]
[null,null,null,null,null,null,null,null,null,null,null,null,null,null,null,null,null,null,null,null,null,null,null,null,null,null,null,null,null,null,null,null,null,null,2072,"非住宅","SRC造",{"$f":"INDEX('係数表2-3'!$B:$K, 10 + QUOTIENT(ROW(AL928)-2, 10), 1 + MOD(ROW(AL928)-2, 10))","v":0}]
[null,null,null,null,null,null,null,null,null,null,null,null,null,null,null,null,null,null,null,null,null,null,null,null,null,null,null,null,null,null,null,null,null,null,2072,"非住宅","RC造",{"$f":"INDEX('係数表2-3'!$B:$K, 10 + QUOTIENT(ROW(AL929)-2, 10), 1 + MOD(ROW(AL929)-2, 10))","v":0}]
[null,null,null,null,null,null,null,null,null,null,null,null,null,null,null,null,null,null,null,null,null,null,null,null,null,null,null,null,null,null,null,null,null,null,2072,"非住宅","S造",{"$f":"INDEX('係数表2-3'!$B:$K, 10 + QUOTIENT(ROW(AL930)-2, 10), 1 + MOD(ROW(AL930)-2, 10))","v":0}]
[null,null,null,null,null,null,null,null,null,null,null,null,null,null,null,null,null,null,null,null,null,null,null,null,null,null,null,null,null,null,null,null,null,null,2072,"非住宅","その他",{"$f":"INDEX('係数表2-3'!$B:$K, 10 + QUOTIENT(ROW(AL931)-2, 10), 1 + MOD(ROW(AL931)-2, 10))","v":0}]
[null,null,null,null,null,null,null,null,null,null,null,null,null,null,null,null,null,null,null,null,null,null,null,null,null,null,null,null,null,null,null,null,null,null,2073,"住宅","木造",{"$f":"INDEX('係数表2-3'!$B:$K, 10 + QUOTIENT(ROW(AL932)-2, 10), 1 + MOD(ROW(AL932)-2, 10))","v":0}]
[null,null,null,null,null,null,null,null,null,null,null,null,null,null,null,null,null,null,null,null,null,null,null,null,null,null,null,null,null,null,null,null,null,null,2073,"住宅","SRC造",{"$f":"INDEX('係数表2-3'!$B:$K, 10 + QUOTIENT(ROW(AL933)-2, 10), 1 + MOD(ROW(AL933)-2, 10))","v":0}]
[null,null,null,null,null,null,null,null,null,null,null,null,null,null,null,null,null,null,null,null,null,null,null,null,null,null,null,null,null,null,null,null,null,null,2073,"住宅","RC造",{"$f":"INDEX('係数表2-3'!$B:$K, 10 + QUOTIENT(ROW(AL934)-2, 10), 1 + MOD(ROW(AL934)-2, 10))","v":0}]
[null,null,null,null,null,null,null,null,null,null,null,null,null,null,null,null,null,null,null,null,null,null,null,null,null,null,null,null,null,null,null,null,null,null,2073,"住宅","S造",{"$f":"INDEX('係数表2-3'!$B:$K, 10 + QUOTIENT(ROW(AL935)-2, 10), 1 + MOD(ROW(AL935)-2, 10))","v":0}]
[null,null,null,null,null,null,null,null,null,null,null,null,null,null,null,null,null,null,null,null,null,null,null,null,null,null,null,null,null,null,null,null,null,null,2073,"住宅","その他",{"$f":"INDEX('係数表2-3'!$B:$K, 10 + QUOTIENT(ROW(AL936)-2, 10), 1 + MOD(ROW(AL936)-2, 10))","v":0}]
[null,null,null,null,null,null,null,null,null,null,null,null,null,null,null,null,null,null,null,null,null,null,null,null,null,null,null,null,null,null,null,null,null,null,2073,"非住宅","木造",{"$f":"INDEX('係数表2-3'!$B:$K, 10 + QUOTIENT(ROW(AL937)-2, 10), 1 + MOD(ROW(AL937)-2, 10))","v":0}]
[null,null,null,null,null,null,null,null,null,null,null,null,null,null,null,null,null,null,null,null,null,null,null,null,null,null,null,null,null,null,null,null,null,null,2073,"非住宅","SRC造",{"$f":"INDEX('係数表2-3'!$B:$K, 10 + QUOTIENT(ROW(AL938)-2, 10), 1 + MOD(ROW(AL938)-2, 10))","v":0}]
[null,null,null,null,null,null,null,null,null,null,null,null,null,null,null,null,null,null,null,null,null,null,null,null,null,null,null,null,null,null,null,null,null,null,2073,"非住宅","RC造",{"$f":"INDEX('係数表2-3'!$B:$K, 10 + QUOTIENT(ROW(AL939)-2, 10), 1 + MOD(ROW(AL939)-2, 10))","v":0}]
[null,null,null,null,null,null,null,null,null,null,null,null,null,null,null,null,null,null,null,null,null,null,null,null,null,null,null,null,null,null,null,null,null,null,2073,"非住宅","S造",{"$f":"INDEX('係数表2-3'!$B:$K, 10 + QUOTIENT(ROW(AL940)-2, 10), 1 + MOD(ROW(AL940)-2, 10))","v":0}]
[null,null,null,null,null,null,null,null,null,null,null,null,null,null,null,null,null,null,null,null,null,null,null,null,null,null,null,null,null,null,null,null,null,null,2073,"非住宅","その他",{"$f":"INDEX('係数表2-3'!$B:$K, 10 + QUOTIENT(ROW(AL941)-2, 10), 1 + MOD(ROW(AL941)-2, 10))","v":0}]
[null,null,null,null,null,null,null,null,null,null,null,null,null,null,null,null,null,null,null,null,null,null,null,null,null,null,null,null,null,null,null,null,null,null,2074,"住宅","木造",{"$f":"INDEX('係数表2-3'!$B:$K, 10 + QUOTIENT(ROW(AL942)-2, 10), 1 + MOD(ROW(AL942)-2, 10))","v":0}]
[null,null,null,null,null,null,null,null,null,null,null,null,null,null,null,null,null,null,null,null,null,null,null,null,null,null,null,null,null,null,null,null,null,null,2074,"住宅","SRC造",{"$f":"INDEX('係数表2-3'!$B:$K, 10 + QUOTIENT(ROW(AL943)-2, 10), 1 + MOD(ROW(AL943)-2, 10))","v":0}]
[null,null,null,null,null,null,null,null,null,null,null,null,null,null,null,null,null,null,null,null,null,null,null,null,null,null,null,null,null,null,null,null,null,null,2074,"住宅","RC造",{"$f":"INDEX('係数表2-3'!$B:$K, 10 + QUOTIENT(ROW(AL944)-2, 10), 1 + MOD(ROW(AL944)-2, 10))","v":0}]
[null,null,null,null,null,null,null,null,null,null,null,null,null,null,null,null,null,null,null,null,null,null,null,null,null,null,null,null,null,null,null,null,null,null,2074,"住宅","S造",{"$f":"INDEX('係数表2-3'!$B:$K, 10 + QUOTIENT(ROW(AL945)-2, 10), 1 + MOD(ROW(AL945)-2, 10))","v":0}]
[null,null,null,null,null,null,null,null,null,null,null,null,null,null,null,null,null,null,null,null,null,null,null,null,null,null,null,null,null,null,null,null,null,null,2074,"住宅","その他",{"$f":"INDEX('係数表2-3'!$B:$K, 10 + QUOTIENT(ROW(AL946)-2, 10), 1 + MOD(ROW(AL946)-2, 10))","v":0}]
[null,null,null,null,null,null,null,null,null,null,null,null,null,null,null,null,null,null,null,null,null,null,null,null,null,null,null,null,null,null,null,null,null,null,2074,"非住宅","木造",{"$f":"INDEX('係数表2-3'!$B:$K, 10 + QUOTIENT(ROW(AL947)-2, 10), 1 + MOD(ROW(AL947)-2, 10))","v":0}]
[null,null,null,null,null,null,null,null,null,null,null,null,null,null,null,null,null,null,null,null,null,null,null,null,null,null,null,null,null,null,null,null,null,null,2074,"非住宅","SRC造",{"$f":"INDEX('係数表2-3'!$B:$K, 10 + QUOTIENT(ROW(AL948)-2, 10), 1 + MOD(ROW(AL948)-2, 10))","v":0}]
[null,null,null,null,null,null,null,null,null,null,null,null,null,null,null,null,null,null,null,null,null,null,null,null,null,null,null,null,null,null,null,null,null,null,2074,"非住宅","RC造",{"$f":"INDEX('係数表2-3'!$B:$K, 10 + QUOTIENT(ROW(AL949)-2, 10), 1 + MOD(ROW(AL949)-2, 10))","v":0}]
[null,null,null,null,null,null,null,null,null,null,null,null,null,null,null,null,null,null,null,null,null,null,null,null,null,null,null,null,null,null,null,null,null,null,2074,"非住宅","S造",{"$f":"INDEX('係数表2-3'!$B:$K, 10 + QUOTIENT(ROW(AL950)-2, 10), 1 + MOD(ROW(AL950)-2, 10))","v":0}]
[null,null,null,null,null,null,null,null,null,null,null,null,null,null,null,null,null,null,null,null,null,null,null,null,null,null,null,null,null,null,null,null,null,null,2074,"非住宅","その他",{"$f":"INDEX('係数表2-3'!$B:$K, 10 + QUOTIENT(ROW(AL951)-2, 10), 1 + MOD(ROW(AL951)-2, 10))","v":0}]
[null,null,null,null,null,null,null,null,null,null,null,null,null,null,null,null,null,null,null,null,null,null,null,null,null,null,null,null,null,null,null,null,null,null,2075,"住宅","木造",{"$f":"INDEX('係数表2-3'!$B:$K, 10 + QUOTIENT(ROW(AL952)-2, 10), 1 + MOD(ROW(AL952)-2, 10))","v":0}]
[null,null,null,null,null,null,null,null,null,null,null,null,null,null,null,null,null,null,null,null,null,null,null,null,null,null,null,null,null,null,null,null,null,null,2075,"住宅","SRC造",{"$f":"INDEX('係数表2-3'!$B:$K, 10 + QUOTIENT(ROW(AL953)-2, 10), 1 + MOD(ROW(AL953)-2, 10))","v":0}]
[null,null,null,null,null,null,null,null,null,null,null,null,null,null,null,null,null,null,null,null,null,null,null,null,null,null,null,null,null,null,null,null,null,null,2075,"住宅","RC造",{"$f":"INDEX('係数表2-3'!$B:$K, 10 + QUOTIENT(ROW(AL954)-2, 10), 1 + MOD(ROW(AL954)-2, 10))","v":0}]
[null,null,null,null,null,null,null,null,null,null,null,null,null,null,null,null,null,null,null,null,null,null,null,null,null,null,null,null,null,null,null,null,null,null,2075,"住宅","S造",{"$f":"INDEX('係数表2-3'!$B:$K, 10 + QUOTIENT(ROW(AL955)-2, 10), 1 + MOD(ROW(AL955)-2, 10))","v":0}]
[null,null,null,null,null,null,null,null,null,null,null,null,null,null,null,null,null,null,null,null,null,null,null,null,null,null,null,null,null,null,null,null,null,null,2075,"住宅","その他",{"$f":"INDEX('係数表2-3'!$B:$K, 10 + QUOTIENT(ROW(AL956)-2, 10), 1 + MOD(ROW(AL956)-2, 10))","v":0}]
[null,null,null,null,null,null,null,null,null,null,null,null,null,null,null,null,null,null,null,null,null,null,null,null,null,null,null,null,null,null,null,null,null,null,2075,"非住宅","木造",{"$f":"INDEX('係数表2-3'!$B:$K, 10 + QUOTIENT(ROW(AL957)-2, 10), 1 + MOD(ROW(AL957)-2, 10))","v":0}]
[null,null,null,null,null,null,null,null,null,null,null,null,null,null,null,null,null,null,null,null,null,null,null,null,null,null,null,null,null,null,null,null,null,null,2075,"非住宅","SRC造",{"$f":"INDEX('係数表2-3'!$B:$K, 10 + QUOTIENT(ROW(AL958)-2, 10), 1 + MOD(ROW(AL958)-2, 10))","v":0}]
[null,null,null,null,null,null,null,null,null,null,null,null,null,null,null,null,null,null,null,null,null,null,null,null,null,null,null,null,null,null,null,null,null,null,2075,"非住宅","RC造",{"$f":"INDEX('係数表2-3'!$B:$K, 10 + QUOTIENT(ROW(AL959)-2, 10), 1 + MOD(ROW(AL959)-2, 10))","v":0}]
[null,null,null,null,null,null,null,null,null,null,null,null,null,null,null,null,null,null,null,null,null,null,null,null,null,null,null,null,null,null,null,null,null,null,2075,"非住宅","S造",{"$f":"INDEX('係数表2-3'!$B:$K, 10 + QUOTIENT(ROW(AL960)-2, 10), 1 + MOD(ROW(AL960)-2, 10))","v":0}]
[null,null,null,null,null,null,null,null,null,null,null,null,null,null,null,null,null,null,null,null,null,null,null,null,null,null,null,null,null,null,null,null,null,null,2075,"非住宅","その他",{"$f":"INDEX('係数表2-3'!$B:$K, 10 + QUOTIENT(ROW(AL961)-2, 10), 1 + MOD(ROW(AL961)-2, 10))","v":0}]
[null,null,null,null,null,null,null,null,null,null,null,null,null,null,null,null,null,null,null,null,null,null,null,null,null,null,null,null,null,null,null,null,null,null,2076,"住宅","木造",{"$f":"INDEX('係数表2-3'!$B:$K, 10 + QUOTIENT(ROW(AL962)-2, 10), 1 + MOD(ROW(AL962)-2, 10))","v":0}]
[null,null,null,null,null,null,null,null,null,null,null,null,null,null,null,null,null,null,null,null,null,null,null,null,null,null,null,null,null,null,null,null,null,null,2076,"住宅","SRC造",{"$f":"INDEX('係数表2-3'!$B:$K, 10 + QUOTIENT(ROW(AL963)-2, 10), 1 + MOD(ROW(AL963)-2, 10))","v":0}]
[null,null,null,null,null,null,null,null,null,null,null,null,null,null,null,null,null,null,null,null,null,null,null,null,null,null,null,null,null,null,null,null,null,null,2076,"住宅","RC造",{"$f":"INDEX('係数表2-3'!$B:$K, 10 + QUOTIENT(ROW(AL964)-2, 10), 1 + MOD(ROW(AL964)-2, 10))","v":0}]
[null,null,null,null,null,null,null,null,null,null,null,null,null,null,null,null,null,null,null,null,null,null,null,null,null,null,null,null,null,null,null,null,null,null,2076,"住宅","S造",{"$f":"INDEX('係数表2-3'!$B:$K, 10 + QUOTIENT(ROW(AL965)-2, 10), 1 + MOD(ROW(AL965)-2, 10))","v":0}]
[null,null,null,null,null,null,null,null,null,null,null,null,null,null,null,null,null,null,null,null,null,null,null,null,null,null,null,null,null,null,null,null,null,null,2076,"住宅","その他",{"$f":"INDEX('係数表2-3'!$B:$K, 10 + QUOTIENT(ROW(AL966)-2, 10), 1 + MOD(ROW(AL966)-2, 10))","v":0}]
[null,null,null,null,null,null,null,null,null,null,null,null,null,null,null,null,null,null,null,null,null,null,null,null,null,null,null,null,null,null,null,null,null,null,2076,"非住宅","木造",{"$f":"INDEX('係数表2-3'!$B:$K, 10 + QUOTIENT(ROW(AL967)-2, 10), 1 + MOD(ROW(AL967)-2, 10))","v":0}]
[null,null,null,null,null,null,null,null,null,null,null,null,null,null,null,null,null,null,null,null,null,null,null,null,null,null,null,null,null,null,null,null,null,null,2076,"非住宅","SRC造",{"$f":"INDEX('係数表2-3'!$B:$K, 10 + QUOTIENT(ROW(AL968)-2, 10), 1 + MOD(ROW(AL968)-2, 10))","v":0}]
[null,null,null,null,null,null,null,null,null,null,null,null,null,null,null,null,null,null,null,null,null,null,null,null,null,null,null,null,null,null,null,null,null,null,2076,"非住宅","RC造",{"$f":"INDEX('係数表2-3'!$B:$K, 10 + QUOTIENT(ROW(AL969)-2, 10), 1 + MOD(ROW(AL969)-2, 10))","v":0}]
[null,null,null,null,null,null,null,null,null,null,null,null,null,null,null,null,null,null,null,null,null,null,null,null,null,null,null,null,null,null,null,null,null,null,2076,"非住宅","S造",{"$f":"INDEX('係数表2-3'!$B:$K, 10 + QUOTIENT(ROW(AL970)-2, 10), 1 + MOD(ROW(AL970)-2, 10))","v":0}]
[null,null,null,null,null,null,null,null,null,null,null,null,null,null,null,null,null,null,null,null,null,null,null,null,null,null,null,null,null,null,null,null,null,null,2076,"非住宅","その他",{"$f":"INDEX('係数表2-3'!$B:$K, 10 + QUOTIENT(ROW(AL971)-2, 10), 1 + MOD(ROW(AL971)-2, 10))","v":0}]
[null,null,null,null,null,null,null,null,null,null,null,null,null,null,null,null,null,null,null,null,null,null,null,null,null,null,null,null,null,null,null,null,null,null,2077,"住宅","木造",{"$f":"INDEX('係数表2-3'!$B:$K, 10 + QUOTIENT(ROW(AL972)-2, 10), 1 + MOD(ROW(AL972)-2, 10))","v":0}]
[null,null,null,null,null,null,null,null,null,null,null,null,null,null,null,null,null,null,null,null,null,null,null,null,null,null,null,null,null,null,null,null,null,null,2077,"住宅","SRC造",{"$f":"INDEX('係数表2-3'!$B:$K, 10 + QUOTIENT(ROW(AL973)-2, 10), 1 + MOD(ROW(AL973)-2, 10))","v":0}]
[null,null,null,null,null,null,null,null,null,null,null,null,null,null,null,null,null,null,null,null,null,null,null,null,null,null,null,null,null,null,null,null,null,null,2077,"住宅","RC造",{"$f":"INDEX('係数表2-3'!$B:$K, 10 + QUOTIENT(ROW(AL974)-2, 10), 1 + MOD(ROW(AL974)-2, 10))","v":0}]
[null,null,null,null,null,null,null,null,null,null,null,null,null,null,null,null,null,null,null,null,null,null,null,null,null,null,null,null,null,null,null,null,null,null,2077,"住宅","S造",{"$f":"INDEX('係数表2-3'!$B:$K, 10 + QUOTIENT(ROW(AL975)-2, 10), 1 + MOD(ROW(AL975)-2, 10))","v":0}]
[null,null,null,null,null,null,null,null,null,null,null,null,null,null,null,null,null,null,null,null,null,null,null,null,null,null,null,null,null,null,null,null,null,null,2077,"住宅","その他",{"$f":"INDEX('係数表2-3'!$B:$K, 10 + QUOTIENT(ROW(AL976)-2, 10), 1 + MOD(ROW(AL976)-2, 10))","v":0}]
[null,null,null,null,null,null,null,null,null,null,null,null,null,null,null,null,null,null,null,null,null,null,null,null,null,null,null,null,null,null,null,null,null,null,2077,"非住宅","木造",{"$f":"INDEX('係数表2-3'!$B:$K, 10 + QUOTIENT(ROW(AL977)-2, 10), 1 + MOD(ROW(AL977)-2, 10))","v":0}]
[null,null,null,null,null,null,null,null,null,null,null,null,null,null,null,null,null,null,null,null,null,null,null,null,null,null,null,null,null,null,null,null,null,null,2077,"非住宅","SRC造",{"$f":"INDEX('係数表2-3'!$B:$K, 10 + QUOTIENT(ROW(AL978)-2, 10), 1 + MOD(ROW(AL978)-2, 10))","v":0}]
[null,null,null,null,null,null,null,null,null,null,null,null,null,null,null,null,null,null,null,null,null,null,null,null,null,null,null,null,null,null,null,null,null,null,2077,"非住宅","RC造",{"$f":"INDEX('係数表2-3'!$B:$K, 10 + QUOTIENT(ROW(AL979)-2, 10), 1 + MOD(ROW(AL979)-2, 10))","v":0}]
[null,null,null,null,null,null,null,null,null,null,null,null,null,null,null,null,null,null,null,null,null,null,null,null,null,null,null,null,null,null,null,null,null,null,2077,"非住宅","S造",{"$f":"INDEX('係数表2-3'!$B:$K, 10 + QUOTIENT(ROW(AL980)-2, 10), 1 + MOD(ROW(AL980)-2, 10))","v":0}]
[null,null,null,null,null,null,null,null,null,null,null,null,null,null,null,null,null,null,null,null,null,null,null,null,null,null,null,null,null,null,null,null,null,null,2077,"非住宅","その他",{"$f":"INDEX('係数表2-3'!$B:$K, 10 + QUOTIENT(ROW(AL981)-2, 10), 1 + MOD(ROW(AL981)-2, 10))","v":0}]
[null,null,null,null,null,null,null,null,null,null,null,null,null,null,null,null,null,null,null,null,null,null,null,null,null,null,null,null,null,null,null,null,null,null,2078,"住宅","木造",{"$f":"INDEX('係数表2-3'!$B:$K, 10 + QUOTIENT(ROW(AL982)-2, 10), 1 + MOD(ROW(AL982)-2, 10))","v":0}]
[null,null,null,null,null,null,null,null,null,null,null,null,null,null,null,null,null,null,null,null,null,null,null,null,null,null,null,null,null,null,null,null,null,null,2078,"住宅","SRC造",{"$f":"INDEX('係数表2-3'!$B:$K, 10 + QUOTIENT(ROW(AL983)-2, 10), 1 + MOD(ROW(AL983)-2, 10))","v":0}]
[null,null,null,null,null,null,null,null,null,null,null,null,null,null,null,null,null,null,null,null,null,null,null,null,null,null,null,null,null,null,null,null,null,null,2078,"住宅","RC造",{"$f":"INDEX('係数表2-3'!$B:$K, 10 + QUOTIENT(ROW(AL984)-2, 10), 1 + MOD(ROW(AL984)-2, 10))","v":0}]
[null,null,null,null,null,null,null,null,null,null,null,null,null,null,null,null,null,null,null,null,null,null,null,null,null,null,null,null,null,null,null,null,null,null,2078,"住宅","S造",{"$f":"INDEX('係数表2-3'!$B:$K, 10 + QUOTIENT(ROW(AL985)-2, 10), 1 + MOD(ROW(AL985)-2, 10))","v":0}]
[null,null,null,null,null,null,null,null,null,null,null,null,null,null,null,null,null,null,null,null,null,null,null,null,null,null,null,null,null,null,null,null,null,null,2078,"住宅","その他",{"$f":"INDEX('係数表2-3'!$B:$K, 10 + QUOTIENT(ROW(AL986)-2, 10), 1 + MOD(ROW(AL986)-2, 10))","v":0}]
[null,null,null,null,null,null,null,null,null,null,null,null,null,null,null,null,null,null,null,null,null,null,null,null,null,null,null,null,null,null,null,null,null,null,2078,"非住宅","木造",{"$f":"INDEX('係数表2-3'!$B:$K, 10 + QUOTIENT(ROW(AL987)-2, 10), 1 + MOD(ROW(AL987)-2, 10))","v":0}]
[null,null,null,null,null,null,null,null,null,null,null,null,null,null,null,null,null,null,null,null,null,null,null,null,null,null,null,null,null,null,null,null,null,null,2078,"非住宅","SRC造",{"$f":"INDEX('係数表2-3'!$B:$K, 10 + QUOTIENT(ROW(AL988)-2, 10), 1 + MOD(ROW(AL988)-2, 10))","v":0}]
[null,null,null,null,null,null,null,null,null,null,null,null,null,null,null,null,null,null,null,null,null,null,null,null,null,null,null,null,null,null,null,null,null,null,2078,"非住宅","RC造",{"$f":"INDEX('係数表2-3'!$B:$K, 10 + QUOTIENT(ROW(AL989)-2, 10), 1 + MOD(ROW(AL989)-2, 10))","v":0}]
[null,null,null,null,null,null,null,null,null,null,null,null,null,null,null,null,null,null,null,null,null,null,null,null,null,null,null,null,null,null,null,null,null,null,2078,"非住宅","S造",{"$f":"INDEX('係数表2-3'!$B:$K, 10 + QUOTIENT(ROW(AL990)-2, 10), 1 + MOD(ROW(AL990)-2, 10))","v":0}]
[null,null,null,null,null,null,null,null,null,null,null,null,null,null,null,null,null,null,null,null,null,null,null,null,null,null,null,null,null,null,null,null,null,null,2078,"非住宅","その他",{"$f":"INDEX('係数表2-3'!$B:$K, 10 + QUOTIENT(ROW(AL991)-2, 10), 1 + MOD(ROW(AL991)-2, 10))","v":0}]
[null,null,null,null,null,null,null,null,null,null,null,null,null,null,null,null,null,null,null,null,null,null,null,null,null,null,null,null,null,null,null,null,null,null,2079,"住宅","木造",{"$f":"INDEX('係数表2-3'!$B:$K, 10 + QUOTIENT(ROW(AL992)-2, 10), 1 + MOD(ROW(AL992)-2, 10))","v":0}]
[null,null,null,null,null,null,null,null,null,null,null,null,null,null,null,null,null,null,null,null,null,null,null,null,null,null,null,null,null,null,null,null,null,null,2079,"住宅","SRC造",{"$f":"INDEX('係数表2-3'!$B:$K, 10 + QUOTIENT(ROW(AL993)-2, 10), 1 + MOD(ROW(AL993)-2, 10))","v":0}]
[null,null,null,null,null,null,null,null,null,null,null,null,null,null,null,null,null,null,null,null,null,null,null,null,null,null,null,null,null,null,null,null,null,null,2079,"住宅","RC造",{"$f":"INDEX('係数表2-3'!$B:$K, 10 + QUOTIENT(ROW(AL994)-2, 10), 1 + MOD(ROW(AL994)-2, 10))","v":0}]
[null,null,null,null,null,null,null,null,null,null,null,null,null,null,null,null,null,null,null,null,null,null,null,null,null,null,null,null,null,null,null,null,null,null,2079,"住宅","S造",{"$f":"INDEX('係数表2-3'!$B:$K, 10 + QUOTIENT(ROW(AL995)-2, 10), 1 + MOD(ROW(AL995)-2, 10))","v":0}]
[null,null,null,null,null,null,null,null,null,null,null,null,null,null,null,null,null,null,null,null,null,null,null,null,null,null,null,null,null,null,null,null,null,null,2079,"住宅","その他",{"$f":"INDEX('係数表2-3'!$B:$K, 10 + QUOTIENT(ROW(AL996)-2, 10), 1 + MOD(ROW(AL996)-2, 10))","v":0}]
[null,null,null,null,null,null,null,null,null,null,null,null,null,null,null,null,null,null,null,null,null,null,null,null,null,null,null,null,null,null,null,null,null,null,2079,"非住宅","木造",{"$f":"INDEX('係数表2-3'!$B:$K, 10 + QUOTIENT(ROW(AL997)-2, 10), 1 + MOD(ROW(AL997)-2, 10))","v":0}]
[null,null,null,null,null,null,null,null,null,null,null,null,null,null,null,null,null,null,null,null,null,null,null,null,null,null,null,null,null,null,null,null,null,null,2079,"非住宅","SRC造",{"$f":"INDEX('係数表2-3'!$B:$K, 10 + QUOTIENT(ROW(AL998)-2, 10), 1 + MOD(ROW(AL998)-2, 10))","v":0}]
[null,null,null,null,null,null,null,null,null,null,null,null,null,null,null,null,null,null,null,null,null,null,null,null,null,null,null,null,null,null,null,null,null,null,2079,"非住宅","RC造",{"$f":"INDEX('係数表2-3'!$B:$K, 10 + QUOTIENT(ROW(AL999)-2, 10), 1 + MOD(ROW(AL999)-2, 10))","v":0}]
[null,null,null,null,null,null,null,null,null,null,null,null,null,null,null,null,null,null,null,null,null,null,null,null,null,null,null,null,null,null,null,null,null,null,2079,"非住宅","S造",{"$f":"INDEX('係数表2-3'!$B:$K, 10 + QUOTIENT(ROW(AL1000)-2, 10), 1 + MOD(ROW(AL1000)-2, 10))","v":0}]
[null,null,null,null,null,null,null,null,null,null,null,null,null,null,null,null,null,null,null,null,null,null,null,null,null,null,null,null,null,null,null,null,null,null,2079,"非住宅","その他",{"$f":"INDEX('係数表2-3'!$B:$K, 10 + QUOTIENT(ROW(AL1001)-2, 10), 1 + MOD(ROW(AL1001)-2, 10))","v":0}]
[null,null,null,null,null,null,null,null,null,null,null,null,null,null,null,null,null,null,null,null,null,null,null,null,null,null,null,null,null,null,null,null,null,null,2080,"住宅","その他",{"$f":"INDEX('係数表2-3'!$B:$K, 10 + QUOTIENT(ROW(AL1006)-2, 10), 1 + MOD(ROW(AL1006)-2, 10))","v":0}]
[null,null,null,null,null,null,null,null,null,null,null,null,null,null,null,null,null,null,null,null,null,null,null,null,null,null,null,null,null,null,null,null,null,null,2080,"非住宅","その他",{"$f":"INDEX('係数表2-3'!$B:$K, 10 + QUOTIENT(ROW(AL1011)-2, 10), 1 + MOD(ROW(AL1011)-2, 10))","v":0}]
[null,null,null,null,null,null,null,null,null,null,null,null,null,null,null,null,null,null,null,null,null,null,null,null,null,null,null,null,null,null,null,null,null,null,2081,"住宅","木造",{"$f":"INDEX('係数表2-3'!$B:$K, 10 + QUOTIENT(ROW(AL1012)-2, 10), 1 + MOD(ROW(AL1012)-2, 10))","v":0}]
[null,null,null,null,null,null,null,null,null,null,null,null,null,null,null,null,null,null,null,null,null,null,null,null,null,null,null,null,null,null,null,null,null,null,2081,"非住宅","木造",{"$f":"INDEX('係数表2-3'!$B:$K, 10 + QUOTIENT(ROW(AL1017)-2, 10), 1 + MOD(ROW(AL1017)-2, 10))","v":0}]
[null,null,null,null,null,null,null,null,null,null,null,null,null,null,null,null,null,null,null,null,null,null,null,null,null,null,null,null,null,null,null,null,null,null,2082,"住宅","木造",{"$f":"INDEX('係数表2-3'!$B:$K, 10 + QUOTIENT(ROW(AL1022)-2, 10), 1 + MOD(ROW(AL1022)-2, 10))","v":0}]
[null,null,null,null,null,null,null,null,null,null,null,null,null,null,null,null,null,null,null,null,null,null,null,null,null,null,null,null,null,null,null,null,null,null,2082,"非住宅","木造",{"$f":"INDEX('係数表2-3'!$B:$K, 10 + QUOTIENT(ROW(AL1027)-2, 10), 1 + MOD(ROW(AL1027)-2, 10))","v":0}]
[null,null,null,null,null,null,null,null,null,null,null,null,null,null,null,null,null,null,null,null,null,null,null,null,null,null,null,null,null,null,null,null,null,null,2082,"非住宅","SRC造",{"$f":"INDEX('係数表2-3'!$B:$K, 10 + QUOTIENT(ROW(AL1028)-2, 10), 1 + MOD(ROW(AL1028)-2, 10))","v":0}]
[null,null,null,null,null,null,null,null,null,null,null,null,null,null,null,null,null,null,null,null,null,null,null,null,null,null,null,null,null,null,null,null,null,null,2083,"住宅","SRC造",{"$f":"INDEX('係数表2-3'!$B:$K, 10 + QUOTIENT(ROW(AL1033)-2, 10), 1 + MOD(ROW(AL1033)-2, 10))","v":0}]
[null,null,null,null,null,null,null,null,null,null,null,null,null,null,null,null,null,null,null,null,null,null,null,null,null,null,null,null,null,null,null,null,null,null,2083,"非住宅","SRC造",{"$f":"INDEX('係数表2-3'!$B:$K, 10 + QUOTIENT(ROW(AL1038)-2, 10), 1 + MOD(ROW(AL1038)-2, 10))","v":0}]
[null,null,null,null,null,null,null,null,null,null,null,null,null,null,null,null,null,null,null,null,null,null,null,null,null,null,null,null,null,null,null,null,null,null,2084,"住宅","SRC造",{"$f":"INDEX('係数表2-3'!$B:$K, 10 + QUOTIENT(ROW(AL1043)-2, 10), 1 + MOD(ROW(AL1043)-2, 10))","v":0}]
[null,null,null,null,null,null,null,null,null,null,null,null,null,null,null,null,null,null,null,null,null,null,null,null,null,null,null,null,null,null,null,null,null,null,2084,"住宅","RC造",{"$f":"INDEX('係数表2-3'!$B:$K, 10 + QUOTIENT(ROW(AL1044)-2, 10), 1 + MOD(ROW(AL1044)-2, 10))","v":0}]
[null,null,null,null,null,null,null,null,null,null,null,null,null,null,null,null,null,null,null,null,null,null,null,null,null,null,null,null,null,null,null,null,null,null,2084,"非住宅","RC造",{"$f":"INDEX('係数表2-3'!$B:$K, 10 + QUOTIENT(ROW(AL1049)-2, 10), 1 + MOD(ROW(AL1049)-2, 10))","v":0}]
[null,null,null,null,null,null,null,null,null,null,null,null,null,null,null,null,null,null,null,null,null,null,null,null,null,null,null,null,null,null,null,null,null,null,2085,"住宅","RC造",{"$f":"INDEX('係数表2-3'!$B:$K, 10 + QUOTIENT(ROW(AL1054)-2, 10), 1 + MOD(ROW(AL1054)-2, 10))","v":0}]
[null,null,null,null,null,null,null,null,null,null,null,null,null,null,null,null,null,null,null,null,null,null,null,null,null,null,null,null,null,null,null,null,null,null,2085,"非住宅","RC造",{"$f":"INDEX('係数表2-3'!$B:$K, 10 + QUOTIENT(ROW(AL1059)-2, 10), 1 + MOD(ROW(AL1059)-2, 10))","v":0}]
[null,null,null,null,null,null,null,null,null,null,null,null,null,null,null,null,null,null,null,null,null,null,null,null,null,null,null,null,null,null,null,null,null,null,2085,"非住宅","S造",{"$f":"INDEX('係数表2-3'!$B:$K, 10 + QUOTIENT(ROW(AL1060)-2, 10), 1 + MOD(ROW(AL1060)-2, 10))","v":0}]
[null,null,null,null,null,null,null,null,null,null,null,null,null,null,null,null,null,null,null,null,null,null,null,null,null,null,null,null,null,null,null,null,null,null,2086,"住宅","S造",{"$f":"INDEX('係数表2-3'!$B:$K, 10 + QUOTIENT(ROW(AL1065)-2, 10), 1 + MOD(ROW(AL1065)-2, 10))","v":0}]
[null,null,null,null,null,null,null,null,null,null,null,null,null,null,null,null,null,null,null,null,null,null,null,null,null,null,null,null,null,null,null,null,null,null,2086,"非住宅","S造",{"$f":"INDEX('係数表2-3'!$B:$K, 10 + QUOTIENT(ROW(AL1070)-2, 10), 1 + MOD(ROW(AL1070)-2, 10))","v":0}]
[null,null,null,null,null,null,null,null,null,null,null,null,null,null,null,null,null,null,null,null,null,null,null,null,null,null,null,null,null,null,null,null,null,null,2087,"住宅","S造",{"$f":"INDEX('係数表2-3'!$B:$K, 10 + QUOTIENT(ROW(AL1075)-2, 10), 1 + MOD(ROW(AL1075)-2, 10))","v":0}]
[null,null,null,null,null,null,null,null,null,null,null,null,null,null,null,null,null,null,null,null,null,null,null,null,null,null,null,null,null,null,null,null,null,null,2087,"住宅","その他",{"$f":"INDEX('係数表2-3'!$B:$K, 10 + QUOTIENT(ROW(AL1076)-2, 10), 1 + MOD(ROW(AL1076)-2, 10))","v":0}]
[null,null,null,null,null,null,null,null,null,null,null,null,null,null,null,null,null,null,null,null,null,null,null,null,null,null,null,null,null,null,null,null,null,null,2087,"非住宅","その他",{"$f":"INDEX('係数表2-3'!$B:$K, 10 + QUOTIENT(ROW(AL1081)-2, 10), 1 + MOD(ROW(AL1081)-2, 10))","v":0}]
[null,null,null,null,null,null,null,null,null,null,null,null,null,null,null,null,null,null,null,null,null,null,null,null,null,null,null,null,null,null,null,null,null,null,2088,"住宅","その他",{"$f":"INDEX('係数表2-3'!$B:$K, 10 + QUOTIENT(ROW(AL1086)-2, 10), 1 + MOD(ROW(AL1086)-2, 10))","v":0}]
[null,null,null,null,null,null,null,null,null,null,null,null,null,null,null,null,null,null,null,null,null,null,null,null,null,null,null,null,null,null,null,null,null,null,2088,"非住宅","その他",{"$f":"INDEX('係数表2-3'!$B:$K, 10 + QUOTIENT(ROW(AL1091)-2, 10), 1 + MOD(ROW(AL1091)-2, 10))","v":0}]
[null,null,null,null,null,null,null,null,null,null,null,null,null,null,null,null,null,null,null,null,null,null,null,null,null,null,null,null,null,null,null,null,null,null,2089,"住宅","木造",{"$f":"INDEX('係数表2-3'!$B:$K, 10 + QUOTIENT(ROW(AL1092)-2, 10), 1 + MOD(ROW(AL1092)-2, 10))","v":0}]
[null,null,null,null,null,null,null,null,null,null,null,null,null,null,null,null,null,null,null,null,null,null,null,null,null,null,null,null,null,null,null,null,null,null,2089,"非住宅","木造",{"$f":"INDEX('係数表2-3'!$B:$K, 10 + QUOTIENT(ROW(AL1097)-2, 10), 1 + MOD(ROW(AL1097)-2, 10))","v":0}]
[null,null,null,null,null,null,null,null,null,null,null,null,null,null,null,null,null,null,null,null,null,null,null,null,null,null,null,null,null,null,null,null,null,null,2089,"非住宅","その他",{"$f":"INDEX('係数表2-3'!$B:$K, 10 + QUOTIENT(ROW(AL1101)-2, 10), 1 + MOD(ROW(AL1101)-2, 10))","v":0}]
[null,null,null,null,null,null,null,null,null,null,null,null,null,null,null,null,null,null,null,null,null,null,null,null,null,null,null,null,null,null,null,null,null,null,2090,"住宅","その他",{"$f":"INDEX('係数表2-3'!$B:$K, 10 + QUOTIENT(ROW(AL1106)-2, 10), 1 + MOD(ROW(AL1106)-2, 10))","v":0}]
[null,null,null,null,null,null,null,null,null,null,null,null,null,null,null,null,null,null,null,null,null,null,null,null,null,null,null,null,null,null,null,null,null,null,2090,"非住宅","木造",{"$f":"INDEX('係数表2-3'!$B:$K, 10 + QUOTIENT(ROW(AL1107)-2, 10), 1 + MOD(ROW(AL1107)-2, 10))","v":0}]
[null,null,null,null,null,null,null,null,null,null,null,null,null,null,null,null,null,null,null,null,null,null,null,null,null,null,null,null,null,null,null,null,null,null,2091,"住宅","木造",{"$f":"INDEX('係数表2-3'!$B:$K, 10 + QUOTIENT(ROW(AL1112)-2, 10), 1 + MOD(ROW(AL1112)-2, 10))","v":0}]
[null,null,null,null,null,null,null,null,null,null,null,null,null,null,null,null,null,null,null,null,null,null,null,null,null,null,null,null,null,null,null,null,null,null,2091,"非住宅","木造",{"$f":"INDEX('係数表2-3'!$B:$K, 10 + QUOTIENT(ROW(AL1117)-2, 10), 1 + MOD(ROW(AL1117)-2, 10))","v":0}]
[null,null,null,null,null,null,null,null,null,null,null,null,null,null,null,null,null,null,null,null,null,null,null,null,null,null,null,null,null,null,null,null,null,null,2092,"住宅","木造",{"$f":"INDEX('係数表2-3'!$B:$K, 10 + QUOTIENT(ROW(AL1122)-2, 10), 1 + MOD(ROW(AL1122)-2, 10))","v":0}]
[null,null,null,null,null,null,null,null,null,null,null,null,null,null,null,null,null,null,null,null,null,null,null,null,null,null,null,null,null,null,null,null,null,null,2092,"住宅","SRC造",{"$f":"INDEX('係数表2-3'!$B:$K, 10 + QUOTIENT(ROW(AL1123)-2, 10), 1 + MOD(ROW(AL1123)-2, 10))","v":0}]
[null,null,null,null,null,null,null,null,null,null,null,null,null,null,null,null,null,null,null,null,null,null,null,null,null,null,null,null,null,null,null,null,null,null,2092,"非住宅","SRC造",{"$f":"INDEX('係数表2-3'!$B:$K, 10 + QUOTIENT(ROW(AL1128)-2, 10), 1 + MOD(ROW(AL1128)-2, 10))","v":0}]
[null,null,null,null,null,null,null,null,null,null,null,null,null,null,null,null,null,null,null,null,null,null,null,null,null,null,null,null,null,null,null,null,null,null,2093,"住宅","SRC造",{"$f":"INDEX('係数表2-3'!$B:$K, 10 + QUOTIENT(ROW(AL1133)-2, 10), 1 + MOD(ROW(AL1133)-2, 10))","v":0}]
[null,null,null,null,null,null,null,null,null,null,null,null,null,null,null,null,null,null,null,null,null,null,null,null,null,null,null,null,null,null,null,null,null,null,2093,"非住宅","SRC造",{"$f":"INDEX('係数表2-3'!$B:$K, 10 + QUOTIENT(ROW(AL1138)-2, 10), 1 + MOD(ROW(AL1138)-2, 10))","v":0}]
[null,null,null,null,null,null,null,null,null,null,null,null,null,null,null,null,null,null,null,null,null,null,null,null,null,null,null,null,null,null,null,null,null,null,2093,"非住宅","RC造",{"$f":"INDEX('係数表2-3'!$B:$K, 10 + QUOTIENT(ROW(AL1139)-2, 10), 1 + MOD(ROW(AL1139)-2, 10))","v":0}]
[null,null,null,null,null,null,null,null,null,null,null,null,null,null,null,null,null,null,null,null,null,null,null,null,null,null,null,null,null,null,null,null,null,null,2094,"住宅","RC造",{"$f":"INDEX('係数表2-3'!$B:$K, 10 + QUOTIENT(ROW(AL1144)-2, 10), 1 + MOD(ROW(AL1144)-2, 10))","v":0}]
[null,null,null,null,null,null,null,null,null,null,null,null,null,null,null,null,null,null,null,null,null,null,null,null,null,null,null,null,null,null,null,null,null,null,2094,"非住宅","RC造",{"$f":"INDEX('係数表2-3'!$B:$K, 10 + QUOTIENT(ROW(AL1149)-2, 10), 1 + MOD(ROW(AL1149)-2, 10))","v":0}]
[null,null,null,null,null,null,null,null,null,null,null,null,null,null,null,null,null,null,null,null,null,null,null,null,null,null,null,null,null,null,null,null,null,null,2095,"住宅","RC造",{"$f":"INDEX('係数表2-3'!$B:$K, 10 + QUOTIENT(ROW(AL1154)-2, 10), 1 + MOD(ROW(AL1154)-2, 10))","v":0}]
[null,null,null,null,null,null,null,null,null,null,null,null,null,null,null,null,null,null,null,null,null,null,null,null,null,null,null,null,null,null,null,null,null,null,2095,"住宅","S造",{"$f":"INDEX('係数表2-3'!$B:$K, 10 + QUOTIENT(ROW(AL1155)-2, 10), 1 + MOD(ROW(AL1155)-2, 10))","v":0}]
[null,null,null,null,null,null,null,null,null,null,null,null,null,null,null,null,null,null,null,null,null,null,null,null,null,null,null,null,null,null,null,null,null,null,2095,"非住宅","S造",{"$f":"INDEX('係数表2-3'!$B:$K, 10 + QUOTIENT(ROW(AL1160)-2, 10), 1 + MOD(ROW(AL1160)-2, 10))","v":0}]
[null,null,null,null,null,null,null,null,null,null,null,null,null,null,null,null,null,null,null,null,null,null,null,null,null,null,null,null,null,null,null,null,null,null,2096,"住宅","S造",{"$f":"INDEX('係数表2-3'!$B:$K, 10 + QUOTIENT(ROW(AL1165)-2, 10), 1 + MOD(ROW(AL1165)-2, 10))","v":0}]
[null,null,null,null,null,null,null,null,null,null,null,null,null,null,null,null,null,null,null,null,null,null,null,null,null,null,null,null,null,null,null,null,null,null,2096,"非住宅","S造",{"$f":"INDEX('係数表2-3'!$B:$K, 10 + QUOTIENT(ROW(AL1170)-2, 10), 1 + MOD(ROW(AL1170)-2, 10))","v":0}]
[null,null,null,null,null,null,null,null,null,null,null,null,null,null,null,null,null,null,null,null,null,null,null,null,null,null,null,null,null,null,null,null,null,null,2096,"非住宅","その他",{"$f":"INDEX('係数表2-3'!$B:$K, 10 + QUOTIENT(ROW(AL1171)-2, 10), 1 + MOD(ROW(AL1171)-2, 10))","v":0}]
[null,null,null,null,null,null,null,null,null,null,null,null,null,null,null,null,null,null,null,null,null,null,null,null,null,null,null,null,null,null,null,null,null,null,2097,"住宅","その他",{"$f":"INDEX('係数表2-3'!$B:$K, 10 + QUOTIENT(ROW(AL1176)-2, 10), 1 + MOD(ROW(AL1176)-2, 10))","v":0}]
[null,null,null,null,null,null,null,null,null,null,null,null,null,null,null,null,null,null,null,null,null,null,null,null,null,null,null,null,null,null,null,null,null,null,2097,"非住宅","その他",{"$f":"INDEX('係数表2-3'!$B:$K, 10 + QUOTIENT(ROW(AL1181)-2, 10), 1 + MOD(ROW(AL1181)-2, 10))","v":0}]
[null,null,null,null,null,null,null,null,null,null,null,null,null,null,null,null,null,null,null,null,null,null,null,null,null,null,null,null,null,null,null,null,null,null,2098,"住宅","その他",{"$f":"INDEX('係数表2-3'!$B:$K, 10 + QUOTIENT(ROW(AL1186)-2, 10), 1 + MOD(ROW(AL1186)-2, 10))","v":0}]
[null,null,null,null,null,null,null,null,null,null,null,null,null,null,null,null,null,null,null,null,null,null,null,null,null,null,null,null,null,null,null,null,null,null,2098,"非住宅","木造",{"$f":"INDEX('係数表2-3'!$B:$K, 10 + QUOTIENT(ROW(AL1187)-2, 10), 1 + MOD(ROW(AL1187)-2, 10))","v":0}]
[null,null,null,null,null,null,null,null,null,null,null,null,null,null,null,null,null,null,null,null,null,null,null,null,null,null,null,null,null,null,null,null,null,null,2099,"住宅","木造",{"$f":"INDEX('係数表2-3'!$B:$K, 10 + QUOTIENT(ROW(AL1192)-2, 10), 1 + MOD(ROW(AL1192)-2, 10))","v":0}]
[null,null,null,null,null,null,null,null,null,null,null,null,null,null,null,null,null,null,null,null,null,null,null,null,null,null,null,null,null,null,null,null,null,null,2099,"非住宅","木造",{"$f":"INDEX('係数表2-3'!$B:$K, 10 + QUOTIENT(ROW(AL1197)-2, 10), 1 + MOD(ROW(AL1197)-2, 10))","v":0}]
[null,null,null,null,null,null,null,null,null,null,null,null,null,null,null,null,null,null,null,null,null,null,null,null,null,null,null,null,null,null,null,null,null,null,2100,"住宅","木造",{"$f":"INDEX('係数表2-3'!$B:$K, 10 + QUOTIENT(ROW(AL1202)-2, 10), 1 + MOD(ROW(AL1202)-2, 10))","v":0}]
[null,null,null,null,null,null,null,null,null,null,null,null,null,null,null,null,null,null,null,null,null,null,null,null,null,null,null,null,null,null,null,null,null,null,2100,"住宅","S造",{"$f":"INDEX('係数表2-3'!$B:$K, 10 + QUOTIENT(ROW(AL1205)-2, 10), 1 + MOD(ROW(AL1205)-2, 10))","v":0}]
[null,null,null,null,null,null,null,null,null,null,null,null,null,null,null,null,null,null,null,null,null,null,null,null,null,null,null,null,null,null,null,null,null,null,2100,"非住宅","木造",{"$f":"INDEX('係数表2-3'!$B:$K, 10 + QUOTIENT(ROW(AL1207)-2, 10), 1 + MOD(ROW(AL1207)-2, 10))","v":0}]
[null,null,null,null,null,null,null,null,null,null,null,null,null,null,null,null,null,null,null,null,null,null,null,null,null,null,null,null,null,null,null,null,null,null,2101,"住宅","木造",{"$f":"INDEX('係数表2-3'!$B:$K, 10 + QUOTIENT(ROW(AL1212)-2, 10), 1 + MOD(ROW(AL1212)-2, 10))","v":0}]
[null,null,null,null,null,null,null,null,null,null,null,null,null,null,null,null,null,null,null,null,null,null,null,null,null,null,null,null,null,null,null,null,null,null,2101,"非住宅","木造",{"$f":"INDEX('係数表2-3'!$B:$K, 10 + QUOTIENT(ROW(AL1217)-2, 10), 1 + MOD(ROW(AL1217)-2, 10))","v":0}]
[null,null,null,null,null,null,null,null,null,null,null,null,null,null,null,null,null,null,null,null,null,null,null,null,null,null,null,null,null,null,null,null,null,null,2101,"非住宅","SRC造",{"$f":"INDEX('係数表2-3'!$B:$K, 10 + QUOTIENT(ROW(AL1218)-2, 10), 1 + MOD(ROW(AL1218)-2, 10))","v":0}]
[null,null,null,null,null,null,null,null,null,null,null,null,null,null,null,null,null,null,null,null,null,null,null,null,null,null,null,null,null,null,null,null,null,null,2102,"住宅","SRC造",{"$f":"INDEX('係数表2-3'!$B:$K, 10 + QUOTIENT(ROW(AL1223)-2, 10), 1 + MOD(ROW(AL1223)-2, 10))","v":0}]
[null,null,null,null,null,null,null,null,null,null,null,null,null,null,null,null,null,null,null,null,null,null,null,null,null,null,null,null,null,null,null,null,null,null,2102,"非住宅","SRC造",{"$f":"INDEX('係数表2-3'!$B:$K, 10 + QUOTIENT(ROW(AL1228)-2, 10), 1 + MOD(ROW(AL1228)-2, 10))","v":0}]
[null,null,null,null,null,null,null,null,null,null,null,null,null,null,null,null,null,null,null,null,null,null,null,null,null,null,null,null,null,null,null,null,null,null,2103,"住宅","SRC造",{"$f":"INDEX('係数表2-3'!$B:$K, 10 + QUOTIENT(ROW(AL1233)-2, 10), 1 + MOD(ROW(AL1233)-2, 10))","v":0}]
[null,null,null,null,null,null,null,null,null,null,null,null,null,null,null,null,null,null,null,null,null,null,null,null,null,null,null,null,null,null,null,null,null,null,2103,"住宅","RC造",{"$f":"INDEX('係数表2-3'!$B:$K, 10 + QUOTIENT(ROW(AL1234)-2, 10), 1 + MOD(ROW(AL1234)-2, 10))","v":0}]
[null,null,null,null,null,null,null,null,null,null,null,null,null,null,null,null,null,null,null,null,null,null,null,null,null,null,null,null,null,null,null,null,null,null,2103,"非住宅","RC造",{"$f":"INDEX('係数表2-3'!$B:$K, 10 + QUOTIENT(ROW(AL1239)-2, 10), 1 + MOD(ROW(AL1239)-2, 10))","v":0}]
[null,null,null,null,null,null,null,null,null,null,null,null,null,null,null,null,null,null,null,null,null,null,null,null,null,null,null,null,null,null,null,null,null,null,2104,"住宅","RC造",{"$f":"INDEX('係数表2-3'!$B:$K, 10 + QUOTIENT(ROW(AL1244)-2, 10), 1 + MOD(ROW(AL1244)-2, 10))","v":0}]
[null,null,null,null,null,null,null,null,null,null,null,null,null,null,null,null,null,null,null,null,null,null,null,null,null,null,null,null,null,null,null,null,null,null,2104,"非住宅","RC造",{"$f":"INDEX('係数表2-3'!$B:$K, 10 + QUOTIENT(ROW(AL1249)-2, 10), 1 + MOD(ROW(AL1249)-2, 10))","v":0}]
[null,null,null,null,null,null,null,null,null,null,null,null,null,null,null,null,null,null,null,null,null,null,null,null,null,null,null,null,null,null,null,null,null,null,2104,"非住宅","S造",{"$f":"INDEX('係数表2-3'!$B:$K, 10 + QUOTIENT(ROW(AL1250)-2, 10), 1 + MOD(ROW(AL1250)-2, 10))","v":0}]
[null,null,null,null,null,null,null,null,null,null,null,null,null,null,null,null,null,null,null,null,null,null,null,null,null,null,null,null,null,null,null,null,null,null,2105,"住宅","S造",{"$f":"INDEX('係数表2-3'!$B:$K, 10 + QUOTIENT(ROW(AL1255)-2, 10), 1 + MOD(ROW(AL1255)-2, 10))","v":0}]
[null,null,null,null,null,null,null,null,null,null,null,null,null,null,null,null,null,null,null,null,null,null,null,null,null,null,null,null,null,null,null,null,null,null,2105,"非住宅","S造",{"$f":"INDEX('係数表2-3'!$B:$K, 10 + QUOTIENT(ROW(AL1260)-2, 10), 1 + MOD(ROW(AL1260)-2, 10))","v":0}]
[null,null,null,null,null,null,null,null,null,null,null,null,null,null,null,null,null,null,null,null,null,null,null,null,null,null,null,null,null,null,null,null,null,null,2106,"住宅","S造",{"$f":"INDEX('係数表2-3'!$B:$K, 10 + QUOTIENT(ROW(AL1265)-2, 10), 1 + MOD(ROW(AL1265)-2, 10))","v":0}]
[null,null,null,null,null,null,null,null,null,null,null,null,null,null,null,null,null,null,null,null,null,null,null,null,null,null,null,null,null,null,null,null,null,null,2106,"住宅","その他",{"$f":"INDEX('係数表2-3'!$B:$K, 10 + QUOTIENT(ROW(AL1266)-2, 10), 1 + MOD(ROW(AL1266)-2, 10))","v":0}]
[null,null,null,null,null,null,null,null,null,null,null,null,null,null,null,null,null,null,null,null,null,null,null,null,null,null,null,null,null,null,null,null,null,null,2106,"非住宅","その他",{"$f":"INDEX('係数表2-3'!$B:$K, 10 + QUOTIENT(ROW(AL1271)-2, 10), 1 + MOD(ROW(AL1271)-2, 10))","v":0}]
[null,null,null,null,null,null,null,null,null,null,null,null,null,null,null,null,null,null,null,null,null,null,null,null,null,null,null,null,null,null,null,null,null,null,2107,"住宅","その他",{"$f":"INDEX('係数表2-3'!$B:$K, 10 + QUOTIENT(ROW(AL1276)-2, 10), 1 + MOD(ROW(AL1276)-2, 10))","v":0}]
[null,null,null,null,null,null,null,null,null,null,null,null,null,null,null,null,null,null,null,null,null,null,null,null,null,null,null,null,null,null,null,null,null,null,2107,"非住宅","その他",{"$f":"INDEX('係数表2-3'!$B:$K, 10 + QUOTIENT(ROW(AL1281)-2, 10), 1 + MOD(ROW(AL1281)-2, 10))","v":0}]
[null,null,null,null,null,null,null,null,null,null,null,null,null,null,null,null,null,null,null,null,null,null,null,null,null,null,null,null,null,null,null,null,null,null,2108,"住宅","木造",{"$f":"INDEX('係数表2-3'!$B:$K, 10 + QUOTIENT(ROW(AL1282)-2, 10), 1 + MOD(ROW(AL1282)-2, 10))","v":0}]
[null,null,null,null,null,null,null,null,null,null,null,null,null,null,null,null,null,null,null,null,null,null,null,null,null,null,null,null,null,null,null,null,null,null,2108,"非住宅","木造",{"$f":"INDEX('係数表2-3'!$B:$K, 10 + QUOTIENT(ROW(AL1287)-2, 10), 1 + MOD(ROW(AL1287)-2, 10))","v":0}]
[null,null,null,null,null,null,null,null,null,null,null,null,null,null,null,null,null,null,null,null,null,null,null,null,null,null,null,null,null,null,null,null,null,null,2109,"住宅","木造",{"$f":"INDEX('係数表2-3'!$B:$K, 10 + QUOTIENT(ROW(AL1292)-2, 10), 1 + MOD(ROW(AL1292)-2, 10))","v":0}]
[null,null,null,null,null,null,null,null,null,null,null,null,null,null,null,null,null,null,null,null,null,null,null,null,null,null,null,null,null,null,null,null,null,null,2109,"非住宅","木造",{"$f":"INDEX('係数表2-3'!$B:$K, 10 + QUOTIENT(ROW(AL1297)-2, 10), 1 + MOD(ROW(AL1297)-2, 10))","v":0}]
[null,null,null,null,null,null,null,null,null,null,null,null,null,null,null,null,null,null,null,null,null,null,null,null,null,null,null,null,null,null,null,null,null,null,2109,"非住宅","SRC造",{"$f":"INDEX('係数表2-3'!$B:$K, 10 + QUOTIENT(ROW(AL1298)-2, 10), 1 + MOD(ROW(AL1298)-2, 10))","v":0}]
[null,null,null,null,null,null,null,null,null,null,null,null,null,null,null,null,null,null,null,null,null,null,null,null,null,null,null,null,null,null,null,null,null,null,2110,"住宅","木造",{"$f":"INDEX('係数表2-3'!$B:$K, 10 + QUOTIENT(ROW(AL1302)-2, 10), 1 + MOD(ROW(AL1302)-2, 10))","v":0}]
[null,null,null,null,null,null,null,null,null,null,null,null,null,null,null,null,null,null,null,null,null,null,null,null,null,null,null,null,null,null,null,null,null,null,2110,"非住宅","木造",{"$f":"INDEX('係数表2-3'!$B:$K, 10 + QUOTIENT(ROW(AL1307)-2, 10), 1 + MOD(ROW(AL1307)-2, 10))","v":0}]
[null,null,null,null,null,null,null,null,null,null,null,null,null,null,null,null,null,null,null,null,null,null,null,null,null,null,null,null,null,null,null,null,null,null,2111,"住宅","木造",{"$f":"INDEX('係数表2-3'!$B:$K, 10 + QUOTIENT(ROW(AL1312)-2, 10), 1 + MOD(ROW(AL1312)-2, 10))","v":0}]
[null,null,null,null,null,null,null,null,null,null,null,null,null,null,null,null,null,null,null,null,null,null,null,null,null,null,null,null,null,null,null,null,null,null,2111,"住宅","SRC造",{"$f":"INDEX('係数表2-3'!$B:$K, 10 + QUOTIENT(ROW(AL1313)-2, 10), 1 + MOD(ROW(AL1313)-2, 10))","v":0}]
[null,null,null,null,null,null,null,null,null,null,null,null,null,null,null,null,null,null,null,null,null,null,null,null,null,null,null,null,null,null,null,null,null,null,2111,"非住宅","SRC造",{"$f":"INDEX('係数表2-3'!$B:$K, 10 + QUOTIENT(ROW(AL1318)-2, 10), 1 + MOD(ROW(AL1318)-2, 10))","v":0}]
[null,null,null,null,null,null,null,null,null,null,null,null,null,null,null,null,null,null,null,null,null,null,null,null,null,null,null,null,null,null,null,null,null,null,2112,"住宅","SRC造",{"$f":"INDEX('係数表2-3'!$B:$K, 10 + QUOTIENT(ROW(AL1323)-2, 10), 1 + MOD(ROW(AL1323)-2, 10))","v":0}]
[null,null,null,null,null,null,null,null,null,null,null,null,null,null,null,null,null,null,null,null,null,null,null,null,null,null,null,null,null,null,null,null,null,null,2112,"非住宅","SRC造",{"$f":"INDEX('係数表2-3'!$B:$K, 10 + QUOTIENT(ROW(AL1328)-2, 10), 1 + MOD(ROW(AL1328)-2, 10))","v":0}]
[null,null,null,null,null,null,null,null,null,null,null,null,null,null,null,null,null,null,null,null,null,null,null,null,null,null,null,null,null,null,null,null,null,null,2112,"非住宅","RC造",{"$f":"INDEX('係数表2-3'!$B:$K, 10 + QUOTIENT(ROW(AL1329)-2, 10), 1 + MOD(ROW(AL1329)-2, 10))","v":0}]
[null,null,null,null,null,null,null,null,null,null,null,null,null,null,null,null,null,null,null,null,null,null,null,null,null,null,null,null,null,null,null,null,null,null,2113,"住宅","RC造",{"$f":"INDEX('係数表2-3'!$B:$K, 10 + QUOTIENT(ROW(AL1334)-2, 10), 1 + MOD(ROW(AL1334)-2, 10))","v":0}]
[null,null,null,null,null,null,null,null,null,null,null,null,null,null,null,null,null,null,null,null,null,null,null,null,null,null,null,null,null,null,null,null,null,null,2113,"非住宅","RC造",{"$f":"INDEX('係数表2-3'!$B:$K, 10 + QUOTIENT(ROW(AL1339)-2, 10), 1 + MOD(ROW(AL1339)-2, 10))","v":0}]
[null,null,null,null,null,null,null,null,null,null,null,null,null,null,null,null,null,null,null,null,null,null,null,null,null,null,null,null,null,null,null,null,null,null,2114,"住宅","RC造",{"$f":"INDEX('係数表2-3'!$B:$K, 10 + QUOTIENT(ROW(AL1344)-2, 10), 1 + MOD(ROW(AL1344)-2, 10))","v":0}]
[null,null,null,null,null,null,null,null,null,null,null,null,null,null,null,null,null,null,null,null,null,null,null,null,null,null,null,null,null,null,null,null,null,null,2114,"住宅","S造",{"$f":"INDEX('係数表2-3'!$B:$K, 10 + QUOTIENT(ROW(AL1345)-2, 10), 1 + MOD(ROW(AL1345)-2, 10))","v":0}]
[null,null,null,null,null,null,null,null,null,null,null,null,null,null,null,null,null,null,null,null,null,null,null,null,null,null,null,null,null,null,null,null,null,null,2114,"非住宅","S造",{"$f":"INDEX('係数表2-3'!$B:$K, 10 + QUOTIENT(ROW(AL1350)-2, 10), 1 + MOD(ROW(AL1350)-2, 10))","v":0}]
[null,null,null,null,null,null,null,null,null,null,null,null,null,null,null,null,null,null,null,null,null,null,null,null,null,null,null,null,null,null,null,null,null,null,2115,"住宅","S造",{"$f":"INDEX('係数表2-3'!$B:$K, 10 + QUOTIENT(ROW(AL1355)-2, 10), 1 + MOD(ROW(AL1355)-2, 10))","v":0}]
[null,null,null,null,null,null,null,null,null,null,null,null,null,null,null,null,null,null,null,null,null,null,null,null,null,null,null,null,null,null,null,null,null,null,2115,"非住宅","S造",{"$f":"INDEX('係数表2-3'!$B:$K, 10 + QUOTIENT(ROW(AL1360)-2, 10), 1 + MOD(ROW(AL1360)-2, 10))","v":0}]
[null,null,null,null,null,null,null,null,null,null,null,null,null,null,null,null,null,null,null,null,null,null,null,null,null,null,null,null,null,null,null,null,null,null,2115,"非住宅","その他",{"$f":"INDEX('係数表2-3'!$B:$K, 10 + QUOTIENT(ROW(AL1361)-2, 10), 1 + MOD(ROW(AL1361)-2, 10))","v":0}]
[null,null,null,null,null,null,null,null,null,null,null,null,null,null,null,null,null,null,null,null,null,null,null,null,null,null,null,null,null,null,null,null,null,null,2116,"住宅","その他",{"$f":"INDEX('係数表2-3'!$B:$K, 10 + QUOTIENT(ROW(AL1366)-2, 10), 1 + MOD(ROW(AL1366)-2, 10))","v":0}]
[null,null,null,null,null,null,null,null,null,null,null,null,null,null,null,null,null,null,null,null,null,null,null,null,null,null,null,null,null,null,null,null,null,null,2116,"非住宅","その他",{"$f":"INDEX('係数表2-3'!$B:$K, 10 + QUOTIENT(ROW(AL1371)-2, 10), 1 + MOD(ROW(AL1371)-2, 10))","v":0}]
[null,null,null,null,null,null,null,null,null,null,null,null,null,null,null,null,null,null,null,null,null,null,null,null,null,null,null,null,null,null,null,null,null,null,2117,"住宅","その他",{"$f":"INDEX('係数表2-3'!$B:$K, 10 + QUOTIENT(ROW(AL1376)-2, 10), 1 + MOD(ROW(AL1376)-2, 10))","v":0}]
[null,null,null,null,null,null,null,null,null,null,null,null,null,null,null,null,null,null,null,null,null,null,null,null,null,null,null,null,null,null,null,null,null,null,2117,"非住宅","木造",{"$f":"INDEX('係数表2-3'!$B:$K, 10 + QUOTIENT(ROW(AL1377)-2, 10), 1 + MOD(ROW(AL1377)-2, 10))","v":0}]
[null,null,null,null,null,null,null,null,null,null,null,null,null,null,null,null,null,null,null,null,null,null,null,null,null,null,null,null,null,null,null,null,null,null,2118,"住宅","木造",{"$f":"INDEX('係数表2-3'!$B:$K, 10 + QUOTIENT(ROW(AL1382)-2, 10), 1 + MOD(ROW(AL1382)-2, 10))","v":0}]
[null,null,null,null,null,null,null,null,null,null,null,null,null,null,null,null,null,null,null,null,null,null,null,null,null,null,null,null,null,null,null,null,null,null,2118,"非住宅","木造",{"$f":"INDEX('係数表2-3'!$B:$K, 10 + QUOTIENT(ROW(AL1387)-2, 10), 1 + MOD(ROW(AL1387)-2, 10))","v":0}]
[null,null,null,null,null,null,null,null,null,null,null,null,null,null,null,null,null,null,null,null,null,null,null,null,null,null,null,null,null,null,null,null,null,null,2119,"住宅","木造",{"$f":"INDEX('係数表2-3'!$B:$K, 10 + QUOTIENT(ROW(AL1392)-2, 10), 1 + MOD(ROW(AL1392)-2, 10))","v":0}]
[null,null,null,null,null,null,null,null,null,null,null,null,null,null,null,null,null,null,null,null,null,null,null,null,null,null,null,null,null,null,null,null,null,null,2119,"住宅","SRC造",{"$f":"INDEX('係数表2-3'!$B:$K, 10 + QUOTIENT(ROW(AL1393)-2, 10), 1 + MOD(ROW(AL1393)-2, 10))","v":0}]
[null,null,null,null,null,null,null,null,null,null,null,null,null,null,null,null,null,null,null,null,null,null,null,null,null,null,null,null,null,null,null,null,null,null,2119,"非住宅","SRC造",{"$f":"INDEX('係数表2-3'!$B:$K, 10 + QUOTIENT(ROW(AL1398)-2, 10), 1 + MOD(ROW(AL1398)-2, 10))","v":0}]
[null,null,null,null,null,null,null,null,null,null,null,null,null,null,null,null,null,null,null,null,null,null,null,null,null,null,null,null,null,null,null,null,null,null,2120,"住宅","SRC造",{"$f":"INDEX('係数表2-3'!$B:$K, 10 + QUOTIENT(ROW(AL1403)-2, 10), 1 + MOD(ROW(AL1403)-2, 10))","v":0}]
[null,null,null,null,null,null,null,null,null,null,null,null,null,null,null,null,null,null,null,null,null,null,null,null,null,null,null,null,null,null,null,null,null,null,2120,"住宅","S造",{"$f":"INDEX('係数表2-3'!$B:$K, 10 + QUOTIENT(ROW(AL1405)-2, 10), 1 + MOD(ROW(AL1405)-2, 10))","v":0}]
[null,null,null,null,null,null,null,null,null,null,null,null,null,null,null,null,null,null,null,null,null,null,null,null,null,null,null,null,null,null,null,null,null,null,2120,"非住宅","SRC造",{"$f":"INDEX('係数表2-3'!$B:$K, 10 + QUOTIENT(ROW(AL1408)-2, 10), 1 + MOD(ROW(AL1408)-2, 10))","v":0}]
[null,null,null,null,null,null,null,null,null,null,null,null,null,null,null,null,null,null,null,null,null,null,null,null,null,null,null,null,null,null,null,null,null,null,2121,"住宅","SRC造",{"$f":"INDEX('係数表2-3'!$B:$K, 10 + QUOTIENT(ROW(AL1413)-2, 10), 1 + MOD(ROW(AL1413)-2, 10))","v":0}]
[null,null,null,null,null,null,null,null,null,null,null,null,null,null,null,null,null,null,null,null,null,null,null,null,null,null,null,null,null,null,null,null,null,null,2121,"非住宅","SRC造",{"$f":"INDEX('係数表2-3'!$B:$K, 10 + QUOTIENT(ROW(AL1418)-2, 10), 1 + MOD(ROW(AL1418)-2, 10))","v":0}]
[null,null,null,null,null,null,null,null,null,null,null,null,null,null,null,null,null,null,null,null,null,null,null,null,null,null,null,null,null,null,null,null,null,null,2122,"住宅","SRC造",{"$f":"INDEX('係数表2-3'!$B:$K, 10 + QUOTIENT(ROW(AL1423)-2, 10), 1 + MOD(ROW(AL1423)-2, 10))","v":0}]
[null,null,null,null,null,null,null,null,null,null,null,null,null,null,null,null,null,null,null,null,null,null,null,null,null,null,null,null,null,null,null,null,null,null,2122,"住宅","RC造",{"$f":"INDEX('係数表2-3'!$B:$K, 10 + QUOTIENT(ROW(AL1424)-2, 10), 1 + MOD(ROW(AL1424)-2, 10))","v":0}]
[null,null,null,null,null,null,null,null,null,null,null,null,null,null,null,null,null,null,null,null,null,null,null,null,null,null,null,null,null,null,null,null,null,null,2122,"非住宅","RC造",{"$f":"INDEX('係数表2-3'!$B:$K, 10 + QUOTIENT(ROW(AL1429)-2, 10), 1 + MOD(ROW(AL1429)-2, 10))","v":0}]
[null,null,null,null,null,null,null,null,null,null,null,null,null,null,null,null,null,null,null,null,null,null,null,null,null,null,null,null,null,null,null,null,null,null,2123,"住宅","RC造",{"$f":"INDEX('係数表2-3'!$B:$K, 10 + QUOTIENT(ROW(AL1434)-2, 10), 1 + MOD(ROW(AL1434)-2, 10))","v":0}]
[null,null,null,null,null,null,null,null,null,null,null,null,null,null,null,null,null,null,null,null,null,null,null,null,null,null,null,null,null,null,null,null,null,null,2123,"非住宅","RC造",{"$f":"INDEX('係数表2-3'!$B:$K, 10 + QUOTIENT(ROW(AL1439)-2, 10), 1 + MOD(ROW(AL1439)-2, 10))","v":0}]
[null,null,null,null,null,null,null,null,null,null,null,null,null,null,null,null,null,null,null,null,null,null,null,null,null,null,null,null,null,null,null,null,null,null,2123,"非住宅","S造",{"$f":"INDEX('係数表2-3'!$B:$K, 10 + QUOTIENT(ROW(AL1440)-2, 10), 1 + MOD(ROW(AL1440)-2, 10))","v":0}]
[null,null,null,null,null,null,null,null,null,null,null,null,null,null,null,null,null,null,null,null,null,null,null,null,null,null,null,null,null,null,null,null,null,null,2124,"住宅","S造",{"$f":"INDEX('係数表2-3'!$B:$K, 10 + QUOTIENT(ROW(AL1445)-2, 10), 1 + MOD(ROW(AL1445)-2, 10))","v":0}]
[null,null,null,null,null,null,null,null,null,null,null,null,null,null,null,null,null,null,null,null,null,null,null,null,null,null,null,null,null,null,null,null,null,null,2124,"非住宅","S造",{"$f":"INDEX('係数表2-3'!$B:$K, 10 + QUOTIENT(ROW(AL1450)-2, 10), 1 + MOD(ROW(AL1450)-2, 10))","v":0}]
[null,null,null,null,null,null,null,null,null,null,null,null,null,null,null,null,null,null,null,null,null,null,null,null,null,null,null,null,null,null,null,null,null,null,2125,"住宅","S造",{"$f":"INDEX('係数表2-3'!$B:$K, 10 + QUOTIENT(ROW(AL1455)-2, 10), 1 + MOD(ROW(AL1455)-2, 10))","v":0}]
[null,null,null,null,null,null,null,null,null,null,null,null,null,null,null,null,null,null,null,null,null,null,null,null,null,null,null,null,null,null,null,null,null,null,2125,"住宅","その他",{"$f":"INDEX('係数表2-3'!$B:$K, 10 + QUOTIENT(ROW(AL1456)-2, 10), 1 + MOD(ROW(AL1456)-2, 10))","v":0}]
[null,null,null,null,null,null,null,null,null,null,null,null,null,null,null,null,null,null,null,null,null,null,null,null,null,null,null,null,null,null,null,null,null,null,2125,"非住宅","その他",{"$f":"INDEX('係数表2-3'!$B:$K, 10 + QUOTIENT(ROW(AL1461)-2, 10), 1 + MOD(ROW(AL1461)-2, 10))","v":0}]
[null,null,null,null,null,null,null,null,null,null,null,null,null,null,null,null,null,null,null,null,null,null,null,null,null,null,null,null,null,null,null,null,null,null,2126,"住宅","その他",{"$f":"INDEX('係数表2-3'!$B:$K, 10 + QUOTIENT(ROW(AL1466)-2, 10), 1 + MOD(ROW(AL1466)-2, 10))","v":0}]
[null,null,null,null,null,null,null,null,null,null,null,null,null,null,null,null,null,null,null,null,null,null,null,null,null,null,null,null,null,null,null,null,null,null,2126,"非住宅","その他",{"$f":"INDEX('係数表2-3'!$B:$K, 10 + QUOTIENT(ROW(AL1471)-2, 10), 1 + MOD(ROW(AL1471)-2, 10))","v":0}]
[null,null,null,null,null,null,null,null,null,null,null,null,null,null,null,null,null,null,null,null,null,null,null,null,null,null,null,null,null,null,null,null,null,null,2127,"住宅","木造",{"$f":"INDEX('係数表2-3'!$B:$K, 10 + QUOTIENT(ROW(AL1472)-2, 10), 1 + MOD(ROW(AL1472)-2, 10))","v":0}]
[null,null,null,null,null,null,null,null,null,null,null,null,null,null,null,null,null,null,null,null,null,null,null,null,null,null,null,null,null,null,null,null,null,null,2127,"非住宅","木造",{"$f":"INDEX('係数表2-3'!$B:$K, 10 + QUOTIENT(ROW(AL1477)-2, 10), 1 + MOD(ROW(AL1477)-2, 10))","v":0}]
[null,null,null,null,null,null,null,null,null,null,null,null,null,null,null,null,null,null,null,null,null,null,null,null,null,null,null,null,null,null,null,null,null,null,2128,"住宅","木造",{"$f":"INDEX('係数表2-3'!$B:$K, 10 + QUOTIENT(ROW(AL1482)-2, 10), 1 + MOD(ROW(AL1482)-2, 10))","v":0}]
[null,null,null,null,null,null,null,null,null,null,null,null,null,null,null,null,null,null,null,null,null,null,null,null,null,null,null,null,null,null,null,null,null,null,2128,"非住宅","木造",{"$f":"INDEX('係数表2-3'!$B:$K, 10 + QUOTIENT(ROW(AL1487)-2, 10), 1 + MOD(ROW(AL1487)-2, 10))","v":0}]
[null,null,null,null,null,null,null,null,null,null,null,null,null,null,null,null,null,null,null,null,null,null,null,null,null,null,null,null,null,null,null,null,null,null,2128,"非住宅","SRC造",{"$f":"INDEX('係数表2-3'!$B:$K, 10 + QUOTIENT(ROW(AL1488)-2, 10), 1 + MOD(ROW(AL1488)-2, 10))","v":0}]
[null,null,null,null,null,null,null,null,null,null,null,null,null,null,null,null,null,null,null,null,null,null,null,null,null,null,null,null,null,null,null,null,null,null,2129,"住宅","SRC造",{"$f":"INDEX('係数表2-3'!$B:$K, 10 + QUOTIENT(ROW(AL1493)-2, 10), 1 + MOD(ROW(AL1493)-2, 10))","v":0}]
[null,null,null,null,null,null,null,null,null,null,null,null,null,null,null,null,null,null,null,null,null,null,null,null,null,null,null,null,null,null,null,null,null,null,2129,"非住宅","SRC造",{"$f":"INDEX('係数表2-3'!$B:$K, 10 + QUOTIENT(ROW(AL1498)-2, 10), 1 + MOD(ROW(AL1498)-2, 10))","v":0}]
[null,null,null,null,null,null,null,null,null,null,null,null,null,null,null,null,null,null,null,null,null,null,null,null,null,null,null,null,null,null,null,null,null,null,2130,"住宅","SRC造",{"$f":"INDEX('係数表2-3'!$B:$K, 10 + QUOTIENT(ROW(AL1503)-2, 10), 1 + MOD(ROW(AL1503)-2, 10))","v":0}]
[null,null,null,null,null,null,null,null,null,null,null,null,null,null,null,null,null,null,null,null,null,null,null,null,null,null,null,null,null,null,null,null,null,null,2130,"住宅","RC造",{"$f":"INDEX('係数表2-3'!$B:$K, 10 + QUOTIENT(ROW(AL1504)-2, 10), 1 + MOD(ROW(AL1504)-2, 10))","v":0}]
[null,null,null,null,null,null,null,null,null,null,null,null,null,null,null,null,null,null,null,null,null,null,null,null,null,null,null,null,null,null,null,null,null,null,2130,"非住宅","RC造",{"$f":"INDEX('係数表2-3'!$B:$K, 10 + QUOTIENT(ROW(AL1509)-2, 10), 1 + MOD(ROW(AL1509)-2, 10))","v":0}]
[null,null,null,null,null,null,null,null,null,null,null,null,null,null,null,null,null,null,null,null,null,null,null,null,null,null,null,null,null,null,null,null,null,null,2131,"住宅","SRC造",{"$f":"INDEX('係数表2-3'!$B:$K, 10 + QUOTIENT(ROW(AL1513)-2, 10), 1 + MOD(ROW(AL1513)-2, 10))","v":0}]
[null,null,null,null,null,null,null,null,null,null,null,null,null,null,null,null,null,null,null,null,null,null,null,null,null,null,null,null,null,null,null,null,null,null,2131,"非住宅","SRC造",{"$f":"INDEX('係数表2-3'!$B:$K, 10 + QUOTIENT(ROW(AL1518)-2, 10), 1 + MOD(ROW(AL1518)-2, 10))","v":0}]
[null,null,null,null,null,null,null,null,null,null,null,null,null,null,null,null,null,null,null,null,null,null,null,null,null,null,null,null,null,null,null,null,null,null,2131,"非住宅","RC造",{"$f":"INDEX('係数表2-3'!$B:$K, 10 + QUOTIENT(ROW(AL1519)-2, 10), 1 + MOD(ROW(AL1519)-2, 10))","v":0}]
[null,null,null,null,null,null,null,null,null,null,null,null,null,null,null,null,null,null,null,null,null,null,null,null,null,null,null,null,null,null,null,null,null,null,2132,"住宅","RC造",{"$f":"INDEX('係数表2-3'!$B:$K, 10 + QUOTIENT(ROW(AL1524)-2, 10), 1 + MOD(ROW(AL1524)-2, 10))","v":0}]
[null,null,null,null,null,null,null,null,null,null,null,null,null,null,null,null,null,null,null,null,null,null,null,null,null,null,null,null,null,null,null,null,null,null,2132,"非住宅","RC造",{"$f":"INDEX('係数表2-3'!$B:$K, 10 + QUOTIENT(ROW(AL1529)-2, 10), 1 + MOD(ROW(AL1529)-2, 10))","v":0}]
[null,null,null,null,null,null,null,null,null,null,null,null,null,null,null,null,null,null,null,null,null,null,null,null,null,null,null,null,null,null,null,null,null,null,2133,"住宅","RC造",{"$f":"INDEX('係数表2-3'!$B:$K, 10 + QUOTIENT(ROW(AL1534)-2, 10), 1 + MOD(ROW(AL1534)-2, 10))","v":0}]
[null,null,null,null,null,null,null,null,null,null,null,null,null,null,null,null,null,null,null,null,null,null,null,null,null,null,null,null,null,null,null,null,null,null,2133,"住宅","S造",{"$f":"INDEX('係数表2-3'!$B:$K, 10 + QUOTIENT(ROW(AL1535)-2, 10), 1 + MOD(ROW(AL1535)-2, 10))","v":0}]
[null,null,null,null,null,null,null,null,null,null,null,null,null,null,null,null,null,null,null,null,null,null,null,null,null,null,null,null,null,null,null,null,null,null,2133,"非住宅","S造",{"$f":"INDEX('係数表2-3'!$B:$K, 10 + QUOTIENT(ROW(AL1540)-2, 10), 1 + MOD(ROW(AL1540)-2, 10))","v":0}]
[null,null,null,null,null,null,null,null,null,null,null,null,null,null,null,null,null,null,null,null,null,null,null,null,null,null,null,null,null,null,null,null,null,null,2134,"住宅","S造",{"$f":"INDEX('係数表2-3'!$B:$K, 10 + QUOTIENT(ROW(AL1545)-2, 10), 1 + MOD(ROW(AL1545)-2, 10))","v":0}]
[null,null,null,null,null,null,null,null,null,null,null,null,null,null,null,null,null,null,null,null,null,null,null,null,null,null,null,null,null,null,null,null,null,null,2134,"非住宅","S造",{"$f":"INDEX('係数表2-3'!$B:$K, 10 + QUOTIENT(ROW(AL1550)-2, 10), 1 + MOD(ROW(AL1550)-2, 10))","v":0}]
[null,null,null,null,null,null,null,null,null,null,null,null,null,null,null,null,null,null,null,null,null,null,null,null,null,null,null,null,null,null,null,null,null,null,2134,"非住宅","その他",{"$f":"INDEX('係数表2-3'!$B:$K, 10 + QUOTIENT(ROW(AL1551)-2, 10), 1 + MOD(ROW(AL1551)-2, 10))","v":0}]
[null,null,null,null,null,null,null,null,null,null,null,null,null,null,null,null,null,null,null,null,null,null,null,null,null,null,null,null,null,null,null,null,null,null,2135,"住宅","その他",{"$f":"INDEX('係数表2-3'!$B:$K, 10 + QUOTIENT(ROW(AL1556)-2, 10), 1 + MOD(ROW(AL1556)-2, 10))","v":0}]
[null,null,null,null,null,null,null,null,null,null,null,null,null,null,null,null,null,null,null,null,null,null,null,null,null,null,null,null,null,null,null,null,null,null,2135,"非住宅","その他",{"$f":"INDEX('係数表2-3'!$B:$K, 10 + QUOTIENT(ROW(AL1561)-2, 10), 1 + MOD(ROW(AL1561)-2, 10))","v":0}]
[null,null,null,null,null,null,null,null,null,null,null,null,null,null,null,null,null,null,null,null,null,null,null,null,null,null,null,null,null,null,null,null,null,null,2136,"住宅","その他",{"$f":"INDEX('係数表2-3'!$B:$K, 10 + QUOTIENT(ROW(AL1566)-2, 10), 1 + MOD(ROW(AL1566)-2, 10))","v":0}]
[null,null,null,null,null,null,null,null,null,null,null,null,null,null,null,null,null,null,null,null,null,null,null,null,null,null,null,null,null,null,null,null,null,null,2136,"非住宅","木造",{"$f":"INDEX('係数表2-3'!$B:$K, 10 + QUOTIENT(ROW(AL1567)-2, 10), 1 + MOD(ROW(AL1567)-2, 10))","v":0}]
[null,null,null,null,null,null,null,null,null,null,null,null,null,null,null,null,null,null,null,null,null,null,null,null,null,null,null,null,null,null,null,null,null,null,2137,"住宅","木造",{"$f":"INDEX('係数表2-3'!$B:$K, 10 + QUOTIENT(ROW(AL1572)-2, 10), 1 + MOD(ROW(AL1572)-2, 10))","v":0}]
[null,null,null,null,null,null,null,null,null,null,null,null,null,null,null,null,null,null,null,null,null,null,null,null,null,null,null,null,null,null,null,null,null,null,2137,"非住宅","木造",{"$f":"INDEX('係数表2-3'!$B:$K, 10 + QUOTIENT(ROW(AL1577)-2, 10), 1 + MOD(ROW(AL1577)-2, 10))","v":0}]
[null,null,null,null,null,null,null,null,null,null,null,null,null,null,null,null,null,null,null,null,null,null,null,null,null,null,null,null,null,null,null,null,null,null,2138,"住宅","木造",{"$f":"INDEX('係数表2-3'!$B:$K, 10 + QUOTIENT(ROW(AL1582)-2, 10), 1 + MOD(ROW(AL1582)-2, 10))","v":0}]
[null,null,null,null,null,null,null,null,null,null,null,null,null,null,null,null,null,null,null,null,null,null,null,null,null,null,null,null,null,null,null,null,null,null,2138,"住宅","SRC造",{"$f":"INDEX('係数表2-3'!$B:$K, 10 + QUOTIENT(ROW(AL1583)-2, 10), 1 + MOD(ROW(AL1583)-2, 10))","v":0}]
[null,null,null,null,null,null,null,null,null,null,null,null,null,null,null,null,null,null,null,null,null,null,null,null,null,null,null,null,null,null,null,null,null,null,2138,"非住宅","SRC造",{"$f":"INDEX('係数表2-3'!$B:$K, 10 + QUOTIENT(ROW(AL1588)-2, 10), 1 + MOD(ROW(AL1588)-2, 10))","v":0}]
[null,null,null,null,null,null,null,null,null,null,null,null,null,null,null,null,null,null,null,null,null,null,null,null,null,null,null,null,null,null,null,null,null,null,2139,"住宅","SRC造",{"$f":"INDEX('係数表2-3'!$B:$K, 10 + QUOTIENT(ROW(AL1593)-2, 10), 1 + MOD(ROW(AL1593)-2, 10))","v":0}]
[null,null,null,null,null,null,null,null,null,null,null,null,null,null,null,null,null,null,null,null,null,null,null,null,null,null,null,null,null,null,null,null,null,null,2139,"非住宅","SRC造",{"$f":"INDEX('係数表2-3'!$B:$K, 10 + QUOTIENT(ROW(AL1598)-2, 10), 1 + MOD(ROW(AL1598)-2, 10))","v":0}]
[null,null,null,null,null,null,null,null,null,null,null,null,null,null,null,null,null,null,null,null,null,null,null,null,null,null,null,null,null,null,null,null,null,null,2139,"非住宅","RC造",{"$f":"INDEX('係数表2-3'!$B:$K, 10 + QUOTIENT(ROW(AL1599)-2, 10), 1 + MOD(ROW(AL1599)-2, 10))","v":0}]
[null,null,null,null,null,null,null,null,null,null,null,null,null,null,null,null,null,null,null,null,null,null,null,null,null,null,null,null,null,null,null,null,null,null,2140,"住宅","RC造",{"$f":"INDEX('係数表2-3'!$B:$K, 10 + QUOTIENT(ROW(AL1604)-2, 10), 1 + MOD(ROW(AL1604)-2, 10))","v":0}]
[null,null,null,null,null,null,null,null,null,null,null,null,null,null,null,null,null,null,null,null,null,null,null,null,null,null,null,null,null,null,null,null,null,null,2140,"非住宅","RC造",{"$f":"INDEX('係数表2-3'!$B:$K, 10 + QUOTIENT(ROW(AL1609)-2, 10), 1 + MOD(ROW(AL1609)-2, 10))","v":0}]
[null,null,null,null,null,null,null,null,null,null,null,null,null,null,null,null,null,null,null,null,null,null,null,null,null,null,null,null,null,null,null,null,null,null,2141,"住宅","SRC造",{"$f":"INDEX('係数表2-3'!$B:$K, 10 + QUOTIENT(ROW(AL1613)-2, 10), 1 + MOD(ROW(AL1613)-2, 10))","v":0}]
[null,null,null,null,null,null,null,null,null,null,null,null,null,null,null,null,null,null,null,null,null,null,null,null,null,null,null,null,null,null,null,null,null,null,2141,"住宅","RC造",{"$f":"INDEX('係数表2-3'!$B:$K, 10 + QUOTIENT(ROW(AL1614)-2, 10), 1 + MOD(ROW(AL1614)-2, 10))","v":0}]
[null,null,null,null,null,null,null,null,null,null,null,null,null,null,null,null,null,null,null,null,null,null,null,null,null,null,null,null,null,null,null,null,null,null,2141,"非住宅","RC造",{"$f":"INDEX('係数表2-3'!$B:$K, 10 + QUOTIENT(ROW(AL1619)-2, 10), 1 + MOD(ROW(AL1619)-2, 10))","v":0}]
[null,null,null,null,null,null,null,null,null,null,null,null,null,null,null,null,null,null,null,null,null,null,null,null,null,null,null,null,null,null,null,null,null,null,2142,"住宅","RC造",{"$f":"INDEX('係数表2-3'!$B:$K, 10 + QUOTIENT(ROW(AL1624)-2, 10), 1 + MOD(ROW(AL1624)-2, 10))","v":0}]
[null,null,null,null,null,null,null,null,null,null,null,null,null,null,null,null,null,null,null,null,null,null,null,null,null,null,null,null,null,null,null,null,null,null,2142,"非住宅","RC造",{"$f":"INDEX('係数表2-3'!$B:$K, 10 + QUOTIENT(ROW(AL1629)-2, 10), 1 + MOD(ROW(AL1629)-2, 10))","v":0}]
[null,null,null,null,null,null,null,null,null,null,null,null,null,null,null,null,null,null,null,null,null,null,null,null,null,null,null,null,null,null,null,null,null,null,2142,"非住宅","S造",{"$f":"INDEX('係数表2-3'!$B:$K, 10 + QUOTIENT(ROW(AL1630)-2, 10), 1 + MOD(ROW(AL1630)-2, 10))","v":0}]
[null,null,null,null,null,null,null,null,null,null,null,null,null,null,null,null,null,null,null,null,null,null,null,null,null,null,null,null,null,null,null,null,null,null,2143,"住宅","S造",{"$f":"INDEX('係数表2-3'!$B:$K, 10 + QUOTIENT(ROW(AL1635)-2, 10), 1 + MOD(ROW(AL1635)-2, 10))","v":0}]
[null,null,null,null,null,null,null,null,null,null,null,null,null,null,null,null,null,null,null,null,null,null,null,null,null,null,null,null,null,null,null,null,null,null,2143,"非住宅","S造",{"$f":"INDEX('係数表2-3'!$B:$K, 10 + QUOTIENT(ROW(AL1640)-2, 10), 1 + MOD(ROW(AL1640)-2, 10))","v":0}]
[null,null,null,null,null,null,null,null,null,null,null,null,null,null,null,null,null,null,null,null,null,null,null,null,null,null,null,null,null,null,null,null,null,null,2144,"住宅","S造",{"$f":"INDEX('係数表2-3'!$B:$K, 10 + QUOTIENT(ROW(AL1645)-2, 10), 1 + MOD(ROW(AL1645)-2, 10))","v":0}]
[null,null,null,null,null,null,null,null,null,null,null,null,null,null,null,null,null,null,null,null,null,null,null,null,null,null,null,null,null,null,null,null,null,null,2144,"住宅","その他",{"$f":"INDEX('係数表2-3'!$B:$K, 10 + QUOTIENT(ROW(AL1646)-2, 10), 1 + MOD(ROW(AL1646)-2, 10))","v":0}]
[null,null,null,null,null,null,null,null,null,null,null,null,null,null,null,null,null,null,null,null,null,null,null,null,null,null,null,null,null,null,null,null,null,null,2144,"非住宅","その他",{"$f":"INDEX('係数表2-3'!$B:$K, 10 + QUOTIENT(ROW(AL1651)-2, 10), 1 + MOD(ROW(AL1651)-2, 10))","v":0}]
[null,null,null,null,null,null,null,null,null,null,null,null,null,null,null,null,null,null,null,null,null,null,null,null,null,null,null,null,null,null,null,null,null,null,2145,"住宅","その他",{"$f":"INDEX('係数表2-3'!$B:$K, 10 + QUOTIENT(ROW(AL1656)-2, 10), 1 + MOD(ROW(AL1656)-2, 10))","v":0}]
[null,null,null,null,null,null,null,null,null,null,null,null,null,null,null,null,null,null,null,null,null,null,null,null,null,null,null,null,null,null,null,null,null,null,2145,"非住宅","その他",{"$f":"INDEX('係数表2-3'!$B:$K, 10 + QUOTIENT(ROW(AL1661)-2, 10), 1 + MOD(ROW(AL1661)-2, 10))","v":0}]
[null,null,null,null,null,null,null,null,null,null,null,null,null,null,null,null,null,null,null,null,null,null,null,null,null,null,null,null,null,null,null,null,null,null,2146,"住宅","木造",{"$f":"INDEX('係数表2-3'!$B:$K, 10 + QUOTIENT(ROW(AL1662)-2, 10), 1 + MOD(ROW(AL1662)-2, 10))","v":0}]
[null,null,null,null,null,null,null,null,null,null,null,null,null,null,null,null,null,null,null,null,null,null,null,null,null,null,null,null,null,null,null,null,null,null,2146,"非住宅","木造",{"$f":"INDEX('係数表2-3'!$B:$K, 10 + QUOTIENT(ROW(AL1667)-2, 10), 1 + MOD(ROW(AL1667)-2, 10))","v":0}]
[null,null,null,null,null,null,null,null,null,null,null,null,null,null,null,null,null,null,null,null,null,null,null,null,null,null,null,null,null,null,null,null,null,null,2147,"住宅","木造",{"$f":"INDEX('係数表2-3'!$B:$K, 10 + QUOTIENT(ROW(AL1672)-2, 10), 1 + MOD(ROW(AL1672)-2, 10))","v":0}]
[null,null,null,null,null,null,null,null,null,null,null,null,null,null,null,null,null,null,null,null,null,null,null,null,null,null,null,null,null,null,null,null,null,null,2147,"非住宅","木造",{"$f":"INDEX('係数表2-3'!$B:$K, 10 + QUOTIENT(ROW(AL1677)-2, 10), 1 + MOD(ROW(AL1677)-2, 10))","v":0}]
[null,null,null,null,null,null,null,null,null,null,null,null,null,null,null,null,null,null,null,null,null,null,null,null,null,null,null,null,null,null,null,null,null,null,2147,"非住宅","SRC造",{"$f":"INDEX('係数表2-3'!$B:$K, 10 + QUOTIENT(ROW(AL1678)-2, 10), 1 + MOD(ROW(AL1678)-2, 10))","v":0}]
[null,null,null,null,null,null,null,null,null,null,null,null,null,null,null,null,null,null,null,null,null,null,null,null,null,null,null,null,null,null,null,null,null,null,2148,"住宅","SRC造",{"$f":"INDEX('係数表2-3'!$B:$K, 10 + QUOTIENT(ROW(AL1683)-2, 10), 1 + MOD(ROW(AL1683)-2, 10))","v":0}]
[null,null,null,null,null,null,null,null,null,null,null,null,null,null,null,null,null,null,null,null,null,null,null,null,null,null,null,null,null,null,null,null,null,null,2148,"非住宅","SRC造",{"$f":"INDEX('係数表2-3'!$B:$K, 10 + QUOTIENT(ROW(AL1688)-2, 10), 1 + MOD(ROW(AL1688)-2, 10))","v":0}]
[null,null,null,null,null,null,null,null,null,null,null,null,null,null,null,null,null,null,null,null,null,null,null,null,null,null,null,null,null,null,null,null,null,null,2149,"住宅","SRC造",{"$f":"INDEX('係数表2-3'!$B:$K, 10 + QUOTIENT(ROW(AL1693)-2, 10), 1 + MOD(ROW(AL1693)-2, 10))","v":0}]
[null,null,null,null,null,null,null,null,null,null,null,null,null,null,null,null,null,null,null,null,null,null,null,null,null,null,null,null,null,null,null,null,null,null,2149,"住宅","RC造",{"$f":"INDEX('係数表2-3'!$B:$K, 10 + QUOTIENT(ROW(AL1694)-2, 10), 1 + MOD(ROW(AL1694)-2, 10))","v":0}]
[null,null,null,null,null,null,null,null,null,null,null,null,null,null,null,null,null,null,null,null,null,null,null,null,null,null,null,null,null,null,null,null,null,null,2149,"非住宅","RC造",{"$f":"INDEX('係数表2-3'!$B:$K, 10 + QUOTIENT(ROW(AL1699)-2, 10), 1 + MOD(ROW(AL1699)-2, 10))","v":0}]
[null,null,null,null,null,null,null,null,null,null,null,null,null,null,null,null,null,null,null,null,null,null,null,null,null,null,null,null,null,null,null,null,null,null,2150,"住宅","RC造",{"$f":"INDEX('係数表2-3'!$B:$K, 10 + QUOTIENT(ROW(AL1704)-2, 10), 1 + MOD(ROW(AL1704)-2, 10))","v":0}]
[null,null,null,null,null,null,null,null,null,null,null,null,null,null,null,null,null,null,null,null,null,null,null,null,null,null,null,null,null,null,null,null,null,null,2150,"非住宅","RC造",{"$f":"INDEX('係数表2-3'!$B:$K, 10 + QUOTIENT(ROW(AL1709)-2, 10), 1 + MOD(ROW(AL1709)-2, 10))","v":0}]
[null,null,null,null,null,null,null,null,null,null,null,null,null,null,null,null,null,null,null,null,null,null,null,null,null,null,null,null,null,null,null,null,null,null,2150,"非住宅","S造",{"$f":"INDEX('係数表2-3'!$B:$K, 10 + QUOTIENT(ROW(AL1710)-2, 10), 1 + MOD(ROW(AL1710)-2, 10))","v":0}]
[null,null,null,null,null,null,null,null,null,null,null,null,null,null,null,null,null,null,null,null,null,null,null,null,null,null,null,null,null,null,null,null,null,null,2151,"住宅","RC造",{"$f":"INDEX('係数表2-3'!$B:$K, 10 + QUOTIENT(ROW(AL1714)-2, 10), 1 + MOD(ROW(AL1714)-2, 10))","v":0}]
[null,null,null,null,null,null,null,null,null,null,null,null,null,null,null,null,null,null,null,null,null,null,null,null,null,null,null,null,null,null,null,null,null,null,2151,"非住宅","RC造",{"$f":"INDEX('係数表2-3'!$B:$K, 10 + QUOTIENT(ROW(AL1719)-2, 10), 1 + MOD(ROW(AL1719)-2, 10))","v":0}]
[null,null,null,null,null,null,null,null,null,null,null,null,null,null,null,null,null,null,null,null,null,null,null,null,null,null,null,null,null,null,null,null,null,null,2152,"住宅","RC造",{"$f":"INDEX('係数表2-3'!$B:$K, 10 + QUOTIENT(ROW(AL1724)-2, 10), 1 + MOD(ROW(AL1724)-2, 10))","v":0}]
[null,null,null,null,null,null,null,null,null,null,null,null,null,null,null,null,null,null,null,null,null,null,null,null,null,null,null,null,null,null,null,null,null,null,2152,"住宅","S造",{"$f":"INDEX('係数表2-3'!$B:$K, 10 + QUOTIENT(ROW(AL1725)-2, 10), 1 + MOD(ROW(AL1725)-2, 10))","v":0}]
[null,null,null,null,null,null,null,null,null,null,null,null,null,null,null,null,null,null,null,null,null,null,null,null,null,null,null,null,null,null,null,null,null,null,2152,"非住宅","S造",{"$f":"INDEX('係数表2-3'!$B:$K, 10 + QUOTIENT(ROW(AL1730)-2, 10), 1 + MOD(ROW(AL1730)-2, 10))","v":0}]
[null,null,null,null,null,null,null,null,null,null,null,null,null,null,null,null,null,null,null,null,null,null,null,null,null,null,null,null,null,null,null,null,null,null,2153,"住宅","S造",{"$f":"INDEX('係数表2-3'!$B:$K, 10 + QUOTIENT(ROW(AL1735)-2, 10), 1 + MOD(ROW(AL1735)-2, 10))","v":0}]
[null,null,null,null,null,null,null,null,null,null,null,null,null,null,null,null,null,null,null,null,null,null,null,null,null,null,null,null,null,null,null,null,null,null,2153,"非住宅","S造",{"$f":"INDEX('係数表2-3'!$B:$K, 10 + QUOTIENT(ROW(AL1740)-2, 10), 1 + MOD(ROW(AL1740)-2, 10))","v":0}]
[null,null,null,null,null,null,null,null,null,null,null,null,null,null,null,null,null,null,null,null,null,null,null,null,null,null,null,null,null,null,null,null,null,null,2153,"非住宅","その他",{"$f":"INDEX('係数表2-3'!$B:$K, 10 + QUOTIENT(ROW(AL1741)-2, 10), 1 + MOD(ROW(AL1741)-2, 10))","v":0}]
[null,null,null,null,null,null,null,null,null,null,null,null,null,null,null,null,null,null,null,null,null,null,null,null,null,null,null,null,null,null,null,null,null,null,2154,"住宅","その他",{"$f":"INDEX('係数表2-3'!$B:$K, 10 + QUOTIENT(ROW(AL1746)-2, 10), 1 + MOD(ROW(AL1746)-2, 10))","v":0}]
[null,null,null,null,null,null,null,null,null,null,null,null,null,null,null,null,null,null,null,null,null,null,null,null,null,null,null,null,null,null,null,null,null,null,2154,"非住宅","その他",{"$f":"INDEX('係数表2-3'!$B:$K, 10 + QUOTIENT(ROW(AL1751)-2, 10), 1 + MOD(ROW(AL1751)-2, 10))","v":0}]
[null,null,null,null,null,null,null,null,null,null,null,null,null,null,null,null,null,null,null,null,null,null,null,null,null,null,null,null,null,null,null,null,null,null,2155,"住宅","その他",{"$f":"INDEX('係数表2-3'!$B:$K, 10 + QUOTIENT(ROW(AL1756)-2, 10), 1 + MOD(ROW(AL1756)-2, 10))","v":0}]
[null,null,null,null,null,null,null,null,null,null,null,null,null,null,null,null,null,null,null,null,null,null,null,null,null,null,null,null,null,null,null,null,null,null,2155,"非住宅","木造",{"$f":"INDEX('係数表2-3'!$B:$K, 10 + QUOTIENT(ROW(AL1757)-2, 10), 1 + MOD(ROW(AL1757)-2, 10))","v":0}]
[null,null,null,null,null,null,null,null,null,null,null,null,null,null,null,null,null,null,null,null,null,null,null,null,null,null,null,null,null,null,null,null,null,null,2156,"住宅","木造",{"$f":"INDEX('係数表2-3'!$B:$K, 10 + QUOTIENT(ROW(AL1762)-2, 10), 1 + MOD(ROW(AL1762)-2, 10))","v":0}]
[null,null,null,null,null,null,null,null,null,null,null,null,null,null,null,null,null,null,null,null,null,null,null,null,null,null,null,null,null,null,null,null,null,null,2156,"非住宅","木造",{"$f":"INDEX('係数表2-3'!$B:$K, 10 + QUOTIENT(ROW(AL1767)-2, 10), 1 + MOD(ROW(AL1767)-2, 10))","v":0}]
[null,null,null,null,null,null,null,null,null,null,null,null,null,null,null,null,null,null,null,null,null,null,null,null,null,null,null,null,null,null,null,null,null,null,2157,"住宅","木造",{"$f":"INDEX('係数表2-3'!$B:$K, 10 + QUOTIENT(ROW(AL1772)-2, 10), 1 + MOD(ROW(AL1772)-2, 10))","v":0}]
[null,null,null,null,null,null,null,null,null,null,null,null,null,null,null,null,null,null,null,null,null,null,null,null,null,null,null,null,null,null,null,null,null,null,2157,"住宅","SRC造",{"$f":"INDEX('係数表2-3'!$B:$K, 10 + QUOTIENT(ROW(AL1773)-2, 10), 1 + MOD(ROW(AL1773)-2, 10))","v":0}]
[null,null,null,null,null,null,null,null,null,null,null,null,null,null,null,null,null,null,null,null,null,null,null,null,null,null,null,null,null,null,null,null,null,null,2157,"非住宅","SRC造",{"$f":"INDEX('係数表2-3'!$B:$K, 10 + QUOTIENT(ROW(AL1778)-2, 10), 1 + MOD(ROW(AL1778)-2, 10))","v":0}]
[null,null,null,null,null,null,null,null,null,null,null,null,null,null,null,null,null,null,null,null,null,null,null,null,null,null,null,null,null,null,null,null,null,null,2158,"住宅","SRC造",{"$f":"INDEX('係数表2-3'!$B:$K, 10 + QUOTIENT(ROW(AL1783)-2, 10), 1 + MOD(ROW(AL1783)-2, 10))","v":0}]
[null,null,null,null,null,null,null,null,null,null,null,null,null,null,null,null,null,null,null,null,null,null,null,null,null,null,null,null,null,null,null,null,null,null,2158,"非住宅","SRC造",{"$f":"INDEX('係数表2-3'!$B:$K, 10 + QUOTIENT(ROW(AL1788)-2, 10), 1 + MOD(ROW(AL1788)-2, 10))","v":0}]
[null,null,null,null,null,null,null,null,null,null,null,null,null,null,null,null,null,null,null,null,null,null,null,null,null,null,null,null,null,null,null,null,null,null,2158,"非住宅","RC造",{"$f":"INDEX('係数表2-3'!$B:$K, 10 + QUOTIENT(ROW(AL1789)-2, 10), 1 + MOD(ROW(AL1789)-2, 10))","v":0}]
[null,null,null,null,null,null,null,null,null,null,null,null,null,null,null,null,null,null,null,null,null,null,null,null,null,null,null,null,null,null,null,null,null,null,2159,"住宅","RC造",{"$f":"INDEX('係数表2-3'!$B:$K, 10 + QUOTIENT(ROW(AL1794)-2, 10), 1 + MOD(ROW(AL1794)-2, 10))","v":0}]
[null,null,null,null,null,null,null,null,null,null,null,null,null,null,null,null,null,null,null,null,null,null,null,null,null,null,null,null,null,null,null,null,null,null,2159,"非住宅","RC造",{"$f":"INDEX('係数表2-3'!$B:$K, 10 + QUOTIENT(ROW(AL1799)-2, 10), 1 + MOD(ROW(AL1799)-2, 10))","v":0}]
[null,null,null,null,null,null,null,null,null,null,null,null,null,null,null,null,null,null,null,null,null,null,null,null,null,null,null,null,null,null,null,null,null,null,2160,"住宅","RC造",{"$f":"INDEX('係数表2-3'!$B:$K, 10 + QUOTIENT(ROW(AL1804)-2, 10), 1 + MOD(ROW(AL1804)-2, 10))","v":0}]
[null,null,null,null,null,null,null,null,null,null,null,null,null,null,null,null,null,null,null,null,null,null,null,null,null,null,null,null,null,null,null,null,null,null,2160,"住宅","S造",{"$f":"INDEX('係数表2-3'!$B:$K, 10 + QUOTIENT(ROW(AL1805)-2, 10), 1 + MOD(ROW(AL1805)-2, 10))","v":0}]
[null,null,null,null,null,null,null,null,null,null,null,null,null,null,null,null,null,null,null,null,null,null,null,null,null,null,null,null,null,null,null,null,null,null,2160,"非住宅","S造",{"$f":"INDEX('係数表2-3'!$B:$K, 10 + QUOTIENT(ROW(AL1810)-2, 10), 1 + MOD(ROW(AL1810)-2, 10))","v":0}]
[null,null,null,null,null,null,null,null,null,null,null,null,null,null,null,null,null,null,null,null,null,null,null,null,null,null,null,null,null,null,null,null,null,null,2161,"住宅","RC造",{"$f":"INDEX('係数表2-3'!$B:$K, 10 + QUOTIENT(ROW(AL1814)-2, 10), 1 + MOD(ROW(AL1814)-2, 10))","v":0}]
[null,null,null,null,null,null,null,null,null,null,null,null,null,null,null,null,null,null,null,null,null,null,null,null,null,null,null,null,null,null,null,null,null,null,2161,"非住宅","RC造",{"$f":"INDEX('係数表2-3'!$B:$K, 10 + QUOTIENT(ROW(AL1819)-2, 10), 1 + MOD(ROW(AL1819)-2, 10))","v":0}]
[null,null,null,null,null,null,null,null,null,null,null,null,null,null,null,null,null,null,null,null,null,null,null,null,null,null,null,null,null,null,null,null,null,null,2161,"非住宅","S造",{"$f":"INDEX('係数表2-3'!$B:$K, 10 + QUOTIENT(ROW(AL1820)-2, 10), 1 + MOD(ROW(AL1820)-2, 10))","v":0}]
[null,null,null,null,null,null,null,null,null,null,null,null,null,null,null,null,null,null,null,null,null,null,null,null,null,null,null,null,null,null,null,null,null,null,2162,"住宅","S造",{"$f":"INDEX('係数表2-3'!$B:$K, 10 + QUOTIENT(ROW(AL1825)-2, 10), 1 + MOD(ROW(AL1825)-2, 10))","v":0}]
[null,null,null,null,null,null,null,null,null,null,null,null,null,null,null,null,null,null,null,null,null,null,null,null,null,null,null,null,null,null,null,null,null,null,2162,"非住宅","S造",{"$f":"INDEX('係数表2-3'!$B:$K, 10 + QUOTIENT(ROW(AL1830)-2, 10), 1 + MOD(ROW(AL1830)-2, 10))","v":0}]
[null,null,null,null,null,null,null,null,null,null,null,null,null,null,null,null,null,null,null,null,null,null,null,null,null,null,null,null,null,null,null,null,null,null,2163,"住宅","S造",{"$f":"INDEX('係数表2-3'!$B:$K, 10 + QUOTIENT(ROW(AL1835)-2, 10), 1 + MOD(ROW(AL1835)-2, 10))","v":0}]
[null,null,null,null,null,null,null,null,null,null,null,null,null,null,null,null,null,null,null,null,null,null,null,null,null,null,null,null,null,null,null,null,null,null,2163,"住宅","その他",{"$f":"INDEX('係数表2-3'!$B:$K, 10 + QUOTIENT(ROW(AL1836)-2, 10), 1 + MOD(ROW(AL1836)-2, 10))","v":0}]
[null,null,null,null,null,null,null,null,null,null,null,null,null,null,null,null,null,null,null,null,null,null,null,null,null,null,null,null,null,null,null,null,null,null,2163,"非住宅","その他",{"$f":"INDEX('係数表2-3'!$B:$K, 10 + QUOTIENT(ROW(AL1841)-2, 10), 1 + MOD(ROW(AL1841)-2, 10))","v":0}]
[null,null,null,null,null,null,null,null,null,null,null,null,null,null,null,null,null,null,null,null,null,null,null,null,null,null,null,null,null,null,null,null,null,null,2164,"住宅","その他",{"$f":"INDEX('係数表2-3'!$B:$K, 10 + QUOTIENT(ROW(AL1846)-2, 10), 1 + MOD(ROW(AL1846)-2, 10))","v":0}]
[null,null,null,null,null,null,null,null,null,null,null,null,null,null,null,null,null,null,null,null,null,null,null,null,null,null,null,null,null,null,null,null,null,null,2164,"非住宅","その他",{"$f":"INDEX('係数表2-3'!$B:$K, 10 + QUOTIENT(ROW(AL1851)-2, 10), 1 + MOD(ROW(AL1851)-2, 10))","v":0}]
[null,null,null,null,null,null,null,null,null,null,null,null,null,null,null,null,null,null,null,null,null,null,null,null,null,null,null,null,null,null,null,null,null,null,2165,"住宅","木造",{"$f":"INDEX('係数表2-3'!$B:$K, 10 + QUOTIENT(ROW(AL1852)-2, 10), 1 + MOD(ROW(AL1852)-2, 10))","v":0}]
[null,null,null,null,null,null,null,null,null,null,null,null,null,null,null,null,null,null,null,null,null,null,null,null,null,null,null,null,null,null,null,null,null,null,2165,"非住宅","木造",{"$f":"INDEX('係数表2-3'!$B:$K, 10 + QUOTIENT(ROW(AL1857)-2, 10), 1 + MOD(ROW(AL1857)-2, 10))","v":0}]
[null,null,null,null,null,null,null,null,null,null,null,null,null,null,null,null,null,null,null,null,null,null,null,null,null,null,null,null,null,null,null,null,null,null,2166,"住宅","木造",{"$f":"INDEX('係数表2-3'!$B:$K, 10 + QUOTIENT(ROW(AL1862)-2, 10), 1 + MOD(ROW(AL1862)-2, 10))","v":0}]
[null,null,null,null,null,null,null,null,null,null,null,null,null,null,null,null,null,null,null,null,null,null,null,null,null,null,null,null,null,null,null,null,null,null,2166,"非住宅","木造",{"$f":"INDEX('係数表2-3'!$B:$K, 10 + QUOTIENT(ROW(AL1867)-2, 10), 1 + MOD(ROW(AL1867)-2, 10))","v":0}]
[null,null,null,null,null,null,null,null,null,null,null,null,null,null,null,null,null,null,null,null,null,null,null,null,null,null,null,null,null,null,null,null,null,null,2166,"非住宅","SRC造",{"$f":"INDEX('係数表2-3'!$B:$K, 10 + QUOTIENT(ROW(AL1868)-2, 10), 1 + MOD(ROW(AL1868)-2, 10))","v":0}]
[null,null,null,null,null,null,null,null,null,null,null,null,null,null,null,null,null,null,null,null,null,null,null,null,null,null,null,null,null,null,null,null,null,null,2167,"住宅","SRC造",{"$f":"INDEX('係数表2-3'!$B:$K, 10 + QUOTIENT(ROW(AL1873)-2, 10), 1 + MOD(ROW(AL1873)-2, 10))","v":0}]
[null,null,null,null,null,null,null,null,null,null,null,null,null,null,null,null,null,null,null,null,null,null,null,null,null,null,null,null,null,null,null,null,null,null,2167,"非住宅","SRC造",{"$f":"INDEX('係数表2-3'!$B:$K, 10 + QUOTIENT(ROW(AL1878)-2, 10), 1 + MOD(ROW(AL1878)-2, 10))","v":0}]
[null,null,null,null,null,null,null,null,null,null,null,null,null,null,null,null,null,null,null,null,null,null,null,null,null,null,null,null,null,null,null,null,null,null,2168,"住宅","SRC造",{"$f":"INDEX('係数表2-3'!$B:$K, 10 + QUOTIENT(ROW(AL1883)-2, 10), 1 + MOD(ROW(AL1883)-2, 10))","v":0}]
[null,null,null,null,null,null,null,null,null,null,null,null,null,null,null,null,null,null,null,null,null,null,null,null,null,null,null,null,null,null,null,null,null,null,2168,"住宅","RC造",{"$f":"INDEX('係数表2-3'!$B:$K, 10 + QUOTIENT(ROW(AL1884)-2, 10), 1 + MOD(ROW(AL1884)-2, 10))","v":0}]
[null,null,null,null,null,null,null,null,null,null,null,null,null,null,null,null,null,null,null,null,null,null,null,null,null,null,null,null,null,null,null,null,null,null,2168,"非住宅","RC造",{"$f":"INDEX('係数表2-3'!$B:$K, 10 + QUOTIENT(ROW(AL1889)-2, 10), 1 + MOD(ROW(AL1889)-2, 10))","v":0}]
[null,null,null,null,null,null,null,null,null,null,null,null,null,null,null,null,null,null,null,null,null,null,null,null,null,null,null,null,null,null,null,null,null,null,2169,"住宅","RC造",{"$f":"INDEX('係数表2-3'!$B:$K, 10 + QUOTIENT(ROW(AL1894)-2, 10), 1 + MOD(ROW(AL1894)-2, 10))","v":0}]
[null,null,null,null,null,null,null,null,null,null,null,null,null,null,null,null,null,null,null,null,null,null,null,null,null,null,null,null,null,null,null,null,null,null,2169,"非住宅","RC造",{"$f":"INDEX('係数表2-3'!$B:$K, 10 + QUOTIENT(ROW(AL1899)-2, 10), 1 + MOD(ROW(AL1899)-2, 10))","v":0}]
[null,null,null,null,null,null,null,null,null,null,null,null,null,null,null,null,null,null,null,null,null,null,null,null,null,null,null,null,null,null,null,null,null,null,2169,"非住宅","S造",{"$f":"INDEX('係数表2-3'!$B:$K, 10 + QUOTIENT(ROW(AL1900)-2, 10), 1 + MOD(ROW(AL1900)-2, 10))","v":0}]
[null,null,null,null,null,null,null,null,null,null,null,null,null,null,null,null,null,null,null,null,null,null,null,null,null,null,null,null,null,null,null,null,null,null,2170,"住宅","S造",{"$f":"INDEX('係数表2-3'!$B:$K, 10 + QUOTIENT(ROW(AL1905)-2, 10), 1 + MOD(ROW(AL1905)-2, 10))","v":0}]
[null,null,null,null,null,null,null,null,null,null,null,null,null,null,null,null,null,null,null,null,null,null,null,null,null,null,null,null,null,null,null,null,null,null,2170,"非住宅","S造",{"$f":"INDEX('係数表2-3'!$B:$K, 10 + QUOTIENT(ROW(AL1910)-2, 10), 1 + MOD(ROW(AL1910)-2, 10))","v":0}]
[null,null,null,null,null,null,null,null,null,null,null,null,null,null,null,null,null,null,null,null,null,null,null,null,null,null,null,null,null,null,null,null,null,null,2171,"住宅","SRC造",{"$f":"INDEX('係数表2-3'!$B:$K, 10 + QUOTIENT(ROW(AL1913)-2, 10), 1 + MOD(ROW(AL1913)-2, 10))","v":0}]
[null,null,null,null,null,null,null,null,null,null,null,null,null,null,null,null,null,null,null,null,null,null,null,null,null,null,null,null,null,null,null,null,null,null,2171,"住宅","S造",{"$f":"INDEX('係数表2-3'!$B:$K, 10 + QUOTIENT(ROW(AL1915)-2, 10), 1 + MOD(ROW(AL1915)-2, 10))","v":0}]
[null,null,null,null,null,null,null,null,null,null,null,null,null,null,null,null,null,null,null,null,null,null,null,null,null,null,null,null,null,null,null,null,null,null,2171,"非住宅","S造",{"$f":"INDEX('係数表2-3'!$B:$K, 10 + QUOTIENT(ROW(AL1920)-2, 10), 1 + MOD(ROW(AL1920)-2, 10))","v":0}]
[null,null,null,null,null,null,null,null,null,null,null,null,null,null,null,null,null,null,null,null,null,null,null,null,null,null,null,null,null,null,null,null,null,null,2172,"住宅","S造",{"$f":"INDEX('係数表2-3'!$B:$K, 10 + QUOTIENT(ROW(AL1925)-2, 10), 1 + MOD(ROW(AL1925)-2, 10))","v":0}]
[null,null,null,null,null,null,null,null,null,null,null,null,null,null,null,null,null,null,null,null,null,null,null,null,null,null,null,null,null,null,null,null,null,null,2172,"非住宅","S造",{"$f":"INDEX('係数表2-3'!$B:$K, 10 + QUOTIENT(ROW(AL1930)-2, 10), 1 + MOD(ROW(AL1930)-2, 10))","v":0}]
[null,null,null,null,null,null,null,null,null,null,null,null,null,null,null,null,null,null,null,null,null,null,null,null,null,null,null,null,null,null,null,null,null,null,2172,"非住宅","その他",{"$f":"INDEX('係数表2-3'!$B:$K, 10 + QUOTIENT(ROW(AL1931)-2, 10), 1 + MOD(ROW(AL1931)-2, 10))","v":0}]
[null,null,null,null,null,null,null,null,null,null,null,null,null,null,null,null,null,null,null,null,null,null,null,null,null,null,null,null,null,null,null,null,null,null,2173,"住宅","その他",{"$f":"INDEX('係数表2-3'!$B:$K, 10 + QUOTIENT(ROW(AL1936)-2, 10), 1 + MOD(ROW(AL1936)-2, 10))","v":0}]
[null,null,null,null,null,null,null,null,null,null,null,null,null,null,null,null,null,null,null,null,null,null,null,null,null,null,null,null,null,null,null,null,null,null,2173,"非住宅","その他",{"$f":"INDEX('係数表2-3'!$B:$K, 10 + QUOTIENT(ROW(AL1941)-2, 10), 1 + MOD(ROW(AL1941)-2, 10))","v":0}]
[null,null,null,null,null,null,null,null,null,null,null,null,null,null,null,null,null,null,null,null,null,null,null,null,null,null,null,null,null,null,null,null,null,null,2174,"住宅","その他",{"$f":"INDEX('係数表2-3'!$B:$K, 10 + QUOTIENT(ROW(AL1946)-2, 10), 1 + MOD(ROW(AL1946)-2, 10))","v":0}]
[null,null,null,null,null,null,null,null,null,null,null,null,null,null,null,null,null,null,null,null,null,null,null,null,null,null,null,null,null,null,null,null,null,null,2174,"非住宅","木造",{"$f":"INDEX('係数表2-3'!$B:$K, 10 + QUOTIENT(ROW(AL1947)-2, 10), 1 + MOD(ROW(AL1947)-2, 10))","v":0}]
[null,null,null,null,null,null,null,null,null,null,null,null,null,null,null,null,null,null,null,null,null,null,null,null,null,null,null,null,null,null,null,null,null,null,2175,"住宅","木造",{"$f":"INDEX('係数表2-3'!$B:$K, 10 + QUOTIENT(ROW(AL1952)-2, 10), 1 + MOD(ROW(AL1952)-2, 10))","v":0}]
[null,null,null,null,null,null,null,null,null,null,null,null,null,null,null,null,null,null,null,null,null,null,null,null,null,null,null,null,null,null,null,null,null,null,2175,"非住宅","木造",{"$f":"INDEX('係数表2-3'!$B:$K, 10 + QUOTIENT(ROW(AL1957)-2, 10), 1 + MOD(ROW(AL1957)-2, 10))","v":0}]
[null,null,null,null,null,null,null,null,null,null,null,null,null,null,null,null,null,null,null,null,null,null,null,null,null,null,null,null,null,null,null,null,null,null,2176,"住宅","木造",{"$f":"INDEX('係数表2-3'!$B:$K, 10 + QUOTIENT(ROW(AL1962)-2, 10), 1 + MOD(ROW(AL1962)-2, 10))","v":0}]
[null,null,null,null,null,null,null,null,null,null,null,null,null,null,null,null,null,null,null,null,null,null,null,null,null,null,null,null,null,null,null,null,null,null,2176,"住宅","SRC造",{"$f":"INDEX('係数表2-3'!$B:$K, 10 + QUOTIENT(ROW(AL1963)-2, 10), 1 + MOD(ROW(AL1963)-2, 10))","v":0}]
[null,null,null,null,null,null,null,null,null,null,null,null,null,null,null,null,null,null,null,null,null,null,null,null,null,null,null,null,null,null,null,null,null,null,2176,"非住宅","SRC造",{"$f":"INDEX('係数表2-3'!$B:$K, 10 + QUOTIENT(ROW(AL1968)-2, 10), 1 + MOD(ROW(AL1968)-2, 10))","v":0}]
[null,null,null,null,null,null,null,null,null,null,null,null,null,null,null,null,null,null,null,null,null,null,null,null,null,null,null,null,null,null,null,null,null,null,2177,"住宅","SRC造",{"$f":"INDEX('係数表2-3'!$B:$K, 10 + QUOTIENT(ROW(AL1973)-2, 10), 1 + MOD(ROW(AL1973)-2, 10))","v":0}]
[null,null,null,null,null,null,null,null,null,null,null,null,null,null,null,null,null,null,null,null,null,null,null,null,null,null,null,null,null,null,null,null,null,null,2177,"非住宅","SRC造",{"$f":"INDEX('係数表2-3'!$B:$K, 10 + QUOTIENT(ROW(AL1978)-2, 10), 1 + MOD(ROW(AL1978)-2, 10))","v":0}]
[null,null,null,null,null,null,null,null,null,null,null,null,null,null,null,null,null,null,null,null,null,null,null,null,null,null,null,null,null,null,null,null,null,null,2177,"非住宅","RC造",{"$f":"INDEX('係数表2-3'!$B:$K, 10 + QUOTIENT(ROW(AL1979)-2, 10), 1 + MOD(ROW(AL1979)-2, 10))","v":0}]
[null,null,null,null,null,null,null,null,null,null,null,null,null,null,null,null,null,null,null,null,null,null,null,null,null,null,null,null,null,null,null,null,null,null,2178,"住宅","RC造",{"$f":"INDEX('係数表2-3'!$B:$K, 10 + QUOTIENT(ROW(AL1984)-2, 10), 1 + MOD(ROW(AL1984)-2, 10))","v":0}]
[null,null,null,null,null,null,null,null,null,null,null,null,null,null,null,null,null,null,null,null,null,null,null,null,null,null,null,null,null,null,null,null,null,null,2178,"非住宅","RC造",{"$f":"INDEX('係数表2-3'!$B:$K, 10 + QUOTIENT(ROW(AL1989)-2, 10), 1 + MOD(ROW(AL1989)-2, 10))","v":0}]
[null,null,null,null,null,null,null,null,null,null,null,null,null,null,null,null,null,null,null,null,null,null,null,null,null,null,null,null,null,null,null,null,null,null,2179,"住宅","RC造",{"$f":"INDEX('係数表2-3'!$B:$K, 10 + QUOTIENT(ROW(AL1994)-2, 10), 1 + MOD(ROW(AL1994)-2, 10))","v":0}]
[null,null,null,null,null,null,null,null,null,null,null,null,null,null,null,null,null,null,null,null,null,null,null,null,null,null,null,null,null,null,null,null,null,null,2179,"住宅","S造",{"$f":"INDEX('係数表2-3'!$B:$K, 10 + QUOTIENT(ROW(AL1995)-2, 10), 1 + MOD(ROW(AL1995)-2, 10))","v":0}]
[null,null,null,null,null,null,null,null,null,null,null,null,null,null,null,null,null,null,null,null,null,null,null,null,null,null,null,null,null,null,null,null,null,null,2179,"非住宅","S造",{"$f":"INDEX('係数表2-3'!$B:$K, 10 + QUOTIENT(ROW(AL2000)-2, 10), 1 + MOD(ROW(AL2000)-2, 10))","v":0}]
[null,null,null,null,null,null,null,null,null,null,null,null,null,null,null,null,null,null,null,null,null,null,null,null,null,null,null,null,null,null,null,null,null,null,2180,"住宅","S造",{"$f":"INDEX('係数表2-3'!$B:$K, 10 + QUOTIENT(ROW(AL2005)-2, 10), 1 + MOD(ROW(AL2005)-2, 10))","v":0}]
[null,null,null,null,null,null,null,null,null,null,null,null,null,null,null,null,null,null,null,null,null,null,null,null,null,null,null,null,null,null,null,null,null,null,2180,"非住宅","S造",{"$f":"INDEX('係数表2-3'!$B:$K, 10 + QUOTIENT(ROW(AL2010)-2, 10), 1 + MOD(ROW(AL2010)-2, 10))","v":0}]
[null,null,null,null,null,null,null,null,null,null,null,null,null,null,null,null,null,null,null,null,null,null,null,null,null,null,null,null,null,null,null,null,null,null,2180,"非住宅","その他",{"$f":"INDEX('係数表2-3'!$B:$K, 10 + QUOTIENT(ROW(AL2011)-2, 10), 1 + MOD(ROW(AL2011)-2, 10))","v":0}]
[null,null,null,null,null,null,null,null,null,null,null,null,null,null,null,null,null,null,null,null,null,null,null,null,null,null,null,null,null,null,null,null,null,null,2181,"非住宅","木造",{"$f":"INDEX('係数表2-3'!$B:$K, 10 + QUOTIENT(ROW(AL2017)-2, 10), 1 + MOD(ROW(AL2017)-2, 10))","v":0}]
[null,null,null,null,null,null,null,null,null,null,null,null,null,null,null,null,null,null,null,null,null,null,null,null,null,null,null,null,null,null,null,null,null,null,2181,"非住宅","S造",{"$f":"INDEX('係数表2-3'!$B:$K, 10 + QUOTIENT(ROW(AL2020)-2, 10), 1 + MOD(ROW(AL2020)-2, 10))","v":0}]
[null,null,null,null,null,null,null,null,null,null,null,null,null,null,null,null,null,null,null,null,null,null,null,null,null,null,null,null,null,null,null,null,null,null,2182,"住宅","S造",{"$f":"INDEX('係数表2-3'!$B:$K, 10 + QUOTIENT(ROW(AL2025)-2, 10), 1 + MOD(ROW(AL2025)-2, 10))","v":0}]
[null,null,null,null,null,null,null,null,null,null,null,null,null,null,null,null,null,null,null,null,null,null,null,null,null,null,null,null,null,null,null,null,null,null,2182,"住宅","その他",{"$f":"INDEX('係数表2-3'!$B:$K, 10 + QUOTIENT(ROW(AL2026)-2, 10), 1 + MOD(ROW(AL2026)-2, 10))","v":0}]
[null,null,null,null,null,null,null,null,null,null,null,null,null,null,null,null,null,null,null,null,null,null,null,null,null,null,null,null,null,null,null,null,null,null,2182,"非住宅","その他",{"$f":"INDEX('係数表2-3'!$B:$K, 10 + QUOTIENT(ROW(AL2031)-2, 10), 1 + MOD(ROW(AL2031)-2, 10))","v":0}]
[null,null,null,null,null,null,null,null,null,null,null,null,null,null,null,null,null,null,null,null,null,null,null,null,null,null,null,null,null,null,null,null,null,null,2183,"住宅","その他",{"$f":"INDEX('係数表2-3'!$B:$K, 10 + QUOTIENT(ROW(AL2036)-2, 10), 1 + MOD(ROW(AL2036)-2, 10))","v":0}]
[null,null,null,null,null,null,null,null,null,null,null,null,null,null,null,null,null,null,null,null,null,null,null,null,null,null,null,null,null,null,null,null,null,null,2183,"非住宅","その他",{"$f":"INDEX('係数表2-3'!$B:$K, 10 + QUOTIENT(ROW(AL2041)-2, 10), 1 + MOD(ROW(AL2041)-2, 10))","v":0}]
[null,null,null,null,null,null,null,null,null,null,null,null,null,null,null,null,null,null,null,null,null,null,null,null,null,null,null,null,null,null,null,null,null,null,2184,"住宅","木造",{"$f":"INDEX('係数表2-3'!$B:$K, 10 + QUOTIENT(ROW(AL2042)-2, 10), 1 + MOD(ROW(AL2042)-2, 10))","v":0}]
[null,null,null,null,null,null,null,null,null,null,null,null,null,null,null,null,null,null,null,null,null,null,null,null,null,null,null,null,null,null,null,null,null,null,2184,"非住宅","木造",{"$f":"INDEX('係数表2-3'!$B:$K, 10 + QUOTIENT(ROW(AL2047)-2, 10), 1 + MOD(ROW(AL2047)-2, 10))","v":0}]
[null,null,null,null,null,null,null,null,null,null,null,null,null,null,null,null,null,null,null,null,null,null,null,null,null,null,null,null,null,null,null,null,null,null,2185,"住宅","木造",{"$f":"INDEX('係数表2-3'!$B:$K, 10 + QUOTIENT(ROW(AL2052)-2, 10), 1 + MOD(ROW(AL2052)-2, 10))","v":0}]
[null,null,null,null,null,null,null,null,null,null,null,null,null,null,null,null,null,null,null,null,null,null,null,null,null,null,null,null,null,null,null,null,null,null,2185,"非住宅","木造",{"$f":"INDEX('係数表2-3'!$B:$K, 10 + QUOTIENT(ROW(AL2057)-2, 10), 1 + MOD(ROW(AL2057)-2, 10))","v":0}]
[null,null,null,null,null,null,null,null,null,null,null,null,null,null,null,null,null,null,null,null,null,null,null,null,null,null,null,null,null,null,null,null,null,null,2185,"非住宅","SRC造",{"$f":"INDEX('係数表2-3'!$B:$K, 10 + QUOTIENT(ROW(AL2058)-2, 10), 1 + MOD(ROW(AL2058)-2, 10))","v":0}]
[null,null,null,null,null,null,null,null,null,null,null,null,null,null,null,null,null,null,null,null,null,null,null,null,null,null,null,null,null,null,null,null,null,null,2186,"住宅","SRC造",{"$f":"INDEX('係数表2-3'!$B:$K, 10 + QUOTIENT(ROW(AL2063)-2, 10), 1 + MOD(ROW(AL2063)-2, 10))","v":0}]
[null,null,null,null,null,null,null,null,null,null,null,null,null,null,null,null,null,null,null,null,null,null,null,null,null,null,null,null,null,null,null,null,null,null,2186,"非住宅","SRC造",{"$f":"INDEX('係数表2-3'!$B:$K, 10 + QUOTIENT(ROW(AL2068)-2, 10), 1 + MOD(ROW(AL2068)-2, 10))","v":0}]
[null,null,null,null,null,null,null,null,null,null,null,null,null,null,null,null,null,null,null,null,null,null,null,null,null,null,null,null,null,null,null,null,null,null,2187,"住宅","SRC造",{"$f":"INDEX('係数表2-3'!$B:$K, 10 + QUOTIENT(ROW(AL2073)-2, 10), 1 + MOD(ROW(AL2073)-2, 10))","v":0}]
[null,null,null,null,null,null,null,null,null,null,null,null,null,null,null,null,null,null,null,null,null,null,null,null,null,null,null,null,null,null,null,null,null,null,2187,"住宅","RC造",{"$f":"INDEX('係数表2-3'!$B:$K, 10 + QUOTIENT(ROW(AL2074)-2, 10), 1 + MOD(ROW(AL2074)-2, 10))","v":0}]
[null,null,null,null,null,null,null,null,null,null,null,null,null,null,null,null,null,null,null,null,null,null,null,null,null,null,null,null,null,null,null,null,null,null,2187,"非住宅","RC造",{"$f":"INDEX('係数表2-3'!$B:$K, 10 + QUOTIENT(ROW(AL2079)-2, 10), 1 + MOD(ROW(AL2079)-2, 10))","v":0}]
[null,null,null,null,null,null,null,null,null,null,null,null,null,null,null,null,null,null,null,null,null,null,null,null,null,null,null,null,null,null,null,null,null,null,2188,"住宅","RC造",{"$f":"INDEX('係数表2-3'!$B:$K, 10 + QUOTIENT(ROW(AL2084)-2, 10), 1 + MOD(ROW(AL2084)-2, 10))","v":0}]
[null,null,null,null,null,null,null,null,null,null,null,null,null,null,null,null,null,null,null,null,null,null,null,null,null,null,null,null,null,null,null,null,null,null,2188,"非住宅","RC造",{"$f":"INDEX('係数表2-3'!$B:$K, 10 + QUOTIENT(ROW(AL2089)-2, 10), 1 + MOD(ROW(AL2089)-2, 10))","v":0}]
[null,null,null,null,null,null,null,null,null,null,null,null,null,null,null,null,null,null,null,null,null,null,null,null,null,null,null,null,null,null,null,null,null,null,2188,"非住宅","S造",{"$f":"INDEX('係数表2-3'!$B:$K, 10 + QUOTIENT(ROW(AL2090)-2, 10), 1 + MOD(ROW(AL2090)-2, 10))","v":0}]
[null,null,null,null,null,null,null,null,null,null,null,null,null,null,null,null,null,null,null,null,null,null,null,null,null,null,null,null,null,null,null,null,null,null,2189,"住宅","S造",{"$f":"INDEX('係数表2-3'!$B:$K, 10 + QUOTIENT(ROW(AL2095)-2, 10), 1 + MOD(ROW(AL2095)-2, 10))","v":0}]
[null,null,null,null,null,null,null,null,null,null,null,null,null,null,null,null,null,null,null,null,null,null,null,null,null,null,null,null,null,null,null,null,null,null,2189,"非住宅","S造",{"$f":"INDEX('係数表2-3'!$B:$K, 10 + QUOTIENT(ROW(AL2100)-2, 10), 1 + MOD(ROW(AL2100)-2, 10))","v":0}]
[null,null,null,null,null,null,null,null,null,null,null,null,null,null,null,null,null,null,null,null,null,null,null,null,null,null,null,null,null,null,null,null,null,null,2190,"住宅","S造",{"$f":"INDEX('係数表2-3'!$B:$K, 10 + QUOTIENT(ROW(AL2105)-2, 10), 1 + MOD(ROW(AL2105)-2, 10))","v":0}]
[null,null,null,null,null,null,null,null,null,null,null,null,null,null,null,null,null,null,null,null,null,null,null,null,null,null,null,null,null,null,null,null,null,null,2190,"住宅","その他",{"$f":"INDEX('係数表2-3'!$B:$K, 10 + QUOTIENT(ROW(AL2106)-2, 10), 1 + MOD(ROW(AL2106)-2, 10))","v":0}]
[null,null,null,null,null,null,null,null,null,null,null,null,null,null,null,null,null,null,null,null,null,null,null,null,null,null,null,null,null,null,null,null,null,null,2190,"非住宅","その他",{"$f":"INDEX('係数表2-3'!$B:$K, 10 + QUOTIENT(ROW(AL2111)-2, 10), 1 + MOD(ROW(AL2111)-2, 10))","v":0}]
[null,null,null,null,null,null,null,null,null,null,null,null,null,null,null,null,null,null,null,null,null,null,null,null,null,null,null,null,null,null,null,null,null,null,2191,"住宅","その他",{"$f":"INDEX('係数表2-3'!$B:$K, 10 + QUOTIENT(ROW(AL2116)-2, 10), 1 + MOD(ROW(AL2116)-2, 10))","v":0}]
[null,null,null,null,null,null,null,null,null,null,null,null,null,null,null,null,null,null,null,null,null,null,null,null,null,null,null,null,null,null,null,null,null,null,2191,"非住宅","SRC造",{"$f":"INDEX('係数表2-3'!$B:$K, 10 + QUOTIENT(ROW(AL2118)-2, 10), 1 + MOD(ROW(AL2118)-2, 10))","v":0}]
[null,null,null,null,null,null,null,null,null,null,null,null,null,null,null,null,null,null,null,null,null,null,null,null,null,null,null,null,null,null,null,null,null,null,2191,"非住宅","その他",{"$f":"INDEX('係数表2-3'!$B:$K, 10 + QUOTIENT(ROW(AL2121)-2, 10), 1 + MOD(ROW(AL2121)-2, 10))","v":0}]
[null,null,null,null,null,null,null,null,null,null,null,null,null,null,null,null,null,null,null,null,null,null,null,null,null,null,null,null,null,null,null,null,null,null,2192,"住宅","その他",{"$f":"INDEX('係数表2-3'!$B:$K, 10 + QUOTIENT(ROW(AL2126)-2, 10), 1 + MOD(ROW(AL2126)-2, 10))","v":0}]
[null,null,null,null,null,null,null,null,null,null,null,null,null,null,null,null,null,null,null,null,null,null,null,null,null,null,null,null,null,null,null,null,null,null,2192,"非住宅","その他",{"$f":"INDEX('係数表2-3'!$B:$K, 10 + QUOTIENT(ROW(AL2131)-2, 10), 1 + MOD(ROW(AL2131)-2, 10))","v":0}]
[null,null,null,null,null,null,null,null,null,null,null,null,null,null,null,null,null,null,null,null,null,null,null,null,null,null,null,null,null,null,null,null,null,null,2193,"住宅","その他",{"$f":"INDEX('係数表2-3'!$B:$K, 10 + QUOTIENT(ROW(AL2136)-2, 10), 1 + MOD(ROW(AL2136)-2, 10))","v":0}]
[null,null,null,null,null,null,null,null,null,null,null,null,null,null,null,null,null,null,null,null,null,null,null,null,null,null,null,null,null,null,null,null,null,null,2193,"非住宅","木造",{"$f":"INDEX('係数表2-3'!$B:$K, 10 + QUOTIENT(ROW(AL2137)-2, 10), 1 + MOD(ROW(AL2137)-2, 10))","v":0}]
[null,null,null,null,null,null,null,null,null,null,null,null,null,null,null,null,null,null,null,null,null,null,null,null,null,null,null,null,null,null,null,null,null,null,2194,"住宅","木造",{"$f":"INDEX('係数表2-3'!$B:$K, 10 + QUOTIENT(ROW(AL2142)-2, 10), 1 + MOD(ROW(AL2142)-2, 10))","v":0}]
[null,null,null,null,null,null,null,null,null,null,null,null,null,null,null,null,null,null,null,null,null,null,null,null,null,null,null,null,null,null,null,null,null,null,2194,"非住宅","木造",{"$f":"INDEX('係数表2-3'!$B:$K, 10 + QUOTIENT(ROW(AL2147)-2, 10), 1 + MOD(ROW(AL2147)-2, 10))","v":0}]
[null,null,null,null,null,null,null,null,null,null,null,null,null,null,null,null,null,null,null,null,null,null,null,null,null,null,null,null,null,null,null,null,null,null,2195,"住宅","木造",{"$f":"INDEX('係数表2-3'!$B:$K, 10 + QUOTIENT(ROW(AL2152)-2, 10), 1 + MOD(ROW(AL2152)-2, 10))","v":0}]
[null,null,null,null,null,null,null,null,null,null,null,null,null,null,null,null,null,null,null,null,null,null,null,null,null,null,null,null,null,null,null,null,null,null,2195,"住宅","SRC造",{"$f":"INDEX('係数表2-3'!$B:$K, 10 + QUOTIENT(ROW(AL2153)-2, 10), 1 + MOD(ROW(AL2153)-2, 10))","v":0}]
[null,null,null,null,null,null,null,null,null,null,null,null,null,null,null,null,null,null,null,null,null,null,null,null,null,null,null,null,null,null,null,null,null,null,2195,"非住宅","SRC造",{"$f":"INDEX('係数表2-3'!$B:$K, 10 + QUOTIENT(ROW(AL2158)-2, 10), 1 + MOD(ROW(AL2158)-2, 10))","v":0}]
[null,null,null,null,null,null,null,null,null,null,null,null,null,null,null,null,null,null,null,null,null,null,null,null,null,null,null,null,null,null,null,null,null,null,2196,"住宅","SRC造",{"$f":"INDEX('係数表2-3'!$B:$K, 10 + QUOTIENT(ROW(AL2163)-2, 10), 1 + MOD(ROW(AL2163)-2, 10))","v":0}]
[null,null,null,null,null,null,null,null,null,null,null,null,null,null,null,null,null,null,null,null,null,null,null,null,null,null,null,null,null,null,null,null,null,null,2196,"非住宅","SRC造",{"$f":"INDEX('係数表2-3'!$B:$K, 10 + QUOTIENT(ROW(AL2168)-2, 10), 1 + MOD(ROW(AL2168)-2, 10))","v":0}]
[null,null,null,null,null,null,null,null,null,null,null,null,null,null,null,null,null,null,null,null,null,null,null,null,null,null,null,null,null,null,null,null,null,null,2196,"非住宅","RC造",{"$f":"INDEX('係数表2-3'!$B:$K, 10 + QUOTIENT(ROW(AL2169)-2, 10), 1 + MOD(ROW(AL2169)-2, 10))","v":0}]
[null,null,null,null,null,null,null,null,null,null,null,null,null,null,null,null,null,null,null,null,null,null,null,null,null,null,null,null,null,null,null,null,null,null,2197,"住宅","RC造",{"$f":"INDEX('係数表2-3'!$B:$K, 10 + QUOTIENT(ROW(AL2174)-2, 10), 1 + MOD(ROW(AL2174)-2, 10))","v":0}]
[null,null,null,null,null,null,null,null,null,null,null,null,null,null,null,null,null,null,null,null,null,null,null,null,null,null,null,null,null,null,null,null,null,null,2197,"非住宅","RC造",{"$f":"INDEX('係数表2-3'!$B:$K, 10 + QUOTIENT(ROW(AL2179)-2, 10), 1 + MOD(ROW(AL2179)-2, 10))","v":0}]
[null,null,null,null,null,null,null,null,null,null,null,null,null,null,null,null,null,null,null,null,null,null,null,null,null,null,null,null,null,null,null,null,null,null,2198,"住宅","RC造",{"$f":"INDEX('係数表2-3'!$B:$K, 10 + QUOTIENT(ROW(AL2184)-2, 10), 1 + MOD(ROW(AL2184)-2, 10))","v":0}]
[null,null,null,null,null,null,null,null,null,null,null,null,null,null,null,null,null,null,null,null,null,null,null,null,null,null,null,null,null,null,null,null,null,null,2198,"住宅","S造",{"$f":"INDEX('係数表2-3'!$B:$K, 10 + QUOTIENT(ROW(AL2185)-2, 10), 1 + MOD(ROW(AL2185)-2, 10))","v":0}]
[null,null,null,null,null,null,null,null,null,null,null,null,null,null,null,null,null,null,null,null,null,null,null,null,null,null,null,null,null,null,null,null,null,null,2198,"非住宅","S造",{"$f":"INDEX('係数表2-3'!$B:$K, 10 + QUOTIENT(ROW(AL2190)-2, 10), 1 + MOD(ROW(AL2190)-2, 10))","v":0}]
[null,null,null,null,null,null,null,null,null,null,null,null,null,null,null,null,null,null,null,null,null,null,null,null,null,null,null,null,null,null,null,null,null,null,2199,"住宅","S造",{"$f":"INDEX('係数表2-3'!$B:$K, 10 + QUOTIENT(ROW(AL2195)-2, 10), 1 + MOD(ROW(AL2195)-2, 10))","v":0}]
[null,null,null,null,null,null,null,null,null,null,null,null,null,null,null,null,null,null,null,null,null,null,null,null,null,null,null,null,null,null,null,null,null,null,2199,"非住宅","S造",{"$f":"INDEX('係数表2-3'!$B:$K, 10 + QUOTIENT(ROW(AL2200)-2, 10), 1 + MOD(ROW(AL2200)-2, 10))","v":0}]
[null,null,null,null,null,null,null,null,null,null,null,null,null,null,null,null,null,null,null,null,null,null,null,null,null,null,null,null,null,null,null,null,null,null,2199,"非住宅","その他",{"$f":"INDEX('係数表2-3'!$B:$K, 10 + QUOTIENT(ROW(AL2201)-2, 10), 1 + MOD(ROW(AL2201)-2, 10))","v":0}]
[null,null,null,null,null,null,null,null,null,null,null,null,null,null,null,null,null,null,null,null,null,null,null,null,null,null,null,null,null,null,null,null,null,null,2200,"住宅","その他",{"$f":"INDEX('係数表2-3'!$B:$K, 10 + QUOTIENT(ROW(AL2206)-2, 10), 1 + MOD(ROW(AL2206)-2, 10))","v":0}]
[null,null,null,null,null,null,null,null,null,null,null,null,null,null,null,null,null,null,null,null,null,null,null,null,null,null,null,null,null,null,null,null,null,null,2200,"非住宅","その他",{"$f":"INDEX('係数表2-3'!$B:$K, 10 + QUOTIENT(ROW(AL2211)-2, 10), 1 + MOD(ROW(AL2211)-2, 10))","v":0}]
[null,null,null,null,null,null,null,null,null,null,null,null,null,null,null,null,null,null,null,null,null,null,null,null,null,null,null,null,null,null,null,null,null,null,2201,"住宅","その他",{"$f":"INDEX('係数表2-3'!$B:$K, 10 + QUOTIENT(ROW(AL2216)-2, 10), 1 + MOD(ROW(AL2216)-2, 10))","v":0}]
[null,null,null,null,null,null,null,null,null,null,null,null,null,null,null,null,null,null,null,null,null,null,null,null,null,null,null,null,null,null,null,null,null,null,2201,"非住宅","SRC造",{"$f":"INDEX('係数表2-3'!$B:$K, 10 + QUOTIENT(ROW(AL2218)-2, 10), 1 + MOD(ROW(AL2218)-2, 10))","v":0}]
[null,null,null,null,null,null,null,null,null,null,null,null,null,null,null,null,null,null,null,null,null,null,null,null,null,null,null,null,null,null,null,null,null,null,2201,"非住宅","その他",{"$f":"INDEX('係数表2-3'!$B:$K, 10 + QUOTIENT(ROW(AL2221)-2, 10), 1 + MOD(ROW(AL2221)-2, 10))","v":0}]
[null,null,null,null,null,null,null,null,null,null,null,null,null,null,null,null,null,null,null,null,null,null,null,null,null,null,null,null,null,null,null,null,null,null,2202,"住宅","その他",{"$f":"INDEX('係数表2-3'!$B:$K, 10 + QUOTIENT(ROW(AL2226)-2, 10), 1 + MOD(ROW(AL2226)-2, 10))","v":0}]
[null,null,null,null,null,null,null,null,null,null,null,null,null,null,null,null,null,null,null,null,null,null,null,null,null,null,null,null,null,null,null,null,null,null,2202,"非住宅","その他",{"$f":"INDEX('係数表2-3'!$B:$K, 10 + QUOTIENT(ROW(AL2231)-2, 10), 1 + MOD(ROW(AL2231)-2, 10))","v":0}]
[null,null,null,null,null,null,null,null,null,null,null,null,null,null,null,null,null,null,null,null,null,null,null,null,null,null,null,null,null,null,null,null,null,null,2203,"住宅","木造",{"$f":"INDEX('係数表2-3'!$B:$K, 10 + QUOTIENT(ROW(AL2232)-2, 10), 1 + MOD(ROW(AL2232)-2, 10))","v":0}]
[null,null,null,null,null,null,null,null,null,null,null,null,null,null,null,null,null,null,null,null,null,null,null,null,null,null,null,null,null,null,null,null,null,null,2203,"非住宅","木造",{"$f":"INDEX('係数表2-3'!$B:$K, 10 + QUOTIENT(ROW(AL2237)-2, 10), 1 + MOD(ROW(AL2237)-2, 10))","v":0}]
[null,null,null,null,null,null,null,null,null,null,null,null,null,null,null,null,null,null,null,null,null,null,null,null,null,null,null,null,null,null,null,null,null,null,2204,"住宅","木造",{"$f":"INDEX('係数表2-3'!$B:$K, 10 + QUOTIENT(ROW(AL2242)-2, 10), 1 + MOD(ROW(AL2242)-2, 10))","v":0}]
[null,null,null,null,null,null,null,null,null,null,null,null,null,null,null,null,null,null,null,null,null,null,null,null,null,null,null,null,null,null,null,null,null,null,2204,"非住宅","木造",{"$f":"INDEX('係数表2-3'!$B:$K, 10 + QUOTIENT(ROW(AL2247)-2, 10), 1 + MOD(ROW(AL2247)-2, 10))","v":0}]
[null,null,null,null,null,null,null,null,null,null,null,null,null,null,null,null,null,null,null,null,null,null,null,null,null,null,null,null,null,null,null,null,null,null,2204,"非住宅","SRC造",{"$f":"INDEX('係数表2-3'!$B:$K, 10 + QUOTIENT(ROW(AL2248)-2, 10), 1 + MOD(ROW(AL2248)-2, 10))","v":0}]
[null,null,null,null,null,null,null,null,null,null,null,null,null,null,null,null,null,null,null,null,null,null,null,null,null,null,null,null,null,null,null,null,null,null,2205,"住宅","SRC造",{"$f":"INDEX('係数表2-3'!$B:$K, 10 + QUOTIENT(ROW(AL2253)-2, 10), 1 + MOD(ROW(AL2253)-2, 10))","v":0}]
[null,null,null,null,null,null,null,null,null,null,null,null,null,null,null,null,null,null,null,null,null,null,null,null,null,null,null,null,null,null,null,null,null,null,2205,"非住宅","SRC造",{"$f":"INDEX('係数表2-3'!$B:$K, 10 + QUOTIENT(ROW(AL2258)-2, 10), 1 + MOD(ROW(AL2258)-2, 10))","v":0}]
[null,null,null,null,null,null,null,null,null,null,null,null,null,null,null,null,null,null,null,null,null,null,null,null,null,null,null,null,null,null,null,null,null,null,2206,"住宅","SRC造",{"$f":"INDEX('係数表2-3'!$B:$K, 10 + QUOTIENT(ROW(AL2263)-2, 10), 1 + MOD(ROW(AL2263)-2, 10))","v":0}]
[null,null,null,null,null,null,null,null,null,null,null,null,null,null,null,null,null,null,null,null,null,null,null,null,null,null,null,null,null,null,null,null,null,null,2206,"住宅","RC造",{"$f":"INDEX('係数表2-3'!$B:$K, 10 + QUOTIENT(ROW(AL2264)-2, 10), 1 + MOD(ROW(AL2264)-2, 10))","v":0}]
[null,null,null,null,null,null,null,null,null,null,null,null,null,null,null,null,null,null,null,null,null,null,null,null,null,null,null,null,null,null,null,null,null,null,2206,"非住宅","RC造",{"$f":"INDEX('係数表2-3'!$B:$K, 10 + QUOTIENT(ROW(AL2269)-2, 10), 1 + MOD(ROW(AL2269)-2, 10))","v":0}]
[null,null,null,null,null,null,null,null,null,null,null,null,null,null,null,null,null,null,null,null,null,null,null,null,null,null,null,null,null,null,null,null,null,null,2207,"住宅","RC造",{"$f":"INDEX('係数表2-3'!$B:$K, 10 + QUOTIENT(ROW(AL2274)-2, 10), 1 + MOD(ROW(AL2274)-2, 10))","v":0}]
[null,null,null,null,null,null,null,null,null,null,null,null,null,null,null,null,null,null,null,null,null,null,null,null,null,null,null,null,null,null,null,null,null,null,2207,"非住宅","RC造",{"$f":"INDEX('係数表2-3'!$B:$K, 10 + QUOTIENT(ROW(AL2279)-2, 10), 1 + MOD(ROW(AL2279)-2, 10))","v":0}]
[null,null,null,null,null,null,null,null,null,null,null,null,null,null,null,null,null,null,null,null,null,null,null,null,null,null,null,null,null,null,null,null,null,null,2207,"非住宅","S造",{"$f":"INDEX('係数表2-3'!$B:$K, 10 + QUOTIENT(ROW(AL2280)-2, 10), 1 + MOD(ROW(AL2280)-2, 10))","v":0}]
[null,null,null,null,null,null,null,null,null,null,null,null,null,null,null,null,null,null,null,null,null,null,null,null,null,null,null,null,null,null,null,null,null,null,2208,"住宅","S造",{"$f":"INDEX('係数表2-3'!$B:$K, 10 + QUOTIENT(ROW(AL2285)-2, 10), 1 + MOD(ROW(AL2285)-2, 10))","v":0}]
[null,null,null,null,null,null,null,null,null,null,null,null,null,null,null,null,null,null,null,null,null,null,null,null,null,null,null,null,null,null,null,null,null,null,2208,"非住宅","S造",{"$f":"INDEX('係数表2-3'!$B:$K, 10 + QUOTIENT(ROW(AL2290)-2, 10), 1 + MOD(ROW(AL2290)-2, 10))","v":0}]
[null,null,null,null,null,null,null,null,null,null,null,null,null,null,null,null,null,null,null,null,null,null,null,null,null,null,null,null,null,null,null,null,null,null,2209,"住宅","S造",{"$f":"INDEX('係数表2-3'!$B:$K, 10 + QUOTIENT(ROW(AL2295)-2, 10), 1 + MOD(ROW(AL2295)-2, 10))","v":0}]
[null,null,null,null,null,null,null,null,null,null,null,null,null,null,null,null,null,null,null,null,null,null,null,null,null,null,null,null,null,null,null,null,null,null,2209,"住宅","その他",{"$f":"INDEX('係数表2-3'!$B:$K, 10 + QUOTIENT(ROW(AL2296)-2, 10), 1 + MOD(ROW(AL2296)-2, 10))","v":0}]
[null,null,null,null,null,null,null,null,null,null,null,null,null,null,null,null,null,null,null,null,null,null,null,null,null,null,null,null,null,null,null,null,null,null,2209,"非住宅","その他",{"$f":"INDEX('係数表2-3'!$B:$K, 10 + QUOTIENT(ROW(AL2301)-2, 10), 1 + MOD(ROW(AL2301)-2, 10))","v":0}]
[null,null,null,null,null,null,null,null,null,null,null,null,null,null,null,null,null,null,null,null,null,null,null,null,null,null,null,null,null,null,null,null,null,null,2210,"住宅","その他",{"$f":"INDEX('係数表2-3'!$B:$K, 10 + QUOTIENT(ROW(AL2306)-2, 10), 1 + MOD(ROW(AL2306)-2, 10))","v":0}]
[null,null,null,null,null,null,null,null,null,null,null,null,null,null,null,null,null,null,null,null,null,null,null,null,null,null,null,null,null,null,null,null,null,null,2210,"非住宅","その他",{"$f":"INDEX('係数表2-3'!$B:$K, 10 + QUOTIENT(ROW(AL2311)-2, 10), 1 + MOD(ROW(AL2311)-2, 10))","v":0}]
[null,null,null,null,null,null,null,null,null,null,null,null,null,null,null,null,null,null,null,null,null,null,null,null,null,null,null,null,null,null,null,null,null,null,2211,"住宅","木造",{"$f":"INDEX('係数表2-3'!$B:$K, 10 + QUOTIENT(ROW(AL2312)-2, 10), 1 + MOD(ROW(AL2312)-2, 10))","v":0}]
[null,null,null,null,null,null,null,null,null,null,null,null,null,null,null,null,null,null,null,null,null,null,null,null,null,null,null,null,null,null,null,null,null,null,2211,"非住宅","木造",{"$f":"INDEX('係数表2-3'!$B:$K, 10 + QUOTIENT(ROW(AL2317)-2, 10), 1 + MOD(ROW(AL2317)-2, 10))","v":0}]
[null,null,null,null,null,null,null,null,null,null,null,null,null,null,null,null,null,null,null,null,null,null,null,null,null,null,null,null,null,null,null,null,null,null,2212,"住宅","木造",{"$f":"INDEX('係数表2-3'!$B:$K, 10 + QUOTIENT(ROW(AL2322)-2, 10), 1 + MOD(ROW(AL2322)-2, 10))","v":0}]
[null,null,null,null,null,null,null,null,null,null,null,null,null,null,null,null,null,null,null,null,null,null,null,null,null,null,null,null,null,null,null,null,null,null,2212,"住宅","その他",{"$f":"INDEX('係数表2-3'!$B:$K, 10 + QUOTIENT(ROW(AL2326)-2, 10), 1 + MOD(ROW(AL2326)-2, 10))","v":0}]
[null,null,null,null,null,null,null,null,null,null,null,null,null,null,null,null,null,null,null,null,null,null,null,null,null,null,null,null,null,null,null,null,null,null,2212,"非住宅","木造",{"$f":"INDEX('係数表2-3'!$B:$K, 10 + QUOTIENT(ROW(AL2327)-2, 10), 1 + MOD(ROW(AL2327)-2, 10))","v":0}]
[null,null,null,null,null,null,null,null,null,null,null,null,null,null,null,null,null,null,null,null,null,null,null,null,null,null,null,null,null,null,null,null,null,null,2213,"住宅","木造",{"$f":"INDEX('係数表2-3'!$B:$K, 10 + QUOTIENT(ROW(AL2332)-2, 10), 1 + MOD(ROW(AL2332)-2, 10))","v":0}]
[null,null,null,null,null,null,null,null,null,null,null,null,null,null,null,null,null,null,null,null,null,null,null,null,null,null,null,null,null,null,null,null,null,null,2213,"非住宅","木造",{"$f":"INDEX('係数表2-3'!$B:$K, 10 + QUOTIENT(ROW(AL2337)-2, 10), 1 + MOD(ROW(AL2337)-2, 10))","v":0}]
[null,null,null,null,null,null,null,null,null,null,null,null,null,null,null,null,null,null,null,null,null,null,null,null,null,null,null,null,null,null,null,null,null,null,2214,"住宅","木造",{"$f":"INDEX('係数表2-3'!$B:$K, 10 + QUOTIENT(ROW(AL2342)-2, 10), 1 + MOD(ROW(AL2342)-2, 10))","v":0}]
[null,null,null,null,null,null,null,null,null,null,null,null,null,null,null,null,null,null,null,null,null,null,null,null,null,null,null,null,null,null,null,null,null,null,2214,"住宅","SRC造",{"$f":"INDEX('係数表2-3'!$B:$K, 10 + QUOTIENT(ROW(AL2343)-2, 10), 1 + MOD(ROW(AL2343)-2, 10))","v":0}]
[null,null,null,null,null,null,null,null,null,null,null,null,null,null,null,null,null,null,null,null,null,null,null,null,null,null,null,null,null,null,null,null,null,null,2214,"非住宅","SRC造",{"$f":"INDEX('係数表2-3'!$B:$K, 10 + QUOTIENT(ROW(AL2348)-2, 10), 1 + MOD(ROW(AL2348)-2, 10))","v":0}]
[null,null,null,null,null,null,null,null,null,null,null,null,null,null,null,null,null,null,null,null,null,null,null,null,null,null,null,null,null,null,null,null,null,null,2215,"住宅","SRC造",{"$f":"INDEX('係数表2-3'!$B:$K, 10 + QUOTIENT(ROW(AL2353)-2, 10), 1 + MOD(ROW(AL2353)-2, 10))","v":0}]
[null,null,null,null,null,null,null,null,null,null,null,null,null,null,null,null,null,null,null,null,null,null,null,null,null,null,null,null,null,null,null,null,null,null,2215,"非住宅","SRC造",{"$f":"INDEX('係数表2-3'!$B:$K, 10 + QUOTIENT(ROW(AL2358)-2, 10), 1 + MOD(ROW(AL2358)-2, 10))","v":0}]
[null,null,null,null,null,null,null,null,null,null,null,null,null,null,null,null,null,null,null,null,null,null,null,null,null,null,null,null,null,null,null,null,null,null,2215,"非住宅","RC造",{"$f":"INDEX('係数表2-3'!$B:$K, 10 + QUOTIENT(ROW(AL2359)-2, 10), 1 + MOD(ROW(AL2359)-2, 10))","v":0}]
[null,null,null,null,null,null,null,null,null,null,null,null,null,null,null,null,null,null,null,null,null,null,null,null,null,null,null,null,null,null,null,null,null,null,2216,"住宅","RC造",{"$f":"INDEX('係数表2-3'!$B:$K, 10 + QUOTIENT(ROW(AL2364)-2, 10), 1 + MOD(ROW(AL2364)-2, 10))","v":0}]
[null,null,null,null,null,null,null,null,null,null,null,null,null,null,null,null,null,null,null,null,null,null,null,null,null,null,null,null,null,null,null,null,null,null,2216,"非住宅","RC造",{"$f":"INDEX('係数表2-3'!$B:$K, 10 + QUOTIENT(ROW(AL2369)-2, 10), 1 + MOD(ROW(AL2369)-2, 10))","v":0}]
[null,null,null,null,null,null,null,null,null,null,null,null,null,null,null,null,null,null,null,null,null,null,null,null,null,null,null,null,null,null,null,null,null,null,2217,"住宅","RC造",{"$f":"INDEX('係数表2-3'!$B:$K, 10 + QUOTIENT(ROW(AL2374)-2, 10), 1 + MOD(ROW(AL2374)-2, 10))","v":0}]
[null,null,null,null,null,null,null,null,null,null,null,null,null,null,null,null,null,null,null,null,null,null,null,null,null,null,null,null,null,null,null,null,null,null,2217,"住宅","S造",{"$f":"INDEX('係数表2-3'!$B:$K, 10 + QUOTIENT(ROW(AL2375)-2, 10), 1 + MOD(ROW(AL2375)-2, 10))","v":0}]
[null,null,null,null,null,null,null,null,null,null,null,null,null,null,null,null,null,null,null,null,null,null,null,null,null,null,null,null,null,null,null,null,null,null,2217,"非住宅","S造",{"$f":"INDEX('係数表2-3'!$B:$K, 10 + QUOTIENT(ROW(AL2380)-2, 10), 1 + MOD(ROW(AL2380)-2, 10))","v":0}]
[null,null,null,null,null,null,null,null,null,null,null,null,null,null,null,null,null,null,null,null,null,null,null,null,null,null,null,null,null,null,null,null,null,null,2218,"住宅","S造",{"$f":"INDEX('係数表2-3'!$B:$K, 10 + QUOTIENT(ROW(AL2385)-2, 10), 1 + MOD(ROW(AL2385)-2, 10))","v":0}]
[null,null,null,null,null,null,null,null,null,null,null,null,null,null,null,null,null,null,null,null,null,null,null,null,null,null,null,null,null,null,null,null,null,null,2218,"非住宅","S造",{"$f":"INDEX('係数表2-3'!$B:$K, 10 + QUOTIENT(ROW(AL2390)-2, 10), 1 + MOD(ROW(AL2390)-2, 10))","v":0}]
[null,null,null,null,null,null,null,null,null,null,null,null,null,null,null,null,null,null,null,null,null,null,null,null,null,null,null,null,null,null,null,null,null,null,2218,"非住宅","その他",{"$f":"INDEX('係数表2-3'!$B:$K, 10 + QUOTIENT(ROW(AL2391)-2, 10), 1 + MOD(ROW(AL2391)-2, 10))","v":0}]
[null,null,null,null,null,null,null,null,null,null,null,null,null,null,null,null,null,null,null,null,null,null,null,null,null,null,null,null,null,null,null,null,null,null,2219,"住宅","その他",{"$f":"INDEX('係数表2-3'!$B:$K, 10 + QUOTIENT(ROW(AL2396)-2, 10), 1 + MOD(ROW(AL2396)-2, 10))","v":0}]
[null,null,null,null,null,null,null,null,null,null,null,null,null,null,null,null,null,null,null,null,null,null,null,null,null,null,null,null,null,null,null,null,null,null,2219,"非住宅","その他",{"$f":"INDEX('係数表2-3'!$B:$K, 10 + QUOTIENT(ROW(AL2401)-2, 10), 1 + MOD(ROW(AL2401)-2, 10))","v":0}]
[null,null,null,null,null,null,null,null,null,null,null,null,null,null,null,null,null,null,null,null,null,null,null,null,null,null,null,null,null,null,null,null,null,null,2220,"住宅","その他",{"$f":"INDEX('係数表2-3'!$B:$K, 10 + QUOTIENT(ROW(AL2406)-2, 10), 1 + MOD(ROW(AL2406)-2, 10))","v":0}]
[null,null,null,null,null,null,null,null,null,null,null,null,null,null,null,null,null,null,null,null,null,null,null,null,null,null,null,null,null,null,null,null,null,null,2220,"非住宅","木造",{"$f":"INDEX('係数表2-3'!$B:$K, 10 + QUOTIENT(ROW(AL2407)-2, 10), 1 + MOD(ROW(AL2407)-2, 10))","v":0}]
[null,null,null,null,null,null,null,null,null,null,null,null,null,null,null,null,null,null,null,null,null,null,null,null,null,null,null,null,null,null,null,null,null,null,2221,"住宅","木造",{"$f":"INDEX('係数表2-3'!$B:$K, 10 + QUOTIENT(ROW(AL2412)-2, 10), 1 + MOD(ROW(AL2412)-2, 10))","v":0}]
[null,null,null,null,null,null,null,null,null,null,null,null,null,null,null,null,null,null,null,null,null,null,null,null,null,null,null,null,null,null,null,null,null,null,2221,"非住宅","木造",{"$f":"INDEX('係数表2-3'!$B:$K, 10 + QUOTIENT(ROW(AL2417)-2, 10), 1 + MOD(ROW(AL2417)-2, 10))","v":0}]
[null,null,null,null,null,null,null,null,null,null,null,null,null,null,null,null,null,null,null,null,null,null,null,null,null,null,null,null,null,null,null,null,null,null,2221,"非住宅","その他",{"$f":"INDEX('係数表2-3'!$B:$K, 10 + QUOTIENT(ROW(AL2421)-2, 10), 1 + MOD(ROW(AL2421)-2, 10))","v":0}]
[null,null,null,null,null,null,null,null,null,null,null,null,null,null,null,null,null,null,null,null,null,null,null,null,null,null,null,null,null,null,null,null,null,null,2222,"住宅","木造",{"$f":"INDEX('係数表2-3'!$B:$K, 10 + QUOTIENT(ROW(AL2422)-2, 10), 1 + MOD(ROW(AL2422)-2, 10))","v":0}]
[null,null,null,null,null,null,null,null,null,null,null,null,null,null,null,null,null,null,null,null,null,null,null,null,null,null,null,null,null,null,null,null,null,null,2222,"非住宅","木造",{"$f":"INDEX('係数表2-3'!$B:$K, 10 + QUOTIENT(ROW(AL2427)-2, 10), 1 + MOD(ROW(AL2427)-2, 10))","v":0}]
[null,null,null,null,null,null,null,null,null,null,null,null,null,null,null,null,null,null,null,null,null,null,null,null,null,null,null,null,null,null,null,null,null,null,2223,"住宅","木造",{"$f":"INDEX('係数表2-3'!$B:$K, 10 + QUOTIENT(ROW(AL2432)-2, 10), 1 + MOD(ROW(AL2432)-2, 10))","v":0}]
[null,null,null,null,null,null,null,null,null,null,null,null,null,null,null,null,null,null,null,null,null,null,null,null,null,null,null,null,null,null,null,null,null,null,2223,"非住宅","木造",{"$f":"INDEX('係数表2-3'!$B:$K, 10 + QUOTIENT(ROW(AL2437)-2, 10), 1 + MOD(ROW(AL2437)-2, 10))","v":0}]
[null,null,null,null,null,null,null,null,null,null,null,null,null,null,null,null,null,null,null,null,null,null,null,null,null,null,null,null,null,null,null,null,null,null,2223,"非住宅","SRC造",{"$f":"INDEX('係数表2-3'!$B:$K, 10 + QUOTIENT(ROW(AL2438)-2, 10), 1 + MOD(ROW(AL2438)-2, 10))","v":0}]
[null,null,null,null,null,null,null,null,null,null,null,null,null,null,null,null,null,null,null,null,null,null,null,null,null,null,null,null,null,null,null,null,null,null,2224,"住宅","SRC造",{"$f":"INDEX('係数表2-3'!$B:$K, 10 + QUOTIENT(ROW(AL2443)-2, 10), 1 + MOD(ROW(AL2443)-2, 10))","v":0}]
[null,null,null,null,null,null,null,null,null,null,null,null,null,null,null,null,null,null,null,null,null,null,null,null,null,null,null,null,null,null,null,null,null,null,2224,"非住宅","SRC造",{"$f":"INDEX('係数表2-3'!$B:$K, 10 + QUOTIENT(ROW(AL2448)-2, 10), 1 + MOD(ROW(AL2448)-2, 10))","v":0}]
[null,null,null,null,null,null,null,null,null,null,null,null,null,null,null,null,null,null,null,null,null,null,null,null,null,null,null,null,null,null,null,null,null,null,2225,"住宅","SRC造",{"$f":"INDEX('係数表2-3'!$B:$K, 10 + QUOTIENT(ROW(AL2453)-2, 10), 1 + MOD(ROW(AL2453)-2, 10))","v":0}]
[null,null,null,null,null,null,null,null,null,null,null,null,null,null,null,null,null,null,null,null,null,null,null,null,null,null,null,null,null,null,null,null,null,null,2225,"住宅","RC造",{"$f":"INDEX('係数表2-3'!$B:$K, 10 + QUOTIENT(ROW(AL2454)-2, 10), 1 + MOD(ROW(AL2454)-2, 10))","v":0}]
[null,null,null,null,null,null,null,null,null,null,null,null,null,null,null,null,null,null,null,null,null,null,null,null,null,null,null,null,null,null,null,null,null,null,2225,"非住宅","RC造",{"$f":"INDEX('係数表2-3'!$B:$K, 10 + QUOTIENT(ROW(AL2459)-2, 10), 1 + MOD(ROW(AL2459)-2, 10))","v":0}]
[null,null,null,null,null,null,null,null,null,null,null,null,null,null,null,null,null,null,null,null,null,null,null,null,null,null,null,null,null,null,null,null,null,null,2226,"住宅","RC造",{"$f":"INDEX('係数表2-3'!$B:$K, 10 + QUOTIENT(ROW(AL2464)-2, 10), 1 + MOD(ROW(AL2464)-2, 10))","v":0}]
[null,null,null,null,null,null,null,null,null,null,null,null,null,null,null,null,null,null,null,null,null,null,null,null,null,null,null,null,null,null,null,null,null,null,2226,"非住宅","RC造",{"$f":"INDEX('係数表2-3'!$B:$K, 10 + QUOTIENT(ROW(AL2469)-2, 10), 1 + MOD(ROW(AL2469)-2, 10))","v":0}]
[null,null,null,null,null,null,null,null,null,null,null,null,null,null,null,null,null,null,null,null,null,null,null,null,null,null,null,null,null,null,null,null,null,null,2226,"非住宅","S造",{"$f":"INDEX('係数表2-3'!$B:$K, 10 + QUOTIENT(ROW(AL2470)-2, 10), 1 + MOD(ROW(AL2470)-2, 10))","v":0}]
[null,null,null,null,null,null,null,null,null,null,null,null,null,null,null,null,null,null,null,null,null,null,null,null,null,null,null,null,null,null,null,null,null,null,2227,"住宅","S造",{"$f":"INDEX('係数表2-3'!$B:$K, 10 + QUOTIENT(ROW(AL2475)-2, 10), 1 + MOD(ROW(AL2475)-2, 10))","v":0}]
[null,null,null,null,null,null,null,null,null,null,null,null,null,null,null,null,null,null,null,null,null,null,null,null,null,null,null,null,null,null,null,null,null,null,2227,"非住宅","S造",{"$f":"INDEX('係数表2-3'!$B:$K, 10 + QUOTIENT(ROW(AL2480)-2, 10), 1 + MOD(ROW(AL2480)-2, 10))","v":0}]
[null,null,null,null,null,null,null,null,null,null,null,null,null,null,null,null,null,null,null,null,null,null,null,null,null,null,null,null,null,null,null,null,null,null,2228,"住宅","S造",{"$f":"INDEX('係数表2-3'!$B:$K, 10 + QUOTIENT(ROW(AL2485)-2, 10), 1 + MOD(ROW(AL2485)-2, 10))","v":0}]
[null,null,null,null,null,null,null,null,null,null,null,null,null,null,null,null,null,null,null,null,null,null,null,null,null,null,null,null,null,null,null,null,null,null,2228,"住宅","その他",{"$f":"INDEX('係数表2-3'!$B:$K, 10 + QUOTIENT(ROW(AL2486)-2, 10), 1 + MOD(ROW(AL2486)-2, 10))","v":0}]
[null,null,null,null,null,null,null,null,null,null,null,null,null,null,null,null,null,null,null,null,null,null,null,null,null,null,null,null,null,null,null,null,null,null,2228,"非住宅","その他",{"$f":"INDEX('係数表2-3'!$B:$K, 10 + QUOTIENT(ROW(AL2491)-2, 10), 1 + MOD(ROW(AL2491)-2, 10))","v":0}]
[null,null,null,null,null,null,null,null,null,null,null,null,null,null,null,null,null,null,null,null,null,null,null,null,null,null,null,null,null,null,null,null,null,null,2229,"住宅","その他",{"$f":"INDEX('係数表2-3'!$B:$K, 10 + QUOTIENT(ROW(AL2496)-2, 10), 1 + MOD(ROW(AL2496)-2, 10))","v":0}]
[null,null,null,null,null,null,null,null,null,null,null,null,null,null,null,null,null,null,null,null,null,null,null,null,null,null,null,null,null,null,null,null,null,null,2229,"非住宅","その他",{"$f":"INDEX('係数表2-3'!$B:$K, 10 + QUOTIENT(ROW(AL2501)-2, 10), 1 + MOD(ROW(AL2501)-2, 10))","v":0}]
[null,null,null,null,null,null,null,null,null,null,null,null,null,null,null,null,null,null,null,null,null,null,null,null,null,null,null,null,null,null,null,null,null,null,2230,"住宅","木造",{"$f":"INDEX('係数表2-3'!$B:$K, 10 + QUOTIENT(ROW(AL2502)-2, 10), 1 + MOD(ROW(AL2502)-2, 10))","v":0}]
[null,null,null,null,null,null,null,null,null,null,null,null,null,null,null,null,null,null,null,null,null,null,null,null,null,null,null,null,null,null,null,null,null,null,2230,"非住宅","木造",{"$f":"INDEX('係数表2-3'!$B:$K, 10 + QUOTIENT(ROW(AL2507)-2, 10), 1 + MOD(ROW(AL2507)-2, 10))","v":0}]
[null,null,null,null,null,null,null,null,null,null,null,null,null,null,null,null,null,null,null,null,null,null,null,null,null,null,null,null,null,null,null,null,null,null,2231,"住宅","木造",{"$f":"INDEX('係数表2-3'!$B:$K, 10 + QUOTIENT(ROW(AL2512)-2, 10), 1 + MOD(ROW(AL2512)-2, 10))","v":0}]
[null,null,null,null,null,null,null,null,null,null,null,null,null,null,null,null,null,null,null,null,null,null,null,null,null,null,null,null,null,null,null,null,null,null,2231,"非住宅","木造",{"$f":"INDEX('係数表2-3'!$B:$K, 10 + QUOTIENT(ROW(AL2517)-2, 10), 1 + MOD(ROW(AL2517)-2, 10))","v":0}]
[null,null,null,null,null,null,null,null,null,null,null,null,null,null,null,null,null,null,null,null,null,null,null,null,null,null,null,null,null,null,null,null,null,null,2231,"非住宅","SRC造",{"$f":"INDEX('係数表2-3'!$B:$K, 10 + QUOTIENT(ROW(AL2518)-2, 10), 1 + MOD(ROW(AL2518)-2, 10))","v":0}]
[null,null,null,null,null,null,null,null,null,null,null,null,null,null,null,null,null,null,null,null,null,null,null,null,null,null,null,null,null,null,null,null,null,null,2232,"住宅","木造",{"$f":"INDEX('係数表2-3'!$B:$K, 10 + QUOTIENT(ROW(AL2522)-2, 10), 1 + MOD(ROW(AL2522)-2, 10))","v":0}]
[null,null,null,null,null,null,null,null,null,null,null,null,null,null,null,null,null,null,null,null,null,null,null,null,null,null,null,null,null,null,null,null,null,null,2232,"非住宅","木造",{"$f":"INDEX('係数表2-3'!$B:$K, 10 + QUOTIENT(ROW(AL2527)-2, 10), 1 + MOD(ROW(AL2527)-2, 10))","v":0}]
[null,null,null,null,null,null,null,null,null,null,null,null,null,null,null,null,null,null,null,null,null,null,null,null,null,null,null,null,null,null,null,null,null,null,2233,"住宅","木造",{"$f":"INDEX('係数表2-3'!$B:$K, 10 + QUOTIENT(ROW(AL2532)-2, 10), 1 + MOD(ROW(AL2532)-2, 10))","v":0}]
[null,null,null,null,null,null,null,null,null,null,null,null,null,null,null,null,null,null,null,null,null,null,null,null,null,null,null,null,null,null,null,null,null,null,2233,"住宅","SRC造",{"$f":"INDEX('係数表2-3'!$B:$K, 10 + QUOTIENT(ROW(AL2533)-2, 10), 1 + MOD(ROW(AL2533)-2, 10))","v":0}]
[null,null,null,null,null,null,null,null,null,null,null,null,null,null,null,null,null,null,null,null,null,null,null,null,null,null,null,null,null,null,null,null,null,null,2233,"非住宅","SRC造",{"$f":"INDEX('係数表2-3'!$B:$K, 10 + QUOTIENT(ROW(AL2538)-2, 10), 1 + MOD(ROW(AL2538)-2, 10))","v":0}]
[null,null,null,null,null,null,null,null,null,null,null,null,null,null,null,null,null,null,null,null,null,null,null,null,null,null,null,null,null,null,null,null,null,null,2234,"住宅","SRC造",{"$f":"INDEX('係数表2-3'!$B:$K, 10 + QUOTIENT(ROW(AL2543)-2, 10), 1 + MOD(ROW(AL2543)-2, 10))","v":0}]
[null,null,null,null,null,null,null,null,null,null,null,null,null,null,null,null,null,null,null,null,null,null,null,null,null,null,null,null,null,null,null,null,null,null,2234,"非住宅","SRC造",{"$f":"INDEX('係数表2-3'!$B:$K, 10 + QUOTIENT(ROW(AL2548)-2, 10), 1 + MOD(ROW(AL2548)-2, 10))","v":0}]
[null,null,null,null,null,null,null,null,null,null,null,null,null,null,null,null,null,null,null,null,null,null,null,null,null,null,null,null,null,null,null,null,null,null,2234,"非住宅","RC造",{"$f":"INDEX('係数表2-3'!$B:$K, 10 + QUOTIENT(ROW(AL2549)-2, 10), 1 + MOD(ROW(AL2549)-2, 10))","v":0}]
[null,null,null,null,null,null,null,null,null,null,null,null,null,null,null,null,null,null,null,null,null,null,null,null,null,null,null,null,null,null,null,null,null,null,2235,"住宅","RC造",{"$f":"INDEX('係数表2-3'!$B:$K, 10 + QUOTIENT(ROW(AL2554)-2, 10), 1 + MOD(ROW(AL2554)-2, 10))","v":0}]
[null,null,null,null,null,null,null,null,null,null,null,null,null,null,null,null,null,null,null,null,null,null,null,null,null,null,null,null,null,null,null,null,null,null,2235,"非住宅","RC造",{"$f":"INDEX('係数表2-3'!$B:$K, 10 + QUOTIENT(ROW(AL2559)-2, 10), 1 + MOD(ROW(AL2559)-2, 10))","v":0}]
[null,null,null,null,null,null,null,null,null,null,null,null,null,null,null,null,null,null,null,null,null,null,null,null,null,null,null,null,null,null,null,null,null,null,2236,"住宅","RC造",{"$f":"INDEX('係数表2-3'!$B:$K, 10 + QUOTIENT(ROW(AL2564)-2, 10), 1 + MOD(ROW(AL2564)-2, 10))","v":0}]
[null,null,null,null,null,null,null,null,null,null,null,null,null,null,null,null,null,null,null,null,null,null,null,null,null,null,null,null,null,null,null,null,null,null,2236,"住宅","S造",{"$f":"INDEX('係数表2-3'!$B:$K, 10 + QUOTIENT(ROW(AL2565)-2, 10), 1 + MOD(ROW(AL2565)-2, 10))","v":0}]
[null,null,null,null,null,null,null,null,null,null,null,null,null,null,null,null,null,null,null,null,null,null,null,null,null,null,null,null,null,null,null,null,null,null,2236,"非住宅","S造",{"$f":"INDEX('係数表2-3'!$B:$K, 10 + QUOTIENT(ROW(AL2570)-2, 10), 1 + MOD(ROW(AL2570)-2, 10))","v":0}]
[null,null,null,null,null,null,null,null,null,null,null,null,null,null,null,null,null,null,null,null,null,null,null,null,null,null,null,null,null,null,null,null,null,null,2237,"住宅","S造",{"$f":"INDEX('係数表2-3'!$B:$K, 10 + QUOTIENT(ROW(AL2575)-2, 10), 1 + MOD(ROW(AL2575)-2, 10))","v":0}]
[null,null,null,null,null,null,null,null,null,null,null,null,null,null,null,null,null,null,null,null,null,null,null,null,null,null,null,null,null,null,null,null,null,null,2237,"非住宅","S造",{"$f":"INDEX('係数表2-3'!$B:$K, 10 + QUOTIENT(ROW(AL2580)-2, 10), 1 + MOD(ROW(AL2580)-2, 10))","v":0}]
[null,null,null,null,null,null,null,null,null,null,null,null,null,null,null,null,null,null,null,null,null,null,null,null,null,null,null,null,null,null,null,null,null,null,2237,"非住宅","その他",{"$f":"INDEX('係数表2-3'!$B:$K, 10 + QUOTIENT(ROW(AL2581)-2, 10), 1 + MOD(ROW(AL2581)-2, 10))","v":0}]
[null,null,null,null,null,null,null,null,null,null,null,null,null,null,null,null,null,null,null,null,null,null,null,null,null,null,null,null,null,null,null,null,null,null,2238,"住宅","その他",{"$f":"INDEX('係数表2-3'!$B:$K, 10 + QUOTIENT(ROW(AL2586)-2, 10), 1 + MOD(ROW(AL2586)-2, 10))","v":0}]
[null,null,null,null,null,null,null,null,null,null,null,null,null,null,null,null,null,null,null,null,null,null,null,null,null,null,null,null,null,null,null,null,null,null,2238,"非住宅","その他",{"$f":"INDEX('係数表2-3'!$B:$K, 10 + QUOTIENT(ROW(AL2591)-2, 10), 1 + MOD(ROW(AL2591)-2, 10))","v":0}]
[null,null,null,null,null,null,null,null,null,null,null,null,null,null,null,null,null,null,null,null,null,null,null,null,null,null,null,null,null,null,null,null,null,null,2239,"住宅","その他",{"$f":"INDEX('係数表2-3'!$B:$K, 10 + QUOTIENT(ROW(AL2596)-2, 10), 1 + MOD(ROW(AL2596)-2, 10))","v":0}]
[null,null,null,null,null,null,null,null,null,null,null,null,null,null,null,null,null,null,null,null,null,null,null,null,null,null,null,null,null,null,null,null,null,null,2239,"非住宅","木造",{"$f":"INDEX('係数表2-3'!$B:$K, 10 + QUOTIENT(ROW(AL2597)-2, 10), 1 + MOD(ROW(AL2597)-2, 10))","v":0}]
[null,null,null,null,null,null,null,null,null,null,null,null,null,null,null,null,null,null,null,null,null,null,null,null,null,null,null,null,null,null,null,null,null,null,2240,"住宅","木造",{"$f":"INDEX('係数表2-3'!$B:$K, 10 + QUOTIENT(ROW(AL2602)-2, 10), 1 + MOD(ROW(AL2602)-2, 10))","v":0}]
[null,null,null,null,null,null,null,null,null,null,null,null,null,null,null,null,null,null,null,null,null,null,null,null,null,null,null,null,null,null,null,null,null,null,2240,"非住宅","木造",{"$f":"INDEX('係数表2-3'!$B:$K, 10 + QUOTIENT(ROW(AL2607)-2, 10), 1 + MOD(ROW(AL2607)-2, 10))","v":0}]
[null,null,null,null,null,null,null,null,null,null,null,null,null,null,null,null,null,null,null,null,null,null,null,null,null,null,null,null,null,null,null,null,null,null,2241,"住宅","木造",{"$f":"INDEX('係数表2-3'!$B:$K, 10 + QUOTIENT(ROW(AL2612)-2, 10), 1 + MOD(ROW(AL2612)-2, 10))","v":0}]
[null,null,null,null,null,null,null,null,null,null,null,null,null,null,null,null,null,null,null,null,null,null,null,null,null,null,null,null,null,null,null,null,null,null,2241,"住宅","SRC造",{"$f":"INDEX('係数表2-3'!$B:$K, 10 + QUOTIENT(ROW(AL2613)-2, 10), 1 + MOD(ROW(AL2613)-2, 10))","v":0}]
[null,null,null,null,null,null,null,null,null,null,null,null,null,null,null,null,null,null,null,null,null,null,null,null,null,null,null,null,null,null,null,null,null,null,2241,"非住宅","SRC造",{"$f":"INDEX('係数表2-3'!$B:$K, 10 + QUOTIENT(ROW(AL2618)-2, 10), 1 + MOD(ROW(AL2618)-2, 10))","v":0}]
[null,null,null,null,null,null,null,null,null,null,null,null,null,null,null,null,null,null,null,null,null,null,null,null,null,null,null,null,null,null,null,null,null,null,2242,"住宅","SRC造",{"$f":"INDEX('係数表2-3'!$B:$K, 10 + QUOTIENT(ROW(AL2623)-2, 10), 1 + MOD(ROW(AL2623)-2, 10))","v":0}]
[null,null,null,null,null,null,null,null,null,null,null,null,null,null,null,null,null,null,null,null,null,null,null,null,null,null,null,null,null,null,null,null,null,null,2242,"住宅","その他",{"$f":"INDEX('係数表2-3'!$B:$K, 10 + QUOTIENT(ROW(AL2626)-2, 10), 1 + MOD(ROW(AL2626)-2, 10))","v":0}]
[null,null,null,null,null,null,null,null,null,null,null,null,null,null,null,null,null,null,null,null,null,null,null,null,null,null,null,null,null,null,null,null,null,null,2242,"非住宅","SRC造",{"$f":"INDEX('係数表2-3'!$B:$K, 10 + QUOTIENT(ROW(AL2628)-2, 10), 1 + MOD(ROW(AL2628)-2, 10))","v":0}]
[null,null,null,null,null,null,null,null,null,null,null,null,null,null,null,null,null,null,null,null,null,null,null,null,null,null,null,null,null,null,null,null,null,null,2243,"住宅","SRC造",{"$f":"INDEX('係数表2-3'!$B:$K, 10 + QUOTIENT(ROW(AL2633)-2, 10), 1 + MOD(ROW(AL2633)-2, 10))","v":0}]
[null,null,null,null,null,null,null,null,null,null,null,null,null,null,null,null,null,null,null,null,null,null,null,null,null,null,null,null,null,null,null,null,null,null,2243,"非住宅","SRC造",{"$f":"INDEX('係数表2-3'!$B:$K, 10 + QUOTIENT(ROW(AL2638)-2, 10), 1 + MOD(ROW(AL2638)-2, 10))","v":0}]
[null,null,null,null,null,null,null,null,null,null,null,null,null,null,null,null,null,null,null,null,null,null,null,null,null,null,null,null,null,null,null,null,null,null,2244,"住宅","SRC造",{"$f":"INDEX('係数表2-3'!$B:$K, 10 + QUOTIENT(ROW(AL2643)-2, 10), 1 + MOD(ROW(AL2643)-2, 10))","v":0}]
[null,null,null,null,null,null,null,null,null,null,null,null,null,null,null,null,null,null,null,null,null,null,null,null,null,null,null,null,null,null,null,null,null,null,2244,"住宅","RC造",{"$f":"INDEX('係数表2-3'!$B:$K, 10 + QUOTIENT(ROW(AL2644)-2, 10), 1 + MOD(ROW(AL2644)-2, 10))","v":0}]
[null,null,null,null,null,null,null,null,null,null,null,null,null,null,null,null,null,null,null,null,null,null,null,null,null,null,null,null,null,null,null,null,null,null,2244,"非住宅","RC造",{"$f":"INDEX('係数表2-3'!$B:$K, 10 + QUOTIENT(ROW(AL2649)-2, 10), 1 + MOD(ROW(AL2649)-2, 10))","v":0}]
[null,null,null,null,null,null,null,null,null,null,null,null,null,null,null,null,null,null,null,null,null,null,null,null,null,null,null,null,null,null,null,null,null,null,2245,"住宅","RC造",{"$f":"INDEX('係数表2-3'!$B:$K, 10 + QUOTIENT(ROW(AL2654)-2, 10), 1 + MOD(ROW(AL2654)-2, 10))","v":0}]
[null,null,null,null,null,null,null,null,null,null,null,null,null,null,null,null,null,null,null,null,null,null,null,null,null,null,null,null,null,null,null,null,null,null,2245,"非住宅","RC造",{"$f":"INDEX('係数表2-3'!$B:$K, 10 + QUOTIENT(ROW(AL2659)-2, 10), 1 + MOD(ROW(AL2659)-2, 10))","v":0}]
[null,null,null,null,null,null,null,null,null,null,null,null,null,null,null,null,null,null,null,null,null,null,null,null,null,null,null,null,null,null,null,null,null,null,2245,"非住宅","S造",{"$f":"INDEX('係数表2-3'!$B:$K, 10 + QUOTIENT(ROW(AL2660)-2, 10), 1 + MOD(ROW(AL2660)-2, 10))","v":0}]
[null,null,null,null,null,null,null,null,null,null,null,null,null,null,null,null,null,null,null,null,null,null,null,null,null,null,null,null,null,null,null,null,null,null,2246,"住宅","S造",{"$f":"INDEX('係数表2-3'!$B:$K, 10 + QUOTIENT(ROW(AL2665)-2, 10), 1 + MOD(ROW(AL2665)-2, 10))","v":0}]
[null,null,null,null,null,null,null,null,null,null,null,null,null,null,null,null,null,null,null,null,null,null,null,null,null,null,null,null,null,null,null,null,null,null,2246,"非住宅","S造",{"$f":"INDEX('係数表2-3'!$B:$K, 10 + QUOTIENT(ROW(AL2670)-2, 10), 1 + MOD(ROW(AL2670)-2, 10))","v":0}]
[null,null,null,null,null,null,null,null,null,null,null,null,null,null,null,null,null,null,null,null,null,null,null,null,null,null,null,null,null,null,null,null,null,null,2247,"住宅","S造",{"$f":"INDEX('係数表2-3'!$B:$K, 10 + QUOTIENT(ROW(AL2675)-2, 10), 1 + MOD(ROW(AL2675)-2, 10))","v":0}]
[null,null,null,null,null,null,null,null,null,null,null,null,null,null,null,null,null,null,null,null,null,null,null,null,null,null,null,null,null,null,null,null,null,null,2247,"住宅","その他",{"$f":"INDEX('係数表2-3'!$B:$K, 10 + QUOTIENT(ROW(AL2676)-2, 10), 1 + MOD(ROW(AL2676)-2, 10))","v":0}]
[null,null,null,null,null,null,null,null,null,null,null,null,null,null,null,null,null,null,null,null,null,null,null,null,null,null,null,null,null,null,null,null,null,null,2247,"非住宅","その他",{"$f":"INDEX('係数表2-3'!$B:$K, 10 + QUOTIENT(ROW(AL2681)-2, 10), 1 + MOD(ROW(AL2681)-2, 10))","v":0}]
[null,null,null,null,null,null,null,null,null,null,null,null,null,null,null,null,null,null,null,null,null,null,null,null,null,null,null,null,null,null,null,null,null,null,2248,"住宅","その他",{"$f":"INDEX('係数表2-3'!$B:$K, 10 + QUOTIENT(ROW(AL2686)-2, 10), 1 + MOD(ROW(AL2686)-2, 10))","v":0}]
[null,null,null,null,null,null,null,null,null,null,null,null,null,null,null,null,null,null,null,null,null,null,null,null,null,null,null,null,null,null,null,null,null,null,2248,"非住宅","その他",{"$f":"INDEX('係数表2-3'!$B:$K, 10 + QUOTIENT(ROW(AL2691)-2, 10), 1 + MOD(ROW(AL2691)-2, 10))","v":0}]
[null,null,null,null,null,null,null,null,null,null,null,null,null,null,null,null,null,null,null,null,null,null,null,null,null,null,null,null,null,null,null,null,null,null,2249,"住宅","木造",{"$f":"INDEX('係数表2-3'!$B:$K, 10 + QUOTIENT(ROW(AL2692)-2, 10), 1 + MOD(ROW(AL2692)-2, 10))","v":0}]
[null,null,null,null,null,null,null,null,null,null,null,null,null,null,null,null,null,null,null,null,null,null,null,null,null,null,null,null,null,null,null,null,null,null,2249,"非住宅","木造",{"$f":"INDEX('係数表2-3'!$B:$K, 10 + QUOTIENT(ROW(AL2697)-2, 10), 1 + MOD(ROW(AL2697)-2, 10))","v":0}]
[null,null,null,null,null,null,null,null,null,null,null,null,null,null,null,null,null,null,null,null,null,null,null,null,null,null,null,null,null,null,null,null,null,null,2250,"住宅","木造",{"$f":"INDEX('係数表2-3'!$B:$K, 10 + QUOTIENT(ROW(AL2702)-2, 10), 1 + MOD(ROW(AL2702)-2, 10))","v":0}]
[null,null,null,null,null,null,null,null,null,null,null,null,null,null,null,null,null,null,null,null,null,null,null,null,null,null,null,null,null,null,null,null,null,null,2250,"非住宅","木造",{"$f":"INDEX('係数表2-3'!$B:$K, 10 + QUOTIENT(ROW(AL2707)-2, 10), 1 + MOD(ROW(AL2707)-2, 10))","v":0}]
[null,null,null,null,null,null,null,null,null,null,null,null,null,null,null,null,null,null,null,null,null,null,null,null,null,null,null,null,null,null,null,null,null,null,2250,"非住宅","SRC造",{"$f":"INDEX('係数表2-3'!$B:$K, 10 + QUOTIENT(ROW(AL2708)-2, 10), 1 + MOD(ROW(AL2708)-2, 10))","v":0}]
[null,null,null,null,null,null,null,null,null,null,null,null,null,null,null,null,null,null,null,null,null,null,null,null,null,null,null,null,null,null,null,null,null,null,2251,"住宅","SRC造",{"$f":"INDEX('係数表2-3'!$B:$K, 10 + QUOTIENT(ROW(AL2713)-2, 10), 1 + MOD(ROW(AL2713)-2, 10))","v":0}]
[null,null,null,null,null,null,null,null,null,null,null,null,null,null,null,null,null,null,null,null,null,null,null,null,null,null,null,null,null,null,null,null,null,null,2251,"非住宅","SRC造",{"$f":"INDEX('係数表2-3'!$B:$K, 10 + QUOTIENT(ROW(AL2718)-2, 10), 1 + MOD(ROW(AL2718)-2, 10))","v":0}]
[null,null,null,null,null,null,null,null,null,null,null,null,null,null,null,null,null,null,null,null,null,null,null,null,null,null,null,null,null,null,null,null,null,null,2252,"住宅","SRC造",{"$f":"INDEX('係数表2-3'!$B:$K, 10 + QUOTIENT(ROW(AL2723)-2, 10), 1 + MOD(ROW(AL2723)-2, 10))","v":0}]
[null,null,null,null,null,null,null,null,null,null,null,null,null,null,null,null,null,null,null,null,null,null,null,null,null,null,null,null,null,null,null,null,null,null,2252,"住宅","その他",{"$f":"INDEX('係数表2-3'!$B:$K, 10 + QUOTIENT(ROW(AL2726)-2, 10), 1 + MOD(ROW(AL2726)-2, 10))","v":0}]
[null,null,null,null,null,null,null,null,null,null,null,null,null,null,null,null,null,null,null,null,null,null,null,null,null,null,null,null,null,null,null,null,null,null,2252,"非住宅","SRC造",{"$f":"INDEX('係数表2-3'!$B:$K, 10 + QUOTIENT(ROW(AL2728)-2, 10), 1 + MOD(ROW(AL2728)-2, 10))","v":0}]
[null,null,null,null,null,null,null,null,null,null,null,null,null,null,null,null,null,null,null,null,null,null,null,null,null,null,null,null,null,null,null,null,null,null,2253,"住宅","SRC造",{"$f":"INDEX('係数表2-3'!$B:$K, 10 + QUOTIENT(ROW(AL2733)-2, 10), 1 + MOD(ROW(AL2733)-2, 10))","v":0}]
[null,null,null,null,null,null,null,null,null,null,null,null,null,null,null,null,null,null,null,null,null,null,null,null,null,null,null,null,null,null,null,null,null,null,2253,"非住宅","SRC造",{"$f":"INDEX('係数表2-3'!$B:$K, 10 + QUOTIENT(ROW(AL2738)-2, 10), 1 + MOD(ROW(AL2738)-2, 10))","v":0}]
[null,null,null,null,null,null,null,null,null,null,null,null,null,null,null,null,null,null,null,null,null,null,null,null,null,null,null,null,null,null,null,null,null,null,2253,"非住宅","RC造",{"$f":"INDEX('係数表2-3'!$B:$K, 10 + QUOTIENT(ROW(AL2739)-2, 10), 1 + MOD(ROW(AL2739)-2, 10))","v":0}]
[null,null,null,null,null,null,null,null,null,null,null,null,null,null,null,null,null,null,null,null,null,null,null,null,null,null,null,null,null,null,null,null,null,null,2254,"住宅","RC造",{"$f":"INDEX('係数表2-3'!$B:$K, 10 + QUOTIENT(ROW(AL2744)-2, 10), 1 + MOD(ROW(AL2744)-2, 10))","v":0}]
[null,null,null,null,null,null,null,null,null,null,null,null,null,null,null,null,null,null,null,null,null,null,null,null,null,null,null,null,null,null,null,null,null,null,2254,"非住宅","RC造",{"$f":"INDEX('係数表2-3'!$B:$K, 10 + QUOTIENT(ROW(AL2749)-2, 10), 1 + MOD(ROW(AL2749)-2, 10))","v":0}]
[null,null,null,null,null,null,null,null,null,null,null,null,null,null,null,null,null,null,null,null,null,null,null,null,null,null,null,null,null,null,null,null,null,null,2255,"住宅","RC造",{"$f":"INDEX('係数表2-3'!$B:$K, 10 + QUOTIENT(ROW(AL2754)-2, 10), 1 + MOD(ROW(AL2754)-2, 10))","v":0}]
[null,null,null,null,null,null,null,null,null,null,null,null,null,null,null,null,null,null,null,null,null,null,null,null,null,null,null,null,null,null,null,null,null,null,2255,"住宅","S造",{"$f":"INDEX('係数表2-3'!$B:$K, 10 + QUOTIENT(ROW(AL2755)-2, 10), 1 + MOD(ROW(AL2755)-2, 10))","v":0}]
[null,null,null,null,null,null,null,null,null,null,null,null,null,null,null,null,null,null,null,null,null,null,null,null,null,null,null,null,null,null,null,null,null,null,2255,"非住宅","S造",{"$f":"INDEX('係数表2-3'!$B:$K, 10 + QUOTIENT(ROW(AL2760)-2, 10), 1 + MOD(ROW(AL2760)-2, 10))","v":0}]
[null,null,null,null,null,null,null,null,null,null,null,null,null,null,null,null,null,null,null,null,null,null,null,null,null,null,null,null,null,null,null,null,null,null,2256,"住宅","S造",{"$f":"INDEX('係数表2-3'!$B:$K, 10 + QUOTIENT(ROW(AL2765)-2, 10), 1 + MOD(ROW(AL2765)-2, 10))","v":0}]
[null,null,null,null,null,null,null,null,null,null,null,null,null,null,null,null,null,null,null,null,null,null,null,null,null,null,null,null,null,null,null,null,null,null,2256,"非住宅","S造",{"$f":"INDEX('係数表2-3'!$B:$K, 10 + QUOTIENT(ROW(AL2770)-2, 10), 1 + MOD(ROW(AL2770)-2, 10))","v":0}]
[null,null,null,null,null,null,null,null,null,null,null,null,null,null,null,null,null,null,null,null,null,null,null,null,null,null,null,null,null,null,null,null,null,null,2256,"非住宅","その他",{"$f":"INDEX('係数表2-3'!$B:$K, 10 + QUOTIENT(ROW(AL2771)-2, 10), 1 + MOD(ROW(AL2771)-2, 10))","v":0}]
[null,null,null,null,null,null,null,null,null,null,null,null,null,null,null,null,null,null,null,null,null,null,null,null,null,null,null,null,null,null,null,null,null,null,2257,"住宅","その他",{"$f":"INDEX('係数表2-3'!$B:$K, 10 + QUOTIENT(ROW(AL2776)-2, 10), 1 + MOD(ROW(AL2776)-2, 10))","v":0}]
[null,null,null,null,null,null,null,null,null,null,null,null,null,null,null,null,null,null,null,null,null,null,null,null,null,null,null,null,null,null,null,null,null,null,2257,"非住宅","その他",{"$f":"INDEX('係数表2-3'!$B:$K, 10 + QUOTIENT(ROW(AL2781)-2, 10), 1 + MOD(ROW(AL2781)-2, 10))","v":0}]
[null,null,null,null,null,null,null,null,null,null,null,null,null,null,null,null,null,null,null,null,null,null,null,null,null,null,null,null,null,null,null,null,null,null,2258,"住宅","その他",{"$f":"INDEX('係数表2-3'!$B:$K, 10 + QUOTIENT(ROW(AL2786)-2, 10), 1 + MOD(ROW(AL2786)-2, 10))","v":0}]
[null,null,null,null,null,null,null,null,null,null,null,null,null,null,null,null,null,null,null,null,null,null,null,null,null,null,null,null,null,null,null,null,null,null,2258,"非住宅","木造",{"$f":"INDEX('係数表2-3'!$B:$K, 10 + QUOTIENT(ROW(AL2787)-2, 10), 1 + MOD(ROW(AL2787)-2, 10))","v":0}]
[null,null,null,null,null,null,null,null,null,null,null,null,null,null,null,null,null,null,null,null,null,null,null,null,null,null,null,null,null,null,null,null,null,null,2259,"住宅","木造",{"$f":"INDEX('係数表2-3'!$B:$K, 10 + QUOTIENT(ROW(AL2792)-2, 10), 1 + MOD(ROW(AL2792)-2, 10))","v":0}]
[null,null,null,null,null,null,null,null,null,null,null,null,null,null,null,null,null,null,null,null,null,null,null,null,null,null,null,null,null,null,null,null,null,null,2259,"非住宅","木造",{"$f":"INDEX('係数表2-3'!$B:$K, 10 + QUOTIENT(ROW(AL2797)-2, 10), 1 + MOD(ROW(AL2797)-2, 10))","v":0}]
[null,null,null,null,null,null,null,null,null,null,null,null,null,null,null,null,null,null,null,null,null,null,null,null,null,null,null,null,null,null,null,null,null,null,2260,"住宅","木造",{"$f":"INDEX('係数表2-3'!$B:$K, 10 + QUOTIENT(ROW(AL2802)-2, 10), 1 + MOD(ROW(AL2802)-2, 10))","v":0}]
[null,null,null,null,null,null,null,null,null,null,null,null,null,null,null,null,null,null,null,null,null,null,null,null,null,null,null,null,null,null,null,null,null,null,2260,"住宅","SRC造",{"$f":"INDEX('係数表2-3'!$B:$K, 10 + QUOTIENT(ROW(AL2803)-2, 10), 1 + MOD(ROW(AL2803)-2, 10))","v":0}]
[null,null,null,null,null,null,null,null,null,null,null,null,null,null,null,null,null,null,null,null,null,null,null,null,null,null,null,null,null,null,null,null,null,null,2260,"非住宅","SRC造",{"$f":"INDEX('係数表2-3'!$B:$K, 10 + QUOTIENT(ROW(AL2808)-2, 10), 1 + MOD(ROW(AL2808)-2, 10))","v":0}]
[null,null,null,null,null,null,null,null,null,null,null,null,null,null,null,null,null,null,null,null,null,null,null,null,null,null,null,null,null,null,null,null,null,null,2261,"住宅","SRC造",{"$f":"INDEX('係数表2-3'!$B:$K, 10 + QUOTIENT(ROW(AL2813)-2, 10), 1 + MOD(ROW(AL2813)-2, 10))","v":0}]
[null,null,null,null,null,null,null,null,null,null,null,null,null,null,null,null,null,null,null,null,null,null,null,null,null,null,null,null,null,null,null,null,null,null,2261,"非住宅","SRC造",{"$f":"INDEX('係数表2-3'!$B:$K, 10 + QUOTIENT(ROW(AL2818)-2, 10), 1 + MOD(ROW(AL2818)-2, 10))","v":0}]
[null,null,null,null,null,null,null,null,null,null,null,null,null,null,null,null,null,null,null,null,null,null,null,null,null,null,null,null,null,null,null,null,null,null,2261,"非住宅","RC造",{"$f":"INDEX('係数表2-3'!$B:$K, 10 + QUOTIENT(ROW(AL2819)-2, 10), 1 + MOD(ROW(AL2819)-2, 10))","v":0}]
[null,null,null,null,null,null,null,null,null,null,null,null,null,null,null,null,null,null,null,null,null,null,null,null,null,null,null,null,null,null,null,null,null,null,2262,"住宅","RC造",{"$f":"INDEX('係数表2-3'!$B:$K, 10 + QUOTIENT(ROW(AL2824)-2, 10), 1 + MOD(ROW(AL2824)-2, 10))","v":0}]
[null,null,null,null,null,null,null,null,null,null,null,null,null,null,null,null,null,null,null,null,null,null,null,null,null,null,null,null,null,null,null,null,null,null,2262,"非住宅","木造",{"$f":"INDEX('係数表2-3'!$B:$K, 10 + QUOTIENT(ROW(AL2827)-2, 10), 1 + MOD(ROW(AL2827)-2, 10))","v":0}]
[null,null,null,null,null,null,null,null,null,null,null,null,null,null,null,null,null,null,null,null,null,null,null,null,null,null,null,null,null,null,null,null,null,null,2263,"住宅","SRC造",{"$f":"INDEX('係数表2-3'!$B:$K, 10 + QUOTIENT(ROW(AL2833)-2, 10), 1 + MOD(ROW(AL2833)-2, 10))","v":0}]
[null,null,null,null,null,null,null,null,null,null,null,null,null,null,null,null,null,null,null,null,null,null,null,null,null,null,null,null,null,null,null,null,null,null,2263,"住宅","RC造",{"$f":"INDEX('係数表2-3'!$B:$K, 10 + QUOTIENT(ROW(AL2834)-2, 10), 1 + MOD(ROW(AL2834)-2, 10))","v":0}]
[null,null,null,null,null,null,null,null,null,null,null,null,null,null,null,null,null,null,null,null,null,null,null,null,null,null,null,null,null,null,null,null,null,null,2263,"非住宅","RC造",{"$f":"INDEX('係数表2-3'!$B:$K, 10 + QUOTIENT(ROW(AL2839)-2, 10), 1 + MOD(ROW(AL2839)-2, 10))","v":0}]
[null,null,null,null,null,null,null,null,null,null,null,null,null,null,null,null,null,null,null,null,null,null,null,null,null,null,null,null,null,null,null,null,null,null,2264,"住宅","RC造",{"$f":"INDEX('係数表2-3'!$B:$K, 10 + QUOTIENT(ROW(AL2844)-2, 10), 1 + MOD(ROW(AL2844)-2, 10))","v":0}]
[null,null,null,null,null,null,null,null,null,null,null,null,null,null,null,null,null,null,null,null,null,null,null,null,null,null,null,null,null,null,null,null,null,null,2264,"非住宅","RC造",{"$f":"INDEX('係数表2-3'!$B:$K, 10 + QUOTIENT(ROW(AL2849)-2, 10), 1 + MOD(ROW(AL2849)-2, 10))","v":0}]
[null,null,null,null,null,null,null,null,null,null,null,null,null,null,null,null,null,null,null,null,null,null,null,null,null,null,null,null,null,null,null,null,null,null,2264,"非住宅","S造",{"$f":"INDEX('係数表2-3'!$B:$K, 10 + QUOTIENT(ROW(AL2850)-2, 10), 1 + MOD(ROW(AL2850)-2, 10))","v":0}]
[null,null,null,null,null,null,null,null,null,null,null,null,null,null,null,null,null,null,null,null,null,null,null,null,null,null,null,null,null,null,null,null,null,null,2265,"住宅","S造",{"$f":"INDEX('係数表2-3'!$B:$K, 10 + QUOTIENT(ROW(AL2855)-2, 10), 1 + MOD(ROW(AL2855)-2, 10))","v":0}]
[null,null,null,null,null,null,null,null,null,null,null,null,null,null,null,null,null,null,null,null,null,null,null,null,null,null,null,null,null,null,null,null,null,null,2265,"非住宅","S造",{"$f":"INDEX('係数表2-3'!$B:$K, 10 + QUOTIENT(ROW(AL2860)-2, 10), 1 + MOD(ROW(AL2860)-2, 10))","v":0}]
[null,null,null,null,null,null,null,null,null,null,null,null,null,null,null,null,null,null,null,null,null,null,null,null,null,null,null,null,null,null,null,null,null,null,2266,"住宅","S造",{"$f":"INDEX('係数表2-3'!$B:$K, 10 + QUOTIENT(ROW(AL2865)-2, 10), 1 + MOD(ROW(AL2865)-2, 10))","v":0}]
[null,null,null,null,null,null,null,null,null,null,null,null,null,null,null,null,null,null,null,null,null,null,null,null,null,null,null,null,null,null,null,null,null,null,2266,"住宅","その他",{"$f":"INDEX('係数表2-3'!$B:$K, 10 + QUOTIENT(ROW(AL2866)-2, 10), 1 + MOD(ROW(AL2866)-2, 10))","v":0}]
[null,null,null,null,null,null,null,null,null,null,null,null,null,null,null,null,null,null,null,null,null,null,null,null,null,null,null,null,null,null,null,null,null,null,2266,"非住宅","その他",{"$f":"INDEX('係数表2-3'!$B:$K, 10 + QUOTIENT(ROW(AL2871)-2, 10), 1 + MOD(ROW(AL2871)-2, 10))","v":0}]
[null,null,null,null,null,null,null,null,null,null,null,null,null,null,null,null,null,null,null,null,null,null,null,null,null,null,null,null,null,null,null,null,null,null,2267,"住宅","その他",{"$f":"INDEX('係数表2-3'!$B:$K, 10 + QUOTIENT(ROW(AL2876)-2, 10), 1 + MOD(ROW(AL2876)-2, 10))","v":0}]
[null,null,null,null,null,null,null,null,null,null,null,null,null,null,null,null,null,null,null,null,null,null,null,null,null,null,null,null,null,null,null,null,null,null,2267,"非住宅","その他",{"$f":"INDEX('係数表2-3'!$B:$K, 10 + QUOTIENT(ROW(AL2881)-2, 10), 1 + MOD(ROW(AL2881)-2, 10))","v":0}]
[null,null,null,null,null,null,null,null,null,null,null,null,null,null,null,null,null,null,null,null,null,null,null,null,null,null,null,null,null,null,null,null,null,null,2268,"住宅","木造",{"$f":"INDEX('係数表2-3'!$B:$K, 10 + QUOTIENT(ROW(AL2882)-2, 10), 1 + MOD(ROW(AL2882)-2, 10))","v":0}]
[null,null,null,null,null,null,null,null,null,null,null,null,null,null,null,null,null,null,null,null,null,null,null,null,null,null,null,null,null,null,null,null,null,null,2268,"非住宅","木造",{"$f":"INDEX('係数表2-3'!$B:$K, 10 + QUOTIENT(ROW(AL2887)-2, 10), 1 + MOD(ROW(AL2887)-2, 10))","v":0}]
[null,null,null,null,null,null,null,null,null,null,null,null,null,null,null,null,null,null,null,null,null,null,null,null,null,null,null,null,null,null,null,null,null,null,2269,"住宅","木造",{"$f":"INDEX('係数表2-3'!$B:$K, 10 + QUOTIENT(ROW(AL2892)-2, 10), 1 + MOD(ROW(AL2892)-2, 10))","v":0}]
[null,null,null,null,null,null,null,null,null,null,null,null,null,null,null,null,null,null,null,null,null,null,null,null,null,null,null,null,null,null,null,null,null,null,2269,"非住宅","木造",{"$f":"INDEX('係数表2-3'!$B:$K, 10 + QUOTIENT(ROW(AL2897)-2, 10), 1 + MOD(ROW(AL2897)-2, 10))","v":0}]
[null,null,null,null,null,null,null,null,null,null,null,null,null,null,null,null,null,null,null,null,null,null,null,null,null,null,null,null,null,null,null,null,null,null,2269,"非住宅","SRC造",{"$f":"INDEX('係数表2-3'!$B:$K, 10 + QUOTIENT(ROW(AL2898)-2, 10), 1 + MOD(ROW(AL2898)-2, 10))","v":0}]
[null,null,null,null,null,null,null,null,null,null,null,null,null,null,null,null,null,null,null,null,null,null,null,null,null,null,null,null,null,null,null,null,null,null,2270,"住宅","SRC造",{"$f":"INDEX('係数表2-3'!$B:$K, 10 + QUOTIENT(ROW(AL2903)-2, 10), 1 + MOD(ROW(AL2903)-2, 10))","v":0}]
[null,null,null,null,null,null,null,null,null,null,null,null,null,null,null,null,null,null,null,null,null,null,null,null,null,null,null,null,null,null,null,null,null,null,2270,"非住宅","SRC造",{"$f":"INDEX('係数表2-3'!$B:$K, 10 + QUOTIENT(ROW(AL2908)-2, 10), 1 + MOD(ROW(AL2908)-2, 10))","v":0}]
[null,null,null,null,null,null,null,null,null,null,null,null,null,null,null,null,null,null,null,null,null,null,null,null,null,null,null,null,null,null,null,null,null,null,2271,"住宅","SRC造",{"$f":"INDEX('係数表2-3'!$B:$K, 10 + QUOTIENT(ROW(AL2913)-2, 10), 1 + MOD(ROW(AL2913)-2, 10))","v":0}]
[null,null,null,null,null,null,null,null,null,null,null,null,null,null,null,null,null,null,null,null,null,null,null,null,null,null,null,null,null,null,null,null,null,null,2271,"住宅","RC造",{"$f":"INDEX('係数表2-3'!$B:$K, 10 + QUOTIENT(ROW(AL2914)-2, 10), 1 + MOD(ROW(AL2914)-2, 10))","v":0}]
[null,null,null,null,null,null,null,null,null,null,null,null,null,null,null,null,null,null,null,null,null,null,null,null,null,null,null,null,null,null,null,null,null,null,2271,"非住宅","RC造",{"$f":"INDEX('係数表2-3'!$B:$K, 10 + QUOTIENT(ROW(AL2919)-2, 10), 1 + MOD(ROW(AL2919)-2, 10))","v":0}]
[null,null,null,null,null,null,null,null,null,null,null,null,null,null,null,null,null,null,null,null,null,null,null,null,null,null,null,null,null,null,null,null,null,null,2272,"住宅","RC造",{"$f":"INDEX('係数表2-3'!$B:$K, 10 + QUOTIENT(ROW(AL2924)-2, 10), 1 + MOD(ROW(AL2924)-2, 10))","v":0}]
[null,null,null,null,null,null,null,null,null,null,null,null,null,null,null,null,null,null,null,null,null,null,null,null,null,null,null,null,null,null,null,null,null,null,2272,"非住宅","RC造",{"$f":"INDEX('係数表2-3'!$B:$K, 10 + QUOTIENT(ROW(AL2929)-2, 10), 1 + MOD(ROW(AL2929)-2, 10))","v":0}]
[null,null,null,null,null,null,null,null,null,null,null,null,null,null,null,null,null,null,null,null,null,null,null,null,null,null,null,null,null,null,null,null,null,null,2272,"非住宅","その他",{"$f":"INDEX('係数表2-3'!$B:$K, 10 + QUOTIENT(ROW(AL2931)-2, 10), 1 + MOD(ROW(AL2931)-2, 10))","v":0}]
[null,null,null,null,null,null,null,null,null,null,null,null,null,null,null,null,null,null,null,null,null,null,null,null,null,null,null,null,null,null,null,null,null,null,2273,"住宅","RC造",{"$f":"INDEX('係数表2-3'!$B:$K, 10 + QUOTIENT(ROW(AL2934)-2, 10), 1 + MOD(ROW(AL2934)-2, 10))","v":0}]
[null,null,null,null,null,null,null,null,null,null,null,null,null,null,null,null,null,null,null,null,null,null,null,null,null,null,null,null,null,null,null,null,null,null,2273,"非住宅","RC造",{"$f":"INDEX('係数表2-3'!$B:$K, 10 + QUOTIENT(ROW(AL2939)-2, 10), 1 + MOD(ROW(AL2939)-2, 10))","v":0}]
[null,null,null,null,null,null,null,null,null,null,null,null,null,null,null,null,null,null,null,null,null,null,null,null,null,null,null,null,null,null,null,null,null,null,2274,"住宅","RC造",{"$f":"INDEX('係数表2-3'!$B:$K, 10 + QUOTIENT(ROW(AL2944)-2, 10), 1 + MOD(ROW(AL2944)-2, 10))","v":0}]
[null,null,null,null,null,null,null,null,null,null,null,null,null,null,null,null,null,null,null,null,null,null,null,null,null,null,null,null,null,null,null,null,null,null,2274,"住宅","S造",{"$f":"INDEX('係数表2-3'!$B:$K, 10 + QUOTIENT(ROW(AL2945)-2, 10), 1 + MOD(ROW(AL2945)-2, 10))","v":0}]
[null,null,null,null,null,null,null,null,null,null,null,null,null,null,null,null,null,null,null,null,null,null,null,null,null,null,null,null,null,null,null,null,null,null,2274,"非住宅","S造",{"$f":"INDEX('係数表2-3'!$B:$K, 10 + QUOTIENT(ROW(AL2950)-2, 10), 1 + MOD(ROW(AL2950)-2, 10))","v":0}]
[null,null,null,null,null,null,null,null,null,null,null,null,null,null,null,null,null,null,null,null,null,null,null,null,null,null,null,null,null,null,null,null,null,null,2275,"住宅","S造",{"$f":"INDEX('係数表2-3'!$B:$K, 10 + QUOTIENT(ROW(AL2955)-2, 10), 1 + MOD(ROW(AL2955)-2, 10))","v":0}]
[null,null,null,null,null,null,null,null,null,null,null,null,null,null,null,null,null,null,null,null,null,null,null,null,null,null,null,null,null,null,null,null,null,null,2275,"非住宅","S造",{"$f":"INDEX('係数表2-3'!$B:$K, 10 + QUOTIENT(ROW(AL2960)-2, 10), 1 + MOD(ROW(AL2960)-2, 10))","v":0}]
[null,null,null,null,null,null,null,null,null,null,null,null,null,null,null,null,null,null,null,null,null,null,null,null,null,null,null,null,null,null,null,null,null,null,2275,"非住宅","その他",{"$f":"INDEX('係数表2-3'!$B:$K, 10 + QUOTIENT(ROW(AL2961)-2, 10), 1 + MOD(ROW(AL2961)-2, 10))","v":0}]
[null,null,null,null,null,null,null,null,null,null,null,null,null,null,null,null,null,null,null,null,null,null,null,null,null,null,null,null,null,null,null,null,null,null,2276,"住宅","その他",{"$f":"INDEX('係数表2-3'!$B:$K, 10 + QUOTIENT(ROW(AL2966)-2, 10), 1 + MOD(ROW(AL2966)-2, 10))","v":0}]
[null,null,null,null,null,null,null,null,null,null,null,null,null,null,null,null,null,null,null,null,null,null,null,null,null,null,null,null,null,null,null,null,null,null,2276,"非住宅","その他",{"$f":"INDEX('係数表2-3'!$B:$K, 10 + QUOTIENT(ROW(AL2971)-2, 10), 1 + MOD(ROW(AL2971)-2, 10))","v":0}]
[null,null,null,null,null,null,null,null,null,null,null,null,null,null,null,null,null,null,null,null,null,null,null,null,null,null,null,null,null,null,null,null,null,null,2277,"住宅","その他",{"$f":"INDEX('係数表2-3'!$B:$K, 10 + QUOTIENT(ROW(AL2976)-2, 10), 1 + MOD(ROW(AL2976)-2, 10))","v":0}]
[null,null,null,null,null,null,null,null,null,null,null,null,null,null,null,null,null,null,null,null,null,null,null,null,null,null,null,null,null,null,null,null,null,null,2277,"非住宅","木造",{"$f":"INDEX('係数表2-3'!$B:$K, 10 + QUOTIENT(ROW(AL2977)-2, 10), 1 + MOD(ROW(AL2977)-2, 10))","v":0}]
[null,null,null,null,null,null,null,null,null,null,null,null,null,null,null,null,null,null,null,null,null,null,null,null,null,null,null,null,null,null,null,null,null,null,2278,"住宅","木造",{"$f":"INDEX('係数表2-3'!$B:$K, 10 + QUOTIENT(ROW(AL2982)-2, 10), 1 + MOD(ROW(AL2982)-2, 10))","v":0}]
[null,null,null,null,null,null,null,null,null,null,null,null,null,null,null,null,null,null,null,null,null,null,null,null,null,null,null,null,null,null,null,null,null,null,2278,"非住宅","木造",{"$f":"INDEX('係数表2-3'!$B:$K, 10 + QUOTIENT(ROW(AL2987)-2, 10), 1 + MOD(ROW(AL2987)-2, 10))","v":0}]
[null,null,null,null,null,null,null,null,null,null,null,null,null,null,null,null,null,null,null,null,null,null,null,null,null,null,null,null,null,null,null,null,null,null,2279,"住宅","木造",{"$f":"INDEX('係数表2-3'!$B:$K, 10 + QUOTIENT(ROW(AL2992)-2, 10), 1 + MOD(ROW(AL2992)-2, 10))","v":0}]
[null,null,null,null,null,null,null,null,null,null,null,null,null,null,null,null,null,null,null,null,null,null,null,null,null,null,null,null,null,null,null,null,null,null,2279,"住宅","SRC造",{"$f":"INDEX('係数表2-3'!$B:$K, 10 + QUOTIENT(ROW(AL2993)-2, 10), 1 + MOD(ROW(AL2993)-2, 10))","v":0}]
[null,null,null,null,null,null,null,null,null,null,null,null,null,null,null,null,null,null,null,null,null,null,null,null,null,null,null,null,null,null,null,null,null,null,2279,"非住宅","SRC造",{"$f":"INDEX('係数表2-3'!$B:$K, 10 + QUOTIENT(ROW(AL2998)-2, 10), 1 + MOD(ROW(AL2998)-2, 10))","v":0}]
[null,null,null,null,null,null,null,null,null,null,null,null,null,null,null,null,null,null,null,null,null,null,null,null,null,null,null,null,null,null,null,null,null,null,2280,"住宅","SRC造",{"$f":"INDEX('係数表2-3'!$B:$K, 10 + QUOTIENT(ROW(AL3003)-2, 10), 1 + MOD(ROW(AL3003)-2, 10))","v":0}]
[null,null,null,null,null,null,null,null,null,null,null,null,null,null,null,null,null,null,null,null,null,null,null,null,null,null,null,null,null,null,null,null,null,null,2280,"非住宅","SRC造",{"$f":"INDEX('係数表2-3'!$B:$K, 10 + QUOTIENT(ROW(AL3008)-2, 10), 1 + MOD(ROW(AL3008)-2, 10))","v":0}]
[null,null,null,null,null,null,null,null,null,null,null,null,null,null,null,null,null,null,null,null,null,null,null,null,null,null,null,null,null,null,null,null,null,null,2280,"非住宅","RC造",{"$f":"INDEX('係数表2-3'!$B:$K, 10 + QUOTIENT(ROW(AL3009)-2, 10), 1 + MOD(ROW(AL3009)-2, 10))","v":0}]
[null,null,null,null,null,null,null,null,null,null,null,null,null,null,null,null,null,null,null,null,null,null,null,null,null,null,null,null,null,null,null,null,null,null,2281,"住宅","RC造",{"$f":"INDEX('係数表2-3'!$B:$K, 10 + QUOTIENT(ROW(AL3014)-2, 10), 1 + MOD(ROW(AL3014)-2, 10))","v":0}]
[null,null,null,null,null,null,null,null,null,null,null,null,null,null,null,null,null,null,null,null,null,null,null,null,null,null,null,null,null,null,null,null,null,null,2281,"非住宅","RC造",{"$f":"INDEX('係数表2-3'!$B:$K, 10 + QUOTIENT(ROW(AL3019)-2, 10), 1 + MOD(ROW(AL3019)-2, 10))","v":0}]
[null,null,null,null,null,null,null,null,null,null,null,null,null,null,null,null,null,null,null,null,null,null,null,null,null,null,null,null,null,null,null,null,null,null,2282,"住宅","RC造",{"$f":"INDEX('係数表2-3'!$B:$K, 10 + QUOTIENT(ROW(AL3024)-2, 10), 1 + MOD(ROW(AL3024)-2, 10))","v":0}]
[null,null,null,null,null,null,null,null,null,null,null,null,null,null,null,null,null,null,null,null,null,null,null,null,null,null,null,null,null,null,null,null,null,null,2282,"住宅","S造",{"$f":"INDEX('係数表2-3'!$B:$K, 10 + QUOTIENT(ROW(AL3025)-2, 10), 1 + MOD(ROW(AL3025)-2, 10))","v":0}]
[null,null,null,null,null,null,null,null,null,null,null,null,null,null,null,null,null,null,null,null,null,null,null,null,null,null,null,null,null,null,null,null,null,null,2282,"非住宅","S造",{"$f":"INDEX('係数表2-3'!$B:$K, 10 + QUOTIENT(ROW(AL3030)-2, 10), 1 + MOD(ROW(AL3030)-2, 10))","v":0}]
[null,null,null,null,null,null,null,null,null,null,null,null,null,null,null,null,null,null,null,null,null,null,null,null,null,null,null,null,null,null,null,null,null,null,2283,"住宅","RC造",{"$f":"INDEX('係数表2-3'!$B:$K, 10 + QUOTIENT(ROW(AL3034)-2, 10), 1 + MOD(ROW(AL3034)-2, 10))","v":0}]
[null,null,null,null,null,null,null,null,null,null,null,null,null,null,null,null,null,null,null,null,null,null,null,null,null,null,null,null,null,null,null,null,null,null,2283,"非住宅","RC造",{"$f":"INDEX('係数表2-3'!$B:$K, 10 + QUOTIENT(ROW(AL3039)-2, 10), 1 + MOD(ROW(AL3039)-2, 10))","v":0}]
[null,null,null,null,null,null,null,null,null,null,null,null,null,null,null,null,null,null,null,null,null,null,null,null,null,null,null,null,null,null,null,null,null,null,2283,"非住宅","S造",{"$f":"INDEX('係数表2-3'!$B:$K, 10 + QUOTIENT(ROW(AL3040)-2, 10), 1 + MOD(ROW(AL3040)-2, 10))","v":0}]
[null,null,null,null,null,null,null,null,null,null,null,null,null,null,null,null,null,null,null,null,null,null,null,null,null,null,null,null,null,null,null,null,null,null,2284,"住宅","S造",{"$f":"INDEX('係数表2-3'!$B:$K, 10 + QUOTIENT(ROW(AL3045)-2, 10), 1 + MOD(ROW(AL3045)-2, 10))","v":0}]
[null,null,null,null,null,null,null,null,null,null,null,null,null,null,null,null,null,null,null,null,null,null,null,null,null,null,null,null,null,null,null,null,null,null,2284,"非住宅","S造",{"$f":"INDEX('係数表2-3'!$B:$K, 10 + QUOTIENT(ROW(AL3050)-2, 10), 1 + MOD(ROW(AL3050)-2, 10))","v":0}]
[null,null,null,null,null,null,null,null,null,null,null,null,null,null,null,null,null,null,null,null,null,null,null,null,null,null,null,null,null,null,null,null,null,null,2285,"住宅","S造",{"$f":"INDEX('係数表2-3'!$B:$K, 10 + QUOTIENT(ROW(AL3055)-2, 10), 1 + MOD(ROW(AL3055)-2, 10))","v":0}]
[null,null,null,null,null,null,null,null,null,null,null,null,null,null,null,null,null,null,null,null,null,null,null,null,null,null,null,null,null,null,null,null,null,null,2285,"住宅","その他",{"$f":"INDEX('係数表2-3'!$B:$K, 10 + QUOTIENT(ROW(AL3056)-2, 10), 1 + MOD(ROW(AL3056)-2, 10))","v":0}]
[null,null,null,null,null,null,null,null,null,null,null,null,null,null,null,null,null,null,null,null,null,null,null,null,null,null,null,null,null,null,null,null,null,null,2285,"非住宅","その他",{"$f":"INDEX('係数表2-3'!$B:$K, 10 + QUOTIENT(ROW(AL3061)-2, 10), 1 + MOD(ROW(AL3061)-2, 10))","v":0}]
[null,null,null,null,null,null,null,null,null,null,null,null,null,null,null,null,null,null,null,null,null,null,null,null,null,null,null,null,null,null,null,null,null,null,2286,"住宅","その他",{"$f":"INDEX('係数表2-3'!$B:$K, 10 + QUOTIENT(ROW(AL3066)-2, 10), 1 + MOD(ROW(AL3066)-2, 10))","v":0}]
[null,null,null,null,null,null,null,null,null,null,null,null,null,null,null,null,null,null,null,null,null,null,null,null,null,null,null,null,null,null,null,null,null,null,2286,"非住宅","その他",{"$f":"INDEX('係数表2-3'!$B:$K, 10 + QUOTIENT(ROW(AL3071)-2, 10), 1 + MOD(ROW(AL3071)-2, 10))","v":0}]
[null,null,null,null,null,null,null,null,null,null,null,null,null,null,null,null,null,null,null,null,null,null,null,null,null,null,null,null,null,null,null,null,null,null,2287,"住宅","木造",{"$f":"INDEX('係数表2-3'!$B:$K, 10 + QUOTIENT(ROW(AL3072)-2, 10), 1 + MOD(ROW(AL3072)-2, 10))","v":0}]
[null,null,null,null,null,null,null,null,null,null,null,null,null,null,null,null,null,null,null,null,null,null,null,null,null,null,null,null,null,null,null,null,null,null,2287,"非住宅","木造",{"$f":"INDEX('係数表2-3'!$B:$K, 10 + QUOTIENT(ROW(AL3077)-2, 10), 1 + MOD(ROW(AL3077)-2, 10))","v":0}]
[null,null,null,null,null,null,null,null,null,null,null,null,null,null,null,null,null,null,null,null,null,null,null,null,null,null,null,null,null,null,null,null,null,null,2288,"住宅","木造",{"$f":"INDEX('係数表2-3'!$B:$K, 10 + QUOTIENT(ROW(AL3082)-2, 10), 1 + MOD(ROW(AL3082)-2, 10))","v":0}]
[null,null,null,null,null,null,null,null,null,null,null,null,null,null,null,null,null,null,null,null,null,null,null,null,null,null,null,null,null,null,null,null,null,null,2288,"非住宅","木造",{"$f":"INDEX('係数表2-3'!$B:$K, 10 + QUOTIENT(ROW(AL3087)-2, 10), 1 + MOD(ROW(AL3087)-2, 10))","v":0}]
[null,null,null,null,null,null,null,null,null,null,null,null,null,null,null,null,null,null,null,null,null,null,null,null,null,null,null,null,null,null,null,null,null,null,2288,"非住宅","SRC造",{"$f":"INDEX('係数表2-3'!$B:$K, 10 + QUOTIENT(ROW(AL3088)-2, 10), 1 + MOD(ROW(AL3088)-2, 10))","v":0}]
[null,null,null,null,null,null,null,null,null,null,null,null,null,null,null,null,null,null,null,null,null,null,null,null,null,null,null,null,null,null,null,null,null,null,2289,"住宅","SRC造",{"$f":"INDEX('係数表2-3'!$B:$K, 10 + QUOTIENT(ROW(AL3093)-2, 10), 1 + MOD(ROW(AL3093)-2, 10))","v":0}]
[null,null,null,null,null,null,null,null,null,null,null,null,null,null,null,null,null,null,null,null,null,null,null,null,null,null,null,null,null,null,null,null,null,null,2289,"非住宅","SRC造",{"$f":"INDEX('係数表2-3'!$B:$K, 10 + QUOTIENT(ROW(AL3098)-2, 10), 1 + MOD(ROW(AL3098)-2, 10))","v":0}]
[null,null,null,null,null,null,null,null,null,null,null,null,null,null,null,null,null,null,null,null,null,null,null,null,null,null,null,null,null,null,null,null,null,null,2290,"住宅","SRC造",{"$f":"INDEX('係数表2-3'!$B:$K, 10 + QUOTIENT(ROW(AL3103)-2, 10), 1 + MOD(ROW(AL3103)-2, 10))","v":0}]
[null,null,null,null,null,null,null,null,null,null,null,null,null,null,null,null,null,null,null,null,null,null,null,null,null,null,null,null,null,null,null,null,null,null,2290,"住宅","RC造",{"$f":"INDEX('係数表2-3'!$B:$K, 10 + QUOTIENT(ROW(AL3104)-2, 10), 1 + MOD(ROW(AL3104)-2, 10))","v":0}]
[null,null,null,null,null,null,null,null,null,null,null,null,null,null,null,null,null,null,null,null,null,null,null,null,null,null,null,null,null,null,null,null,null,null,2290,"非住宅","RC造",{"$f":"INDEX('係数表2-3'!$B:$K, 10 + QUOTIENT(ROW(AL3109)-2, 10), 1 + MOD(ROW(AL3109)-2, 10))","v":0}]
[null,null,null,null,null,null,null,null,null,null,null,null,null,null,null,null,null,null,null,null,null,null,null,null,null,null,null,null,null,null,null,null,null,null,2291,"住宅","RC造",{"$f":"INDEX('係数表2-3'!$B:$K, 10 + QUOTIENT(ROW(AL3114)-2, 10), 1 + MOD(ROW(AL3114)-2, 10))","v":0}]
[null,null,null,null,null,null,null,null,null,null,null,null,null,null,null,null,null,null,null,null,null,null,null,null,null,null,null,null,null,null,null,null,null,null,2291,"非住宅","RC造",{"$f":"INDEX('係数表2-3'!$B:$K, 10 + QUOTIENT(ROW(AL3119)-2, 10), 1 + MOD(ROW(AL3119)-2, 10))","v":0}]
[null,null,null,null,null,null,null,null,null,null,null,null,null,null,null,null,null,null,null,null,null,null,null,null,null,null,null,null,null,null,null,null,null,null,2291,"非住宅","S造",{"$f":"INDEX('係数表2-3'!$B:$K, 10 + QUOTIENT(ROW(AL3120)-2, 10), 1 + MOD(ROW(AL3120)-2, 10))","v":0}]
[null,null,null,null,null,null,null,null,null,null,null,null,null,null,null,null,null,null,null,null,null,null,null,null,null,null,null,null,null,null,null,null,null,null,2292,"住宅","S造",{"$f":"INDEX('係数表2-3'!$B:$K, 10 + QUOTIENT(ROW(AL3125)-2, 10), 1 + MOD(ROW(AL3125)-2, 10))","v":0}]
[null,null,null,null,null,null,null,null,null,null,null,null,null,null,null,null,null,null,null,null,null,null,null,null,null,null,null,null,null,null,null,null,null,null,2292,"非住宅","S造",{"$f":"INDEX('係数表2-3'!$B:$K, 10 + QUOTIENT(ROW(AL3130)-2, 10), 1 + MOD(ROW(AL3130)-2, 10))","v":0}]
[null,null,null,null,null,null,null,null,null,null,null,null,null,null,null,null,null,null,null,null,null,null,null,null,null,null,null,null,null,null,null,null,null,null,2293,"住宅","RC造",{"$f":"INDEX('係数表2-3'!$B:$K, 10 + QUOTIENT(ROW(AL3134)-2, 10), 1 + MOD(ROW(AL3134)-2, 10))","v":0}]
[null,null,null,null,null,null,null,null,null,null,null,null,null,null,null,null,null,null,null,null,null,null,null,null,null,null,null,null,null,null,null,null,null,null,2293,"住宅","S造",{"$f":"INDEX('係数表2-3'!$B:$K, 10 + QUOTIENT(ROW(AL3135)-2, 10), 1 + MOD(ROW(AL3135)-2, 10))","v":0}]
[null,null,null,null,null,null,null,null,null,null,null,null,null,null,null,null,null,null,null,null,null,null,null,null,null,null,null,null,null,null,null,null,null,null,2293,"非住宅","S造",{"$f":"INDEX('係数表2-3'!$B:$K, 10 + QUOTIENT(ROW(AL3140)-2, 10), 1 + MOD(ROW(AL3140)-2, 10))","v":0}]
[null,null,null,null,null,null,null,null,null,null,null,null,null,null,null,null,null,null,null,null,null,null,null,null,null,null,null,null,null,null,null,null,null,null,2294,"住宅","S造",{"$f":"INDEX('係数表2-3'!$B:$K, 10 + QUOTIENT(ROW(AL3145)-2, 10), 1 + MOD(ROW(AL3145)-2, 10))","v":0}]
[null,null,null,null,null,null,null,null,null,null,null,null,null,null,null,null,null,null,null,null,null,null,null,null,null,null,null,null,null,null,null,null,null,null,2294,"非住宅","S造",{"$f":"INDEX('係数表2-3'!$B:$K, 10 + QUOTIENT(ROW(AL3150)-2, 10), 1 + MOD(ROW(AL3150)-2, 10))","v":0}]
[null,null,null,null,null,null,null,null,null,null,null,null,null,null,null,null,null,null,null,null,null,null,null,null,null,null,null,null,null,null,null,null,null,null,2294,"非住宅","その他",{"$f":"INDEX('係数表2-3'!$B:$K, 10 + QUOTIENT(ROW(AL3151)-2, 10), 1 + MOD(ROW(AL3151)-2, 10))","v":0}]
[null,null,null,null,null,null,null,null,null,null,null,null,null,null,null,null,null,null,null,null,null,null,null,null,null,null,null,null,null,null,null,null,null,null,2295,"住宅","その他",{"$f":"INDEX('係数表2-3'!$B:$K, 10 + QUOTIENT(ROW(AL3156)-2, 10), 1 + MOD(ROW(AL3156)-2, 10))","v":0}]
[null,null,null,null,null,null,null,null,null,null,null,null,null,null,null,null,null,null,null,null,null,null,null,null,null,null,null,null,null,null,null,null,null,null,2295,"非住宅","その他",{"$f":"INDEX('係数表2-3'!$B:$K, 10 + QUOTIENT(ROW(AL3161)-2, 10), 1 + MOD(ROW(AL3161)-2, 10))","v":0}]
[null,null,null,null,null,null,null,null,null,null,null,null,null,null,null,null,null,null,null,null,null,null,null,null,null,null,null,null,null,null,null,null,null,null,2296,"住宅","その他",{"$f":"INDEX('係数表2-3'!$B:$K, 10 + QUOTIENT(ROW(AL3166)-2, 10), 1 + MOD(ROW(AL3166)-2, 10))","v":0}]
[null,null,null,null,null,null,null,null,null,null,null,null,null,null,null,null,null,null,null,null,null,null,null,null,null,null,null,null,null,null,null,null,null,null,2296,"非住宅","木造",{"$f":"INDEX('係数表2-3'!$B:$K, 10 + QUOTIENT(ROW(AL3167)-2, 10), 1 + MOD(ROW(AL3167)-2, 10))","v":0}]
[null,null,null,null,null,null,null,null,null,null,null,null,null,null,null,null,null,null,null,null,null,null,null,null,null,null,null,null,null,null,null,null,null,null,2297,"住宅","木造",{"$f":"INDEX('係数表2-3'!$B:$K, 10 + QUOTIENT(ROW(AL3172)-2, 10), 1 + MOD(ROW(AL3172)-2, 10))","v":0}]
[null,null,null,null,null,null,null,null,null,null,null,null,null,null,null,null,null,null,null,null,null,null,null,null,null,null,null,null,null,null,null,null,null,null,2297,"非住宅","木造",{"$f":"INDEX('係数表2-3'!$B:$K, 10 + QUOTIENT(ROW(AL3177)-2, 10), 1 + MOD(ROW(AL3177)-2, 10))","v":0}]
[null,null,null,null,null,null,null,null,null,null,null,null,null,null,null,null,null,null,null,null,null,null,null,null,null,null,null,null,null,null,null,null,null,null,2298,"住宅","木造",{"$f":"INDEX('係数表2-3'!$B:$K, 10 + QUOTIENT(ROW(AL3182)-2, 10), 1 + MOD(ROW(AL3182)-2, 10))","v":0}]
[null,null,null,null,null,null,null,null,null,null,null,null,null,null,null,null,null,null,null,null,null,null,null,null,null,null,null,null,null,null,null,null,null,null,2298,"住宅","SRC造",{"$f":"INDEX('係数表2-3'!$B:$K, 10 + QUOTIENT(ROW(AL3183)-2, 10), 1 + MOD(ROW(AL3183)-2, 10))","v":0}]
[null,null,null,null,null,null,null,null,null,null,null,null,null,null,null,null,null,null,null,null,null,null,null,null,null,null,null,null,null,null,null,null,null,null,2298,"非住宅","SRC造",{"$f":"INDEX('係数表2-3'!$B:$K, 10 + QUOTIENT(ROW(AL3188)-2, 10), 1 + MOD(ROW(AL3188)-2, 10))","v":0}]
[null,null,null,null,null,null,null,null,null,null,null,null,null,null,null,null,null,null,null,null,null,null,null,null,null,null,null,null,null,null,null,null,null,null,2299,"住宅","SRC造",{"$f":"INDEX('係数表2-3'!$B:$K, 10 + QUOTIENT(ROW(AL3193)-2, 10), 1 + MOD(ROW(AL3193)-2, 10))","v":0}]
[null,null,null,null,null,null,null,null,null,null,null,null,null,null,null,null,null,null,null,null,null,null,null,null,null,null,null,null,null,null,null,null,null,null,2299,"非住宅","SRC造",{"$f":"INDEX('係数表2-3'!$B:$K, 10 + QUOTIENT(ROW(AL3198)-2, 10), 1 + MOD(ROW(AL3198)-2, 10))","v":0}]
[null,null,null,null,null,null,null,null,null,null,null,null,null,null,null,null,null,null,null,null,null,null,null,null,null,null,null,null,null,null,null,null,null,null,2299,"非住宅","RC造",{"$f":"INDEX('係数表2-3'!$B:$K, 10 + QUOTIENT(ROW(AL3199)-2, 10), 1 + MOD(ROW(AL3199)-2, 10))","v":0}]
[null,null,null,null,null,null,null,null,null,null,null,null,null,null,null,null,null,null,null,null,null,null,null,null,null,null,null,null,null,null,null,null,null,null,2300,"住宅","RC造",{"$f":"INDEX('係数表2-3'!$B:$K, 10 + QUOTIENT(ROW(AL3204)-2, 10), 1 + MOD(ROW(AL3204)-2, 10))","v":0}]
[null,null,null,null,null,null,null,null,null,null,null,null,null,null,null,null,null,null,null,null,null,null,null,null,null,null,null,null,null,null,null,null,null,null,2300,"非住宅","RC造",{"$f":"INDEX('係数表2-3'!$B:$K, 10 + QUOTIENT(ROW(AL3209)-2, 10), 1 + MOD(ROW(AL3209)-2, 10))","v":0}]
[null,null,null,null,null,null,null,null,null,null,null,null,null,null,null,null,null,null,null,null,null,null,null,null,null,null,null,null,null,null,null,null,null,null,2301,"住宅","RC造",{"$f":"INDEX('係数表2-3'!$B:$K, 10 + QUOTIENT(ROW(AL3214)-2, 10), 1 + MOD(ROW(AL3214)-2, 10))","v":0}]
[null,null,null,null,null,null,null,null,null,null,null,null,null,null,null,null,null,null,null,null,null,null,null,null,null,null,null,null,null,null,null,null,null,null,2301,"住宅","S造",{"$f":"INDEX('係数表2-3'!$B:$K, 10 + QUOTIENT(ROW(AL3215)-2, 10), 1 + MOD(ROW(AL3215)-2, 10))","v":0}]
[null,null,null,null,null,null,null,null,null,null,null,null,null,null,null,null,null,null,null,null,null,null,null,null,null,null,null,null,null,null,null,null,null,null,2301,"非住宅","S造",{"$f":"INDEX('係数表2-3'!$B:$K, 10 + QUOTIENT(ROW(AL3220)-2, 10), 1 + MOD(ROW(AL3220)-2, 10))","v":0}]
[null,null,null,null,null,null,null,null,null,null,null,null,null,null,null,null,null,null,null,null,null,null,null,null,null,null,null,null,null,null,null,null,null,null,2302,"住宅","S造",{"$f":"INDEX('係数表2-3'!$B:$K, 10 + QUOTIENT(ROW(AL3225)-2, 10), 1 + MOD(ROW(AL3225)-2, 10))","v":0}]
[null,null,null,null,null,null,null,null,null,null,null,null,null,null,null,null,null,null,null,null,null,null,null,null,null,null,null,null,null,null,null,null,null,null,2302,"非住宅","S造",{"$f":"INDEX('係数表2-3'!$B:$K, 10 + QUOTIENT(ROW(AL3230)-2, 10), 1 + MOD(ROW(AL3230)-2, 10))","v":0}]
[null,null,null,null,null,null,null,null,null,null,null,null,null,null,null,null,null,null,null,null,null,null,null,null,null,null,null,null,null,null,null,null,null,null,2302,"非住宅","その他",{"$f":"INDEX('係数表2-3'!$B:$K, 10 + QUOTIENT(ROW(AL3231)-2, 10), 1 + MOD(ROW(AL3231)-2, 10))","v":0}]
[null,null,null,null,null,null,null,null,null,null,null,null,null,null,null,null,null,null,null,null,null,null,null,null,null,null,null,null,null,null,null,null,null,null,2303,"住宅","S造",{"$f":"INDEX('係数表2-3'!$B:$K, 10 + QUOTIENT(ROW(AL3235)-2, 10), 1 + MOD(ROW(AL3235)-2, 10))","v":0}]
[null,null,null,null,null,null,null,null,null,null,null,null,null,null,null,null,null,null,null,null,null,null,null,null,null,null,null,null,null,null,null,null,null,null,2303,"非住宅","S造",{"$f":"INDEX('係数表2-3'!$B:$K, 10 + QUOTIENT(ROW(AL3240)-2, 10), 1 + MOD(ROW(AL3240)-2, 10))","v":0}]
[null,null,null,null,null,null,null,null,null,null,null,null,null,null,null,null,null,null,null,null,null,null,null,null,null,null,null,null,null,null,null,null,null,null,2304,"住宅","S造",{"$f":"INDEX('係数表2-3'!$B:$K, 10 + QUOTIENT(ROW(AL3245)-2, 10), 1 + MOD(ROW(AL3245)-2, 10))","v":0}]
[null,null,null,null,null,null,null,null,null,null,null,null,null,null,null,null,null,null,null,null,null,null,null,null,null,null,null,null,null,null,null,null,null,null,2304,"住宅","その他",{"$f":"INDEX('係数表2-3'!$B:$K, 10 + QUOTIENT(ROW(AL3246)-2, 10), 1 + MOD(ROW(AL3246)-2, 10))","v":0}]
[null,null,null,null,null,null,null,null,null,null,null,null,null,null,null,null,null,null,null,null,null,null,null,null,null,null,null,null,null,null,null,null,null,null,2304,"非住宅","その他",{"$f":"INDEX('係数表2-3'!$B:$K, 10 + QUOTIENT(ROW(AL3251)-2, 10), 1 + MOD(ROW(AL3251)-2, 10))","v":0}]
[null,null,null,null,null,null,null,null,null,null,null,null,null,null,null,null,null,null,null,null,null,null,null,null,null,null,null,null,null,null,null,null,null,null,2305,"住宅","その他",{"$f":"INDEX('係数表2-3'!$B:$K, 10 + QUOTIENT(ROW(AL3256)-2, 10), 1 + MOD(ROW(AL3256)-2, 10))","v":0}]
[null,null,null,null,null,null,null,null,null,null,null,null,null,null,null,null,null,null,null,null,null,null,null,null,null,null,null,null,null,null,null,null,null,null,2305,"非住宅","その他",{"$f":"INDEX('係数表2-3'!$B:$K, 10 + QUOTIENT(ROW(AL3261)-2, 10), 1 + MOD(ROW(AL3261)-2, 10))","v":0}]
[null,null,null,null,null,null,null,null,null,null,null,null,null,null,null,null,null,null,null,null,null,null,null,null,null,null,null,null,null,null,null,null,null,null,2306,"住宅","木造",{"$f":"INDEX('係数表2-3'!$B:$K, 10 + QUOTIENT(ROW(AL3262)-2, 10), 1 + MOD(ROW(AL3262)-2, 10))","v":0}]
[null,null,null,null,null,null,null,null,null,null,null,null,null,null,null,null,null,null,null,null,null,null,null,null,null,null,null,null,null,null,null,null,null,null,2306,"非住宅","木造",{"$f":"INDEX('係数表2-3'!$B:$K, 10 + QUOTIENT(ROW(AL3267)-2, 10), 1 + MOD(ROW(AL3267)-2, 10))","v":0}]
[null,null,null,null,null,null,null,null,null,null,null,null,null,null,null,null,null,null,null,null,null,null,null,null,null,null,null,null,null,null,null,null,null,null,2307,"住宅","木造",{"$f":"INDEX('係数表2-3'!$B:$K, 10 + QUOTIENT(ROW(AL3272)-2, 10), 1 + MOD(ROW(AL3272)-2, 10))","v":0}]
[null,null,null,null,null,null,null,null,null,null,null,null,null,null,null,null,null,null,null,null,null,null,null,null,null,null,null,null,null,null,null,null,null,null,2307,"非住宅","木造",{"$f":"INDEX('係数表2-3'!$B:$K, 10 + QUOTIENT(ROW(AL3277)-2, 10), 1 + MOD(ROW(AL3277)-2, 10))","v":0}]
[null,null,null,null,null,null,null,null,null,null,null,null,null,null,null,null,null,null,null,null,null,null,null,null,null,null,null,null,null,null,null,null,null,null,2307,"非住宅","SRC造",{"$f":"INDEX('係数表2-3'!$B:$K, 10 + QUOTIENT(ROW(AL3278)-2, 10), 1 + MOD(ROW(AL3278)-2, 10))","v":0}]
[null,null,null,null,null,null,null,null,null,null,null,null,null,null,null,null,null,null,null,null,null,null,null,null,null,null,null,null,null,null,null,null,null,null,2308,"住宅","SRC造",{"$f":"INDEX('係数表2-3'!$B:$K, 10 + QUOTIENT(ROW(AL3283)-2, 10), 1 + MOD(ROW(AL3283)-2, 10))","v":0}]
[null,null,null,null,null,null,null,null,null,null,null,null,null,null,null,null,null,null,null,null,null,null,null,null,null,null,null,null,null,null,null,null,null,null,2308,"非住宅","SRC造",{"$f":"INDEX('係数表2-3'!$B:$K, 10 + QUOTIENT(ROW(AL3288)-2, 10), 1 + MOD(ROW(AL3288)-2, 10))","v":0}]
[null,null,null,null,null,null,null,null,null,null,null,null,null,null,null,null,null,null,null,null,null,null,null,null,null,null,null,null,null,null,null,null,null,null,2309,"住宅","SRC造",{"$f":"INDEX('係数表2-3'!$B:$K, 10 + QUOTIENT(ROW(AL3293)-2, 10), 1 + MOD(ROW(AL3293)-2, 10))","v":0}]
[null,null,null,null,null,null,null,null,null,null,null,null,null,null,null,null,null,null,null,null,null,null,null,null,null,null,null,null,null,null,null,null,null,null,2309,"住宅","RC造",{"$f":"INDEX('係数表2-3'!$B:$K, 10 + QUOTIENT(ROW(AL3294)-2, 10), 1 + MOD(ROW(AL3294)-2, 10))","v":0}]
[null,null,null,null,null,null,null,null,null,null,null,null,null,null,null,null,null,null,null,null,null,null,null,null,null,null,null,null,null,null,null,null,null,null,2309,"非住宅","RC造",{"$f":"INDEX('係数表2-3'!$B:$K, 10 + QUOTIENT(ROW(AL3299)-2, 10), 1 + MOD(ROW(AL3299)-2, 10))","v":0}]
[null,null,null,null,null,null,null,null,null,null,null,null,null,null,null,null,null,null,null,null,null,null,null,null,null,null,null,null,null,null,null,null,null,null,2310,"住宅","RC造",{"$f":"INDEX('係数表2-3'!$B:$K, 10 + QUOTIENT(ROW(AL3304)-2, 10), 1 + MOD(ROW(AL3304)-2, 10))","v":0}]
[null,null,null,null,null,null,null,null,null,null,null,null,null,null,null,null,null,null,null,null,null,null,null,null,null,null,null,null,null,null,null,null,null,null,2310,"非住宅","RC造",{"$f":"INDEX('係数表2-3'!$B:$K, 10 + QUOTIENT(ROW(AL3309)-2, 10), 1 + MOD(ROW(AL3309)-2, 10))","v":0}]
[null,null,null,null,null,null,null,null,null,null,null,null,null,null,null,null,null,null,null,null,null,null,null,null,null,null,null,null,null,null,null,null,null,null,2310,"非住宅","S造",{"$f":"INDEX('係数表2-3'!$B:$K, 10 + QUOTIENT(ROW(AL3310)-2, 10), 1 + MOD(ROW(AL3310)-2, 10))","v":0}]
[null,null,null,null,null,null,null,null,null,null,null,null,null,null,null,null,null,null,null,null,null,null,null,null,null,null,null,null,null,null,null,null,null,null,2311,"住宅","S造",{"$f":"INDEX('係数表2-3'!$B:$K, 10 + QUOTIENT(ROW(AL3315)-2, 10), 1 + MOD(ROW(AL3315)-2, 10))","v":0}]
[null,null,null,null,null,null,null,null,null,null,null,null,null,null,null,null,null,null,null,null,null,null,null,null,null,null,null,null,null,null,null,null,null,null,2311,"非住宅","S造",{"$f":"INDEX('係数表2-3'!$B:$K, 10 + QUOTIENT(ROW(AL3320)-2, 10), 1 + MOD(ROW(AL3320)-2, 10))","v":0}]
[null,null,null,null,null,null,null,null,null,null,null,null,null,null,null,null,null,null,null,null,null,null,null,null,null,null,null,null,null,null,null,null,null,null,2312,"住宅","S造",{"$f":"INDEX('係数表2-3'!$B:$K, 10 + QUOTIENT(ROW(AL3325)-2, 10), 1 + MOD(ROW(AL3325)-2, 10))","v":0}]
[null,null,null,null,null,null,null,null,null,null,null,null,null,null,null,null,null,null,null,null,null,null,null,null,null,null,null,null,null,null,null,null,null,null,2312,"住宅","その他",{"$f":"INDEX('係数表2-3'!$B:$K, 10 + QUOTIENT(ROW(AL3326)-2, 10), 1 + MOD(ROW(AL3326)-2, 10))","v":0}]
[null,null,null,null,null,null,null,null,null,null,null,null,null,null,null,null,null,null,null,null,null,null,null,null,null,null,null,null,null,null,null,null,null,null,2312,"非住宅","その他",{"$f":"INDEX('係数表2-3'!$B:$K, 10 + QUOTIENT(ROW(AL3331)-2, 10), 1 + MOD(ROW(AL3331)-2, 10))","v":0}]
[null,null,null,null,null,null,null,null,null,null,null,null,null,null,null,null,null,null,null,null,null,null,null,null,null,null,null,null,null,null,null,null,null,null,2313,"住宅","RC造",{"$f":"INDEX('係数表2-3'!$B:$K, 10 + QUOTIENT(ROW(AL3334)-2, 10), 1 + MOD(ROW(AL3334)-2, 10))","v":0}]
[null,null,null,null,null,null,null,null,null,null,null,null,null,null,null,null,null,null,null,null,null,null,null,null,null,null,null,null,null,null,null,null,null,null,2313,"非住宅","S造",{"$f":"INDEX('係数表2-3'!$B:$K, 10 + QUOTIENT(ROW(AL3340)-2, 10), 1 + MOD(ROW(AL3340)-2, 10))","v":0}]
[null,null,null,null,null,null,null,null,null,null,null,null,null,null,null,null,null,null,null,null,null,null,null,null,null,null,null,null,null,null,null,null,null,null,2313,"非住宅","その他",{"$f":"INDEX('係数表2-3'!$B:$K, 10 + QUOTIENT(ROW(AL3341)-2, 10), 1 + MOD(ROW(AL3341)-2, 10))","v":0}]
[null,null,null,null,null,null,null,null,null,null,null,null,null,null,null,null,null,null,null,null,null,null,null,null,null,null,null,null,null,null,null,null,null,null,2314,"住宅","その他",{"$f":"INDEX('係数表2-3'!$B:$K, 10 + QUOTIENT(ROW(AL3346)-2, 10), 1 + MOD(ROW(AL3346)-2, 10))","v":0}]
[null,null,null,null,null,null,null,null,null,null,null,null,null,null,null,null,null,null,null,null,null,null,null,null,null,null,null,null,null,null,null,null,null,null,2314,"非住宅","その他",{"$f":"INDEX('係数表2-3'!$B:$K, 10 + QUOTIENT(ROW(AL3351)-2, 10), 1 + MOD(ROW(AL3351)-2, 10))","v":0}]
[null,null,null,null,null,null,null,null,null,null,null,null,null,null,null,null,null,null,null,null,null,null,null,null,null,null,null,null,null,null,null,null,null,null,2315,"住宅","その他",{"$f":"INDEX('係数表2-3'!$B:$K, 10 + QUOTIENT(ROW(AL3356)-2, 10), 1 + MOD(ROW(AL3356)-2, 10))","v":0}]
[null,null,null,null,null,null,null,null,null,null,null,null,null,null,null,null,null,null,null,null,null,null,null,null,null,null,null,null,null,null,null,null,null,null,2315,"非住宅","木造",{"$f":"INDEX('係数表2-3'!$B:$K, 10 + QUOTIENT(ROW(AL3357)-2, 10), 1 + MOD(ROW(AL3357)-2, 10))","v":0}]
[null,null,null,null,null,null,null,null,null,null,null,null,null,null,null,null,null,null,null,null,null,null,null,null,null,null,null,null,null,null,null,null,null,null,2316,"住宅","木造",{"$f":"INDEX('係数表2-3'!$B:$K, 10 + QUOTIENT(ROW(AL3362)-2, 10), 1 + MOD(ROW(AL3362)-2, 10))","v":0}]
[null,null,null,null,null,null,null,null,null,null,null,null,null,null,null,null,null,null,null,null,null,null,null,null,null,null,null,null,null,null,null,null,null,null,2316,"非住宅","木造",{"$f":"INDEX('係数表2-3'!$B:$K, 10 + QUOTIENT(ROW(AL3367)-2, 10), 1 + MOD(ROW(AL3367)-2, 10))","v":0}]
[null,null,null,null,null,null,null,null,null,null,null,null,null,null,null,null,null,null,null,null,null,null,null,null,null,null,null,null,null,null,null,null,null,null,2317,"住宅","木造",{"$f":"INDEX('係数表2-3'!$B:$K, 10 + QUOTIENT(ROW(AL3372)-2, 10), 1 + MOD(ROW(AL3372)-2, 10))","v":0}]
[null,null,null,null,null,null,null,null,null,null,null,null,null,null,null,null,null,null,null,null,null,null,null,null,null,null,null,null,null,null,null,null,null,null,2317,"住宅","SRC造",{"$f":"INDEX('係数表2-3'!$B:$K, 10 + QUOTIENT(ROW(AL3373)-2, 10), 1 + MOD(ROW(AL3373)-2, 10))","v":0}]
[null,null,null,null,null,null,null,null,null,null,null,null,null,null,null,null,null,null,null,null,null,null,null,null,null,null,null,null,null,null,null,null,null,null,2317,"非住宅","SRC造",{"$f":"INDEX('係数表2-3'!$B:$K, 10 + QUOTIENT(ROW(AL3378)-2, 10), 1 + MOD(ROW(AL3378)-2, 10))","v":0}]
[null,null,null,null,null,null,null,null,null,null,null,null,null,null,null,null,null,null,null,null,null,null,null,null,null,null,null,null,null,null,null,null,null,null,2318,"住宅","SRC造",{"$f":"INDEX('係数表2-3'!$B:$K, 10 + QUOTIENT(ROW(AL3383)-2, 10), 1 + MOD(ROW(AL3383)-2, 10))","v":0}]
[null,null,null,null,null,null,null,null,null,null,null,null,null,null,null,null,null,null,null,null,null,null,null,null,null,null,null,null,null,null,null,null,null,null,2318,"非住宅","SRC造",{"$f":"INDEX('係数表2-3'!$B:$K, 10 + QUOTIENT(ROW(AL3388)-2, 10), 1 + MOD(ROW(AL3388)-2, 10))","v":0}]
[null,null,null,null,null,null,null,null,null,null,null,null,null,null,null,null,null,null,null,null,null,null,null,null,null,null,null,null,null,null,null,null,null,null,2318,"非住宅","RC造",{"$f":"INDEX('係数表2-3'!$B:$K, 10 + QUOTIENT(ROW(AL3389)-2, 10), 1 + MOD(ROW(AL3389)-2, 10))","v":0}]
[null,null,null,null,null,null,null,null,null,null,null,null,null,null,null,null,null,null,null,null,null,null,null,null,null,null,null,null,null,null,null,null,null,null,2319,"住宅","RC造",{"$f":"INDEX('係数表2-3'!$B:$K, 10 + QUOTIENT(ROW(AL3394)-2, 10), 1 + MOD(ROW(AL3394)-2, 10))","v":0}]
[null,null,null,null,null,null,null,null,null,null,null,null,null,null,null,null,null,null,null,null,null,null,null,null,null,null,null,null,null,null,null,null,null,null,2319,"非住宅","RC造",{"$f":"INDEX('係数表2-3'!$B:$K, 10 + QUOTIENT(ROW(AL3399)-2, 10), 1 + MOD(ROW(AL3399)-2, 10))","v":0}]
[null,null,null,null,null,null,null,null,null,null,null,null,null,null,null,null,null,null,null,null,null,null,null,null,null,null,null,null,null,null,null,null,null,null,2320,"住宅","RC造",{"$f":"INDEX('係数表2-3'!$B:$K, 10 + QUOTIENT(ROW(AL3404)-2, 10), 1 + MOD(ROW(AL3404)-2, 10))","v":0}]
[null,null,null,null,null,null,null,null,null,null,null,null,null,null,null,null,null,null,null,null,null,null,null,null,null,null,null,null,null,null,null,null,null,null,2320,"住宅","S造",{"$f":"INDEX('係数表2-3'!$B:$K, 10 + QUOTIENT(ROW(AL3405)-2, 10), 1 + MOD(ROW(AL3405)-2, 10))","v":0}]
[null,null,null,null,null,null,null,null,null,null,null,null,null,null,null,null,null,null,null,null,null,null,null,null,null,null,null,null,null,null,null,null,null,null,2320,"非住宅","S造",{"$f":"INDEX('係数表2-3'!$B:$K, 10 + QUOTIENT(ROW(AL3410)-2, 10), 1 + MOD(ROW(AL3410)-2, 10))","v":0}]
[null,null,null,null,null,null,null,null,null,null,null,null,null,null,null,null,null,null,null,null,null,null,null,null,null,null,null,null,null,null,null,null,null,null,2321,"住宅","S造",{"$f":"INDEX('係数表2-3'!$B:$K, 10 + QUOTIENT(ROW(AL3415)-2, 10), 1 + MOD(ROW(AL3415)-2, 10))","v":0}]
[null,null,null,null,null,null,null,null,null,null,null,null,null,null,null,null,null,null,null,null,null,null,null,null,null,null,null,null,null,null,null,null,null,null,2321,"非住宅","S造",{"$f":"INDEX('係数表2-3'!$B:$K, 10 + QUOTIENT(ROW(AL3420)-2, 10), 1 + MOD(ROW(AL3420)-2, 10))","v":0}]
[null,null,null,null,null,null,null,null,null,null,null,null,null,null,null,null,null,null,null,null,null,null,null,null,null,null,null,null,null,null,null,null,null,null,2321,"非住宅","その他",{"$f":"INDEX('係数表2-3'!$B:$K, 10 + QUOTIENT(ROW(AL3421)-2, 10), 1 + MOD(ROW(AL3421)-2, 10))","v":0}]
[null,null,null,null,null,null,null,null,null,null,null,null,null,null,null,null,null,null,null,null,null,null,null,null,null,null,null,null,null,null,null,null,null,null,2322,"住宅","その他",{"$f":"INDEX('係数表2-3'!$B:$K, 10 + QUOTIENT(ROW(AL3426)-2, 10), 1 + MOD(ROW(AL3426)-2, 10))","v":0}]
[null,null,null,null,null,null,null,null,null,null,null,null,null,null,null,null,null,null,null,null,null,null,null,null,null,null,null,null,null,null,null,null,null,null,2322,"非住宅","その他",{"$f":"INDEX('係数表2-3'!$B:$K, 10 + QUOTIENT(ROW(AL3431)-2, 10), 1 + MOD(ROW(AL3431)-2, 10))","v":0}]
[null,null,null,null,null,null,null,null,null,null,null,null,null,null,null,null,null,null,null,null,null,null,null,null,null,null,null,null,null,null,null,null,null,null,2323,"住宅","その他",{"$f":"INDEX('係数表2-3'!$B:$K, 10 + QUOTIENT(ROW(AL3436)-2, 10), 1 + MOD(ROW(AL3436)-2, 10))","v":0}]
[null,null,null,null,null,null,null,null,null,null,null,null,null,null,null,null,null,null,null,null,null,null,null,null,null,null,null,null,null,null,null,null,null,null,2323,"非住宅","SRC造",{"$f":"INDEX('係数表2-3'!$B:$K, 10 + QUOTIENT(ROW(AL3438)-2, 10), 1 + MOD(ROW(AL3438)-2, 10))","v":0}]
[null,null,null,null,null,null,null,null,null,null,null,null,null,null,null,null,null,null,null,null,null,null,null,null,null,null,null,null,null,null,null,null,null,null,2323,"非住宅","その他",{"$f":"INDEX('係数表2-3'!$B:$K, 10 + QUOTIENT(ROW(AL3441)-2, 10), 1 + MOD(ROW(AL3441)-2, 10))","v":0}]
[null,null,null,null,null,null,null,null,null,null,null,null,null,null,null,null,null,null,null,null,null,null,null,null,null,null,null,null,null,null,null,null,null,null,2324,"住宅","その他",{"$f":"INDEX('係数表2-3'!$B:$K, 10 + QUOTIENT(ROW(AL3446)-2, 10), 1 + MOD(ROW(AL3446)-2, 10))","v":0}]
[null,null,null,null,null,null,null,null,null,null,null,null,null,null,null,null,null,null,null,null,null,null,null,null,null,null,null,null,null,null,null,null,null,null,2324,"非住宅","その他",{"$f":"INDEX('係数表2-3'!$B:$K, 10 + QUOTIENT(ROW(AL3451)-2, 10), 1 + MOD(ROW(AL3451)-2, 10))","v":0}]
[null,null,null,null,null,null,null,null,null,null,null,null,null,null,null,null,null,null,null,null,null,null,null,null,null,null,null,null,null,null,null,null,null,null,2325,"住宅","木造",{"$f":"INDEX('係数表2-3'!$B:$K, 10 + QUOTIENT(ROW(AL3452)-2, 10), 1 + MOD(ROW(AL3452)-2, 10))","v":0}]
[null,null,null,null,null,null,null,null,null,null,null,null,null,null,null,null,null,null,null,null,null,null,null,null,null,null,null,null,null,null,null,null,null,null,2325,"非住宅","木造",{"$f":"INDEX('係数表2-3'!$B:$K, 10 + QUOTIENT(ROW(AL3457)-2, 10), 1 + MOD(ROW(AL3457)-2, 10))","v":0}]
[null,null,null,null,null,null,null,null,null,null,null,null,null,null,null,null,null,null,null,null,null,null,null,null,null,null,null,null,null,null,null,null,null,null,2326,"住宅","木造",{"$f":"INDEX('係数表2-3'!$B:$K, 10 + QUOTIENT(ROW(AL3462)-2, 10), 1 + MOD(ROW(AL3462)-2, 10))","v":0}]
[null,null,null,null,null,null,null,null,null,null,null,null,null,null,null,null,null,null,null,null,null,null,null,null,null,null,null,null,null,null,null,null,null,null,2326,"非住宅","木造",{"$f":"INDEX('係数表2-3'!$B:$K, 10 + QUOTIENT(ROW(AL3467)-2, 10), 1 + MOD(ROW(AL3467)-2, 10))","v":0}]
[null,null,null,null,null,null,null,null,null,null,null,null,null,null,null,null,null,null,null,null,null,null,null,null,null,null,null,null,null,null,null,null,null,null,2326,"非住宅","SRC造",{"$f":"INDEX('係数表2-3'!$B:$K, 10 + QUOTIENT(ROW(AL3468)-2, 10), 1 + MOD(ROW(AL3468)-2, 10))","v":0}]
[null,null,null,null,null,null,null,null,null,null,null,null,null,null,null,null,null,null,null,null,null,null,null,null,null,null,null,null,null,null,null,null,null,null,2327,"住宅","SRC造",{"$f":"INDEX('係数表2-3'!$B:$K, 10 + QUOTIENT(ROW(AL3473)-2, 10), 1 + MOD(ROW(AL3473)-2, 10))","v":0}]
[null,null,null,null,null,null,null,null,null,null,null,null,null,null,null,null,null,null,null,null,null,null,null,null,null,null,null,null,null,null,null,null,null,null,2327,"非住宅","SRC造",{"$f":"INDEX('係数表2-3'!$B:$K, 10 + QUOTIENT(ROW(AL3478)-2, 10), 1 + MOD(ROW(AL3478)-2, 10))","v":0}]
[null,null,null,null,null,null,null,null,null,null,null,null,null,null,null,null,null,null,null,null,null,null,null,null,null,null,null,null,null,null,null,null,null,null,2328,"住宅","SRC造",{"$f":"INDEX('係数表2-3'!$B:$K, 10 + QUOTIENT(ROW(AL3483)-2, 10), 1 + MOD(ROW(AL3483)-2, 10))","v":0}]
[null,null,null,null,null,null,null,null,null,null,null,null,null,null,null,null,null,null,null,null,null,null,null,null,null,null,null,null,null,null,null,null,null,null,2328,"住宅","RC造",{"$f":"INDEX('係数表2-3'!$B:$K, 10 + QUOTIENT(ROW(AL3484)-2, 10), 1 + MOD(ROW(AL3484)-2, 10))","v":0}]
[null,null,null,null,null,null,null,null,null,null,null,null,null,null,null,null,null,null,null,null,null,null,null,null,null,null,null,null,null,null,null,null,null,null,2328,"非住宅","RC造",{"$f":"INDEX('係数表2-3'!$B:$K, 10 + QUOTIENT(ROW(AL3489)-2, 10), 1 + MOD(ROW(AL3489)-2, 10))","v":0}]
[null,null,null,null,null,null,null,null,null,null,null,null,null,null,null,null,null,null,null,null,null,null,null,null,null,null,null,null,null,null,null,null,null,null,2329,"住宅","RC造",{"$f":"INDEX('係数表2-3'!$B:$K, 10 + QUOTIENT(ROW(AL3494)-2, 10), 1 + MOD(ROW(AL3494)-2, 10))","v":0}]
[null,null,null,null,null,null,null,null,null,null,null,null,null,null,null,null,null,null,null,null,null,null,null,null,null,null,null,null,null,null,null,null,null,null,2329,"非住宅","RC造",{"$f":"INDEX('係数表2-3'!$B:$K, 10 + QUOTIENT(ROW(AL3499)-2, 10), 1 + MOD(ROW(AL3499)-2, 10))","v":0}]
[null,null,null,null,null,null,null,null,null,null,null,null,null,null,null,null,null,null,null,null,null,null,null,null,null,null,null,null,null,null,null,null,null,null,2329,"非住宅","S造",{"$f":"INDEX('係数表2-3'!$B:$K, 10 + QUOTIENT(ROW(AL3500)-2, 10), 1 + MOD(ROW(AL3500)-2, 10))","v":0}]
[null,null,null,null,null,null,null,null,null,null,null,null,null,null,null,null,null,null,null,null,null,null,null,null,null,null,null,null,null,null,null,null,null,null,2330,"住宅","S造",{"$f":"INDEX('係数表2-3'!$B:$K, 10 + QUOTIENT(ROW(AL3505)-2, 10), 1 + MOD(ROW(AL3505)-2, 10))","v":0}]
[null,null,null,null,null,null,null,null,null,null,null,null,null,null,null,null,null,null,null,null,null,null,null,null,null,null,null,null,null,null,null,null,null,null,2330,"非住宅","S造",{"$f":"INDEX('係数表2-3'!$B:$K, 10 + QUOTIENT(ROW(AL3510)-2, 10), 1 + MOD(ROW(AL3510)-2, 10))","v":0}]
[null,null,null,null,null,null,null,null,null,null,null,null,null,null,null,null,null,null,null,null,null,null,null,null,null,null,null,null,null,null,null,null,null,null,2331,"住宅","S造",{"$f":"INDEX('係数表2-3'!$B:$K, 10 + QUOTIENT(ROW(AL3515)-2, 10), 1 + MOD(ROW(AL3515)-2, 10))","v":0}]
[null,null,null,null,null,null,null,null,null,null,null,null,null,null,null,null,null,null,null,null,null,null,null,null,null,null,null,null,null,null,null,null,null,null,2331,"住宅","その他",{"$f":"INDEX('係数表2-3'!$B:$K, 10 + QUOTIENT(ROW(AL3516)-2, 10), 1 + MOD(ROW(AL3516)-2, 10))","v":0}]
[null,null,null,null,null,null,null,null,null,null,null,null,null,null,null,null,null,null,null,null,null,null,null,null,null,null,null,null,null,null,null,null,null,null,2331,"非住宅","その他",{"$f":"INDEX('係数表2-3'!$B:$K, 10 + QUOTIENT(ROW(AL3521)-2, 10), 1 + MOD(ROW(AL3521)-2, 10))","v":0}]
[null,null,null,null,null,null,null,null,null,null,null,null,null,null,null,null,null,null,null,null,null,null,null,null,null,null,null,null,null,null,null,null,null,null,2332,"住宅","その他",{"$f":"INDEX('係数表2-3'!$B:$K, 10 + QUOTIENT(ROW(AL3526)-2, 10), 1 + MOD(ROW(AL3526)-2, 10))","v":0}]
[null,null,null,null,null,null,null,null,null,null,null,null,null,null,null,null,null,null,null,null,null,null,null,null,null,null,null,null,null,null,null,null,null,null,2332,"非住宅","その他",{"$f":"INDEX('係数表2-3'!$B:$K, 10 + QUOTIENT(ROW(AL3531)-2, 10), 1 + MOD(ROW(AL3531)-2, 10))","v":0}]
[null,null,null,null,null,null,null,null,null,null,null,null,null,null,null,null,null,null,null,null,null,null,null,null,null,null,null,null,null,null,null,null,null,null,2333,"住宅","木造",{"$f":"INDEX('係数表2-3'!$B:$K, 10 + QUOTIENT(ROW(AL3532)-2, 10), 1 + MOD(ROW(AL3532)-2, 10))","v":0}]
[null,null,null,null,null,null,null,null,null,null,null,null,null,null,null,null,null,null,null,null,null,null,null,null,null,null,null,null,null,null,null,null,null,null,2333,"非住宅","木造",{"$f":"INDEX('係数表2-3'!$B:$K, 10 + QUOTIENT(ROW(AL3537)-2, 10), 1 + MOD(ROW(AL3537)-2, 10))","v":0}]
[null,null,null,null,null,null,null,null,null,null,null,null,null,null,null,null,null,null,null,null,null,null,null,null,null,null,null,null,null,null,null,null,null,null,2334,"住宅","木造",{"$f":"INDEX('係数表2-3'!$B:$K, 10 + QUOTIENT(ROW(AL3542)-2, 10), 1 + MOD(ROW(AL3542)-2, 10))","v":0}]
[null,null,null,null,null,null,null,null,null,null,null,null,null,null,null,null,null,null,null,null,null,null,null,null,null,null,null,null,null,null,null,null,null,null,2334,"住宅","その他",{"$f":"INDEX('係数表2-3'!$B:$K, 10 + QUOTIENT(ROW(AL3546)-2, 10), 1 + MOD(ROW(AL3546)-2, 10))","v":0}]
[null,null,null,null,null,null,null,null,null,null,null,null,null,null,null,null,null,null,null,null,null,null,null,null,null,null,null,null,null,null,null,null,null,null,2334,"非住宅","木造",{"$f":"INDEX('係数表2-3'!$B:$K, 10 + QUOTIENT(ROW(AL3547)-2, 10), 1 + MOD(ROW(AL3547)-2, 10))","v":0}]
[null,null,null,null,null,null,null,null,null,null,null,null,null,null,null,null,null,null,null,null,null,null,null,null,null,null,null,null,null,null,null,null,null,null,2335,"住宅","木造",{"$f":"INDEX('係数表2-3'!$B:$K, 10 + QUOTIENT(ROW(AL3552)-2, 10), 1 + MOD(ROW(AL3552)-2, 10))","v":0}]
[null,null,null,null,null,null,null,null,null,null,null,null,null,null,null,null,null,null,null,null,null,null,null,null,null,null,null,null,null,null,null,null,null,null,2335,"非住宅","木造",{"$f":"INDEX('係数表2-3'!$B:$K, 10 + QUOTIENT(ROW(AL3557)-2, 10), 1 + MOD(ROW(AL3557)-2, 10))","v":0}]
[null,null,null,null,null,null,null,null,null,null,null,null,null,null,null,null,null,null,null,null,null,null,null,null,null,null,null,null,null,null,null,null,null,null,2336,"住宅","木造",{"$f":"INDEX('係数表2-3'!$B:$K, 10 + QUOTIENT(ROW(AL3562)-2, 10), 1 + MOD(ROW(AL3562)-2, 10))","v":0}]
[null,null,null,null,null,null,null,null,null,null,null,null,null,null,null,null,null,null,null,null,null,null,null,null,null,null,null,null,null,null,null,null,null,null,2336,"住宅","SRC造",{"$f":"INDEX('係数表2-3'!$B:$K, 10 + QUOTIENT(ROW(AL3563)-2, 10), 1 + MOD(ROW(AL3563)-2, 10))","v":0}]
[null,null,null,null,null,null,null,null,null,null,null,null,null,null,null,null,null,null,null,null,null,null,null,null,null,null,null,null,null,null,null,null,null,null,2336,"非住宅","SRC造",{"$f":"INDEX('係数表2-3'!$B:$K, 10 + QUOTIENT(ROW(AL3568)-2, 10), 1 + MOD(ROW(AL3568)-2, 10))","v":0}]
[null,null,null,null,null,null,null,null,null,null,null,null,null,null,null,null,null,null,null,null,null,null,null,null,null,null,null,null,null,null,null,null,null,null,2337,"住宅","SRC造",{"$f":"INDEX('係数表2-3'!$B:$K, 10 + QUOTIENT(ROW(AL3573)-2, 10), 1 + MOD(ROW(AL3573)-2, 10))","v":0}]
[null,null,null,null,null,null,null,null,null,null,null,null,null,null,null,null,null,null,null,null,null,null,null,null,null,null,null,null,null,null,null,null,null,null,2337,"非住宅","SRC造",{"$f":"INDEX('係数表2-3'!$B:$K, 10 + QUOTIENT(ROW(AL3578)-2, 10), 1 + MOD(ROW(AL3578)-2, 10))","v":0}]
[null,null,null,null,null,null,null,null,null,null,null,null,null,null,null,null,null,null,null,null,null,null,null,null,null,null,null,null,null,null,null,null,null,null,2337,"非住宅","RC造",{"$f":"INDEX('係数表2-3'!$B:$K, 10 + QUOTIENT(ROW(AL3579)-2, 10), 1 + MOD(ROW(AL3579)-2, 10))","v":0}]
[null,null,null,null,null,null,null,null,null,null,null,null,null,null,null,null,null,null,null,null,null,null,null,null,null,null,null,null,null,null,null,null,null,null,2338,"住宅","RC造",{"$f":"INDEX('係数表2-3'!$B:$K, 10 + QUOTIENT(ROW(AL3584)-2, 10), 1 + MOD(ROW(AL3584)-2, 10))","v":0}]
[null,null,null,null,null,null,null,null,null,null,null,null,null,null,null,null,null,null,null,null,null,null,null,null,null,null,null,null,null,null,null,null,null,null,2338,"非住宅","RC造",{"$f":"INDEX('係数表2-3'!$B:$K, 10 + QUOTIENT(ROW(AL3589)-2, 10), 1 + MOD(ROW(AL3589)-2, 10))","v":0}]
[null,null,null,null,null,null,null,null,null,null,null,null,null,null,null,null,null,null,null,null,null,null,null,null,null,null,null,null,null,null,null,null,null,null,2339,"住宅","RC造",{"$f":"INDEX('係数表2-3'!$B:$K, 10 + QUOTIENT(ROW(AL3594)-2, 10), 1 + MOD(ROW(AL3594)-2, 10))","v":0}]
[null,null,null,null,null,null,null,null,null,null,null,null,null,null,null,null,null,null,null,null,null,null,null,null,null,null,null,null,null,null,null,null,null,null,2339,"住宅","S造",{"$f":"INDEX('係数表2-3'!$B:$K, 10 + QUOTIENT(ROW(AL3595)-2, 10), 1 + MOD(ROW(AL3595)-2, 10))","v":0}]
[null,null,null,null,null,null,null,null,null,null,null,null,null,null,null,null,null,null,null,null,null,null,null,null,null,null,null,null,null,null,null,null,null,null,2339,"非住宅","S造",{"$f":"INDEX('係数表2-3'!$B:$K, 10 + QUOTIENT(ROW(AL3600)-2, 10), 1 + MOD(ROW(AL3600)-2, 10))","v":0}]
[null,null,null,null,null,null,null,null,null,null,null,null,null,null,null,null,null,null,null,null,null,null,null,null,null,null,null,null,null,null,null,null,null,null,2340,"住宅","S造",{"$f":"INDEX('係数表2-3'!$B:$K, 10 + QUOTIENT(ROW(AL3605)-2, 10), 1 + MOD(ROW(AL3605)-2, 10))","v":0}]
[null,null,null,null,null,null,null,null,null,null,null,null,null,null,null,null,null,null,null,null,null,null,null,null,null,null,null,null,null,null,null,null,null,null,2340,"非住宅","S造",{"$f":"INDEX('係数表2-3'!$B:$K, 10 + QUOTIENT(ROW(AL3610)-2, 10), 1 + MOD(ROW(AL3610)-2, 10))","v":0}]
[null,null,null,null,null,null,null,null,null,null,null,null,null,null,null,null,null,null,null,null,null,null,null,null,null,null,null,null,null,null,null,null,null,null,2340,"非住宅","その他",{"$f":"INDEX('係数表2-3'!$B:$K, 10 + QUOTIENT(ROW(AL3611)-2, 10), 1 + MOD(ROW(AL3611)-2, 10))","v":0}]
[null,null,null,null,null,null,null,null,null,null,null,null,null,null,null,null,null,null,null,null,null,null,null,null,null,null,null,null,null,null,null,null,null,null,2341,"住宅","その他",{"$f":"INDEX('係数表2-3'!$B:$K, 10 + QUOTIENT(ROW(AL3616)-2, 10), 1 + MOD(ROW(AL3616)-2, 10))","v":0}]
[null,null,null,null,null,null,null,null,null,null,null,null,null,null,null,null,null,null,null,null,null,null,null,null,null,null,null,null,null,null,null,null,null,null,2341,"非住宅","その他",{"$f":"INDEX('係数表2-3'!$B:$K, 10 + QUOTIENT(ROW(AL3621)-2, 10), 1 + MOD(ROW(AL3621)-2, 10))","v":0}]
[null,null,null,null,null,null,null,null,null,null,null,null,null,null,null,null,null,null,null,null,null,null,null,null,null,null,null,null,null,null,null,null,null,null,2342,"住宅","その他",{"$f":"INDEX('係数表2-3'!$B:$K, 10 + QUOTIENT(ROW(AL3626)-2, 10), 1 + MOD(ROW(AL3626)-2, 10))","v":0}]
[null,null,null,null,null,null,null,null,null,null,null,null,null,null,null,null,null,null,null,null,null,null,null,null,null,null,null,null,null,null,null,null,null,null,2342,"非住宅","木造",{"$f":"INDEX('係数表2-3'!$B:$K, 10 + QUOTIENT(ROW(AL3627)-2, 10), 1 + MOD(ROW(AL3627)-2, 10))","v":0}]
[null,null,null,null,null,null,null,null,null,null,null,null,null,null,null,null,null,null,null,null,null,null,null,null,null,null,null,null,null,null,null,null,null,null,2343,"住宅","木造",{"$f":"INDEX('係数表2-3'!$B:$K, 10 + QUOTIENT(ROW(AL3632)-2, 10), 1 + MOD(ROW(AL3632)-2, 10))","v":0}]
[null,null,null,null,null,null,null,null,null,null,null,null,null,null,null,null,null,null,null,null,null,null,null,null,null,null,null,null,null,null,null,null,null,null,2343,"非住宅","木造",{"$f":"INDEX('係数表2-3'!$B:$K, 10 + QUOTIENT(ROW(AL3637)-2, 10), 1 + MOD(ROW(AL3637)-2, 10))","v":0}]
[null,null,null,null,null,null,null,null,null,null,null,null,null,null,null,null,null,null,null,null,null,null,null,null,null,null,null,null,null,null,null,null,null,null,2343,"非住宅","RC造",{"$f":"INDEX('係数表2-3'!$B:$K, 10 + QUOTIENT(ROW(AL3639)-2, 10), 1 + MOD(ROW(AL3639)-2, 10))","v":0}]
[null,null,null,null,null,null,null,null,null,null,null,null,null,null,null,null,null,null,null,null,null,null,null,null,null,null,null,null,null,null,null,null,null,null,2344,"住宅","木造",{"$f":"INDEX('係数表2-3'!$B:$K, 10 + QUOTIENT(ROW(AL3642)-2, 10), 1 + MOD(ROW(AL3642)-2, 10))","v":0}]
[null,null,null,null,null,null,null,null,null,null,null,null,null,null,null,null,null,null,null,null,null,null,null,null,null,null,null,null,null,null,null,null,null,null,2344,"非住宅","木造",{"$f":"INDEX('係数表2-3'!$B:$K, 10 + QUOTIENT(ROW(AL3647)-2, 10), 1 + MOD(ROW(AL3647)-2, 10))","v":0}]
[null,null,null,null,null,null,null,null,null,null,null,null,null,null,null,null,null,null,null,null,null,null,null,null,null,null,null,null,null,null,null,null,null,null,2345,"住宅","木造",{"$f":"INDEX('係数表2-3'!$B:$K, 10 + QUOTIENT(ROW(AL3652)-2, 10), 1 + MOD(ROW(AL3652)-2, 10))","v":0}]
[null,null,null,null,null,null,null,null,null,null,null,null,null,null,null,null,null,null,null,null,null,null,null,null,null,null,null,null,null,null,null,null,null,null,2345,"非住宅","木造",{"$f":"INDEX('係数表2-3'!$B:$K, 10 + QUOTIENT(ROW(AL3657)-2, 10), 1 + MOD(ROW(AL3657)-2, 10))","v":0}]
[null,null,null,null,null,null,null,null,null,null,null,null,null,null,null,null,null,null,null,null,null,null,null,null,null,null,null,null,null,null,null,null,null,null,2345,"非住宅","SRC造",{"$f":"INDEX('係数表2-3'!$B:$K, 10 + QUOTIENT(ROW(AL3658)-2, 10), 1 + MOD(ROW(AL3658)-2, 10))","v":0}]
[null,null,null,null,null,null,null,null,null,null,null,null,null,null,null,null,null,null,null,null,null,null,null,null,null,null,null,null,null,null,null,null,null,null,2346,"住宅","SRC造",{"$f":"INDEX('係数表2-3'!$B:$K, 10 + QUOTIENT(ROW(AL3663)-2, 10), 1 + MOD(ROW(AL3663)-2, 10))","v":0}]
[null,null,null,null,null,null,null,null,null,null,null,null,null,null,null,null,null,null,null,null,null,null,null,null,null,null,null,null,null,null,null,null,null,null,2346,"非住宅","SRC造",{"$f":"INDEX('係数表2-3'!$B:$K, 10 + QUOTIENT(ROW(AL3668)-2, 10), 1 + MOD(ROW(AL3668)-2, 10))","v":0}]
[null,null,null,null,null,null,null,null,null,null,null,null,null,null,null,null,null,null,null,null,null,null,null,null,null,null,null,null,null,null,null,null,null,null,2347,"住宅","SRC造",{"$f":"INDEX('係数表2-3'!$B:$K, 10 + QUOTIENT(ROW(AL3673)-2, 10), 1 + MOD(ROW(AL3673)-2, 10))","v":0}]
[null,null,null,null,null,null,null,null,null,null,null,null,null,null,null,null,null,null,null,null,null,null,null,null,null,null,null,null,null,null,null,null,null,null,2347,"住宅","RC造",{"$f":"INDEX('係数表2-3'!$B:$K, 10 + QUOTIENT(ROW(AL3674)-2, 10), 1 + MOD(ROW(AL3674)-2, 10))","v":0}]
[null,null,null,null,null,null,null,null,null,null,null,null,null,null,null,null,null,null,null,null,null,null,null,null,null,null,null,null,null,null,null,null,null,null,2347,"非住宅","RC造",{"$f":"INDEX('係数表2-3'!$B:$K, 10 + QUOTIENT(ROW(AL3679)-2, 10), 1 + MOD(ROW(AL3679)-2, 10))","v":0}]
[null,null,null,null,null,null,null,null,null,null,null,null,null,null,null,null,null,null,null,null,null,null,null,null,null,null,null,null,null,null,null,null,null,null,2348,"住宅","RC造",{"$f":"INDEX('係数表2-3'!$B:$K, 10 + QUOTIENT(ROW(AL3684)-2, 10), 1 + MOD(ROW(AL3684)-2, 10))","v":0}]
[null,null,null,null,null,null,null,null,null,null,null,null,null,null,null,null,null,null,null,null,null,null,null,null,null,null,null,null,null,null,null,null,null,null,2348,"非住宅","RC造",{"$f":"INDEX('係数表2-3'!$B:$K, 10 + QUOTIENT(ROW(AL3689)-2, 10), 1 + MOD(ROW(AL3689)-2, 10))","v":0}]
[null,null,null,null,null,null,null,null,null,null,null,null,null,null,null,null,null,null,null,null,null,null,null,null,null,null,null,null,null,null,null,null,null,null,2348,"非住宅","S造",{"$f":"INDEX('係数表2-3'!$B:$K, 10 + QUOTIENT(ROW(AL3690)-2, 10), 1 + MOD(ROW(AL3690)-2, 10))","v":0}]
[null,null,null,null,null,null,null,null,null,null,null,null,null,null,null,null,null,null,null,null,null,null,null,null,null,null,null,null,null,null,null,null,null,null,2349,"住宅","S造",{"$f":"INDEX('係数表2-3'!$B:$K, 10 + QUOTIENT(ROW(AL3695)-2, 10), 1 + MOD(ROW(AL3695)-2, 10))","v":0}]
[null,null,null,null,null,null,null,null,null,null,null,null,null,null,null,null,null,null,null,null,null,null,null,null,null,null,null,null,null,null,null,null,null,null,2349,"非住宅","S造",{"$f":"INDEX('係数表2-3'!$B:$K, 10 + QUOTIENT(ROW(AL3700)-2, 10), 1 + MOD(ROW(AL3700)-2, 10))","v":0}]
[null,null,null,null,null,null,null,null,null,null,null,null,null,null,null,null,null,null,null,null,null,null,null,null,null,null,null,null,null,null,null,null,null,null,2350,"住宅","S造",{"$f":"INDEX('係数表2-3'!$B:$K, 10 + QUOTIENT(ROW(AL3705)-2, 10), 1 + MOD(ROW(AL3705)-2, 10))","v":0}]
[null,null,null,null,null,null,null,null,null,null,null,null,null,null,null,null,null,null,null,null,null,null,null,null,null,null,null,null,null,null,null,null,null,null,2350,"住宅","その他",{"$f":"INDEX('係数表2-3'!$B:$K, 10 + QUOTIENT(ROW(AL3706)-2, 10), 1 + MOD(ROW(AL3706)-2, 10))","v":0}]
[null,null,null,null,null,null,null,null,null,null,null,null,null,null,null,null,null,null,null,null,null,null,null,null,null,null,null,null,null,null,null,null,null,null,2350,"非住宅","その他",{"$f":"INDEX('係数表2-3'!$B:$K, 10 + QUOTIENT(ROW(AL3711)-2, 10), 1 + MOD(ROW(AL3711)-2, 10))","v":0}]
[null,null,null,null,null,null,null,null,null,null,null,null,null,null,null,null,null,null,null,null,null,null,null,null,null,null,null,null,null,null,null,null,null,null,2351,"住宅","その他",{"$f":"INDEX('係数表2-3'!$B:$K, 10 + QUOTIENT(ROW(AL3716)-2, 10), 1 + MOD(ROW(AL3716)-2, 10))","v":0}]
[null,null,null,null,null,null,null,null,null,null,null,null,null,null,null,null,null,null,null,null,null,null,null,null,null,null,null,null,null,null,null,null,null,null,2351,"非住宅","その他",{"$f":"INDEX('係数表2-3'!$B:$K, 10 + QUOTIENT(ROW(AL3721)-2, 10), 1 + MOD(ROW(AL3721)-2, 10))","v":0}]
[null,null,null,null,null,null,null,null,null,null,null,null,null,null,null,null,null,null,null,null,null,null,null,null,null,null,null,null,null,null,null,null,null,null,2352,"住宅","木造",{"$f":"INDEX('係数表2-3'!$B:$K, 10 + QUOTIENT(ROW(AL3722)-2, 10), 1 + MOD(ROW(AL3722)-2, 10))","v":0}]
[null,null,null,null,null,null,null,null,null,null,null,null,null,null,null,null,null,null,null,null,null,null,null,null,null,null,null,null,null,null,null,null,null,null,2352,"非住宅","木造",{"$f":"INDEX('係数表2-3'!$B:$K, 10 + QUOTIENT(ROW(AL3727)-2, 10), 1 + MOD(ROW(AL3727)-2, 10))","v":0}]
[null,null,null,null,null,null,null,null,null,null,null,null,null,null,null,null,null,null,null,null,null,null,null,null,null,null,null,null,null,null,null,null,null,null,2353,"住宅","木造",{"$f":"INDEX('係数表2-3'!$B:$K, 10 + QUOTIENT(ROW(AL3732)-2, 10), 1 + MOD(ROW(AL3732)-2, 10))","v":0}]
[null,null,null,null,null,null,null,null,null,null,null,null,null,null,null,null,null,null,null,null,null,null,null,null,null,null,null,null,null,null,null,null,null,null,2353,"非住宅","木造",{"$f":"INDEX('係数表2-3'!$B:$K, 10 + QUOTIENT(ROW(AL3737)-2, 10), 1 + MOD(ROW(AL3737)-2, 10))","v":0}]
[null,null,null,null,null,null,null,null,null,null,null,null,null,null,null,null,null,null,null,null,null,null,null,null,null,null,null,null,null,null,null,null,null,null,2353,"非住宅","SRC造",{"$f":"INDEX('係数表2-3'!$B:$K, 10 + QUOTIENT(ROW(AL3738)-2, 10), 1 + MOD(ROW(AL3738)-2, 10))","v":0}]
[null,null,null,null,null,null,null,null,null,null,null,null,null,null,null,null,null,null,null,null,null,null,null,null,null,null,null,null,null,null,null,null,null,null,2354,"住宅","SRC造",{"$f":"INDEX('係数表2-3'!$B:$K, 10 + QUOTIENT(ROW(AL3743)-2, 10), 1 + MOD(ROW(AL3743)-2, 10))","v":0}]
[null,null,null,null,null,null,null,null,null,null,null,null,null,null,null,null,null,null,null,null,null,null,null,null,null,null,null,null,null,null,null,null,null,null,2354,"非住宅","木造",{"$f":"INDEX('係数表2-3'!$B:$K, 10 + QUOTIENT(ROW(AL3747)-2, 10), 1 + MOD(ROW(AL3747)-2, 10))","v":0}]
[null,null,null,null,null,null,null,null,null,null,null,null,null,null,null,null,null,null,null,null,null,null,null,null,null,null,null,null,null,null,null,null,null,null,2355,"住宅","木造",{"$f":"INDEX('係数表2-3'!$B:$K, 10 + QUOTIENT(ROW(AL3752)-2, 10), 1 + MOD(ROW(AL3752)-2, 10))","v":0}]
[null,null,null,null,null,null,null,null,null,null,null,null,null,null,null,null,null,null,null,null,null,null,null,null,null,null,null,null,null,null,null,null,null,null,2355,"住宅","SRC造",{"$f":"INDEX('係数表2-3'!$B:$K, 10 + QUOTIENT(ROW(AL3753)-2, 10), 1 + MOD(ROW(AL3753)-2, 10))","v":0}]
[null,null,null,null,null,null,null,null,null,null,null,null,null,null,null,null,null,null,null,null,null,null,null,null,null,null,null,null,null,null,null,null,null,null,2355,"非住宅","SRC造",{"$f":"INDEX('係数表2-3'!$B:$K, 10 + QUOTIENT(ROW(AL3758)-2, 10), 1 + MOD(ROW(AL3758)-2, 10))","v":0}]
[null,null,null,null,null,null,null,null,null,null,null,null,null,null,null,null,null,null,null,null,null,null,null,null,null,null,null,null,null,null,null,null,null,null,2356,"住宅","SRC造",{"$f":"INDEX('係数表2-3'!$B:$K, 10 + QUOTIENT(ROW(AL3763)-2, 10), 1 + MOD(ROW(AL3763)-2, 10))","v":0}]
[null,null,null,null,null,null,null,null,null,null,null,null,null,null,null,null,null,null,null,null,null,null,null,null,null,null,null,null,null,null,null,null,null,null,2356,"非住宅","SRC造",{"$f":"INDEX('係数表2-3'!$B:$K, 10 + QUOTIENT(ROW(AL3768)-2, 10), 1 + MOD(ROW(AL3768)-2, 10))","v":0}]
[null,null,null,null,null,null,null,null,null,null,null,null,null,null,null,null,null,null,null,null,null,null,null,null,null,null,null,null,null,null,null,null,null,null,2356,"非住宅","RC造",{"$f":"INDEX('係数表2-3'!$B:$K, 10 + QUOTIENT(ROW(AL3769)-2, 10), 1 + MOD(ROW(AL3769)-2, 10))","v":0}]
[null,null,null,null,null,null,null,null,null,null,null,null,null,null,null,null,null,null,null,null,null,null,null,null,null,null,null,null,null,null,null,null,null,null,2357,"住宅","RC造",{"$f":"INDEX('係数表2-3'!$B:$K, 10 + QUOTIENT(ROW(AL3774)-2, 10), 1 + MOD(ROW(AL3774)-2, 10))","v":0}]
[null,null,null,null,null,null,null,null,null,null,null,null,null,null,null,null,null,null,null,null,null,null,null,null,null,null,null,null,null,null,null,null,null,null,2357,"非住宅","RC造",{"$f":"INDEX('係数表2-3'!$B:$K, 10 + QUOTIENT(ROW(AL3779)-2, 10), 1 + MOD(ROW(AL3779)-2, 10))","v":0}]
[null,null,null,null,null,null,null,null,null,null,null,null,null,null,null,null,null,null,null,null,null,null,null,null,null,null,null,null,null,null,null,null,null,null,2358,"住宅","RC造",{"$f":"INDEX('係数表2-3'!$B:$K, 10 + QUOTIENT(ROW(AL3784)-2, 10), 1 + MOD(ROW(AL3784)-2, 10))","v":0}]
[null,null,null,null,null,null,null,null,null,null,null,null,null,null,null,null,null,null,null,null,null,null,null,null,null,null,null,null,null,null,null,null,null,null,2358,"住宅","S造",{"$f":"INDEX('係数表2-3'!$B:$K, 10 + QUOTIENT(ROW(AL3785)-2, 10), 1 + MOD(ROW(AL3785)-2, 10))","v":0}]
[null,null,null,null,null,null,null,null,null,null,null,null,null,null,null,null,null,null,null,null,null,null,null,null,null,null,null,null,null,null,null,null,null,null,2358,"非住宅","S造",{"$f":"INDEX('係数表2-3'!$B:$K, 10 + QUOTIENT(ROW(AL3790)-2, 10), 1 + MOD(ROW(AL3790)-2, 10))","v":0}]
[null,null,null,null,null,null,null,null,null,null,null,null,null,null,null,null,null,null,null,null,null,null,null,null,null,null,null,null,null,null,null,null,null,null,2359,"住宅","S造",{"$f":"INDEX('係数表2-3'!$B:$K, 10 + QUOTIENT(ROW(AL3795)-2, 10), 1 + MOD(ROW(AL3795)-2, 10))","v":0}]
[null,null,null,null,null,null,null,null,null,null,null,null,null,null,null,null,null,null,null,null,null,null,null,null,null,null,null,null,null,null,null,null,null,null,2359,"非住宅","S造",{"$f":"INDEX('係数表2-3'!$B:$K, 10 + QUOTIENT(ROW(AL3800)-2, 10), 1 + MOD(ROW(AL3800)-2, 10))","v":0}]
[null,null,null,null,null,null,null,null,null,null,null,null,null,null,null,null,null,null,null,null,null,null,null,null,null,null,null,null,null,null,null,null,null,null,2359,"非住宅","その他",{"$f":"INDEX('係数表2-3'!$B:$K, 10 + QUOTIENT(ROW(AL3801)-2, 10), 1 + MOD(ROW(AL3801)-2, 10))","v":0}]
[null,null,null,null,null,null,null,null,null,null,null,null,null,null,null,null,null,null,null,null,null,null,null,null,null,null,null,null,null,null,null,null,null,null,2360,"住宅","その他",{"$f":"INDEX('係数表2-3'!$B:$K, 10 + QUOTIENT(ROW(AL3806)-2, 10), 1 + MOD(ROW(AL3806)-2, 10))","v":0}]
[null,null,null,null,null,null,null,null,null,null,null,null,null,null,null,null,null,null,null,null,null,null,null,null,null,null,null,null,null,null,null,null,null,null,2360,"非住宅","その他",{"$f":"INDEX('係数表2-3'!$B:$K, 10 + QUOTIENT(ROW(AL3811)-2, 10), 1 + MOD(ROW(AL3811)-2, 10))","v":0}]
[null,null,null,null,null,null,null,null,null,null,null,null,null,null,null,null,null,null,null,null,null,null,null,null,null,null,null,null,null,null,null,null,null,null,2361,"住宅","その他",{"$f":"INDEX('係数表2-3'!$B:$K, 10 + QUOTIENT(ROW(AL3816)-2, 10), 1 + MOD(ROW(AL3816)-2, 10))","v":0}]
[null,null,null,null,null,null,null,null,null,null,null,null,null,null,null,null,null,null,null,null,null,null,null,null,null,null,null,null,null,null,null,null,null,null,2361,"非住宅","木造",{"$f":"INDEX('係数表2-3'!$B:$K, 10 + QUOTIENT(ROW(AL3817)-2, 10), 1 + MOD(ROW(AL3817)-2, 10))","v":0}]
[null,null,null,null,null,null,null,null,null,null,null,null,null,null,null,null,null,null,null,null,null,null,null,null,null,null,null,null,null,null,null,null,null,null,2362,"住宅","木造",{"$f":"INDEX('係数表2-3'!$B:$K, 10 + QUOTIENT(ROW(AL3822)-2, 10), 1 + MOD(ROW(AL3822)-2, 10))","v":0}]
[null,null,null,null,null,null,null,null,null,null,null,null,null,null,null,null,null,null,null,null,null,null,null,null,null,null,null,null,null,null,null,null,null,null,2362,"非住宅","木造",{"$f":"INDEX('係数表2-3'!$B:$K, 10 + QUOTIENT(ROW(AL3827)-2, 10), 1 + MOD(ROW(AL3827)-2, 10))","v":0}]
[null,null,null,null,null,null,null,null,null,null,null,null,null,null,null,null,null,null,null,null,null,null,null,null,null,null,null,null,null,null,null,null,null,null,2363,"住宅","木造",{"$f":"INDEX('係数表2-3'!$B:$K, 10 + QUOTIENT(ROW(AL3832)-2, 10), 1 + MOD(ROW(AL3832)-2, 10))","v":0}]
[null,null,null,null,null,null,null,null,null,null,null,null,null,null,null,null,null,null,null,null,null,null,null,null,null,null,null,null,null,null,null,null,null,null,2363,"住宅","SRC造",{"$f":"INDEX('係数表2-3'!$B:$K, 10 + QUOTIENT(ROW(AL3833)-2, 10), 1 + MOD(ROW(AL3833)-2, 10))","v":0}]
[null,null,null,null,null,null,null,null,null,null,null,null,null,null,null,null,null,null,null,null,null,null,null,null,null,null,null,null,null,null,null,null,null,null,2363,"非住宅","SRC造",{"$f":"INDEX('係数表2-3'!$B:$K, 10 + QUOTIENT(ROW(AL3838)-2, 10), 1 + MOD(ROW(AL3838)-2, 10))","v":0}]
[null,null,null,null,null,null,null,null,null,null,null,null,null,null,null,null,null,null,null,null,null,null,null,null,null,null,null,null,null,null,null,null,null,null,2364,"住宅","木造",{"$f":"INDEX('係数表2-3'!$B:$K, 10 + QUOTIENT(ROW(AL3842)-2, 10), 1 + MOD(ROW(AL3842)-2, 10))","v":0}]
[null,null,null,null,null,null,null,null,null,null,null,null,null,null,null,null,null,null,null,null,null,null,null,null,null,null,null,null,null,null,null,null,null,null,2364,"非住宅","木造",{"$f":"INDEX('係数表2-3'!$B:$K, 10 + QUOTIENT(ROW(AL3847)-2, 10), 1 + MOD(ROW(AL3847)-2, 10))","v":0}]
[null,null,null,null,null,null,null,null,null,null,null,null,null,null,null,null,null,null,null,null,null,null,null,null,null,null,null,null,null,null,null,null,null,null,2364,"非住宅","SRC造",{"$f":"INDEX('係数表2-3'!$B:$K, 10 + QUOTIENT(ROW(AL3848)-2, 10), 1 + MOD(ROW(AL3848)-2, 10))","v":0}]
[null,null,null,null,null,null,null,null,null,null,null,null,null,null,null,null,null,null,null,null,null,null,null,null,null,null,null,null,null,null,null,null,null,null,2365,"住宅","SRC造",{"$f":"INDEX('係数表2-3'!$B:$K, 10 + QUOTIENT(ROW(AL3853)-2, 10), 1 + MOD(ROW(AL3853)-2, 10))","v":0}]
[null,null,null,null,null,null,null,null,null,null,null,null,null,null,null,null,null,null,null,null,null,null,null,null,null,null,null,null,null,null,null,null,null,null,2365,"非住宅","SRC造",{"$f":"INDEX('係数表2-3'!$B:$K, 10 + QUOTIENT(ROW(AL3858)-2, 10), 1 + MOD(ROW(AL3858)-2, 10))","v":0}]
[null,null,null,null,null,null,null,null,null,null,null,null,null,null,null,null,null,null,null,null,null,null,null,null,null,null,null,null,null,null,null,null,null,null,2366,"住宅","SRC造",{"$f":"INDEX('係数表2-3'!$B:$K, 10 + QUOTIENT(ROW(AL3863)-2, 10), 1 + MOD(ROW(AL3863)-2, 10))","v":0}]
[null,null,null,null,null,null,null,null,null,null,null,null,null,null,null,null,null,null,null,null,null,null,null,null,null,null,null,null,null,null,null,null,null,null,2366,"住宅","RC造",{"$f":"INDEX('係数表2-3'!$B:$K, 10 + QUOTIENT(ROW(AL3864)-2, 10), 1 + MOD(ROW(AL3864)-2, 10))","v":0}]
[null,null,null,null,null,null,null,null,null,null,null,null,null,null,null,null,null,null,null,null,null,null,null,null,null,null,null,null,null,null,null,null,null,null,2366,"非住宅","RC造",{"$f":"INDEX('係数表2-3'!$B:$K, 10 + QUOTIENT(ROW(AL3869)-2, 10), 1 + MOD(ROW(AL3869)-2, 10))","v":0}]
[null,null,null,null,null,null,null,null,null,null,null,null,null,null,null,null,null,null,null,null,null,null,null,null,null,null,null,null,null,null,null,null,null,null,2367,"住宅","RC造",{"$f":"INDEX('係数表2-3'!$B:$K, 10 + QUOTIENT(ROW(AL3874)-2, 10), 1 + MOD(ROW(AL3874)-2, 10))","v":0}]
[null,null,null,null,null,null,null,null,null,null,null,null,null,null,null,null,null,null,null,null,null,null,null,null,null,null,null,null,null,null,null,null,null,null,2367,"非住宅","RC造",{"$f":"INDEX('係数表2-3'!$B:$K, 10 + QUOTIENT(ROW(AL3879)-2, 10), 1 + MOD(ROW(AL3879)-2, 10))","v":0}]
[null,null,null,null,null,null,null,null,null,null,null,null,null,null,null,null,null,null,null,null,null,null,null,null,null,null,null,null,null,null,null,null,null,null,2367,"非住宅","S造",{"$f":"INDEX('係数表2-3'!$B:$K, 10 + QUOTIENT(ROW(AL3880)-2, 10), 1 + MOD(ROW(AL3880)-2, 10))","v":0}]
[null,null,null,null,null,null,null,null,null,null,null,null,null,null,null,null,null,null,null,null,null,null,null,null,null,null,null,null,null,null,null,null,null,null,2368,"住宅","S造",{"$f":"INDEX('係数表2-3'!$B:$K, 10 + QUOTIENT(ROW(AL3885)-2, 10), 1 + MOD(ROW(AL3885)-2, 10))","v":0}]
[null,null,null,null,null,null,null,null,null,null,null,null,null,null,null,null,null,null,null,null,null,null,null,null,null,null,null,null,null,null,null,null,null,null,2368,"非住宅","S造",{"$f":"INDEX('係数表2-3'!$B:$K, 10 + QUOTIENT(ROW(AL3890)-2, 10), 1 + MOD(ROW(AL3890)-2, 10))","v":0}]
[null,null,null,null,null,null,null,null,null,null,null,null,null,null,null,null,null,null,null,null,null,null,null,null,null,null,null,null,null,null,null,null,null,null,2369,"住宅","S造",{"$f":"INDEX('係数表2-3'!$B:$K, 10 + QUOTIENT(ROW(AL3895)-2, 10), 1 + MOD(ROW(AL3895)-2, 10))","v":0}]
[null,null,null,null,null,null,null,null,null,null,null,null,null,null,null,null,null,null,null,null,null,null,null,null,null,null,null,null,null,null,null,null,null,null,2369,"住宅","その他",{"$f":"INDEX('係数表2-3'!$B:$K, 10 + QUOTIENT(ROW(AL3896)-2, 10), 1 + MOD(ROW(AL3896)-2, 10))","v":0}]
[null,null,null,null,null,null,null,null,null,null,null,null,null,null,null,null,null,null,null,null,null,null,null,null,null,null,null,null,null,null,null,null,null,null,2369,"非住宅","その他",{"$f":"INDEX('係数表2-3'!$B:$K, 10 + QUOTIENT(ROW(AL3901)-2, 10), 1 + MOD(ROW(AL3901)-2, 10))","v":0}]
[null,null,null,null,null,null,null,null,null,null,null,null,null,null,null,null,null,null,null,null,null,null,null,null,null,null,null,null,null,null,null,null,null,null,2370,"住宅","その他",{"$f":"INDEX('係数表2-3'!$B:$K, 10 + QUOTIENT(ROW(AL3906)-2, 10), 1 + MOD(ROW(AL3906)-2, 10))","v":0}]
[null,null,null,null,null,null,null,null,null,null,null,null,null,null,null,null,null,null,null,null,null,null,null,null,null,null,null,null,null,null,null,null,null,null,2370,"非住宅","その他",{"$f":"INDEX('係数表2-3'!$B:$K, 10 + QUOTIENT(ROW(AL3911)-2, 10), 1 + MOD(ROW(AL3911)-2, 10))","v":0}]
[null,null,null,null,null,null,null,null,null,null,null,null,null,null,null,null,null,null,null,null,null,null,null,null,null,null,null,null,null,null,null,null,null,null,2371,"住宅","木造",{"$f":"INDEX('係数表2-3'!$B:$K, 10 + QUOTIENT(ROW(AL3912)-2, 10), 1 + MOD(ROW(AL3912)-2, 10))","v":0}]
[null,null,null,null,null,null,null,null,null,null,null,null,null,null,null,null,null,null,null,null,null,null,null,null,null,null,null,null,null,null,null,null,null,null,2371,"非住宅","木造",{"$f":"INDEX('係数表2-3'!$B:$K, 10 + QUOTIENT(ROW(AL3917)-2, 10), 1 + MOD(ROW(AL3917)-2, 10))","v":0}]
[null,null,null,null,null,null,null,null,null,null,null,null,null,null,null,null,null,null,null,null,null,null,null,null,null,null,null,null,null,null,null,null,null,null,2372,"住宅","木造",{"$f":"INDEX('係数表2-3'!$B:$K, 10 + QUOTIENT(ROW(AL3922)-2, 10), 1 + MOD(ROW(AL3922)-2, 10))","v":0}]
[null,null,null,null,null,null,null,null,null,null,null,null,null,null,null,null,null,null,null,null,null,null,null,null,null,null,null,null,null,null,null,null,null,null,2372,"非住宅","木造",{"$f":"INDEX('係数表2-3'!$B:$K, 10 + QUOTIENT(ROW(AL3927)-2, 10), 1 + MOD(ROW(AL3927)-2, 10))","v":0}]
[null,null,null,null,null,null,null,null,null,null,null,null,null,null,null,null,null,null,null,null,null,null,null,null,null,null,null,null,null,null,null,null,null,null,2372,"非住宅","SRC造",{"$f":"INDEX('係数表2-3'!$B:$K, 10 + QUOTIENT(ROW(AL3928)-2, 10), 1 + MOD(ROW(AL3928)-2, 10))","v":0}]
[null,null,null,null,null,null,null,null,null,null,null,null,null,null,null,null,null,null,null,null,null,null,null,null,null,null,null,null,null,null,null,null,null,null,2373,"住宅","SRC造",{"$f":"INDEX('係数表2-3'!$B:$K, 10 + QUOTIENT(ROW(AL3933)-2, 10), 1 + MOD(ROW(AL3933)-2, 10))","v":0}]
[null,null,null,null,null,null,null,null,null,null,null,null,null,null,null,null,null,null,null,null,null,null,null,null,null,null,null,null,null,null,null,null,null,null,2373,"非住宅","SRC造",{"$f":"INDEX('係数表2-3'!$B:$K, 10 + QUOTIENT(ROW(AL3938)-2, 10), 1 + MOD(ROW(AL3938)-2, 10))","v":0}]
[null,null,null,null,null,null,null,null,null,null,null,null,null,null,null,null,null,null,null,null,null,null,null,null,null,null,null,null,null,null,null,null,null,null,2374,"住宅","SRC造",{"$f":"INDEX('係数表2-3'!$B:$K, 10 + QUOTIENT(ROW(AL3943)-2, 10), 1 + MOD(ROW(AL3943)-2, 10))","v":0}]
[null,null,null,null,null,null,null,null,null,null,null,null,null,null,null,null,null,null,null,null,null,null,null,null,null,null,null,null,null,null,null,null,null,null,2374,"住宅","その他",{"$f":"INDEX('係数表2-3'!$B:$K, 10 + QUOTIENT(ROW(AL3946)-2, 10), 1 + MOD(ROW(AL3946)-2, 10))","v":0}]
[null,null,null,null,null,null,null,null,null,null,null,null,null,null,null,null,null,null,null,null,null,null,null,null,null,null,null,null,null,null,null,null,null,null,2374,"非住宅","SRC造",{"$f":"INDEX('係数表2-3'!$B:$K, 10 + QUOTIENT(ROW(AL3948)-2, 10), 1 + MOD(ROW(AL3948)-2, 10))","v":0}]
[null,null,null,null,null,null,null,null,null,null,null,null,null,null,null,null,null,null,null,null,null,null,null,null,null,null,null,null,null,null,null,null,null,null,2375,"住宅","SRC造",{"$f":"INDEX('係数表2-3'!$B:$K, 10 + QUOTIENT(ROW(AL3953)-2, 10), 1 + MOD(ROW(AL3953)-2, 10))","v":0}]
[null,null,null,null,null,null,null,null,null,null,null,null,null,null,null,null,null,null,null,null,null,null,null,null,null,null,null,null,null,null,null,null,null,null,2375,"非住宅","SRC造",{"$f":"INDEX('係数表2-3'!$B:$K, 10 + QUOTIENT(ROW(AL3958)-2, 10), 1 + MOD(ROW(AL3958)-2, 10))","v":0}]
[null,null,null,null,null,null,null,null,null,null,null,null,null,null,null,null,null,null,null,null,null,null,null,null,null,null,null,null,null,null,null,null,null,null,2375,"非住宅","RC造",{"$f":"INDEX('係数表2-3'!$B:$K, 10 + QUOTIENT(ROW(AL3959)-2, 10), 1 + MOD(ROW(AL3959)-2, 10))","v":0}]
[null,null,null,null,null,null,null,null,null,null,null,null,null,null,null,null,null,null,null,null,null,null,null,null,null,null,null,null,null,null,null,null,null,null,2376,"住宅","RC造",{"$f":"INDEX('係数表2-3'!$B:$K, 10 + QUOTIENT(ROW(AL3964)-2, 10), 1 + MOD(ROW(AL3964)-2, 10))","v":0}]
[null,null,null,null,null,null,null,null,null,null,null,null,null,null,null,null,null,null,null,null,null,null,null,null,null,null,null,null,null,null,null,null,null,null,2376,"非住宅","RC造",{"$f":"INDEX('係数表2-3'!$B:$K, 10 + QUOTIENT(ROW(AL3969)-2, 10), 1 + MOD(ROW(AL3969)-2, 10))","v":0}]
[null,null,null,null,null,null,null,null,null,null,null,null,null,null,null,null,null,null,null,null,null,null,null,null,null,null,null,null,null,null,null,null,null,null,2377,"住宅","RC造",{"$f":"INDEX('係数表2-3'!$B:$K, 10 + QUOTIENT(ROW(AL3974)-2, 10), 1 + MOD(ROW(AL3974)-2, 10))","v":0}]
[null,null,null,null,null,null,null,null,null,null,null,null,null,null,null,null,null,null,null,null,null,null,null,null,null,null,null,null,null,null,null,null,null,null,2377,"住宅","S造",{"$f":"INDEX('係数表2-3'!$B:$K, 10 + QUOTIENT(ROW(AL3975)-2, 10), 1 + MOD(ROW(AL3975)-2, 10))","v":0}]
[null,null,null,null,null,null,null,null,null,null,null,null,null,null,null,null,null,null,null,null,null,null,null,null,null,null,null,null,null,null,null,null,null,null,2377,"非住宅","S造",{"$f":"INDEX('係数表2-3'!$B:$K, 10 + QUOTIENT(ROW(AL3980)-2, 10), 1 + MOD(ROW(AL3980)-2, 10))","v":0}]
[null,null,null,null,null,null,null,null,null,null,null,null,null,null,null,null,null,null,null,null,null,null,null,null,null,null,null,null,null,null,null,null,null,null,2378,"住宅","S造",{"$f":"INDEX('係数表2-3'!$B:$K, 10 + QUOTIENT(ROW(AL3985)-2, 10), 1 + MOD(ROW(AL3985)-2, 10))","v":0}]
[null,null,null,null,null,null,null,null,null,null,null,null,null,null,null,null,null,null,null,null,null,null,null,null,null,null,null,null,null,null,null,null,null,null,2378,"非住宅","S造",{"$f":"INDEX('係数表2-3'!$B:$K, 10 + QUOTIENT(ROW(AL3990)-2, 10), 1 + MOD(ROW(AL3990)-2, 10))","v":0}]
[null,null,null,null,null,null,null,null,null,null,null,null,null,null,null,null,null,null,null,null,null,null,null,null,null,null,null,null,null,null,null,null,null,null,2378,"非住宅","その他",{"$f":"INDEX('係数表2-3'!$B:$K, 10 + QUOTIENT(ROW(AL3991)-2, 10), 1 + MOD(ROW(AL3991)-2, 10))","v":0}]
[null,null,null,null,null,null,null,null,null,null,null,null,null,null,null,null,null,null,null,null,null,null,null,null,null,null,null,null,null,null,null,null,null,null,2379,"住宅","その他",{"$f":"INDEX('係数表2-3'!$B:$K, 10 + QUOTIENT(ROW(AL3996)-2, 10), 1 + MOD(ROW(AL3996)-2, 10))","v":0}]
[null,null,null,null,null,null,null,null,null,null,null,null,null,null,null,null,null,null,null,null,null,null,null,null,null,null,null,null,null,null,null,null,null,null,2379,"非住宅","その他",{"$f":"INDEX('係数表2-3'!$B:$K, 10 + QUOTIENT(ROW(AL4001)-2, 10), 1 + MOD(ROW(AL4001)-2, 10))","v":0}]
[null,null,null,null,null,null,null,null,null,null,null,null,null,null,null,null,null,null,null,null,null,null,null,null,null,null,null,null,null,null,null,null,null,null,2380,"住宅","その他",{"$f":"INDEX('係数表2-3'!$B:$K, 10 + QUOTIENT(ROW(AL4006)-2, 10), 1 + MOD(ROW(AL4006)-2, 10))","v":0}]
[null,null,null,null,null,null,null,null,null,null,null,null,null,null,null,null,null,null,null,null,null,null,null,null,null,null,null,null,null,null,null,null,null,null,2380,"非住宅","木造",{"$f":"INDEX('係数表2-3'!$B:$K, 10 + QUOTIENT(ROW(AL4007)-2, 10), 1 + MOD(ROW(AL4007)-2, 10))","v":0}]
[null,null,null,null,null,null,null,null,null,null,null,null,null,null,null,null,null,null,null,null,null,null,null,null,null,null,null,null,null,null,null,null,null,null,2381,"住宅","木造",{"$f":"INDEX('係数表2-3'!$B:$K, 10 + QUOTIENT(ROW(AL4012)-2, 10), 1 + MOD(ROW(AL4012)-2, 10))","v":0}]
[null,null,null,null,null,null,null,null,null,null,null,null,null,null,null,null,null,null,null,null,null,null,null,null,null,null,null,null,null,null,null,null,null,null,2381,"非住宅","木造",{"$f":"INDEX('係数表2-3'!$B:$K, 10 + QUOTIENT(ROW(AL4017)-2, 10), 1 + MOD(ROW(AL4017)-2, 10))","v":0}]
[null,null,null,null,null,null,null,null,null,null,null,null,null,null,null,null,null,null,null,null,null,null,null,null,null,null,null,null,null,null,null,null,null,null,2382,"住宅","木造",{"$f":"INDEX('係数表2-3'!$B:$K, 10 + QUOTIENT(ROW(AL4022)-2, 10), 1 + MOD(ROW(AL4022)-2, 10))","v":0}]
[null,null,null,null,null,null,null,null,null,null,null,null,null,null,null,null,null,null,null,null,null,null,null,null,null,null,null,null,null,null,null,null,null,null,2382,"住宅","SRC造",{"$f":"INDEX('係数表2-3'!$B:$K, 10 + QUOTIENT(ROW(AL4023)-2, 10), 1 + MOD(ROW(AL4023)-2, 10))","v":0}]
[null,null,null,null,null,null,null,null,null,null,null,null,null,null,null,null,null,null,null,null,null,null,null,null,null,null,null,null,null,null,null,null,null,null,2382,"非住宅","SRC造",{"$f":"INDEX('係数表2-3'!$B:$K, 10 + QUOTIENT(ROW(AL4028)-2, 10), 1 + MOD(ROW(AL4028)-2, 10))","v":0}]
[null,null,null,null,null,null,null,null,null,null,null,null,null,null,null,null,null,null,null,null,null,null,null,null,null,null,null,null,null,null,null,null,null,null,2383,"住宅","SRC造",{"$f":"INDEX('係数表2-3'!$B:$K, 10 + QUOTIENT(ROW(AL4033)-2, 10), 1 + MOD(ROW(AL4033)-2, 10))","v":0}]
[null,null,null,null,null,null,null,null,null,null,null,null,null,null,null,null,null,null,null,null,null,null,null,null,null,null,null,null,null,null,null,null,null,null,2383,"非住宅","SRC造",{"$f":"INDEX('係数表2-3'!$B:$K, 10 + QUOTIENT(ROW(AL4038)-2, 10), 1 + MOD(ROW(AL4038)-2, 10))","v":0}]
[null,null,null,null,null,null,null,null,null,null,null,null,null,null,null,null,null,null,null,null,null,null,null,null,null,null,null,null,null,null,null,null,null,null,2383,"非住宅","RC造",{"$f":"INDEX('係数表2-3'!$B:$K, 10 + QUOTIENT(ROW(AL4039)-2, 10), 1 + MOD(ROW(AL4039)-2, 10))","v":0}]
[null,null,null,null,null,null,null,null,null,null,null,null,null,null,null,null,null,null,null,null,null,null,null,null,null,null,null,null,null,null,null,null,null,null,2384,"住宅","RC造",{"$f":"INDEX('係数表2-3'!$B:$K, 10 + QUOTIENT(ROW(AL4044)-2, 10), 1 + MOD(ROW(AL4044)-2, 10))","v":0}]
[null,null,null,null,null,null,null,null,null,null,null,null,null,null,null,null,null,null,null,null,null,null,null,null,null,null,null,null,null,null,null,null,null,null,2384,"非住宅","木造",{"$f":"INDEX('係数表2-3'!$B:$K, 10 + QUOTIENT(ROW(AL4047)-2, 10), 1 + MOD(ROW(AL4047)-2, 10))","v":0}]
[null,null,null,null,null,null,null,null,null,null,null,null,null,null,null,null,null,null,null,null,null,null,null,null,null,null,null,null,null,null,null,null,null,null,2385,"住宅","SRC造",{"$f":"INDEX('係数表2-3'!$B:$K, 10 + QUOTIENT(ROW(AL4053)-2, 10), 1 + MOD(ROW(AL4053)-2, 10))","v":0}]
[null,null,null,null,null,null,null,null,null,null,null,null,null,null,null,null,null,null,null,null,null,null,null,null,null,null,null,null,null,null,null,null,null,null,2385,"住宅","RC造",{"$f":"INDEX('係数表2-3'!$B:$K, 10 + QUOTIENT(ROW(AL4054)-2, 10), 1 + MOD(ROW(AL4054)-2, 10))","v":0}]
[null,null,null,null,null,null,null,null,null,null,null,null,null,null,null,null,null,null,null,null,null,null,null,null,null,null,null,null,null,null,null,null,null,null,2385,"非住宅","RC造",{"$f":"INDEX('係数表2-3'!$B:$K, 10 + QUOTIENT(ROW(AL4059)-2, 10), 1 + MOD(ROW(AL4059)-2, 10))","v":0}]
[null,null,null,null,null,null,null,null,null,null,null,null,null,null,null,null,null,null,null,null,null,null,null,null,null,null,null,null,null,null,null,null,null,null,2386,"住宅","RC造",{"$f":"INDEX('係数表2-3'!$B:$K, 10 + QUOTIENT(ROW(AL4064)-2, 10), 1 + MOD(ROW(AL4064)-2, 10))","v":0}]
[null,null,null,null,null,null,null,null,null,null,null,null,null,null,null,null,null,null,null,null,null,null,null,null,null,null,null,null,null,null,null,null,null,null,2386,"非住宅","RC造",{"$f":"INDEX('係数表2-3'!$B:$K, 10 + QUOTIENT(ROW(AL4069)-2, 10), 1 + MOD(ROW(AL4069)-2, 10))","v":0}]
[null,null,null,null,null,null,null,null,null,null,null,null,null,null,null,null,null,null,null,null,null,null,null,null,null,null,null,null,null,null,null,null,null,null,2386,"非住宅","S造",{"$f":"INDEX('係数表2-3'!$B:$K, 10 + QUOTIENT(ROW(AL4070)-2, 10), 1 + MOD(ROW(AL4070)-2, 10))","v":0}]
[null,null,null,null,null,null,null,null,null,null,null,null,null,null,null,null,null,null,null,null,null,null,null,null,null,null,null,null,null,null,null,null,null,null,2387,"住宅","S造",{"$f":"INDEX('係数表2-3'!$B:$K, 10 + QUOTIENT(ROW(AL4075)-2, 10), 1 + MOD(ROW(AL4075)-2, 10))","v":0}]
[null,null,null,null,null,null,null,null,null,null,null,null,null,null,null,null,null,null,null,null,null,null,null,null,null,null,null,null,null,null,null,null,null,null,2387,"非住宅","S造",{"$f":"INDEX('係数表2-3'!$B:$K, 10 + QUOTIENT(ROW(AL4080)-2, 10), 1 + MOD(ROW(AL4080)-2, 10))","v":0}]
[null,null,null,null,null,null,null,null,null,null,null,null,null,null,null,null,null,null,null,null,null,null,null,null,null,null,null,null,null,null,null,null,null,null,2388,"住宅","S造",{"$f":"INDEX('係数表2-3'!$B:$K, 10 + QUOTIENT(ROW(AL4085)-2, 10), 1 + MOD(ROW(AL4085)-2, 10))","v":0}]
[null,null,null,null,null,null,null,null,null,null,null,null,null,null,null,null,null,null,null,null,null,null,null,null,null,null,null,null,null,null,null,null,null,null,2388,"住宅","その他",{"$f":"INDEX('係数表2-3'!$B:$K, 10 + QUOTIENT(ROW(AL4086)-2, 10), 1 + MOD(ROW(AL4086)-2, 10))","v":0}]
[null,null,null,null,null,null,null,null,null,null,null,null,null,null,null,null,null,null,null,null,null,null,null,null,null,null,null,null,null,null,null,null,null,null,2388,"非住宅","その他",{"$f":"INDEX('係数表2-3'!$B:$K, 10 + QUOTIENT(ROW(AL4091)-2, 10), 1 + MOD(ROW(AL4091)-2, 10))","v":0}]
[null,null,null,null,null,null,null,null,null,null,null,null,null,null,null,null,null,null,null,null,null,null,null,null,null,null,null,null,null,null,null,null,null,null,2389,"住宅","その他",{"$f":"INDEX('係数表2-3'!$B:$K, 10 + QUOTIENT(ROW(AL4096)-2, 10), 1 + MOD(ROW(AL4096)-2, 10))","v":0}]
[null,null,null,null,null,null,null,null,null,null,null,null,null,null,null,null,null,null,null,null,null,null,null,null,null,null,null,null,null,null,null,null,null,null,2389,"非住宅","その他",{"$f":"INDEX('係数表2-3'!$B:$K, 10 + QUOTIENT(ROW(AL4101)-2, 10), 1 + MOD(ROW(AL4101)-2, 10))","v":0}]
[null,null,null,null,null,null,null,null,null,null,null,null,null,null,null,null,null,null,null,null,null,null,null,null,null,null,null,null,null,null,null,null,null,null,2390,"住宅","木造",{"$f":"INDEX('係数表2-3'!$B:$K, 10 + QUOTIENT(ROW(AL4102)-2, 10), 1 + MOD(ROW(AL4102)-2, 10))","v":0}]
[null,null,null,null,null,null,null,null,null,null,null,null,null,null,null,null,null,null,null,null,null,null,null,null,null,null,null,null,null,null,null,null,null,null,2390,"非住宅","木造",{"$f":"INDEX('係数表2-3'!$B:$K, 10 + QUOTIENT(ROW(AL4107)-2, 10), 1 + MOD(ROW(AL4107)-2, 10))","v":0}]
[null,null,null,null,null,null,null,null,null,null,null,null,null,null,null,null,null,null,null,null,null,null,null,null,null,null,null,null,null,null,null,null,null,null,2391,"住宅","木造",{"$f":"INDEX('係数表2-3'!$B:$K, 10 + QUOTIENT(ROW(AL4112)-2, 10), 1 + MOD(ROW(AL4112)-2, 10))","v":0}]
[null,null,null,null,null,null,null,null,null,null,null,null,null,null,null,null,null,null,null,null,null,null,null,null,null,null,null,null,null,null,null,null,null,null,2391,"非住宅","木造",{"$f":"INDEX('係数表2-3'!$B:$K, 10 + QUOTIENT(ROW(AL4117)-2, 10), 1 + MOD(ROW(AL4117)-2, 10))","v":0}]
[null,null,null,null,null,null,null,null,null,null,null,null,null,null,null,null,null,null,null,null,null,null,null,null,null,null,null,null,null,null,null,null,null,null,2391,"非住宅","SRC造",{"$f":"INDEX('係数表2-3'!$B:$K, 10 + QUOTIENT(ROW(AL4118)-2, 10), 1 + MOD(ROW(AL4118)-2, 10))","v":0}]
[null,null,null,null,null,null,null,null,null,null,null,null,null,null,null,null,null,null,null,null,null,null,null,null,null,null,null,null,null,null,null,null,null,null,2392,"住宅","SRC造",{"$f":"INDEX('係数表2-3'!$B:$K, 10 + QUOTIENT(ROW(AL4123)-2, 10), 1 + MOD(ROW(AL4123)-2, 10))","v":0}]
[null,null,null,null,null,null,null,null,null,null,null,null,null,null,null,null,null,null,null,null,null,null,null,null,null,null,null,null,null,null,null,null,null,null,2392,"非住宅","SRC造",{"$f":"INDEX('係数表2-3'!$B:$K, 10 + QUOTIENT(ROW(AL4128)-2, 10), 1 + MOD(ROW(AL4128)-2, 10))","v":0}]
[null,null,null,null,null,null,null,null,null,null,null,null,null,null,null,null,null,null,null,null,null,null,null,null,null,null,null,null,null,null,null,null,null,null,2393,"住宅","SRC造",{"$f":"INDEX('係数表2-3'!$B:$K, 10 + QUOTIENT(ROW(AL4133)-2, 10), 1 + MOD(ROW(AL4133)-2, 10))","v":0}]
[null,null,null,null,null,null,null,null,null,null,null,null,null,null,null,null,null,null,null,null,null,null,null,null,null,null,null,null,null,null,null,null,null,null,2393,"住宅","RC造",{"$f":"INDEX('係数表2-3'!$B:$K, 10 + QUOTIENT(ROW(AL4134)-2, 10), 1 + MOD(ROW(AL4134)-2, 10))","v":0}]
[null,null,null,null,null,null,null,null,null,null,null,null,null,null,null,null,null,null,null,null,null,null,null,null,null,null,null,null,null,null,null,null,null,null,2393,"非住宅","RC造",{"$f":"INDEX('係数表2-3'!$B:$K, 10 + QUOTIENT(ROW(AL4139)-2, 10), 1 + MOD(ROW(AL4139)-2, 10))","v":0}]
[null,null,null,null,null,null,null,null,null,null,null,null,null,null,null,null,null,null,null,null,null,null,null,null,null,null,null,null,null,null,null,null,null,null,2394,"住宅","RC造",{"$f":"INDEX('係数表2-3'!$B:$K, 10 + QUOTIENT(ROW(AL4144)-2, 10), 1 + MOD(ROW(AL4144)-2, 10))","v":0}]
[null,null,null,null,null,null,null,null,null,null,null,null,null,null,null,null,null,null,null,null,null,null,null,null,null,null,null,null,null,null,null,null,null,null,2394,"非住宅","木造",{"$f":"INDEX('係数表2-3'!$B:$K, 10 + QUOTIENT(ROW(AL4147)-2, 10), 1 + MOD(ROW(AL4147)-2, 10))","v":0}]
[null,null,null,null,null,null,null,null,null,null,null,null,null,null,null,null,null,null,null,null,null,null,null,null,null,null,null,null,null,null,null,null,null,null,2394,"非住宅","RC造",{"$f":"INDEX('係数表2-3'!$B:$K, 10 + QUOTIENT(ROW(AL4149)-2, 10), 1 + MOD(ROW(AL4149)-2, 10))","v":0}]
[null,null,null,null,null,null,null,null,null,null,null,null,null,null,null,null,null,null,null,null,null,null,null,null,null,null,null,null,null,null,null,null,null,null,2395,"住宅","RC造",{"$f":"INDEX('係数表2-3'!$B:$K, 10 + QUOTIENT(ROW(AL4154)-2, 10), 1 + MOD(ROW(AL4154)-2, 10))","v":0}]
[null,null,null,null,null,null,null,null,null,null,null,null,null,null,null,null,null,null,null,null,null,null,null,null,null,null,null,null,null,null,null,null,null,null,2395,"非住宅","RC造",{"$f":"INDEX('係数表2-3'!$B:$K, 10 + QUOTIENT(ROW(AL4159)-2, 10), 1 + MOD(ROW(AL4159)-2, 10))","v":0}]
[null,null,null,null,null,null,null,null,null,null,null,null,null,null,null,null,null,null,null,null,null,null,null,null,null,null,null,null,null,null,null,null,null,null,2396,"住宅","RC造",{"$f":"INDEX('係数表2-3'!$B:$K, 10 + QUOTIENT(ROW(AL4164)-2, 10), 1 + MOD(ROW(AL4164)-2, 10))","v":0}]
[null,null,null,null,null,null,null,null,null,null,null,null,null,null,null,null,null,null,null,null,null,null,null,null,null,null,null,null,null,null,null,null,null,null,2396,"住宅","S造",{"$f":"INDEX('係数表2-3'!$B:$K, 10 + QUOTIENT(ROW(AL4165)-2, 10), 1 + MOD(ROW(AL4165)-2, 10))","v":0}]
[null,null,null,null,null,null,null,null,null,null,null,null,null,null,null,null,null,null,null,null,null,null,null,null,null,null,null,null,null,null,null,null,null,null,2396,"非住宅","S造",{"$f":"INDEX('係数表2-3'!$B:$K, 10 + QUOTIENT(ROW(AL4170)-2, 10), 1 + MOD(ROW(AL4170)-2, 10))","v":0}]
[null,null,null,null,null,null,null,null,null,null,null,null,null,null,null,null,null,null,null,null,null,null,null,null,null,null,null,null,null,null,null,null,null,null,2397,"住宅","S造",{"$f":"INDEX('係数表2-3'!$B:$K, 10 + QUOTIENT(ROW(AL4175)-2, 10), 1 + MOD(ROW(AL4175)-2, 10))","v":0}]
[null,null,null,null,null,null,null,null,null,null,null,null,null,null,null,null,null,null,null,null,null,null,null,null,null,null,null,null,null,null,null,null,null,null,2397,"非住宅","S造",{"$f":"INDEX('係数表2-3'!$B:$K, 10 + QUOTIENT(ROW(AL4180)-2, 10), 1 + MOD(ROW(AL4180)-2, 10))","v":0}]
[null,null,null,null,null,null,null,null,null,null,null,null,null,null,null,null,null,null,null,null,null,null,null,null,null,null,null,null,null,null,null,null,null,null,2397,"非住宅","その他",{"$f":"INDEX('係数表2-3'!$B:$K, 10 + QUOTIENT(ROW(AL4181)-2, 10), 1 + MOD(ROW(AL4181)-2, 10))","v":0}]
[null,null,null,null,null,null,null,null,null,null,null,null,null,null,null,null,null,null,null,null,null,null,null,null,null,null,null,null,null,null,null,null,null,null,2398,"住宅","その他",{"$f":"INDEX('係数表2-3'!$B:$K, 10 + QUOTIENT(ROW(AL4186)-2, 10), 1 + MOD(ROW(AL4186)-2, 10))","v":0}]
[null,null,null,null,null,null,null,null,null,null,null,null,null,null,null,null,null,null,null,null,null,null,null,null,null,null,null,null,null,null,null,null,null,null,2398,"非住宅","その他",{"$f":"INDEX('係数表2-3'!$B:$K, 10 + QUOTIENT(ROW(AL4191)-2, 10), 1 + MOD(ROW(AL4191)-2, 10))","v":0}]
[null,null,null,null,null,null,null,null,null,null,null,null,null,null,null,null,null,null,null,null,null,null,null,null,null,null,null,null,null,null,null,null,null,null,2399,"住宅","その他",{"$f":"INDEX('係数表2-3'!$B:$K, 10 + QUOTIENT(ROW(AL4196)-2, 10), 1 + MOD(ROW(AL4196)-2, 10))","v":0}]
[null,null,null,null,null,null,null,null,null,null,null,null,null,null,null,null,null,null,null,null,null,null,null,null,null,null,null,null,null,null,null,null,null,null,2399,"非住宅","木造",{"$f":"INDEX('係数表2-3'!$B:$K, 10 + QUOTIENT(ROW(AL4197)-2, 10), 1 + MOD(ROW(AL4197)-2, 10))","v":0}]
[null,null,null,null,null,null,null,null,null,null,null,null,null,null,null,null,null,null,null,null,null,null,null,null,null,null,null,null,null,null,null,null,null,null,2400,"住宅","木造",{"$f":"INDEX('係数表2-3'!$B:$K, 10 + QUOTIENT(ROW(AL4202)-2, 10), 1 + MOD(ROW(AL4202)-2, 10))","v":0}]
[null,null,null,null,null,null,null,null,null,null,null,null,null,null,null,null,null,null,null,null,null,null,null,null,null,null,null,null,null,null,null,null,null,null,2400,"非住宅","木造",{"$f":"INDEX('係数表2-3'!$B:$K, 10 + QUOTIENT(ROW(AL4207)-2, 10), 1 + MOD(ROW(AL4207)-2, 10))","v":0}]
[null,null,null,null,null,null,null,null,null,null,null,null,null,null,null,null,null,null,null,null,null,null,null,null,null,null,null,null,null,null,null,null,null,null,2401,"住宅","木造",{"$f":"INDEX('係数表2-3'!$B:$K, 10 + QUOTIENT(ROW(AL4212)-2, 10), 1 + MOD(ROW(AL4212)-2, 10))","v":0}]
[null,null,null,null,null,null,null,null,null,null,null,null,null,null,null,null,null,null,null,null,null,null,null,null,null,null,null,null,null,null,null,null,null,null,2401,"住宅","SRC造",{"$f":"INDEX('係数表2-3'!$B:$K, 10 + QUOTIENT(ROW(AL4213)-2, 10), 1 + MOD(ROW(AL4213)-2, 10))","v":0}]
[null,null,null,null,null,null,null,null,null,null,null,null,null,null,null,null,null,null,null,null,null,null,null,null,null,null,null,null,null,null,null,null,null,null,2401,"非住宅","SRC造",{"$f":"INDEX('係数表2-3'!$B:$K, 10 + QUOTIENT(ROW(AL4218)-2, 10), 1 + MOD(ROW(AL4218)-2, 10))","v":0}]
[null,null,null,null,null,null,null,null,null,null,null,null,null,null,null,null,null,null,null,null,null,null,null,null,null,null,null,null,null,null,null,null,null,null,2402,"住宅","SRC造",{"$f":"INDEX('係数表2-3'!$B:$K, 10 + QUOTIENT(ROW(AL4223)-2, 10), 1 + MOD(ROW(AL4223)-2, 10))","v":0}]
[null,null,null,null,null,null,null,null,null,null,null,null,null,null,null,null,null,null,null,null,null,null,null,null,null,null,null,null,null,null,null,null,null,null,2402,"非住宅","SRC造",{"$f":"INDEX('係数表2-3'!$B:$K, 10 + QUOTIENT(ROW(AL4228)-2, 10), 1 + MOD(ROW(AL4228)-2, 10))","v":0}]
[null,null,null,null,null,null,null,null,null,null,null,null,null,null,null,null,null,null,null,null,null,null,null,null,null,null,null,null,null,null,null,null,null,null,2402,"非住宅","RC造",{"$f":"INDEX('係数表2-3'!$B:$K, 10 + QUOTIENT(ROW(AL4229)-2, 10), 1 + MOD(ROW(AL4229)-2, 10))","v":0}]
[null,null,null,null,null,null,null,null,null,null,null,null,null,null,null,null,null,null,null,null,null,null,null,null,null,null,null,null,null,null,null,null,null,null,2403,"住宅","RC造",{"$f":"INDEX('係数表2-3'!$B:$K, 10 + QUOTIENT(ROW(AL4234)-2, 10), 1 + MOD(ROW(AL4234)-2, 10))","v":0}]
[null,null,null,null,null,null,null,null,null,null,null,null,null,null,null,null,null,null,null,null,null,null,null,null,null,null,null,null,null,null,null,null,null,null,2403,"非住宅","RC造",{"$f":"INDEX('係数表2-3'!$B:$K, 10 + QUOTIENT(ROW(AL4239)-2, 10), 1 + MOD(ROW(AL4239)-2, 10))","v":0}]
[null,null,null,null,null,null,null,null,null,null,null,null,null,null,null,null,null,null,null,null,null,null,null,null,null,null,null,null,null,null,null,null,null,null,2404,"住宅","RC造",{"$f":"INDEX('係数表2-3'!$B:$K, 10 + QUOTIENT(ROW(AL4244)-2, 10), 1 + MOD(ROW(AL4244)-2, 10))","v":0}]
[null,null,null,null,null,null,null,null,null,null,null,null,null,null,null,null,null,null,null,null,null,null,null,null,null,null,null,null,null,null,null,null,null,null,2404,"住宅","S造",{"$f":"INDEX('係数表2-3'!$B:$K, 10 + QUOTIENT(ROW(AL4245)-2, 10), 1 + MOD(ROW(AL4245)-2, 10))","v":0}]
[null,null,null,null,null,null,null,null,null,null,null,null,null,null,null,null,null,null,null,null,null,null,null,null,null,null,null,null,null,null,null,null,null,null,2404,"非住宅","その他",{"$f":"INDEX('係数表2-3'!$B:$K, 10 + QUOTIENT(ROW(AL4251)-2, 10), 1 + MOD(ROW(AL4251)-2, 10))","v":0}]
[null,null,null,null,null,null,null,null,null,null,null,null,null,null,null,null,null,null,null,null,null,null,null,null,null,null,null,null,null,null,null,null,null,null,2405,"住宅","RC造",{"$f":"INDEX('係数表2-3'!$B:$K, 10 + QUOTIENT(ROW(AL4254)-2, 10), 1 + MOD(ROW(AL4254)-2, 10))","v":0}]
[null,null,null,null,null,null,null,null,null,null,null,null,null,null,null,null,null,null,null,null,null,null,null,null,null,null,null,null,null,null,null,null,null,null,2405,"非住宅","RC造",{"$f":"INDEX('係数表2-3'!$B:$K, 10 + QUOTIENT(ROW(AL4259)-2, 10), 1 + MOD(ROW(AL4259)-2, 10))","v":0}]
[null,null,null,null,null,null,null,null,null,null,null,null,null,null,null,null,null,null,null,null,null,null,null,null,null,null,null,null,null,null,null,null,null,null,2405,"非住宅","S造",{"$f":"INDEX('係数表2-3'!$B:$K, 10 + QUOTIENT(ROW(AL4260)-2, 10), 1 + MOD(ROW(AL4260)-2, 10))","v":0}]
[null,null,null,null,null,null,null,null,null,null,null,null,null,null,null,null,null,null,null,null,null,null,null,null,null,null,null,null,null,null,null,null,null,null,2406,"住宅","S造",{"$f":"INDEX('係数表2-3'!$B:$K, 10 + QUOTIENT(ROW(AL4265)-2, 10), 1 + MOD(ROW(AL4265)-2, 10))","v":0}]
[null,null,null,null,null,null,null,null,null,null,null,null,null,null,null,null,null,null,null,null,null,null,null,null,null,null,null,null,null,null,null,null,null,null,2406,"非住宅","S造",{"$f":"INDEX('係数表2-3'!$B:$K, 10 + QUOTIENT(ROW(AL4270)-2, 10), 1 + MOD(ROW(AL4270)-2, 10))","v":0}]
[null,null,null,null,null,null,null,null,null,null,null,null,null,null,null,null,null,null,null,null,null,null,null,null,null,null,null,null,null,null,null,null,null,null,2407,"住宅","S造",{"$f":"INDEX('係数表2-3'!$B:$K, 10 + QUOTIENT(ROW(AL4275)-2, 10), 1 + MOD(ROW(AL4275)-2, 10))","v":0}]
[null,null,null,null,null,null,null,null,null,null,null,null,null,null,null,null,null,null,null,null,null,null,null,null,null,null,null,null,null,null,null,null,null,null,2407,"住宅","その他",{"$f":"INDEX('係数表2-3'!$B:$K, 10 + QUOTIENT(ROW(AL4276)-2, 10), 1 + MOD(ROW(AL4276)-2, 10))","v":0}]
[null,null,null,null,null,null,null,null,null,null,null,null,null,null,null,null,null,null,null,null,null,null,null,null,null,null,null,null,null,null,null,null,null,null,2407,"非住宅","その他",{"$f":"INDEX('係数表2-3'!$B:$K, 10 + QUOTIENT(ROW(AL4281)-2, 10), 1 + MOD(ROW(AL4281)-2, 10))","v":0}]
[null,null,null,null,null,null,null,null,null,null,null,null,null,null,null,null,null,null,null,null,null,null,null,null,null,null,null,null,null,null,null,null,null,null,2408,"住宅","その他",{"$f":"INDEX('係数表2-3'!$B:$K, 10 + QUOTIENT(ROW(AL4286)-2, 10), 1 + MOD(ROW(AL4286)-2, 10))","v":0}]
[null,null,null,null,null,null,null,null,null,null,null,null,null,null,null,null,null,null,null,null,null,null,null,null,null,null,null,null,null,null,null,null,null,null,2408,"非住宅","その他",{"$f":"INDEX('係数表2-3'!$B:$K, 10 + QUOTIENT(ROW(AL4291)-2, 10), 1 + MOD(ROW(AL4291)-2, 10))","v":0}]
[null,null,null,null,null,null,null,null,null,null,null,null,null,null,null,null,null,null,null,null,null,null,null,null,null,null,null,null,null,null,null,null,null,null,2409,"住宅","木造",{"$f":"INDEX('係数表2-3'!$B:$K, 10 + QUOTIENT(ROW(AL4292)-2, 10), 1 + MOD(ROW(AL4292)-2, 10))","v":0}]
[null,null,null,null,null,null,null,null,null,null,null,null,null,null,null,null,null,null,null,null,null,null,null,null,null,null,null,null,null,null,null,null,null,null,2409,"非住宅","木造",{"$f":"INDEX('係数表2-3'!$B:$K, 10 + QUOTIENT(ROW(AL4297)-2, 10), 1 + MOD(ROW(AL4297)-2, 10))","v":0}]
[null,null,null,null,null,null,null,null,null,null,null,null,null,null,null,null,null,null,null,null,null,null,null,null,null,null,null,null,null,null,null,null,null,null,2410,"住宅","木造",{"$f":"INDEX('係数表2-3'!$B:$K, 10 + QUOTIENT(ROW(AL4302)-2, 10), 1 + MOD(ROW(AL4302)-2, 10))","v":0}]
[null,null,null,null,null,null,null,null,null,null,null,null,null,null,null,null,null,null,null,null,null,null,null,null,null,null,null,null,null,null,null,null,null,null,2410,"非住宅","木造",{"$f":"INDEX('係数表2-3'!$B:$K, 10 + QUOTIENT(ROW(AL4307)-2, 10), 1 + MOD(ROW(AL4307)-2, 10))","v":0}]
[null,null,null,null,null,null,null,null,null,null,null,null,null,null,null,null,null,null,null,null,null,null,null,null,null,null,null,null,null,null,null,null,null,null,2410,"非住宅","SRC造",{"$f":"INDEX('係数表2-3'!$B:$K, 10 + QUOTIENT(ROW(AL4308)-2, 10), 1 + MOD(ROW(AL4308)-2, 10))","v":0}]
[null,null,null,null,null,null,null,null,null,null,null,null,null,null,null,null,null,null,null,null,null,null,null,null,null,null,null,null,null,null,null,null,null,null,2411,"住宅","SRC造",{"$f":"INDEX('係数表2-3'!$B:$K, 10 + QUOTIENT(ROW(AL4313)-2, 10), 1 + MOD(ROW(AL4313)-2, 10))","v":0}]
[null,null,null,null,null,null,null,null,null,null,null,null,null,null,null,null,null,null,null,null,null,null,null,null,null,null,null,null,null,null,null,null,null,null,2411,"非住宅","SRC造",{"$f":"INDEX('係数表2-3'!$B:$K, 10 + QUOTIENT(ROW(AL4318)-2, 10), 1 + MOD(ROW(AL4318)-2, 10))","v":0}]
[null,null,null,null,null,null,null,null,null,null,null,null,null,null,null,null,null,null,null,null,null,null,null,null,null,null,null,null,null,null,null,null,null,null,2412,"住宅","SRC造",{"$f":"INDEX('係数表2-3'!$B:$K, 10 + QUOTIENT(ROW(AL4323)-2, 10), 1 + MOD(ROW(AL4323)-2, 10))","v":0}]
[null,null,null,null,null,null,null,null,null,null,null,null,null,null,null,null,null,null,null,null,null,null,null,null,null,null,null,null,null,null,null,null,null,null,2412,"住宅","RC造",{"$f":"INDEX('係数表2-3'!$B:$K, 10 + QUOTIENT(ROW(AL4324)-2, 10), 1 + MOD(ROW(AL4324)-2, 10))","v":0}]
[null,null,null,null,null,null,null,null,null,null,null,null,null,null,null,null,null,null,null,null,null,null,null,null,null,null,null,null,null,null,null,null,null,null,2412,"非住宅","RC造",{"$f":"INDEX('係数表2-3'!$B:$K, 10 + QUOTIENT(ROW(AL4329)-2, 10), 1 + MOD(ROW(AL4329)-2, 10))","v":0}]
[null,null,null,null,null,null,null,null,null,null,null,null,null,null,null,null,null,null,null,null,null,null,null,null,null,null,null,null,null,null,null,null,null,null,2413,"住宅","RC造",{"$f":"INDEX('係数表2-3'!$B:$K, 10 + QUOTIENT(ROW(AL4334)-2, 10), 1 + MOD(ROW(AL4334)-2, 10))","v":0}]
[null,null,null,null,null,null,null,null,null,null,null,null,null,null,null,null,null,null,null,null,null,null,null,null,null,null,null,null,null,null,null,null,null,null,2413,"非住宅","RC造",{"$f":"INDEX('係数表2-3'!$B:$K, 10 + QUOTIENT(ROW(AL4339)-2, 10), 1 + MOD(ROW(AL4339)-2, 10))","v":0}]
[null,null,null,null,null,null,null,null,null,null,null,null,null,null,null,null,null,null,null,null,null,null,null,null,null,null,null,null,null,null,null,null,null,null,2413,"非住宅","S造",{"$f":"INDEX('係数表2-3'!$B:$K, 10 + QUOTIENT(ROW(AL4340)-2, 10), 1 + MOD(ROW(AL4340)-2, 10))","v":0}]
[null,null,null,null,null,null,null,null,null,null,null,null,null,null,null,null,null,null,null,null,null,null,null,null,null,null,null,null,null,null,null,null,null,null,2414,"住宅","S造",{"$f":"INDEX('係数表2-3'!$B:$K, 10 + QUOTIENT(ROW(AL4345)-2, 10), 1 + MOD(ROW(AL4345)-2, 10))","v":0}]
[null,null,null,null,null,null,null,null,null,null,null,null,null,null,null,null,null,null,null,null,null,null,null,null,null,null,null,null,null,null,null,null,null,null,2414,"非住宅","S造",{"$f":"INDEX('係数表2-3'!$B:$K, 10 + QUOTIENT(ROW(AL4350)-2, 10), 1 + MOD(ROW(AL4350)-2, 10))","v":0}]
[null,null,null,null,null,null,null,null,null,null,null,null,null,null,null,null,null,null,null,null,null,null,null,null,null,null,null,null,null,null,null,null,null,null,2415,"住宅","木造",{"$f":"INDEX('係数表2-3'!$B:$K, 10 + QUOTIENT(ROW(AL4352)-2, 10), 1 + MOD(ROW(AL4352)-2, 10))","v":0}]
[null,null,null,null,null,null,null,null,null,null,null,null,null,null,null,null,null,null,null,null,null,null,null,null,null,null,null,null,null,null,null,null,null,null,2415,"住宅","S造",{"$f":"INDEX('係数表2-3'!$B:$K, 10 + QUOTIENT(ROW(AL4355)-2, 10), 1 + MOD(ROW(AL4355)-2, 10))","v":0}]
[null,null,null,null,null,null,null,null,null,null,null,null,null,null,null,null,null,null,null,null,null,null,null,null,null,null,null,null,null,null,null,null,null,null,2415,"非住宅","S造",{"$f":"INDEX('係数表2-3'!$B:$K, 10 + QUOTIENT(ROW(AL4360)-2, 10), 1 + MOD(ROW(AL4360)-2, 10))","v":0}]
[null,null,null,null,null,null,null,null,null,null,null,null,null,null,null,null,null,null,null,null,null,null,null,null,null,null,null,null,null,null,null,null,null,null,2416,"住宅","S造",{"$f":"INDEX('係数表2-3'!$B:$K, 10 + QUOTIENT(ROW(AL4365)-2, 10), 1 + MOD(ROW(AL4365)-2, 10))","v":0}]
[null,null,null,null,null,null,null,null,null,null,null,null,null,null,null,null,null,null,null,null,null,null,null,null,null,null,null,null,null,null,null,null,null,null,2416,"非住宅","S造",{"$f":"INDEX('係数表2-3'!$B:$K, 10 + QUOTIENT(ROW(AL4370)-2, 10), 1 + MOD(ROW(AL4370)-2, 10))","v":0}]
[null,null,null,null,null,null,null,null,null,null,null,null,null,null,null,null,null,null,null,null,null,null,null,null,null,null,null,null,null,null,null,null,null,null,2416,"非住宅","その他",{"$f":"INDEX('係数表2-3'!$B:$K, 10 + QUOTIENT(ROW(AL4371)-2, 10), 1 + MOD(ROW(AL4371)-2, 10))","v":0}]
[null,null,null,null,null,null,null,null,null,null,null,null,null,null,null,null,null,null,null,null,null,null,null,null,null,null,null,null,null,null,null,null,null,null,2417,"住宅","その他",{"$f":"INDEX('係数表2-3'!$B:$K, 10 + QUOTIENT(ROW(AL4376)-2, 10), 1 + MOD(ROW(AL4376)-2, 10))","v":0}]
[null,null,null,null,null,null,null,null,null,null,null,null,null,null,null,null,null,null,null,null,null,null,null,null,null,null,null,null,null,null,null,null,null,null,2417,"非住宅","その他",{"$f":"INDEX('係数表2-3'!$B:$K, 10 + QUOTIENT(ROW(AL4381)-2, 10), 1 + MOD(ROW(AL4381)-2, 10))","v":0}]
[null,null,null,null,null,null,null,null,null,null,null,null,null,null,null,null,null,null,null,null,null,null,null,null,null,null,null,null,null,null,null,null,null,null,2418,"住宅","その他",{"$f":"INDEX('係数表2-3'!$B:$K, 10 + QUOTIENT(ROW(AL4386)-2, 10), 1 + MOD(ROW(AL4386)-2, 10))","v":0}]
[null,null,null,null,null,null,null,null,null,null,null,null,null,null,null,null,null,null,null,null,null,null,null,null,null,null,null,null,null,null,null,null,null,null,2418,"非住宅","木造",{"$f":"INDEX('係数表2-3'!$B:$K, 10 + QUOTIENT(ROW(AL4387)-2, 10), 1 + MOD(ROW(AL4387)-2, 10))","v":0}]
[null,null,null,null,null,null,null,null,null,null,null,null,null,null,null,null,null,null,null,null,null,null,null,null,null,null,null,null,null,null,null,null,null,null,2419,"住宅","木造",{"$f":"INDEX('係数表2-3'!$B:$K, 10 + QUOTIENT(ROW(AL4392)-2, 10), 1 + MOD(ROW(AL4392)-2, 10))","v":0}]
[null,null,null,null,null,null,null,null,null,null,null,null,null,null,null,null,null,null,null,null,null,null,null,null,null,null,null,null,null,null,null,null,null,null,2419,"非住宅","木造",{"$f":"INDEX('係数表2-3'!$B:$K, 10 + QUOTIENT(ROW(AL4397)-2, 10), 1 + MOD(ROW(AL4397)-2, 10))","v":0}]
[null,null,null,null,null,null,null,null,null,null,null,null,null,null,null,null,null,null,null,null,null,null,null,null,null,null,null,null,null,null,null,null,null,null,2420,"住宅","木造",{"$f":"INDEX('係数表2-3'!$B:$K, 10 + QUOTIENT(ROW(AL4402)-2, 10), 1 + MOD(ROW(AL4402)-2, 10))","v":0}]
[null,null,null,null,null,null,null,null,null,null,null,null,null,null,null,null,null,null,null,null,null,null,null,null,null,null,null,null,null,null,null,null,null,null,2420,"住宅","SRC造",{"$f":"INDEX('係数表2-3'!$B:$K, 10 + QUOTIENT(ROW(AL4403)-2, 10), 1 + MOD(ROW(AL4403)-2, 10))","v":0}]
[null,null,null,null,null,null,null,null,null,null,null,null,null,null,null,null,null,null,null,null,null,null,null,null,null,null,null,null,null,null,null,null,null,null,2420,"非住宅","SRC造",{"$f":"INDEX('係数表2-3'!$B:$K, 10 + QUOTIENT(ROW(AL4408)-2, 10), 1 + MOD(ROW(AL4408)-2, 10))","v":0}]
[null,null,null,null,null,null,null,null,null,null,null,null,null,null,null,null,null,null,null,null,null,null,null,null,null,null,null,null,null,null,null,null,null,null,2421,"住宅","SRC造",{"$f":"INDEX('係数表2-3'!$B:$K, 10 + QUOTIENT(ROW(AL4413)-2, 10), 1 + MOD(ROW(AL4413)-2, 10))","v":0}]
[null,null,null,null,null,null,null,null,null,null,null,null,null,null,null,null,null,null,null,null,null,null,null,null,null,null,null,null,null,null,null,null,null,null,2421,"非住宅","SRC造",{"$f":"INDEX('係数表2-3'!$B:$K, 10 + QUOTIENT(ROW(AL4418)-2, 10), 1 + MOD(ROW(AL4418)-2, 10))","v":0}]
[null,null,null,null,null,null,null,null,null,null,null,null,null,null,null,null,null,null,null,null,null,null,null,null,null,null,null,null,null,null,null,null,null,null,2421,"非住宅","RC造",{"$f":"INDEX('係数表2-3'!$B:$K, 10 + QUOTIENT(ROW(AL4419)-2, 10), 1 + MOD(ROW(AL4419)-2, 10))","v":0}]
[null,null,null,null,null,null,null,null,null,null,null,null,null,null,null,null,null,null,null,null,null,null,null,null,null,null,null,null,null,null,null,null,null,null,2422,"住宅","RC造",{"$f":"INDEX('係数表2-3'!$B:$K, 10 + QUOTIENT(ROW(AL4424)-2, 10), 1 + MOD(ROW(AL4424)-2, 10))","v":0}]
[null,null,null,null,null,null,null,null,null,null,null,null,null,null,null,null,null,null,null,null,null,null,null,null,null,null,null,null,null,null,null,null,null,null,2422,"非住宅","RC造",{"$f":"INDEX('係数表2-3'!$B:$K, 10 + QUOTIENT(ROW(AL4429)-2, 10), 1 + MOD(ROW(AL4429)-2, 10))","v":0}]
[null,null,null,null,null,null,null,null,null,null,null,null,null,null,null,null,null,null,null,null,null,null,null,null,null,null,null,null,null,null,null,null,null,null,2423,"住宅","RC造",{"$f":"INDEX('係数表2-3'!$B:$K, 10 + QUOTIENT(ROW(AL4434)-2, 10), 1 + MOD(ROW(AL4434)-2, 10))","v":0}]
[null,null,null,null,null,null,null,null,null,null,null,null,null,null,null,null,null,null,null,null,null,null,null,null,null,null,null,null,null,null,null,null,null,null,2423,"住宅","S造",{"$f":"INDEX('係数表2-3'!$B:$K, 10 + QUOTIENT(ROW(AL4435)-2, 10), 1 + MOD(ROW(AL4435)-2, 10))","v":0}]
[null,null,null,null,null,null,null,null,null,null,null,null,null,null,null,null,null,null,null,null,null,null,null,null,null,null,null,null,null,null,null,null,null,null,2423,"非住宅","S造",{"$f":"INDEX('係数表2-3'!$B:$K, 10 + QUOTIENT(ROW(AL4440)-2, 10), 1 + MOD(ROW(AL4440)-2, 10))","v":0}]
[null,null,null,null,null,null,null,null,null,null,null,null,null,null,null,null,null,null,null,null,null,null,null,null,null,null,null,null,null,null,null,null,null,null,2424,"住宅","S造",{"$f":"INDEX('係数表2-3'!$B:$K, 10 + QUOTIENT(ROW(AL4445)-2, 10), 1 + MOD(ROW(AL4445)-2, 10))","v":0}]
[null,null,null,null,null,null,null,null,null,null,null,null,null,null,null,null,null,null,null,null,null,null,null,null,null,null,null,null,null,null,null,null,null,null,2424,"非住宅","S造",{"$f":"INDEX('係数表2-3'!$B:$K, 10 + QUOTIENT(ROW(AL4450)-2, 10), 1 + MOD(ROW(AL4450)-2, 10))","v":0}]
[null,null,null,null,null,null,null,null,null,null,null,null,null,null,null,null,null,null,null,null,null,null,null,null,null,null,null,null,null,null,null,null,null,null,2424,"非住宅","その他",{"$f":"INDEX('係数表2-3'!$B:$K, 10 + QUOTIENT(ROW(AL4451)-2, 10), 1 + MOD(ROW(AL4451)-2, 10))","v":0}]
[null,null,null,null,null,null,null,null,null,null,null,null,null,null,null,null,null,null,null,null,null,null,null,null,null,null,null,null,null,null,null,null,null,null,2425,"住宅","S造",{"$f":"INDEX('係数表2-3'!$B:$K, 10 + QUOTIENT(ROW(AL4455)-2, 10), 1 + MOD(ROW(AL4455)-2, 10))","v":0}]
[null,null,null,null,null,null,null,null,null,null,null,null,null,null,null,null,null,null,null,null,null,null,null,null,null,null,null,null,null,null,null,null,null,null,2425,"非住宅","S造",{"$f":"INDEX('係数表2-3'!$B:$K, 10 + QUOTIENT(ROW(AL4460)-2, 10), 1 + MOD(ROW(AL4460)-2, 10))","v":0}]
[null,null,null,null,null,null,null,null,null,null,null,null,null,null,null,null,null,null,null,null,null,null,null,null,null,null,null,null,null,null,null,null,null,null,2426,"住宅","S造",{"$f":"INDEX('係数表2-3'!$B:$K, 10 + QUOTIENT(ROW(AL4465)-2, 10), 1 + MOD(ROW(AL4465)-2, 10))","v":0}]
[null,null,null,null,null,null,null,null,null,null,null,null,null,null,null,null,null,null,null,null,null,null,null,null,null,null,null,null,null,null,null,null,null,null,2426,"住宅","その他",{"$f":"INDEX('係数表2-3'!$B:$K, 10 + QUOTIENT(ROW(AL4466)-2, 10), 1 + MOD(ROW(AL4466)-2, 10))","v":0}]
[null,null,null,null,null,null,null,null,null,null,null,null,null,null,null,null,null,null,null,null,null,null,null,null,null,null,null,null,null,null,null,null,null,null,2426,"非住宅","その他",{"$f":"INDEX('係数表2-3'!$B:$K, 10 + QUOTIENT(ROW(AL4471)-2, 10), 1 + MOD(ROW(AL4471)-2, 10))","v":0}]
[null,null,null,null,null,null,null,null,null,null,null,null,null,null,null,null,null,null,null,null,null,null,null,null,null,null,null,null,null,null,null,null,null,null,2427,"住宅","その他",{"$f":"INDEX('係数表2-3'!$B:$K, 10 + QUOTIENT(ROW(AL4476)-2, 10), 1 + MOD(ROW(AL4476)-2, 10))","v":0}]
[null,null,null,null,null,null,null,null,null,null,null,null,null,null,null,null,null,null,null,null,null,null,null,null,null,null,null,null,null,null,null,null,null,null,2427,"非住宅","その他",{"$f":"INDEX('係数表2-3'!$B:$K, 10 + QUOTIENT(ROW(AL4481)-2, 10), 1 + MOD(ROW(AL4481)-2, 10))","v":0}]
[null,null,null,null,null,null,null,null,null,null,null,null,null,null,null,null,null,null,null,null,null,null,null,null,null,null,null,null,null,null,null,null,null,null,2428,"住宅","木造",{"$f":"INDEX('係数表2-3'!$B:$K, 10 + QUOTIENT(ROW(AL4482)-2, 10), 1 + MOD(ROW(AL4482)-2, 10))","v":0}]
[null,null,null,null,null,null,null,null,null,null,null,null,null,null,null,null,null,null,null,null,null,null,null,null,null,null,null,null,null,null,null,null,null,null,2428,"非住宅","木造",{"$f":"INDEX('係数表2-3'!$B:$K, 10 + QUOTIENT(ROW(AL4487)-2, 10), 1 + MOD(ROW(AL4487)-2, 10))","v":0}]
[null,null,null,null,null,null,null,null,null,null,null,null,null,null,null,null,null,null,null,null,null,null,null,null,null,null,null,null,null,null,null,null,null,null,2429,"住宅","木造",{"$f":"INDEX('係数表2-3'!$B:$K, 10 + QUOTIENT(ROW(AL4492)-2, 10), 1 + MOD(ROW(AL4492)-2, 10))","v":0}]
[null,null,null,null,null,null,null,null,null,null,null,null,null,null,null,null,null,null,null,null,null,null,null,null,null,null,null,null,null,null,null,null,null,null,2429,"非住宅","木造",{"$f":"INDEX('係数表2-3'!$B:$K, 10 + QUOTIENT(ROW(AL4497)-2, 10), 1 + MOD(ROW(AL4497)-2, 10))","v":0}]
[null,null,null,null,null,null,null,null,null,null,null,null,null,null,null,null,null,null,null,null,null,null,null,null,null,null,null,null,null,null,null,null,null,null,2429,"非住宅","SRC造",{"$f":"INDEX('係数表2-3'!$B:$K, 10 + QUOTIENT(ROW(AL4498)-2, 10), 1 + MOD(ROW(AL4498)-2, 10))","v":0}]
[null,null,null,null,null,null,null,null,null,null,null,null,null,null,null,null,null,null,null,null,null,null,null,null,null,null,null,null,null,null,null,null,null,null,2430,"住宅","SRC造",{"$f":"INDEX('係数表2-3'!$B:$K, 10 + QUOTIENT(ROW(AL4503)-2, 10), 1 + MOD(ROW(AL4503)-2, 10))","v":0}]
[null,null,null,null,null,null,null,null,null,null,null,null,null,null,null,null,null,null,null,null,null,null,null,null,null,null,null,null,null,null,null,null,null,null,2430,"非住宅","SRC造",{"$f":"INDEX('係数表2-3'!$B:$K, 10 + QUOTIENT(ROW(AL4508)-2, 10), 1 + MOD(ROW(AL4508)-2, 10))","v":0}]
[null,null,null,null,null,null,null,null,null,null,null,null,null,null,null,null,null,null,null,null,null,null,null,null,null,null,null,null,null,null,null,null,null,null,2431,"住宅","SRC造",{"$f":"INDEX('係数表2-3'!$B:$K, 10 + QUOTIENT(ROW(AL4513)-2, 10), 1 + MOD(ROW(AL4513)-2, 10))","v":0}]
[null,null,null,null,null,null,null,null,null,null,null,null,null,null,null,null,null,null,null,null,null,null,null,null,null,null,null,null,null,null,null,null,null,null,2431,"住宅","RC造",{"$f":"INDEX('係数表2-3'!$B:$K, 10 + QUOTIENT(ROW(AL4514)-2, 10), 1 + MOD(ROW(AL4514)-2, 10))","v":0}]
[null,null,null,null,null,null,null,null,null,null,null,null,null,null,null,null,null,null,null,null,null,null,null,null,null,null,null,null,null,null,null,null,null,null,2431,"非住宅","RC造",{"$f":"INDEX('係数表2-3'!$B:$K, 10 + QUOTIENT(ROW(AL4519)-2, 10), 1 + MOD(ROW(AL4519)-2, 10))","v":0}]
[null,null,null,null,null,null,null,null,null,null,null,null,null,null,null,null,null,null,null,null,null,null,null,null,null,null,null,null,null,null,null,null,null,null,2432,"住宅","RC造",{"$f":"INDEX('係数表2-3'!$B:$K, 10 + QUOTIENT(ROW(AL4524)-2, 10), 1 + MOD(ROW(AL4524)-2, 10))","v":0}]
[null,null,null,null,null,null,null,null,null,null,null,null,null,null,null,null,null,null,null,null,null,null,null,null,null,null,null,null,null,null,null,null,null,null,2432,"非住宅","RC造",{"$f":"INDEX('係数表2-3'!$B:$K, 10 + QUOTIENT(ROW(AL4529)-2, 10), 1 + MOD(ROW(AL4529)-2, 10))","v":0}]
[null,null,null,null,null,null,null,null,null,null,null,null,null,null,null,null,null,null,null,null,null,null,null,null,null,null,null,null,null,null,null,null,null,null,2432,"非住宅","S造",{"$f":"INDEX('係数表2-3'!$B:$K, 10 + QUOTIENT(ROW(AL4530)-2, 10), 1 + MOD(ROW(AL4530)-2, 10))","v":0}]
[null,null,null,null,null,null,null,null,null,null,null,null,null,null,null,null,null,null,null,null,null,null,null,null,null,null,null,null,null,null,null,null,null,null,2433,"住宅","S造",{"$f":"INDEX('係数表2-3'!$B:$K, 10 + QUOTIENT(ROW(AL4535)-2, 10), 1 + MOD(ROW(AL4535)-2, 10))","v":0}]
[null,null,null,null,null,null,null,null,null,null,null,null,null,null,null,null,null,null,null,null,null,null,null,null,null,null,null,null,null,null,null,null,null,null,2433,"非住宅","S造",{"$f":"INDEX('係数表2-3'!$B:$K, 10 + QUOTIENT(ROW(AL4540)-2, 10), 1 + MOD(ROW(AL4540)-2, 10))","v":0}]
[null,null,null,null,null,null,null,null,null,null,null,null,null,null,null,null,null,null,null,null,null,null,null,null,null,null,null,null,null,null,null,null,null,null,2434,"住宅","S造",{"$f":"INDEX('係数表2-3'!$B:$K, 10 + QUOTIENT(ROW(AL4545)-2, 10), 1 + MOD(ROW(AL4545)-2, 10))","v":0}]
[null,null,null,null,null,null,null,null,null,null,null,null,null,null,null,null,null,null,null,null,null,null,null,null,null,null,null,null,null,null,null,null,null,null,2434,"住宅","その他",{"$f":"INDEX('係数表2-3'!$B:$K, 10 + QUOTIENT(ROW(AL4546)-2, 10), 1 + MOD(ROW(AL4546)-2, 10))","v":0}]
[null,null,null,null,null,null,null,null,null,null,null,null,null,null,null,null,null,null,null,null,null,null,null,null,null,null,null,null,null,null,null,null,null,null,2434,"非住宅","その他",{"$f":"INDEX('係数表2-3'!$B:$K, 10 + QUOTIENT(ROW(AL4551)-2, 10), 1 + MOD(ROW(AL4551)-2, 10))","v":0}]
[null,null,null,null,null,null,null,null,null,null,null,null,null,null,null,null,null,null,null,null,null,null,null,null,null,null,null,null,null,null,null,null,null,null,2435,"住宅","S造",{"$f":"INDEX('係数表2-3'!$B:$K, 10 + QUOTIENT(ROW(AL4555)-2, 10), 1 + MOD(ROW(AL4555)-2, 10))","v":0}]
[null,null,null,null,null,null,null,null,null,null,null,null,null,null,null,null,null,null,null,null,null,null,null,null,null,null,null,null,null,null,null,null,null,null,2435,"非住宅","S造",{"$f":"INDEX('係数表2-3'!$B:$K, 10 + QUOTIENT(ROW(AL4560)-2, 10), 1 + MOD(ROW(AL4560)-2, 10))","v":0}]
[null,null,null,null,null,null,null,null,null,null,null,null,null,null,null,null,null,null,null,null,null,null,null,null,null,null,null,null,null,null,null,null,null,null,2435,"非住宅","その他",{"$f":"INDEX('係数表2-3'!$B:$K, 10 + QUOTIENT(ROW(AL4561)-2, 10), 1 + MOD(ROW(AL4561)-2, 10))","v":0}]
[null,null,null,null,null,null,null,null,null,null,null,null,null,null,null,null,null,null,null,null,null,null,null,null,null,null,null,null,null,null,null,null,null,null,2436,"住宅","その他",{"$f":"INDEX('係数表2-3'!$B:$K, 10 + QUOTIENT(ROW(AL4566)-2, 10), 1 + MOD(ROW(AL4566)-2, 10))","v":0}]
[null,null,null,null,null,null,null,null,null,null,null,null,null,null,null,null,null,null,null,null,null,null,null,null,null,null,null,null,null,null,null,null,null,null,2436,"非住宅","その他",{"$f":"INDEX('係数表2-3'!$B:$K, 10 + QUOTIENT(ROW(AL4571)-2, 10), 1 + MOD(ROW(AL4571)-2, 10))","v":0}]
[null,null,null,null,null,null,null,null,null,null,null,null,null,null,null,null,null,null,null,null,null,null,null,null,null,null,null,null,null,null,null,null,null,null,2437,"住宅","その他",{"$f":"INDEX('係数表2-3'!$B:$K, 10 + QUOTIENT(ROW(AL4576)-2, 10), 1 + MOD(ROW(AL4576)-2, 10))","v":0}]
[null,null,null,null,null,null,null,null,null,null,null,null,null,null,null,null,null,null,null,null,null,null,null,null,null,null,null,null,null,null,null,null,null,null,2437,"非住宅","木造",{"$f":"INDEX('係数表2-3'!$B:$K, 10 + QUOTIENT(ROW(AL4577)-2, 10), 1 + MOD(ROW(AL4577)-2, 10))","v":0}]
[null,null,null,null,null,null,null,null,null,null,null,null,null,null,null,null,null,null,null,null,null,null,null,null,null,null,null,null,null,null,null,null,null,null,2438,"住宅","木造",{"$f":"INDEX('係数表2-3'!$B:$K, 10 + QUOTIENT(ROW(AL4582)-2, 10), 1 + MOD(ROW(AL4582)-2, 10))","v":0}]
[null,null,null,null,null,null,null,null,null,null,null,null,null,null,null,null,null,null,null,null,null,null,null,null,null,null,null,null,null,null,null,null,null,null,2438,"非住宅","木造",{"$f":"INDEX('係数表2-3'!$B:$K, 10 + QUOTIENT(ROW(AL4587)-2, 10), 1 + MOD(ROW(AL4587)-2, 10))","v":0}]
[null,null,null,null,null,null,null,null,null,null,null,null,null,null,null,null,null,null,null,null,null,null,null,null,null,null,null,null,null,null,null,null,null,null,2439,"住宅","木造",{"$f":"INDEX('係数表2-3'!$B:$K, 10 + QUOTIENT(ROW(AL4592)-2, 10), 1 + MOD(ROW(AL4592)-2, 10))","v":0}]
[null,null,null,null,null,null,null,null,null,null,null,null,null,null,null,null,null,null,null,null,null,null,null,null,null,null,null,null,null,null,null,null,null,null,2439,"住宅","SRC造",{"$f":"INDEX('係数表2-3'!$B:$K, 10 + QUOTIENT(ROW(AL4593)-2, 10), 1 + MOD(ROW(AL4593)-2, 10))","v":0}]
[null,null,null,null,null,null,null,null,null,null,null,null,null,null,null,null,null,null,null,null,null,null,null,null,null,null,null,null,null,null,null,null,null,null,2439,"非住宅","SRC造",{"$f":"INDEX('係数表2-3'!$B:$K, 10 + QUOTIENT(ROW(AL4598)-2, 10), 1 + MOD(ROW(AL4598)-2, 10))","v":0}]
[null,null,null,null,null,null,null,null,null,null,null,null,null,null,null,null,null,null,null,null,null,null,null,null,null,null,null,null,null,null,null,null,null,null,2440,"住宅","SRC造",{"$f":"INDEX('係数表2-3'!$B:$K, 10 + QUOTIENT(ROW(AL4603)-2, 10), 1 + MOD(ROW(AL4603)-2, 10))","v":0}]
[null,null,null,null,null,null,null,null,null,null,null,null,null,null,null,null,null,null,null,null,null,null,null,null,null,null,null,null,null,null,null,null,null,null,2440,"非住宅","SRC造",{"$f":"INDEX('係数表2-3'!$B:$K, 10 + QUOTIENT(ROW(AL4608)-2, 10), 1 + MOD(ROW(AL4608)-2, 10))","v":0}]
[null,null,null,null,null,null,null,null,null,null,null,null,null,null,null,null,null,null,null,null,null,null,null,null,null,null,null,null,null,null,null,null,null,null,2440,"非住宅","RC造",{"$f":"INDEX('係数表2-3'!$B:$K, 10 + QUOTIENT(ROW(AL4609)-2, 10), 1 + MOD(ROW(AL4609)-2, 10))","v":0}]
[null,null,null,null,null,null,null,null,null,null,null,null,null,null,null,null,null,null,null,null,null,null,null,null,null,null,null,null,null,null,null,null,null,null,2441,"住宅","RC造",{"$f":"INDEX('係数表2-3'!$B:$K, 10 + QUOTIENT(ROW(AL4614)-2, 10), 1 + MOD(ROW(AL4614)-2, 10))","v":0}]
[null,null,null,null,null,null,null,null,null,null,null,null,null,null,null,null,null,null,null,null,null,null,null,null,null,null,null,null,null,null,null,null,null,null,2441,"非住宅","RC造",{"$f":"INDEX('係数表2-3'!$B:$K, 10 + QUOTIENT(ROW(AL4619)-2, 10), 1 + MOD(ROW(AL4619)-2, 10))","v":0}]
[null,null,null,null,null,null,null,null,null,null,null,null,null,null,null,null,null,null,null,null,null,null,null,null,null,null,null,null,null,null,null,null,null,null,2442,"住宅","RC造",{"$f":"INDEX('係数表2-3'!$B:$K, 10 + QUOTIENT(ROW(AL4624)-2, 10), 1 + MOD(ROW(AL4624)-2, 10))","v":0}]
[null,null,null,null,null,null,null,null,null,null,null,null,null,null,null,null,null,null,null,null,null,null,null,null,null,null,null,null,null,null,null,null,null,null,2442,"住宅","S造",{"$f":"INDEX('係数表2-3'!$B:$K, 10 + QUOTIENT(ROW(AL4625)-2, 10), 1 + MOD(ROW(AL4625)-2, 10))","v":0}]
[null,null,null,null,null,null,null,null,null,null,null,null,null,null,null,null,null,null,null,null,null,null,null,null,null,null,null,null,null,null,null,null,null,null,2442,"非住宅","S造",{"$f":"INDEX('係数表2-3'!$B:$K, 10 + QUOTIENT(ROW(AL4630)-2, 10), 1 + MOD(ROW(AL4630)-2, 10))","v":0}]
[null,null,null,null,null,null,null,null,null,null,null,null,null,null,null,null,null,null,null,null,null,null,null,null,null,null,null,null,null,null,null,null,null,null,2443,"住宅","S造",{"$f":"INDEX('係数表2-3'!$B:$K, 10 + QUOTIENT(ROW(AL4635)-2, 10), 1 + MOD(ROW(AL4635)-2, 10))","v":0}]
[null,null,null,null,null,null,null,null,null,null,null,null,null,null,null,null,null,null,null,null,null,null,null,null,null,null,null,null,null,null,null,null,null,null,2443,"非住宅","S造",{"$f":"INDEX('係数表2-3'!$B:$K, 10 + QUOTIENT(ROW(AL4640)-2, 10), 1 + MOD(ROW(AL4640)-2, 10))","v":0}]
[null,null,null,null,null,null,null,null,null,null,null,null,null,null,null,null,null,null,null,null,null,null,null,null,null,null,null,null,null,null,null,null,null,null,2443,"非住宅","その他",{"$f":"INDEX('係数表2-3'!$B:$K, 10 + QUOTIENT(ROW(AL4641)-2, 10), 1 + MOD(ROW(AL4641)-2, 10))","v":0}]
[null,null,null,null,null,null,null,null,null,null,null,null,null,null,null,null,null,null,null,null,null,null,null,null,null,null,null,null,null,null,null,null,null,null,2444,"住宅","その他",{"$f":"INDEX('係数表2-3'!$B:$K, 10 + QUOTIENT(ROW(AL4646)-2, 10), 1 + MOD(ROW(AL4646)-2, 10))","v":0}]
[null,null,null,null,null,null,null,null,null,null,null,null,null,null,null,null,null,null,null,null,null,null,null,null,null,null,null,null,null,null,null,null,null,null,2444,"非住宅","その他",{"$f":"INDEX('係数表2-3'!$B:$K, 10 + QUOTIENT(ROW(AL4651)-2, 10), 1 + MOD(ROW(AL4651)-2, 10))","v":0}]
[null,null,null,null,null,null,null,null,null,null,null,null,null,null,null,null,null,null,null,null,null,null,null,null,null,null,null,null,null,null,null,null,null,null,2445,"住宅","その他",{"$f":"INDEX('係数表2-3'!$B:$K, 10 + QUOTIENT(ROW(AL4656)-2, 10), 1 + MOD(ROW(AL4656)-2, 10))","v":0}]
[null,null,null,null,null,null,null,null,null,null,null,null,null,null,null,null,null,null,null,null,null,null,null,null,null,null,null,null,null,null,null,null,null,null,2445,"非住宅","RC造",{"$f":"INDEX('係数表2-3'!$B:$K, 10 + QUOTIENT(ROW(AL4659)-2, 10), 1 + MOD(ROW(AL4659)-2, 10))","v":0}]
[null,null,null,null,null,null,null,null,null,null,null,null,null,null,null,null,null,null,null,null,null,null,null,null,null,null,null,null,null,null,null,null,null,null,2445,"非住宅","その他",{"$f":"INDEX('係数表2-3'!$B:$K, 10 + QUOTIENT(ROW(AL4661)-2, 10), 1 + MOD(ROW(AL4661)-2, 10))","v":0}]
[null,null,null,null,null,null,null,null,null,null,null,null,null,null,null,null,null,null,null,null,null,null,null,null,null,null,null,null,null,null,null,null,null,null,2446,"住宅","その他",{"$f":"INDEX('係数表2-3'!$B:$K, 10 + QUOTIENT(ROW(AL4666)-2, 10), 1 + MOD(ROW(AL4666)-2, 10))","v":0}]
[null,null,null,null,null,null,null,null,null,null,null,null,null,null,null,null,null,null,null,null,null,null,null,null,null,null,null,null,null,null,null,null,null,null,2446,"非住宅","その他",{"$f":"INDEX('係数表2-3'!$B:$K, 10 + QUOTIENT(ROW(AL4671)-2, 10), 1 + MOD(ROW(AL4671)-2, 10))","v":0}]
[null,null,null,null,null,null,null,null,null,null,null,null,null,null,null,null,null,null,null,null,null,null,null,null,null,null,null,null,null,null,null,null,null,null,2447,"住宅","木造",{"$f":"INDEX('係数表2-3'!$B:$K, 10 + QUOTIENT(ROW(AL4672)-2, 10), 1 + MOD(ROW(AL4672)-2, 10))","v":0}]
[null,null,null,null,null,null,null,null,null,null,null,null,null,null,null,null,null,null,null,null,null,null,null,null,null,null,null,null,null,null,null,null,null,null,2447,"非住宅","木造",{"$f":"INDEX('係数表2-3'!$B:$K, 10 + QUOTIENT(ROW(AL4677)-2, 10), 1 + MOD(ROW(AL4677)-2, 10))","v":0}]
[null,null,null,null,null,null,null,null,null,null,null,null,null,null,null,null,null,null,null,null,null,null,null,null,null,null,null,null,null,null,null,null,null,null,2448,"住宅","木造",{"$f":"INDEX('係数表2-3'!$B:$K, 10 + QUOTIENT(ROW(AL4682)-2, 10), 1 + MOD(ROW(AL4682)-2, 10))","v":0}]
[null,null,null,null,null,null,null,null,null,null,null,null,null,null,null,null,null,null,null,null,null,null,null,null,null,null,null,null,null,null,null,null,null,null,2448,"非住宅","木造",{"$f":"INDEX('係数表2-3'!$B:$K, 10 + QUOTIENT(ROW(AL4687)-2, 10), 1 + MOD(ROW(AL4687)-2, 10))","v":0}]
[null,null,null,null,null,null,null,null,null,null,null,null,null,null,null,null,null,null,null,null,null,null,null,null,null,null,null,null,null,null,null,null,null,null,2448,"非住宅","SRC造",{"$f":"INDEX('係数表2-3'!$B:$K, 10 + QUOTIENT(ROW(AL4688)-2, 10), 1 + MOD(ROW(AL4688)-2, 10))","v":0}]
[null,null,null,null,null,null,null,null,null,null,null,null,null,null,null,null,null,null,null,null,null,null,null,null,null,null,null,null,null,null,null,null,null,null,2449,"住宅","SRC造",{"$f":"INDEX('係数表2-3'!$B:$K, 10 + QUOTIENT(ROW(AL4693)-2, 10), 1 + MOD(ROW(AL4693)-2, 10))","v":0}]
[null,null,null,null,null,null,null,null,null,null,null,null,null,null,null,null,null,null,null,null,null,null,null,null,null,null,null,null,null,null,null,null,null,null,2449,"非住宅","SRC造",{"$f":"INDEX('係数表2-3'!$B:$K, 10 + QUOTIENT(ROW(AL4698)-2, 10), 1 + MOD(ROW(AL4698)-2, 10))","v":0}]
[null,null,null,null,null,null,null,null,null,null,null,null,null,null,null,null,null,null,null,null,null,null,null,null,null,null,null,null,null,null,null,null,null,null,2450,"住宅","SRC造",{"$f":"INDEX('係数表2-3'!$B:$K, 10 + QUOTIENT(ROW(AL4703)-2, 10), 1 + MOD(ROW(AL4703)-2, 10))","v":0}]
[null,null,null,null,null,null,null,null,null,null,null,null,null,null,null,null,null,null,null,null,null,null,null,null,null,null,null,null,null,null,null,null,null,null,2450,"住宅","RC造",{"$f":"INDEX('係数表2-3'!$B:$K, 10 + QUOTIENT(ROW(AL4704)-2, 10), 1 + MOD(ROW(AL4704)-2, 10))","v":0}]
[null,null,null,null,null,null,null,null,null,null,null,null,null,null,null,null,null,null,null,null,null,null,null,null,null,null,null,null,null,null,null,null,null,null,2450,"非住宅","RC造",{"$f":"INDEX('係数表2-3'!$B:$K, 10 + QUOTIENT(ROW(AL4709)-2, 10), 1 + MOD(ROW(AL4709)-2, 10))","v":0}]
[null,null,null,null,null,null,null,null,null,null,null,null,null,null,null,null,null,null,null,null,null,null,null,null,null,null,null,null,null,null,null,null,null,null,2451,"住宅","RC造",{"$f":"INDEX('係数表2-3'!$B:$K, 10 + QUOTIENT(ROW(AL4714)-2, 10), 1 + MOD(ROW(AL4714)-2, 10))","v":0}]
[null,null,null,null,null,null,null,null,null,null,null,null,null,null,null,null,null,null,null,null,null,null,null,null,null,null,null,null,null,null,null,null,null,null,2451,"非住宅","RC造",{"$f":"INDEX('係数表2-3'!$B:$K, 10 + QUOTIENT(ROW(AL4719)-2, 10), 1 + MOD(ROW(AL4719)-2, 10))","v":0}]
[null,null,null,null,null,null,null,null,null,null,null,null,null,null,null,null,null,null,null,null,null,null,null,null,null,null,null,null,null,null,null,null,null,null,2451,"非住宅","S造",{"$f":"INDEX('係数表2-3'!$B:$K, 10 + QUOTIENT(ROW(AL4720)-2, 10), 1 + MOD(ROW(AL4720)-2, 10))","v":0}]
[null,null,null,null,null,null,null,null,null,null,null,null,null,null,null,null,null,null,null,null,null,null,null,null,null,null,null,null,null,null,null,null,null,null,2452,"住宅","S造",{"$f":"INDEX('係数表2-3'!$B:$K, 10 + QUOTIENT(ROW(AL4725)-2, 10), 1 + MOD(ROW(AL4725)-2, 10))","v":0}]
[null,null,null,null,null,null,null,null,null,null,null,null,null,null,null,null,null,null,null,null,null,null,null,null,null,null,null,null,null,null,null,null,null,null,2452,"非住宅","S造",{"$f":"INDEX('係数表2-3'!$B:$K, 10 + QUOTIENT(ROW(AL4730)-2, 10), 1 + MOD(ROW(AL4730)-2, 10))","v":0}]
[null,null,null,null,null,null,null,null,null,null,null,null,null,null,null,null,null,null,null,null,null,null,null,null,null,null,null,null,null,null,null,null,null,null,2453,"住宅","S造",{"$f":"INDEX('係数表2-3'!$B:$K, 10 + QUOTIENT(ROW(AL4735)-2, 10), 1 + MOD(ROW(AL4735)-2, 10))","v":0}]
[null,null,null,null,null,null,null,null,null,null,null,null,null,null,null,null,null,null,null,null,null,null,null,null,null,null,null,null,null,null,null,null,null,null,2453,"住宅","その他",{"$f":"INDEX('係数表2-3'!$B:$K, 10 + QUOTIENT(ROW(AL4736)-2, 10), 1 + MOD(ROW(AL4736)-2, 10))","v":0}]
[null,null,null,null,null,null,null,null,null,null,null,null,null,null,null,null,null,null,null,null,null,null,null,null,null,null,null,null,null,null,null,null,null,null,2453,"非住宅","その他",{"$f":"INDEX('係数表2-3'!$B:$K, 10 + QUOTIENT(ROW(AL4741)-2, 10), 1 + MOD(ROW(AL4741)-2, 10))","v":0}]
[null,null,null,null,null,null,null,null,null,null,null,null,null,null,null,null,null,null,null,null,null,null,null,null,null,null,null,null,null,null,null,null,null,null,2454,"住宅","その他",{"$f":"INDEX('係数表2-3'!$B:$K, 10 + QUOTIENT(ROW(AL4746)-2, 10), 1 + MOD(ROW(AL4746)-2, 10))","v":0}]
[null,null,null,null,null,null,null,null,null,null,null,null,null,null,null,null,null,null,null,null,null,null,null,null,null,null,null,null,null,null,null,null,null,null,2454,"非住宅","その他",{"$f":"INDEX('係数表2-3'!$B:$K, 10 + QUOTIENT(ROW(AL4751)-2, 10), 1 + MOD(ROW(AL4751)-2, 10))","v":0}]
[null,null,null,null,null,null,null,null,null,null,null,null,null,null,null,null,null,null,null,null,null,null,null,null,null,null,null,null,null,null,null,null,null,null,2455,"住宅","木造",{"$f":"INDEX('係数表2-3'!$B:$K, 10 + QUOTIENT(ROW(AL4752)-2, 10), 1 + MOD(ROW(AL4752)-2, 10))","v":0}]
[null,null,null,null,null,null,null,null,null,null,null,null,null,null,null,null,null,null,null,null,null,null,null,null,null,null,null,null,null,null,null,null,null,null,2455,"住宅","その他",{"$f":"INDEX('係数表2-3'!$B:$K, 10 + QUOTIENT(ROW(AL4756)-2, 10), 1 + MOD(ROW(AL4756)-2, 10))","v":0}]
[null,null,null,null,null,null,null,null,null,null,null,null,null,null,null,null,null,null,null,null,null,null,null,null,null,null,null,null,null,null,null,null,null,null,2455,"非住宅","その他",{"$f":"INDEX('係数表2-3'!$B:$K, 10 + QUOTIENT(ROW(AL4761)-2, 10), 1 + MOD(ROW(AL4761)-2, 10))","v":0}]
[null,null,null,null,null,null,null,null,null,null,null,null,null,null,null,null,null,null,null,null,null,null,null,null,null,null,null,null,null,null,null,null,null,null,2456,"住宅","その他",{"$f":"INDEX('係数表2-3'!$B:$K, 10 + QUOTIENT(ROW(AL4766)-2, 10), 1 + MOD(ROW(AL4766)-2, 10))","v":0}]
[null,null,null,null,null,null,null,null,null,null,null,null,null,null,null,null,null,null,null,null,null,null,null,null,null,null,null,null,null,null,null,null,null,null,2456,"非住宅","木造",{"$f":"INDEX('係数表2-3'!$B:$K, 10 + QUOTIENT(ROW(AL4767)-2, 10), 1 + MOD(ROW(AL4767)-2, 10))","v":0}]
[null,null,null,null,null,null,null,null,null,null,null,null,null,null,null,null,null,null,null,null,null,null,null,null,null,null,null,null,null,null,null,null,null,null,2457,"住宅","木造",{"$f":"INDEX('係数表2-3'!$B:$K, 10 + QUOTIENT(ROW(AL4772)-2, 10), 1 + MOD(ROW(AL4772)-2, 10))","v":0}]
[null,null,null,null,null,null,null,null,null,null,null,null,null,null,null,null,null,null,null,null,null,null,null,null,null,null,null,null,null,null,null,null,null,null,2457,"非住宅","木造",{"$f":"INDEX('係数表2-3'!$B:$K, 10 + QUOTIENT(ROW(AL4777)-2, 10), 1 + MOD(ROW(AL4777)-2, 10))","v":0}]
[null,null,null,null,null,null,null,null,null,null,null,null,null,null,null,null,null,null,null,null,null,null,null,null,null,null,null,null,null,null,null,null,null,null,2458,"住宅","木造",{"$f":"INDEX('係数表2-3'!$B:$K, 10 + QUOTIENT(ROW(AL4782)-2, 10), 1 + MOD(ROW(AL4782)-2, 10))","v":0}]
[null,null,null,null,null,null,null,null,null,null,null,null,null,null,null,null,null,null,null,null,null,null,null,null,null,null,null,null,null,null,null,null,null,null,2458,"住宅","SRC造",{"$f":"INDEX('係数表2-3'!$B:$K, 10 + QUOTIENT(ROW(AL4783)-2, 10), 1 + MOD(ROW(AL4783)-2, 10))","v":0}]
[null,null,null,null,null,null,null,null,null,null,null,null,null,null,null,null,null,null,null,null,null,null,null,null,null,null,null,null,null,null,null,null,null,null,2458,"非住宅","SRC造",{"$f":"INDEX('係数表2-3'!$B:$K, 10 + QUOTIENT(ROW(AL4788)-2, 10), 1 + MOD(ROW(AL4788)-2, 10))","v":0}]
[null,null,null,null,null,null,null,null,null,null,null,null,null,null,null,null,null,null,null,null,null,null,null,null,null,null,null,null,null,null,null,null,null,null,2459,"住宅","SRC造",{"$f":"INDEX('係数表2-3'!$B:$K, 10 + QUOTIENT(ROW(AL4793)-2, 10), 1 + MOD(ROW(AL4793)-2, 10))","v":0}]
[null,null,null,null,null,null,null,null,null,null,null,null,null,null,null,null,null,null,null,null,null,null,null,null,null,null,null,null,null,null,null,null,null,null,2459,"非住宅","SRC造",{"$f":"INDEX('係数表2-3'!$B:$K, 10 + QUOTIENT(ROW(AL4798)-2, 10), 1 + MOD(ROW(AL4798)-2, 10))","v":0}]
[null,null,null,null,null,null,null,null,null,null,null,null,null,null,null,null,null,null,null,null,null,null,null,null,null,null,null,null,null,null,null,null,null,null,2459,"非住宅","RC造",{"$f":"INDEX('係数表2-3'!$B:$K, 10 + QUOTIENT(ROW(AL4799)-2, 10), 1 + MOD(ROW(AL4799)-2, 10))","v":0}]
[null,null,null,null,null,null,null,null,null,null,null,null,null,null,null,null,null,null,null,null,null,null,null,null,null,null,null,null,null,null,null,null,null,null,2460,"住宅","RC造",{"$f":"INDEX('係数表2-3'!$B:$K, 10 + QUOTIENT(ROW(AL4804)-2, 10), 1 + MOD(ROW(AL4804)-2, 10))","v":0}]
[null,null,null,null,null,null,null,null,null,null,null,null,null,null,null,null,null,null,null,null,null,null,null,null,null,null,null,null,null,null,null,null,null,null,2460,"非住宅","RC造",{"$f":"INDEX('係数表2-3'!$B:$K, 10 + QUOTIENT(ROW(AL4809)-2, 10), 1 + MOD(ROW(AL4809)-2, 10))","v":0}]
[null,null,null,null,null,null,null,null,null,null,null,null,null,null,null,null,null,null,null,null,null,null,null,null,null,null,null,null,null,null,null,null,null,null,2461,"住宅","RC造",{"$f":"INDEX('係数表2-3'!$B:$K, 10 + QUOTIENT(ROW(AL4814)-2, 10), 1 + MOD(ROW(AL4814)-2, 10))","v":0}]
[null,null,null,null,null,null,null,null,null,null,null,null,null,null,null,null,null,null,null,null,null,null,null,null,null,null,null,null,null,null,null,null,null,null,2461,"住宅","S造",{"$f":"INDEX('係数表2-3'!$B:$K, 10 + QUOTIENT(ROW(AL4815)-2, 10), 1 + MOD(ROW(AL4815)-2, 10))","v":0}]
[null,null,null,null,null,null,null,null,null,null,null,null,null,null,null,null,null,null,null,null,null,null,null,null,null,null,null,null,null,null,null,null,null,null,2461,"非住宅","S造",{"$f":"INDEX('係数表2-3'!$B:$K, 10 + QUOTIENT(ROW(AL4820)-2, 10), 1 + MOD(ROW(AL4820)-2, 10))","v":0}]
[null,null,null,null,null,null,null,null,null,null,null,null,null,null,null,null,null,null,null,null,null,null,null,null,null,null,null,null,null,null,null,null,null,null,2462,"住宅","S造",{"$f":"INDEX('係数表2-3'!$B:$K, 10 + QUOTIENT(ROW(AL4825)-2, 10), 1 + MOD(ROW(AL4825)-2, 10))","v":0}]
[null,null,null,null,null,null,null,null,null,null,null,null,null,null,null,null,null,null,null,null,null,null,null,null,null,null,null,null,null,null,null,null,null,null,2462,"非住宅","S造",{"$f":"INDEX('係数表2-3'!$B:$K, 10 + QUOTIENT(ROW(AL4830)-2, 10), 1 + MOD(ROW(AL4830)-2, 10))","v":0}]
[null,null,null,null,null,null,null,null,null,null,null,null,null,null,null,null,null,null,null,null,null,null,null,null,null,null,null,null,null,null,null,null,null,null,2462,"非住宅","その他",{"$f":"INDEX('係数表2-3'!$B:$K, 10 + QUOTIENT(ROW(AL4831)-2, 10), 1 + MOD(ROW(AL4831)-2, 10))","v":0}]
[null,null,null,null,null,null,null,null,null,null,null,null,null,null,null,null,null,null,null,null,null,null,null,null,null,null,null,null,null,null,null,null,null,null,2463,"住宅","その他",{"$f":"INDEX('係数表2-3'!$B:$K, 10 + QUOTIENT(ROW(AL4836)-2, 10), 1 + MOD(ROW(AL4836)-2, 10))","v":0}]
[null,null,null,null,null,null,null,null,null,null,null,null,null,null,null,null,null,null,null,null,null,null,null,null,null,null,null,null,null,null,null,null,null,null,2463,"非住宅","その他",{"$f":"INDEX('係数表2-3'!$B:$K, 10 + QUOTIENT(ROW(AL4841)-2, 10), 1 + MOD(ROW(AL4841)-2, 10))","v":0}]
[null,null,null,null,null,null,null,null,null,null,null,null,null,null,null,null,null,null,null,null,null,null,null,null,null,null,null,null,null,null,null,null,null,null,2464,"住宅","その他",{"$f":"INDEX('係数表2-3'!$B:$K, 10 + QUOTIENT(ROW(AL4846)-2, 10), 1 + MOD(ROW(AL4846)-2, 10))","v":0}]
[null,null,null,null,null,null,null,null,null,null,null,null,null,null,null,null,null,null,null,null,null,null,null,null,null,null,null,null,null,null,null,null,null,null,2464,"非住宅","木造",{"$f":"INDEX('係数表2-3'!$B:$K, 10 + QUOTIENT(ROW(AL4847)-2, 10), 1 + MOD(ROW(AL4847)-2, 10))","v":0}]
[null,null,null,null,null,null,null,null,null,null,null,null,null,null,null,null,null,null,null,null,null,null,null,null,null,null,null,null,null,null,null,null,null,null,2465,"住宅","木造",{"$f":"INDEX('係数表2-3'!$B:$K, 10 + QUOTIENT(ROW(AL4852)-2, 10), 1 + MOD(ROW(AL4852)-2, 10))","v":0}]
[null,null,null,null,null,null,null,null,null,null,null,null,null,null,null,null,null,null,null,null,null,null,null,null,null,null,null,null,null,null,null,null,null,null,2465,"非住宅","木造",{"$f":"INDEX('係数表2-3'!$B:$K, 10 + QUOTIENT(ROW(AL4857)-2, 10), 1 + MOD(ROW(AL4857)-2, 10))","v":0}]
[null,null,null,null,null,null,null,null,null,null,null,null,null,null,null,null,null,null,null,null,null,null,null,null,null,null,null,null,null,null,null,null,null,null,2465,"非住宅","S造",{"$f":"INDEX('係数表2-3'!$B:$K, 10 + QUOTIENT(ROW(AL4860)-2, 10), 1 + MOD(ROW(AL4860)-2, 10))","v":0}]
[null,null,null,null,null,null,null,null,null,null,null,null,null,null,null,null,null,null,null,null,null,null,null,null,null,null,null,null,null,null,null,null,null,null,2466,"住宅","木造",{"$f":"INDEX('係数表2-3'!$B:$K, 10 + QUOTIENT(ROW(AL4862)-2, 10), 1 + MOD(ROW(AL4862)-2, 10))","v":0}]
[null,null,null,null,null,null,null,null,null,null,null,null,null,null,null,null,null,null,null,null,null,null,null,null,null,null,null,null,null,null,null,null,null,null,2466,"非住宅","木造",{"$f":"INDEX('係数表2-3'!$B:$K, 10 + QUOTIENT(ROW(AL4867)-2, 10), 1 + MOD(ROW(AL4867)-2, 10))","v":0}]
[null,null,null,null,null,null,null,null,null,null,null,null,null,null,null,null,null,null,null,null,null,null,null,null,null,null,null,null,null,null,null,null,null,null,2467,"住宅","木造",{"$f":"INDEX('係数表2-3'!$B:$K, 10 + QUOTIENT(ROW(AL4872)-2, 10), 1 + MOD(ROW(AL4872)-2, 10))","v":0}]
[null,null,null,null,null,null,null,null,null,null,null,null,null,null,null,null,null,null,null,null,null,null,null,null,null,null,null,null,null,null,null,null,null,null,2467,"非住宅","木造",{"$f":"INDEX('係数表2-3'!$B:$K, 10 + QUOTIENT(ROW(AL4877)-2, 10), 1 + MOD(ROW(AL4877)-2, 10))","v":0}]
[null,null,null,null,null,null,null,null,null,null,null,null,null,null,null,null,null,null,null,null,null,null,null,null,null,null,null,null,null,null,null,null,null,null,2467,"非住宅","SRC造",{"$f":"INDEX('係数表2-3'!$B:$K, 10 + QUOTIENT(ROW(AL4878)-2, 10), 1 + MOD(ROW(AL4878)-2, 10))","v":0}]
[null,null,null,null,null,null,null,null,null,null,null,null,null,null,null,null,null,null,null,null,null,null,null,null,null,null,null,null,null,null,null,null,null,null,2468,"住宅","SRC造",{"$f":"INDEX('係数表2-3'!$B:$K, 10 + QUOTIENT(ROW(AL4883)-2, 10), 1 + MOD(ROW(AL4883)-2, 10))","v":0}]
[null,null,null,null,null,null,null,null,null,null,null,null,null,null,null,null,null,null,null,null,null,null,null,null,null,null,null,null,null,null,null,null,null,null,2468,"非住宅","SRC造",{"$f":"INDEX('係数表2-3'!$B:$K, 10 + QUOTIENT(ROW(AL4888)-2, 10), 1 + MOD(ROW(AL4888)-2, 10))","v":0}]
[null,null,null,null,null,null,null,null,null,null,null,null,null,null,null,null,null,null,null,null,null,null,null,null,null,null,null,null,null,null,null,null,null,null,2469,"住宅","SRC造",{"$f":"INDEX('係数表2-3'!$B:$K, 10 + QUOTIENT(ROW(AL4893)-2, 10), 1 + MOD(ROW(AL4893)-2, 10))","v":0}]
[null,null,null,null,null,null,null,null,null,null,null,null,null,null,null,null,null,null,null,null,null,null,null,null,null,null,null,null,null,null,null,null,null,null,2469,"住宅","RC造",{"$f":"INDEX('係数表2-3'!$B:$K, 10 + QUOTIENT(ROW(AL4894)-2, 10), 1 + MOD(ROW(AL4894)-2, 10))","v":0}]
[null,null,null,null,null,null,null,null,null,null,null,null,null,null,null,null,null,null,null,null,null,null,null,null,null,null,null,null,null,null,null,null,null,null,2469,"非住宅","RC造",{"$f":"INDEX('係数表2-3'!$B:$K, 10 + QUOTIENT(ROW(AL4899)-2, 10), 1 + MOD(ROW(AL4899)-2, 10))","v":0}]
[null,null,null,null,null,null,null,null,null,null,null,null,null,null,null,null,null,null,null,null,null,null,null,null,null,null,null,null,null,null,null,null,null,null,2470,"住宅","RC造",{"$f":"INDEX('係数表2-3'!$B:$K, 10 + QUOTIENT(ROW(AL4904)-2, 10), 1 + MOD(ROW(AL4904)-2, 10))","v":0}]
[null,null,null,null,null,null,null,null,null,null,null,null,null,null,null,null,null,null,null,null,null,null,null,null,null,null,null,null,null,null,null,null,null,null,2470,"非住宅","RC造",{"$f":"INDEX('係数表2-3'!$B:$K, 10 + QUOTIENT(ROW(AL4909)-2, 10), 1 + MOD(ROW(AL4909)-2, 10))","v":0}]
[null,null,null,null,null,null,null,null,null,null,null,null,null,null,null,null,null,null,null,null,null,null,null,null,null,null,null,null,null,null,null,null,null,null,2470,"非住宅","S造",{"$f":"INDEX('係数表2-3'!$B:$K, 10 + QUOTIENT(ROW(AL4910)-2, 10), 1 + MOD(ROW(AL4910)-2, 10))","v":0}]
[null,null,null,null,null,null,null,null,null,null,null,null,null,null,null,null,null,null,null,null,null,null,null,null,null,null,null,null,null,null,null,null,null,null,2471,"住宅","S造",{"$f":"INDEX('係数表2-3'!$B:$K, 10 + QUOTIENT(ROW(AL4915)-2, 10), 1 + MOD(ROW(AL4915)-2, 10))","v":0}]
[null,null,null,null,null,null,null,null,null,null,null,null,null,null,null,null,null,null,null,null,null,null,null,null,null,null,null,null,null,null,null,null,null,null,2471,"非住宅","S造",{"$f":"INDEX('係数表2-3'!$B:$K, 10 + QUOTIENT(ROW(AL4920)-2, 10), 1 + MOD(ROW(AL4920)-2, 10))","v":0}]
[null,null,null,null,null,null,null,null,null,null,null,null,null,null,null,null,null,null,null,null,null,null,null,null,null,null,null,null,null,null,null,null,null,null,2472,"住宅","S造",{"$f":"INDEX('係数表2-3'!$B:$K, 10 + QUOTIENT(ROW(AL4925)-2, 10), 1 + MOD(ROW(AL4925)-2, 10))","v":0}]
[null,null,null,null,null,null,null,null,null,null,null,null,null,null,null,null,null,null,null,null,null,null,null,null,null,null,null,null,null,null,null,null,null,null,2472,"住宅","その他",{"$f":"INDEX('係数表2-3'!$B:$K, 10 + QUOTIENT(ROW(AL4926)-2, 10), 1 + MOD(ROW(AL4926)-2, 10))","v":0}]
[null,null,null,null,null,null,null,null,null,null,null,null,null,null,null,null,null,null,null,null,null,null,null,null,null,null,null,null,null,null,null,null,null,null,2472,"非住宅","その他",{"$f":"INDEX('係数表2-3'!$B:$K, 10 + QUOTIENT(ROW(AL4931)-2, 10), 1 + MOD(ROW(AL4931)-2, 10))","v":0}]
[null,null,null,null,null,null,null,null,null,null,null,null,null,null,null,null,null,null,null,null,null,null,null,null,null,null,null,null,null,null,null,null,null,null,2473,"住宅","その他",{"$f":"INDEX('係数表2-3'!$B:$K, 10 + QUOTIENT(ROW(AL4936)-2, 10), 1 + MOD(ROW(AL4936)-2, 10))","v":0}]
[null,null,null,null,null,null,null,null,null,null,null,null,null,null,null,null,null,null,null,null,null,null,null,null,null,null,null,null,null,null,null,null,null,null,2473,"非住宅","その他",{"$f":"INDEX('係数表2-3'!$B:$K, 10 + QUOTIENT(ROW(AL4941)-2, 10), 1 + MOD(ROW(AL4941)-2, 10))","v":0}]
[null,null,null,null,null,null,null,null,null,null,null,null,null,null,null,null,null,null,null,null,null,null,null,null,null,null,null,null,null,null,null,null,null,null,2474,"住宅","木造",{"$f":"INDEX('係数表2-3'!$B:$K, 10 + QUOTIENT(ROW(AL4942)-2, 10), 1 + MOD(ROW(AL4942)-2, 10))","v":0}]
[null,null,null,null,null,null,null,null,null,null,null,null,null,null,null,null,null,null,null,null,null,null,null,null,null,null,null,null,null,null,null,null,null,null,2474,"非住宅","木造",{"$f":"INDEX('係数表2-3'!$B:$K, 10 + QUOTIENT(ROW(AL4947)-2, 10), 1 + MOD(ROW(AL4947)-2, 10))","v":0}]
[null,null,null,null,null,null,null,null,null,null,null,null,null,null,null,null,null,null,null,null,null,null,null,null,null,null,null,null,null,null,null,null,null,null,2475,"住宅","木造",{"$f":"INDEX('係数表2-3'!$B:$K, 10 + QUOTIENT(ROW(AL4952)-2, 10), 1 + MOD(ROW(AL4952)-2, 10))","v":0}]
[null,null,null,null,null,null,null,null,null,null,null,null,null,null,null,null,null,null,null,null,null,null,null,null,null,null,null,null,null,null,null,null,null,null,2475,"非住宅","木造",{"$f":"INDEX('係数表2-3'!$B:$K, 10 + QUOTIENT(ROW(AL4957)-2, 10), 1 + MOD(ROW(AL4957)-2, 10))","v":0}]
[null,null,null,null,null,null,null,null,null,null,null,null,null,null,null,null,null,null,null,null,null,null,null,null,null,null,null,null,null,null,null,null,null,null,2475,"非住宅","SRC造",{"$f":"INDEX('係数表2-3'!$B:$K, 10 + QUOTIENT(ROW(AL4958)-2, 10), 1 + MOD(ROW(AL4958)-2, 10))","v":0}]
[null,null,null,null,null,null,null,null,null,null,null,null,null,null,null,null,null,null,null,null,null,null,null,null,null,null,null,null,null,null,null,null,null,null,2476,"住宅","木造",{"$f":"INDEX('係数表2-3'!$B:$K, 10 + QUOTIENT(ROW(AL4962)-2, 10), 1 + MOD(ROW(AL4962)-2, 10))","v":0}]
[null,null,null,null,null,null,null,null,null,null,null,null,null,null,null,null,null,null,null,null,null,null,null,null,null,null,null,null,null,null,null,null,null,null,2476,"住宅","SRC造",{"$f":"INDEX('係数表2-3'!$B:$K, 10 + QUOTIENT(ROW(AL4963)-2, 10), 1 + MOD(ROW(AL4963)-2, 10))","v":0}]
[null,null,null,null,null,null,null,null,null,null,null,null,null,null,null,null,null,null,null,null,null,null,null,null,null,null,null,null,null,null,null,null,null,null,2476,"住宅","RC造",{"$f":"INDEX('係数表2-3'!$B:$K, 10 + QUOTIENT(ROW(AL4964)-2, 10), 1 + MOD(ROW(AL4964)-2, 10))","v":0}]
[null,null,null,null,null,null,null,null,null,null,null,null,null,null,null,null,null,null,null,null,null,null,null,null,null,null,null,null,null,null,null,null,null,null,2476,"住宅","S造",{"$f":"INDEX('係数表2-3'!$B:$K, 10 + QUOTIENT(ROW(AL4965)-2, 10), 1 + MOD(ROW(AL4965)-2, 10))","v":0}]
[null,null,null,null,null,null,null,null,null,null,null,null,null,null,null,null,null,null,null,null,null,null,null,null,null,null,null,null,null,null,null,null,null,null,2476,"住宅","その他",{"$f":"INDEX('係数表2-3'!$B:$K, 10 + QUOTIENT(ROW(AL4966)-2, 10), 1 + MOD(ROW(AL4966)-2, 10))","v":0}]
[null,null,null,null,null,null,null,null,null,null,null,null,null,null,null,null,null,null,null,null,null,null,null,null,null,null,null,null,null,null,null,null,null,null,2476,"非住宅","木造",{"$f":"INDEX('係数表2-3'!$B:$K, 10 + QUOTIENT(ROW(AL4967)-2, 10), 1 + MOD(ROW(AL4967)-2, 10))","v":0}]
[null,null,null,null,null,null,null,null,null,null,null,null,null,null,null,null,null,null,null,null,null,null,null,null,null,null,null,null,null,null,null,null,null,null,2476,"非住宅","SRC造",{"$f":"INDEX('係数表2-3'!$B:$K, 10 + QUOTIENT(ROW(AL4968)-2, 10), 1 + MOD(ROW(AL4968)-2, 10))","v":0}]
[null,null,null,null,null,null,null,null,null,null,null,null,null,null,null,null,null,null,null,null,null,null,null,null,null,null,null,null,null,null,null,null,null,null,2476,"非住宅","RC造",{"$f":"INDEX('係数表2-3'!$B:$K, 10 + QUOTIENT(ROW(AL4969)-2, 10), 1 + MOD(ROW(AL4969)-2, 10))","v":0}]
[null,null,null,null,null,null,null,null,null,null,null,null,null,null,null,null,null,null,null,null,null,null,null,null,null,null,null,null,null,null,null,null,null,null,2476,"非住宅","S造",{"$f":"INDEX('係数表2-3'!$B:$K, 10 + QUOTIENT(ROW(AL4970)-2, 10), 1 + MOD(ROW(AL4970)-2, 10))","v":0}]
[null,null,null,null,null,null,null,null,null,null,null,null,null,null,null,null,null,null,null,null,null,null,null,null,null,null,null,null,null,null,null,null,null,null,2476,"非住宅","その他",{"$f":"INDEX('係数表2-3'!$B:$K, 10 + QUOTIENT(ROW(AL4971)-2, 10), 1 + MOD(ROW(AL4971)-2, 10))","v":0}]
[null,null,null,null,null,null,null,null,null,null,null,null,null,null,null,null,null,null,null,null,null,null,null,null,null,null,null,null,null,null,null,null,null,null,2477,"住宅","木造",{"$f":"INDEX('係数表2-3'!$B:$K, 10 + QUOTIENT(ROW(AL4972)-2, 10), 1 + MOD(ROW(AL4972)-2, 10))","v":0}]
[null,null,null,null,null,null,null,null,null,null,null,null,null,null,null,null,null,null,null,null,null,null,null,null,null,null,null,null,null,null,null,null,null,null,2477,"住宅","SRC造",{"$f":"INDEX('係数表2-3'!$B:$K, 10 + QUOTIENT(ROW(AL4973)-2, 10), 1 + MOD(ROW(AL4973)-2, 10))","v":0}]
[null,null,null,null,null,null,null,null,null,null,null,null,null,null,null,null,null,null,null,null,null,null,null,null,null,null,null,null,null,null,null,null,null,null,2477,"住宅","RC造",{"$f":"INDEX('係数表2-3'!$B:$K, 10 + QUOTIENT(ROW(AL4974)-2, 10), 1 + MOD(ROW(AL4974)-2, 10))","v":0}]
[null,null,null,null,null,null,null,null,null,null,null,null,null,null,null,null,null,null,null,null,null,null,null,null,null,null,null,null,null,null,null,null,null,null,2477,"住宅","S造",{"$f":"INDEX('係数表2-3'!$B:$K, 10 + QUOTIENT(ROW(AL4975)-2, 10), 1 + MOD(ROW(AL4975)-2, 10))","v":0}]
[null,null,null,null,null,null,null,null,null,null,null,null,null,null,null,null,null,null,null,null,null,null,null,null,null,null,null,null,null,null,null,null,null,null,2477,"住宅","その他",{"$f":"INDEX('係数表2-3'!$B:$K, 10 + QUOTIENT(ROW(AL4976)-2, 10), 1 + MOD(ROW(AL4976)-2, 10))","v":0}]
[null,null,null,null,null,null,null,null,null,null,null,null,null,null,null,null,null,null,null,null,null,null,null,null,null,null,null,null,null,null,null,null,null,null,2477,"非住宅","木造",{"$f":"INDEX('係数表2-3'!$B:$K, 10 + QUOTIENT(ROW(AL4977)-2, 10), 1 + MOD(ROW(AL4977)-2, 10))","v":0}]
[null,null,null,null,null,null,null,null,null,null,null,null,null,null,null,null,null,null,null,null,null,null,null,null,null,null,null,null,null,null,null,null,null,null,2477,"非住宅","SRC造",{"$f":"INDEX('係数表2-3'!$B:$K, 10 + QUOTIENT(ROW(AL4978)-2, 10), 1 + MOD(ROW(AL4978)-2, 10))","v":0}]
[null,null,null,null,null,null,null,null,null,null,null,null,null,null,null,null,null,null,null,null,null,null,null,null,null,null,null,null,null,null,null,null,null,null,2477,"非住宅","RC造",{"$f":"INDEX('係数表2-3'!$B:$K, 10 + QUOTIENT(ROW(AL4979)-2, 10), 1 + MOD(ROW(AL4979)-2, 10))","v":0}]
[null,null,null,null,null,null,null,null,null,null,null,null,null,null,null,null,null,null,null,null,null,null,null,null,null,null,null,null,null,null,null,null,null,null,2477,"非住宅","S造",{"$f":"INDEX('係数表2-3'!$B:$K, 10 + QUOTIENT(ROW(AL4980)-2, 10), 1 + MOD(ROW(AL4980)-2, 10))","v":0}]
[null,null,null,null,null,null,null,null,null,null,null,null,null,null,null,null,null,null,null,null,null,null,null,null,null,null,null,null,null,null,null,null,null,null,2477,"非住宅","その他",{"$f":"INDEX('係数表2-3'!$B:$K, 10 + QUOTIENT(ROW(AL4981)-2, 10), 1 + MOD(ROW(AL4981)-2, 10))","v":0}]
[null,null,null,null,null,null,null,null,null,null,null,null,null,null,null,null,null,null,null,null,null,null,null,null,null,null,null,null,null,null,null,null,null,null,2478,"住宅","木造",{"$f":"INDEX('係数表2-3'!$B:$K, 10 + QUOTIENT(ROW(AL4982)-2, 10), 1 + MOD(ROW(AL4982)-2, 10))","v":0}]
[null,null,null,null,null,null,null,null,null,null,null,null,null,null,null,null,null,null,null,null,null,null,null,null,null,null,null,null,null,null,null,null,null,null,2478,"住宅","SRC造",{"$f":"INDEX('係数表2-3'!$B:$K, 10 + QUOTIENT(ROW(AL4983)-2, 10), 1 + MOD(ROW(AL4983)-2, 10))","v":0}]
[null,null,null,null,null,null,null,null,null,null,null,null,null,null,null,null,null,null,null,null,null,null,null,null,null,null,null,null,null,null,null,null,null,null,2478,"住宅","RC造",{"$f":"INDEX('係数表2-3'!$B:$K, 10 + QUOTIENT(ROW(AL4984)-2, 10), 1 + MOD(ROW(AL4984)-2, 10))","v":0}]
[null,null,null,null,null,null,null,null,null,null,null,null,null,null,null,null,null,null,null,null,null,null,null,null,null,null,null,null,null,null,null,null,null,null,2478,"住宅","S造",{"$f":"INDEX('係数表2-3'!$B:$K, 10 + QUOTIENT(ROW(AL4985)-2, 10), 1 + MOD(ROW(AL4985)-2, 10))","v":0}]
[null,null,null,null,null,null,null,null,null,null,null,null,null,null,null,null,null,null,null,null,null,null,null,null,null,null,null,null,null,null,null,null,null,null,2478,"住宅","その他",{"$f":"INDEX('係数表2-3'!$B:$K, 10 + QUOTIENT(ROW(AL4986)-2, 10), 1 + MOD(ROW(AL4986)-2, 10))","v":0}]
[null,null,null,null,null,null,null,null,null,null,null,null,null,null,null,null,null,null,null,null,null,null,null,null,null,null,null,null,null,null,null,null,null,null,2478,"非住宅","木造",{"$f":"INDEX('係数表2-3'!$B:$K, 10 + QUOTIENT(ROW(AL4987)-2, 10), 1 + MOD(ROW(AL4987)-2, 10))","v":0}]
[null,null,null,null,null,null,null,null,null,null,null,null,null,null,null,null,null,null,null,null,null,null,null,null,null,null,null,null,null,null,null,null,null,null,2478,"非住宅","SRC造",{"$f":"INDEX('係数表2-3'!$B:$K, 10 + QUOTIENT(ROW(AL4988)-2, 10), 1 + MOD(ROW(AL4988)-2, 10))","v":0}]
[null,null,null,null,null,null,null,null,null,null,null,null,null,null,null,null,null,null,null,null,null,null,null,null,null,null,null,null,null,null,null,null,null,null,2478,"非住宅","RC造",{"$f":"INDEX('係数表2-3'!$B:$K, 10 + QUOTIENT(ROW(AL4989)-2, 10), 1 + MOD(ROW(AL4989)-2, 10))","v":0}]
[null,null,null,null,null,null,null,null,null,null,null,null,null,null,null,null,null,null,null,null,null,null,null,null,null,null,null,null,null,null,null,null,null,null,2478,"非住宅","S造",{"$f":"INDEX('係数表2-3'!$B:$K, 10 + QUOTIENT(ROW(AL4990)-2, 10), 1 + MOD(ROW(AL4990)-2, 10))","v":0}]
[null,null,null,null,null,null,null,null,null,null,null,null,null,null,null,null,null,null,null,null,null,null,null,null,null,null,null,null,null,null,null,null,null,null,2478,"非住宅","その他",{"$f":"INDEX('係数表2-3'!$B:$K, 10 + QUOTIENT(ROW(AL4991)-2, 10), 1 + MOD(ROW(AL4991)-2, 10))","v":0}]
[null,null,null,null,null,null,null,null,null,null,null,null,null,null,null,null,null,null,null,null,null,null,null,null,null,null,null,null,null,null,null,null,null,null,2479,"住宅","木造",{"$f":"INDEX('係数表2-3'!$B:$K, 10 + QUOTIENT(ROW(AL4992)-2, 10), 1 + MOD(ROW(AL4992)-2, 10))","v":0}]
[null,null,null,null,null,null,null,null,null,null,null,null,null,null,null,null,null,null,null,null,null,null,null,null,null,null,null,null,null,null,null,null,null,null,2479,"住宅","SRC造",{"$f":"INDEX('係数表2-3'!$B:$K, 10 + QUOTIENT(ROW(AL4993)-2, 10), 1 + MOD(ROW(AL4993)-2, 10))","v":0}]
[null,null,null,null,null,null,null,null,null,null,null,null,null,null,null,null,null,null,null,null,null,null,null,null,null,null,null,null,null,null,null,null,null,null,2479,"住宅","RC造",{"$f":"INDEX('係数表2-3'!$B:$K, 10 + QUOTIENT(ROW(AL4994)-2, 10), 1 + MOD(ROW(AL4994)-2, 10))","v":0}]
[null,null,null,null,null,null,null,null,null,null,null,null,null,null,null,null,null,null,null,null,null,null,null,null,null,null,null,null,null,null,null,null,null,null,2479,"住宅","S造",{"$f":"INDEX('係数表2-3'!$B:$K, 10 + QUOTIENT(ROW(AL4995)-2, 10), 1 + MOD(ROW(AL4995)-2, 10))","v":0}]
[null,null,null,null,null,null,null,null,null,null,null,null,null,null,null,null,null,null,null,null,null,null,null,null,null,null,null,null,null,null,null,null,null,null,2479,"住宅","その他",{"$f":"INDEX('係数表2-3'!$B:$K, 10 + QUOTIENT(ROW(AL4996)-2, 10), 1 + MOD(ROW(AL4996)-2, 10))","v":0}]
[null,null,null,null,null,null,null,null,null,null,null,null,null,null,null,null,null,null,null,null,null,null,null,null,null,null,null,null,null,null,null,null,null,null,2479,"非住宅","木造",{"$f":"INDEX('係数表2-3'!$B:$K, 10 + QUOTIENT(ROW(AL4997)-2, 10), 1 + MOD(ROW(AL4997)-2, 10))","v":0}]
[null,null,null,null,null,null,null,null,null,null,null,null,null,null,null,null,null,null,null,null,null,null,null,null,null,null,null,null,null,null,null,null,null,null,2479,"非住宅","SRC造",{"$f":"INDEX('係数表2-3'!$B:$K, 10 + QUOTIENT(ROW(AL4998)-2, 10), 1 + MOD(ROW(AL4998)-2, 10))","v":0}]
[null,null,null,null,null,null,null,null,null,null,null,null,null,null,null,null,null,null,null,null,null,null,null,null,null,null,null,null,null,null,null,null,null,null,2479,"非住宅","RC造",{"$f":"INDEX('係数表2-3'!$B:$K, 10 + QUOTIENT(ROW(AL4999)-2, 10), 1 + MOD(ROW(AL4999)-2, 10))","v":0}]
[null,null,null,null,null,null,null,null,null,null,null,null,null,null,null,null,null,null,null,null,null,null,null,null,null,null,null,null,null,null,null,null,null,null,2479,"非住宅","S造",{"$f":"INDEX('係数表2-3'!$B:$K, 10 + QUOTIENT(ROW(AL5000)-2, 10), 1 + MOD(ROW(AL5000)-2, 10))","v":0}]
[null,null,null,null,null,null,null,null,null,null,null,null,null,null,null,null,null,null,null,null,null,null,null,null,null,null,null,null,null,null,null,null,null,null,2479,"非住宅","その他",{"$f":"INDEX('係数表2-3'!$B:$K, 10 + QUOTIENT(ROW(AL5001)-2, 10), 1 + MOD(ROW(AL5001)-2, 10))","v":0}]
[null,null,null,null,null,null,null,null,null,null,null,null,null,null,null,null,null,null,null,null,null,null,null,null,null,null,null,null,null,null,null,null,null,null,2480,"住宅","木造",{"$f":"INDEX('係数表2-3'!$B:$K, 10 + QUOTIENT(ROW(AL5002)-2, 10), 1 + MOD(ROW(AL5002)-2, 10))","v":0}]
[null,null,null,null,null,null,null,null,null,null,null,null,null,null,null,null,null,null,null,null,null,null,null,null,null,null,null,null,null,null,null,null,null,null,2480,"住宅","SRC造",{"$f":"INDEX('係数表2-3'!$B:$K, 10 + QUOTIENT(ROW(AL5003)-2, 10), 1 + MOD(ROW(AL5003)-2, 10))","v":0}]
[null,null,null,null,null,null,null,null,null,null,null,null,null,null,null,null,null,null,null,null,null,null,null,null,null,null,null,null,null,null,null,null,null,null,2480,"住宅","RC造",{"$f":"INDEX('係数表2-3'!$B:$K, 10 + QUOTIENT(ROW(AL5004)-2, 10), 1 + MOD(ROW(AL5004)-2, 10))","v":0}]
[null,null,null,null,null,null,null,null,null,null,null,null,null,null,null,null,null,null,null,null,null,null,null,null,null,null,null,null,null,null,null,null,null,null,2480,"住宅","S造",{"$f":"INDEX('係数表2-3'!$B:$K, 10 + QUOTIENT(ROW(AL5005)-2, 10), 1 + MOD(ROW(AL5005)-2, 10))","v":0}]
[null,null,null,null,null,null,null,null,null,null,null,null,null,null,null,null,null,null,null,null,null,null,null,null,null,null,null,null,null,null,null,null,null,null,2480,"住宅","その他",{"$f":"INDEX('係数表2-3'!$B:$K, 10 + QUOTIENT(ROW(AL5006)-2, 10), 1 + MOD(ROW(AL5006)-2, 10))","v":0}]
[null,null,null,null,null,null,null,null,null,null,null,null,null,null,null,null,null,null,null,null,null,null,null,null,null,null,null,null,null,null,null,null,null,null,2480,"非住宅","木造",{"$f":"INDEX('係数表2-3'!$B:$K, 10 + QUOTIENT(ROW(AL5007)-2, 10), 1 + MOD(ROW(AL5007)-2, 10))","v":0}]
[null,null,null,null,null,null,null,null,null,null,null,null,null,null,null,null,null,null,null,null,null,null,null,null,null,null,null,null,null,null,null,null,null,null,2480,"非住宅","SRC造",{"$f":"INDEX('係数表2-3'!$B:$K, 10 + QUOTIENT(ROW(AL5008)-2, 10), 1 + MOD(ROW(AL5008)-2, 10))","v":0}]
[null,null,null,null,null,null,null,null,null,null,null,null,null,null,null,null,null,null,null,null,null,null,null,null,null,null,null,null,null,null,null,null,null,null,2480,"非住宅","RC造",{"$f":"INDEX('係数表2-3'!$B:$K, 10 + QUOTIENT(ROW(AL5009)-2, 10), 1 + MOD(ROW(AL5009)-2, 10))","v":0}]
[null,null,null,null,null,null,null,null,null,null,null,null,null,null,null,null,null,null,null,null,null,null,null,null,null,null,null,null,null,null,null,null,null,null,2480,"非住宅","S造",{"$f":"INDEX('係数表2-3'!$B:$K, 10 + QUOTIENT(ROW(AL5010)-2, 10), 1 + MOD(ROW(AL5010)-2, 10))","v":0}]
[null,null,null,null,null,null,null,null,null,null,null,null,null,null,null,null,null,null,null,null,null,null,null,null,null,null,null,null,null,null,null,null,null,null,2480,"非住宅","その他",{"$f":"INDEX('係数表2-3'!$B:$K, 10 + QUOTIENT(ROW(AL5011)-2, 10), 1 + MOD(ROW(AL5011)-2, 10))","v":0}]
[null,null,null,null,null,null,null,null,null,null,null,null,null,null,null,null,null,null,null,null,null,null,null,null,null,null,null,null,null,null,null,null,null,null,2481,"住宅","木造",{"$f":"INDEX('係数表2-3'!$B:$K, 10 + QUOTIENT(ROW(AL5012)-2, 10), 1 + MOD(ROW(AL5012)-2, 10))","v":0}]
[null,null,null,null,null,null,null,null,null,null,null,null,null,null,null,null,null,null,null,null,null,null,null,null,null,null,null,null,null,null,null,null,null,null,2481,"住宅","SRC造",{"$f":"INDEX('係数表2-3'!$B:$K, 10 + QUOTIENT(ROW(AL5013)-2, 10), 1 + MOD(ROW(AL5013)-2, 10))","v":0}]
[null,null,null,null,null,null,null,null,null,null,null,null,null,null,null,null,null,null,null,null,null,null,null,null,null,null,null,null,null,null,null,null,null,null,2481,"住宅","RC造",{"$f":"INDEX('係数表2-3'!$B:$K, 10 + QUOTIENT(ROW(AL5014)-2, 10), 1 + MOD(ROW(AL5014)-2, 10))","v":0}]
[null,null,null,null,null,null,null,null,null,null,null,null,null,null,null,null,null,null,null,null,null,null,null,null,null,null,null,null,null,null,null,null,null,null,2481,"住宅","S造",{"$f":"INDEX('係数表2-3'!$B:$K, 10 + QUOTIENT(ROW(AL5015)-2, 10), 1 + MOD(ROW(AL5015)-2, 10))","v":0}]
[null,null,null,null,null,null,null,null,null,null,null,null,null,null,null,null,null,null,null,null,null,null,null,null,null,null,null,null,null,null,null,null,null,null,2481,"住宅","その他",{"$f":"INDEX('係数表2-3'!$B:$K, 10 + QUOTIENT(ROW(AL5016)-2, 10), 1 + MOD(ROW(AL5016)-2, 10))","v":0}]
[null,null,null,null,null,null,null,null,null,null,null,null,null,null,null,null,null,null,null,null,null,null,null,null,null,null,null,null,null,null,null,null,null,null,2481,"非住宅","木造",{"$f":"INDEX('係数表2-3'!$B:$K, 10 + QUOTIENT(ROW(AL5017)-2, 10), 1 + MOD(ROW(AL5017)-2, 10))","v":0}]
[null,null,null,null,null,null,null,null,null,null,null,null,null,null,null,null,null,null,null,null,null,null,null,null,null,null,null,null,null,null,null,null,null,null,2481,"非住宅","SRC造",{"$f":"INDEX('係数表2-3'!$B:$K, 10 + QUOTIENT(ROW(AL5018)-2, 10), 1 + MOD(ROW(AL5018)-2, 10))","v":0}]
[null,null,null,null,null,null,null,null,null,null,null,null,null,null,null,null,null,null,null,null,null,null,null,null,null,null,null,null,null,null,null,null,null,null,2481,"非住宅","RC造",{"$f":"INDEX('係数表2-3'!$B:$K, 10 + QUOTIENT(ROW(AL5019)-2, 10), 1 + MOD(ROW(AL5019)-2, 10))","v":0}]
[null,null,null,null,null,null,null,null,null,null,null,null,null,null,null,null,null,null,null,null,null,null,null,null,null,null,null,null,null,null,null,null,null,null,2481,"非住宅","S造",{"$f":"INDEX('係数表2-3'!$B:$K, 10 + QUOTIENT(ROW(AL5020)-2, 10), 1 + MOD(ROW(AL5020)-2, 10))","v":0}]
[null,null,null,null,null,null,null,null,null,null,null,null,null,null,null,null,null,null,null,null,null,null,null,null,null,null,null,null,null,null,null,null,null,null,2481,"非住宅","その他",{"$f":"INDEX('係数表2-3'!$B:$K, 10 + QUOTIENT(ROW(AL5021)-2, 10), 1 + MOD(ROW(AL5021)-2, 10))","v":0}]
[null,null,null,null,null,null,null,null,null,null,null,null,null,null,null,null,null,null,null,null,null,null,null,null,null,null,null,null,null,null,null,null,null,null,2482,"住宅","木造",{"$f":"INDEX('係数表2-3'!$B:$K, 10 + QUOTIENT(ROW(AL5022)-2, 10), 1 + MOD(ROW(AL5022)-2, 10))","v":0}]
[null,null,null,null,null,null,null,null,null,null,null,null,null,null,null,null,null,null,null,null,null,null,null,null,null,null,null,null,null,null,null,null,null,null,2482,"住宅","SRC造",{"$f":"INDEX('係数表2-3'!$B:$K, 10 + QUOTIENT(ROW(AL5023)-2, 10), 1 + MOD(ROW(AL5023)-2, 10))","v":0}]
[null,null,null,null,null,null,null,null,null,null,null,null,null,null,null,null,null,null,null,null,null,null,null,null,null,null,null,null,null,null,null,null,null,null,2482,"住宅","RC造",{"$f":"INDEX('係数表2-3'!$B:$K, 10 + QUOTIENT(ROW(AL5024)-2, 10), 1 + MOD(ROW(AL5024)-2, 10))","v":0}]
[null,null,null,null,null,null,null,null,null,null,null,null,null,null,null,null,null,null,null,null,null,null,null,null,null,null,null,null,null,null,null,null,null,null,2482,"住宅","S造",{"$f":"INDEX('係数表2-3'!$B:$K, 10 + QUOTIENT(ROW(AL5025)-2, 10), 1 + MOD(ROW(AL5025)-2, 10))","v":0}]
[null,null,null,null,null,null,null,null,null,null,null,null,null,null,null,null,null,null,null,null,null,null,null,null,null,null,null,null,null,null,null,null,null,null,2482,"住宅","その他",{"$f":"INDEX('係数表2-3'!$B:$K, 10 + QUOTIENT(ROW(AL5026)-2, 10), 1 + MOD(ROW(AL5026)-2, 10))","v":0}]
[null,null,null,null,null,null,null,null,null,null,null,null,null,null,null,null,null,null,null,null,null,null,null,null,null,null,null,null,null,null,null,null,null,null,2482,"非住宅","木造",{"$f":"INDEX('係数表2-3'!$B:$K, 10 + QUOTIENT(ROW(AL5027)-2, 10), 1 + MOD(ROW(AL5027)-2, 10))","v":0}]
[null,null,null,null,null,null,null,null,null,null,null,null,null,null,null,null,null,null,null,null,null,null,null,null,null,null,null,null,null,null,null,null,null,null,2482,"非住宅","SRC造",{"$f":"INDEX('係数表2-3'!$B:$K, 10 + QUOTIENT(ROW(AL5028)-2, 10), 1 + MOD(ROW(AL5028)-2, 10))","v":0}]
[null,null,null,null,null,null,null,null,null,null,null,null,null,null,null,null,null,null,null,null,null,null,null,null,null,null,null,null,null,null,null,null,null,null,2482,"非住宅","RC造",{"$f":"INDEX('係数表2-3'!$B:$K, 10 + QUOTIENT(ROW(AL5029)-2, 10), 1 + MOD(ROW(AL5029)-2, 10))","v":0}]
[null,null,null,null,null,null,null,null,null,null,null,null,null,null,null,null,null,null,null,null,null,null,null,null,null,null,null,null,null,null,null,null,null,null,2482,"非住宅","S造",{"$f":"INDEX('係数表2-3'!$B:$K, 10 + QUOTIENT(ROW(AL5030)-2, 10), 1 + MOD(ROW(AL5030)-2, 10))","v":0}]
[null,null,null,null,null,null,null,null,null,null,null,null,null,null,null,null,null,null,null,null,null,null,null,null,null,null,null,null,null,null,null,null,null,null,2482,"非住宅","その他",{"$f":"INDEX('係数表2-3'!$B:$K, 10 + QUOTIENT(ROW(AL5031)-2, 10), 1 + MOD(ROW(AL5031)-2, 10))","v":0}]
[null,null,null,null,null,null,null,null,null,null,null,null,null,null,null,null,null,null,null,null,null,null,null,null,null,null,null,null,null,null,null,null,null,null,2483,"住宅","木造",{"$f":"INDEX('係数表2-3'!$B:$K, 10 + QUOTIENT(ROW(AL5032)-2, 10), 1 + MOD(ROW(AL5032)-2, 10))","v":0}]
[null,null,null,null,null,null,null,null,null,null,null,null,null,null,null,null,null,null,null,null,null,null,null,null,null,null,null,null,null,null,null,null,null,null,2483,"住宅","SRC造",{"$f":"INDEX('係数表2-3'!$B:$K, 10 + QUOTIENT(ROW(AL5033)-2, 10), 1 + MOD(ROW(AL5033)-2, 10))","v":0}]
[null,null,null,null,null,null,null,null,null,null,null,null,null,null,null,null,null,null,null,null,null,null,null,null,null,null,null,null,null,null,null,null,null,null,2483,"住宅","RC造",{"$f":"INDEX('係数表2-3'!$B:$K, 10 + QUOTIENT(ROW(AL5034)-2, 10), 1 + MOD(ROW(AL5034)-2, 10))","v":0}]
[null,null,null,null,null,null,null,null,null,null,null,null,null,null,null,null,null,null,null,null,null,null,null,null,null,null,null,null,null,null,null,null,null,null,2483,"住宅","S造",{"$f":"INDEX('係数表2-3'!$B:$K, 10 + QUOTIENT(ROW(AL5035)-2, 10), 1 + MOD(ROW(AL5035)-2, 10))","v":0}]
[null,null,null,null,null,null,null,null,null,null,null,null,null,null,null,null,null,null,null,null,null,null,null,null,null,null,null,null,null,null,null,null,null,null,2483,"住宅","その他",{"$f":"INDEX('係数表2-3'!$B:$K, 10 + QUOTIENT(ROW(AL5036)-2, 10), 1 + MOD(ROW(AL5036)-2, 10))","v":0}]
[null,null,null,null,null,null,null,null,null,null,null,null,null,null,null,null,null,null,null,null,null,null,null,null,null,null,null,null,null,null,null,null,null,null,2483,"非住宅","木造",{"$f":"INDEX('係数表2-3'!$B:$K, 10 + QUOTIENT(ROW(AL5037)-2, 10), 1 + MOD(ROW(AL5037)-2, 10))","v":0}]
[null,null,null,null,null,null,null,null,null,null,null,null,null,null,null,null,null,null,null,null,null,null,null,null,null,null,null,null,null,null,null,null,null,null,2483,"非住宅","SRC造",{"$f":"INDEX('係数表2-3'!$B:$K, 10 + QUOTIENT(ROW(AL5038)-2, 10), 1 + MOD(ROW(AL5038)-2, 10))","v":0}]
[null,null,null,null,null,null,null,null,null,null,null,null,null,null,null,null,null,null,null,null,null,null,null,null,null,null,null,null,null,null,null,null,null,null,2483,"非住宅","RC造",{"$f":"INDEX('係数表2-3'!$B:$K, 10 + QUOTIENT(ROW(AL5039)-2, 10), 1 + MOD(ROW(AL5039)-2, 10))","v":0}]
[null,null,null,null,null,null,null,null,null,null,null,null,null,null,null,null,null,null,null,null,null,null,null,null,null,null,null,null,null,null,null,null,null,null,2483,"非住宅","S造",{"$f":"INDEX('係数表2-3'!$B:$K, 10 + QUOTIENT(ROW(AL5040)-2, 10), 1 + MOD(ROW(AL5040)-2, 10))","v":0}]
[null,null,null,null,null,null,null,null,null,null,null,null,null,null,null,null,null,null,null,null,null,null,null,null,null,null,null,null,null,null,null,null,null,null,2483,"非住宅","その他",{"$f":"INDEX('係数表2-3'!$B:$K, 10 + QUOTIENT(ROW(AL5041)-2, 10), 1 + MOD(ROW(AL5041)-2, 10))","v":0}]
[null,null,null,null,null,null,null,null,null,null,null,null,null,null,null,null,null,null,null,null,null,null,null,null,null,null,null,null,null,null,null,null,null,null,2484,"住宅","木造",{"$f":"INDEX('係数表2-3'!$B:$K, 10 + QUOTIENT(ROW(AL5042)-2, 10), 1 + MOD(ROW(AL5042)-2, 10))","v":0}]
[null,null,null,null,null,null,null,null,null,null,null,null,null,null,null,null,null,null,null,null,null,null,null,null,null,null,null,null,null,null,null,null,null,null,2484,"住宅","SRC造",{"$f":"INDEX('係数表2-3'!$B:$K, 10 + QUOTIENT(ROW(AL5043)-2, 10), 1 + MOD(ROW(AL5043)-2, 10))","v":0}]
[null,null,null,null,null,null,null,null,null,null,null,null,null,null,null,null,null,null,null,null,null,null,null,null,null,null,null,null,null,null,null,null,null,null,2484,"住宅","RC造",{"$f":"INDEX('係数表2-3'!$B:$K, 10 + QUOTIENT(ROW(AL5044)-2, 10), 1 + MOD(ROW(AL5044)-2, 10))","v":0}]
[null,null,null,null,null,null,null,null,null,null,null,null,null,null,null,null,null,null,null,null,null,null,null,null,null,null,null,null,null,null,null,null,null,null,2484,"住宅","S造",{"$f":"INDEX('係数表2-3'!$B:$K, 10 + QUOTIENT(ROW(AL5045)-2, 10), 1 + MOD(ROW(AL5045)-2, 10))","v":0}]
[null,null,null,null,null,null,null,null,null,null,null,null,null,null,null,null,null,null,null,null,null,null,null,null,null,null,null,null,null,null,null,null,null,null,2484,"住宅","その他",{"$f":"INDEX('係数表2-3'!$B:$K, 10 + QUOTIENT(ROW(AL5046)-2, 10), 1 + MOD(ROW(AL5046)-2, 10))","v":0}]
[null,null,null,null,null,null,null,null,null,null,null,null,null,null,null,null,null,null,null,null,null,null,null,null,null,null,null,null,null,null,null,null,null,null,2484,"非住宅","木造",{"$f":"INDEX('係数表2-3'!$B:$K, 10 + QUOTIENT(ROW(AL5047)-2, 10), 1 + MOD(ROW(AL5047)-2, 10))","v":0}]
[null,null,null,null,null,null,null,null,null,null,null,null,null,null,null,null,null,null,null,null,null,null,null,null,null,null,null,null,null,null,null,null,null,null,2484,"非住宅","SRC造",{"$f":"INDEX('係数表2-3'!$B:$K, 10 + QUOTIENT(ROW(AL5048)-2, 10), 1 + MOD(ROW(AL5048)-2, 10))","v":0}]
[null,null,null,null,null,null,null,null,null,null,null,null,null,null,null,null,null,null,null,null,null,null,null,null,null,null,null,null,null,null,null,null,null,null,2484,"非住宅","RC造",{"$f":"INDEX('係数表2-3'!$B:$K, 10 + QUOTIENT(ROW(AL5049)-2, 10), 1 + MOD(ROW(AL5049)-2, 10))","v":0}]
[null,null,null,null,null,null,null,null,null,null,null,null,null,null,null,null,null,null,null,null,null,null,null,null,null,null,null,null,null,null,null,null,null,null,2484,"非住宅","S造",{"$f":"INDEX('係数表2-3'!$B:$K, 10 + QUOTIENT(ROW(AL5050)-2, 10), 1 + MOD(ROW(AL5050)-2, 10))","v":0}]
[null,null,null,null,null,null,null,null,null,null,null,null,null,null,null,null,null,null,null,null,null,null,null,null,null,null,null,null,null,null,null,null,null,null,2484,"非住宅","その他",{"$f":"INDEX('係数表2-3'!$B:$K, 10 + QUOTIENT(ROW(AL5051)-2, 10), 1 + MOD(ROW(AL5051)-2, 10))","v":0}]
[null,null,null,null,null,null,null,null,null,null,null,null,null,null,null,null,null,null,null,null,null,null,null,null,null,null,null,null,null,null,null,null,null,null,2485,"住宅","木造",{"$f":"INDEX('係数表2-3'!$B:$K, 10 + QUOTIENT(ROW(AL5052)-2, 10), 1 + MOD(ROW(AL5052)-2, 10))","v":0}]
[null,null,null,null,null,null,null,null,null,null,null,null,null,null,null,null,null,null,null,null,null,null,null,null,null,null,null,null,null,null,null,null,null,null,2485,"住宅","SRC造",{"$f":"INDEX('係数表2-3'!$B:$K, 10 + QUOTIENT(ROW(AL5053)-2, 10), 1 + MOD(ROW(AL5053)-2, 10))","v":0}]
[null,null,null,null,null,null,null,null,null,null,null,null,null,null,null,null,null,null,null,null,null,null,null,null,null,null,null,null,null,null,null,null,null,null,2485,"住宅","RC造",{"$f":"INDEX('係数表2-3'!$B:$K, 10 + QUOTIENT(ROW(AL5054)-2, 10), 1 + MOD(ROW(AL5054)-2, 10))","v":0}]
[null,null,null,null,null,null,null,null,null,null,null,null,null,null,null,null,null,null,null,null,null,null,null,null,null,null,null,null,null,null,null,null,null,null,2485,"住宅","S造",{"$f":"INDEX('係数表2-3'!$B:$K, 10 + QUOTIENT(ROW(AL5055)-2, 10), 1 + MOD(ROW(AL5055)-2, 10))","v":0}]
[null,null,null,null,null,null,null,null,null,null,null,null,null,null,null,null,null,null,null,null,null,null,null,null,null,null,null,null,null,null,null,null,null,null,2485,"住宅","その他",{"$f":"INDEX('係数表2-3'!$B:$K, 10 + QUOTIENT(ROW(AL5056)-2, 10), 1 + MOD(ROW(AL5056)-2, 10))","v":0}]
[null,null,null,null,null,null,null,null,null,null,null,null,null,null,null,null,null,null,null,null,null,null,null,null,null,null,null,null,null,null,null,null,null,null,2485,"非住宅","木造",{"$f":"INDEX('係数表2-3'!$B:$K, 10 + QUOTIENT(ROW(AL5057)-2, 10), 1 + MOD(ROW(AL5057)-2, 10))","v":0}]
[null,null,null,null,null,null,null,null,null,null,null,null,null,null,null,null,null,null,null,null,null,null,null,null,null,null,null,null,null,null,null,null,null,null,2485,"非住宅","SRC造",{"$f":"INDEX('係数表2-3'!$B:$K, 10 + QUOTIENT(ROW(AL5058)-2, 10), 1 + MOD(ROW(AL5058)-2, 10))","v":0}]
[null,null,null,null,null,null,null,null,null,null,null,null,null,null,null,null,null,null,null,null,null,null,null,null,null,null,null,null,null,null,null,null,null,null,2485,"非住宅","RC造",{"$f":"INDEX('係数表2-3'!$B:$K, 10 + QUOTIENT(ROW(AL5059)-2, 10), 1 + MOD(ROW(AL5059)-2, 10))","v":0}]
[null,null,null,null,null,null,null,null,null,null,null,null,null,null,null,null,null,null,null,null,null,null,null,null,null,null,null,null,null,null,null,null,null,null,2485,"非住宅","S造",{"$f":"INDEX('係数表2-3'!$B:$K, 10 + QUOTIENT(ROW(AL5060)-2, 10), 1 + MOD(ROW(AL5060)-2, 10))","v":0}]
[null,null,null,null,null,null,null,null,null,null,null,null,null,null,null,null,null,null,null,null,null,null,null,null,null,null,null,null,null,null,null,null,null,null,2485,"非住宅","その他",{"$f":"INDEX('係数表2-3'!$B:$K, 10 + QUOTIENT(ROW(AL5061)-2, 10), 1 + MOD(ROW(AL5061)-2, 10))","v":0}]
[null,null,null,null,null,null,null,null,null,null,null,null,null,null,null,null,null,null,null,null,null,null,null,null,null,null,null,null,null,null,null,null,null,null,2486,"住宅","木造",{"$f":"INDEX('係数表2-3'!$B:$K, 10 + QUOTIENT(ROW(AL5062)-2, 10), 1 + MOD(ROW(AL5062)-2, 10))","v":0}]
[null,null,null,null,null,null,null,null,null,null,null,null,null,null,null,null,null,null,null,null,null,null,null,null,null,null,null,null,null,null,null,null,null,null,2486,"住宅","SRC造",{"$f":"INDEX('係数表2-3'!$B:$K, 10 + QUOTIENT(ROW(AL5063)-2, 10), 1 + MOD(ROW(AL5063)-2, 10))","v":0}]
[null,null,null,null,null,null,null,null,null,null,null,null,null,null,null,null,null,null,null,null,null,null,null,null,null,null,null,null,null,null,null,null,null,null,2486,"住宅","RC造",{"$f":"INDEX('係数表2-3'!$B:$K, 10 + QUOTIENT(ROW(AL5064)-2, 10), 1 + MOD(ROW(AL5064)-2, 10))","v":0}]
[null,null,null,null,null,null,null,null,null,null,null,null,null,null,null,null,null,null,null,null,null,null,null,null,null,null,null,null,null,null,null,null,null,null,2486,"住宅","S造",{"$f":"INDEX('係数表2-3'!$B:$K, 10 + QUOTIENT(ROW(AL5065)-2, 10), 1 + MOD(ROW(AL5065)-2, 10))","v":0}]
[null,null,null,null,null,null,null,null,null,null,null,null,null,null,null,null,null,null,null,null,null,null,null,null,null,null,null,null,null,null,null,null,null,null,2486,"住宅","その他",{"$f":"INDEX('係数表2-3'!$B:$K, 10 + QUOTIENT(ROW(AL5066)-2, 10), 1 + MOD(ROW(AL5066)-2, 10))","v":0}]
[null,null,null,null,null,null,null,null,null,null,null,null,null,null,null,null,null,null,null,null,null,null,null,null,null,null,null,null,null,null,null,null,null,null,2486,"非住宅","木造",{"$f":"INDEX('係数表2-3'!$B:$K, 10 + QUOTIENT(ROW(AL5067)-2, 10), 1 + MOD(ROW(AL5067)-2, 10))","v":0}]
[null,null,null,null,null,null,null,null,null,null,null,null,null,null,null,null,null,null,null,null,null,null,null,null,null,null,null,null,null,null,null,null,null,null,2486,"非住宅","SRC造",{"$f":"INDEX('係数表2-3'!$B:$K, 10 + QUOTIENT(ROW(AL5068)-2, 10), 1 + MOD(ROW(AL5068)-2, 10))","v":0}]
[null,null,null,null,null,null,null,null,null,null,null,null,null,null,null,null,null,null,null,null,null,null,null,null,null,null,null,null,null,null,null,null,null,null,2486,"非住宅","RC造",{"$f":"INDEX('係数表2-3'!$B:$K, 10 + QUOTIENT(ROW(AL5069)-2, 10), 1 + MOD(ROW(AL5069)-2, 10))","v":0}]
[null,null,null,null,null,null,null,null,null,null,null,null,null,null,null,null,null,null,null,null,null,null,null,null,null,null,null,null,null,null,null,null,null,null,2486,"非住宅","S造",{"$f":"INDEX('係数表2-3'!$B:$K, 10 + QUOTIENT(ROW(AL5070)-2, 10), 1 + MOD(ROW(AL5070)-2, 10))","v":0}]
[null,null,null,null,null,null,null,null,null,null,null,null,null,null,null,null,null,null,null,null,null,null,null,null,null,null,null,null,null,null,null,null,null,null,2486,"非住宅","その他",{"$f":"INDEX('係数表2-3'!$B:$K, 10 + QUOTIENT(ROW(AL5071)-2, 10), 1 + MOD(ROW(AL5071)-2, 10))","v":0}]
[null,null,null,null,null,null,null,null,null,null,null,null,null,null,null,null,null,null,null,null,null,null,null,null,null,null,null,null,null,null,null,null,null,null,2487,"住宅","木造",{"$f":"INDEX('係数表2-3'!$B:$K, 10 + QUOTIENT(ROW(AL5072)-2, 10), 1 + MOD(ROW(AL5072)-2, 10))","v":0}]
[null,null,null,null,null,null,null,null,null,null,null,null,null,null,null,null,null,null,null,null,null,null,null,null,null,null,null,null,null,null,null,null,null,null,2487,"住宅","SRC造",{"$f":"INDEX('係数表2-3'!$B:$K, 10 + QUOTIENT(ROW(AL5073)-2, 10), 1 + MOD(ROW(AL5073)-2, 10))","v":0}]
[null,null,null,null,null,null,null,null,null,null,null,null,null,null,null,null,null,null,null,null,null,null,null,null,null,null,null,null,null,null,null,null,null,null,2487,"住宅","RC造",{"$f":"INDEX('係数表2-3'!$B:$K, 10 + QUOTIENT(ROW(AL5074)-2, 10), 1 + MOD(ROW(AL5074)-2, 10))","v":0}]
[null,null,null,null,null,null,null,null,null,null,null,null,null,null,null,null,null,null,null,null,null,null,null,null,null,null,null,null,null,null,null,null,null,null,2487,"住宅","S造",{"$f":"INDEX('係数表2-3'!$B:$K, 10 + QUOTIENT(ROW(AL5075)-2, 10), 1 + MOD(ROW(AL5075)-2, 10))","v":0}]
[null,null,null,null,null,null,null,null,null,null,null,null,null,null,null,null,null,null,null,null,null,null,null,null,null,null,null,null,null,null,null,null,null,null,2487,"住宅","その他",{"$f":"INDEX('係数表2-3'!$B:$K, 10 + QUOTIENT(ROW(AL5076)-2, 10), 1 + MOD(ROW(AL5076)-2, 10))","v":0}]
[null,null,null,null,null,null,null,null,null,null,null,null,null,null,null,null,null,null,null,null,null,null,null,null,null,null,null,null,null,null,null,null,null,null,2487,"非住宅","木造",{"$f":"INDEX('係数表2-3'!$B:$K, 10 + QUOTIENT(ROW(AL5077)-2, 10), 1 + MOD(ROW(AL5077)-2, 10))","v":0}]
[null,null,null,null,null,null,null,null,null,null,null,null,null,null,null,null,null,null,null,null,null,null,null,null,null,null,null,null,null,null,null,null,null,null,2487,"非住宅","SRC造",{"$f":"INDEX('係数表2-3'!$B:$K, 10 + QUOTIENT(ROW(AL5078)-2, 10), 1 + MOD(ROW(AL5078)-2, 10))","v":0}]
[null,null,null,null,null,null,null,null,null,null,null,null,null,null,null,null,null,null,null,null,null,null,null,null,null,null,null,null,null,null,null,null,null,null,2487,"非住宅","RC造",{"$f":"INDEX('係数表2-3'!$B:$K, 10 + QUOTIENT(ROW(AL5079)-2, 10), 1 + MOD(ROW(AL5079)-2, 10))","v":0}]
[null,null,null,null,null,null,null,null,null,null,null,null,null,null,null,null,null,null,null,null,null,null,null,null,null,null,null,null,null,null,null,null,null,null,2487,"非住宅","S造",{"$f":"INDEX('係数表2-3'!$B:$K, 10 + QUOTIENT(ROW(AL5080)-2, 10), 1 + MOD(ROW(AL5080)-2, 10))","v":0}]
[null,null,null,null,null,null,null,null,null,null,null,null,null,null,null,null,null,null,null,null,null,null,null,null,null,null,null,null,null,null,null,null,null,null,2487,"非住宅","その他",{"$f":"INDEX('係数表2-3'!$B:$K, 10 + QUOTIENT(ROW(AL5081)-2, 10), 1 + MOD(ROW(AL5081)-2, 10))","v":0}]
[null,null,null,null,null,null,null,null,null,null,null,null,null,null,null,null,null,null,null,null,null,null,null,null,null,null,null,null,null,null,null,null,null,null,2488,"住宅","木造",{"$f":"INDEX('係数表2-3'!$B:$K, 10 + QUOTIENT(ROW(AL5082)-2, 10), 1 + MOD(ROW(AL5082)-2, 10))","v":0}]
[null,null,null,null,null,null,null,null,null,null,null,null,null,null,null,null,null,null,null,null,null,null,null,null,null,null,null,null,null,null,null,null,null,null,2488,"住宅","SRC造",{"$f":"INDEX('係数表2-3'!$B:$K, 10 + QUOTIENT(ROW(AL5083)-2, 10), 1 + MOD(ROW(AL5083)-2, 10))","v":0}]
[null,null,null,null,null,null,null,null,null,null,null,null,null,null,null,null,null,null,null,null,null,null,null,null,null,null,null,null,null,null,null,null,null,null,2488,"住宅","RC造",{"$f":"INDEX('係数表2-3'!$B:$K, 10 + QUOTIENT(ROW(AL5084)-2, 10), 1 + MOD(ROW(AL5084)-2, 10))","v":0}]
[null,null,null,null,null,null,null,null,null,null,null,null,null,null,null,null,null,null,null,null,null,null,null,null,null,null,null,null,null,null,null,null,null,null,2488,"住宅","S造",{"$f":"INDEX('係数表2-3'!$B:$K, 10 + QUOTIENT(ROW(AL5085)-2, 10), 1 + MOD(ROW(AL5085)-2, 10))","v":0}]
[null,null,null,null,null,null,null,null,null,null,null,null,null,null,null,null,null,null,null,null,null,null,null,null,null,null,null,null,null,null,null,null,null,null,2488,"住宅","その他",{"$f":"INDEX('係数表2-3'!$B:$K, 10 + QUOTIENT(ROW(AL5086)-2, 10), 1 + MOD(ROW(AL5086)-2, 10))","v":0}]
[null,null,null,null,null,null,null,null,null,null,null,null,null,null,null,null,null,null,null,null,null,null,null,null,null,null,null,null,null,null,null,null,null,null,2488,"非住宅","木造",{"$f":"INDEX('係数表2-3'!$B:$K, 10 + QUOTIENT(ROW(AL5087)-2, 10), 1 + MOD(ROW(AL5087)-2, 10))","v":0}]
[null,null,null,null,null,null,null,null,null,null,null,null,null,null,null,null,null,null,null,null,null,null,null,null,null,null,null,null,null,null,null,null,null,null,2488,"非住宅","SRC造",{"$f":"INDEX('係数表2-3'!$B:$K, 10 + QUOTIENT(ROW(AL5088)-2, 10), 1 + MOD(ROW(AL5088)-2, 10))","v":0}]
[null,null,null,null,null,null,null,null,null,null,null,null,null,null,null,null,null,null,null,null,null,null,null,null,null,null,null,null,null,null,null,null,null,null,2488,"非住宅","RC造",{"$f":"INDEX('係数表2-3'!$B:$K, 10 + QUOTIENT(ROW(AL5089)-2, 10), 1 + MOD(ROW(AL5089)-2, 10))","v":0}]
[null,null,null,null,null,null,null,null,null,null,null,null,null,null,null,null,null,null,null,null,null,null,null,null,null,null,null,null,null,null,null,null,null,null,2488,"非住宅","S造",{"$f":"INDEX('係数表2-3'!$B:$K, 10 + QUOTIENT(ROW(AL5090)-2, 10), 1 + MOD(ROW(AL5090)-2, 10))","v":0}]
[null,null,null,null,null,null,null,null,null,null,null,null,null,null,null,null,null,null,null,null,null,null,null,null,null,null,null,null,null,null,null,null,null,null,2488,"非住宅","その他",{"$f":"INDEX('係数表2-3'!$B:$K, 10 + QUOTIENT(ROW(AL5091)-2, 10), 1 + MOD(ROW(AL5091)-2, 10))","v":0}]
[null,null,null,null,null,null,null,null,null,null,null,null,null,null,null,null,null,null,null,null,null,null,null,null,null,null,null,null,null,null,null,null,null,null,2489,"住宅","木造",{"$f":"INDEX('係数表2-3'!$B:$K, 10 + QUOTIENT(ROW(AL5092)-2, 10), 1 + MOD(ROW(AL5092)-2, 10))","v":0}]
[null,null,null,null,null,null,null,null,null,null,null,null,null,null,null,null,null,null,null,null,null,null,null,null,null,null,null,null,null,null,null,null,null,null,2489,"住宅","SRC造",{"$f":"INDEX('係数表2-3'!$B:$K, 10 + QUOTIENT(ROW(AL5093)-2, 10), 1 + MOD(ROW(AL5093)-2, 10))","v":0}]
[null,null,null,null,null,null,null,null,null,null,null,null,null,null,null,null,null,null,null,null,null,null,null,null,null,null,null,null,null,null,null,null,null,null,2489,"住宅","RC造",{"$f":"INDEX('係数表2-3'!$B:$K, 10 + QUOTIENT(ROW(AL5094)-2, 10), 1 + MOD(ROW(AL5094)-2, 10))","v":0}]
[null,null,null,null,null,null,null,null,null,null,null,null,null,null,null,null,null,null,null,null,null,null,null,null,null,null,null,null,null,null,null,null,null,null,2489,"住宅","S造",{"$f":"INDEX('係数表2-3'!$B:$K, 10 + QUOTIENT(ROW(AL5095)-2, 10), 1 + MOD(ROW(AL5095)-2, 10))","v":0}]
[null,null,null,null,null,null,null,null,null,null,null,null,null,null,null,null,null,null,null,null,null,null,null,null,null,null,null,null,null,null,null,null,null,null,2489,"住宅","その他",{"$f":"INDEX('係数表2-3'!$B:$K, 10 + QUOTIENT(ROW(AL5096)-2, 10), 1 + MOD(ROW(AL5096)-2, 10))","v":0}]
[null,null,null,null,null,null,null,null,null,null,null,null,null,null,null,null,null,null,null,null,null,null,null,null,null,null,null,null,null,null,null,null,null,null,2489,"非住宅","木造",{"$f":"INDEX('係数表2-3'!$B:$K, 10 + QUOTIENT(ROW(AL5097)-2, 10), 1 + MOD(ROW(AL5097)-2, 10))","v":0}]
[null,null,null,null,null,null,null,null,null,null,null,null,null,null,null,null,null,null,null,null,null,null,null,null,null,null,null,null,null,null,null,null,null,null,2489,"非住宅","SRC造",{"$f":"INDEX('係数表2-3'!$B:$K, 10 + QUOTIENT(ROW(AL5098)-2, 10), 1 + MOD(ROW(AL5098)-2, 10))","v":0}]
[null,null,null,null,null,null,null,null,null,null,null,null,null,null,null,null,null,null,null,null,null,null,null,null,null,null,null,null,null,null,null,null,null,null,2489,"非住宅","RC造",{"$f":"INDEX('係数表2-3'!$B:$K, 10 + QUOTIENT(ROW(AL5099)-2, 10), 1 + MOD(ROW(AL5099)-2, 10))","v":0}]
[null,null,null,null,null,null,null,null,null,null,null,null,null,null,null,null,null,null,null,null,null,null,null,null,null,null,null,null,null,null,null,null,null,null,2489,"非住宅","S造",{"$f":"INDEX('係数表2-3'!$B:$K, 10 + QUOTIENT(ROW(AL5100)-2, 10), 1 + MOD(ROW(AL5100)-2, 10))","v":0}]
[null,null,null,null,null,null,null,null,null,null,null,null,null,null,null,null,null,null,null,null,null,null,null,null,null,null,null,null,null,null,null,null,null,null,2489,"非住宅","その他",{"$f":"INDEX('係数表2-3'!$B:$K, 10 + QUOTIENT(ROW(AL5101)-2, 10), 1 + MOD(ROW(AL5101)-2, 10))","v":0}]
[null,null,null,null,null,null,null,null,null,null,null,null,null,null,null,null,null,null,null,null,null,null,null,null,null,null,null,null,null,null,null,null,null,null,2490,"住宅","木造",{"$f":"INDEX('係数表2-3'!$B:$K, 10 + QUOTIENT(ROW(AL5102)-2, 10), 1 + MOD(ROW(AL5102)-2, 10))","v":0}]
[null,null,null,null,null,null,null,null,null,null,null,null,null,null,null,null,null,null,null,null,null,null,null,null,null,null,null,null,null,null,null,null,null,null,2490,"住宅","SRC造",{"$f":"INDEX('係数表2-3'!$B:$K, 10 + QUOTIENT(ROW(AL5103)-2, 10), 1 + MOD(ROW(AL5103)-2, 10))","v":0}]
[null,null,null,null,null,null,null,null,null,null,null,null,null,null,null,null,null,null,null,null,null,null,null,null,null,null,null,null,null,null,null,null,null,null,2490,"住宅","RC造",{"$f":"INDEX('係数表2-3'!$B:$K, 10 + QUOTIENT(ROW(AL5104)-2, 10), 1 + MOD(ROW(AL5104)-2, 10))","v":0}]
[null,null,null,null,null,null,null,null,null,null,null,null,null,null,null,null,null,null,null,null,null,null,null,null,null,null,null,null,null,null,null,null,null,null,2490,"住宅","S造",{"$f":"INDEX('係数表2-3'!$B:$K, 10 + QUOTIENT(ROW(AL5105)-2, 10), 1 + MOD(ROW(AL5105)-2, 10))","v":0}]
[null,null,null,null,null,null,null,null,null,null,null,null,null,null,null,null,null,null,null,null,null,null,null,null,null,null,null,null,null,null,null,null,null,null,2490,"住宅","その他",{"$f":"INDEX('係数表2-3'!$B:$K, 10 + QUOTIENT(ROW(AL5106)-2, 10), 1 + MOD(ROW(AL5106)-2, 10))","v":0}]
[null,null,null,null,null,null,null,null,null,null,null,null,null,null,null,null,null,null,null,null,null,null,null,null,null,null,null,null,null,null,null,null,null,null,2490,"非住宅","木造",{"$f":"INDEX('係数表2-3'!$B:$K, 10 + QUOTIENT(ROW(AL5107)-2, 10), 1 + MOD(ROW(AL5107)-2, 10))","v":0}]
[null,null,null,null,null,null,null,null,null,null,null,null,null,null,null,null,null,null,null,null,null,null,null,null,null,null,null,null,null,null,null,null,null,null,2490,"非住宅","SRC造",{"$f":"INDEX('係数表2-3'!$B:$K, 10 + QUOTIENT(ROW(AL5108)-2, 10), 1 + MOD(ROW(AL5108)-2, 10))","v":0}]
[null,null,null,null,null,null,null,null,null,null,null,null,null,null,null,null,null,null,null,null,null,null,null,null,null,null,null,null,null,null,null,null,null,null,2490,"非住宅","RC造",{"$f":"INDEX('係数表2-3'!$B:$K, 10 + QUOTIENT(ROW(AL5109)-2, 10), 1 + MOD(ROW(AL5109)-2, 10))","v":0}]
[null,null,null,null,null,null,null,null,null,null,null,null,null,null,null,null,null,null,null,null,null,null,null,null,null,null,null,null,null,null,null,null,null,null,2490,"非住宅","S造",{"$f":"INDEX('係数表2-3'!$B:$K, 10 + QUOTIENT(ROW(AL5110)-2, 10), 1 + MOD(ROW(AL5110)-2, 10))","v":0}]
[null,null,null,null,null,null,null,null,null,null,null,null,null,null,null,null,null,null,null,null,null,null,null,null,null,null,null,null,null,null,null,null,null,null,2490,"非住宅","その他",{"$f":"INDEX('係数表2-3'!$B:$K, 10 + QUOTIENT(ROW(AL5111)-2, 10), 1 + MOD(ROW(AL5111)-2, 10))","v":0}]
[null,null,null,null,null,null,null,null,null,null,null,null,null,null,null,null,null,null,null,null,null,null,null,null,null,null,null,null,null,null,null,null,null,null,2491,"住宅","木造",{"$f":"INDEX('係数表2-3'!$B:$K, 10 + QUOTIENT(ROW(AL5112)-2, 10), 1 + MOD(ROW(AL5112)-2, 10))","v":0}]
[null,null,null,null,null,null,null,null,null,null,null,null,null,null,null,null,null,null,null,null,null,null,null,null,null,null,null,null,null,null,null,null,null,null,2491,"住宅","SRC造",{"$f":"INDEX('係数表2-3'!$B:$K, 10 + QUOTIENT(ROW(AL5113)-2, 10), 1 + MOD(ROW(AL5113)-2, 10))","v":0}]
[null,null,null,null,null,null,null,null,null,null,null,null,null,null,null,null,null,null,null,null,null,null,null,null,null,null,null,null,null,null,null,null,null,null,2491,"住宅","RC造",{"$f":"INDEX('係数表2-3'!$B:$K, 10 + QUOTIENT(ROW(AL5114)-2, 10), 1 + MOD(ROW(AL5114)-2, 10))","v":0}]
[null,null,null,null,null,null,null,null,null,null,null,null,null,null,null,null,null,null,null,null,null,null,null,null,null,null,null,null,null,null,null,null,null,null,2491,"住宅","S造",{"$f":"INDEX('係数表2-3'!$B:$K, 10 + QUOTIENT(ROW(AL5115)-2, 10), 1 + MOD(ROW(AL5115)-2, 10))","v":0}]
[null,null,null,null,null,null,null,null,null,null,null,null,null,null,null,null,null,null,null,null,null,null,null,null,null,null,null,null,null,null,null,null,null,null,2491,"住宅","その他",{"$f":"INDEX('係数表2-3'!$B:$K, 10 + QUOTIENT(ROW(AL5116)-2, 10), 1 + MOD(ROW(AL5116)-2, 10))","v":0}]
[null,null,null,null,null,null,null,null,null,null,null,null,null,null,null,null,null,null,null,null,null,null,null,null,null,null,null,null,null,null,null,null,null,null,2491,"非住宅","木造",{"$f":"INDEX('係数表2-3'!$B:$K, 10 + QUOTIENT(ROW(AL5117)-2, 10), 1 + MOD(ROW(AL5117)-2, 10))","v":0}]
[null,null,null,null,null,null,null,null,null,null,null,null,null,null,null,null,null,null,null,null,null,null,null,null,null,null,null,null,null,null,null,null,null,null,2491,"非住宅","SRC造",{"$f":"INDEX('係数表2-3'!$B:$K, 10 + QUOTIENT(ROW(AL5118)-2, 10), 1 + MOD(ROW(AL5118)-2, 10))","v":0}]
[null,null,null,null,null,null,null,null,null,null,null,null,null,null,null,null,null,null,null,null,null,null,null,null,null,null,null,null,null,null,null,null,null,null,2491,"非住宅","RC造",{"$f":"INDEX('係数表2-3'!$B:$K, 10 + QUOTIENT(ROW(AL5119)-2, 10), 1 + MOD(ROW(AL5119)-2, 10))","v":0}]
[null,null,null,null,null,null,null,null,null,null,null,null,null,null,null,null,null,null,null,null,null,null,null,null,null,null,null,null,null,null,null,null,null,null,2491,"非住宅","S造",{"$f":"INDEX('係数表2-3'!$B:$K, 10 + QUOTIENT(ROW(AL5120)-2, 10), 1 + MOD(ROW(AL5120)-2, 10))","v":0}]
[null,null,null,null,null,null,null,null,null,null,null,null,null,null,null,null,null,null,null,null,null,null,null,null,null,null,null,null,null,null,null,null,null,null,2491,"非住宅","その他",{"$f":"INDEX('係数表2-3'!$B:$K, 10 + QUOTIENT(ROW(AL5121)-2, 10), 1 + MOD(ROW(AL5121)-2, 10))","v":0}]
[null,null,null,null,null,null,null,null,null,null,null,null,null,null,null,null,null,null,null,null,null,null,null,null,null,null,null,null,null,null,null,null,null,null,2492,"住宅","木造",{"$f":"INDEX('係数表2-3'!$B:$K, 10 + QUOTIENT(ROW(AL5122)-2, 10), 1 + MOD(ROW(AL5122)-2, 10))","v":0}]
[null,null,null,null,null,null,null,null,null,null,null,null,null,null,null,null,null,null,null,null,null,null,null,null,null,null,null,null,null,null,null,null,null,null,2492,"住宅","SRC造",{"$f":"INDEX('係数表2-3'!$B:$K, 10 + QUOTIENT(ROW(AL5123)-2, 10), 1 + MOD(ROW(AL5123)-2, 10))","v":0}]
[null,null,null,null,null,null,null,null,null,null,null,null,null,null,null,null,null,null,null,null,null,null,null,null,null,null,null,null,null,null,null,null,null,null,2492,"住宅","RC造",{"$f":"INDEX('係数表2-3'!$B:$K, 10 + QUOTIENT(ROW(AL5124)-2, 10), 1 + MOD(ROW(AL5124)-2, 10))","v":0}]
[null,null,null,null,null,null,null,null,null,null,null,null,null,null,null,null,null,null,null,null,null,null,null,null,null,null,null,null,null,null,null,null,null,null,2492,"住宅","S造",{"$f":"INDEX('係数表2-3'!$B:$K, 10 + QUOTIENT(ROW(AL5125)-2, 10), 1 + MOD(ROW(AL5125)-2, 10))","v":0}]
[null,null,null,null,null,null,null,null,null,null,null,null,null,null,null,null,null,null,null,null,null,null,null,null,null,null,null,null,null,null,null,null,null,null,2492,"住宅","その他",{"$f":"INDEX('係数表2-3'!$B:$K, 10 + QUOTIENT(ROW(AL5126)-2, 10), 1 + MOD(ROW(AL5126)-2, 10))","v":0}]
[null,null,null,null,null,null,null,null,null,null,null,null,null,null,null,null,null,null,null,null,null,null,null,null,null,null,null,null,null,null,null,null,null,null,2492,"非住宅","木造",{"$f":"INDEX('係数表2-3'!$B:$K, 10 + QUOTIENT(ROW(AL5127)-2, 10), 1 + MOD(ROW(AL5127)-2, 10))","v":0}]
[null,null,null,null,null,null,null,null,null,null,null,null,null,null,null,null,null,null,null,null,null,null,null,null,null,null,null,null,null,null,null,null,null,null,2492,"非住宅","SRC造",{"$f":"INDEX('係数表2-3'!$B:$K, 10 + QUOTIENT(ROW(AL5128)-2, 10), 1 + MOD(ROW(AL5128)-2, 10))","v":0}]
[null,null,null,null,null,null,null,null,null,null,null,null,null,null,null,null,null,null,null,null,null,null,null,null,null,null,null,null,null,null,null,null,null,null,2492,"非住宅","RC造",{"$f":"INDEX('係数表2-3'!$B:$K, 10 + QUOTIENT(ROW(AL5129)-2, 10), 1 + MOD(ROW(AL5129)-2, 10))","v":0}]
[null,null,null,null,null,null,null,null,null,null,null,null,null,null,null,null,null,null,null,null,null,null,null,null,null,null,null,null,null,null,null,null,null,null,2492,"非住宅","S造",{"$f":"INDEX('係数表2-3'!$B:$K, 10 + QUOTIENT(ROW(AL5130)-2, 10), 1 + MOD(ROW(AL5130)-2, 10))","v":0}]
[null,null,null,null,null,null,null,null,null,null,null,null,null,null,null,null,null,null,null,null,null,null,null,null,null,null,null,null,null,null,null,null,null,null,2492,"非住宅","その他",{"$f":"INDEX('係数表2-3'!$B:$K, 10 + QUOTIENT(ROW(AL5131)-2, 10), 1 + MOD(ROW(AL5131)-2, 10))","v":0}]
[null,null,null,null,null,null,null,null,null,null,null,null,null,null,null,null,null,null,null,null,null,null,null,null,null,null,null,null,null,null,null,null,null,null,2493,"住宅","木造",{"$f":"INDEX('係数表2-3'!$B:$K, 10 + QUOTIENT(ROW(AL5132)-2, 10), 1 + MOD(ROW(AL5132)-2, 10))","v":0}]
[null,null,null,null,null,null,null,null,null,null,null,null,null,null,null,null,null,null,null,null,null,null,null,null,null,null,null,null,null,null,null,null,null,null,2493,"住宅","SRC造",{"$f":"INDEX('係数表2-3'!$B:$K, 10 + QUOTIENT(ROW(AL5133)-2, 10), 1 + MOD(ROW(AL5133)-2, 10))","v":0}]
[null,null,null,null,null,null,null,null,null,null,null,null,null,null,null,null,null,null,null,null,null,null,null,null,null,null,null,null,null,null,null,null,null,null,2493,"住宅","RC造",{"$f":"INDEX('係数表2-3'!$B:$K, 10 + QUOTIENT(ROW(AL5134)-2, 10), 1 + MOD(ROW(AL5134)-2, 10))","v":0}]
[null,null,null,null,null,null,null,null,null,null,null,null,null,null,null,null,null,null,null,null,null,null,null,null,null,null,null,null,null,null,null,null,null,null,2493,"住宅","S造",{"$f":"INDEX('係数表2-3'!$B:$K, 10 + QUOTIENT(ROW(AL5135)-2, 10), 1 + MOD(ROW(AL5135)-2, 10))","v":0}]
[null,null,null,null,null,null,null,null,null,null,null,null,null,null,null,null,null,null,null,null,null,null,null,null,null,null,null,null,null,null,null,null,null,null,2493,"住宅","その他",{"$f":"INDEX('係数表2-3'!$B:$K, 10 + QUOTIENT(ROW(AL5136)-2, 10), 1 + MOD(ROW(AL5136)-2, 10))","v":0}]
[null,null,null,null,null,null,null,null,null,null,null,null,null,null,null,null,null,null,null,null,null,null,null,null,null,null,null,null,null,null,null,null,null,null,2493,"非住宅","木造",{"$f":"INDEX('係数表2-3'!$B:$K, 10 + QUOTIENT(ROW(AL5137)-2, 10), 1 + MOD(ROW(AL5137)-2, 10))","v":0}]
[null,null,null,null,null,null,null,null,null,null,null,null,null,null,null,null,null,null,null,null,null,null,null,null,null,null,null,null,null,null,null,null,null,null,2493,"非住宅","SRC造",{"$f":"INDEX('係数表2-3'!$B:$K, 10 + QUOTIENT(ROW(AL5138)-2, 10), 1 + MOD(ROW(AL5138)-2, 10))","v":0}]
[null,null,null,null,null,null,null,null,null,null,null,null,null,null,null,null,null,null,null,null,null,null,null,null,null,null,null,null,null,null,null,null,null,null,2493,"非住宅","RC造",{"$f":"INDEX('係数表2-3'!$B:$K, 10 + QUOTIENT(ROW(AL5139)-2, 10), 1 + MOD(ROW(AL5139)-2, 10))","v":0}]
[null,null,null,null,null,null,null,null,null,null,null,null,null,null,null,null,null,null,null,null,null,null,null,null,null,null,null,null,null,null,null,null,null,null,2493,"非住宅","S造",{"$f":"INDEX('係数表2-3'!$B:$K, 10 + QUOTIENT(ROW(AL5140)-2, 10), 1 + MOD(ROW(AL5140)-2, 10))","v":0}]
[null,null,null,null,null,null,null,null,null,null,null,null,null,null,null,null,null,null,null,null,null,null,null,null,null,null,null,null,null,null,null,null,null,null,2493,"非住宅","その他",{"$f":"INDEX('係数表2-3'!$B:$K, 10 + QUOTIENT(ROW(AL5141)-2, 10), 1 + MOD(ROW(AL5141)-2, 10))","v":0}]
[null,null,null,null,null,null,null,null,null,null,null,null,null,null,null,null,null,null,null,null,null,null,null,null,null,null,null,null,null,null,null,null,null,null,2494,"住宅","木造",{"$f":"INDEX('係数表2-3'!$B:$K, 10 + QUOTIENT(ROW(AL5142)-2, 10), 1 + MOD(ROW(AL5142)-2, 10))","v":0}]
[null,null,null,null,null,null,null,null,null,null,null,null,null,null,null,null,null,null,null,null,null,null,null,null,null,null,null,null,null,null,null,null,null,null,2494,"住宅","SRC造",{"$f":"INDEX('係数表2-3'!$B:$K, 10 + QUOTIENT(ROW(AL5143)-2, 10), 1 + MOD(ROW(AL5143)-2, 10))","v":0}]
[null,null,null,null,null,null,null,null,null,null,null,null,null,null,null,null,null,null,null,null,null,null,null,null,null,null,null,null,null,null,null,null,null,null,2494,"住宅","RC造",{"$f":"INDEX('係数表2-3'!$B:$K, 10 + QUOTIENT(ROW(AL5144)-2, 10), 1 + MOD(ROW(AL5144)-2, 10))","v":0}]
[null,null,null,null,null,null,null,null,null,null,null,null,null,null,null,null,null,null,null,null,null,null,null,null,null,null,null,null,null,null,null,null,null,null,2494,"住宅","S造",{"$f":"INDEX('係数表2-3'!$B:$K, 10 + QUOTIENT(ROW(AL5145)-2, 10), 1 + MOD(ROW(AL5145)-2, 10))","v":0}]
[null,null,null,null,null,null,null,null,null,null,null,null,null,null,null,null,null,null,null,null,null,null,null,null,null,null,null,null,null,null,null,null,null,null,2494,"住宅","その他",{"$f":"INDEX('係数表2-3'!$B:$K, 10 + QUOTIENT(ROW(AL5146)-2, 10), 1 + MOD(ROW(AL5146)-2, 10))","v":0}]
[null,null,null,null,null,null,null,null,null,null,null,null,null,null,null,null,null,null,null,null,null,null,null,null,null,null,null,null,null,null,null,null,null,null,2494,"非住宅","木造",{"$f":"INDEX('係数表2-3'!$B:$K, 10 + QUOTIENT(ROW(AL5147)-2, 10), 1 + MOD(ROW(AL5147)-2, 10))","v":0}]
[null,null,null,null,null,null,null,null,null,null,null,null,null,null,null,null,null,null,null,null,null,null,null,null,null,null,null,null,null,null,null,null,null,null,2494,"非住宅","SRC造",{"$f":"INDEX('係数表2-3'!$B:$K, 10 + QUOTIENT(ROW(AL5148)-2, 10), 1 + MOD(ROW(AL5148)-2, 10))","v":0}]
[null,null,null,null,null,null,null,null,null,null,null,null,null,null,null,null,null,null,null,null,null,null,null,null,null,null,null,null,null,null,null,null,null,null,2494,"非住宅","RC造",{"$f":"INDEX('係数表2-3'!$B:$K, 10 + QUOTIENT(ROW(AL5149)-2, 10), 1 + MOD(ROW(AL5149)-2, 10))","v":0}]
[null,null,null,null,null,null,null,null,null,null,null,null,null,null,null,null,null,null,null,null,null,null,null,null,null,null,null,null,null,null,null,null,null,null,2494,"非住宅","S造",{"$f":"INDEX('係数表2-3'!$B:$K, 10 + QUOTIENT(ROW(AL5150)-2, 10), 1 + MOD(ROW(AL5150)-2, 10))","v":0}]
[null,null,null,null,null,null,null,null,null,null,null,null,null,null,null,null,null,null,null,null,null,null,null,null,null,null,null,null,null,null,null,null,null,null,2494,"非住宅","その他",{"$f":"INDEX('係数表2-3'!$B:$K, 10 + QUOTIENT(ROW(AL5151)-2, 10), 1 + MOD(ROW(AL5151)-2, 10))","v":0}]
[null,null,null,null,null,null,null,null,null,null,null,null,null,null,null,null,null,null,null,null,null,null,null,null,null,null,null,null,null,null,null,null,null,null,2495,"住宅","木造",{"$f":"INDEX('係数表2-3'!$B:$K, 10 + QUOTIENT(ROW(AL5152)-2, 10), 1 + MOD(ROW(AL5152)-2, 10))","v":0}]
[null,null,null,null,null,null,null,null,null,null,null,null,null,null,null,null,null,null,null,null,null,null,null,null,null,null,null,null,null,null,null,null,null,null,2495,"住宅","SRC造",{"$f":"INDEX('係数表2-3'!$B:$K, 10 + QUOTIENT(ROW(AL5153)-2, 10), 1 + MOD(ROW(AL5153)-2, 10))","v":0}]
[null,null,null,null,null,null,null,null,null,null,null,null,null,null,null,null,null,null,null,null,null,null,null,null,null,null,null,null,null,null,null,null,null,null,2495,"住宅","RC造",{"$f":"INDEX('係数表2-3'!$B:$K, 10 + QUOTIENT(ROW(AL5154)-2, 10), 1 + MOD(ROW(AL5154)-2, 10))","v":0}]
[null,null,null,null,null,null,null,null,null,null,null,null,null,null,null,null,null,null,null,null,null,null,null,null,null,null,null,null,null,null,null,null,null,null,2495,"住宅","S造",{"$f":"INDEX('係数表2-3'!$B:$K, 10 + QUOTIENT(ROW(AL5155)-2, 10), 1 + MOD(ROW(AL5155)-2, 10))","v":0}]
[null,null,null,null,null,null,null,null,null,null,null,null,null,null,null,null,null,null,null,null,null,null,null,null,null,null,null,null,null,null,null,null,null,null,2495,"住宅","その他",{"$f":"INDEX('係数表2-3'!$B:$K, 10 + QUOTIENT(ROW(AL5156)-2, 10), 1 + MOD(ROW(AL5156)-2, 10))","v":0}]
[null,null,null,null,null,null,null,null,null,null,null,null,null,null,null,null,null,null,null,null,null,null,null,null,null,null,null,null,null,null,null,null,null,null,2495,"非住宅","木造",{"$f":"INDEX('係数表2-3'!$B:$K, 10 + QUOTIENT(ROW(AL5157)-2, 10), 1 + MOD(ROW(AL5157)-2, 10))","v":0}]
[null,null,null,null,null,null,null,null,null,null,null,null,null,null,null,null,null,null,null,null,null,null,null,null,null,null,null,null,null,null,null,null,null,null,2495,"非住宅","SRC造",{"$f":"INDEX('係数表2-3'!$B:$K, 10 + QUOTIENT(ROW(AL5158)-2, 10), 1 + MOD(ROW(AL5158)-2, 10))","v":0}]
[null,null,null,null,null,null,null,null,null,null,null,null,null,null,null,null,null,null,null,null,null,null,null,null,null,null,null,null,null,null,null,null,null,null,2495,"非住宅","RC造",{"$f":"INDEX('係数表2-3'!$B:$K, 10 + QUOTIENT(ROW(AL5159)-2, 10), 1 + MOD(ROW(AL5159)-2, 10))","v":0}]
[null,null,null,null,null,null,null,null,null,null,null,null,null,null,null,null,null,null,null,null,null,null,null,null,null,null,null,null,null,null,null,null,null,null,2495,"非住宅","S造",{"$f":"INDEX('係数表2-3'!$B:$K, 10 + QUOTIENT(ROW(AL5160)-2, 10), 1 + MOD(ROW(AL5160)-2, 10))","v":0}]
[null,null,null,null,null,null,null,null,null,null,null,null,null,null,null,null,null,null,null,null,null,null,null,null,null,null,null,null,null,null,null,null,null,null,2495,"非住宅","その他",{"$f":"INDEX('係数表2-3'!$B:$K, 10 + QUOTIENT(ROW(AL5161)-2, 10), 1 + MOD(ROW(AL5161)-2, 10))","v":0}]
[null,null,null,null,null,null,null,null,null,null,null,null,null,null,null,null,null,null,null,null,null,null,null,null,null,null,null,null,null,null,null,null,null,null,2496,"住宅","木造",{"$f":"INDEX('係数表2-3'!$B:$K, 10 + QUOTIENT(ROW(AL5162)-2, 10), 1 + MOD(ROW(AL5162)-2, 10))","v":0}]
[null,null,null,null,null,null,null,null,null,null,null,null,null,null,null,null,null,null,null,null,null,null,null,null,null,null,null,null,null,null,null,null,null,null,2496,"住宅","SRC造",{"$f":"INDEX('係数表2-3'!$B:$K, 10 + QUOTIENT(ROW(AL5163)-2, 10), 1 + MOD(ROW(AL5163)-2, 10))","v":0}]
[null,null,null,null,null,null,null,null,null,null,null,null,null,null,null,null,null,null,null,null,null,null,null,null,null,null,null,null,null,null,null,null,null,null,2496,"住宅","RC造",{"$f":"INDEX('係数表2-3'!$B:$K, 10 + QUOTIENT(ROW(AL5164)-2, 10), 1 + MOD(ROW(AL5164)-2, 10))","v":0}]
[null,null,null,null,null,null,null,null,null,null,null,null,null,null,null,null,null,null,null,null,null,null,null,null,null,null,null,null,null,null,null,null,null,null,2496,"住宅","S造",{"$f":"INDEX('係数表2-3'!$B:$K, 10 + QUOTIENT(ROW(AL5165)-2, 10), 1 + MOD(ROW(AL5165)-2, 10))","v":0}]
[null,null,null,null,null,null,null,null,null,null,null,null,null,null,null,null,null,null,null,null,null,null,null,null,null,null,null,null,null,null,null,null,null,null,2496,"住宅","その他",{"$f":"INDEX('係数表2-3'!$B:$K, 10 + QUOTIENT(ROW(AL5166)-2, 10), 1 + MOD(ROW(AL5166)-2, 10))","v":0}]
[null,null,null,null,null,null,null,null,null,null,null,null,null,null,null,null,null,null,null,null,null,null,null,null,null,null,null,null,null,null,null,null,null,null,2496,"非住宅","木造",{"$f":"INDEX('係数表2-3'!$B:$K, 10 + QUOTIENT(ROW(AL5167)-2, 10), 1 + MOD(ROW(AL5167)-2, 10))","v":0}]
[null,null,null,null,null,null,null,null,null,null,null,null,null,null,null,null,null,null,null,null,null,null,null,null,null,null,null,null,null,null,null,null,null,null,2496,"非住宅","SRC造",{"$f":"INDEX('係数表2-3'!$B:$K, 10 + QUOTIENT(ROW(AL5168)-2, 10), 1 + MOD(ROW(AL5168)-2, 10))","v":0}]
[null,null,null,null,null,null,null,null,null,null,null,null,null,null,null,null,null,null,null,null,null,null,null,null,null,null,null,null,null,null,null,null,null,null,2496,"非住宅","RC造",{"$f":"INDEX('係数表2-3'!$B:$K, 10 + QUOTIENT(ROW(AL5169)-2, 10), 1 + MOD(ROW(AL5169)-2, 10))","v":0}]
[null,null,null,null,null,null,null,null,null,null,null,null,null,null,null,null,null,null,null,null,null,null,null,null,null,null,null,null,null,null,null,null,null,null,2496,"非住宅","S造",{"$f":"INDEX('係数表2-3'!$B:$K, 10 + QUOTIENT(ROW(AL5170)-2, 10), 1 + MOD(ROW(AL5170)-2, 10))","v":0}]
[null,null,null,null,null,null,null,null,null,null,null,null,null,null,null,null,null,null,null,null,null,null,null,null,null,null,null,null,null,null,null,null,null,null,2496,"非住宅","その他",{"$f":"INDEX('係数表2-3'!$B:$K, 10 + QUOTIENT(ROW(AL5171)-2, 10), 1 + MOD(ROW(AL5171)-2, 10))","v":0}]
[null,null,null,null,null,null,null,null,null,null,null,null,null,null,null,null,null,null,null,null,null,null,null,null,null,null,null,null,null,null,null,null,null,null,2497,"住宅","木造",{"$f":"INDEX('係数表2-3'!$B:$K, 10 + QUOTIENT(ROW(AL5172)-2, 10), 1 + MOD(ROW(AL5172)-2, 10))","v":0}]
[null,null,null,null,null,null,null,null,null,null,null,null,null,null,null,null,null,null,null,null,null,null,null,null,null,null,null,null,null,null,null,null,null,null,2497,"住宅","SRC造",{"$f":"INDEX('係数表2-3'!$B:$K, 10 + QUOTIENT(ROW(AL5173)-2, 10), 1 + MOD(ROW(AL5173)-2, 10))","v":0}]
[null,null,null,null,null,null,null,null,null,null,null,null,null,null,null,null,null,null,null,null,null,null,null,null,null,null,null,null,null,null,null,null,null,null,2497,"住宅","RC造",{"$f":"INDEX('係数表2-3'!$B:$K, 10 + QUOTIENT(ROW(AL5174)-2, 10), 1 + MOD(ROW(AL5174)-2, 10))","v":0}]
[null,null,null,null,null,null,null,null,null,null,null,null,null,null,null,null,null,null,null,null,null,null,null,null,null,null,null,null,null,null,null,null,null,null,2497,"住宅","S造",{"$f":"INDEX('係数表2-3'!$B:$K, 10 + QUOTIENT(ROW(AL5175)-2, 10), 1 + MOD(ROW(AL5175)-2, 10))","v":0}]
[null,null,null,null,null,null,null,null,null,null,null,null,null,null,null,null,null,null,null,null,null,null,null,null,null,null,null,null,null,null,null,null,null,null,2497,"住宅","その他",{"$f":"INDEX('係数表2-3'!$B:$K, 10 + QUOTIENT(ROW(AL5176)-2, 10), 1 + MOD(ROW(AL5176)-2, 10))","v":0}]
[null,null,null,null,null,null,null,null,null,null,null,null,null,null,null,null,null,null,null,null,null,null,null,null,null,null,null,null,null,null,null,null,null,null,2497,"非住宅","木造",{"$f":"INDEX('係数表2-3'!$B:$K, 10 + QUOTIENT(ROW(AL5177)-2, 10), 1 + MOD(ROW(AL5177)-2, 10))","v":0}]
[null,null,null,null,null,null,null,null,null,null,null,null,null,null,null,null,null,null,null,null,null,null,null,null,null,null,null,null,null,null,null,null,null,null,2497,"非住宅","SRC造",{"$f":"INDEX('係数表2-3'!$B:$K, 10 + QUOTIENT(ROW(AL5178)-2, 10), 1 + MOD(ROW(AL5178)-2, 10))","v":0}]
[null,null,null,null,null,null,null,null,null,null,null,null,null,null,null,null,null,null,null,null,null,null,null,null,null,null,null,null,null,null,null,null,null,null,2497,"非住宅","RC造",{"$f":"INDEX('係数表2-3'!$B:$K, 10 + QUOTIENT(ROW(AL5179)-2, 10), 1 + MOD(ROW(AL5179)-2, 10))","v":0}]
[null,null,null,null,null,null,null,null,null,null,null,null,null,null,null,null,null,null,null,null,null,null,null,null,null,null,null,null,null,null,null,null,null,null,2497,"非住宅","S造",{"$f":"INDEX('係数表2-3'!$B:$K, 10 + QUOTIENT(ROW(AL5180)-2, 10), 1 + MOD(ROW(AL5180)-2, 10))","v":0}]
[null,null,null,null,null,null,null,null,null,null,null,null,null,null,null,null,null,null,null,null,null,null,null,null,null,null,null,null,null,null,null,null,null,null,2497,"非住宅","その他",{"$f":"INDEX('係数表2-3'!$B:$K, 10 + QUOTIENT(ROW(AL5181)-2, 10), 1 + MOD(ROW(AL5181)-2, 10))","v":0}]
[null,null,null,null,null,null,null,null,null,null,null,null,null,null,null,null,null,null,null,null,null,null,null,null,null,null,null,null,null,null,null,null,null,null,2498,"住宅","木造",{"$f":"INDEX('係数表2-3'!$B:$K, 10 + QUOTIENT(ROW(AL5182)-2, 10), 1 + MOD(ROW(AL5182)-2, 10))","v":0}]
[null,null,null,null,null,null,null,null,null,null,null,null,null,null,null,null,null,null,null,null,null,null,null,null,null,null,null,null,null,null,null,null,null,null,2498,"住宅","SRC造",{"$f":"INDEX('係数表2-3'!$B:$K, 10 + QUOTIENT(ROW(AL5183)-2, 10), 1 + MOD(ROW(AL5183)-2, 10))","v":0}]
[null,null,null,null,null,null,null,null,null,null,null,null,null,null,null,null,null,null,null,null,null,null,null,null,null,null,null,null,null,null,null,null,null,null,2498,"住宅","RC造",{"$f":"INDEX('係数表2-3'!$B:$K, 10 + QUOTIENT(ROW(AL5184)-2, 10), 1 + MOD(ROW(AL5184)-2, 10))","v":0}]
[null,null,null,null,null,null,null,null,null,null,null,null,null,null,null,null,null,null,null,null,null,null,null,null,null,null,null,null,null,null,null,null,null,null,2498,"住宅","S造",{"$f":"INDEX('係数表2-3'!$B:$K, 10 + QUOTIENT(ROW(AL5185)-2, 10), 1 + MOD(ROW(AL5185)-2, 10))","v":0}]
[null,null,null,null,null,null,null,null,null,null,null,null,null,null,null,null,null,null,null,null,null,null,null,null,null,null,null,null,null,null,null,null,null,null,2498,"住宅","その他",{"$f":"INDEX('係数表2-3'!$B:$K, 10 + QUOTIENT(ROW(AL5186)-2, 10), 1 + MOD(ROW(AL5186)-2, 10))","v":0}]
[null,null,null,null,null,null,null,null,null,null,null,null,null,null,null,null,null,null,null,null,null,null,null,null,null,null,null,null,null,null,null,null,null,null,2498,"非住宅","木造",{"$f":"INDEX('係数表2-3'!$B:$K, 10 + QUOTIENT(ROW(AL5187)-2, 10), 1 + MOD(ROW(AL5187)-2, 10))","v":0}]
[null,null,null,null,null,null,null,null,null,null,null,null,null,null,null,null,null,null,null,null,null,null,null,null,null,null,null,null,null,null,null,null,null,null,2498,"非住宅","SRC造",{"$f":"INDEX('係数表2-3'!$B:$K, 10 + QUOTIENT(ROW(AL5188)-2, 10), 1 + MOD(ROW(AL5188)-2, 10))","v":0}]
[null,null,null,null,null,null,null,null,null,null,null,null,null,null,null,null,null,null,null,null,null,null,null,null,null,null,null,null,null,null,null,null,null,null,2498,"非住宅","RC造",{"$f":"INDEX('係数表2-3'!$B:$K, 10 + QUOTIENT(ROW(AL5189)-2, 10), 1 + MOD(ROW(AL5189)-2, 10))","v":0}]
[null,null,null,null,null,null,null,null,null,null,null,null,null,null,null,null,null,null,null,null,null,null,null,null,null,null,null,null,null,null,null,null,null,null,2498,"非住宅","S造",{"$f":"INDEX('係数表2-3'!$B:$K, 10 + QUOTIENT(ROW(AL5190)-2, 10), 1 + MOD(ROW(AL5190)-2, 10))","v":0}]
[null,null,null,null,null,null,null,null,null,null,null,null,null,null,null,null,null,null,null,null,null,null,null,null,null,null,null,null,null,null,null,null,null,null,2498,"非住宅","その他",{"$f":"INDEX('係数表2-3'!$B:$K, 10 + QUOTIENT(ROW(AL5191)-2, 10), 1 + MOD(ROW(AL5191)-2, 10))","v":0}]
[null,null,null,null,null,null,null,null,null,null,null,null,null,null,null,null,null,null,null,null,null,null,null,null,null,null,null,null,null,null,null,null,null,null,2499,"住宅","木造",{"$f":"INDEX('係数表2-3'!$B:$K, 10 + QUOTIENT(ROW(AL5192)-2, 10), 1 + MOD(ROW(AL5192)-2, 10))","v":0}]
[null,null,null,null,null,null,null,null,null,null,null,null,null,null,null,null,null,null,null,null,null,null,null,null,null,null,null,null,null,null,null,null,null,null,2499,"住宅","SRC造",{"$f":"INDEX('係数表2-3'!$B:$K, 10 + QUOTIENT(ROW(AL5193)-2, 10), 1 + MOD(ROW(AL5193)-2, 10))","v":0}]
[null,null,null,null,null,null,null,null,null,null,null,null,null,null,null,null,null,null,null,null,null,null,null,null,null,null,null,null,null,null,null,null,null,null,2499,"住宅","RC造",{"$f":"INDEX('係数表2-3'!$B:$K, 10 + QUOTIENT(ROW(AL5194)-2, 10), 1 + MOD(ROW(AL5194)-2, 10))","v":0}]
[null,null,null,null,null,null,null,null,null,null,null,null,null,null,null,null,null,null,null,null,null,null,null,null,null,null,null,null,null,null,null,null,null,null,2499,"住宅","S造",{"$f":"INDEX('係数表2-3'!$B:$K, 10 + QUOTIENT(ROW(AL5195)-2, 10), 1 + MOD(ROW(AL5195)-2, 10))","v":0}]
[null,null,null,null,null,null,null,null,null,null,null,null,null,null,null,null,null,null,null,null,null,null,null,null,null,null,null,null,null,null,null,null,null,null,2499,"住宅","その他",{"$f":"INDEX('係数表2-3'!$B:$K, 10 + QUOTIENT(ROW(AL5196)-2, 10), 1 + MOD(ROW(AL5196)-2, 10))","v":0}]
[null,null,null,null,null,null,null,null,null,null,null,null,null,null,null,null,null,null,null,null,null,null,null,null,null,null,null,null,null,null,null,null,null,null,2499,"非住宅","木造",{"$f":"INDEX('係数表2-3'!$B:$K, 10 + QUOTIENT(ROW(AL5197)-2, 10), 1 + MOD(ROW(AL5197)-2, 10))","v":0}]
[null,null,null,null,null,null,null,null,null,null,null,null,null,null,null,null,null,null,null,null,null,null,null,null,null,null,null,null,null,null,null,null,null,null,2499,"非住宅","SRC造",{"$f":"INDEX('係数表2-3'!$B:$K, 10 + QUOTIENT(ROW(AL5198)-2, 10), 1 + MOD(ROW(AL5198)-2, 10))","v":0}]
[null,null,null,null,null,null,null,null,null,null,null,null,null,null,null,null,null,null,null,null,null,null,null,null,null,null,null,null,null,null,null,null,null,null,2499,"非住宅","RC造",{"$f":"INDEX('係数表2-3'!$B:$K, 10 + QUOTIENT(ROW(AL5199)-2, 10), 1 + MOD(ROW(AL5199)-2, 10))","v":0}]
[null,null,null,null,null,null,null,null,null,null,null,null,null,null,null,null,null,null,null,null,null,null,null,null,null,null,null,null,null,null,null,null,null,null,2499,"非住宅","S造",{"$f":"INDEX('係数表2-3'!$B:$K, 10 + QUOTIENT(ROW(AL5200)-2, 10), 1 + MOD(ROW(AL5200)-2, 10))","v":0}]
[null,null,null,null,null,null,null,null,null,null,null,null,null,null,null,null,null,null,null,null,null,null,null,null,null,null,null,null,null,null,null,null,null,null,2499,"非住宅","その他",{"$f":"INDEX('係数表2-3'!$B:$K, 10 + QUOTIENT(ROW(AL5201)-2, 10), 1 + MOD(ROW(AL5201)-2, 10))","v":0}]
[null,null,null,null,null,null,null,null,null,null,null,null,null,null,null,null,null,null,null,null,null,null,null,null,null,null,null,null,null,null,null,null,null,null,2500,"住宅","木造",{"$f":"INDEX('係数表2-3'!$B:$K, 10 + QUOTIENT(ROW(AL5202)-2, 10), 1 + MOD(ROW(AL5202)-2, 10))","v":0}]
[null,null,null,null,null,null,null,null,null,null,null,null,null,null,null,null,null,null,null,null,null,null,null,null,null,null,null,null,null,null,null,null,null,null,2500,"住宅","SRC造",{"$f":"INDEX('係数表2-3'!$B:$K, 10 + QUOTIENT(ROW(AL5203)-2, 10), 1 + MOD(ROW(AL5203)-2, 10))","v":0}]
[null,null,null,null,null,null,null,null,null,null,null,null,null,null,null,null,null,null,null,null,null,null,null,null,null,null,null,null,null,null,null,null,null,null,2500,"住宅","RC造",{"$f":"INDEX('係数表2-3'!$B:$K, 10 + QUOTIENT(ROW(AL5204)-2, 10), 1 + MOD(ROW(AL5204)-2, 10))","v":0}]
[null,null,null,null,null,null,null,null,null,null,null,null,null,null,null,null,null,null,null,null,null,null,null,null,null,null,null,null,null,null,null,null,null,null,2500,"住宅","S造",{"$f":"INDEX('係数表2-3'!$B:$K, 10 + QUOTIENT(ROW(AL5205)-2, 10), 1 + MOD(ROW(AL5205)-2, 10))","v":0}]
[null,null,null,null,null,null,null,null,null,null,null,null,null,null,null,null,null,null,null,null,null,null,null,null,null,null,null,null,null,null,null,null,null,null,2500,"住宅","その他",{"$f":"INDEX('係数表2-3'!$B:$K, 10 + QUOTIENT(ROW(AL5206)-2, 10), 1 + MOD(ROW(AL5206)-2, 10))","v":0}]
[null,null,null,null,null,null,null,null,null,null,null,null,null,null,null,null,null,null,null,null,null,null,null,null,null,null,null,null,null,null,null,null,null,null,2500,"非住宅","木造",{"$f":"INDEX('係数表2-3'!$B:$K, 10 + QUOTIENT(ROW(AL5207)-2, 10), 1 + MOD(ROW(AL5207)-2, 10))","v":0}]
[null,null,null,null,null,null,null,null,null,null,null,null,null,null,null,null,null,null,null,null,null,null,null,null,null,null,null,null,null,null,null,null,null,null,2500,"非住宅","SRC造",{"$f":"INDEX('係数表2-3'!$B:$K, 10 + QUOTIENT(ROW(AL5208)-2, 10), 1 + MOD(ROW(AL5208)-2, 10))","v":0}]
[null,null,null,null,null,null,null,null,null,null,null,null,null,null,null,null,null,null,null,null,null,null,null,null,null,null,null,null,null,null,null,null,null,null,2500,"非住宅","RC造",{"$f":"INDEX('係数表2-3'!$B:$K, 10 + QUOTIENT(ROW(AL5209)-2, 10), 1 + MOD(ROW(AL5209)-2, 10))","v":0}]
[null,null,null,null,null,null,null,null,null,null,null,null,null,null,null,null,null,null,null,null,null,null,null,null,null,null,null,null,null,null,null,null,null,null,2500,"非住宅","S造",{"$f":"INDEX('係数表2-3'!$B:$K, 10 + QUOTIENT(ROW(AL5210)-2, 10), 1 + MOD(ROW(AL5210)-2, 10))","v":0}]
[null,null,null,null,null,null,null,null,null,null,null,null,null,null,null,null,null,null,null,null,null,null,null,null,null,null,null,null,null,null,null,null,null,null,2500,"非住宅","その他",{"$f":"INDEX('係数表2-3'!$B:$K, 10 + QUOTIENT(ROW(AL5211)-2, 10), 1 + MOD(ROW(AL5211)-2, 10))","v":0}]