{"text_format":"1","workbook":"xlsx","n_sheets":11,"sheets":["自動出力","出力結果","シート1-1","シート1-2","シート1-3","シート1-4","２－２","２－４","係数表1-1","係数表1-2","プルダウンデータリスト"],"not_rendered":{"charts":0,"images":1,"macros":1,"external_links":0,"defined_names":8,"comments":0,"pivot_tables":0},"unopened":[],"bounds":{"document_bytes":16777216,"sheet_cells":100000,"rows_first":2000,"rows_last":500,"rows_between":2000,"halvings":0,"cell_chars":16384,"cell_head_chars":4096},"cells_cut":0,"cells_raw":0,"read":"whole","date_system":"1900"}

{"sheet":"自動出力","index":0,"n_rows":14,"n_cols":26,"rows_kept":14,"cut":false,"hidden":true,"merged":[[2,13,2,19],[0,0,3,10]]}
["〇自動出力シート\n\nシート「1-1」,「1-2」,「1-3」,「1-4」を入力後、「転記開始」ボタンをクリック",null,null,null,null,null,null,null,null,null,null,null,null,null,null,null,null,null,null,null,null,null,null,null,null,"C:\\Users\\菅原悠希(SUGAHARAYuki)\\OneDrive - digitalgojp\\画像\\作業空間\\shk算定シート\\SHK算定セット\\2\\SHK算定セット\\サンプル個票\\"]
[]
[null,null,null,null,null,null,null,null,null,null,null,null,null,"未実装"]
[null,null,null,null,null,null,null,null,null,null,null,null,null,null,null,null,null,null,null,null,null,null,null,null,null,"C:\\Users\\菅原悠希(SUGAHARAYuki)\\OneDrive - digitalgojp\\画像\\作業空間\\shk算定シート\\SHK算定セット\\セット\\"]
[null,null,null,null,null,null,null,null,null,null,null,null,null,"転記情報"]
[]
[null,null,null,null,null,null,null,null,null,null,null,null,null,"日時"]
[null,null,null,null,null,null,null,null,null,null,null,null,null,"フォルダ"]
[null,null,null,null,null,null,null,null,null,null,null,null,null,"選択ファイル数"]
[null,null,null,null,null,null,null,null,null,null,null,null,null,"転記失敗ファイル数"]
[]
[null,null,null,null,null,null,null,null,null,null,null,null,null,"選択ファイル",null,null,null,null,null,"失敗ファイル"]
[null,"↑"]
[null,"出力結果シートに転記"]

{"sheet":"出力結果","index":1,"n_rows":44,"n_cols":24,"rows_kept":44,"cut":false,"hidden":false,"merged":[[27,33,27,40],[25,5,25,17],[25,18,25,21],[25,28,25,40],[26,5,27,9],[26,10,26,17],[26,18,26,21],[26,28,27,32],[26,33,26,40],[27,10,27,17],[27,18,27,21],[21,28,21,40],[22,5,22,17],[22,18,22,21],[22,28,22,40],[23,5,23,17],[23,18,23,21],[23,28,23,40],[24,5,24,17],[24,18,24,21],[24,28,24,40],[17,28,17,40],[18,5,18,17],[18,18,18,21],[18,28,18,40],[19,5,19,17],[19,18,19,21],[19,28,19,40],[20,5,20,17],[20,18,20,21],[20,28,20,40],[13,28,13,40],[14,5,14,17],[14,18,14,21],[14,28,14,40],[15,5,15,17],[15,18,15,21],[15,28,15,40],[16,5,16,17],[16,18,16,21],[16,28,16,40],[9,28,9,40],[10,5,10,17],[10,18,10,21],[10,28,10,40],[11,5,11,17],[11,18,11,21],[11,28,11,40],[12,5,12,17],[12,18,12,21],[12,28,12,40],[1,0,1,16],[2,0,2,4],[2,5,2,12],[3,0,3,4],[3,5,3,11],[5,0,5,4],[5,5,5,11],[7,0,7,22],[8,0,8,1],[8,2,8,22],[28,18,28,21],[29,18,29,21],[30,18,30,21],[31,2,35,4],[31,18,31,21],[32,18,32,21],[33,18,33,21],[4,0,4,4],[4,5,4,11],[9,2,20,4],[9,5,9,17],[9,18,9,21],[13,5,13,17],[13,18,13,21],[17,5,17,17],[17,18,17,21],[21,5,21,17],[21,18,21,21],[34,18,34,21],[35,18,35,21],[21,2,30,4],[9,0,43,1],[33,5,33,17],[34,5,34,17],[36,18,36,21],[37,18,37,21],[38,18,38,21],[39,18,39,21],[38,5,38,17],[39,5,39,17],[42,18,42,21],[43,18,43,21],[42,5,42,17],[43,5,43,17],[40,18,40,21],[41,18,41,21],[40,5,40,17],[41,5,41,17],[35,5,35,17],[36,5,36,17],[37,5,37,17],[28,5,28,17],[29,5,29,17],[30,5,30,17],[31,5,31,17],[32,5,32,17],[42,2,43,4],[36,2,39,4],[40,2,41,4]]}
["〇出力結果シート"]
["第５表の９　森林等炭素蓄積変化量"]
["種別",null,null,null,null,"種別ごとの森林等炭素蓄積変化量"]
["①　森林",null,null,null,null,{"$f":"INT((S31+S36+S40+S42+S44)*44/12)","v":0},null,null,null,null,null,null,"t-co2"]
["②　木材",null,null,null,null,null,null,null,null,null,null,null,"t-co2"]
["③　合計",null,null,null,null,null,null,null,null,null,null,null,"t-co2"]
[]
["第５表の10　森林等炭素蓄積変化量に関する情報"]
["種別",null,"情報"]
["森林",null,"森林の概況",null,null,"所有森林の面積(合計)",null,null,null,null,null,null,null,null,null,null,null,null,null,null,null,null,"ha","←手入力"]
[null,null,null,null,null,"所有森林のうち、算定するに当たって森林の一部を選定した場合、その面積…①",null,null,null,null,null,null,null,null,null,null,null,null,null,null,null,null,"ha","←手入力"]
[null,null,null,null,null,"所有森林のうち、算定するに当たって森林の一部を選定した場合、その選定の考え方",null,null,null,null,null,null,null,null,null,null,null,null,null,null,null,null,null,"←手入力"]
[null,null,null,null,null,"算定するに当たって選定した森林のうち、クレジット制度においてプロジェクト登録している森林の面積…②",null,null,null,null,null,null,null,null,null,null,null,null,null,null,null,null,"ha","←手入力"]
[null,null,null,null,null,"算定するに当たって選定した森林のうち、被害を受けたとして算定から除外すると判断した森林の面積…③",null,null,null,null,null,null,null,null,null,null,null,null,null,null,null,null,"ha","←手入力"]
[null,null,null,null,null,"被害を受けたとして算定から除外すると判断した森林がある場合、その被害の内容",null,null,null,null,null,null,null,null,null,null,null,null,null,null,null,null,null,"←手入力"]
[null,null,null,null,null,"所有森林のうち、他の特定排出者が代わりに管理しており、かつ、当該他の特定排出者が算定する森林の面積…④",null,null,null,null,null,null,null,null,null,null,null,null,null,null,null,null,"ha","←手入力"]
[null,null,null,null,null,"所有森林のうち、他の特定排出者が代わりに管理しており、かつ、当該他の特定排出者が算定する森林について、その特定排出者名",null,null,null,null,null,null,null,null,null,null,null,null,null,null,null,null,null,"←手入力"]
[null,null,null,null,null,"所有者（特定排出者に限る。）に代わり管理している森林のうち、自ら算定する森林の面積…⑤",null,null,null,null,null,null,null,null,null,null,null,null,null,null,null,null,"ha","←手入力"]
[null,null,null,null,null,"所有者（特定排出者に限る。）に代わり管理している森林のうち、自ら算定する森林について、その所有者名",null,null,null,null,null,null,null,null,null,null,null,null,null,null,null,null,null,"←手入力"]
[null,null,null,null,null,"算定する森林の面積（①－②－③－④＋⑤）",null,null,null,null,null,null,null,null,null,null,null,null,null,null,null,null,"ha","←手入力"]
[null,null,null,null,null,"算定する森林の所在する都道府県",null,null,null,null,null,null,null,null,null,null,null,null,null,null,null,null,null,"←手入力"]
[null,null,"計画の対象となる森林",null,null,"森林経営計画、増進活動実施計画又は連携増進活動実施計画の別",null,null,null,null,null,null,null,null,null,null,null,null,null,null,null,null,null,"←手入力"]
[null,null,null,null,null,"対象面積",null,null,null,null,null,null,null,null,null,null,null,null,{"$f":"'シート1-1'!D206","v":0},null,null,null,"ha"]
[null,null,null,null,null,"代表的な樹種",null,null,null,null,null,null,null,null,null,null,null,null,null,null,null,null,null,"←手入力"]
[null,null,null,null,null,"主伐面積",null,null,null,null,null,null,null,null,null,null,null,null,{"$f":"'シート1-1'!E206","v":0},null,null,null,"ha"]
[null,null,null,null,null,"主伐材積",null,null,null,null,null,null,null,null,null,null,null,null,{"$f":"'シート1-1'!F206","v":0}]
[null,null,null,null,null,"森林の蓄積",null,null,null,null,"期首",null,null,null,null,null,null,null,{"$f":"'シート1-1'!G206","v":0},null,null,null,"m3"]
[null,null,null,null,null,null,null,null,null,null,"期末",null,null,null,null,null,null,null,{"$f":"'シート1-1'!H206","v":0},null,null,null,"m3"]
[null,null,null,null,null,"変化した森林の蓄積の量",null,null,null,null,null,null,null,null,null,null,null,null,{"$f":"S28-S27","v":0},null,null,null,"m3"]
[null,null,null,null,null,"森林の蓄積の算定に使用したデータの別",null,null,null,null,null,null,null,null,null,null,null,null,null,null,null,null,null,"←手入力"]
[null,null,null,null,null,"変化した炭素蓄積の量",null,null,null,null,null,null,null,null,null,null,null,null,{"$f":"'シート1-1'!P206","v":0},null,null,null,"t-C"]
[null,null,"計画の対象となる森林を除いた森林",null,null,"対象面積",null,null,null,null,null,null,null,null,null,null,null,null,{"$f":"'シート1-2'!D207","v":0},null,null,null,"ha"]
[null,null,null,null,null,"主伐面積",null,null,null,null,null,null,null,null,null,null,null,null,{"$f":"'シート1-2'!E207","v":0},null,null,null,"ha"]
[null,null,null,null,null,"主伐材積",null,null,null,null,null,null,null,null,null,null,null,null,{"$f":"'シート1-2'!F207","v":0},null,null,null,"m3"]
[null,null,null,null,null,"減少した森林の蓄積の量",null,null,null,null,null,null,null,null,null,null,null,null,{"$f":"'シート1-2'!G207","v":0},null,null,null,"m3"]
[null,null,null,null,null,"減少した炭素蓄積の量",null,null,null,null,null,null,null,null,null,null,null,null,{"$f":"'シート1-2'!L207","v":0},null,null,null,"t-C"]
[null,null,"森林以外の土地の森林への用途の変更又は森林の森林以外の土地への用途の変更",null,null,"用途の変更内容",null,null,null,null,null,null,null,null,null,null,null,null,null,null,null,null,null,"←手入力"]
[null,null,null,null,null,"用途の変更年度",null,null,null,null,null,null,null,null,null,null,null,null,null,null,null,null,null,"←手入力"]
[null,null,null,null,null,"用途を変更した面積",null,null,null,null,null,null,null,null,null,null,null,null,{"$f":"'シート1-3'!D205","v":0},null,null,null,"ha"]
[null,null,null,null,null,"変化した炭素蓄積の量(土地)",null,null,null,null,null,null,null,null,null,null,null,null,{"$f":"'シート1-3'!F205","v":0},null,null,null,"t-C"]
[null,null,"過年度に報告した森林のうち譲渡した森林",null,null,"対象面積",null,null,null,null,null,null,null,null,null,null,null,null,{"$f":"'シート1-4'!B206","v":0},null,null,null,"ha"]
[null,null,null,null,null,"減少した炭素蓄積の量",null,null,null,null,null,null,null,null,null,null,null,null,{"$f":"'シート1-4'!C206","v":0},null,null,null,"t-C"]
[null,null,"過年度に報告された森林のうち譲渡された森林",null,null,"対象面積",null,null,null,null,null,null,null,null,null,null,null,null,{"$f":"'シート1-4'!B413","v":0}]
[null,null,null,null,null,"増加した炭素蓄積の量",null,null,null,null,null,null,null,null,null,null,null,null,{"$f":"'シート1-4'!C413","v":0},null,null,null,"t-C"]

{"sheet":"シート1-1","index":2,"n_rows":217,"n_cols":17,"rows_kept":217,"cut":false,"hidden":false,"merged":[[3,5,4,5],[3,16,4,16],[3,15,4,15],[3,0,4,0],[3,6,3,7],[3,8,4,8],[3,1,4,1],[3,2,4,2],[3,3,4,3],[3,11,4,11],[3,13,3,14],[3,9,4,9],[3,10,4,10],[3,12,4,12],[3,4,4,4]]}
["○算定シート1-1（計画の対象となる森林）"]
[]
[]
["樹種","林齢の区分","森林簿・実測の別","面積(ha)","主伐面積(ha)","主伐材積(㎥)","森林の蓄積(㎥)",null,"変化した森林の蓄積の量(㎥)","バイオマス拡大係数","1+R","容積密度","炭素含有率","生体バイオマス（地上部・地下部）の炭素蓄積の量(t-C)",null,"変化した炭素蓄積の量(t-C)","備考"]
[null,null,null,null,null,null,"期首","期末",null,null,null,null,null,"期首","期末"]
[null,null,null,null,null,null,null,null,{"$f":"IF((H6-G6)=0,\"-\",H6-G6)","v":"-"},{"$f":"IF(B6=プルダウンデータリスト!$H$2,_xlfn.XLOOKUP('シート1-1'!A6,プルダウンデータリスト!$A$2:$A$43,プルダウンデータリスト!$B$2:$B$43),IF(B6=プルダウンデータリスト!$H$3,_xlfn.XLOOKUP('シート1-1'!A6,プルダウンデータリスト!$A$2:$A$43,プルダウンデータリスト!$C$2:$C$43),\"-\"))","v":"-"},{"$f":"IF(A6=\"\",\"-\",_xlfn.XLOOKUP(A6,プルダウンデータリスト!$A$2:$A$43,プルダウンデータリスト!$D$2:$D$43) + 1)","v":"-"},{"$f":"IF(A6=\"\",\"-\",_xlfn.XLOOKUP(A6,プルダウンデータリスト!$A$2:$A$43,プルダウンデータリスト!$E$2:$E$43))","v":"-"},{"$f":"IF(A6=\"\",\"-\",_xlfn.XLOOKUP(A6,プルダウンデータリスト!$A$2:$A$43,プルダウンデータリスト!$F$2:$F$43))","v":"-"},{"$f":"IFERROR(G6*($J6*$K6*$L6*$M6),\"-\")","v":"-"},{"$f":"IFERROR(H6*($J6*$K6*$L6*$M6),\"-\")","v":"-"},{"$f":"IFERROR(O6-N6,\"-\")","v":"-"}]
[null,null,null,null,null,null,null,null,{"$f":"IF((H7-G7)=0,\"-\",H7-G7)","v":"-"},{"$f":"IF(B7=プルダウンデータリスト!$H$2,_xlfn.XLOOKUP('シート1-1'!A7,プルダウンデータリスト!$A$2:$A$43,プルダウンデータリスト!$B$2:$B$43),IF(B7=プルダウンデータリスト!$H$3,_xlfn.XLOOKUP('シート1-1'!A7,プルダウンデータリスト!$A$2:$A$43,プルダウンデータリスト!$C$2:$C$43),\"-\"))","v":"-"},{"$f":"IF(A7=\"\",\"-\",_xlfn.XLOOKUP(A7,プルダウンデータリスト!$A$2:$A$43,プルダウンデータリスト!$D$2:$D$43) + 1)","v":"-"},{"$f":"IF(A7=\"\",\"-\",_xlfn.XLOOKUP(A7,プルダウンデータリスト!$A$2:$A$43,プルダウンデータリスト!$E$2:$E$43))","v":"-"},{"$f":"IF(A7=\"\",\"-\",_xlfn.XLOOKUP(A7,プルダウンデータリスト!$A$2:$A$43,プルダウンデータリスト!$F$2:$F$43))","v":"-"},"-","-",{"$f":"IFERROR(O7-N7,\"-\")","v":"-"}]
[null,null,null,null,null,null,null,null,"-",{"$f":"IF(B8=プルダウンデータリスト!$H$2,_xlfn.XLOOKUP('シート1-1'!A8,プルダウンデータリスト!$A$2:$A$43,プルダウンデータリスト!$B$2:$B$43),IF(B8=プルダウンデータリスト!$H$3,_xlfn.XLOOKUP('シート1-1'!A8,プルダウンデータリスト!$A$2:$A$43,プルダウンデータリスト!$C$2:$C$43),\"-\"))","v":"-"},{"$f":"IF(A8=\"\",\"-\",_xlfn.XLOOKUP(A8,プルダウンデータリスト!$A$2:$A$43,プルダウンデータリスト!$D$2:$D$43) + 1)","v":"-"},{"$f":"IF(A8=\"\",\"-\",_xlfn.XLOOKUP(A8,プルダウンデータリスト!$A$2:$A$43,プルダウンデータリスト!$E$2:$E$43))","v":"-"},{"$f":"IF(A8=\"\",\"-\",_xlfn.XLOOKUP(A8,プルダウンデータリスト!$A$2:$A$43,プルダウンデータリスト!$F$2:$F$43))","v":"-"},"-","-","-"]
[null,null,null,null,null,null,null,null,"-",{"$f":"IF(B9=プルダウンデータリスト!$H$2,_xlfn.XLOOKUP('シート1-1'!A9,プルダウンデータリスト!$A$2:$A$43,プルダウンデータリスト!$B$2:$B$43),IF(B9=プルダウンデータリスト!$H$3,_xlfn.XLOOKUP('シート1-1'!A9,プルダウンデータリスト!$A$2:$A$43,プルダウンデータリスト!$C$2:$C$43),\"-\"))","v":"-"},{"$f":"IF(A9=\"\",\"-\",_xlfn.XLOOKUP(A9,プルダウンデータリスト!$A$2:$A$43,プルダウンデータリスト!$D$2:$D$43) + 1)","v":"-"},{"$f":"IF(A9=\"\",\"-\",_xlfn.XLOOKUP(A9,プルダウンデータリスト!$A$2:$A$43,プルダウンデータリスト!$E$2:$E$43))","v":"-"},{"$f":"IF(A9=\"\",\"-\",_xlfn.XLOOKUP(A9,プルダウンデータリスト!$A$2:$A$43,プルダウンデータリスト!$F$2:$F$43))","v":"-"},"-","-","-"]
[null,null,null,null,null,null,null,null,"-",{"$f":"IF(B10=プルダウンデータリスト!$H$2,_xlfn.XLOOKUP('シート1-1'!A10,プルダウンデータリスト!$A$2:$A$43,プルダウンデータリスト!$B$2:$B$43),IF(B10=プルダウンデータリスト!$H$3,_xlfn.XLOOKUP('シート1-1'!A10,プルダウンデータリスト!$A$2:$A$43,プルダウンデータリスト!$C$2:$C$43),\"-\"))","v":"-"},{"$f":"IF(A10=\"\",\"-\",_xlfn.XLOOKUP(A10,プルダウンデータリスト!$A$2:$A$43,プルダウンデータリスト!$D$2:$D$43) + 1)","v":"-"},{"$f":"IF(A10=\"\",\"-\",_xlfn.XLOOKUP(A10,プルダウンデータリスト!$A$2:$A$43,プルダウンデータリスト!$E$2:$E$43))","v":"-"},{"$f":"IF(A10=\"\",\"-\",_xlfn.XLOOKUP(A10,プルダウンデータリスト!$A$2:$A$43,プルダウンデータリスト!$F$2:$F$43))","v":"-"},"-","-","-"]
[null,null,null,null,null,null,null,null,"-",{"$f":"IF(B11=プルダウンデータリスト!$H$2,_xlfn.XLOOKUP('シート1-1'!A11,プルダウンデータリスト!$A$2:$A$43,プルダウンデータリスト!$B$2:$B$43),IF(B11=プルダウンデータリスト!$H$3,_xlfn.XLOOKUP('シート1-1'!A11,プルダウンデータリスト!$A$2:$A$43,プルダウンデータリスト!$C$2:$C$43),\"-\"))","v":"-"},{"$f":"IF(A11=\"\",\"-\",_xlfn.XLOOKUP(A11,プルダウンデータリスト!$A$2:$A$43,プルダウンデータリスト!$D$2:$D$43) + 1)","v":"-"},{"$f":"IF(A11=\"\",\"-\",_xlfn.XLOOKUP(A11,プルダウンデータリスト!$A$2:$A$43,プルダウンデータリスト!$E$2:$E$43))","v":"-"},{"$f":"IF(A11=\"\",\"-\",_xlfn.XLOOKUP(A11,プルダウンデータリスト!$A$2:$A$43,プルダウンデータリスト!$F$2:$F$43))","v":"-"},"-","-","-"]
[null,null,null,null,null,null,null,null,"-",{"$f":"IF(B12=プルダウンデータリスト!$H$2,_xlfn.XLOOKUP('シート1-1'!A12,プルダウンデータリスト!$A$2:$A$43,プルダウンデータリスト!$B$2:$B$43),IF(B12=プルダウンデータリスト!$H$3,_xlfn.XLOOKUP('シート1-1'!A12,プルダウンデータリスト!$A$2:$A$43,プルダウンデータリスト!$C$2:$C$43),\"-\"))","v":"-"},{"$f":"IF(A12=\"\",\"-\",_xlfn.XLOOKUP(A12,プルダウンデータリスト!$A$2:$A$43,プルダウンデータリスト!$D$2:$D$43) + 1)","v":"-"},{"$f":"IF(A12=\"\",\"-\",_xlfn.XLOOKUP(A12,プルダウンデータリスト!$A$2:$A$43,プルダウンデータリスト!$E$2:$E$43))","v":"-"},{"$f":"IF(A12=\"\",\"-\",_xlfn.XLOOKUP(A12,プルダウンデータリスト!$A$2:$A$43,プルダウンデータリスト!$F$2:$F$43))","v":"-"},"-","-","-"]
[null,null,null,null,null,null,null,null,"-",{"$f":"IF(B13=プルダウンデータリスト!$H$2,_xlfn.XLOOKUP('シート1-1'!A13,プルダウンデータリスト!$A$2:$A$43,プルダウンデータリスト!$B$2:$B$43),IF(B13=プルダウンデータリスト!$H$3,_xlfn.XLOOKUP('シート1-1'!A13,プルダウンデータリスト!$A$2:$A$43,プルダウンデータリスト!$C$2:$C$43),\"-\"))","v":"-"},{"$f":"IF(A13=\"\",\"-\",_xlfn.XLOOKUP(A13,プルダウンデータリスト!$A$2:$A$43,プルダウンデータリスト!$D$2:$D$43) + 1)","v":"-"},{"$f":"IF(A13=\"\",\"-\",_xlfn.XLOOKUP(A13,プルダウンデータリスト!$A$2:$A$43,プルダウンデータリスト!$E$2:$E$43))","v":"-"},{"$f":"IF(A13=\"\",\"-\",_xlfn.XLOOKUP(A13,プルダウンデータリスト!$A$2:$A$43,プルダウンデータリスト!$F$2:$F$43))","v":"-"},"-","-","-"]
[null,null,null,null,null,null,null,null,"-",{"$f":"IF(B14=プルダウンデータリスト!$H$2,_xlfn.XLOOKUP('シート1-1'!A14,プルダウンデータリスト!$A$2:$A$43,プルダウンデータリスト!$B$2:$B$43),IF(B14=プルダウンデータリスト!$H$3,_xlfn.XLOOKUP('シート1-1'!A14,プルダウンデータリスト!$A$2:$A$43,プルダウンデータリスト!$C$2:$C$43),\"-\"))","v":"-"},{"$f":"IF(A14=\"\",\"-\",_xlfn.XLOOKUP(A14,プルダウンデータリスト!$A$2:$A$43,プルダウンデータリスト!$D$2:$D$43) + 1)","v":"-"},{"$f":"IF(A14=\"\",\"-\",_xlfn.XLOOKUP(A14,プルダウンデータリスト!$A$2:$A$43,プルダウンデータリスト!$E$2:$E$43))","v":"-"},{"$f":"IF(A14=\"\",\"-\",_xlfn.XLOOKUP(A14,プルダウンデータリスト!$A$2:$A$43,プルダウンデータリスト!$F$2:$F$43))","v":"-"},"-","-","-"]
[null,null,null,null,null,null,null,null,"-",{"$f":"IF(B15=プルダウンデータリスト!$H$2,_xlfn.XLOOKUP('シート1-1'!A15,プルダウンデータリスト!$A$2:$A$43,プルダウンデータリスト!$B$2:$B$43),IF(B15=プルダウンデータリスト!$H$3,_xlfn.XLOOKUP('シート1-1'!A15,プルダウンデータリスト!$A$2:$A$43,プルダウンデータリスト!$C$2:$C$43),\"-\"))","v":"-"},{"$f":"IF(A15=\"\",\"-\",_xlfn.XLOOKUP(A15,プルダウンデータリスト!$A$2:$A$43,プルダウンデータリスト!$D$2:$D$43) + 1)","v":"-"},{"$f":"IF(A15=\"\",\"-\",_xlfn.XLOOKUP(A15,プルダウンデータリスト!$A$2:$A$43,プルダウンデータリスト!$E$2:$E$43))","v":"-"},{"$f":"IF(A15=\"\",\"-\",_xlfn.XLOOKUP(A15,プルダウンデータリスト!$A$2:$A$43,プルダウンデータリスト!$F$2:$F$43))","v":"-"},"-","-","-"]
[null,null,null,null,null,null,null,null,"-",{"$f":"IF(B16=プルダウンデータリスト!$H$2,_xlfn.XLOOKUP('シート1-1'!A16,プルダウンデータリスト!$A$2:$A$43,プルダウンデータリスト!$B$2:$B$43),IF(B16=プルダウンデータリスト!$H$3,_xlfn.XLOOKUP('シート1-1'!A16,プルダウンデータリスト!$A$2:$A$43,プルダウンデータリスト!$C$2:$C$43),\"-\"))","v":"-"},{"$f":"IF(A16=\"\",\"-\",_xlfn.XLOOKUP(A16,プルダウンデータリスト!$A$2:$A$43,プルダウンデータリスト!$D$2:$D$43) + 1)","v":"-"},{"$f":"IF(A16=\"\",\"-\",_xlfn.XLOOKUP(A16,プルダウンデータリスト!$A$2:$A$43,プルダウンデータリスト!$E$2:$E$43))","v":"-"},{"$f":"IF(A16=\"\",\"-\",_xlfn.XLOOKUP(A16,プルダウンデータリスト!$A$2:$A$43,プルダウンデータリスト!$F$2:$F$43))","v":"-"},"-","-","-"]
[null,null,null,null,null,null,null,null,"-",{"$f":"IF(B17=プルダウンデータリスト!$H$2,_xlfn.XLOOKUP('シート1-1'!A17,プルダウンデータリスト!$A$2:$A$43,プルダウンデータリスト!$B$2:$B$43),IF(B17=プルダウンデータリスト!$H$3,_xlfn.XLOOKUP('シート1-1'!A17,プルダウンデータリスト!$A$2:$A$43,プルダウンデータリスト!$C$2:$C$43),\"-\"))","v":"-"},{"$f":"IF(A17=\"\",\"-\",_xlfn.XLOOKUP(A17,プルダウンデータリスト!$A$2:$A$43,プルダウンデータリスト!$D$2:$D$43) + 1)","v":"-"},{"$f":"IF(A17=\"\",\"-\",_xlfn.XLOOKUP(A17,プルダウンデータリスト!$A$2:$A$43,プルダウンデータリスト!$E$2:$E$43))","v":"-"},{"$f":"IF(A17=\"\",\"-\",_xlfn.XLOOKUP(A17,プルダウンデータリスト!$A$2:$A$43,プルダウンデータリスト!$F$2:$F$43))","v":"-"},"-","-","-"]
[null,null,null,null,null,null,null,null,"-",{"$f":"IF(B18=プルダウンデータリスト!$H$2,_xlfn.XLOOKUP('シート1-1'!A18,プルダウンデータリスト!$A$2:$A$43,プルダウンデータリスト!$B$2:$B$43),IF(B18=プルダウンデータリスト!$H$3,_xlfn.XLOOKUP('シート1-1'!A18,プルダウンデータリスト!$A$2:$A$43,プルダウンデータリスト!$C$2:$C$43),\"-\"))","v":"-"},{"$f":"IF(A18=\"\",\"-\",_xlfn.XLOOKUP(A18,プルダウンデータリスト!$A$2:$A$43,プルダウンデータリスト!$D$2:$D$43) + 1)","v":"-"},{"$f":"IF(A18=\"\",\"-\",_xlfn.XLOOKUP(A18,プルダウンデータリスト!$A$2:$A$43,プルダウンデータリスト!$E$2:$E$43))","v":"-"},{"$f":"IF(A18=\"\",\"-\",_xlfn.XLOOKUP(A18,プルダウンデータリスト!$A$2:$A$43,プルダウンデータリスト!$F$2:$F$43))","v":"-"},"-","-","-"]
[null,null,null,null,null,null,null,null,"-",{"$f":"IF(B19=プルダウンデータリスト!$H$2,_xlfn.XLOOKUP('シート1-1'!A19,プルダウンデータリスト!$A$2:$A$43,プルダウンデータリスト!$B$2:$B$43),IF(B19=プルダウンデータリスト!$H$3,_xlfn.XLOOKUP('シート1-1'!A19,プルダウンデータリスト!$A$2:$A$43,プルダウンデータリスト!$C$2:$C$43),\"-\"))","v":"-"},{"$f":"IF(A19=\"\",\"-\",_xlfn.XLOOKUP(A19,プルダウンデータリスト!$A$2:$A$43,プルダウンデータリスト!$D$2:$D$43) + 1)","v":"-"},{"$f":"IF(A19=\"\",\"-\",_xlfn.XLOOKUP(A19,プルダウンデータリスト!$A$2:$A$43,プルダウンデータリスト!$E$2:$E$43))","v":"-"},{"$f":"IF(A19=\"\",\"-\",_xlfn.XLOOKUP(A19,プルダウンデータリスト!$A$2:$A$43,プルダウンデータリスト!$F$2:$F$43))","v":"-"},"-","-","-"]
[null,null,null,null,null,null,null,null,"-",{"$f":"IF(B20=プルダウンデータリスト!$H$2,_xlfn.XLOOKUP('シート1-1'!A20,プルダウンデータリスト!$A$2:$A$43,プルダウンデータリスト!$B$2:$B$43),IF(B20=プルダウンデータリスト!$H$3,_xlfn.XLOOKUP('シート1-1'!A20,プルダウンデータリスト!$A$2:$A$43,プルダウンデータリスト!$C$2:$C$43),\"-\"))","v":"-"},{"$f":"IF(A20=\"\",\"-\",_xlfn.XLOOKUP(A20,プルダウンデータリスト!$A$2:$A$43,プルダウンデータリスト!$D$2:$D$43) + 1)","v":"-"},{"$f":"IF(A20=\"\",\"-\",_xlfn.XLOOKUP(A20,プルダウンデータリスト!$A$2:$A$43,プルダウンデータリスト!$E$2:$E$43))","v":"-"},{"$f":"IF(A20=\"\",\"-\",_xlfn.XLOOKUP(A20,プルダウンデータリスト!$A$2:$A$43,プルダウンデータリスト!$F$2:$F$43))","v":"-"},"-","-","-"]
[null,null,null,null,null,null,null,null,"-",{"$f":"IF(B21=プルダウンデータリスト!$H$2,_xlfn.XLOOKUP('シート1-1'!A21,プルダウンデータリスト!$A$2:$A$43,プルダウンデータリスト!$B$2:$B$43),IF(B21=プルダウンデータリスト!$H$3,_xlfn.XLOOKUP('シート1-1'!A21,プルダウンデータリスト!$A$2:$A$43,プルダウンデータリスト!$C$2:$C$43),\"-\"))","v":"-"},{"$f":"IF(A21=\"\",\"-\",_xlfn.XLOOKUP(A21,プルダウンデータリスト!$A$2:$A$43,プルダウンデータリスト!$D$2:$D$43) + 1)","v":"-"},{"$f":"IF(A21=\"\",\"-\",_xlfn.XLOOKUP(A21,プルダウンデータリスト!$A$2:$A$43,プルダウンデータリスト!$E$2:$E$43))","v":"-"},{"$f":"IF(A21=\"\",\"-\",_xlfn.XLOOKUP(A21,プルダウンデータリスト!$A$2:$A$43,プルダウンデータリスト!$F$2:$F$43))","v":"-"},"-","-","-"]
[null,null,null,null,null,null,null,null,"-",{"$f":"IF(B22=プルダウンデータリスト!$H$2,_xlfn.XLOOKUP('シート1-1'!A22,プルダウンデータリスト!$A$2:$A$43,プルダウンデータリスト!$B$2:$B$43),IF(B22=プルダウンデータリスト!$H$3,_xlfn.XLOOKUP('シート1-1'!A22,プルダウンデータリスト!$A$2:$A$43,プルダウンデータリスト!$C$2:$C$43),\"-\"))","v":"-"},{"$f":"IF(A22=\"\",\"-\",_xlfn.XLOOKUP(A22,プルダウンデータリスト!$A$2:$A$43,プルダウンデータリスト!$D$2:$D$43) + 1)","v":"-"},{"$f":"IF(A22=\"\",\"-\",_xlfn.XLOOKUP(A22,プルダウンデータリスト!$A$2:$A$43,プルダウンデータリスト!$E$2:$E$43))","v":"-"},{"$f":"IF(A22=\"\",\"-\",_xlfn.XLOOKUP(A22,プルダウンデータリスト!$A$2:$A$43,プルダウンデータリスト!$F$2:$F$43))","v":"-"},"-","-","-"]
[null,null,null,null,null,null,null,null,"-",{"$f":"IF(B23=プルダウンデータリスト!$H$2,_xlfn.XLOOKUP('シート1-1'!A23,プルダウンデータリスト!$A$2:$A$43,プルダウンデータリスト!$B$2:$B$43),IF(B23=プルダウンデータリスト!$H$3,_xlfn.XLOOKUP('シート1-1'!A23,プルダウンデータリスト!$A$2:$A$43,プルダウンデータリスト!$C$2:$C$43),\"-\"))","v":"-"},{"$f":"IF(A23=\"\",\"-\",_xlfn.XLOOKUP(A23,プルダウンデータリスト!$A$2:$A$43,プルダウンデータリスト!$D$2:$D$43) + 1)","v":"-"},{"$f":"IF(A23=\"\",\"-\",_xlfn.XLOOKUP(A23,プルダウンデータリスト!$A$2:$A$43,プルダウンデータリスト!$E$2:$E$43))","v":"-"},{"$f":"IF(A23=\"\",\"-\",_xlfn.XLOOKUP(A23,プルダウンデータリスト!$A$2:$A$43,プルダウンデータリスト!$F$2:$F$43))","v":"-"},"-","-","-"]
[null,null,null,null,null,null,null,null,"-",{"$f":"IF(B24=プルダウンデータリスト!$H$2,_xlfn.XLOOKUP('シート1-1'!A24,プルダウンデータリスト!$A$2:$A$43,プルダウンデータリスト!$B$2:$B$43),IF(B24=プルダウンデータリスト!$H$3,_xlfn.XLOOKUP('シート1-1'!A24,プルダウンデータリスト!$A$2:$A$43,プルダウンデータリスト!$C$2:$C$43),\"-\"))","v":"-"},{"$f":"IF(A24=\"\",\"-\",_xlfn.XLOOKUP(A24,プルダウンデータリスト!$A$2:$A$43,プルダウンデータリスト!$D$2:$D$43) + 1)","v":"-"},{"$f":"IF(A24=\"\",\"-\",_xlfn.XLOOKUP(A24,プルダウンデータリスト!$A$2:$A$43,プルダウンデータリスト!$E$2:$E$43))","v":"-"},{"$f":"IF(A24=\"\",\"-\",_xlfn.XLOOKUP(A24,プルダウンデータリスト!$A$2:$A$43,プルダウンデータリスト!$F$2:$F$43))","v":"-"},"-","-","-"]
[null,null,null,null,null,null,null,null,"-",{"$f":"IF(B25=プルダウンデータリスト!$H$2,_xlfn.XLOOKUP('シート1-1'!A25,プルダウンデータリスト!$A$2:$A$43,プルダウンデータリスト!$B$2:$B$43),IF(B25=プルダウンデータリスト!$H$3,_xlfn.XLOOKUP('シート1-1'!A25,プルダウンデータリスト!$A$2:$A$43,プルダウンデータリスト!$C$2:$C$43),\"-\"))","v":"-"},{"$f":"IF(A25=\"\",\"-\",_xlfn.XLOOKUP(A25,プルダウンデータリスト!$A$2:$A$43,プルダウンデータリスト!$D$2:$D$43) + 1)","v":"-"},{"$f":"IF(A25=\"\",\"-\",_xlfn.XLOOKUP(A25,プルダウンデータリスト!$A$2:$A$43,プルダウンデータリスト!$E$2:$E$43))","v":"-"},{"$f":"IF(A25=\"\",\"-\",_xlfn.XLOOKUP(A25,プルダウンデータリスト!$A$2:$A$43,プルダウンデータリスト!$F$2:$F$43))","v":"-"},"-","-","-"]
[null,null,null,null,null,null,null,null,"-",{"$f":"IF(B26=プルダウンデータリスト!$H$2,_xlfn.XLOOKUP('シート1-1'!A26,プルダウンデータリスト!$A$2:$A$43,プルダウンデータリスト!$B$2:$B$43),IF(B26=プルダウンデータリスト!$H$3,_xlfn.XLOOKUP('シート1-1'!A26,プルダウンデータリスト!$A$2:$A$43,プルダウンデータリスト!$C$2:$C$43),\"-\"))","v":"-"},{"$f":"IF(A26=\"\",\"-\",_xlfn.XLOOKUP(A26,プルダウンデータリスト!$A$2:$A$43,プルダウンデータリスト!$D$2:$D$43) + 1)","v":"-"},{"$f":"IF(A26=\"\",\"-\",_xlfn.XLOOKUP(A26,プルダウンデータリスト!$A$2:$A$43,プルダウンデータリスト!$E$2:$E$43))","v":"-"},{"$f":"IF(A26=\"\",\"-\",_xlfn.XLOOKUP(A26,プルダウンデータリスト!$A$2:$A$43,プルダウンデータリスト!$F$2:$F$43))","v":"-"},"-","-","-"]
[null,null,null,null,null,null,null,null,"-",{"$f":"IF(B27=プルダウンデータリスト!$H$2,_xlfn.XLOOKUP('シート1-1'!A27,プルダウンデータリスト!$A$2:$A$43,プルダウンデータリスト!$B$2:$B$43),IF(B27=プルダウンデータリスト!$H$3,_xlfn.XLOOKUP('シート1-1'!A27,プルダウンデータリスト!$A$2:$A$43,プルダウンデータリスト!$C$2:$C$43),\"-\"))","v":"-"},{"$f":"IF(A27=\"\",\"-\",_xlfn.XLOOKUP(A27,プルダウンデータリスト!$A$2:$A$43,プルダウンデータリスト!$D$2:$D$43) + 1)","v":"-"},{"$f":"IF(A27=\"\",\"-\",_xlfn.XLOOKUP(A27,プルダウンデータリスト!$A$2:$A$43,プルダウンデータリスト!$E$2:$E$43))","v":"-"},{"$f":"IF(A27=\"\",\"-\",_xlfn.XLOOKUP(A27,プルダウンデータリスト!$A$2:$A$43,プルダウンデータリスト!$F$2:$F$43))","v":"-"},"-","-","-"]
[null,null,null,null,null,null,null,null,"-",{"$f":"IF(B28=プルダウンデータリスト!$H$2,_xlfn.XLOOKUP('シート1-1'!A28,プルダウンデータリスト!$A$2:$A$43,プルダウンデータリスト!$B$2:$B$43),IF(B28=プルダウンデータリスト!$H$3,_xlfn.XLOOKUP('シート1-1'!A28,プルダウンデータリスト!$A$2:$A$43,プルダウンデータリスト!$C$2:$C$43),\"-\"))","v":"-"},{"$f":"IF(A28=\"\",\"-\",_xlfn.XLOOKUP(A28,プルダウンデータリスト!$A$2:$A$43,プルダウンデータリスト!$D$2:$D$43) + 1)","v":"-"},{"$f":"IF(A28=\"\",\"-\",_xlfn.XLOOKUP(A28,プルダウンデータリスト!$A$2:$A$43,プルダウンデータリスト!$E$2:$E$43))","v":"-"},{"$f":"IF(A28=\"\",\"-\",_xlfn.XLOOKUP(A28,プルダウンデータリスト!$A$2:$A$43,プルダウンデータリスト!$F$2:$F$43))","v":"-"},"-","-","-"]
[null,null,null,null,null,null,null,null,"-",{"$f":"IF(B29=プルダウンデータリスト!$H$2,_xlfn.XLOOKUP('シート1-1'!A29,プルダウンデータリスト!$A$2:$A$43,プルダウンデータリスト!$B$2:$B$43),IF(B29=プルダウンデータリスト!$H$3,_xlfn.XLOOKUP('シート1-1'!A29,プルダウンデータリスト!$A$2:$A$43,プルダウンデータリスト!$C$2:$C$43),\"-\"))","v":"-"},{"$f":"IF(A29=\"\",\"-\",_xlfn.XLOOKUP(A29,プルダウンデータリスト!$A$2:$A$43,プルダウンデータリスト!$D$2:$D$43) + 1)","v":"-"},{"$f":"IF(A29=\"\",\"-\",_xlfn.XLOOKUP(A29,プルダウンデータリスト!$A$2:$A$43,プルダウンデータリスト!$E$2:$E$43))","v":"-"},{"$f":"IF(A29=\"\",\"-\",_xlfn.XLOOKUP(A29,プルダウンデータリスト!$A$2:$A$43,プルダウンデータリスト!$F$2:$F$43))","v":"-"},"-","-","-"]
[null,null,null,null,null,null,null,null,"-",{"$f":"IF(B30=プルダウンデータリスト!$H$2,_xlfn.XLOOKUP('シート1-1'!A30,プルダウンデータリスト!$A$2:$A$43,プルダウンデータリスト!$B$2:$B$43),IF(B30=プルダウンデータリスト!$H$3,_xlfn.XLOOKUP('シート1-1'!A30,プルダウンデータリスト!$A$2:$A$43,プルダウンデータリスト!$C$2:$C$43),\"-\"))","v":"-"},{"$f":"IF(A30=\"\",\"-\",_xlfn.XLOOKUP(A30,プルダウンデータリスト!$A$2:$A$43,プルダウンデータリスト!$D$2:$D$43) + 1)","v":"-"},{"$f":"IF(A30=\"\",\"-\",_xlfn.XLOOKUP(A30,プルダウンデータリスト!$A$2:$A$43,プルダウンデータリスト!$E$2:$E$43))","v":"-"},{"$f":"IF(A30=\"\",\"-\",_xlfn.XLOOKUP(A30,プルダウンデータリスト!$A$2:$A$43,プルダウンデータリスト!$F$2:$F$43))","v":"-"},"-","-","-"]
[null,null,null,null,null,null,null,null,"-",{"$f":"IF(B31=プルダウンデータリスト!$H$2,_xlfn.XLOOKUP('シート1-1'!A31,プルダウンデータリスト!$A$2:$A$43,プルダウンデータリスト!$B$2:$B$43),IF(B31=プルダウンデータリスト!$H$3,_xlfn.XLOOKUP('シート1-1'!A31,プルダウンデータリスト!$A$2:$A$43,プルダウンデータリスト!$C$2:$C$43),\"-\"))","v":"-"},{"$f":"IF(A31=\"\",\"-\",_xlfn.XLOOKUP(A31,プルダウンデータリスト!$A$2:$A$43,プルダウンデータリスト!$D$2:$D$43) + 1)","v":"-"},{"$f":"IF(A31=\"\",\"-\",_xlfn.XLOOKUP(A31,プルダウンデータリスト!$A$2:$A$43,プルダウンデータリスト!$E$2:$E$43))","v":"-"},{"$f":"IF(A31=\"\",\"-\",_xlfn.XLOOKUP(A31,プルダウンデータリスト!$A$2:$A$43,プルダウンデータリスト!$F$2:$F$43))","v":"-"},"-","-","-"]
[null,null,null,null,null,null,null,null,"-",{"$f":"IF(B32=プルダウンデータリスト!$H$2,_xlfn.XLOOKUP('シート1-1'!A32,プルダウンデータリスト!$A$2:$A$43,プルダウンデータリスト!$B$2:$B$43),IF(B32=プルダウンデータリスト!$H$3,_xlfn.XLOOKUP('シート1-1'!A32,プルダウンデータリスト!$A$2:$A$43,プルダウンデータリスト!$C$2:$C$43),\"-\"))","v":"-"},{"$f":"IF(A32=\"\",\"-\",_xlfn.XLOOKUP(A32,プルダウンデータリスト!$A$2:$A$43,プルダウンデータリスト!$D$2:$D$43) + 1)","v":"-"},{"$f":"IF(A32=\"\",\"-\",_xlfn.XLOOKUP(A32,プルダウンデータリスト!$A$2:$A$43,プルダウンデータリスト!$E$2:$E$43))","v":"-"},{"$f":"IF(A32=\"\",\"-\",_xlfn.XLOOKUP(A32,プルダウンデータリスト!$A$2:$A$43,プルダウンデータリスト!$F$2:$F$43))","v":"-"},"-","-","-"]
[null,null,null,null,null,null,null,null,"-",{"$f":"IF(B33=プルダウンデータリスト!$H$2,_xlfn.XLOOKUP('シート1-1'!A33,プルダウンデータリスト!$A$2:$A$43,プルダウンデータリスト!$B$2:$B$43),IF(B33=プルダウンデータリスト!$H$3,_xlfn.XLOOKUP('シート1-1'!A33,プルダウンデータリスト!$A$2:$A$43,プルダウンデータリスト!$C$2:$C$43),\"-\"))","v":"-"},{"$f":"IF(A33=\"\",\"-\",_xlfn.XLOOKUP(A33,プルダウンデータリスト!$A$2:$A$43,プルダウンデータリスト!$D$2:$D$43) + 1)","v":"-"},{"$f":"IF(A33=\"\",\"-\",_xlfn.XLOOKUP(A33,プルダウンデータリスト!$A$2:$A$43,プルダウンデータリスト!$E$2:$E$43))","v":"-"},{"$f":"IF(A33=\"\",\"-\",_xlfn.XLOOKUP(A33,プルダウンデータリスト!$A$2:$A$43,プルダウンデータリスト!$F$2:$F$43))","v":"-"},"-","-","-"]
[null,null,null,null,null,null,null,null,"-",{"$f":"IF(B34=プルダウンデータリスト!$H$2,_xlfn.XLOOKUP('シート1-1'!A34,プルダウンデータリスト!$A$2:$A$43,プルダウンデータリスト!$B$2:$B$43),IF(B34=プルダウンデータリスト!$H$3,_xlfn.XLOOKUP('シート1-1'!A34,プルダウンデータリスト!$A$2:$A$43,プルダウンデータリスト!$C$2:$C$43),\"-\"))","v":"-"},{"$f":"IF(A34=\"\",\"-\",_xlfn.XLOOKUP(A34,プルダウンデータリスト!$A$2:$A$43,プルダウンデータリスト!$D$2:$D$43) + 1)","v":"-"},{"$f":"IF(A34=\"\",\"-\",_xlfn.XLOOKUP(A34,プルダウンデータリスト!$A$2:$A$43,プルダウンデータリスト!$E$2:$E$43))","v":"-"},{"$f":"IF(A34=\"\",\"-\",_xlfn.XLOOKUP(A34,プルダウンデータリスト!$A$2:$A$43,プルダウンデータリスト!$F$2:$F$43))","v":"-"},"-","-","-"]
[null,null,null,null,null,null,null,null,"-",{"$f":"IF(B35=プルダウンデータリスト!$H$2,_xlfn.XLOOKUP('シート1-1'!A35,プルダウンデータリスト!$A$2:$A$43,プルダウンデータリスト!$B$2:$B$43),IF(B35=プルダウンデータリスト!$H$3,_xlfn.XLOOKUP('シート1-1'!A35,プルダウンデータリスト!$A$2:$A$43,プルダウンデータリスト!$C$2:$C$43),\"-\"))","v":"-"},{"$f":"IF(A35=\"\",\"-\",_xlfn.XLOOKUP(A35,プルダウンデータリスト!$A$2:$A$43,プルダウンデータリスト!$D$2:$D$43) + 1)","v":"-"},{"$f":"IF(A35=\"\",\"-\",_xlfn.XLOOKUP(A35,プルダウンデータリスト!$A$2:$A$43,プルダウンデータリスト!$E$2:$E$43))","v":"-"},{"$f":"IF(A35=\"\",\"-\",_xlfn.XLOOKUP(A35,プルダウンデータリスト!$A$2:$A$43,プルダウンデータリスト!$F$2:$F$43))","v":"-"},"-","-","-"]
[null,null,null,null,null,null,null,null,"-",{"$f":"IF(B36=プルダウンデータリスト!$H$2,_xlfn.XLOOKUP('シート1-1'!A36,プルダウンデータリスト!$A$2:$A$43,プルダウンデータリスト!$B$2:$B$43),IF(B36=プルダウンデータリスト!$H$3,_xlfn.XLOOKUP('シート1-1'!A36,プルダウンデータリスト!$A$2:$A$43,プルダウンデータリスト!$C$2:$C$43),\"-\"))","v":"-"},{"$f":"IF(A36=\"\",\"-\",_xlfn.XLOOKUP(A36,プルダウンデータリスト!$A$2:$A$43,プルダウンデータリスト!$D$2:$D$43) + 1)","v":"-"},{"$f":"IF(A36=\"\",\"-\",_xlfn.XLOOKUP(A36,プルダウンデータリスト!$A$2:$A$43,プルダウンデータリスト!$E$2:$E$43))","v":"-"},{"$f":"IF(A36=\"\",\"-\",_xlfn.XLOOKUP(A36,プルダウンデータリスト!$A$2:$A$43,プルダウンデータリスト!$F$2:$F$43))","v":"-"},"-","-","-"]
[null,null,null,null,null,null,null,null,"-",{"$f":"IF(B37=プルダウンデータリスト!$H$2,_xlfn.XLOOKUP('シート1-1'!A37,プルダウンデータリスト!$A$2:$A$43,プルダウンデータリスト!$B$2:$B$43),IF(B37=プルダウンデータリスト!$H$3,_xlfn.XLOOKUP('シート1-1'!A37,プルダウンデータリスト!$A$2:$A$43,プルダウンデータリスト!$C$2:$C$43),\"-\"))","v":"-"},{"$f":"IF(A37=\"\",\"-\",_xlfn.XLOOKUP(A37,プルダウンデータリスト!$A$2:$A$43,プルダウンデータリスト!$D$2:$D$43) + 1)","v":"-"},{"$f":"IF(A37=\"\",\"-\",_xlfn.XLOOKUP(A37,プルダウンデータリスト!$A$2:$A$43,プルダウンデータリスト!$E$2:$E$43))","v":"-"},{"$f":"IF(A37=\"\",\"-\",_xlfn.XLOOKUP(A37,プルダウンデータリスト!$A$2:$A$43,プルダウンデータリスト!$F$2:$F$43))","v":"-"},"-","-","-"]
[null,null,null,null,null,null,null,null,"-",{"$f":"IF(B38=プルダウンデータリスト!$H$2,_xlfn.XLOOKUP('シート1-1'!A38,プルダウンデータリスト!$A$2:$A$43,プルダウンデータリスト!$B$2:$B$43),IF(B38=プルダウンデータリスト!$H$3,_xlfn.XLOOKUP('シート1-1'!A38,プルダウンデータリスト!$A$2:$A$43,プルダウンデータリスト!$C$2:$C$43),\"-\"))","v":"-"},{"$f":"IF(A38=\"\",\"-\",_xlfn.XLOOKUP(A38,プルダウンデータリスト!$A$2:$A$43,プルダウンデータリスト!$D$2:$D$43) + 1)","v":"-"},{"$f":"IF(A38=\"\",\"-\",_xlfn.XLOOKUP(A38,プルダウンデータリスト!$A$2:$A$43,プルダウンデータリスト!$E$2:$E$43))","v":"-"},{"$f":"IF(A38=\"\",\"-\",_xlfn.XLOOKUP(A38,プルダウンデータリスト!$A$2:$A$43,プルダウンデータリスト!$F$2:$F$43))","v":"-"},{"$f":"IFERROR(G38*($J38*$K38*$L38*$M38),\"-\")","v":"-"},{"$f":"IFERROR(H38*($J38*$K38*$L38*$M38),\"-\")","v":"-"},"-"]
[null,null,null,null,null,null,null,null,"-",{"$f":"IF(B39=プルダウンデータリスト!$H$2,_xlfn.XLOOKUP('シート1-1'!A39,プルダウンデータリスト!$A$2:$A$43,プルダウンデータリスト!$B$2:$B$43),IF(B39=プルダウンデータリスト!$H$3,_xlfn.XLOOKUP('シート1-1'!A39,プルダウンデータリスト!$A$2:$A$43,プルダウンデータリスト!$C$2:$C$43),\"-\"))","v":"-"},{"$f":"IF(A39=\"\",\"-\",_xlfn.XLOOKUP(A39,プルダウンデータリスト!$A$2:$A$43,プルダウンデータリスト!$D$2:$D$43) + 1)","v":"-"},{"$f":"IF(A39=\"\",\"-\",_xlfn.XLOOKUP(A39,プルダウンデータリスト!$A$2:$A$43,プルダウンデータリスト!$E$2:$E$43))","v":"-"},{"$f":"IF(A39=\"\",\"-\",_xlfn.XLOOKUP(A39,プルダウンデータリスト!$A$2:$A$43,プルダウンデータリスト!$F$2:$F$43))","v":"-"},"-","-","-"]
[null,null,null,null,null,null,null,null,"-",{"$f":"IF(B40=プルダウンデータリスト!$H$2,_xlfn.XLOOKUP('シート1-1'!A40,プルダウンデータリスト!$A$2:$A$43,プルダウンデータリスト!$B$2:$B$43),IF(B40=プルダウンデータリスト!$H$3,_xlfn.XLOOKUP('シート1-1'!A40,プルダウンデータリスト!$A$2:$A$43,プルダウンデータリスト!$C$2:$C$43),\"-\"))","v":"-"},{"$f":"IF(A40=\"\",\"-\",_xlfn.XLOOKUP(A40,プルダウンデータリスト!$A$2:$A$43,プルダウンデータリスト!$D$2:$D$43) + 1)","v":"-"},{"$f":"IF(A40=\"\",\"-\",_xlfn.XLOOKUP(A40,プルダウンデータリスト!$A$2:$A$43,プルダウンデータリスト!$E$2:$E$43))","v":"-"},{"$f":"IF(A40=\"\",\"-\",_xlfn.XLOOKUP(A40,プルダウンデータリスト!$A$2:$A$43,プルダウンデータリスト!$F$2:$F$43))","v":"-"},"-","-","-"]
[null,null,null,null,null,null,null,null,"-",{"$f":"IF(B41=プルダウンデータリスト!$H$2,_xlfn.XLOOKUP('シート1-1'!A41,プルダウンデータリスト!$A$2:$A$43,プルダウンデータリスト!$B$2:$B$43),IF(B41=プルダウンデータリスト!$H$3,_xlfn.XLOOKUP('シート1-1'!A41,プルダウンデータリスト!$A$2:$A$43,プルダウンデータリスト!$C$2:$C$43),\"-\"))","v":"-"},{"$f":"IF(A41=\"\",\"-\",_xlfn.XLOOKUP(A41,プルダウンデータリスト!$A$2:$A$43,プルダウンデータリスト!$D$2:$D$43) + 1)","v":"-"},{"$f":"IF(A41=\"\",\"-\",_xlfn.XLOOKUP(A41,プルダウンデータリスト!$A$2:$A$43,プルダウンデータリスト!$E$2:$E$43))","v":"-"},{"$f":"IF(A41=\"\",\"-\",_xlfn.XLOOKUP(A41,プルダウンデータリスト!$A$2:$A$43,プルダウンデータリスト!$F$2:$F$43))","v":"-"},"-","-","-"]
[null,null,null,null,null,null,null,null,"-",{"$f":"IF(B42=プルダウンデータリスト!$H$2,_xlfn.XLOOKUP('シート1-1'!A42,プルダウンデータリスト!$A$2:$A$43,プルダウンデータリスト!$B$2:$B$43),IF(B42=プルダウンデータリスト!$H$3,_xlfn.XLOOKUP('シート1-1'!A42,プルダウンデータリスト!$A$2:$A$43,プルダウンデータリスト!$C$2:$C$43),\"-\"))","v":"-"},{"$f":"IF(A42=\"\",\"-\",_xlfn.XLOOKUP(A42,プルダウンデータリスト!$A$2:$A$43,プルダウンデータリスト!$D$2:$D$43) + 1)","v":"-"},{"$f":"IF(A42=\"\",\"-\",_xlfn.XLOOKUP(A42,プルダウンデータリスト!$A$2:$A$43,プルダウンデータリスト!$E$2:$E$43))","v":"-"},{"$f":"IF(A42=\"\",\"-\",_xlfn.XLOOKUP(A42,プルダウンデータリスト!$A$2:$A$43,プルダウンデータリスト!$F$2:$F$43))","v":"-"},"-","-","-"]
[null,null,null,null,null,null,null,null,"-",{"$f":"IF(B43=プルダウンデータリスト!$H$2,_xlfn.XLOOKUP('シート1-1'!A43,プルダウンデータリスト!$A$2:$A$43,プルダウンデータリスト!$B$2:$B$43),IF(B43=プルダウンデータリスト!$H$3,_xlfn.XLOOKUP('シート1-1'!A43,プルダウンデータリスト!$A$2:$A$43,プルダウンデータリスト!$C$2:$C$43),\"-\"))","v":"-"},{"$f":"IF(A43=\"\",\"-\",_xlfn.XLOOKUP(A43,プルダウンデータリスト!$A$2:$A$43,プルダウンデータリスト!$D$2:$D$43) + 1)","v":"-"},{"$f":"IF(A43=\"\",\"-\",_xlfn.XLOOKUP(A43,プルダウンデータリスト!$A$2:$A$43,プルダウンデータリスト!$E$2:$E$43))","v":"-"},{"$f":"IF(A43=\"\",\"-\",_xlfn.XLOOKUP(A43,プルダウンデータリスト!$A$2:$A$43,プルダウンデータリスト!$F$2:$F$43))","v":"-"},"-","-","-"]
[null,null,null,null,null,null,null,null,"-",{"$f":"IF(B44=プルダウンデータリスト!$H$2,_xlfn.XLOOKUP('シート1-1'!A44,プルダウンデータリスト!$A$2:$A$43,プルダウンデータリスト!$B$2:$B$43),IF(B44=プルダウンデータリスト!$H$3,_xlfn.XLOOKUP('シート1-1'!A44,プルダウンデータリスト!$A$2:$A$43,プルダウンデータリスト!$C$2:$C$43),\"-\"))","v":"-"},{"$f":"IF(A44=\"\",\"-\",_xlfn.XLOOKUP(A44,プルダウンデータリスト!$A$2:$A$43,プルダウンデータリスト!$D$2:$D$43) + 1)","v":"-"},{"$f":"IF(A44=\"\",\"-\",_xlfn.XLOOKUP(A44,プルダウンデータリスト!$A$2:$A$43,プルダウンデータリスト!$E$2:$E$43))","v":"-"},{"$f":"IF(A44=\"\",\"-\",_xlfn.XLOOKUP(A44,プルダウンデータリスト!$A$2:$A$43,プルダウンデータリスト!$F$2:$F$43))","v":"-"},"-","-","-"]
[null,null,null,null,null,null,null,null,"-",{"$f":"IF(B45=プルダウンデータリスト!$H$2,_xlfn.XLOOKUP('シート1-1'!A45,プルダウンデータリスト!$A$2:$A$43,プルダウンデータリスト!$B$2:$B$43),IF(B45=プルダウンデータリスト!$H$3,_xlfn.XLOOKUP('シート1-1'!A45,プルダウンデータリスト!$A$2:$A$43,プルダウンデータリスト!$C$2:$C$43),\"-\"))","v":"-"},{"$f":"IF(A45=\"\",\"-\",_xlfn.XLOOKUP(A45,プルダウンデータリスト!$A$2:$A$43,プルダウンデータリスト!$D$2:$D$43) + 1)","v":"-"},{"$f":"IF(A45=\"\",\"-\",_xlfn.XLOOKUP(A45,プルダウンデータリスト!$A$2:$A$43,プルダウンデータリスト!$E$2:$E$43))","v":"-"},{"$f":"IF(A45=\"\",\"-\",_xlfn.XLOOKUP(A45,プルダウンデータリスト!$A$2:$A$43,プルダウンデータリスト!$F$2:$F$43))","v":"-"},"-","-","-"]
[null,null,null,null,null,null,null,null,"-",{"$f":"IF(B46=プルダウンデータリスト!$H$2,_xlfn.XLOOKUP('シート1-1'!A46,プルダウンデータリスト!$A$2:$A$43,プルダウンデータリスト!$B$2:$B$43),IF(B46=プルダウンデータリスト!$H$3,_xlfn.XLOOKUP('シート1-1'!A46,プルダウンデータリスト!$A$2:$A$43,プルダウンデータリスト!$C$2:$C$43),\"-\"))","v":"-"},{"$f":"IF(A46=\"\",\"-\",_xlfn.XLOOKUP(A46,プルダウンデータリスト!$A$2:$A$43,プルダウンデータリスト!$D$2:$D$43) + 1)","v":"-"},{"$f":"IF(A46=\"\",\"-\",_xlfn.XLOOKUP(A46,プルダウンデータリスト!$A$2:$A$43,プルダウンデータリスト!$E$2:$E$43))","v":"-"},{"$f":"IF(A46=\"\",\"-\",_xlfn.XLOOKUP(A46,プルダウンデータリスト!$A$2:$A$43,プルダウンデータリスト!$F$2:$F$43))","v":"-"},"-","-","-"]
[null,null,null,null,null,null,null,null,"-",{"$f":"IF(B47=プルダウンデータリスト!$H$2,_xlfn.XLOOKUP('シート1-1'!A47,プルダウンデータリスト!$A$2:$A$43,プルダウンデータリスト!$B$2:$B$43),IF(B47=プルダウンデータリスト!$H$3,_xlfn.XLOOKUP('シート1-1'!A47,プルダウンデータリスト!$A$2:$A$43,プルダウンデータリスト!$C$2:$C$43),\"-\"))","v":"-"},{"$f":"IF(A47=\"\",\"-\",_xlfn.XLOOKUP(A47,プルダウンデータリスト!$A$2:$A$43,プルダウンデータリスト!$D$2:$D$43) + 1)","v":"-"},{"$f":"IF(A47=\"\",\"-\",_xlfn.XLOOKUP(A47,プルダウンデータリスト!$A$2:$A$43,プルダウンデータリスト!$E$2:$E$43))","v":"-"},{"$f":"IF(A47=\"\",\"-\",_xlfn.XLOOKUP(A47,プルダウンデータリスト!$A$2:$A$43,プルダウンデータリスト!$F$2:$F$43))","v":"-"},"-","-","-"]
[null,null,null,null,null,null,null,null,"-",{"$f":"IF(B48=プルダウンデータリスト!$H$2,_xlfn.XLOOKUP('シート1-1'!A48,プルダウンデータリスト!$A$2:$A$43,プルダウンデータリスト!$B$2:$B$43),IF(B48=プルダウンデータリスト!$H$3,_xlfn.XLOOKUP('シート1-1'!A48,プルダウンデータリスト!$A$2:$A$43,プルダウンデータリスト!$C$2:$C$43),\"-\"))","v":"-"},{"$f":"IF(A48=\"\",\"-\",_xlfn.XLOOKUP(A48,プルダウンデータリスト!$A$2:$A$43,プルダウンデータリスト!$D$2:$D$43) + 1)","v":"-"},{"$f":"IF(A48=\"\",\"-\",_xlfn.XLOOKUP(A48,プルダウンデータリスト!$A$2:$A$43,プルダウンデータリスト!$E$2:$E$43))","v":"-"},{"$f":"IF(A48=\"\",\"-\",_xlfn.XLOOKUP(A48,プルダウンデータリスト!$A$2:$A$43,プルダウンデータリスト!$F$2:$F$43))","v":"-"},"-","-","-"]
[null,null,null,null,null,null,null,null,"-",{"$f":"IF(B49=プルダウンデータリスト!$H$2,_xlfn.XLOOKUP('シート1-1'!A49,プルダウンデータリスト!$A$2:$A$43,プルダウンデータリスト!$B$2:$B$43),IF(B49=プルダウンデータリスト!$H$3,_xlfn.XLOOKUP('シート1-1'!A49,プルダウンデータリスト!$A$2:$A$43,プルダウンデータリスト!$C$2:$C$43),\"-\"))","v":"-"},{"$f":"IF(A49=\"\",\"-\",_xlfn.XLOOKUP(A49,プルダウンデータリスト!$A$2:$A$43,プルダウンデータリスト!$D$2:$D$43) + 1)","v":"-"},{"$f":"IF(A49=\"\",\"-\",_xlfn.XLOOKUP(A49,プルダウンデータリスト!$A$2:$A$43,プルダウンデータリスト!$E$2:$E$43))","v":"-"},{"$f":"IF(A49=\"\",\"-\",_xlfn.XLOOKUP(A49,プルダウンデータリスト!$A$2:$A$43,プルダウンデータリスト!$F$2:$F$43))","v":"-"},"-","-","-"]
[null,null,null,null,null,null,null,null,"-",{"$f":"IF(B50=プルダウンデータリスト!$H$2,_xlfn.XLOOKUP('シート1-1'!A50,プルダウンデータリスト!$A$2:$A$43,プルダウンデータリスト!$B$2:$B$43),IF(B50=プルダウンデータリスト!$H$3,_xlfn.XLOOKUP('シート1-1'!A50,プルダウンデータリスト!$A$2:$A$43,プルダウンデータリスト!$C$2:$C$43),\"-\"))","v":"-"},{"$f":"IF(A50=\"\",\"-\",_xlfn.XLOOKUP(A50,プルダウンデータリスト!$A$2:$A$43,プルダウンデータリスト!$D$2:$D$43) + 1)","v":"-"},{"$f":"IF(A50=\"\",\"-\",_xlfn.XLOOKUP(A50,プルダウンデータリスト!$A$2:$A$43,プルダウンデータリスト!$E$2:$E$43))","v":"-"},{"$f":"IF(A50=\"\",\"-\",_xlfn.XLOOKUP(A50,プルダウンデータリスト!$A$2:$A$43,プルダウンデータリスト!$F$2:$F$43))","v":"-"},"-","-","-"]
[null,null,null,null,null,null,null,null,"-",{"$f":"IF(B51=プルダウンデータリスト!$H$2,_xlfn.XLOOKUP('シート1-1'!A51,プルダウンデータリスト!$A$2:$A$43,プルダウンデータリスト!$B$2:$B$43),IF(B51=プルダウンデータリスト!$H$3,_xlfn.XLOOKUP('シート1-1'!A51,プルダウンデータリスト!$A$2:$A$43,プルダウンデータリスト!$C$2:$C$43),\"-\"))","v":"-"},{"$f":"IF(A51=\"\",\"-\",_xlfn.XLOOKUP(A51,プルダウンデータリスト!$A$2:$A$43,プルダウンデータリスト!$D$2:$D$43) + 1)","v":"-"},{"$f":"IF(A51=\"\",\"-\",_xlfn.XLOOKUP(A51,プルダウンデータリスト!$A$2:$A$43,プルダウンデータリスト!$E$2:$E$43))","v":"-"},{"$f":"IF(A51=\"\",\"-\",_xlfn.XLOOKUP(A51,プルダウンデータリスト!$A$2:$A$43,プルダウンデータリスト!$F$2:$F$43))","v":"-"},"-","-","-"]
[null,null,null,null,null,null,null,null,"-",{"$f":"IF(B52=プルダウンデータリスト!$H$2,_xlfn.XLOOKUP('シート1-1'!A52,プルダウンデータリスト!$A$2:$A$43,プルダウンデータリスト!$B$2:$B$43),IF(B52=プルダウンデータリスト!$H$3,_xlfn.XLOOKUP('シート1-1'!A52,プルダウンデータリスト!$A$2:$A$43,プルダウンデータリスト!$C$2:$C$43),\"-\"))","v":"-"},{"$f":"IF(A52=\"\",\"-\",_xlfn.XLOOKUP(A52,プルダウンデータリスト!$A$2:$A$43,プルダウンデータリスト!$D$2:$D$43) + 1)","v":"-"},{"$f":"IF(A52=\"\",\"-\",_xlfn.XLOOKUP(A52,プルダウンデータリスト!$A$2:$A$43,プルダウンデータリスト!$E$2:$E$43))","v":"-"},{"$f":"IF(A52=\"\",\"-\",_xlfn.XLOOKUP(A52,プルダウンデータリスト!$A$2:$A$43,プルダウンデータリスト!$F$2:$F$43))","v":"-"},"-","-","-"]
[null,null,null,null,null,null,null,null,"-",{"$f":"IF(B53=プルダウンデータリスト!$H$2,_xlfn.XLOOKUP('シート1-1'!A53,プルダウンデータリスト!$A$2:$A$43,プルダウンデータリスト!$B$2:$B$43),IF(B53=プルダウンデータリスト!$H$3,_xlfn.XLOOKUP('シート1-1'!A53,プルダウンデータリスト!$A$2:$A$43,プルダウンデータリスト!$C$2:$C$43),\"-\"))","v":"-"},{"$f":"IF(A53=\"\",\"-\",_xlfn.XLOOKUP(A53,プルダウンデータリスト!$A$2:$A$43,プルダウンデータリスト!$D$2:$D$43) + 1)","v":"-"},{"$f":"IF(A53=\"\",\"-\",_xlfn.XLOOKUP(A53,プルダウンデータリスト!$A$2:$A$43,プルダウンデータリスト!$E$2:$E$43))","v":"-"},{"$f":"IF(A53=\"\",\"-\",_xlfn.XLOOKUP(A53,プルダウンデータリスト!$A$2:$A$43,プルダウンデータリスト!$F$2:$F$43))","v":"-"},"-","-","-"]
[null,null,null,null,null,null,null,null,"-",{"$f":"IF(B54=プルダウンデータリスト!$H$2,_xlfn.XLOOKUP('シート1-1'!A54,プルダウンデータリスト!$A$2:$A$43,プルダウンデータリスト!$B$2:$B$43),IF(B54=プルダウンデータリスト!$H$3,_xlfn.XLOOKUP('シート1-1'!A54,プルダウンデータリスト!$A$2:$A$43,プルダウンデータリスト!$C$2:$C$43),\"-\"))","v":"-"},{"$f":"IF(A54=\"\",\"-\",_xlfn.XLOOKUP(A54,プルダウンデータリスト!$A$2:$A$43,プルダウンデータリスト!$D$2:$D$43) + 1)","v":"-"},{"$f":"IF(A54=\"\",\"-\",_xlfn.XLOOKUP(A54,プルダウンデータリスト!$A$2:$A$43,プルダウンデータリスト!$E$2:$E$43))","v":"-"},{"$f":"IF(A54=\"\",\"-\",_xlfn.XLOOKUP(A54,プルダウンデータリスト!$A$2:$A$43,プルダウンデータリスト!$F$2:$F$43))","v":"-"},"-","-","-"]
[null,null,null,null,null,null,null,null,"-",{"$f":"IF(B55=プルダウンデータリスト!$H$2,_xlfn.XLOOKUP('シート1-1'!A55,プルダウンデータリスト!$A$2:$A$43,プルダウンデータリスト!$B$2:$B$43),IF(B55=プルダウンデータリスト!$H$3,_xlfn.XLOOKUP('シート1-1'!A55,プルダウンデータリスト!$A$2:$A$43,プルダウンデータリスト!$C$2:$C$43),\"-\"))","v":"-"},{"$f":"IF(A55=\"\",\"-\",_xlfn.XLOOKUP(A55,プルダウンデータリスト!$A$2:$A$43,プルダウンデータリスト!$D$2:$D$43) + 1)","v":"-"},{"$f":"IF(A55=\"\",\"-\",_xlfn.XLOOKUP(A55,プルダウンデータリスト!$A$2:$A$43,プルダウンデータリスト!$E$2:$E$43))","v":"-"},{"$f":"IF(A55=\"\",\"-\",_xlfn.XLOOKUP(A55,プルダウンデータリスト!$A$2:$A$43,プルダウンデータリスト!$F$2:$F$43))","v":"-"},"-","-","-"]
[null,null,null,null,null,null,null,null,"-",{"$f":"IF(B56=プルダウンデータリスト!$H$2,_xlfn.XLOOKUP('シート1-1'!A56,プルダウンデータリスト!$A$2:$A$43,プルダウンデータリスト!$B$2:$B$43),IF(B56=プルダウンデータリスト!$H$3,_xlfn.XLOOKUP('シート1-1'!A56,プルダウンデータリスト!$A$2:$A$43,プルダウンデータリスト!$C$2:$C$43),\"-\"))","v":"-"},{"$f":"IF(A56=\"\",\"-\",_xlfn.XLOOKUP(A56,プルダウンデータリスト!$A$2:$A$43,プルダウンデータリスト!$D$2:$D$43) + 1)","v":"-"},{"$f":"IF(A56=\"\",\"-\",_xlfn.XLOOKUP(A56,プルダウンデータリスト!$A$2:$A$43,プルダウンデータリスト!$E$2:$E$43))","v":"-"},{"$f":"IF(A56=\"\",\"-\",_xlfn.XLOOKUP(A56,プルダウンデータリスト!$A$2:$A$43,プルダウンデータリスト!$F$2:$F$43))","v":"-"},"-","-","-"]
[null,null,null,null,null,null,null,null,"-",{"$f":"IF(B57=プルダウンデータリスト!$H$2,_xlfn.XLOOKUP('シート1-1'!A57,プルダウンデータリスト!$A$2:$A$43,プルダウンデータリスト!$B$2:$B$43),IF(B57=プルダウンデータリスト!$H$3,_xlfn.XLOOKUP('シート1-1'!A57,プルダウンデータリスト!$A$2:$A$43,プルダウンデータリスト!$C$2:$C$43),\"-\"))","v":"-"},{"$f":"IF(A57=\"\",\"-\",_xlfn.XLOOKUP(A57,プルダウンデータリスト!$A$2:$A$43,プルダウンデータリスト!$D$2:$D$43) + 1)","v":"-"},{"$f":"IF(A57=\"\",\"-\",_xlfn.XLOOKUP(A57,プルダウンデータリスト!$A$2:$A$43,プルダウンデータリスト!$E$2:$E$43))","v":"-"},{"$f":"IF(A57=\"\",\"-\",_xlfn.XLOOKUP(A57,プルダウンデータリスト!$A$2:$A$43,プルダウンデータリスト!$F$2:$F$43))","v":"-"},"-","-","-"]
[null,null,null,null,null,null,null,null,"-",{"$f":"IF(B58=プルダウンデータリスト!$H$2,_xlfn.XLOOKUP('シート1-1'!A58,プルダウンデータリスト!$A$2:$A$43,プルダウンデータリスト!$B$2:$B$43),IF(B58=プルダウンデータリスト!$H$3,_xlfn.XLOOKUP('シート1-1'!A58,プルダウンデータリスト!$A$2:$A$43,プルダウンデータリスト!$C$2:$C$43),\"-\"))","v":"-"},{"$f":"IF(A58=\"\",\"-\",_xlfn.XLOOKUP(A58,プルダウンデータリスト!$A$2:$A$43,プルダウンデータリスト!$D$2:$D$43) + 1)","v":"-"},{"$f":"IF(A58=\"\",\"-\",_xlfn.XLOOKUP(A58,プルダウンデータリスト!$A$2:$A$43,プルダウンデータリスト!$E$2:$E$43))","v":"-"},{"$f":"IF(A58=\"\",\"-\",_xlfn.XLOOKUP(A58,プルダウンデータリスト!$A$2:$A$43,プルダウンデータリスト!$F$2:$F$43))","v":"-"},"-","-","-"]
[null,null,null,null,null,null,null,null,"-",{"$f":"IF(B59=プルダウンデータリスト!$H$2,_xlfn.XLOOKUP('シート1-1'!A59,プルダウンデータリスト!$A$2:$A$43,プルダウンデータリスト!$B$2:$B$43),IF(B59=プルダウンデータリスト!$H$3,_xlfn.XLOOKUP('シート1-1'!A59,プルダウンデータリスト!$A$2:$A$43,プルダウンデータリスト!$C$2:$C$43),\"-\"))","v":"-"},{"$f":"IF(A59=\"\",\"-\",_xlfn.XLOOKUP(A59,プルダウンデータリスト!$A$2:$A$43,プルダウンデータリスト!$D$2:$D$43) + 1)","v":"-"},{"$f":"IF(A59=\"\",\"-\",_xlfn.XLOOKUP(A59,プルダウンデータリスト!$A$2:$A$43,プルダウンデータリスト!$E$2:$E$43))","v":"-"},{"$f":"IF(A59=\"\",\"-\",_xlfn.XLOOKUP(A59,プルダウンデータリスト!$A$2:$A$43,プルダウンデータリスト!$F$2:$F$43))","v":"-"},"-","-","-"]
[null,null,null,null,null,null,null,null,"-",{"$f":"IF(B60=プルダウンデータリスト!$H$2,_xlfn.XLOOKUP('シート1-1'!A60,プルダウンデータリスト!$A$2:$A$43,プルダウンデータリスト!$B$2:$B$43),IF(B60=プルダウンデータリスト!$H$3,_xlfn.XLOOKUP('シート1-1'!A60,プルダウンデータリスト!$A$2:$A$43,プルダウンデータリスト!$C$2:$C$43),\"-\"))","v":"-"},{"$f":"IF(A60=\"\",\"-\",_xlfn.XLOOKUP(A60,プルダウンデータリスト!$A$2:$A$43,プルダウンデータリスト!$D$2:$D$43) + 1)","v":"-"},{"$f":"IF(A60=\"\",\"-\",_xlfn.XLOOKUP(A60,プルダウンデータリスト!$A$2:$A$43,プルダウンデータリスト!$E$2:$E$43))","v":"-"},{"$f":"IF(A60=\"\",\"-\",_xlfn.XLOOKUP(A60,プルダウンデータリスト!$A$2:$A$43,プルダウンデータリスト!$F$2:$F$43))","v":"-"},"-","-","-"]
[null,null,null,null,null,null,null,null,"-",{"$f":"IF(B61=プルダウンデータリスト!$H$2,_xlfn.XLOOKUP('シート1-1'!A61,プルダウンデータリスト!$A$2:$A$43,プルダウンデータリスト!$B$2:$B$43),IF(B61=プルダウンデータリスト!$H$3,_xlfn.XLOOKUP('シート1-1'!A61,プルダウンデータリスト!$A$2:$A$43,プルダウンデータリスト!$C$2:$C$43),\"-\"))","v":"-"},{"$f":"IF(A61=\"\",\"-\",_xlfn.XLOOKUP(A61,プルダウンデータリスト!$A$2:$A$43,プルダウンデータリスト!$D$2:$D$43) + 1)","v":"-"},{"$f":"IF(A61=\"\",\"-\",_xlfn.XLOOKUP(A61,プルダウンデータリスト!$A$2:$A$43,プルダウンデータリスト!$E$2:$E$43))","v":"-"},{"$f":"IF(A61=\"\",\"-\",_xlfn.XLOOKUP(A61,プルダウンデータリスト!$A$2:$A$43,プルダウンデータリスト!$F$2:$F$43))","v":"-"},"-","-","-"]
[null,null,null,null,null,null,null,null,"-",{"$f":"IF(B62=プルダウンデータリスト!$H$2,_xlfn.XLOOKUP('シート1-1'!A62,プルダウンデータリスト!$A$2:$A$43,プルダウンデータリスト!$B$2:$B$43),IF(B62=プルダウンデータリスト!$H$3,_xlfn.XLOOKUP('シート1-1'!A62,プルダウンデータリスト!$A$2:$A$43,プルダウンデータリスト!$C$2:$C$43),\"-\"))","v":"-"},{"$f":"IF(A62=\"\",\"-\",_xlfn.XLOOKUP(A62,プルダウンデータリスト!$A$2:$A$43,プルダウンデータリスト!$D$2:$D$43) + 1)","v":"-"},{"$f":"IF(A62=\"\",\"-\",_xlfn.XLOOKUP(A62,プルダウンデータリスト!$A$2:$A$43,プルダウンデータリスト!$E$2:$E$43))","v":"-"},{"$f":"IF(A62=\"\",\"-\",_xlfn.XLOOKUP(A62,プルダウンデータリスト!$A$2:$A$43,プルダウンデータリスト!$F$2:$F$43))","v":"-"},"-","-","-"]
[null,null,null,null,null,null,null,null,"-",{"$f":"IF(B63=プルダウンデータリスト!$H$2,_xlfn.XLOOKUP('シート1-1'!A63,プルダウンデータリスト!$A$2:$A$43,プルダウンデータリスト!$B$2:$B$43),IF(B63=プルダウンデータリスト!$H$3,_xlfn.XLOOKUP('シート1-1'!A63,プルダウンデータリスト!$A$2:$A$43,プルダウンデータリスト!$C$2:$C$43),\"-\"))","v":"-"},{"$f":"IF(A63=\"\",\"-\",_xlfn.XLOOKUP(A63,プルダウンデータリスト!$A$2:$A$43,プルダウンデータリスト!$D$2:$D$43) + 1)","v":"-"},{"$f":"IF(A63=\"\",\"-\",_xlfn.XLOOKUP(A63,プルダウンデータリスト!$A$2:$A$43,プルダウンデータリスト!$E$2:$E$43))","v":"-"},{"$f":"IF(A63=\"\",\"-\",_xlfn.XLOOKUP(A63,プルダウンデータリスト!$A$2:$A$43,プルダウンデータリスト!$F$2:$F$43))","v":"-"},"-","-","-"]
[null,null,null,null,null,null,null,null,"-",{"$f":"IF(B64=プルダウンデータリスト!$H$2,_xlfn.XLOOKUP('シート1-1'!A64,プルダウンデータリスト!$A$2:$A$43,プルダウンデータリスト!$B$2:$B$43),IF(B64=プルダウンデータリスト!$H$3,_xlfn.XLOOKUP('シート1-1'!A64,プルダウンデータリスト!$A$2:$A$43,プルダウンデータリスト!$C$2:$C$43),\"-\"))","v":"-"},{"$f":"IF(A64=\"\",\"-\",_xlfn.XLOOKUP(A64,プルダウンデータリスト!$A$2:$A$43,プルダウンデータリスト!$D$2:$D$43) + 1)","v":"-"},{"$f":"IF(A64=\"\",\"-\",_xlfn.XLOOKUP(A64,プルダウンデータリスト!$A$2:$A$43,プルダウンデータリスト!$E$2:$E$43))","v":"-"},{"$f":"IF(A64=\"\",\"-\",_xlfn.XLOOKUP(A64,プルダウンデータリスト!$A$2:$A$43,プルダウンデータリスト!$F$2:$F$43))","v":"-"},"-","-","-"]
[null,null,null,null,null,null,null,null,"-",{"$f":"IF(B65=プルダウンデータリスト!$H$2,_xlfn.XLOOKUP('シート1-1'!A65,プルダウンデータリスト!$A$2:$A$43,プルダウンデータリスト!$B$2:$B$43),IF(B65=プルダウンデータリスト!$H$3,_xlfn.XLOOKUP('シート1-1'!A65,プルダウンデータリスト!$A$2:$A$43,プルダウンデータリスト!$C$2:$C$43),\"-\"))","v":"-"},{"$f":"IF(A65=\"\",\"-\",_xlfn.XLOOKUP(A65,プルダウンデータリスト!$A$2:$A$43,プルダウンデータリスト!$D$2:$D$43) + 1)","v":"-"},{"$f":"IF(A65=\"\",\"-\",_xlfn.XLOOKUP(A65,プルダウンデータリスト!$A$2:$A$43,プルダウンデータリスト!$E$2:$E$43))","v":"-"},{"$f":"IF(A65=\"\",\"-\",_xlfn.XLOOKUP(A65,プルダウンデータリスト!$A$2:$A$43,プルダウンデータリスト!$F$2:$F$43))","v":"-"},"-","-","-"]
[null,null,null,null,null,null,null,null,"-",{"$f":"IF(B66=プルダウンデータリスト!$H$2,_xlfn.XLOOKUP('シート1-1'!A66,プルダウンデータリスト!$A$2:$A$43,プルダウンデータリスト!$B$2:$B$43),IF(B66=プルダウンデータリスト!$H$3,_xlfn.XLOOKUP('シート1-1'!A66,プルダウンデータリスト!$A$2:$A$43,プルダウンデータリスト!$C$2:$C$43),\"-\"))","v":"-"},{"$f":"IF(A66=\"\",\"-\",_xlfn.XLOOKUP(A66,プルダウンデータリスト!$A$2:$A$43,プルダウンデータリスト!$D$2:$D$43) + 1)","v":"-"},{"$f":"IF(A66=\"\",\"-\",_xlfn.XLOOKUP(A66,プルダウンデータリスト!$A$2:$A$43,プルダウンデータリスト!$E$2:$E$43))","v":"-"},{"$f":"IF(A66=\"\",\"-\",_xlfn.XLOOKUP(A66,プルダウンデータリスト!$A$2:$A$43,プルダウンデータリスト!$F$2:$F$43))","v":"-"},"-","-","-"]
[null,null,null,null,null,null,null,null,"-",{"$f":"IF(B67=プルダウンデータリスト!$H$2,_xlfn.XLOOKUP('シート1-1'!A67,プルダウンデータリスト!$A$2:$A$43,プルダウンデータリスト!$B$2:$B$43),IF(B67=プルダウンデータリスト!$H$3,_xlfn.XLOOKUP('シート1-1'!A67,プルダウンデータリスト!$A$2:$A$43,プルダウンデータリスト!$C$2:$C$43),\"-\"))","v":"-"},{"$f":"IF(A67=\"\",\"-\",_xlfn.XLOOKUP(A67,プルダウンデータリスト!$A$2:$A$43,プルダウンデータリスト!$D$2:$D$43) + 1)","v":"-"},{"$f":"IF(A67=\"\",\"-\",_xlfn.XLOOKUP(A67,プルダウンデータリスト!$A$2:$A$43,プルダウンデータリスト!$E$2:$E$43))","v":"-"},{"$f":"IF(A67=\"\",\"-\",_xlfn.XLOOKUP(A67,プルダウンデータリスト!$A$2:$A$43,プルダウンデータリスト!$F$2:$F$43))","v":"-"},"-","-","-"]
[null,null,null,null,null,null,null,null,"-",{"$f":"IF(B68=プルダウンデータリスト!$H$2,_xlfn.XLOOKUP('シート1-1'!A68,プルダウンデータリスト!$A$2:$A$43,プルダウンデータリスト!$B$2:$B$43),IF(B68=プルダウンデータリスト!$H$3,_xlfn.XLOOKUP('シート1-1'!A68,プルダウンデータリスト!$A$2:$A$43,プルダウンデータリスト!$C$2:$C$43),\"-\"))","v":"-"},{"$f":"IF(A68=\"\",\"-\",_xlfn.XLOOKUP(A68,プルダウンデータリスト!$A$2:$A$43,プルダウンデータリスト!$D$2:$D$43) + 1)","v":"-"},{"$f":"IF(A68=\"\",\"-\",_xlfn.XLOOKUP(A68,プルダウンデータリスト!$A$2:$A$43,プルダウンデータリスト!$E$2:$E$43))","v":"-"},{"$f":"IF(A68=\"\",\"-\",_xlfn.XLOOKUP(A68,プルダウンデータリスト!$A$2:$A$43,プルダウンデータリスト!$F$2:$F$43))","v":"-"},"-","-","-"]
[null,null,null,null,null,null,null,null,"-",{"$f":"IF(B69=プルダウンデータリスト!$H$2,_xlfn.XLOOKUP('シート1-1'!A69,プルダウンデータリスト!$A$2:$A$43,プルダウンデータリスト!$B$2:$B$43),IF(B69=プルダウンデータリスト!$H$3,_xlfn.XLOOKUP('シート1-1'!A69,プルダウンデータリスト!$A$2:$A$43,プルダウンデータリスト!$C$2:$C$43),\"-\"))","v":"-"},{"$f":"IF(A69=\"\",\"-\",_xlfn.XLOOKUP(A69,プルダウンデータリスト!$A$2:$A$43,プルダウンデータリスト!$D$2:$D$43) + 1)","v":"-"},{"$f":"IF(A69=\"\",\"-\",_xlfn.XLOOKUP(A69,プルダウンデータリスト!$A$2:$A$43,プルダウンデータリスト!$E$2:$E$43))","v":"-"},{"$f":"IF(A69=\"\",\"-\",_xlfn.XLOOKUP(A69,プルダウンデータリスト!$A$2:$A$43,プルダウンデータリスト!$F$2:$F$43))","v":"-"},"-","-","-"]
[null,null,null,null,null,null,null,null,"-",{"$f":"IF(B70=プルダウンデータリスト!$H$2,_xlfn.XLOOKUP('シート1-1'!A70,プルダウンデータリスト!$A$2:$A$43,プルダウンデータリスト!$B$2:$B$43),IF(B70=プルダウンデータリスト!$H$3,_xlfn.XLOOKUP('シート1-1'!A70,プルダウンデータリスト!$A$2:$A$43,プルダウンデータリスト!$C$2:$C$43),\"-\"))","v":"-"},{"$f":"IF(A70=\"\",\"-\",_xlfn.XLOOKUP(A70,プルダウンデータリスト!$A$2:$A$43,プルダウンデータリスト!$D$2:$D$43) + 1)","v":"-"},{"$f":"IF(A70=\"\",\"-\",_xlfn.XLOOKUP(A70,プルダウンデータリスト!$A$2:$A$43,プルダウンデータリスト!$E$2:$E$43))","v":"-"},{"$f":"IF(A70=\"\",\"-\",_xlfn.XLOOKUP(A70,プルダウンデータリスト!$A$2:$A$43,プルダウンデータリスト!$F$2:$F$43))","v":"-"},{"$f":"IFERROR(G70*($J70*$K70*$L70*$M70),\"-\")","v":"-"},{"$f":"IFERROR(H70*($J70*$K70*$L70*$M70),\"-\")","v":"-"},"-"]
[null,null,null,null,null,null,null,null,{"$f":"IF((H71-G71)=0,\"-\",H71-G71)","v":"-"},{"$f":"IF(B71=プルダウンデータリスト!$H$2,_xlfn.XLOOKUP('シート1-1'!A71,プルダウンデータリスト!$A$2:$A$43,プルダウンデータリスト!$B$2:$B$43),IF(B71=プルダウンデータリスト!$H$3,_xlfn.XLOOKUP('シート1-1'!A71,プルダウンデータリスト!$A$2:$A$43,プルダウンデータリスト!$C$2:$C$43),\"-\"))","v":"-"},{"$f":"IF(A71=\"\",\"-\",_xlfn.XLOOKUP(A71,プルダウンデータリスト!$A$2:$A$43,プルダウンデータリスト!$D$2:$D$43) + 1)","v":"-"},{"$f":"IF(A71=\"\",\"-\",_xlfn.XLOOKUP(A71,プルダウンデータリスト!$A$2:$A$43,プルダウンデータリスト!$E$2:$E$43))","v":"-"},{"$f":"IF(A71=\"\",\"-\",_xlfn.XLOOKUP(A71,プルダウンデータリスト!$A$2:$A$43,プルダウンデータリスト!$F$2:$F$43))","v":"-"},"-","-",{"$f":"IFERROR(O71-N71,\"-\")","v":"-"}]
[null,null,null,null,null,null,null,null,"-",{"$f":"IF(B72=プルダウンデータリスト!$H$2,_xlfn.XLOOKUP('シート1-1'!A72,プルダウンデータリスト!$A$2:$A$43,プルダウンデータリスト!$B$2:$B$43),IF(B72=プルダウンデータリスト!$H$3,_xlfn.XLOOKUP('シート1-1'!A72,プルダウンデータリスト!$A$2:$A$43,プルダウンデータリスト!$C$2:$C$43),\"-\"))","v":"-"},{"$f":"IF(A72=\"\",\"-\",_xlfn.XLOOKUP(A72,プルダウンデータリスト!$A$2:$A$43,プルダウンデータリスト!$D$2:$D$43) + 1)","v":"-"},{"$f":"IF(A72=\"\",\"-\",_xlfn.XLOOKUP(A72,プルダウンデータリスト!$A$2:$A$43,プルダウンデータリスト!$E$2:$E$43))","v":"-"},{"$f":"IF(A72=\"\",\"-\",_xlfn.XLOOKUP(A72,プルダウンデータリスト!$A$2:$A$43,プルダウンデータリスト!$F$2:$F$43))","v":"-"},"-","-","-"]
[null,null,null,null,null,null,null,null,"-",{"$f":"IF(B73=プルダウンデータリスト!$H$2,_xlfn.XLOOKUP('シート1-1'!A73,プルダウンデータリスト!$A$2:$A$43,プルダウンデータリスト!$B$2:$B$43),IF(B73=プルダウンデータリスト!$H$3,_xlfn.XLOOKUP('シート1-1'!A73,プルダウンデータリスト!$A$2:$A$43,プルダウンデータリスト!$C$2:$C$43),\"-\"))","v":"-"},{"$f":"IF(A73=\"\",\"-\",_xlfn.XLOOKUP(A73,プルダウンデータリスト!$A$2:$A$43,プルダウンデータリスト!$D$2:$D$43) + 1)","v":"-"},{"$f":"IF(A73=\"\",\"-\",_xlfn.XLOOKUP(A73,プルダウンデータリスト!$A$2:$A$43,プルダウンデータリスト!$E$2:$E$43))","v":"-"},{"$f":"IF(A73=\"\",\"-\",_xlfn.XLOOKUP(A73,プルダウンデータリスト!$A$2:$A$43,プルダウンデータリスト!$F$2:$F$43))","v":"-"},"-","-","-"]
[null,null,null,null,null,null,null,null,"-",{"$f":"IF(B74=プルダウンデータリスト!$H$2,_xlfn.XLOOKUP('シート1-1'!A74,プルダウンデータリスト!$A$2:$A$43,プルダウンデータリスト!$B$2:$B$43),IF(B74=プルダウンデータリスト!$H$3,_xlfn.XLOOKUP('シート1-1'!A74,プルダウンデータリスト!$A$2:$A$43,プルダウンデータリスト!$C$2:$C$43),\"-\"))","v":"-"},{"$f":"IF(A74=\"\",\"-\",_xlfn.XLOOKUP(A74,プルダウンデータリスト!$A$2:$A$43,プルダウンデータリスト!$D$2:$D$43) + 1)","v":"-"},{"$f":"IF(A74=\"\",\"-\",_xlfn.XLOOKUP(A74,プルダウンデータリスト!$A$2:$A$43,プルダウンデータリスト!$E$2:$E$43))","v":"-"},{"$f":"IF(A74=\"\",\"-\",_xlfn.XLOOKUP(A74,プルダウンデータリスト!$A$2:$A$43,プルダウンデータリスト!$F$2:$F$43))","v":"-"},"-","-","-"]
[null,null,null,null,null,null,null,null,"-",{"$f":"IF(B75=プルダウンデータリスト!$H$2,_xlfn.XLOOKUP('シート1-1'!A75,プルダウンデータリスト!$A$2:$A$43,プルダウンデータリスト!$B$2:$B$43),IF(B75=プルダウンデータリスト!$H$3,_xlfn.XLOOKUP('シート1-1'!A75,プルダウンデータリスト!$A$2:$A$43,プルダウンデータリスト!$C$2:$C$43),\"-\"))","v":"-"},{"$f":"IF(A75=\"\",\"-\",_xlfn.XLOOKUP(A75,プルダウンデータリスト!$A$2:$A$43,プルダウンデータリスト!$D$2:$D$43) + 1)","v":"-"},{"$f":"IF(A75=\"\",\"-\",_xlfn.XLOOKUP(A75,プルダウンデータリスト!$A$2:$A$43,プルダウンデータリスト!$E$2:$E$43))","v":"-"},{"$f":"IF(A75=\"\",\"-\",_xlfn.XLOOKUP(A75,プルダウンデータリスト!$A$2:$A$43,プルダウンデータリスト!$F$2:$F$43))","v":"-"},"-","-","-"]
[null,null,null,null,null,null,null,null,"-",{"$f":"IF(B76=プルダウンデータリスト!$H$2,_xlfn.XLOOKUP('シート1-1'!A76,プルダウンデータリスト!$A$2:$A$43,プルダウンデータリスト!$B$2:$B$43),IF(B76=プルダウンデータリスト!$H$3,_xlfn.XLOOKUP('シート1-1'!A76,プルダウンデータリスト!$A$2:$A$43,プルダウンデータリスト!$C$2:$C$43),\"-\"))","v":"-"},{"$f":"IF(A76=\"\",\"-\",_xlfn.XLOOKUP(A76,プルダウンデータリスト!$A$2:$A$43,プルダウンデータリスト!$D$2:$D$43) + 1)","v":"-"},{"$f":"IF(A76=\"\",\"-\",_xlfn.XLOOKUP(A76,プルダウンデータリスト!$A$2:$A$43,プルダウンデータリスト!$E$2:$E$43))","v":"-"},{"$f":"IF(A76=\"\",\"-\",_xlfn.XLOOKUP(A76,プルダウンデータリスト!$A$2:$A$43,プルダウンデータリスト!$F$2:$F$43))","v":"-"},"-","-","-"]
[null,null,null,null,null,null,null,null,"-",{"$f":"IF(B77=プルダウンデータリスト!$H$2,_xlfn.XLOOKUP('シート1-1'!A77,プルダウンデータリスト!$A$2:$A$43,プルダウンデータリスト!$B$2:$B$43),IF(B77=プルダウンデータリスト!$H$3,_xlfn.XLOOKUP('シート1-1'!A77,プルダウンデータリスト!$A$2:$A$43,プルダウンデータリスト!$C$2:$C$43),\"-\"))","v":"-"},{"$f":"IF(A77=\"\",\"-\",_xlfn.XLOOKUP(A77,プルダウンデータリスト!$A$2:$A$43,プルダウンデータリスト!$D$2:$D$43) + 1)","v":"-"},{"$f":"IF(A77=\"\",\"-\",_xlfn.XLOOKUP(A77,プルダウンデータリスト!$A$2:$A$43,プルダウンデータリスト!$E$2:$E$43))","v":"-"},{"$f":"IF(A77=\"\",\"-\",_xlfn.XLOOKUP(A77,プルダウンデータリスト!$A$2:$A$43,プルダウンデータリスト!$F$2:$F$43))","v":"-"},"-","-","-"]
[null,null,null,null,null,null,null,null,"-",{"$f":"IF(B78=プルダウンデータリスト!$H$2,_xlfn.XLOOKUP('シート1-1'!A78,プルダウンデータリスト!$A$2:$A$43,プルダウンデータリスト!$B$2:$B$43),IF(B78=プルダウンデータリスト!$H$3,_xlfn.XLOOKUP('シート1-1'!A78,プルダウンデータリスト!$A$2:$A$43,プルダウンデータリスト!$C$2:$C$43),\"-\"))","v":"-"},{"$f":"IF(A78=\"\",\"-\",_xlfn.XLOOKUP(A78,プルダウンデータリスト!$A$2:$A$43,プルダウンデータリスト!$D$2:$D$43) + 1)","v":"-"},{"$f":"IF(A78=\"\",\"-\",_xlfn.XLOOKUP(A78,プルダウンデータリスト!$A$2:$A$43,プルダウンデータリスト!$E$2:$E$43))","v":"-"},{"$f":"IF(A78=\"\",\"-\",_xlfn.XLOOKUP(A78,プルダウンデータリスト!$A$2:$A$43,プルダウンデータリスト!$F$2:$F$43))","v":"-"},"-","-","-"]
[null,null,null,null,null,null,null,null,"-",{"$f":"IF(B79=プルダウンデータリスト!$H$2,_xlfn.XLOOKUP('シート1-1'!A79,プルダウンデータリスト!$A$2:$A$43,プルダウンデータリスト!$B$2:$B$43),IF(B79=プルダウンデータリスト!$H$3,_xlfn.XLOOKUP('シート1-1'!A79,プルダウンデータリスト!$A$2:$A$43,プルダウンデータリスト!$C$2:$C$43),\"-\"))","v":"-"},{"$f":"IF(A79=\"\",\"-\",_xlfn.XLOOKUP(A79,プルダウンデータリスト!$A$2:$A$43,プルダウンデータリスト!$D$2:$D$43) + 1)","v":"-"},{"$f":"IF(A79=\"\",\"-\",_xlfn.XLOOKUP(A79,プルダウンデータリスト!$A$2:$A$43,プルダウンデータリスト!$E$2:$E$43))","v":"-"},{"$f":"IF(A79=\"\",\"-\",_xlfn.XLOOKUP(A79,プルダウンデータリスト!$A$2:$A$43,プルダウンデータリスト!$F$2:$F$43))","v":"-"},"-","-","-"]
[null,null,null,null,null,null,null,null,"-",{"$f":"IF(B80=プルダウンデータリスト!$H$2,_xlfn.XLOOKUP('シート1-1'!A80,プルダウンデータリスト!$A$2:$A$43,プルダウンデータリスト!$B$2:$B$43),IF(B80=プルダウンデータリスト!$H$3,_xlfn.XLOOKUP('シート1-1'!A80,プルダウンデータリスト!$A$2:$A$43,プルダウンデータリスト!$C$2:$C$43),\"-\"))","v":"-"},{"$f":"IF(A80=\"\",\"-\",_xlfn.XLOOKUP(A80,プルダウンデータリスト!$A$2:$A$43,プルダウンデータリスト!$D$2:$D$43) + 1)","v":"-"},{"$f":"IF(A80=\"\",\"-\",_xlfn.XLOOKUP(A80,プルダウンデータリスト!$A$2:$A$43,プルダウンデータリスト!$E$2:$E$43))","v":"-"},{"$f":"IF(A80=\"\",\"-\",_xlfn.XLOOKUP(A80,プルダウンデータリスト!$A$2:$A$43,プルダウンデータリスト!$F$2:$F$43))","v":"-"},"-","-","-"]
[null,null,null,null,null,null,null,null,"-",{"$f":"IF(B81=プルダウンデータリスト!$H$2,_xlfn.XLOOKUP('シート1-1'!A81,プルダウンデータリスト!$A$2:$A$43,プルダウンデータリスト!$B$2:$B$43),IF(B81=プルダウンデータリスト!$H$3,_xlfn.XLOOKUP('シート1-1'!A81,プルダウンデータリスト!$A$2:$A$43,プルダウンデータリスト!$C$2:$C$43),\"-\"))","v":"-"},{"$f":"IF(A81=\"\",\"-\",_xlfn.XLOOKUP(A81,プルダウンデータリスト!$A$2:$A$43,プルダウンデータリスト!$D$2:$D$43) + 1)","v":"-"},{"$f":"IF(A81=\"\",\"-\",_xlfn.XLOOKUP(A81,プルダウンデータリスト!$A$2:$A$43,プルダウンデータリスト!$E$2:$E$43))","v":"-"},{"$f":"IF(A81=\"\",\"-\",_xlfn.XLOOKUP(A81,プルダウンデータリスト!$A$2:$A$43,プルダウンデータリスト!$F$2:$F$43))","v":"-"},"-","-","-"]
[null,null,null,null,null,null,null,null,"-",{"$f":"IF(B82=プルダウンデータリスト!$H$2,_xlfn.XLOOKUP('シート1-1'!A82,プルダウンデータリスト!$A$2:$A$43,プルダウンデータリスト!$B$2:$B$43),IF(B82=プルダウンデータリスト!$H$3,_xlfn.XLOOKUP('シート1-1'!A82,プルダウンデータリスト!$A$2:$A$43,プルダウンデータリスト!$C$2:$C$43),\"-\"))","v":"-"},{"$f":"IF(A82=\"\",\"-\",_xlfn.XLOOKUP(A82,プルダウンデータリスト!$A$2:$A$43,プルダウンデータリスト!$D$2:$D$43) + 1)","v":"-"},{"$f":"IF(A82=\"\",\"-\",_xlfn.XLOOKUP(A82,プルダウンデータリスト!$A$2:$A$43,プルダウンデータリスト!$E$2:$E$43))","v":"-"},{"$f":"IF(A82=\"\",\"-\",_xlfn.XLOOKUP(A82,プルダウンデータリスト!$A$2:$A$43,プルダウンデータリスト!$F$2:$F$43))","v":"-"},"-","-","-"]
[null,null,null,null,null,null,null,null,"-",{"$f":"IF(B83=プルダウンデータリスト!$H$2,_xlfn.XLOOKUP('シート1-1'!A83,プルダウンデータリスト!$A$2:$A$43,プルダウンデータリスト!$B$2:$B$43),IF(B83=プルダウンデータリスト!$H$3,_xlfn.XLOOKUP('シート1-1'!A83,プルダウンデータリスト!$A$2:$A$43,プルダウンデータリスト!$C$2:$C$43),\"-\"))","v":"-"},{"$f":"IF(A83=\"\",\"-\",_xlfn.XLOOKUP(A83,プルダウンデータリスト!$A$2:$A$43,プルダウンデータリスト!$D$2:$D$43) + 1)","v":"-"},{"$f":"IF(A83=\"\",\"-\",_xlfn.XLOOKUP(A83,プルダウンデータリスト!$A$2:$A$43,プルダウンデータリスト!$E$2:$E$43))","v":"-"},{"$f":"IF(A83=\"\",\"-\",_xlfn.XLOOKUP(A83,プルダウンデータリスト!$A$2:$A$43,プルダウンデータリスト!$F$2:$F$43))","v":"-"},"-","-","-"]
[null,null,null,null,null,null,null,null,"-",{"$f":"IF(B84=プルダウンデータリスト!$H$2,_xlfn.XLOOKUP('シート1-1'!A84,プルダウンデータリスト!$A$2:$A$43,プルダウンデータリスト!$B$2:$B$43),IF(B84=プルダウンデータリスト!$H$3,_xlfn.XLOOKUP('シート1-1'!A84,プルダウンデータリスト!$A$2:$A$43,プルダウンデータリスト!$C$2:$C$43),\"-\"))","v":"-"},{"$f":"IF(A84=\"\",\"-\",_xlfn.XLOOKUP(A84,プルダウンデータリスト!$A$2:$A$43,プルダウンデータリスト!$D$2:$D$43) + 1)","v":"-"},{"$f":"IF(A84=\"\",\"-\",_xlfn.XLOOKUP(A84,プルダウンデータリスト!$A$2:$A$43,プルダウンデータリスト!$E$2:$E$43))","v":"-"},{"$f":"IF(A84=\"\",\"-\",_xlfn.XLOOKUP(A84,プルダウンデータリスト!$A$2:$A$43,プルダウンデータリスト!$F$2:$F$43))","v":"-"},"-","-","-"]
[null,null,null,null,null,null,null,null,"-",{"$f":"IF(B85=プルダウンデータリスト!$H$2,_xlfn.XLOOKUP('シート1-1'!A85,プルダウンデータリスト!$A$2:$A$43,プルダウンデータリスト!$B$2:$B$43),IF(B85=プルダウンデータリスト!$H$3,_xlfn.XLOOKUP('シート1-1'!A85,プルダウンデータリスト!$A$2:$A$43,プルダウンデータリスト!$C$2:$C$43),\"-\"))","v":"-"},{"$f":"IF(A85=\"\",\"-\",_xlfn.XLOOKUP(A85,プルダウンデータリスト!$A$2:$A$43,プルダウンデータリスト!$D$2:$D$43) + 1)","v":"-"},{"$f":"IF(A85=\"\",\"-\",_xlfn.XLOOKUP(A85,プルダウンデータリスト!$A$2:$A$43,プルダウンデータリスト!$E$2:$E$43))","v":"-"},{"$f":"IF(A85=\"\",\"-\",_xlfn.XLOOKUP(A85,プルダウンデータリスト!$A$2:$A$43,プルダウンデータリスト!$F$2:$F$43))","v":"-"},"-","-","-"]
[null,null,null,null,null,null,null,null,"-",{"$f":"IF(B86=プルダウンデータリスト!$H$2,_xlfn.XLOOKUP('シート1-1'!A86,プルダウンデータリスト!$A$2:$A$43,プルダウンデータリスト!$B$2:$B$43),IF(B86=プルダウンデータリスト!$H$3,_xlfn.XLOOKUP('シート1-1'!A86,プルダウンデータリスト!$A$2:$A$43,プルダウンデータリスト!$C$2:$C$43),\"-\"))","v":"-"},{"$f":"IF(A86=\"\",\"-\",_xlfn.XLOOKUP(A86,プルダウンデータリスト!$A$2:$A$43,プルダウンデータリスト!$D$2:$D$43) + 1)","v":"-"},{"$f":"IF(A86=\"\",\"-\",_xlfn.XLOOKUP(A86,プルダウンデータリスト!$A$2:$A$43,プルダウンデータリスト!$E$2:$E$43))","v":"-"},{"$f":"IF(A86=\"\",\"-\",_xlfn.XLOOKUP(A86,プルダウンデータリスト!$A$2:$A$43,プルダウンデータリスト!$F$2:$F$43))","v":"-"},"-","-","-"]
[null,null,null,null,null,null,null,null,"-",{"$f":"IF(B87=プルダウンデータリスト!$H$2,_xlfn.XLOOKUP('シート1-1'!A87,プルダウンデータリスト!$A$2:$A$43,プルダウンデータリスト!$B$2:$B$43),IF(B87=プルダウンデータリスト!$H$3,_xlfn.XLOOKUP('シート1-1'!A87,プルダウンデータリスト!$A$2:$A$43,プルダウンデータリスト!$C$2:$C$43),\"-\"))","v":"-"},{"$f":"IF(A87=\"\",\"-\",_xlfn.XLOOKUP(A87,プルダウンデータリスト!$A$2:$A$43,プルダウンデータリスト!$D$2:$D$43) + 1)","v":"-"},{"$f":"IF(A87=\"\",\"-\",_xlfn.XLOOKUP(A87,プルダウンデータリスト!$A$2:$A$43,プルダウンデータリスト!$E$2:$E$43))","v":"-"},{"$f":"IF(A87=\"\",\"-\",_xlfn.XLOOKUP(A87,プルダウンデータリスト!$A$2:$A$43,プルダウンデータリスト!$F$2:$F$43))","v":"-"},"-","-","-"]
[null,null,null,null,null,null,null,null,"-",{"$f":"IF(B88=プルダウンデータリスト!$H$2,_xlfn.XLOOKUP('シート1-1'!A88,プルダウンデータリスト!$A$2:$A$43,プルダウンデータリスト!$B$2:$B$43),IF(B88=プルダウンデータリスト!$H$3,_xlfn.XLOOKUP('シート1-1'!A88,プルダウンデータリスト!$A$2:$A$43,プルダウンデータリスト!$C$2:$C$43),\"-\"))","v":"-"},{"$f":"IF(A88=\"\",\"-\",_xlfn.XLOOKUP(A88,プルダウンデータリスト!$A$2:$A$43,プルダウンデータリスト!$D$2:$D$43) + 1)","v":"-"},{"$f":"IF(A88=\"\",\"-\",_xlfn.XLOOKUP(A88,プルダウンデータリスト!$A$2:$A$43,プルダウンデータリスト!$E$2:$E$43))","v":"-"},{"$f":"IF(A88=\"\",\"-\",_xlfn.XLOOKUP(A88,プルダウンデータリスト!$A$2:$A$43,プルダウンデータリスト!$F$2:$F$43))","v":"-"},"-","-","-"]
[null,null,null,null,null,null,null,null,"-",{"$f":"IF(B89=プルダウンデータリスト!$H$2,_xlfn.XLOOKUP('シート1-1'!A89,プルダウンデータリスト!$A$2:$A$43,プルダウンデータリスト!$B$2:$B$43),IF(B89=プルダウンデータリスト!$H$3,_xlfn.XLOOKUP('シート1-1'!A89,プルダウンデータリスト!$A$2:$A$43,プルダウンデータリスト!$C$2:$C$43),\"-\"))","v":"-"},{"$f":"IF(A89=\"\",\"-\",_xlfn.XLOOKUP(A89,プルダウンデータリスト!$A$2:$A$43,プルダウンデータリスト!$D$2:$D$43) + 1)","v":"-"},{"$f":"IF(A89=\"\",\"-\",_xlfn.XLOOKUP(A89,プルダウンデータリスト!$A$2:$A$43,プルダウンデータリスト!$E$2:$E$43))","v":"-"},{"$f":"IF(A89=\"\",\"-\",_xlfn.XLOOKUP(A89,プルダウンデータリスト!$A$2:$A$43,プルダウンデータリスト!$F$2:$F$43))","v":"-"},"-","-","-"]
[null,null,null,null,null,null,null,null,"-",{"$f":"IF(B90=プルダウンデータリスト!$H$2,_xlfn.XLOOKUP('シート1-1'!A90,プルダウンデータリスト!$A$2:$A$43,プルダウンデータリスト!$B$2:$B$43),IF(B90=プルダウンデータリスト!$H$3,_xlfn.XLOOKUP('シート1-1'!A90,プルダウンデータリスト!$A$2:$A$43,プルダウンデータリスト!$C$2:$C$43),\"-\"))","v":"-"},{"$f":"IF(A90=\"\",\"-\",_xlfn.XLOOKUP(A90,プルダウンデータリスト!$A$2:$A$43,プルダウンデータリスト!$D$2:$D$43) + 1)","v":"-"},{"$f":"IF(A90=\"\",\"-\",_xlfn.XLOOKUP(A90,プルダウンデータリスト!$A$2:$A$43,プルダウンデータリスト!$E$2:$E$43))","v":"-"},{"$f":"IF(A90=\"\",\"-\",_xlfn.XLOOKUP(A90,プルダウンデータリスト!$A$2:$A$43,プルダウンデータリスト!$F$2:$F$43))","v":"-"},"-","-","-"]
[null,null,null,null,null,null,null,null,"-",{"$f":"IF(B91=プルダウンデータリスト!$H$2,_xlfn.XLOOKUP('シート1-1'!A91,プルダウンデータリスト!$A$2:$A$43,プルダウンデータリスト!$B$2:$B$43),IF(B91=プルダウンデータリスト!$H$3,_xlfn.XLOOKUP('シート1-1'!A91,プルダウンデータリスト!$A$2:$A$43,プルダウンデータリスト!$C$2:$C$43),\"-\"))","v":"-"},{"$f":"IF(A91=\"\",\"-\",_xlfn.XLOOKUP(A91,プルダウンデータリスト!$A$2:$A$43,プルダウンデータリスト!$D$2:$D$43) + 1)","v":"-"},{"$f":"IF(A91=\"\",\"-\",_xlfn.XLOOKUP(A91,プルダウンデータリスト!$A$2:$A$43,プルダウンデータリスト!$E$2:$E$43))","v":"-"},{"$f":"IF(A91=\"\",\"-\",_xlfn.XLOOKUP(A91,プルダウンデータリスト!$A$2:$A$43,プルダウンデータリスト!$F$2:$F$43))","v":"-"},"-","-","-"]
[null,null,null,null,null,null,null,null,"-",{"$f":"IF(B92=プルダウンデータリスト!$H$2,_xlfn.XLOOKUP('シート1-1'!A92,プルダウンデータリスト!$A$2:$A$43,プルダウンデータリスト!$B$2:$B$43),IF(B92=プルダウンデータリスト!$H$3,_xlfn.XLOOKUP('シート1-1'!A92,プルダウンデータリスト!$A$2:$A$43,プルダウンデータリスト!$C$2:$C$43),\"-\"))","v":"-"},{"$f":"IF(A92=\"\",\"-\",_xlfn.XLOOKUP(A92,プルダウンデータリスト!$A$2:$A$43,プルダウンデータリスト!$D$2:$D$43) + 1)","v":"-"},{"$f":"IF(A92=\"\",\"-\",_xlfn.XLOOKUP(A92,プルダウンデータリスト!$A$2:$A$43,プルダウンデータリスト!$E$2:$E$43))","v":"-"},{"$f":"IF(A92=\"\",\"-\",_xlfn.XLOOKUP(A92,プルダウンデータリスト!$A$2:$A$43,プルダウンデータリスト!$F$2:$F$43))","v":"-"},"-","-","-"]
[null,null,null,null,null,null,null,null,"-",{"$f":"IF(B93=プルダウンデータリスト!$H$2,_xlfn.XLOOKUP('シート1-1'!A93,プルダウンデータリスト!$A$2:$A$43,プルダウンデータリスト!$B$2:$B$43),IF(B93=プルダウンデータリスト!$H$3,_xlfn.XLOOKUP('シート1-1'!A93,プルダウンデータリスト!$A$2:$A$43,プルダウンデータリスト!$C$2:$C$43),\"-\"))","v":"-"},{"$f":"IF(A93=\"\",\"-\",_xlfn.XLOOKUP(A93,プルダウンデータリスト!$A$2:$A$43,プルダウンデータリスト!$D$2:$D$43) + 1)","v":"-"},{"$f":"IF(A93=\"\",\"-\",_xlfn.XLOOKUP(A93,プルダウンデータリスト!$A$2:$A$43,プルダウンデータリスト!$E$2:$E$43))","v":"-"},{"$f":"IF(A93=\"\",\"-\",_xlfn.XLOOKUP(A93,プルダウンデータリスト!$A$2:$A$43,プルダウンデータリスト!$F$2:$F$43))","v":"-"},"-","-","-"]
[null,null,null,null,null,null,null,null,"-",{"$f":"IF(B94=プルダウンデータリスト!$H$2,_xlfn.XLOOKUP('シート1-1'!A94,プルダウンデータリスト!$A$2:$A$43,プルダウンデータリスト!$B$2:$B$43),IF(B94=プルダウンデータリスト!$H$3,_xlfn.XLOOKUP('シート1-1'!A94,プルダウンデータリスト!$A$2:$A$43,プルダウンデータリスト!$C$2:$C$43),\"-\"))","v":"-"},{"$f":"IF(A94=\"\",\"-\",_xlfn.XLOOKUP(A94,プルダウンデータリスト!$A$2:$A$43,プルダウンデータリスト!$D$2:$D$43) + 1)","v":"-"},{"$f":"IF(A94=\"\",\"-\",_xlfn.XLOOKUP(A94,プルダウンデータリスト!$A$2:$A$43,プルダウンデータリスト!$E$2:$E$43))","v":"-"},{"$f":"IF(A94=\"\",\"-\",_xlfn.XLOOKUP(A94,プルダウンデータリスト!$A$2:$A$43,プルダウンデータリスト!$F$2:$F$43))","v":"-"},"-","-","-"]
[null,null,null,null,null,null,null,null,"-",{"$f":"IF(B95=プルダウンデータリスト!$H$2,_xlfn.XLOOKUP('シート1-1'!A95,プルダウンデータリスト!$A$2:$A$43,プルダウンデータリスト!$B$2:$B$43),IF(B95=プルダウンデータリスト!$H$3,_xlfn.XLOOKUP('シート1-1'!A95,プルダウンデータリスト!$A$2:$A$43,プルダウンデータリスト!$C$2:$C$43),\"-\"))","v":"-"},{"$f":"IF(A95=\"\",\"-\",_xlfn.XLOOKUP(A95,プルダウンデータリスト!$A$2:$A$43,プルダウンデータリスト!$D$2:$D$43) + 1)","v":"-"},{"$f":"IF(A95=\"\",\"-\",_xlfn.XLOOKUP(A95,プルダウンデータリスト!$A$2:$A$43,プルダウンデータリスト!$E$2:$E$43))","v":"-"},{"$f":"IF(A95=\"\",\"-\",_xlfn.XLOOKUP(A95,プルダウンデータリスト!$A$2:$A$43,プルダウンデータリスト!$F$2:$F$43))","v":"-"},"-","-","-"]
[null,null,null,null,null,null,null,null,"-",{"$f":"IF(B96=プルダウンデータリスト!$H$2,_xlfn.XLOOKUP('シート1-1'!A96,プルダウンデータリスト!$A$2:$A$43,プルダウンデータリスト!$B$2:$B$43),IF(B96=プルダウンデータリスト!$H$3,_xlfn.XLOOKUP('シート1-1'!A96,プルダウンデータリスト!$A$2:$A$43,プルダウンデータリスト!$C$2:$C$43),\"-\"))","v":"-"},{"$f":"IF(A96=\"\",\"-\",_xlfn.XLOOKUP(A96,プルダウンデータリスト!$A$2:$A$43,プルダウンデータリスト!$D$2:$D$43) + 1)","v":"-"},{"$f":"IF(A96=\"\",\"-\",_xlfn.XLOOKUP(A96,プルダウンデータリスト!$A$2:$A$43,プルダウンデータリスト!$E$2:$E$43))","v":"-"},{"$f":"IF(A96=\"\",\"-\",_xlfn.XLOOKUP(A96,プルダウンデータリスト!$A$2:$A$43,プルダウンデータリスト!$F$2:$F$43))","v":"-"},"-","-","-"]
[null,null,null,null,null,null,null,null,"-",{"$f":"IF(B97=プルダウンデータリスト!$H$2,_xlfn.XLOOKUP('シート1-1'!A97,プルダウンデータリスト!$A$2:$A$43,プルダウンデータリスト!$B$2:$B$43),IF(B97=プルダウンデータリスト!$H$3,_xlfn.XLOOKUP('シート1-1'!A97,プルダウンデータリスト!$A$2:$A$43,プルダウンデータリスト!$C$2:$C$43),\"-\"))","v":"-"},{"$f":"IF(A97=\"\",\"-\",_xlfn.XLOOKUP(A97,プルダウンデータリスト!$A$2:$A$43,プルダウンデータリスト!$D$2:$D$43) + 1)","v":"-"},{"$f":"IF(A97=\"\",\"-\",_xlfn.XLOOKUP(A97,プルダウンデータリスト!$A$2:$A$43,プルダウンデータリスト!$E$2:$E$43))","v":"-"},{"$f":"IF(A97=\"\",\"-\",_xlfn.XLOOKUP(A97,プルダウンデータリスト!$A$2:$A$43,プルダウンデータリスト!$F$2:$F$43))","v":"-"},"-","-","-"]
[null,null,null,null,null,null,null,null,"-",{"$f":"IF(B98=プルダウンデータリスト!$H$2,_xlfn.XLOOKUP('シート1-1'!A98,プルダウンデータリスト!$A$2:$A$43,プルダウンデータリスト!$B$2:$B$43),IF(B98=プルダウンデータリスト!$H$3,_xlfn.XLOOKUP('シート1-1'!A98,プルダウンデータリスト!$A$2:$A$43,プルダウンデータリスト!$C$2:$C$43),\"-\"))","v":"-"},{"$f":"IF(A98=\"\",\"-\",_xlfn.XLOOKUP(A98,プルダウンデータリスト!$A$2:$A$43,プルダウンデータリスト!$D$2:$D$43) + 1)","v":"-"},{"$f":"IF(A98=\"\",\"-\",_xlfn.XLOOKUP(A98,プルダウンデータリスト!$A$2:$A$43,プルダウンデータリスト!$E$2:$E$43))","v":"-"},{"$f":"IF(A98=\"\",\"-\",_xlfn.XLOOKUP(A98,プルダウンデータリスト!$A$2:$A$43,プルダウンデータリスト!$F$2:$F$43))","v":"-"},"-","-","-"]
[null,null,null,null,null,null,null,null,"-",{"$f":"IF(B99=プルダウンデータリスト!$H$2,_xlfn.XLOOKUP('シート1-1'!A99,プルダウンデータリスト!$A$2:$A$43,プルダウンデータリスト!$B$2:$B$43),IF(B99=プルダウンデータリスト!$H$3,_xlfn.XLOOKUP('シート1-1'!A99,プルダウンデータリスト!$A$2:$A$43,プルダウンデータリスト!$C$2:$C$43),\"-\"))","v":"-"},{"$f":"IF(A99=\"\",\"-\",_xlfn.XLOOKUP(A99,プルダウンデータリスト!$A$2:$A$43,プルダウンデータリスト!$D$2:$D$43) + 1)","v":"-"},{"$f":"IF(A99=\"\",\"-\",_xlfn.XLOOKUP(A99,プルダウンデータリスト!$A$2:$A$43,プルダウンデータリスト!$E$2:$E$43))","v":"-"},{"$f":"IF(A99=\"\",\"-\",_xlfn.XLOOKUP(A99,プルダウンデータリスト!$A$2:$A$43,プルダウンデータリスト!$F$2:$F$43))","v":"-"},"-","-","-"]
[null,null,null,null,null,null,null,null,"-",{"$f":"IF(B100=プルダウンデータリスト!$H$2,_xlfn.XLOOKUP('シート1-1'!A100,プルダウンデータリスト!$A$2:$A$43,プルダウンデータリスト!$B$2:$B$43),IF(B100=プルダウンデータリスト!$H$3,_xlfn.XLOOKUP('シート1-1'!A100,プルダウンデータリスト!$A$2:$A$43,プルダウンデータリスト!$C$2:$C$43),\"-\"))","v":"-"},{"$f":"IF(A100=\"\",\"-\",_xlfn.XLOOKUP(A100,プルダウンデータリスト!$A$2:$A$43,プルダウンデータリスト!$D$2:$D$43) + 1)","v":"-"},{"$f":"IF(A100=\"\",\"-\",_xlfn.XLOOKUP(A100,プルダウンデータリスト!$A$2:$A$43,プルダウンデータリスト!$E$2:$E$43))","v":"-"},{"$f":"IF(A100=\"\",\"-\",_xlfn.XLOOKUP(A100,プルダウンデータリスト!$A$2:$A$43,プルダウンデータリスト!$F$2:$F$43))","v":"-"},"-","-","-"]
[null,null,null,null,null,null,null,null,"-",{"$f":"IF(B101=プルダウンデータリスト!$H$2,_xlfn.XLOOKUP('シート1-1'!A101,プルダウンデータリスト!$A$2:$A$43,プルダウンデータリスト!$B$2:$B$43),IF(B101=プルダウンデータリスト!$H$3,_xlfn.XLOOKUP('シート1-1'!A101,プルダウンデータリスト!$A$2:$A$43,プルダウンデータリスト!$C$2:$C$43),\"-\"))","v":"-"},{"$f":"IF(A101=\"\",\"-\",_xlfn.XLOOKUP(A101,プルダウンデータリスト!$A$2:$A$43,プルダウンデータリスト!$D$2:$D$43) + 1)","v":"-"},{"$f":"IF(A101=\"\",\"-\",_xlfn.XLOOKUP(A101,プルダウンデータリスト!$A$2:$A$43,プルダウンデータリスト!$E$2:$E$43))","v":"-"},{"$f":"IF(A101=\"\",\"-\",_xlfn.XLOOKUP(A101,プルダウンデータリスト!$A$2:$A$43,プルダウンデータリスト!$F$2:$F$43))","v":"-"},"-","-","-"]
[null,null,null,null,null,null,null,null,"-",{"$f":"IF(B102=プルダウンデータリスト!$H$2,_xlfn.XLOOKUP('シート1-1'!A102,プルダウンデータリスト!$A$2:$A$43,プルダウンデータリスト!$B$2:$B$43),IF(B102=プルダウンデータリスト!$H$3,_xlfn.XLOOKUP('シート1-1'!A102,プルダウンデータリスト!$A$2:$A$43,プルダウンデータリスト!$C$2:$C$43),\"-\"))","v":"-"},{"$f":"IF(A102=\"\",\"-\",_xlfn.XLOOKUP(A102,プルダウンデータリスト!$A$2:$A$43,プルダウンデータリスト!$D$2:$D$43) + 1)","v":"-"},{"$f":"IF(A102=\"\",\"-\",_xlfn.XLOOKUP(A102,プルダウンデータリスト!$A$2:$A$43,プルダウンデータリスト!$E$2:$E$43))","v":"-"},{"$f":"IF(A102=\"\",\"-\",_xlfn.XLOOKUP(A102,プルダウンデータリスト!$A$2:$A$43,プルダウンデータリスト!$F$2:$F$43))","v":"-"},{"$f":"IFERROR(G102*($J102*$K102*$L102*$M102),\"-\")","v":"-"},{"$f":"IFERROR(H102*($J102*$K102*$L102*$M102),\"-\")","v":"-"},"-"]
[null,null,null,null,null,null,null,null,"-",{"$f":"IF(B103=プルダウンデータリスト!$H$2,_xlfn.XLOOKUP('シート1-1'!A103,プルダウンデータリスト!$A$2:$A$43,プルダウンデータリスト!$B$2:$B$43),IF(B103=プルダウンデータリスト!$H$3,_xlfn.XLOOKUP('シート1-1'!A103,プルダウンデータリスト!$A$2:$A$43,プルダウンデータリスト!$C$2:$C$43),\"-\"))","v":"-"},{"$f":"IF(A103=\"\",\"-\",_xlfn.XLOOKUP(A103,プルダウンデータリスト!$A$2:$A$43,プルダウンデータリスト!$D$2:$D$43) + 1)","v":"-"},{"$f":"IF(A103=\"\",\"-\",_xlfn.XLOOKUP(A103,プルダウンデータリスト!$A$2:$A$43,プルダウンデータリスト!$E$2:$E$43))","v":"-"},{"$f":"IF(A103=\"\",\"-\",_xlfn.XLOOKUP(A103,プルダウンデータリスト!$A$2:$A$43,プルダウンデータリスト!$F$2:$F$43))","v":"-"},"-","-","-"]
[null,null,null,null,null,null,null,null,"-",{"$f":"IF(B104=プルダウンデータリスト!$H$2,_xlfn.XLOOKUP('シート1-1'!A104,プルダウンデータリスト!$A$2:$A$43,プルダウンデータリスト!$B$2:$B$43),IF(B104=プルダウンデータリスト!$H$3,_xlfn.XLOOKUP('シート1-1'!A104,プルダウンデータリスト!$A$2:$A$43,プルダウンデータリスト!$C$2:$C$43),\"-\"))","v":"-"},{"$f":"IF(A104=\"\",\"-\",_xlfn.XLOOKUP(A104,プルダウンデータリスト!$A$2:$A$43,プルダウンデータリスト!$D$2:$D$43) + 1)","v":"-"},{"$f":"IF(A104=\"\",\"-\",_xlfn.XLOOKUP(A104,プルダウンデータリスト!$A$2:$A$43,プルダウンデータリスト!$E$2:$E$43))","v":"-"},{"$f":"IF(A104=\"\",\"-\",_xlfn.XLOOKUP(A104,プルダウンデータリスト!$A$2:$A$43,プルダウンデータリスト!$F$2:$F$43))","v":"-"},"-","-","-"]
[null,null,null,null,null,null,null,null,"-",{"$f":"IF(B105=プルダウンデータリスト!$H$2,_xlfn.XLOOKUP('シート1-1'!A105,プルダウンデータリスト!$A$2:$A$43,プルダウンデータリスト!$B$2:$B$43),IF(B105=プルダウンデータリスト!$H$3,_xlfn.XLOOKUP('シート1-1'!A105,プルダウンデータリスト!$A$2:$A$43,プルダウンデータリスト!$C$2:$C$43),\"-\"))","v":"-"},{"$f":"IF(A105=\"\",\"-\",_xlfn.XLOOKUP(A105,プルダウンデータリスト!$A$2:$A$43,プルダウンデータリスト!$D$2:$D$43) + 1)","v":"-"},{"$f":"IF(A105=\"\",\"-\",_xlfn.XLOOKUP(A105,プルダウンデータリスト!$A$2:$A$43,プルダウンデータリスト!$E$2:$E$43))","v":"-"},{"$f":"IF(A105=\"\",\"-\",_xlfn.XLOOKUP(A105,プルダウンデータリスト!$A$2:$A$43,プルダウンデータリスト!$F$2:$F$43))","v":"-"},"-","-","-"]
[null,null,null,null,null,null,null,null,"-",{"$f":"IF(B106=プルダウンデータリスト!$H$2,_xlfn.XLOOKUP('シート1-1'!A106,プルダウンデータリスト!$A$2:$A$43,プルダウンデータリスト!$B$2:$B$43),IF(B106=プルダウンデータリスト!$H$3,_xlfn.XLOOKUP('シート1-1'!A106,プルダウンデータリスト!$A$2:$A$43,プルダウンデータリスト!$C$2:$C$43),\"-\"))","v":"-"},{"$f":"IF(A106=\"\",\"-\",_xlfn.XLOOKUP(A106,プルダウンデータリスト!$A$2:$A$43,プルダウンデータリスト!$D$2:$D$43) + 1)","v":"-"},{"$f":"IF(A106=\"\",\"-\",_xlfn.XLOOKUP(A106,プルダウンデータリスト!$A$2:$A$43,プルダウンデータリスト!$E$2:$E$43))","v":"-"},{"$f":"IF(A106=\"\",\"-\",_xlfn.XLOOKUP(A106,プルダウンデータリスト!$A$2:$A$43,プルダウンデータリスト!$F$2:$F$43))","v":"-"},"-","-","-"]
[null,null,null,null,null,null,null,null,"-",{"$f":"IF(B107=プルダウンデータリスト!$H$2,_xlfn.XLOOKUP('シート1-1'!A107,プルダウンデータリスト!$A$2:$A$43,プルダウンデータリスト!$B$2:$B$43),IF(B107=プルダウンデータリスト!$H$3,_xlfn.XLOOKUP('シート1-1'!A107,プルダウンデータリスト!$A$2:$A$43,プルダウンデータリスト!$C$2:$C$43),\"-\"))","v":"-"},{"$f":"IF(A107=\"\",\"-\",_xlfn.XLOOKUP(A107,プルダウンデータリスト!$A$2:$A$43,プルダウンデータリスト!$D$2:$D$43) + 1)","v":"-"},{"$f":"IF(A107=\"\",\"-\",_xlfn.XLOOKUP(A107,プルダウンデータリスト!$A$2:$A$43,プルダウンデータリスト!$E$2:$E$43))","v":"-"},{"$f":"IF(A107=\"\",\"-\",_xlfn.XLOOKUP(A107,プルダウンデータリスト!$A$2:$A$43,プルダウンデータリスト!$F$2:$F$43))","v":"-"},"-","-","-"]
[null,null,null,null,null,null,null,null,"-",{"$f":"IF(B108=プルダウンデータリスト!$H$2,_xlfn.XLOOKUP('シート1-1'!A108,プルダウンデータリスト!$A$2:$A$43,プルダウンデータリスト!$B$2:$B$43),IF(B108=プルダウンデータリスト!$H$3,_xlfn.XLOOKUP('シート1-1'!A108,プルダウンデータリスト!$A$2:$A$43,プルダウンデータリスト!$C$2:$C$43),\"-\"))","v":"-"},{"$f":"IF(A108=\"\",\"-\",_xlfn.XLOOKUP(A108,プルダウンデータリスト!$A$2:$A$43,プルダウンデータリスト!$D$2:$D$43) + 1)","v":"-"},{"$f":"IF(A108=\"\",\"-\",_xlfn.XLOOKUP(A108,プルダウンデータリスト!$A$2:$A$43,プルダウンデータリスト!$E$2:$E$43))","v":"-"},{"$f":"IF(A108=\"\",\"-\",_xlfn.XLOOKUP(A108,プルダウンデータリスト!$A$2:$A$43,プルダウンデータリスト!$F$2:$F$43))","v":"-"},"-","-","-"]
[null,null,null,null,null,null,null,null,"-",{"$f":"IF(B109=プルダウンデータリスト!$H$2,_xlfn.XLOOKUP('シート1-1'!A109,プルダウンデータリスト!$A$2:$A$43,プルダウンデータリスト!$B$2:$B$43),IF(B109=プルダウンデータリスト!$H$3,_xlfn.XLOOKUP('シート1-1'!A109,プルダウンデータリスト!$A$2:$A$43,プルダウンデータリスト!$C$2:$C$43),\"-\"))","v":"-"},{"$f":"IF(A109=\"\",\"-\",_xlfn.XLOOKUP(A109,プルダウンデータリスト!$A$2:$A$43,プルダウンデータリスト!$D$2:$D$43) + 1)","v":"-"},{"$f":"IF(A109=\"\",\"-\",_xlfn.XLOOKUP(A109,プルダウンデータリスト!$A$2:$A$43,プルダウンデータリスト!$E$2:$E$43))","v":"-"},{"$f":"IF(A109=\"\",\"-\",_xlfn.XLOOKUP(A109,プルダウンデータリスト!$A$2:$A$43,プルダウンデータリスト!$F$2:$F$43))","v":"-"},"-","-","-"]
[null,null,null,null,null,null,null,null,"-",{"$f":"IF(B110=プルダウンデータリスト!$H$2,_xlfn.XLOOKUP('シート1-1'!A110,プルダウンデータリスト!$A$2:$A$43,プルダウンデータリスト!$B$2:$B$43),IF(B110=プルダウンデータリスト!$H$3,_xlfn.XLOOKUP('シート1-1'!A110,プルダウンデータリスト!$A$2:$A$43,プルダウンデータリスト!$C$2:$C$43),\"-\"))","v":"-"},{"$f":"IF(A110=\"\",\"-\",_xlfn.XLOOKUP(A110,プルダウンデータリスト!$A$2:$A$43,プルダウンデータリスト!$D$2:$D$43) + 1)","v":"-"},{"$f":"IF(A110=\"\",\"-\",_xlfn.XLOOKUP(A110,プルダウンデータリスト!$A$2:$A$43,プルダウンデータリスト!$E$2:$E$43))","v":"-"},{"$f":"IF(A110=\"\",\"-\",_xlfn.XLOOKUP(A110,プルダウンデータリスト!$A$2:$A$43,プルダウンデータリスト!$F$2:$F$43))","v":"-"},"-","-","-"]
[null,null,null,null,null,null,null,null,"-",{"$f":"IF(B111=プルダウンデータリスト!$H$2,_xlfn.XLOOKUP('シート1-1'!A111,プルダウンデータリスト!$A$2:$A$43,プルダウンデータリスト!$B$2:$B$43),IF(B111=プルダウンデータリスト!$H$3,_xlfn.XLOOKUP('シート1-1'!A111,プルダウンデータリスト!$A$2:$A$43,プルダウンデータリスト!$C$2:$C$43),\"-\"))","v":"-"},{"$f":"IF(A111=\"\",\"-\",_xlfn.XLOOKUP(A111,プルダウンデータリスト!$A$2:$A$43,プルダウンデータリスト!$D$2:$D$43) + 1)","v":"-"},{"$f":"IF(A111=\"\",\"-\",_xlfn.XLOOKUP(A111,プルダウンデータリスト!$A$2:$A$43,プルダウンデータリスト!$E$2:$E$43))","v":"-"},{"$f":"IF(A111=\"\",\"-\",_xlfn.XLOOKUP(A111,プルダウンデータリスト!$A$2:$A$43,プルダウンデータリスト!$F$2:$F$43))","v":"-"},"-","-","-"]
[null,null,null,null,null,null,null,null,"-",{"$f":"IF(B112=プルダウンデータリスト!$H$2,_xlfn.XLOOKUP('シート1-1'!A112,プルダウンデータリスト!$A$2:$A$43,プルダウンデータリスト!$B$2:$B$43),IF(B112=プルダウンデータリスト!$H$3,_xlfn.XLOOKUP('シート1-1'!A112,プルダウンデータリスト!$A$2:$A$43,プルダウンデータリスト!$C$2:$C$43),\"-\"))","v":"-"},{"$f":"IF(A112=\"\",\"-\",_xlfn.XLOOKUP(A112,プルダウンデータリスト!$A$2:$A$43,プルダウンデータリスト!$D$2:$D$43) + 1)","v":"-"},{"$f":"IF(A112=\"\",\"-\",_xlfn.XLOOKUP(A112,プルダウンデータリスト!$A$2:$A$43,プルダウンデータリスト!$E$2:$E$43))","v":"-"},{"$f":"IF(A112=\"\",\"-\",_xlfn.XLOOKUP(A112,プルダウンデータリスト!$A$2:$A$43,プルダウンデータリスト!$F$2:$F$43))","v":"-"},"-","-","-"]
[null,null,null,null,null,null,null,null,"-",{"$f":"IF(B113=プルダウンデータリスト!$H$2,_xlfn.XLOOKUP('シート1-1'!A113,プルダウンデータリスト!$A$2:$A$43,プルダウンデータリスト!$B$2:$B$43),IF(B113=プルダウンデータリスト!$H$3,_xlfn.XLOOKUP('シート1-1'!A113,プルダウンデータリスト!$A$2:$A$43,プルダウンデータリスト!$C$2:$C$43),\"-\"))","v":"-"},{"$f":"IF(A113=\"\",\"-\",_xlfn.XLOOKUP(A113,プルダウンデータリスト!$A$2:$A$43,プルダウンデータリスト!$D$2:$D$43) + 1)","v":"-"},{"$f":"IF(A113=\"\",\"-\",_xlfn.XLOOKUP(A113,プルダウンデータリスト!$A$2:$A$43,プルダウンデータリスト!$E$2:$E$43))","v":"-"},{"$f":"IF(A113=\"\",\"-\",_xlfn.XLOOKUP(A113,プルダウンデータリスト!$A$2:$A$43,プルダウンデータリスト!$F$2:$F$43))","v":"-"},"-","-","-"]
[null,null,null,null,null,null,null,null,"-",{"$f":"IF(B114=プルダウンデータリスト!$H$2,_xlfn.XLOOKUP('シート1-1'!A114,プルダウンデータリスト!$A$2:$A$43,プルダウンデータリスト!$B$2:$B$43),IF(B114=プルダウンデータリスト!$H$3,_xlfn.XLOOKUP('シート1-1'!A114,プルダウンデータリスト!$A$2:$A$43,プルダウンデータリスト!$C$2:$C$43),\"-\"))","v":"-"},{"$f":"IF(A114=\"\",\"-\",_xlfn.XLOOKUP(A114,プルダウンデータリスト!$A$2:$A$43,プルダウンデータリスト!$D$2:$D$43) + 1)","v":"-"},{"$f":"IF(A114=\"\",\"-\",_xlfn.XLOOKUP(A114,プルダウンデータリスト!$A$2:$A$43,プルダウンデータリスト!$E$2:$E$43))","v":"-"},{"$f":"IF(A114=\"\",\"-\",_xlfn.XLOOKUP(A114,プルダウンデータリスト!$A$2:$A$43,プルダウンデータリスト!$F$2:$F$43))","v":"-"},"-","-","-"]
[null,null,null,null,null,null,null,null,"-",{"$f":"IF(B115=プルダウンデータリスト!$H$2,_xlfn.XLOOKUP('シート1-1'!A115,プルダウンデータリスト!$A$2:$A$43,プルダウンデータリスト!$B$2:$B$43),IF(B115=プルダウンデータリスト!$H$3,_xlfn.XLOOKUP('シート1-1'!A115,プルダウンデータリスト!$A$2:$A$43,プルダウンデータリスト!$C$2:$C$43),\"-\"))","v":"-"},{"$f":"IF(A115=\"\",\"-\",_xlfn.XLOOKUP(A115,プルダウンデータリスト!$A$2:$A$43,プルダウンデータリスト!$D$2:$D$43) + 1)","v":"-"},{"$f":"IF(A115=\"\",\"-\",_xlfn.XLOOKUP(A115,プルダウンデータリスト!$A$2:$A$43,プルダウンデータリスト!$E$2:$E$43))","v":"-"},{"$f":"IF(A115=\"\",\"-\",_xlfn.XLOOKUP(A115,プルダウンデータリスト!$A$2:$A$43,プルダウンデータリスト!$F$2:$F$43))","v":"-"},"-","-","-"]
[null,null,null,null,null,null,null,null,"-",{"$f":"IF(B116=プルダウンデータリスト!$H$2,_xlfn.XLOOKUP('シート1-1'!A116,プルダウンデータリスト!$A$2:$A$43,プルダウンデータリスト!$B$2:$B$43),IF(B116=プルダウンデータリスト!$H$3,_xlfn.XLOOKUP('シート1-1'!A116,プルダウンデータリスト!$A$2:$A$43,プルダウンデータリスト!$C$2:$C$43),\"-\"))","v":"-"},{"$f":"IF(A116=\"\",\"-\",_xlfn.XLOOKUP(A116,プルダウンデータリスト!$A$2:$A$43,プルダウンデータリスト!$D$2:$D$43) + 1)","v":"-"},{"$f":"IF(A116=\"\",\"-\",_xlfn.XLOOKUP(A116,プルダウンデータリスト!$A$2:$A$43,プルダウンデータリスト!$E$2:$E$43))","v":"-"},{"$f":"IF(A116=\"\",\"-\",_xlfn.XLOOKUP(A116,プルダウンデータリスト!$A$2:$A$43,プルダウンデータリスト!$F$2:$F$43))","v":"-"},"-","-","-"]
[null,null,null,null,null,null,null,null,"-",{"$f":"IF(B117=プルダウンデータリスト!$H$2,_xlfn.XLOOKUP('シート1-1'!A117,プルダウンデータリスト!$A$2:$A$43,プルダウンデータリスト!$B$2:$B$43),IF(B117=プルダウンデータリスト!$H$3,_xlfn.XLOOKUP('シート1-1'!A117,プルダウンデータリスト!$A$2:$A$43,プルダウンデータリスト!$C$2:$C$43),\"-\"))","v":"-"},{"$f":"IF(A117=\"\",\"-\",_xlfn.XLOOKUP(A117,プルダウンデータリスト!$A$2:$A$43,プルダウンデータリスト!$D$2:$D$43) + 1)","v":"-"},{"$f":"IF(A117=\"\",\"-\",_xlfn.XLOOKUP(A117,プルダウンデータリスト!$A$2:$A$43,プルダウンデータリスト!$E$2:$E$43))","v":"-"},{"$f":"IF(A117=\"\",\"-\",_xlfn.XLOOKUP(A117,プルダウンデータリスト!$A$2:$A$43,プルダウンデータリスト!$F$2:$F$43))","v":"-"},"-","-","-"]
[null,null,null,null,null,null,null,null,"-",{"$f":"IF(B118=プルダウンデータリスト!$H$2,_xlfn.XLOOKUP('シート1-1'!A118,プルダウンデータリスト!$A$2:$A$43,プルダウンデータリスト!$B$2:$B$43),IF(B118=プルダウンデータリスト!$H$3,_xlfn.XLOOKUP('シート1-1'!A118,プルダウンデータリスト!$A$2:$A$43,プルダウンデータリスト!$C$2:$C$43),\"-\"))","v":"-"},{"$f":"IF(A118=\"\",\"-\",_xlfn.XLOOKUP(A118,プルダウンデータリスト!$A$2:$A$43,プルダウンデータリスト!$D$2:$D$43) + 1)","v":"-"},{"$f":"IF(A118=\"\",\"-\",_xlfn.XLOOKUP(A118,プルダウンデータリスト!$A$2:$A$43,プルダウンデータリスト!$E$2:$E$43))","v":"-"},{"$f":"IF(A118=\"\",\"-\",_xlfn.XLOOKUP(A118,プルダウンデータリスト!$A$2:$A$43,プルダウンデータリスト!$F$2:$F$43))","v":"-"},"-","-","-"]
[null,null,null,null,null,null,null,null,"-",{"$f":"IF(B119=プルダウンデータリスト!$H$2,_xlfn.XLOOKUP('シート1-1'!A119,プルダウンデータリスト!$A$2:$A$43,プルダウンデータリスト!$B$2:$B$43),IF(B119=プルダウンデータリスト!$H$3,_xlfn.XLOOKUP('シート1-1'!A119,プルダウンデータリスト!$A$2:$A$43,プルダウンデータリスト!$C$2:$C$43),\"-\"))","v":"-"},{"$f":"IF(A119=\"\",\"-\",_xlfn.XLOOKUP(A119,プルダウンデータリスト!$A$2:$A$43,プルダウンデータリスト!$D$2:$D$43) + 1)","v":"-"},{"$f":"IF(A119=\"\",\"-\",_xlfn.XLOOKUP(A119,プルダウンデータリスト!$A$2:$A$43,プルダウンデータリスト!$E$2:$E$43))","v":"-"},{"$f":"IF(A119=\"\",\"-\",_xlfn.XLOOKUP(A119,プルダウンデータリスト!$A$2:$A$43,プルダウンデータリスト!$F$2:$F$43))","v":"-"},"-","-","-"]
[null,null,null,null,null,null,null,null,"-",{"$f":"IF(B120=プルダウンデータリスト!$H$2,_xlfn.XLOOKUP('シート1-1'!A120,プルダウンデータリスト!$A$2:$A$43,プルダウンデータリスト!$B$2:$B$43),IF(B120=プルダウンデータリスト!$H$3,_xlfn.XLOOKUP('シート1-1'!A120,プルダウンデータリスト!$A$2:$A$43,プルダウンデータリスト!$C$2:$C$43),\"-\"))","v":"-"},{"$f":"IF(A120=\"\",\"-\",_xlfn.XLOOKUP(A120,プルダウンデータリスト!$A$2:$A$43,プルダウンデータリスト!$D$2:$D$43) + 1)","v":"-"},{"$f":"IF(A120=\"\",\"-\",_xlfn.XLOOKUP(A120,プルダウンデータリスト!$A$2:$A$43,プルダウンデータリスト!$E$2:$E$43))","v":"-"},{"$f":"IF(A120=\"\",\"-\",_xlfn.XLOOKUP(A120,プルダウンデータリスト!$A$2:$A$43,プルダウンデータリスト!$F$2:$F$43))","v":"-"},"-","-","-"]
[null,null,null,null,null,null,null,null,"-",{"$f":"IF(B121=プルダウンデータリスト!$H$2,_xlfn.XLOOKUP('シート1-1'!A121,プルダウンデータリスト!$A$2:$A$43,プルダウンデータリスト!$B$2:$B$43),IF(B121=プルダウンデータリスト!$H$3,_xlfn.XLOOKUP('シート1-1'!A121,プルダウンデータリスト!$A$2:$A$43,プルダウンデータリスト!$C$2:$C$43),\"-\"))","v":"-"},{"$f":"IF(A121=\"\",\"-\",_xlfn.XLOOKUP(A121,プルダウンデータリスト!$A$2:$A$43,プルダウンデータリスト!$D$2:$D$43) + 1)","v":"-"},{"$f":"IF(A121=\"\",\"-\",_xlfn.XLOOKUP(A121,プルダウンデータリスト!$A$2:$A$43,プルダウンデータリスト!$E$2:$E$43))","v":"-"},{"$f":"IF(A121=\"\",\"-\",_xlfn.XLOOKUP(A121,プルダウンデータリスト!$A$2:$A$43,プルダウンデータリスト!$F$2:$F$43))","v":"-"},"-","-","-"]
[null,null,null,null,null,null,null,null,"-",{"$f":"IF(B122=プルダウンデータリスト!$H$2,_xlfn.XLOOKUP('シート1-1'!A122,プルダウンデータリスト!$A$2:$A$43,プルダウンデータリスト!$B$2:$B$43),IF(B122=プルダウンデータリスト!$H$3,_xlfn.XLOOKUP('シート1-1'!A122,プルダウンデータリスト!$A$2:$A$43,プルダウンデータリスト!$C$2:$C$43),\"-\"))","v":"-"},{"$f":"IF(A122=\"\",\"-\",_xlfn.XLOOKUP(A122,プルダウンデータリスト!$A$2:$A$43,プルダウンデータリスト!$D$2:$D$43) + 1)","v":"-"},{"$f":"IF(A122=\"\",\"-\",_xlfn.XLOOKUP(A122,プルダウンデータリスト!$A$2:$A$43,プルダウンデータリスト!$E$2:$E$43))","v":"-"},{"$f":"IF(A122=\"\",\"-\",_xlfn.XLOOKUP(A122,プルダウンデータリスト!$A$2:$A$43,プルダウンデータリスト!$F$2:$F$43))","v":"-"},"-","-","-"]
[null,null,null,null,null,null,null,null,"-",{"$f":"IF(B123=プルダウンデータリスト!$H$2,_xlfn.XLOOKUP('シート1-1'!A123,プルダウンデータリスト!$A$2:$A$43,プルダウンデータリスト!$B$2:$B$43),IF(B123=プルダウンデータリスト!$H$3,_xlfn.XLOOKUP('シート1-1'!A123,プルダウンデータリスト!$A$2:$A$43,プルダウンデータリスト!$C$2:$C$43),\"-\"))","v":"-"},{"$f":"IF(A123=\"\",\"-\",_xlfn.XLOOKUP(A123,プルダウンデータリスト!$A$2:$A$43,プルダウンデータリスト!$D$2:$D$43) + 1)","v":"-"},{"$f":"IF(A123=\"\",\"-\",_xlfn.XLOOKUP(A123,プルダウンデータリスト!$A$2:$A$43,プルダウンデータリスト!$E$2:$E$43))","v":"-"},{"$f":"IF(A123=\"\",\"-\",_xlfn.XLOOKUP(A123,プルダウンデータリスト!$A$2:$A$43,プルダウンデータリスト!$F$2:$F$43))","v":"-"},"-","-","-"]
[null,null,null,null,null,null,null,null,"-",{"$f":"IF(B124=プルダウンデータリスト!$H$2,_xlfn.XLOOKUP('シート1-1'!A124,プルダウンデータリスト!$A$2:$A$43,プルダウンデータリスト!$B$2:$B$43),IF(B124=プルダウンデータリスト!$H$3,_xlfn.XLOOKUP('シート1-1'!A124,プルダウンデータリスト!$A$2:$A$43,プルダウンデータリスト!$C$2:$C$43),\"-\"))","v":"-"},{"$f":"IF(A124=\"\",\"-\",_xlfn.XLOOKUP(A124,プルダウンデータリスト!$A$2:$A$43,プルダウンデータリスト!$D$2:$D$43) + 1)","v":"-"},{"$f":"IF(A124=\"\",\"-\",_xlfn.XLOOKUP(A124,プルダウンデータリスト!$A$2:$A$43,プルダウンデータリスト!$E$2:$E$43))","v":"-"},{"$f":"IF(A124=\"\",\"-\",_xlfn.XLOOKUP(A124,プルダウンデータリスト!$A$2:$A$43,プルダウンデータリスト!$F$2:$F$43))","v":"-"},"-","-","-"]
[null,null,null,null,null,null,null,null,"-",{"$f":"IF(B125=プルダウンデータリスト!$H$2,_xlfn.XLOOKUP('シート1-1'!A125,プルダウンデータリスト!$A$2:$A$43,プルダウンデータリスト!$B$2:$B$43),IF(B125=プルダウンデータリスト!$H$3,_xlfn.XLOOKUP('シート1-1'!A125,プルダウンデータリスト!$A$2:$A$43,プルダウンデータリスト!$C$2:$C$43),\"-\"))","v":"-"},{"$f":"IF(A125=\"\",\"-\",_xlfn.XLOOKUP(A125,プルダウンデータリスト!$A$2:$A$43,プルダウンデータリスト!$D$2:$D$43) + 1)","v":"-"},{"$f":"IF(A125=\"\",\"-\",_xlfn.XLOOKUP(A125,プルダウンデータリスト!$A$2:$A$43,プルダウンデータリスト!$E$2:$E$43))","v":"-"},{"$f":"IF(A125=\"\",\"-\",_xlfn.XLOOKUP(A125,プルダウンデータリスト!$A$2:$A$43,プルダウンデータリスト!$F$2:$F$43))","v":"-"},"-","-","-"]
[null,null,null,null,null,null,null,null,"-",{"$f":"IF(B126=プルダウンデータリスト!$H$2,_xlfn.XLOOKUP('シート1-1'!A126,プルダウンデータリスト!$A$2:$A$43,プルダウンデータリスト!$B$2:$B$43),IF(B126=プルダウンデータリスト!$H$3,_xlfn.XLOOKUP('シート1-1'!A126,プルダウンデータリスト!$A$2:$A$43,プルダウンデータリスト!$C$2:$C$43),\"-\"))","v":"-"},{"$f":"IF(A126=\"\",\"-\",_xlfn.XLOOKUP(A126,プルダウンデータリスト!$A$2:$A$43,プルダウンデータリスト!$D$2:$D$43) + 1)","v":"-"},{"$f":"IF(A126=\"\",\"-\",_xlfn.XLOOKUP(A126,プルダウンデータリスト!$A$2:$A$43,プルダウンデータリスト!$E$2:$E$43))","v":"-"},{"$f":"IF(A126=\"\",\"-\",_xlfn.XLOOKUP(A126,プルダウンデータリスト!$A$2:$A$43,プルダウンデータリスト!$F$2:$F$43))","v":"-"},"-","-","-"]
[null,null,null,null,null,null,null,null,"-",{"$f":"IF(B127=プルダウンデータリスト!$H$2,_xlfn.XLOOKUP('シート1-1'!A127,プルダウンデータリスト!$A$2:$A$43,プルダウンデータリスト!$B$2:$B$43),IF(B127=プルダウンデータリスト!$H$3,_xlfn.XLOOKUP('シート1-1'!A127,プルダウンデータリスト!$A$2:$A$43,プルダウンデータリスト!$C$2:$C$43),\"-\"))","v":"-"},{"$f":"IF(A127=\"\",\"-\",_xlfn.XLOOKUP(A127,プルダウンデータリスト!$A$2:$A$43,プルダウンデータリスト!$D$2:$D$43) + 1)","v":"-"},{"$f":"IF(A127=\"\",\"-\",_xlfn.XLOOKUP(A127,プルダウンデータリスト!$A$2:$A$43,プルダウンデータリスト!$E$2:$E$43))","v":"-"},{"$f":"IF(A127=\"\",\"-\",_xlfn.XLOOKUP(A127,プルダウンデータリスト!$A$2:$A$43,プルダウンデータリスト!$F$2:$F$43))","v":"-"},"-","-","-"]
[null,null,null,null,null,null,null,null,"-",{"$f":"IF(B128=プルダウンデータリスト!$H$2,_xlfn.XLOOKUP('シート1-1'!A128,プルダウンデータリスト!$A$2:$A$43,プルダウンデータリスト!$B$2:$B$43),IF(B128=プルダウンデータリスト!$H$3,_xlfn.XLOOKUP('シート1-1'!A128,プルダウンデータリスト!$A$2:$A$43,プルダウンデータリスト!$C$2:$C$43),\"-\"))","v":"-"},{"$f":"IF(A128=\"\",\"-\",_xlfn.XLOOKUP(A128,プルダウンデータリスト!$A$2:$A$43,プルダウンデータリスト!$D$2:$D$43) + 1)","v":"-"},{"$f":"IF(A128=\"\",\"-\",_xlfn.XLOOKUP(A128,プルダウンデータリスト!$A$2:$A$43,プルダウンデータリスト!$E$2:$E$43))","v":"-"},{"$f":"IF(A128=\"\",\"-\",_xlfn.XLOOKUP(A128,プルダウンデータリスト!$A$2:$A$43,プルダウンデータリスト!$F$2:$F$43))","v":"-"},"-","-","-"]
[null,null,null,null,null,null,null,null,"-",{"$f":"IF(B129=プルダウンデータリスト!$H$2,_xlfn.XLOOKUP('シート1-1'!A129,プルダウンデータリスト!$A$2:$A$43,プルダウンデータリスト!$B$2:$B$43),IF(B129=プルダウンデータリスト!$H$3,_xlfn.XLOOKUP('シート1-1'!A129,プルダウンデータリスト!$A$2:$A$43,プルダウンデータリスト!$C$2:$C$43),\"-\"))","v":"-"},{"$f":"IF(A129=\"\",\"-\",_xlfn.XLOOKUP(A129,プルダウンデータリスト!$A$2:$A$43,プルダウンデータリスト!$D$2:$D$43) + 1)","v":"-"},{"$f":"IF(A129=\"\",\"-\",_xlfn.XLOOKUP(A129,プルダウンデータリスト!$A$2:$A$43,プルダウンデータリスト!$E$2:$E$43))","v":"-"},{"$f":"IF(A129=\"\",\"-\",_xlfn.XLOOKUP(A129,プルダウンデータリスト!$A$2:$A$43,プルダウンデータリスト!$F$2:$F$43))","v":"-"},"-","-","-"]
[null,null,null,null,null,null,null,null,"-",{"$f":"IF(B130=プルダウンデータリスト!$H$2,_xlfn.XLOOKUP('シート1-1'!A130,プルダウンデータリスト!$A$2:$A$43,プルダウンデータリスト!$B$2:$B$43),IF(B130=プルダウンデータリスト!$H$3,_xlfn.XLOOKUP('シート1-1'!A130,プルダウンデータリスト!$A$2:$A$43,プルダウンデータリスト!$C$2:$C$43),\"-\"))","v":"-"},{"$f":"IF(A130=\"\",\"-\",_xlfn.XLOOKUP(A130,プルダウンデータリスト!$A$2:$A$43,プルダウンデータリスト!$D$2:$D$43) + 1)","v":"-"},{"$f":"IF(A130=\"\",\"-\",_xlfn.XLOOKUP(A130,プルダウンデータリスト!$A$2:$A$43,プルダウンデータリスト!$E$2:$E$43))","v":"-"},{"$f":"IF(A130=\"\",\"-\",_xlfn.XLOOKUP(A130,プルダウンデータリスト!$A$2:$A$43,プルダウンデータリスト!$F$2:$F$43))","v":"-"},"-","-","-"]
[null,null,null,null,null,null,null,null,"-",{"$f":"IF(B131=プルダウンデータリスト!$H$2,_xlfn.XLOOKUP('シート1-1'!A131,プルダウンデータリスト!$A$2:$A$43,プルダウンデータリスト!$B$2:$B$43),IF(B131=プルダウンデータリスト!$H$3,_xlfn.XLOOKUP('シート1-1'!A131,プルダウンデータリスト!$A$2:$A$43,プルダウンデータリスト!$C$2:$C$43),\"-\"))","v":"-"},{"$f":"IF(A131=\"\",\"-\",_xlfn.XLOOKUP(A131,プルダウンデータリスト!$A$2:$A$43,プルダウンデータリスト!$D$2:$D$43) + 1)","v":"-"},{"$f":"IF(A131=\"\",\"-\",_xlfn.XLOOKUP(A131,プルダウンデータリスト!$A$2:$A$43,プルダウンデータリスト!$E$2:$E$43))","v":"-"},{"$f":"IF(A131=\"\",\"-\",_xlfn.XLOOKUP(A131,プルダウンデータリスト!$A$2:$A$43,プルダウンデータリスト!$F$2:$F$43))","v":"-"},"-","-","-"]
[null,null,null,null,null,null,null,null,"-",{"$f":"IF(B132=プルダウンデータリスト!$H$2,_xlfn.XLOOKUP('シート1-1'!A132,プルダウンデータリスト!$A$2:$A$43,プルダウンデータリスト!$B$2:$B$43),IF(B132=プルダウンデータリスト!$H$3,_xlfn.XLOOKUP('シート1-1'!A132,プルダウンデータリスト!$A$2:$A$43,プルダウンデータリスト!$C$2:$C$43),\"-\"))","v":"-"},{"$f":"IF(A132=\"\",\"-\",_xlfn.XLOOKUP(A132,プルダウンデータリスト!$A$2:$A$43,プルダウンデータリスト!$D$2:$D$43) + 1)","v":"-"},{"$f":"IF(A132=\"\",\"-\",_xlfn.XLOOKUP(A132,プルダウンデータリスト!$A$2:$A$43,プルダウンデータリスト!$E$2:$E$43))","v":"-"},{"$f":"IF(A132=\"\",\"-\",_xlfn.XLOOKUP(A132,プルダウンデータリスト!$A$2:$A$43,プルダウンデータリスト!$F$2:$F$43))","v":"-"},"-","-","-"]
[null,null,null,null,null,null,null,null,"-",{"$f":"IF(B133=プルダウンデータリスト!$H$2,_xlfn.XLOOKUP('シート1-1'!A133,プルダウンデータリスト!$A$2:$A$43,プルダウンデータリスト!$B$2:$B$43),IF(B133=プルダウンデータリスト!$H$3,_xlfn.XLOOKUP('シート1-1'!A133,プルダウンデータリスト!$A$2:$A$43,プルダウンデータリスト!$C$2:$C$43),\"-\"))","v":"-"},{"$f":"IF(A133=\"\",\"-\",_xlfn.XLOOKUP(A133,プルダウンデータリスト!$A$2:$A$43,プルダウンデータリスト!$D$2:$D$43) + 1)","v":"-"},{"$f":"IF(A133=\"\",\"-\",_xlfn.XLOOKUP(A133,プルダウンデータリスト!$A$2:$A$43,プルダウンデータリスト!$E$2:$E$43))","v":"-"},{"$f":"IF(A133=\"\",\"-\",_xlfn.XLOOKUP(A133,プルダウンデータリスト!$A$2:$A$43,プルダウンデータリスト!$F$2:$F$43))","v":"-"},"-","-","-"]
[null,null,null,null,null,null,null,null,"-",{"$f":"IF(B134=プルダウンデータリスト!$H$2,_xlfn.XLOOKUP('シート1-1'!A134,プルダウンデータリスト!$A$2:$A$43,プルダウンデータリスト!$B$2:$B$43),IF(B134=プルダウンデータリスト!$H$3,_xlfn.XLOOKUP('シート1-1'!A134,プルダウンデータリスト!$A$2:$A$43,プルダウンデータリスト!$C$2:$C$43),\"-\"))","v":"-"},{"$f":"IF(A134=\"\",\"-\",_xlfn.XLOOKUP(A134,プルダウンデータリスト!$A$2:$A$43,プルダウンデータリスト!$D$2:$D$43) + 1)","v":"-"},{"$f":"IF(A134=\"\",\"-\",_xlfn.XLOOKUP(A134,プルダウンデータリスト!$A$2:$A$43,プルダウンデータリスト!$E$2:$E$43))","v":"-"},{"$f":"IF(A134=\"\",\"-\",_xlfn.XLOOKUP(A134,プルダウンデータリスト!$A$2:$A$43,プルダウンデータリスト!$F$2:$F$43))","v":"-"},{"$f":"IFERROR(G134*($J134*$K134*$L134*$M134),\"-\")","v":"-"},{"$f":"IFERROR(H134*($J134*$K134*$L134*$M134),\"-\")","v":"-"},"-"]
[null,null,null,null,null,null,null,null,{"$f":"IF((H135-G135)=0,\"-\",H135-G135)","v":"-"},{"$f":"IF(B135=プルダウンデータリスト!$H$2,_xlfn.XLOOKUP('シート1-1'!A135,プルダウンデータリスト!$A$2:$A$43,プルダウンデータリスト!$B$2:$B$43),IF(B135=プルダウンデータリスト!$H$3,_xlfn.XLOOKUP('シート1-1'!A135,プルダウンデータリスト!$A$2:$A$43,プルダウンデータリスト!$C$2:$C$43),\"-\"))","v":"-"},{"$f":"IF(A135=\"\",\"-\",_xlfn.XLOOKUP(A135,プルダウンデータリスト!$A$2:$A$43,プルダウンデータリスト!$D$2:$D$43) + 1)","v":"-"},{"$f":"IF(A135=\"\",\"-\",_xlfn.XLOOKUP(A135,プルダウンデータリスト!$A$2:$A$43,プルダウンデータリスト!$E$2:$E$43))","v":"-"},{"$f":"IF(A135=\"\",\"-\",_xlfn.XLOOKUP(A135,プルダウンデータリスト!$A$2:$A$43,プルダウンデータリスト!$F$2:$F$43))","v":"-"},"-","-",{"$f":"IFERROR(O135-N135,\"-\")","v":"-"}]
[null,null,null,null,null,null,null,null,"-",{"$f":"IF(B136=プルダウンデータリスト!$H$2,_xlfn.XLOOKUP('シート1-1'!A136,プルダウンデータリスト!$A$2:$A$43,プルダウンデータリスト!$B$2:$B$43),IF(B136=プルダウンデータリスト!$H$3,_xlfn.XLOOKUP('シート1-1'!A136,プルダウンデータリスト!$A$2:$A$43,プルダウンデータリスト!$C$2:$C$43),\"-\"))","v":"-"},{"$f":"IF(A136=\"\",\"-\",_xlfn.XLOOKUP(A136,プルダウンデータリスト!$A$2:$A$43,プルダウンデータリスト!$D$2:$D$43) + 1)","v":"-"},{"$f":"IF(A136=\"\",\"-\",_xlfn.XLOOKUP(A136,プルダウンデータリスト!$A$2:$A$43,プルダウンデータリスト!$E$2:$E$43))","v":"-"},{"$f":"IF(A136=\"\",\"-\",_xlfn.XLOOKUP(A136,プルダウンデータリスト!$A$2:$A$43,プルダウンデータリスト!$F$2:$F$43))","v":"-"},"-","-","-"]
[null,null,null,null,null,null,null,null,"-",{"$f":"IF(B137=プルダウンデータリスト!$H$2,_xlfn.XLOOKUP('シート1-1'!A137,プルダウンデータリスト!$A$2:$A$43,プルダウンデータリスト!$B$2:$B$43),IF(B137=プルダウンデータリスト!$H$3,_xlfn.XLOOKUP('シート1-1'!A137,プルダウンデータリスト!$A$2:$A$43,プルダウンデータリスト!$C$2:$C$43),\"-\"))","v":"-"},{"$f":"IF(A137=\"\",\"-\",_xlfn.XLOOKUP(A137,プルダウンデータリスト!$A$2:$A$43,プルダウンデータリスト!$D$2:$D$43) + 1)","v":"-"},{"$f":"IF(A137=\"\",\"-\",_xlfn.XLOOKUP(A137,プルダウンデータリスト!$A$2:$A$43,プルダウンデータリスト!$E$2:$E$43))","v":"-"},{"$f":"IF(A137=\"\",\"-\",_xlfn.XLOOKUP(A137,プルダウンデータリスト!$A$2:$A$43,プルダウンデータリスト!$F$2:$F$43))","v":"-"},"-","-","-"]
[null,null,null,null,null,null,null,null,"-",{"$f":"IF(B138=プルダウンデータリスト!$H$2,_xlfn.XLOOKUP('シート1-1'!A138,プルダウンデータリスト!$A$2:$A$43,プルダウンデータリスト!$B$2:$B$43),IF(B138=プルダウンデータリスト!$H$3,_xlfn.XLOOKUP('シート1-1'!A138,プルダウンデータリスト!$A$2:$A$43,プルダウンデータリスト!$C$2:$C$43),\"-\"))","v":"-"},{"$f":"IF(A138=\"\",\"-\",_xlfn.XLOOKUP(A138,プルダウンデータリスト!$A$2:$A$43,プルダウンデータリスト!$D$2:$D$43) + 1)","v":"-"},{"$f":"IF(A138=\"\",\"-\",_xlfn.XLOOKUP(A138,プルダウンデータリスト!$A$2:$A$43,プルダウンデータリスト!$E$2:$E$43))","v":"-"},{"$f":"IF(A138=\"\",\"-\",_xlfn.XLOOKUP(A138,プルダウンデータリスト!$A$2:$A$43,プルダウンデータリスト!$F$2:$F$43))","v":"-"},"-","-","-"]
[null,null,null,null,null,null,null,null,"-",{"$f":"IF(B139=プルダウンデータリスト!$H$2,_xlfn.XLOOKUP('シート1-1'!A139,プルダウンデータリスト!$A$2:$A$43,プルダウンデータリスト!$B$2:$B$43),IF(B139=プルダウンデータリスト!$H$3,_xlfn.XLOOKUP('シート1-1'!A139,プルダウンデータリスト!$A$2:$A$43,プルダウンデータリスト!$C$2:$C$43),\"-\"))","v":"-"},{"$f":"IF(A139=\"\",\"-\",_xlfn.XLOOKUP(A139,プルダウンデータリスト!$A$2:$A$43,プルダウンデータリスト!$D$2:$D$43) + 1)","v":"-"},{"$f":"IF(A139=\"\",\"-\",_xlfn.XLOOKUP(A139,プルダウンデータリスト!$A$2:$A$43,プルダウンデータリスト!$E$2:$E$43))","v":"-"},{"$f":"IF(A139=\"\",\"-\",_xlfn.XLOOKUP(A139,プルダウンデータリスト!$A$2:$A$43,プルダウンデータリスト!$F$2:$F$43))","v":"-"},"-","-","-"]
[null,null,null,null,null,null,null,null,"-",{"$f":"IF(B140=プルダウンデータリスト!$H$2,_xlfn.XLOOKUP('シート1-1'!A140,プルダウンデータリスト!$A$2:$A$43,プルダウンデータリスト!$B$2:$B$43),IF(B140=プルダウンデータリスト!$H$3,_xlfn.XLOOKUP('シート1-1'!A140,プルダウンデータリスト!$A$2:$A$43,プルダウンデータリスト!$C$2:$C$43),\"-\"))","v":"-"},{"$f":"IF(A140=\"\",\"-\",_xlfn.XLOOKUP(A140,プルダウンデータリスト!$A$2:$A$43,プルダウンデータリスト!$D$2:$D$43) + 1)","v":"-"},{"$f":"IF(A140=\"\",\"-\",_xlfn.XLOOKUP(A140,プルダウンデータリスト!$A$2:$A$43,プルダウンデータリスト!$E$2:$E$43))","v":"-"},{"$f":"IF(A140=\"\",\"-\",_xlfn.XLOOKUP(A140,プルダウンデータリスト!$A$2:$A$43,プルダウンデータリスト!$F$2:$F$43))","v":"-"},"-","-","-"]
[null,null,null,null,null,null,null,null,"-",{"$f":"IF(B141=プルダウンデータリスト!$H$2,_xlfn.XLOOKUP('シート1-1'!A141,プルダウンデータリスト!$A$2:$A$43,プルダウンデータリスト!$B$2:$B$43),IF(B141=プルダウンデータリスト!$H$3,_xlfn.XLOOKUP('シート1-1'!A141,プルダウンデータリスト!$A$2:$A$43,プルダウンデータリスト!$C$2:$C$43),\"-\"))","v":"-"},{"$f":"IF(A141=\"\",\"-\",_xlfn.XLOOKUP(A141,プルダウンデータリスト!$A$2:$A$43,プルダウンデータリスト!$D$2:$D$43) + 1)","v":"-"},{"$f":"IF(A141=\"\",\"-\",_xlfn.XLOOKUP(A141,プルダウンデータリスト!$A$2:$A$43,プルダウンデータリスト!$E$2:$E$43))","v":"-"},{"$f":"IF(A141=\"\",\"-\",_xlfn.XLOOKUP(A141,プルダウンデータリスト!$A$2:$A$43,プルダウンデータリスト!$F$2:$F$43))","v":"-"},"-","-","-"]
[null,null,null,null,null,null,null,null,"-",{"$f":"IF(B142=プルダウンデータリスト!$H$2,_xlfn.XLOOKUP('シート1-1'!A142,プルダウンデータリスト!$A$2:$A$43,プルダウンデータリスト!$B$2:$B$43),IF(B142=プルダウンデータリスト!$H$3,_xlfn.XLOOKUP('シート1-1'!A142,プルダウンデータリスト!$A$2:$A$43,プルダウンデータリスト!$C$2:$C$43),\"-\"))","v":"-"},{"$f":"IF(A142=\"\",\"-\",_xlfn.XLOOKUP(A142,プルダウンデータリスト!$A$2:$A$43,プルダウンデータリスト!$D$2:$D$43) + 1)","v":"-"},{"$f":"IF(A142=\"\",\"-\",_xlfn.XLOOKUP(A142,プルダウンデータリスト!$A$2:$A$43,プルダウンデータリスト!$E$2:$E$43))","v":"-"},{"$f":"IF(A142=\"\",\"-\",_xlfn.XLOOKUP(A142,プルダウンデータリスト!$A$2:$A$43,プルダウンデータリスト!$F$2:$F$43))","v":"-"},"-","-","-"]
[null,null,null,null,null,null,null,null,"-",{"$f":"IF(B143=プルダウンデータリスト!$H$2,_xlfn.XLOOKUP('シート1-1'!A143,プルダウンデータリスト!$A$2:$A$43,プルダウンデータリスト!$B$2:$B$43),IF(B143=プルダウンデータリスト!$H$3,_xlfn.XLOOKUP('シート1-1'!A143,プルダウンデータリスト!$A$2:$A$43,プルダウンデータリスト!$C$2:$C$43),\"-\"))","v":"-"},{"$f":"IF(A143=\"\",\"-\",_xlfn.XLOOKUP(A143,プルダウンデータリスト!$A$2:$A$43,プルダウンデータリスト!$D$2:$D$43) + 1)","v":"-"},{"$f":"IF(A143=\"\",\"-\",_xlfn.XLOOKUP(A143,プルダウンデータリスト!$A$2:$A$43,プルダウンデータリスト!$E$2:$E$43))","v":"-"},{"$f":"IF(A143=\"\",\"-\",_xlfn.XLOOKUP(A143,プルダウンデータリスト!$A$2:$A$43,プルダウンデータリスト!$F$2:$F$43))","v":"-"},"-","-","-"]
[null,null,null,null,null,null,null,null,"-",{"$f":"IF(B144=プルダウンデータリスト!$H$2,_xlfn.XLOOKUP('シート1-1'!A144,プルダウンデータリスト!$A$2:$A$43,プルダウンデータリスト!$B$2:$B$43),IF(B144=プルダウンデータリスト!$H$3,_xlfn.XLOOKUP('シート1-1'!A144,プルダウンデータリスト!$A$2:$A$43,プルダウンデータリスト!$C$2:$C$43),\"-\"))","v":"-"},{"$f":"IF(A144=\"\",\"-\",_xlfn.XLOOKUP(A144,プルダウンデータリスト!$A$2:$A$43,プルダウンデータリスト!$D$2:$D$43) + 1)","v":"-"},{"$f":"IF(A144=\"\",\"-\",_xlfn.XLOOKUP(A144,プルダウンデータリスト!$A$2:$A$43,プルダウンデータリスト!$E$2:$E$43))","v":"-"},{"$f":"IF(A144=\"\",\"-\",_xlfn.XLOOKUP(A144,プルダウンデータリスト!$A$2:$A$43,プルダウンデータリスト!$F$2:$F$43))","v":"-"},"-","-","-"]
[null,null,null,null,null,null,null,null,"-",{"$f":"IF(B145=プルダウンデータリスト!$H$2,_xlfn.XLOOKUP('シート1-1'!A145,プルダウンデータリスト!$A$2:$A$43,プルダウンデータリスト!$B$2:$B$43),IF(B145=プルダウンデータリスト!$H$3,_xlfn.XLOOKUP('シート1-1'!A145,プルダウンデータリスト!$A$2:$A$43,プルダウンデータリスト!$C$2:$C$43),\"-\"))","v":"-"},{"$f":"IF(A145=\"\",\"-\",_xlfn.XLOOKUP(A145,プルダウンデータリスト!$A$2:$A$43,プルダウンデータリスト!$D$2:$D$43) + 1)","v":"-"},{"$f":"IF(A145=\"\",\"-\",_xlfn.XLOOKUP(A145,プルダウンデータリスト!$A$2:$A$43,プルダウンデータリスト!$E$2:$E$43))","v":"-"},{"$f":"IF(A145=\"\",\"-\",_xlfn.XLOOKUP(A145,プルダウンデータリスト!$A$2:$A$43,プルダウンデータリスト!$F$2:$F$43))","v":"-"},"-","-","-"]
[null,null,null,null,null,null,null,null,"-",{"$f":"IF(B146=プルダウンデータリスト!$H$2,_xlfn.XLOOKUP('シート1-1'!A146,プルダウンデータリスト!$A$2:$A$43,プルダウンデータリスト!$B$2:$B$43),IF(B146=プルダウンデータリスト!$H$3,_xlfn.XLOOKUP('シート1-1'!A146,プルダウンデータリスト!$A$2:$A$43,プルダウンデータリスト!$C$2:$C$43),\"-\"))","v":"-"},{"$f":"IF(A146=\"\",\"-\",_xlfn.XLOOKUP(A146,プルダウンデータリスト!$A$2:$A$43,プルダウンデータリスト!$D$2:$D$43) + 1)","v":"-"},{"$f":"IF(A146=\"\",\"-\",_xlfn.XLOOKUP(A146,プルダウンデータリスト!$A$2:$A$43,プルダウンデータリスト!$E$2:$E$43))","v":"-"},{"$f":"IF(A146=\"\",\"-\",_xlfn.XLOOKUP(A146,プルダウンデータリスト!$A$2:$A$43,プルダウンデータリスト!$F$2:$F$43))","v":"-"},"-","-","-"]
[null,null,null,null,null,null,null,null,"-",{"$f":"IF(B147=プルダウンデータリスト!$H$2,_xlfn.XLOOKUP('シート1-1'!A147,プルダウンデータリスト!$A$2:$A$43,プルダウンデータリスト!$B$2:$B$43),IF(B147=プルダウンデータリスト!$H$3,_xlfn.XLOOKUP('シート1-1'!A147,プルダウンデータリスト!$A$2:$A$43,プルダウンデータリスト!$C$2:$C$43),\"-\"))","v":"-"},{"$f":"IF(A147=\"\",\"-\",_xlfn.XLOOKUP(A147,プルダウンデータリスト!$A$2:$A$43,プルダウンデータリスト!$D$2:$D$43) + 1)","v":"-"},{"$f":"IF(A147=\"\",\"-\",_xlfn.XLOOKUP(A147,プルダウンデータリスト!$A$2:$A$43,プルダウンデータリスト!$E$2:$E$43))","v":"-"},{"$f":"IF(A147=\"\",\"-\",_xlfn.XLOOKUP(A147,プルダウンデータリスト!$A$2:$A$43,プルダウンデータリスト!$F$2:$F$43))","v":"-"},"-","-","-"]
[null,null,null,null,null,null,null,null,"-",{"$f":"IF(B148=プルダウンデータリスト!$H$2,_xlfn.XLOOKUP('シート1-1'!A148,プルダウンデータリスト!$A$2:$A$43,プルダウンデータリスト!$B$2:$B$43),IF(B148=プルダウンデータリスト!$H$3,_xlfn.XLOOKUP('シート1-1'!A148,プルダウンデータリスト!$A$2:$A$43,プルダウンデータリスト!$C$2:$C$43),\"-\"))","v":"-"},{"$f":"IF(A148=\"\",\"-\",_xlfn.XLOOKUP(A148,プルダウンデータリスト!$A$2:$A$43,プルダウンデータリスト!$D$2:$D$43) + 1)","v":"-"},{"$f":"IF(A148=\"\",\"-\",_xlfn.XLOOKUP(A148,プルダウンデータリスト!$A$2:$A$43,プルダウンデータリスト!$E$2:$E$43))","v":"-"},{"$f":"IF(A148=\"\",\"-\",_xlfn.XLOOKUP(A148,プルダウンデータリスト!$A$2:$A$43,プルダウンデータリスト!$F$2:$F$43))","v":"-"},"-","-","-"]
[null,null,null,null,null,null,null,null,"-",{"$f":"IF(B149=プルダウンデータリスト!$H$2,_xlfn.XLOOKUP('シート1-1'!A149,プルダウンデータリスト!$A$2:$A$43,プルダウンデータリスト!$B$2:$B$43),IF(B149=プルダウンデータリスト!$H$3,_xlfn.XLOOKUP('シート1-1'!A149,プルダウンデータリスト!$A$2:$A$43,プルダウンデータリスト!$C$2:$C$43),\"-\"))","v":"-"},{"$f":"IF(A149=\"\",\"-\",_xlfn.XLOOKUP(A149,プルダウンデータリスト!$A$2:$A$43,プルダウンデータリスト!$D$2:$D$43) + 1)","v":"-"},{"$f":"IF(A149=\"\",\"-\",_xlfn.XLOOKUP(A149,プルダウンデータリスト!$A$2:$A$43,プルダウンデータリスト!$E$2:$E$43))","v":"-"},{"$f":"IF(A149=\"\",\"-\",_xlfn.XLOOKUP(A149,プルダウンデータリスト!$A$2:$A$43,プルダウンデータリスト!$F$2:$F$43))","v":"-"},"-","-","-"]
[null,null,null,null,null,null,null,null,"-",{"$f":"IF(B150=プルダウンデータリスト!$H$2,_xlfn.XLOOKUP('シート1-1'!A150,プルダウンデータリスト!$A$2:$A$43,プルダウンデータリスト!$B$2:$B$43),IF(B150=プルダウンデータリスト!$H$3,_xlfn.XLOOKUP('シート1-1'!A150,プルダウンデータリスト!$A$2:$A$43,プルダウンデータリスト!$C$2:$C$43),\"-\"))","v":"-"},{"$f":"IF(A150=\"\",\"-\",_xlfn.XLOOKUP(A150,プルダウンデータリスト!$A$2:$A$43,プルダウンデータリスト!$D$2:$D$43) + 1)","v":"-"},{"$f":"IF(A150=\"\",\"-\",_xlfn.XLOOKUP(A150,プルダウンデータリスト!$A$2:$A$43,プルダウンデータリスト!$E$2:$E$43))","v":"-"},{"$f":"IF(A150=\"\",\"-\",_xlfn.XLOOKUP(A150,プルダウンデータリスト!$A$2:$A$43,プルダウンデータリスト!$F$2:$F$43))","v":"-"},"-","-","-"]
[null,null,null,null,null,null,null,null,"-",{"$f":"IF(B151=プルダウンデータリスト!$H$2,_xlfn.XLOOKUP('シート1-1'!A151,プルダウンデータリスト!$A$2:$A$43,プルダウンデータリスト!$B$2:$B$43),IF(B151=プルダウンデータリスト!$H$3,_xlfn.XLOOKUP('シート1-1'!A151,プルダウンデータリスト!$A$2:$A$43,プルダウンデータリスト!$C$2:$C$43),\"-\"))","v":"-"},{"$f":"IF(A151=\"\",\"-\",_xlfn.XLOOKUP(A151,プルダウンデータリスト!$A$2:$A$43,プルダウンデータリスト!$D$2:$D$43) + 1)","v":"-"},{"$f":"IF(A151=\"\",\"-\",_xlfn.XLOOKUP(A151,プルダウンデータリスト!$A$2:$A$43,プルダウンデータリスト!$E$2:$E$43))","v":"-"},{"$f":"IF(A151=\"\",\"-\",_xlfn.XLOOKUP(A151,プルダウンデータリスト!$A$2:$A$43,プルダウンデータリスト!$F$2:$F$43))","v":"-"},"-","-","-"]
[null,null,null,null,null,null,null,null,"-",{"$f":"IF(B152=プルダウンデータリスト!$H$2,_xlfn.XLOOKUP('シート1-1'!A152,プルダウンデータリスト!$A$2:$A$43,プルダウンデータリスト!$B$2:$B$43),IF(B152=プルダウンデータリスト!$H$3,_xlfn.XLOOKUP('シート1-1'!A152,プルダウンデータリスト!$A$2:$A$43,プルダウンデータリスト!$C$2:$C$43),\"-\"))","v":"-"},{"$f":"IF(A152=\"\",\"-\",_xlfn.XLOOKUP(A152,プルダウンデータリスト!$A$2:$A$43,プルダウンデータリスト!$D$2:$D$43) + 1)","v":"-"},{"$f":"IF(A152=\"\",\"-\",_xlfn.XLOOKUP(A152,プルダウンデータリスト!$A$2:$A$43,プルダウンデータリスト!$E$2:$E$43))","v":"-"},{"$f":"IF(A152=\"\",\"-\",_xlfn.XLOOKUP(A152,プルダウンデータリスト!$A$2:$A$43,プルダウンデータリスト!$F$2:$F$43))","v":"-"},"-","-","-"]
[null,null,null,null,null,null,null,null,"-",{"$f":"IF(B153=プルダウンデータリスト!$H$2,_xlfn.XLOOKUP('シート1-1'!A153,プルダウンデータリスト!$A$2:$A$43,プルダウンデータリスト!$B$2:$B$43),IF(B153=プルダウンデータリスト!$H$3,_xlfn.XLOOKUP('シート1-1'!A153,プルダウンデータリスト!$A$2:$A$43,プルダウンデータリスト!$C$2:$C$43),\"-\"))","v":"-"},{"$f":"IF(A153=\"\",\"-\",_xlfn.XLOOKUP(A153,プルダウンデータリスト!$A$2:$A$43,プルダウンデータリスト!$D$2:$D$43) + 1)","v":"-"},{"$f":"IF(A153=\"\",\"-\",_xlfn.XLOOKUP(A153,プルダウンデータリスト!$A$2:$A$43,プルダウンデータリスト!$E$2:$E$43))","v":"-"},{"$f":"IF(A153=\"\",\"-\",_xlfn.XLOOKUP(A153,プルダウンデータリスト!$A$2:$A$43,プルダウンデータリスト!$F$2:$F$43))","v":"-"},"-","-","-"]
[null,null,null,null,null,null,null,null,"-",{"$f":"IF(B154=プルダウンデータリスト!$H$2,_xlfn.XLOOKUP('シート1-1'!A154,プルダウンデータリスト!$A$2:$A$43,プルダウンデータリスト!$B$2:$B$43),IF(B154=プルダウンデータリスト!$H$3,_xlfn.XLOOKUP('シート1-1'!A154,プルダウンデータリスト!$A$2:$A$43,プルダウンデータリスト!$C$2:$C$43),\"-\"))","v":"-"},{"$f":"IF(A154=\"\",\"-\",_xlfn.XLOOKUP(A154,プルダウンデータリスト!$A$2:$A$43,プルダウンデータリスト!$D$2:$D$43) + 1)","v":"-"},{"$f":"IF(A154=\"\",\"-\",_xlfn.XLOOKUP(A154,プルダウンデータリスト!$A$2:$A$43,プルダウンデータリスト!$E$2:$E$43))","v":"-"},{"$f":"IF(A154=\"\",\"-\",_xlfn.XLOOKUP(A154,プルダウンデータリスト!$A$2:$A$43,プルダウンデータリスト!$F$2:$F$43))","v":"-"},"-","-","-"]
[null,null,null,null,null,null,null,null,"-",{"$f":"IF(B155=プルダウンデータリスト!$H$2,_xlfn.XLOOKUP('シート1-1'!A155,プルダウンデータリスト!$A$2:$A$43,プルダウンデータリスト!$B$2:$B$43),IF(B155=プルダウンデータリスト!$H$3,_xlfn.XLOOKUP('シート1-1'!A155,プルダウンデータリスト!$A$2:$A$43,プルダウンデータリスト!$C$2:$C$43),\"-\"))","v":"-"},{"$f":"IF(A155=\"\",\"-\",_xlfn.XLOOKUP(A155,プルダウンデータリスト!$A$2:$A$43,プルダウンデータリスト!$D$2:$D$43) + 1)","v":"-"},{"$f":"IF(A155=\"\",\"-\",_xlfn.XLOOKUP(A155,プルダウンデータリスト!$A$2:$A$43,プルダウンデータリスト!$E$2:$E$43))","v":"-"},{"$f":"IF(A155=\"\",\"-\",_xlfn.XLOOKUP(A155,プルダウンデータリスト!$A$2:$A$43,プルダウンデータリスト!$F$2:$F$43))","v":"-"},"-","-","-"]
[null,null,null,null,null,null,null,null,"-",{"$f":"IF(B156=プルダウンデータリスト!$H$2,_xlfn.XLOOKUP('シート1-1'!A156,プルダウンデータリスト!$A$2:$A$43,プルダウンデータリスト!$B$2:$B$43),IF(B156=プルダウンデータリスト!$H$3,_xlfn.XLOOKUP('シート1-1'!A156,プルダウンデータリスト!$A$2:$A$43,プルダウンデータリスト!$C$2:$C$43),\"-\"))","v":"-"},{"$f":"IF(A156=\"\",\"-\",_xlfn.XLOOKUP(A156,プルダウンデータリスト!$A$2:$A$43,プルダウンデータリスト!$D$2:$D$43) + 1)","v":"-"},{"$f":"IF(A156=\"\",\"-\",_xlfn.XLOOKUP(A156,プルダウンデータリスト!$A$2:$A$43,プルダウンデータリスト!$E$2:$E$43))","v":"-"},{"$f":"IF(A156=\"\",\"-\",_xlfn.XLOOKUP(A156,プルダウンデータリスト!$A$2:$A$43,プルダウンデータリスト!$F$2:$F$43))","v":"-"},"-","-","-"]
[null,null,null,null,null,null,null,null,"-",{"$f":"IF(B157=プルダウンデータリスト!$H$2,_xlfn.XLOOKUP('シート1-1'!A157,プルダウンデータリスト!$A$2:$A$43,プルダウンデータリスト!$B$2:$B$43),IF(B157=プルダウンデータリスト!$H$3,_xlfn.XLOOKUP('シート1-1'!A157,プルダウンデータリスト!$A$2:$A$43,プルダウンデータリスト!$C$2:$C$43),\"-\"))","v":"-"},{"$f":"IF(A157=\"\",\"-\",_xlfn.XLOOKUP(A157,プルダウンデータリスト!$A$2:$A$43,プルダウンデータリスト!$D$2:$D$43) + 1)","v":"-"},{"$f":"IF(A157=\"\",\"-\",_xlfn.XLOOKUP(A157,プルダウンデータリスト!$A$2:$A$43,プルダウンデータリスト!$E$2:$E$43))","v":"-"},{"$f":"IF(A157=\"\",\"-\",_xlfn.XLOOKUP(A157,プルダウンデータリスト!$A$2:$A$43,プルダウンデータリスト!$F$2:$F$43))","v":"-"},"-","-","-"]
[null,null,null,null,null,null,null,null,"-",{"$f":"IF(B158=プルダウンデータリスト!$H$2,_xlfn.XLOOKUP('シート1-1'!A158,プルダウンデータリスト!$A$2:$A$43,プルダウンデータリスト!$B$2:$B$43),IF(B158=プルダウンデータリスト!$H$3,_xlfn.XLOOKUP('シート1-1'!A158,プルダウンデータリスト!$A$2:$A$43,プルダウンデータリスト!$C$2:$C$43),\"-\"))","v":"-"},{"$f":"IF(A158=\"\",\"-\",_xlfn.XLOOKUP(A158,プルダウンデータリスト!$A$2:$A$43,プルダウンデータリスト!$D$2:$D$43) + 1)","v":"-"},{"$f":"IF(A158=\"\",\"-\",_xlfn.XLOOKUP(A158,プルダウンデータリスト!$A$2:$A$43,プルダウンデータリスト!$E$2:$E$43))","v":"-"},{"$f":"IF(A158=\"\",\"-\",_xlfn.XLOOKUP(A158,プルダウンデータリスト!$A$2:$A$43,プルダウンデータリスト!$F$2:$F$43))","v":"-"},"-","-","-"]
[null,null,null,null,null,null,null,null,"-",{"$f":"IF(B159=プルダウンデータリスト!$H$2,_xlfn.XLOOKUP('シート1-1'!A159,プルダウンデータリスト!$A$2:$A$43,プルダウンデータリスト!$B$2:$B$43),IF(B159=プルダウンデータリスト!$H$3,_xlfn.XLOOKUP('シート1-1'!A159,プルダウンデータリスト!$A$2:$A$43,プルダウンデータリスト!$C$2:$C$43),\"-\"))","v":"-"},{"$f":"IF(A159=\"\",\"-\",_xlfn.XLOOKUP(A159,プルダウンデータリスト!$A$2:$A$43,プルダウンデータリスト!$D$2:$D$43) + 1)","v":"-"},{"$f":"IF(A159=\"\",\"-\",_xlfn.XLOOKUP(A159,プルダウンデータリスト!$A$2:$A$43,プルダウンデータリスト!$E$2:$E$43))","v":"-"},{"$f":"IF(A159=\"\",\"-\",_xlfn.XLOOKUP(A159,プルダウンデータリスト!$A$2:$A$43,プルダウンデータリスト!$F$2:$F$43))","v":"-"},"-","-","-"]
[null,null,null,null,null,null,null,null,"-",{"$f":"IF(B160=プルダウンデータリスト!$H$2,_xlfn.XLOOKUP('シート1-1'!A160,プルダウンデータリスト!$A$2:$A$43,プルダウンデータリスト!$B$2:$B$43),IF(B160=プルダウンデータリスト!$H$3,_xlfn.XLOOKUP('シート1-1'!A160,プルダウンデータリスト!$A$2:$A$43,プルダウンデータリスト!$C$2:$C$43),\"-\"))","v":"-"},{"$f":"IF(A160=\"\",\"-\",_xlfn.XLOOKUP(A160,プルダウンデータリスト!$A$2:$A$43,プルダウンデータリスト!$D$2:$D$43) + 1)","v":"-"},{"$f":"IF(A160=\"\",\"-\",_xlfn.XLOOKUP(A160,プルダウンデータリスト!$A$2:$A$43,プルダウンデータリスト!$E$2:$E$43))","v":"-"},{"$f":"IF(A160=\"\",\"-\",_xlfn.XLOOKUP(A160,プルダウンデータリスト!$A$2:$A$43,プルダウンデータリスト!$F$2:$F$43))","v":"-"},"-","-","-"]
[null,null,null,null,null,null,null,null,"-",{"$f":"IF(B161=プルダウンデータリスト!$H$2,_xlfn.XLOOKUP('シート1-1'!A161,プルダウンデータリスト!$A$2:$A$43,プルダウンデータリスト!$B$2:$B$43),IF(B161=プルダウンデータリスト!$H$3,_xlfn.XLOOKUP('シート1-1'!A161,プルダウンデータリスト!$A$2:$A$43,プルダウンデータリスト!$C$2:$C$43),\"-\"))","v":"-"},{"$f":"IF(A161=\"\",\"-\",_xlfn.XLOOKUP(A161,プルダウンデータリスト!$A$2:$A$43,プルダウンデータリスト!$D$2:$D$43) + 1)","v":"-"},{"$f":"IF(A161=\"\",\"-\",_xlfn.XLOOKUP(A161,プルダウンデータリスト!$A$2:$A$43,プルダウンデータリスト!$E$2:$E$43))","v":"-"},{"$f":"IF(A161=\"\",\"-\",_xlfn.XLOOKUP(A161,プルダウンデータリスト!$A$2:$A$43,プルダウンデータリスト!$F$2:$F$43))","v":"-"},"-","-","-"]
[null,null,null,null,null,null,null,null,"-",{"$f":"IF(B162=プルダウンデータリスト!$H$2,_xlfn.XLOOKUP('シート1-1'!A162,プルダウンデータリスト!$A$2:$A$43,プルダウンデータリスト!$B$2:$B$43),IF(B162=プルダウンデータリスト!$H$3,_xlfn.XLOOKUP('シート1-1'!A162,プルダウンデータリスト!$A$2:$A$43,プルダウンデータリスト!$C$2:$C$43),\"-\"))","v":"-"},{"$f":"IF(A162=\"\",\"-\",_xlfn.XLOOKUP(A162,プルダウンデータリスト!$A$2:$A$43,プルダウンデータリスト!$D$2:$D$43) + 1)","v":"-"},{"$f":"IF(A162=\"\",\"-\",_xlfn.XLOOKUP(A162,プルダウンデータリスト!$A$2:$A$43,プルダウンデータリスト!$E$2:$E$43))","v":"-"},{"$f":"IF(A162=\"\",\"-\",_xlfn.XLOOKUP(A162,プルダウンデータリスト!$A$2:$A$43,プルダウンデータリスト!$F$2:$F$43))","v":"-"},"-","-","-"]
[null,null,null,null,null,null,null,null,"-",{"$f":"IF(B163=プルダウンデータリスト!$H$2,_xlfn.XLOOKUP('シート1-1'!A163,プルダウンデータリスト!$A$2:$A$43,プルダウンデータリスト!$B$2:$B$43),IF(B163=プルダウンデータリスト!$H$3,_xlfn.XLOOKUP('シート1-1'!A163,プルダウンデータリスト!$A$2:$A$43,プルダウンデータリスト!$C$2:$C$43),\"-\"))","v":"-"},{"$f":"IF(A163=\"\",\"-\",_xlfn.XLOOKUP(A163,プルダウンデータリスト!$A$2:$A$43,プルダウンデータリスト!$D$2:$D$43) + 1)","v":"-"},{"$f":"IF(A163=\"\",\"-\",_xlfn.XLOOKUP(A163,プルダウンデータリスト!$A$2:$A$43,プルダウンデータリスト!$E$2:$E$43))","v":"-"},{"$f":"IF(A163=\"\",\"-\",_xlfn.XLOOKUP(A163,プルダウンデータリスト!$A$2:$A$43,プルダウンデータリスト!$F$2:$F$43))","v":"-"},"-","-","-"]
[null,null,null,null,null,null,null,null,"-",{"$f":"IF(B164=プルダウンデータリスト!$H$2,_xlfn.XLOOKUP('シート1-1'!A164,プルダウンデータリスト!$A$2:$A$43,プルダウンデータリスト!$B$2:$B$43),IF(B164=プルダウンデータリスト!$H$3,_xlfn.XLOOKUP('シート1-1'!A164,プルダウンデータリスト!$A$2:$A$43,プルダウンデータリスト!$C$2:$C$43),\"-\"))","v":"-"},{"$f":"IF(A164=\"\",\"-\",_xlfn.XLOOKUP(A164,プルダウンデータリスト!$A$2:$A$43,プルダウンデータリスト!$D$2:$D$43) + 1)","v":"-"},{"$f":"IF(A164=\"\",\"-\",_xlfn.XLOOKUP(A164,プルダウンデータリスト!$A$2:$A$43,プルダウンデータリスト!$E$2:$E$43))","v":"-"},{"$f":"IF(A164=\"\",\"-\",_xlfn.XLOOKUP(A164,プルダウンデータリスト!$A$2:$A$43,プルダウンデータリスト!$F$2:$F$43))","v":"-"},"-","-","-"]
[null,null,null,null,null,null,null,null,"-",{"$f":"IF(B165=プルダウンデータリスト!$H$2,_xlfn.XLOOKUP('シート1-1'!A165,プルダウンデータリスト!$A$2:$A$43,プルダウンデータリスト!$B$2:$B$43),IF(B165=プルダウンデータリスト!$H$3,_xlfn.XLOOKUP('シート1-1'!A165,プルダウンデータリスト!$A$2:$A$43,プルダウンデータリスト!$C$2:$C$43),\"-\"))","v":"-"},{"$f":"IF(A165=\"\",\"-\",_xlfn.XLOOKUP(A165,プルダウンデータリスト!$A$2:$A$43,プルダウンデータリスト!$D$2:$D$43) + 1)","v":"-"},{"$f":"IF(A165=\"\",\"-\",_xlfn.XLOOKUP(A165,プルダウンデータリスト!$A$2:$A$43,プルダウンデータリスト!$E$2:$E$43))","v":"-"},{"$f":"IF(A165=\"\",\"-\",_xlfn.XLOOKUP(A165,プルダウンデータリスト!$A$2:$A$43,プルダウンデータリスト!$F$2:$F$43))","v":"-"},"-","-","-"]
[null,null,null,null,null,null,null,null,"-",{"$f":"IF(B166=プルダウンデータリスト!$H$2,_xlfn.XLOOKUP('シート1-1'!A166,プルダウンデータリスト!$A$2:$A$43,プルダウンデータリスト!$B$2:$B$43),IF(B166=プルダウンデータリスト!$H$3,_xlfn.XLOOKUP('シート1-1'!A166,プルダウンデータリスト!$A$2:$A$43,プルダウンデータリスト!$C$2:$C$43),\"-\"))","v":"-"},{"$f":"IF(A166=\"\",\"-\",_xlfn.XLOOKUP(A166,プルダウンデータリスト!$A$2:$A$43,プルダウンデータリスト!$D$2:$D$43) + 1)","v":"-"},{"$f":"IF(A166=\"\",\"-\",_xlfn.XLOOKUP(A166,プルダウンデータリスト!$A$2:$A$43,プルダウンデータリスト!$E$2:$E$43))","v":"-"},{"$f":"IF(A166=\"\",\"-\",_xlfn.XLOOKUP(A166,プルダウンデータリスト!$A$2:$A$43,プルダウンデータリスト!$F$2:$F$43))","v":"-"},{"$f":"IFERROR(G166*($J166*$K166*$L166*$M166),\"-\")","v":"-"},{"$f":"IFERROR(H166*($J166*$K166*$L166*$M166),\"-\")","v":"-"},"-"]
[null,null,null,null,null,null,null,null,"-",{"$f":"IF(B167=プルダウンデータリスト!$H$2,_xlfn.XLOOKUP('シート1-1'!A167,プルダウンデータリスト!$A$2:$A$43,プルダウンデータリスト!$B$2:$B$43),IF(B167=プルダウンデータリスト!$H$3,_xlfn.XLOOKUP('シート1-1'!A167,プルダウンデータリスト!$A$2:$A$43,プルダウンデータリスト!$C$2:$C$43),\"-\"))","v":"-"},{"$f":"IF(A167=\"\",\"-\",_xlfn.XLOOKUP(A167,プルダウンデータリスト!$A$2:$A$43,プルダウンデータリスト!$D$2:$D$43) + 1)","v":"-"},{"$f":"IF(A167=\"\",\"-\",_xlfn.XLOOKUP(A167,プルダウンデータリスト!$A$2:$A$43,プルダウンデータリスト!$E$2:$E$43))","v":"-"},{"$f":"IF(A167=\"\",\"-\",_xlfn.XLOOKUP(A167,プルダウンデータリスト!$A$2:$A$43,プルダウンデータリスト!$F$2:$F$43))","v":"-"},"-","-","-"]
[null,null,null,null,null,null,null,null,"-",{"$f":"IF(B168=プルダウンデータリスト!$H$2,_xlfn.XLOOKUP('シート1-1'!A168,プルダウンデータリスト!$A$2:$A$43,プルダウンデータリスト!$B$2:$B$43),IF(B168=プルダウンデータリスト!$H$3,_xlfn.XLOOKUP('シート1-1'!A168,プルダウンデータリスト!$A$2:$A$43,プルダウンデータリスト!$C$2:$C$43),\"-\"))","v":"-"},{"$f":"IF(A168=\"\",\"-\",_xlfn.XLOOKUP(A168,プルダウンデータリスト!$A$2:$A$43,プルダウンデータリスト!$D$2:$D$43) + 1)","v":"-"},{"$f":"IF(A168=\"\",\"-\",_xlfn.XLOOKUP(A168,プルダウンデータリスト!$A$2:$A$43,プルダウンデータリスト!$E$2:$E$43))","v":"-"},{"$f":"IF(A168=\"\",\"-\",_xlfn.XLOOKUP(A168,プルダウンデータリスト!$A$2:$A$43,プルダウンデータリスト!$F$2:$F$43))","v":"-"},"-","-","-"]
[null,null,null,null,null,null,null,null,"-",{"$f":"IF(B169=プルダウンデータリスト!$H$2,_xlfn.XLOOKUP('シート1-1'!A169,プルダウンデータリスト!$A$2:$A$43,プルダウンデータリスト!$B$2:$B$43),IF(B169=プルダウンデータリスト!$H$3,_xlfn.XLOOKUP('シート1-1'!A169,プルダウンデータリスト!$A$2:$A$43,プルダウンデータリスト!$C$2:$C$43),\"-\"))","v":"-"},{"$f":"IF(A169=\"\",\"-\",_xlfn.XLOOKUP(A169,プルダウンデータリスト!$A$2:$A$43,プルダウンデータリスト!$D$2:$D$43) + 1)","v":"-"},{"$f":"IF(A169=\"\",\"-\",_xlfn.XLOOKUP(A169,プルダウンデータリスト!$A$2:$A$43,プルダウンデータリスト!$E$2:$E$43))","v":"-"},{"$f":"IF(A169=\"\",\"-\",_xlfn.XLOOKUP(A169,プルダウンデータリスト!$A$2:$A$43,プルダウンデータリスト!$F$2:$F$43))","v":"-"},"-","-","-"]
[null,null,null,null,null,null,null,null,"-",{"$f":"IF(B170=プルダウンデータリスト!$H$2,_xlfn.XLOOKUP('シート1-1'!A170,プルダウンデータリスト!$A$2:$A$43,プルダウンデータリスト!$B$2:$B$43),IF(B170=プルダウンデータリスト!$H$3,_xlfn.XLOOKUP('シート1-1'!A170,プルダウンデータリスト!$A$2:$A$43,プルダウンデータリスト!$C$2:$C$43),\"-\"))","v":"-"},{"$f":"IF(A170=\"\",\"-\",_xlfn.XLOOKUP(A170,プルダウンデータリスト!$A$2:$A$43,プルダウンデータリスト!$D$2:$D$43) + 1)","v":"-"},{"$f":"IF(A170=\"\",\"-\",_xlfn.XLOOKUP(A170,プルダウンデータリスト!$A$2:$A$43,プルダウンデータリスト!$E$2:$E$43))","v":"-"},{"$f":"IF(A170=\"\",\"-\",_xlfn.XLOOKUP(A170,プルダウンデータリスト!$A$2:$A$43,プルダウンデータリスト!$F$2:$F$43))","v":"-"},"-","-","-"]
[null,null,null,null,null,null,null,null,"-",{"$f":"IF(B171=プルダウンデータリスト!$H$2,_xlfn.XLOOKUP('シート1-1'!A171,プルダウンデータリスト!$A$2:$A$43,プルダウンデータリスト!$B$2:$B$43),IF(B171=プルダウンデータリスト!$H$3,_xlfn.XLOOKUP('シート1-1'!A171,プルダウンデータリスト!$A$2:$A$43,プルダウンデータリスト!$C$2:$C$43),\"-\"))","v":"-"},{"$f":"IF(A171=\"\",\"-\",_xlfn.XLOOKUP(A171,プルダウンデータリスト!$A$2:$A$43,プルダウンデータリスト!$D$2:$D$43) + 1)","v":"-"},{"$f":"IF(A171=\"\",\"-\",_xlfn.XLOOKUP(A171,プルダウンデータリスト!$A$2:$A$43,プルダウンデータリスト!$E$2:$E$43))","v":"-"},{"$f":"IF(A171=\"\",\"-\",_xlfn.XLOOKUP(A171,プルダウンデータリスト!$A$2:$A$43,プルダウンデータリスト!$F$2:$F$43))","v":"-"},"-","-","-"]
[null,null,null,null,null,null,null,null,"-",{"$f":"IF(B172=プルダウンデータリスト!$H$2,_xlfn.XLOOKUP('シート1-1'!A172,プルダウンデータリスト!$A$2:$A$43,プルダウンデータリスト!$B$2:$B$43),IF(B172=プルダウンデータリスト!$H$3,_xlfn.XLOOKUP('シート1-1'!A172,プルダウンデータリスト!$A$2:$A$43,プルダウンデータリスト!$C$2:$C$43),\"-\"))","v":"-"},{"$f":"IF(A172=\"\",\"-\",_xlfn.XLOOKUP(A172,プルダウンデータリスト!$A$2:$A$43,プルダウンデータリスト!$D$2:$D$43) + 1)","v":"-"},{"$f":"IF(A172=\"\",\"-\",_xlfn.XLOOKUP(A172,プルダウンデータリスト!$A$2:$A$43,プルダウンデータリスト!$E$2:$E$43))","v":"-"},{"$f":"IF(A172=\"\",\"-\",_xlfn.XLOOKUP(A172,プルダウンデータリスト!$A$2:$A$43,プルダウンデータリスト!$F$2:$F$43))","v":"-"},"-","-","-"]
[null,null,null,null,null,null,null,null,"-",{"$f":"IF(B173=プルダウンデータリスト!$H$2,_xlfn.XLOOKUP('シート1-1'!A173,プルダウンデータリスト!$A$2:$A$43,プルダウンデータリスト!$B$2:$B$43),IF(B173=プルダウンデータリスト!$H$3,_xlfn.XLOOKUP('シート1-1'!A173,プルダウンデータリスト!$A$2:$A$43,プルダウンデータリスト!$C$2:$C$43),\"-\"))","v":"-"},{"$f":"IF(A173=\"\",\"-\",_xlfn.XLOOKUP(A173,プルダウンデータリスト!$A$2:$A$43,プルダウンデータリスト!$D$2:$D$43) + 1)","v":"-"},{"$f":"IF(A173=\"\",\"-\",_xlfn.XLOOKUP(A173,プルダウンデータリスト!$A$2:$A$43,プルダウンデータリスト!$E$2:$E$43))","v":"-"},{"$f":"IF(A173=\"\",\"-\",_xlfn.XLOOKUP(A173,プルダウンデータリスト!$A$2:$A$43,プルダウンデータリスト!$F$2:$F$43))","v":"-"},"-","-","-"]
[null,null,null,null,null,null,null,null,"-",{"$f":"IF(B174=プルダウンデータリスト!$H$2,_xlfn.XLOOKUP('シート1-1'!A174,プルダウンデータリスト!$A$2:$A$43,プルダウンデータリスト!$B$2:$B$43),IF(B174=プルダウンデータリスト!$H$3,_xlfn.XLOOKUP('シート1-1'!A174,プルダウンデータリスト!$A$2:$A$43,プルダウンデータリスト!$C$2:$C$43),\"-\"))","v":"-"},{"$f":"IF(A174=\"\",\"-\",_xlfn.XLOOKUP(A174,プルダウンデータリスト!$A$2:$A$43,プルダウンデータリスト!$D$2:$D$43) + 1)","v":"-"},{"$f":"IF(A174=\"\",\"-\",_xlfn.XLOOKUP(A174,プルダウンデータリスト!$A$2:$A$43,プルダウンデータリスト!$E$2:$E$43))","v":"-"},{"$f":"IF(A174=\"\",\"-\",_xlfn.XLOOKUP(A174,プルダウンデータリスト!$A$2:$A$43,プルダウンデータリスト!$F$2:$F$43))","v":"-"},"-","-","-"]
[null,null,null,null,null,null,null,null,"-",{"$f":"IF(B175=プルダウンデータリスト!$H$2,_xlfn.XLOOKUP('シート1-1'!A175,プルダウンデータリスト!$A$2:$A$43,プルダウンデータリスト!$B$2:$B$43),IF(B175=プルダウンデータリスト!$H$3,_xlfn.XLOOKUP('シート1-1'!A175,プルダウンデータリスト!$A$2:$A$43,プルダウンデータリスト!$C$2:$C$43),\"-\"))","v":"-"},{"$f":"IF(A175=\"\",\"-\",_xlfn.XLOOKUP(A175,プルダウンデータリスト!$A$2:$A$43,プルダウンデータリスト!$D$2:$D$43) + 1)","v":"-"},{"$f":"IF(A175=\"\",\"-\",_xlfn.XLOOKUP(A175,プルダウンデータリスト!$A$2:$A$43,プルダウンデータリスト!$E$2:$E$43))","v":"-"},{"$f":"IF(A175=\"\",\"-\",_xlfn.XLOOKUP(A175,プルダウンデータリスト!$A$2:$A$43,プルダウンデータリスト!$F$2:$F$43))","v":"-"},"-","-","-"]
[null,null,null,null,null,null,null,null,"-",{"$f":"IF(B176=プルダウンデータリスト!$H$2,_xlfn.XLOOKUP('シート1-1'!A176,プルダウンデータリスト!$A$2:$A$43,プルダウンデータリスト!$B$2:$B$43),IF(B176=プルダウンデータリスト!$H$3,_xlfn.XLOOKUP('シート1-1'!A176,プルダウンデータリスト!$A$2:$A$43,プルダウンデータリスト!$C$2:$C$43),\"-\"))","v":"-"},{"$f":"IF(A176=\"\",\"-\",_xlfn.XLOOKUP(A176,プルダウンデータリスト!$A$2:$A$43,プルダウンデータリスト!$D$2:$D$43) + 1)","v":"-"},{"$f":"IF(A176=\"\",\"-\",_xlfn.XLOOKUP(A176,プルダウンデータリスト!$A$2:$A$43,プルダウンデータリスト!$E$2:$E$43))","v":"-"},{"$f":"IF(A176=\"\",\"-\",_xlfn.XLOOKUP(A176,プルダウンデータリスト!$A$2:$A$43,プルダウンデータリスト!$F$2:$F$43))","v":"-"},"-","-","-"]
[null,null,null,null,null,null,null,null,"-",{"$f":"IF(B177=プルダウンデータリスト!$H$2,_xlfn.XLOOKUP('シート1-1'!A177,プルダウンデータリスト!$A$2:$A$43,プルダウンデータリスト!$B$2:$B$43),IF(B177=プルダウンデータリスト!$H$3,_xlfn.XLOOKUP('シート1-1'!A177,プルダウンデータリスト!$A$2:$A$43,プルダウンデータリスト!$C$2:$C$43),\"-\"))","v":"-"},{"$f":"IF(A177=\"\",\"-\",_xlfn.XLOOKUP(A177,プルダウンデータリスト!$A$2:$A$43,プルダウンデータリスト!$D$2:$D$43) + 1)","v":"-"},{"$f":"IF(A177=\"\",\"-\",_xlfn.XLOOKUP(A177,プルダウンデータリスト!$A$2:$A$43,プルダウンデータリスト!$E$2:$E$43))","v":"-"},{"$f":"IF(A177=\"\",\"-\",_xlfn.XLOOKUP(A177,プルダウンデータリスト!$A$2:$A$43,プルダウンデータリスト!$F$2:$F$43))","v":"-"},"-","-","-"]
[null,null,null,null,null,null,null,null,"-",{"$f":"IF(B178=プルダウンデータリスト!$H$2,_xlfn.XLOOKUP('シート1-1'!A178,プルダウンデータリスト!$A$2:$A$43,プルダウンデータリスト!$B$2:$B$43),IF(B178=プルダウンデータリスト!$H$3,_xlfn.XLOOKUP('シート1-1'!A178,プルダウンデータリスト!$A$2:$A$43,プルダウンデータリスト!$C$2:$C$43),\"-\"))","v":"-"},{"$f":"IF(A178=\"\",\"-\",_xlfn.XLOOKUP(A178,プルダウンデータリスト!$A$2:$A$43,プルダウンデータリスト!$D$2:$D$43) + 1)","v":"-"},{"$f":"IF(A178=\"\",\"-\",_xlfn.XLOOKUP(A178,プルダウンデータリスト!$A$2:$A$43,プルダウンデータリスト!$E$2:$E$43))","v":"-"},{"$f":"IF(A178=\"\",\"-\",_xlfn.XLOOKUP(A178,プルダウンデータリスト!$A$2:$A$43,プルダウンデータリスト!$F$2:$F$43))","v":"-"},"-","-","-"]
[null,null,null,null,null,null,null,null,"-",{"$f":"IF(B179=プルダウンデータリスト!$H$2,_xlfn.XLOOKUP('シート1-1'!A179,プルダウンデータリスト!$A$2:$A$43,プルダウンデータリスト!$B$2:$B$43),IF(B179=プルダウンデータリスト!$H$3,_xlfn.XLOOKUP('シート1-1'!A179,プルダウンデータリスト!$A$2:$A$43,プルダウンデータリスト!$C$2:$C$43),\"-\"))","v":"-"},{"$f":"IF(A179=\"\",\"-\",_xlfn.XLOOKUP(A179,プルダウンデータリスト!$A$2:$A$43,プルダウンデータリスト!$D$2:$D$43) + 1)","v":"-"},{"$f":"IF(A179=\"\",\"-\",_xlfn.XLOOKUP(A179,プルダウンデータリスト!$A$2:$A$43,プルダウンデータリスト!$E$2:$E$43))","v":"-"},{"$f":"IF(A179=\"\",\"-\",_xlfn.XLOOKUP(A179,プルダウンデータリスト!$A$2:$A$43,プルダウンデータリスト!$F$2:$F$43))","v":"-"},"-","-","-"]
[null,null,null,null,null,null,null,null,"-",{"$f":"IF(B180=プルダウンデータリスト!$H$2,_xlfn.XLOOKUP('シート1-1'!A180,プルダウンデータリスト!$A$2:$A$43,プルダウンデータリスト!$B$2:$B$43),IF(B180=プルダウンデータリスト!$H$3,_xlfn.XLOOKUP('シート1-1'!A180,プルダウンデータリスト!$A$2:$A$43,プルダウンデータリスト!$C$2:$C$43),\"-\"))","v":"-"},{"$f":"IF(A180=\"\",\"-\",_xlfn.XLOOKUP(A180,プルダウンデータリスト!$A$2:$A$43,プルダウンデータリスト!$D$2:$D$43) + 1)","v":"-"},{"$f":"IF(A180=\"\",\"-\",_xlfn.XLOOKUP(A180,プルダウンデータリスト!$A$2:$A$43,プルダウンデータリスト!$E$2:$E$43))","v":"-"},{"$f":"IF(A180=\"\",\"-\",_xlfn.XLOOKUP(A180,プルダウンデータリスト!$A$2:$A$43,プルダウンデータリスト!$F$2:$F$43))","v":"-"},"-","-","-"]
[null,null,null,null,null,null,null,null,"-",{"$f":"IF(B181=プルダウンデータリスト!$H$2,_xlfn.XLOOKUP('シート1-1'!A181,プルダウンデータリスト!$A$2:$A$43,プルダウンデータリスト!$B$2:$B$43),IF(B181=プルダウンデータリスト!$H$3,_xlfn.XLOOKUP('シート1-1'!A181,プルダウンデータリスト!$A$2:$A$43,プルダウンデータリスト!$C$2:$C$43),\"-\"))","v":"-"},{"$f":"IF(A181=\"\",\"-\",_xlfn.XLOOKUP(A181,プルダウンデータリスト!$A$2:$A$43,プルダウンデータリスト!$D$2:$D$43) + 1)","v":"-"},{"$f":"IF(A181=\"\",\"-\",_xlfn.XLOOKUP(A181,プルダウンデータリスト!$A$2:$A$43,プルダウンデータリスト!$E$2:$E$43))","v":"-"},{"$f":"IF(A181=\"\",\"-\",_xlfn.XLOOKUP(A181,プルダウンデータリスト!$A$2:$A$43,プルダウンデータリスト!$F$2:$F$43))","v":"-"},"-","-","-"]
[null,null,null,null,null,null,null,null,"-",{"$f":"IF(B182=プルダウンデータリスト!$H$2,_xlfn.XLOOKUP('シート1-1'!A182,プルダウンデータリスト!$A$2:$A$43,プルダウンデータリスト!$B$2:$B$43),IF(B182=プルダウンデータリスト!$H$3,_xlfn.XLOOKUP('シート1-1'!A182,プルダウンデータリスト!$A$2:$A$43,プルダウンデータリスト!$C$2:$C$43),\"-\"))","v":"-"},{"$f":"IF(A182=\"\",\"-\",_xlfn.XLOOKUP(A182,プルダウンデータリスト!$A$2:$A$43,プルダウンデータリスト!$D$2:$D$43) + 1)","v":"-"},{"$f":"IF(A182=\"\",\"-\",_xlfn.XLOOKUP(A182,プルダウンデータリスト!$A$2:$A$43,プルダウンデータリスト!$E$2:$E$43))","v":"-"},{"$f":"IF(A182=\"\",\"-\",_xlfn.XLOOKUP(A182,プルダウンデータリスト!$A$2:$A$43,プルダウンデータリスト!$F$2:$F$43))","v":"-"},"-","-","-"]
[null,null,null,null,null,null,null,null,"-",{"$f":"IF(B183=プルダウンデータリスト!$H$2,_xlfn.XLOOKUP('シート1-1'!A183,プルダウンデータリスト!$A$2:$A$43,プルダウンデータリスト!$B$2:$B$43),IF(B183=プルダウンデータリスト!$H$3,_xlfn.XLOOKUP('シート1-1'!A183,プルダウンデータリスト!$A$2:$A$43,プルダウンデータリスト!$C$2:$C$43),\"-\"))","v":"-"},{"$f":"IF(A183=\"\",\"-\",_xlfn.XLOOKUP(A183,プルダウンデータリスト!$A$2:$A$43,プルダウンデータリスト!$D$2:$D$43) + 1)","v":"-"},{"$f":"IF(A183=\"\",\"-\",_xlfn.XLOOKUP(A183,プルダウンデータリスト!$A$2:$A$43,プルダウンデータリスト!$E$2:$E$43))","v":"-"},{"$f":"IF(A183=\"\",\"-\",_xlfn.XLOOKUP(A183,プルダウンデータリスト!$A$2:$A$43,プルダウンデータリスト!$F$2:$F$43))","v":"-"},"-","-","-"]
[null,null,null,null,null,null,null,null,"-",{"$f":"IF(B184=プルダウンデータリスト!$H$2,_xlfn.XLOOKUP('シート1-1'!A184,プルダウンデータリスト!$A$2:$A$43,プルダウンデータリスト!$B$2:$B$43),IF(B184=プルダウンデータリスト!$H$3,_xlfn.XLOOKUP('シート1-1'!A184,プルダウンデータリスト!$A$2:$A$43,プルダウンデータリスト!$C$2:$C$43),\"-\"))","v":"-"},{"$f":"IF(A184=\"\",\"-\",_xlfn.XLOOKUP(A184,プルダウンデータリスト!$A$2:$A$43,プルダウンデータリスト!$D$2:$D$43) + 1)","v":"-"},{"$f":"IF(A184=\"\",\"-\",_xlfn.XLOOKUP(A184,プルダウンデータリスト!$A$2:$A$43,プルダウンデータリスト!$E$2:$E$43))","v":"-"},{"$f":"IF(A184=\"\",\"-\",_xlfn.XLOOKUP(A184,プルダウンデータリスト!$A$2:$A$43,プルダウンデータリスト!$F$2:$F$43))","v":"-"},"-","-","-"]
[null,null,null,null,null,null,null,null,"-",{"$f":"IF(B185=プルダウンデータリスト!$H$2,_xlfn.XLOOKUP('シート1-1'!A185,プルダウンデータリスト!$A$2:$A$43,プルダウンデータリスト!$B$2:$B$43),IF(B185=プルダウンデータリスト!$H$3,_xlfn.XLOOKUP('シート1-1'!A185,プルダウンデータリスト!$A$2:$A$43,プルダウンデータリスト!$C$2:$C$43),\"-\"))","v":"-"},{"$f":"IF(A185=\"\",\"-\",_xlfn.XLOOKUP(A185,プルダウンデータリスト!$A$2:$A$43,プルダウンデータリスト!$D$2:$D$43) + 1)","v":"-"},{"$f":"IF(A185=\"\",\"-\",_xlfn.XLOOKUP(A185,プルダウンデータリスト!$A$2:$A$43,プルダウンデータリスト!$E$2:$E$43))","v":"-"},{"$f":"IF(A185=\"\",\"-\",_xlfn.XLOOKUP(A185,プルダウンデータリスト!$A$2:$A$43,プルダウンデータリスト!$F$2:$F$43))","v":"-"},"-","-","-"]
[null,null,null,null,null,null,null,null,"-",{"$f":"IF(B186=プルダウンデータリスト!$H$2,_xlfn.XLOOKUP('シート1-1'!A186,プルダウンデータリスト!$A$2:$A$43,プルダウンデータリスト!$B$2:$B$43),IF(B186=プルダウンデータリスト!$H$3,_xlfn.XLOOKUP('シート1-1'!A186,プルダウンデータリスト!$A$2:$A$43,プルダウンデータリスト!$C$2:$C$43),\"-\"))","v":"-"},{"$f":"IF(A186=\"\",\"-\",_xlfn.XLOOKUP(A186,プルダウンデータリスト!$A$2:$A$43,プルダウンデータリスト!$D$2:$D$43) + 1)","v":"-"},{"$f":"IF(A186=\"\",\"-\",_xlfn.XLOOKUP(A186,プルダウンデータリスト!$A$2:$A$43,プルダウンデータリスト!$E$2:$E$43))","v":"-"},{"$f":"IF(A186=\"\",\"-\",_xlfn.XLOOKUP(A186,プルダウンデータリスト!$A$2:$A$43,プルダウンデータリスト!$F$2:$F$43))","v":"-"},"-","-","-"]
[null,null,null,null,null,null,null,null,"-",{"$f":"IF(B187=プルダウンデータリスト!$H$2,_xlfn.XLOOKUP('シート1-1'!A187,プルダウンデータリスト!$A$2:$A$43,プルダウンデータリスト!$B$2:$B$43),IF(B187=プルダウンデータリスト!$H$3,_xlfn.XLOOKUP('シート1-1'!A187,プルダウンデータリスト!$A$2:$A$43,プルダウンデータリスト!$C$2:$C$43),\"-\"))","v":"-"},{"$f":"IF(A187=\"\",\"-\",_xlfn.XLOOKUP(A187,プルダウンデータリスト!$A$2:$A$43,プルダウンデータリスト!$D$2:$D$43) + 1)","v":"-"},{"$f":"IF(A187=\"\",\"-\",_xlfn.XLOOKUP(A187,プルダウンデータリスト!$A$2:$A$43,プルダウンデータリスト!$E$2:$E$43))","v":"-"},{"$f":"IF(A187=\"\",\"-\",_xlfn.XLOOKUP(A187,プルダウンデータリスト!$A$2:$A$43,プルダウンデータリスト!$F$2:$F$43))","v":"-"},"-","-","-"]
[null,null,null,null,null,null,null,null,"-",{"$f":"IF(B188=プルダウンデータリスト!$H$2,_xlfn.XLOOKUP('シート1-1'!A188,プルダウンデータリスト!$A$2:$A$43,プルダウンデータリスト!$B$2:$B$43),IF(B188=プルダウンデータリスト!$H$3,_xlfn.XLOOKUP('シート1-1'!A188,プルダウンデータリスト!$A$2:$A$43,プルダウンデータリスト!$C$2:$C$43),\"-\"))","v":"-"},{"$f":"IF(A188=\"\",\"-\",_xlfn.XLOOKUP(A188,プルダウンデータリスト!$A$2:$A$43,プルダウンデータリスト!$D$2:$D$43) + 1)","v":"-"},{"$f":"IF(A188=\"\",\"-\",_xlfn.XLOOKUP(A188,プルダウンデータリスト!$A$2:$A$43,プルダウンデータリスト!$E$2:$E$43))","v":"-"},{"$f":"IF(A188=\"\",\"-\",_xlfn.XLOOKUP(A188,プルダウンデータリスト!$A$2:$A$43,プルダウンデータリスト!$F$2:$F$43))","v":"-"},"-","-","-"]
[null,null,null,null,null,null,null,null,"-",{"$f":"IF(B189=プルダウンデータリスト!$H$2,_xlfn.XLOOKUP('シート1-1'!A189,プルダウンデータリスト!$A$2:$A$43,プルダウンデータリスト!$B$2:$B$43),IF(B189=プルダウンデータリスト!$H$3,_xlfn.XLOOKUP('シート1-1'!A189,プルダウンデータリスト!$A$2:$A$43,プルダウンデータリスト!$C$2:$C$43),\"-\"))","v":"-"},{"$f":"IF(A189=\"\",\"-\",_xlfn.XLOOKUP(A189,プルダウンデータリスト!$A$2:$A$43,プルダウンデータリスト!$D$2:$D$43) + 1)","v":"-"},{"$f":"IF(A189=\"\",\"-\",_xlfn.XLOOKUP(A189,プルダウンデータリスト!$A$2:$A$43,プルダウンデータリスト!$E$2:$E$43))","v":"-"},{"$f":"IF(A189=\"\",\"-\",_xlfn.XLOOKUP(A189,プルダウンデータリスト!$A$2:$A$43,プルダウンデータリスト!$F$2:$F$43))","v":"-"},"-","-","-"]
[null,null,null,null,null,null,null,null,"-",{"$f":"IF(B190=プルダウンデータリスト!$H$2,_xlfn.XLOOKUP('シート1-1'!A190,プルダウンデータリスト!$A$2:$A$43,プルダウンデータリスト!$B$2:$B$43),IF(B190=プルダウンデータリスト!$H$3,_xlfn.XLOOKUP('シート1-1'!A190,プルダウンデータリスト!$A$2:$A$43,プルダウンデータリスト!$C$2:$C$43),\"-\"))","v":"-"},{"$f":"IF(A190=\"\",\"-\",_xlfn.XLOOKUP(A190,プルダウンデータリスト!$A$2:$A$43,プルダウンデータリスト!$D$2:$D$43) + 1)","v":"-"},{"$f":"IF(A190=\"\",\"-\",_xlfn.XLOOKUP(A190,プルダウンデータリスト!$A$2:$A$43,プルダウンデータリスト!$E$2:$E$43))","v":"-"},{"$f":"IF(A190=\"\",\"-\",_xlfn.XLOOKUP(A190,プルダウンデータリスト!$A$2:$A$43,プルダウンデータリスト!$F$2:$F$43))","v":"-"},"-","-","-"]
[null,null,null,null,null,null,null,null,"-",{"$f":"IF(B191=プルダウンデータリスト!$H$2,_xlfn.XLOOKUP('シート1-1'!A191,プルダウンデータリスト!$A$2:$A$43,プルダウンデータリスト!$B$2:$B$43),IF(B191=プルダウンデータリスト!$H$3,_xlfn.XLOOKUP('シート1-1'!A191,プルダウンデータリスト!$A$2:$A$43,プルダウンデータリスト!$C$2:$C$43),\"-\"))","v":"-"},{"$f":"IF(A191=\"\",\"-\",_xlfn.XLOOKUP(A191,プルダウンデータリスト!$A$2:$A$43,プルダウンデータリスト!$D$2:$D$43) + 1)","v":"-"},{"$f":"IF(A191=\"\",\"-\",_xlfn.XLOOKUP(A191,プルダウンデータリスト!$A$2:$A$43,プルダウンデータリスト!$E$2:$E$43))","v":"-"},{"$f":"IF(A191=\"\",\"-\",_xlfn.XLOOKUP(A191,プルダウンデータリスト!$A$2:$A$43,プルダウンデータリスト!$F$2:$F$43))","v":"-"},"-","-","-"]
[null,null,null,null,null,null,null,null,"-",{"$f":"IF(B192=プルダウンデータリスト!$H$2,_xlfn.XLOOKUP('シート1-1'!A192,プルダウンデータリスト!$A$2:$A$43,プルダウンデータリスト!$B$2:$B$43),IF(B192=プルダウンデータリスト!$H$3,_xlfn.XLOOKUP('シート1-1'!A192,プルダウンデータリスト!$A$2:$A$43,プルダウンデータリスト!$C$2:$C$43),\"-\"))","v":"-"},{"$f":"IF(A192=\"\",\"-\",_xlfn.XLOOKUP(A192,プルダウンデータリスト!$A$2:$A$43,プルダウンデータリスト!$D$2:$D$43) + 1)","v":"-"},{"$f":"IF(A192=\"\",\"-\",_xlfn.XLOOKUP(A192,プルダウンデータリスト!$A$2:$A$43,プルダウンデータリスト!$E$2:$E$43))","v":"-"},{"$f":"IF(A192=\"\",\"-\",_xlfn.XLOOKUP(A192,プルダウンデータリスト!$A$2:$A$43,プルダウンデータリスト!$F$2:$F$43))","v":"-"},"-","-","-"]
[null,null,null,null,null,null,null,null,"-",{"$f":"IF(B193=プルダウンデータリスト!$H$2,_xlfn.XLOOKUP('シート1-1'!A193,プルダウンデータリスト!$A$2:$A$43,プルダウンデータリスト!$B$2:$B$43),IF(B193=プルダウンデータリスト!$H$3,_xlfn.XLOOKUP('シート1-1'!A193,プルダウンデータリスト!$A$2:$A$43,プルダウンデータリスト!$C$2:$C$43),\"-\"))","v":"-"},{"$f":"IF(A193=\"\",\"-\",_xlfn.XLOOKUP(A193,プルダウンデータリスト!$A$2:$A$43,プルダウンデータリスト!$D$2:$D$43) + 1)","v":"-"},{"$f":"IF(A193=\"\",\"-\",_xlfn.XLOOKUP(A193,プルダウンデータリスト!$A$2:$A$43,プルダウンデータリスト!$E$2:$E$43))","v":"-"},{"$f":"IF(A193=\"\",\"-\",_xlfn.XLOOKUP(A193,プルダウンデータリスト!$A$2:$A$43,プルダウンデータリスト!$F$2:$F$43))","v":"-"},"-","-","-"]
[null,null,null,null,null,null,null,null,"-",{"$f":"IF(B194=プルダウンデータリスト!$H$2,_xlfn.XLOOKUP('シート1-1'!A194,プルダウンデータリスト!$A$2:$A$43,プルダウンデータリスト!$B$2:$B$43),IF(B194=プルダウンデータリスト!$H$3,_xlfn.XLOOKUP('シート1-1'!A194,プルダウンデータリスト!$A$2:$A$43,プルダウンデータリスト!$C$2:$C$43),\"-\"))","v":"-"},{"$f":"IF(A194=\"\",\"-\",_xlfn.XLOOKUP(A194,プルダウンデータリスト!$A$2:$A$43,プルダウンデータリスト!$D$2:$D$43) + 1)","v":"-"},{"$f":"IF(A194=\"\",\"-\",_xlfn.XLOOKUP(A194,プルダウンデータリスト!$A$2:$A$43,プルダウンデータリスト!$E$2:$E$43))","v":"-"},{"$f":"IF(A194=\"\",\"-\",_xlfn.XLOOKUP(A194,プルダウンデータリスト!$A$2:$A$43,プルダウンデータリスト!$F$2:$F$43))","v":"-"},"-","-","-"]
[null,null,null,null,null,null,null,null,"-",{"$f":"IF(B195=プルダウンデータリスト!$H$2,_xlfn.XLOOKUP('シート1-1'!A195,プルダウンデータリスト!$A$2:$A$43,プルダウンデータリスト!$B$2:$B$43),IF(B195=プルダウンデータリスト!$H$3,_xlfn.XLOOKUP('シート1-1'!A195,プルダウンデータリスト!$A$2:$A$43,プルダウンデータリスト!$C$2:$C$43),\"-\"))","v":"-"},{"$f":"IF(A195=\"\",\"-\",_xlfn.XLOOKUP(A195,プルダウンデータリスト!$A$2:$A$43,プルダウンデータリスト!$D$2:$D$43) + 1)","v":"-"},{"$f":"IF(A195=\"\",\"-\",_xlfn.XLOOKUP(A195,プルダウンデータリスト!$A$2:$A$43,プルダウンデータリスト!$E$2:$E$43))","v":"-"},{"$f":"IF(A195=\"\",\"-\",_xlfn.XLOOKUP(A195,プルダウンデータリスト!$A$2:$A$43,プルダウンデータリスト!$F$2:$F$43))","v":"-"},"-","-","-"]
[null,null,null,null,null,null,null,null,"-",{"$f":"IF(B196=プルダウンデータリスト!$H$2,_xlfn.XLOOKUP('シート1-1'!A196,プルダウンデータリスト!$A$2:$A$43,プルダウンデータリスト!$B$2:$B$43),IF(B196=プルダウンデータリスト!$H$3,_xlfn.XLOOKUP('シート1-1'!A196,プルダウンデータリスト!$A$2:$A$43,プルダウンデータリスト!$C$2:$C$43),\"-\"))","v":"-"},{"$f":"IF(A196=\"\",\"-\",_xlfn.XLOOKUP(A196,プルダウンデータリスト!$A$2:$A$43,プルダウンデータリスト!$D$2:$D$43) + 1)","v":"-"},{"$f":"IF(A196=\"\",\"-\",_xlfn.XLOOKUP(A196,プルダウンデータリスト!$A$2:$A$43,プルダウンデータリスト!$E$2:$E$43))","v":"-"},{"$f":"IF(A196=\"\",\"-\",_xlfn.XLOOKUP(A196,プルダウンデータリスト!$A$2:$A$43,プルダウンデータリスト!$F$2:$F$43))","v":"-"},"-","-","-"]
[null,null,null,null,null,null,null,null,"-",{"$f":"IF(B197=プルダウンデータリスト!$H$2,_xlfn.XLOOKUP('シート1-1'!A197,プルダウンデータリスト!$A$2:$A$43,プルダウンデータリスト!$B$2:$B$43),IF(B197=プルダウンデータリスト!$H$3,_xlfn.XLOOKUP('シート1-1'!A197,プルダウンデータリスト!$A$2:$A$43,プルダウンデータリスト!$C$2:$C$43),\"-\"))","v":"-"},{"$f":"IF(A197=\"\",\"-\",_xlfn.XLOOKUP(A197,プルダウンデータリスト!$A$2:$A$43,プルダウンデータリスト!$D$2:$D$43) + 1)","v":"-"},{"$f":"IF(A197=\"\",\"-\",_xlfn.XLOOKUP(A197,プルダウンデータリスト!$A$2:$A$43,プルダウンデータリスト!$E$2:$E$43))","v":"-"},{"$f":"IF(A197=\"\",\"-\",_xlfn.XLOOKUP(A197,プルダウンデータリスト!$A$2:$A$43,プルダウンデータリスト!$F$2:$F$43))","v":"-"},"-","-","-"]
[null,null,null,null,null,null,null,null,"-",{"$f":"IF(B198=プルダウンデータリスト!$H$2,_xlfn.XLOOKUP('シート1-1'!A198,プルダウンデータリスト!$A$2:$A$43,プルダウンデータリスト!$B$2:$B$43),IF(B198=プルダウンデータリスト!$H$3,_xlfn.XLOOKUP('シート1-1'!A198,プルダウンデータリスト!$A$2:$A$43,プルダウンデータリスト!$C$2:$C$43),\"-\"))","v":"-"},{"$f":"IF(A198=\"\",\"-\",_xlfn.XLOOKUP(A198,プルダウンデータリスト!$A$2:$A$43,プルダウンデータリスト!$D$2:$D$43) + 1)","v":"-"},{"$f":"IF(A198=\"\",\"-\",_xlfn.XLOOKUP(A198,プルダウンデータリスト!$A$2:$A$43,プルダウンデータリスト!$E$2:$E$43))","v":"-"},{"$f":"IF(A198=\"\",\"-\",_xlfn.XLOOKUP(A198,プルダウンデータリスト!$A$2:$A$43,プルダウンデータリスト!$F$2:$F$43))","v":"-"},{"$f":"IFERROR(G198*($J198*$K198*$L198*$M198),\"-\")","v":"-"},{"$f":"IFERROR(H198*($J198*$K198*$L198*$M198),\"-\")","v":"-"},"-"]
[null,null,null,null,null,null,null,null,{"$f":"IF((H199-G199)=0,\"-\",H199-G199)","v":"-"},{"$f":"IF(B199=プルダウンデータリスト!$H$2,_xlfn.XLOOKUP('シート1-1'!A199,プルダウンデータリスト!$A$2:$A$43,プルダウンデータリスト!$B$2:$B$43),IF(B199=プルダウンデータリスト!$H$3,_xlfn.XLOOKUP('シート1-1'!A199,プルダウンデータリスト!$A$2:$A$43,プルダウンデータリスト!$C$2:$C$43),\"-\"))","v":"-"},{"$f":"IF(A199=\"\",\"-\",_xlfn.XLOOKUP(A199,プルダウンデータリスト!$A$2:$A$43,プルダウンデータリスト!$D$2:$D$43) + 1)","v":"-"},{"$f":"IF(A199=\"\",\"-\",_xlfn.XLOOKUP(A199,プルダウンデータリスト!$A$2:$A$43,プルダウンデータリスト!$E$2:$E$43))","v":"-"},{"$f":"IF(A199=\"\",\"-\",_xlfn.XLOOKUP(A199,プルダウンデータリスト!$A$2:$A$43,プルダウンデータリスト!$F$2:$F$43))","v":"-"},"-","-",{"$f":"IFERROR(O199-N199,\"-\")","v":"-"}]
[null,null,null,null,null,null,null,null,"-",{"$f":"IF(B200=プルダウンデータリスト!$H$2,_xlfn.XLOOKUP('シート1-1'!A200,プルダウンデータリスト!$A$2:$A$43,プルダウンデータリスト!$B$2:$B$43),IF(B200=プルダウンデータリスト!$H$3,_xlfn.XLOOKUP('シート1-1'!A200,プルダウンデータリスト!$A$2:$A$43,プルダウンデータリスト!$C$2:$C$43),\"-\"))","v":"-"},{"$f":"IF(A200=\"\",\"-\",_xlfn.XLOOKUP(A200,プルダウンデータリスト!$A$2:$A$43,プルダウンデータリスト!$D$2:$D$43) + 1)","v":"-"},{"$f":"IF(A200=\"\",\"-\",_xlfn.XLOOKUP(A200,プルダウンデータリスト!$A$2:$A$43,プルダウンデータリスト!$E$2:$E$43))","v":"-"},{"$f":"IF(A200=\"\",\"-\",_xlfn.XLOOKUP(A200,プルダウンデータリスト!$A$2:$A$43,プルダウンデータリスト!$F$2:$F$43))","v":"-"},"-","-","-"]
[null,null,null,null,null,null,null,null,"-",{"$f":"IF(B201=プルダウンデータリスト!$H$2,_xlfn.XLOOKUP('シート1-1'!A201,プルダウンデータリスト!$A$2:$A$43,プルダウンデータリスト!$B$2:$B$43),IF(B201=プルダウンデータリスト!$H$3,_xlfn.XLOOKUP('シート1-1'!A201,プルダウンデータリスト!$A$2:$A$43,プルダウンデータリスト!$C$2:$C$43),\"-\"))","v":"-"},{"$f":"IF(A201=\"\",\"-\",_xlfn.XLOOKUP(A201,プルダウンデータリスト!$A$2:$A$43,プルダウンデータリスト!$D$2:$D$43) + 1)","v":"-"},{"$f":"IF(A201=\"\",\"-\",_xlfn.XLOOKUP(A201,プルダウンデータリスト!$A$2:$A$43,プルダウンデータリスト!$E$2:$E$43))","v":"-"},{"$f":"IF(A201=\"\",\"-\",_xlfn.XLOOKUP(A201,プルダウンデータリスト!$A$2:$A$43,プルダウンデータリスト!$F$2:$F$43))","v":"-"},"-","-","-"]
[null,null,null,null,null,null,null,null,"-",{"$f":"IF(B202=プルダウンデータリスト!$H$2,_xlfn.XLOOKUP('シート1-1'!A202,プルダウンデータリスト!$A$2:$A$43,プルダウンデータリスト!$B$2:$B$43),IF(B202=プルダウンデータリスト!$H$3,_xlfn.XLOOKUP('シート1-1'!A202,プルダウンデータリスト!$A$2:$A$43,プルダウンデータリスト!$C$2:$C$43),\"-\"))","v":"-"},{"$f":"IF(A202=\"\",\"-\",_xlfn.XLOOKUP(A202,プルダウンデータリスト!$A$2:$A$43,プルダウンデータリスト!$D$2:$D$43) + 1)","v":"-"},{"$f":"IF(A202=\"\",\"-\",_xlfn.XLOOKUP(A202,プルダウンデータリスト!$A$2:$A$43,プルダウンデータリスト!$E$2:$E$43))","v":"-"},{"$f":"IF(A202=\"\",\"-\",_xlfn.XLOOKUP(A202,プルダウンデータリスト!$A$2:$A$43,プルダウンデータリスト!$F$2:$F$43))","v":"-"},"-","-","-"]
[null,null,null,null,null,null,null,null,"-",{"$f":"IF(B203=プルダウンデータリスト!$H$2,_xlfn.XLOOKUP('シート1-1'!A203,プルダウンデータリスト!$A$2:$A$43,プルダウンデータリスト!$B$2:$B$43),IF(B203=プルダウンデータリスト!$H$3,_xlfn.XLOOKUP('シート1-1'!A203,プルダウンデータリスト!$A$2:$A$43,プルダウンデータリスト!$C$2:$C$43),\"-\"))","v":"-"},{"$f":"IF(A203=\"\",\"-\",_xlfn.XLOOKUP(A203,プルダウンデータリスト!$A$2:$A$43,プルダウンデータリスト!$D$2:$D$43) + 1)","v":"-"},{"$f":"IF(A203=\"\",\"-\",_xlfn.XLOOKUP(A203,プルダウンデータリスト!$A$2:$A$43,プルダウンデータリスト!$E$2:$E$43))","v":"-"},{"$f":"IF(A203=\"\",\"-\",_xlfn.XLOOKUP(A203,プルダウンデータリスト!$A$2:$A$43,プルダウンデータリスト!$F$2:$F$43))","v":"-"},"-","-","-"]
[null,null,null,null,null,null,null,null,"-",{"$f":"IF(B204=プルダウンデータリスト!$H$2,_xlfn.XLOOKUP('シート1-1'!A204,プルダウンデータリスト!$A$2:$A$43,プルダウンデータリスト!$B$2:$B$43),IF(B204=プルダウンデータリスト!$H$3,_xlfn.XLOOKUP('シート1-1'!A204,プルダウンデータリスト!$A$2:$A$43,プルダウンデータリスト!$C$2:$C$43),\"-\"))","v":"-"},{"$f":"IF(A204=\"\",\"-\",_xlfn.XLOOKUP(A204,プルダウンデータリスト!$A$2:$A$43,プルダウンデータリスト!$D$2:$D$43) + 1)","v":"-"},{"$f":"IF(A204=\"\",\"-\",_xlfn.XLOOKUP(A204,プルダウンデータリスト!$A$2:$A$43,プルダウンデータリスト!$E$2:$E$43))","v":"-"},{"$f":"IF(A204=\"\",\"-\",_xlfn.XLOOKUP(A204,プルダウンデータリスト!$A$2:$A$43,プルダウンデータリスト!$F$2:$F$43))","v":"-"},"-","-","-"]
[null,null,null,null,null,null,null,null,"-",{"$f":"IF(B205=プルダウンデータリスト!$H$2,_xlfn.XLOOKUP('シート1-1'!A205,プルダウンデータリスト!$A$2:$A$43,プルダウンデータリスト!$B$2:$B$43),IF(B205=プルダウンデータリスト!$H$3,_xlfn.XLOOKUP('シート1-1'!A205,プルダウンデータリスト!$A$2:$A$43,プルダウンデータリスト!$C$2:$C$43),\"-\"))","v":"-"},{"$f":"IF(A205=\"\",\"-\",_xlfn.XLOOKUP(A205,プルダウンデータリスト!$A$2:$A$43,プルダウンデータリスト!$D$2:$D$43) + 1)","v":"-"},{"$f":"IF(A205=\"\",\"-\",_xlfn.XLOOKUP(A205,プルダウンデータリスト!$A$2:$A$43,プルダウンデータリスト!$E$2:$E$43))","v":"-"},{"$f":"IF(A205=\"\",\"-\",_xlfn.XLOOKUP(A205,プルダウンデータリスト!$A$2:$A$43,プルダウンデータリスト!$F$2:$F$43))","v":"-"},"-","-","-"]
["合計",null,null,{"$f":"SUM(D6:D205)","v":0},0,0,0,0,"-",null,null,null,null,null,null,{"$f":"SUM(P6:P205)","v":0}]
["（備考）"]
["※算定する森林のうち、森林経営計画、増進活動実施計画又は連携増進活動実施計画の対象となる森林のみを入力すること。"]
["※樹種の別、林齢の区分（20年生以下/21年生以上）の別、森林簿・実測の別ごとに行を分けて入力すること。"]
["※複数の小班等にまたがる場合は合計の蓄積を入力することが可能。"]
["※「変化した森林の蓄積の量」のうち、主伐により減少した森林の蓄積の量を「主伐材積」の欄に入力すること。"]
["※伐採等により減少した森林の蓄積の量を、森林簿に依らず実測等により把握した場合には、「森林簿・実測の別」の欄において「実測」を選択し、"]
["「森林の蓄積」の欄において「期首」の森林の蓄積から減少した森林の蓄積の量を減じた値を「期末」に入力すること。"]
["※「森林の蓄積」の欄には、期首の蓄積において算定対象年度の前年度期末時点の蓄積を入力し、期末の蓄積において当年度時点の蓄積を入力することが可能。"]
["※バイオマス拡大係数は、幹バイオマス量に対する地上部バイオマス（幹・枝・葉）量の比率。"]
["※1+Rは、地上部バイオマス量に対する、地上部及び地下部バイオマス量の比率。"]
["※行は必要に応じて追加すること。（隠れている行を再表示させることで追加可能。）"]

{"sheet":"シート1-2","index":3,"n_rows":218,"n_cols":13,"rows_kept":218,"cut":false,"hidden":false,"merged":[[4,12,5,12],[4,11,5,11],[4,0,5,0],[4,1,5,1],[4,2,5,2],[4,3,5,3],[4,6,5,6],[4,7,5,7],[4,8,5,8],[4,9,5,9],[4,10,5,10],[4,4,5,4],[4,5,5,5]]}
["○算定シート1-2（計画の対象となる森林を除いた森林）"]
[]
[]
[]
["樹種","林齢の区分","森林簿・実測の別","面積(ha)","主伐面積(ha)","主伐材積(㎥)","減少した森林の蓄積の量(㎥)","バイオマス拡大係数","1+R","容積密度","炭素含有率","減少した炭素蓄積の量(t-C)","備考"]
[]
[null,null,null,null,null,null,null,{"$f":"IF(B7=プルダウンデータリスト!$H$2,_xlfn.XLOOKUP(A7,プルダウンデータリスト!$A$2:$A$43,プルダウンデータリスト!$B$2:$B$43),IF(B7=プルダウンデータリスト!$H$3,_xlfn.XLOOKUP(A7,プルダウンデータリスト!$A$2:$A$43,プルダウンデータリスト!$C$2:$C$43),\"-\"))","v":"-"},{"$f":"IF(A7=\"\",\"-\",_xlfn.XLOOKUP(A7,プルダウンデータリスト!$A$2:$A$43,プルダウンデータリスト!$D$2:$D$43) + 1)","v":"-"},{"$f":"IF(A7=\"\",\"-\",_xlfn.XLOOKUP(A7,プルダウンデータリスト!$A$2:$A$43,プルダウンデータリスト!$E$2:$E$43))","v":"-"},{"$f":"IF(A7=\"\",\"-\",_xlfn.XLOOKUP(A7,プルダウンデータリスト!$A$2:$A$43,プルダウンデータリスト!$F$2:$F$43))","v":"-"},{"$f":"IFERROR(-1*ABS(G7*(H7*I7*J7*K7)),\"-\")","v":"-"}]
[null,null,null,null,null,null,null,{"$f":"IF(B8=プルダウンデータリスト!$H$2,_xlfn.XLOOKUP(A8,プルダウンデータリスト!$A$2:$A$43,プルダウンデータリスト!$B$2:$B$43),IF(B8=プルダウンデータリスト!$H$3,_xlfn.XLOOKUP(A8,プルダウンデータリスト!$A$2:$A$43,プルダウンデータリスト!$C$2:$C$43),\"-\"))","v":"-"},{"$f":"IF(A8=\"\",\"-\",_xlfn.XLOOKUP(A8,プルダウンデータリスト!$A$2:$A$43,プルダウンデータリスト!$D$2:$D$43) + 1)","v":"-"},{"$f":"IF(A8=\"\",\"-\",_xlfn.XLOOKUP(A8,プルダウンデータリスト!$A$2:$A$43,プルダウンデータリスト!$E$2:$E$43))","v":"-"},{"$f":"IF(A8=\"\",\"-\",_xlfn.XLOOKUP(A8,プルダウンデータリスト!$A$2:$A$43,プルダウンデータリスト!$F$2:$F$43))","v":"-"},{"$f":"IFERROR(-1*ABS(G8*(H8*I8*J8*K8)),\"-\")","v":"-"}]
[null,null,null,null,null,null,null,{"$f":"IF(B9=プルダウンデータリスト!$H$2,_xlfn.XLOOKUP(A9,プルダウンデータリスト!$A$2:$A$43,プルダウンデータリスト!$B$2:$B$43),IF(B9=プルダウンデータリスト!$H$3,_xlfn.XLOOKUP(A9,プルダウンデータリスト!$A$2:$A$43,プルダウンデータリスト!$C$2:$C$43),\"-\"))","v":"-"},{"$f":"IF(A9=\"\",\"-\",_xlfn.XLOOKUP(A9,プルダウンデータリスト!$A$2:$A$43,プルダウンデータリスト!$D$2:$D$43) + 1)","v":"-"},{"$f":"IF(A9=\"\",\"-\",_xlfn.XLOOKUP(A9,プルダウンデータリスト!$A$2:$A$43,プルダウンデータリスト!$E$2:$E$43))","v":"-"},{"$f":"IF(A9=\"\",\"-\",_xlfn.XLOOKUP(A9,プルダウンデータリスト!$A$2:$A$43,プルダウンデータリスト!$F$2:$F$43))","v":"-"},"-"]
[null,null,null,null,null,null,null,{"$f":"IF(B10=プルダウンデータリスト!$H$2,_xlfn.XLOOKUP(A10,プルダウンデータリスト!$A$2:$A$43,プルダウンデータリスト!$B$2:$B$43),IF(B10=プルダウンデータリスト!$H$3,_xlfn.XLOOKUP(A10,プルダウンデータリスト!$A$2:$A$43,プルダウンデータリスト!$C$2:$C$43),\"-\"))","v":"-"},{"$f":"IF(A10=\"\",\"-\",_xlfn.XLOOKUP(A10,プルダウンデータリスト!$A$2:$A$43,プルダウンデータリスト!$D$2:$D$43) + 1)","v":"-"},{"$f":"IF(A10=\"\",\"-\",_xlfn.XLOOKUP(A10,プルダウンデータリスト!$A$2:$A$43,プルダウンデータリスト!$E$2:$E$43))","v":"-"},{"$f":"IF(A10=\"\",\"-\",_xlfn.XLOOKUP(A10,プルダウンデータリスト!$A$2:$A$43,プルダウンデータリスト!$F$2:$F$43))","v":"-"},"-"]
[null,null,null,null,null,null,null,{"$f":"IF(B11=プルダウンデータリスト!$H$2,_xlfn.XLOOKUP(A11,プルダウンデータリスト!$A$2:$A$43,プルダウンデータリスト!$B$2:$B$43),IF(B11=プルダウンデータリスト!$H$3,_xlfn.XLOOKUP(A11,プルダウンデータリスト!$A$2:$A$43,プルダウンデータリスト!$C$2:$C$43),\"-\"))","v":"-"},{"$f":"IF(A11=\"\",\"-\",_xlfn.XLOOKUP(A11,プルダウンデータリスト!$A$2:$A$43,プルダウンデータリスト!$D$2:$D$43) + 1)","v":"-"},{"$f":"IF(A11=\"\",\"-\",_xlfn.XLOOKUP(A11,プルダウンデータリスト!$A$2:$A$43,プルダウンデータリスト!$E$2:$E$43))","v":"-"},{"$f":"IF(A11=\"\",\"-\",_xlfn.XLOOKUP(A11,プルダウンデータリスト!$A$2:$A$43,プルダウンデータリスト!$F$2:$F$43))","v":"-"},"-"]
[null,null,null,null,null,null,null,{"$f":"IF(B12=プルダウンデータリスト!$H$2,_xlfn.XLOOKUP(A12,プルダウンデータリスト!$A$2:$A$43,プルダウンデータリスト!$B$2:$B$43),IF(B12=プルダウンデータリスト!$H$3,_xlfn.XLOOKUP(A12,プルダウンデータリスト!$A$2:$A$43,プルダウンデータリスト!$C$2:$C$43),\"-\"))","v":"-"},{"$f":"IF(A12=\"\",\"-\",_xlfn.XLOOKUP(A12,プルダウンデータリスト!$A$2:$A$43,プルダウンデータリスト!$D$2:$D$43) + 1)","v":"-"},{"$f":"IF(A12=\"\",\"-\",_xlfn.XLOOKUP(A12,プルダウンデータリスト!$A$2:$A$43,プルダウンデータリスト!$E$2:$E$43))","v":"-"},{"$f":"IF(A12=\"\",\"-\",_xlfn.XLOOKUP(A12,プルダウンデータリスト!$A$2:$A$43,プルダウンデータリスト!$F$2:$F$43))","v":"-"},"-"]
[null,null,null,null,null,null,null,{"$f":"IF(B13=プルダウンデータリスト!$H$2,_xlfn.XLOOKUP(A13,プルダウンデータリスト!$A$2:$A$43,プルダウンデータリスト!$B$2:$B$43),IF(B13=プルダウンデータリスト!$H$3,_xlfn.XLOOKUP(A13,プルダウンデータリスト!$A$2:$A$43,プルダウンデータリスト!$C$2:$C$43),\"-\"))","v":"-"},{"$f":"IF(A13=\"\",\"-\",_xlfn.XLOOKUP(A13,プルダウンデータリスト!$A$2:$A$43,プルダウンデータリスト!$D$2:$D$43) + 1)","v":"-"},{"$f":"IF(A13=\"\",\"-\",_xlfn.XLOOKUP(A13,プルダウンデータリスト!$A$2:$A$43,プルダウンデータリスト!$E$2:$E$43))","v":"-"},{"$f":"IF(A13=\"\",\"-\",_xlfn.XLOOKUP(A13,プルダウンデータリスト!$A$2:$A$43,プルダウンデータリスト!$F$2:$F$43))","v":"-"},"-"]
[null,null,null,null,null,null,null,{"$f":"IF(B14=プルダウンデータリスト!$H$2,_xlfn.XLOOKUP(A14,プルダウンデータリスト!$A$2:$A$43,プルダウンデータリスト!$B$2:$B$43),IF(B14=プルダウンデータリスト!$H$3,_xlfn.XLOOKUP(A14,プルダウンデータリスト!$A$2:$A$43,プルダウンデータリスト!$C$2:$C$43),\"-\"))","v":"-"},{"$f":"IF(A14=\"\",\"-\",_xlfn.XLOOKUP(A14,プルダウンデータリスト!$A$2:$A$43,プルダウンデータリスト!$D$2:$D$43) + 1)","v":"-"},{"$f":"IF(A14=\"\",\"-\",_xlfn.XLOOKUP(A14,プルダウンデータリスト!$A$2:$A$43,プルダウンデータリスト!$E$2:$E$43))","v":"-"},{"$f":"IF(A14=\"\",\"-\",_xlfn.XLOOKUP(A14,プルダウンデータリスト!$A$2:$A$43,プルダウンデータリスト!$F$2:$F$43))","v":"-"},"-"]
[null,null,null,null,null,null,null,{"$f":"IF(B15=プルダウンデータリスト!$H$2,_xlfn.XLOOKUP(A15,プルダウンデータリスト!$A$2:$A$43,プルダウンデータリスト!$B$2:$B$43),IF(B15=プルダウンデータリスト!$H$3,_xlfn.XLOOKUP(A15,プルダウンデータリスト!$A$2:$A$43,プルダウンデータリスト!$C$2:$C$43),\"-\"))","v":"-"},{"$f":"IF(A15=\"\",\"-\",_xlfn.XLOOKUP(A15,プルダウンデータリスト!$A$2:$A$43,プルダウンデータリスト!$D$2:$D$43) + 1)","v":"-"},{"$f":"IF(A15=\"\",\"-\",_xlfn.XLOOKUP(A15,プルダウンデータリスト!$A$2:$A$43,プルダウンデータリスト!$E$2:$E$43))","v":"-"},{"$f":"IF(A15=\"\",\"-\",_xlfn.XLOOKUP(A15,プルダウンデータリスト!$A$2:$A$43,プルダウンデータリスト!$F$2:$F$43))","v":"-"},"-"]
[null,null,null,null,null,null,null,{"$f":"IF(B16=プルダウンデータリスト!$H$2,_xlfn.XLOOKUP(A16,プルダウンデータリスト!$A$2:$A$43,プルダウンデータリスト!$B$2:$B$43),IF(B16=プルダウンデータリスト!$H$3,_xlfn.XLOOKUP(A16,プルダウンデータリスト!$A$2:$A$43,プルダウンデータリスト!$C$2:$C$43),\"-\"))","v":"-"},{"$f":"IF(A16=\"\",\"-\",_xlfn.XLOOKUP(A16,プルダウンデータリスト!$A$2:$A$43,プルダウンデータリスト!$D$2:$D$43) + 1)","v":"-"},{"$f":"IF(A16=\"\",\"-\",_xlfn.XLOOKUP(A16,プルダウンデータリスト!$A$2:$A$43,プルダウンデータリスト!$E$2:$E$43))","v":"-"},{"$f":"IF(A16=\"\",\"-\",_xlfn.XLOOKUP(A16,プルダウンデータリスト!$A$2:$A$43,プルダウンデータリスト!$F$2:$F$43))","v":"-"},"-"]
[null,null,null,null,null,null,null,{"$f":"IF(B17=プルダウンデータリスト!$H$2,_xlfn.XLOOKUP(A17,プルダウンデータリスト!$A$2:$A$43,プルダウンデータリスト!$B$2:$B$43),IF(B17=プルダウンデータリスト!$H$3,_xlfn.XLOOKUP(A17,プルダウンデータリスト!$A$2:$A$43,プルダウンデータリスト!$C$2:$C$43),\"-\"))","v":"-"},{"$f":"IF(A17=\"\",\"-\",_xlfn.XLOOKUP(A17,プルダウンデータリスト!$A$2:$A$43,プルダウンデータリスト!$D$2:$D$43) + 1)","v":"-"},{"$f":"IF(A17=\"\",\"-\",_xlfn.XLOOKUP(A17,プルダウンデータリスト!$A$2:$A$43,プルダウンデータリスト!$E$2:$E$43))","v":"-"},{"$f":"IF(A17=\"\",\"-\",_xlfn.XLOOKUP(A17,プルダウンデータリスト!$A$2:$A$43,プルダウンデータリスト!$F$2:$F$43))","v":"-"},"-"]
[null,null,null,null,null,null,null,{"$f":"IF(B18=プルダウンデータリスト!$H$2,_xlfn.XLOOKUP(A18,プルダウンデータリスト!$A$2:$A$43,プルダウンデータリスト!$B$2:$B$43),IF(B18=プルダウンデータリスト!$H$3,_xlfn.XLOOKUP(A18,プルダウンデータリスト!$A$2:$A$43,プルダウンデータリスト!$C$2:$C$43),\"-\"))","v":"-"},{"$f":"IF(A18=\"\",\"-\",_xlfn.XLOOKUP(A18,プルダウンデータリスト!$A$2:$A$43,プルダウンデータリスト!$D$2:$D$43) + 1)","v":"-"},{"$f":"IF(A18=\"\",\"-\",_xlfn.XLOOKUP(A18,プルダウンデータリスト!$A$2:$A$43,プルダウンデータリスト!$E$2:$E$43))","v":"-"},{"$f":"IF(A18=\"\",\"-\",_xlfn.XLOOKUP(A18,プルダウンデータリスト!$A$2:$A$43,プルダウンデータリスト!$F$2:$F$43))","v":"-"},"-"]
[null,null,null,null,null,null,null,{"$f":"IF(B19=プルダウンデータリスト!$H$2,_xlfn.XLOOKUP(A19,プルダウンデータリスト!$A$2:$A$43,プルダウンデータリスト!$B$2:$B$43),IF(B19=プルダウンデータリスト!$H$3,_xlfn.XLOOKUP(A19,プルダウンデータリスト!$A$2:$A$43,プルダウンデータリスト!$C$2:$C$43),\"-\"))","v":"-"},{"$f":"IF(A19=\"\",\"-\",_xlfn.XLOOKUP(A19,プルダウンデータリスト!$A$2:$A$43,プルダウンデータリスト!$D$2:$D$43) + 1)","v":"-"},{"$f":"IF(A19=\"\",\"-\",_xlfn.XLOOKUP(A19,プルダウンデータリスト!$A$2:$A$43,プルダウンデータリスト!$E$2:$E$43))","v":"-"},{"$f":"IF(A19=\"\",\"-\",_xlfn.XLOOKUP(A19,プルダウンデータリスト!$A$2:$A$43,プルダウンデータリスト!$F$2:$F$43))","v":"-"},"-"]
[null,null,null,null,null,null,null,{"$f":"IF(B20=プルダウンデータリスト!$H$2,_xlfn.XLOOKUP(A20,プルダウンデータリスト!$A$2:$A$43,プルダウンデータリスト!$B$2:$B$43),IF(B20=プルダウンデータリスト!$H$3,_xlfn.XLOOKUP(A20,プルダウンデータリスト!$A$2:$A$43,プルダウンデータリスト!$C$2:$C$43),\"-\"))","v":"-"},{"$f":"IF(A20=\"\",\"-\",_xlfn.XLOOKUP(A20,プルダウンデータリスト!$A$2:$A$43,プルダウンデータリスト!$D$2:$D$43) + 1)","v":"-"},{"$f":"IF(A20=\"\",\"-\",_xlfn.XLOOKUP(A20,プルダウンデータリスト!$A$2:$A$43,プルダウンデータリスト!$E$2:$E$43))","v":"-"},{"$f":"IF(A20=\"\",\"-\",_xlfn.XLOOKUP(A20,プルダウンデータリスト!$A$2:$A$43,プルダウンデータリスト!$F$2:$F$43))","v":"-"},"-"]
[null,null,null,null,null,null,null,{"$f":"IF(B21=プルダウンデータリスト!$H$2,_xlfn.XLOOKUP(A21,プルダウンデータリスト!$A$2:$A$43,プルダウンデータリスト!$B$2:$B$43),IF(B21=プルダウンデータリスト!$H$3,_xlfn.XLOOKUP(A21,プルダウンデータリスト!$A$2:$A$43,プルダウンデータリスト!$C$2:$C$43),\"-\"))","v":"-"},{"$f":"IF(A21=\"\",\"-\",_xlfn.XLOOKUP(A21,プルダウンデータリスト!$A$2:$A$43,プルダウンデータリスト!$D$2:$D$43) + 1)","v":"-"},{"$f":"IF(A21=\"\",\"-\",_xlfn.XLOOKUP(A21,プルダウンデータリスト!$A$2:$A$43,プルダウンデータリスト!$E$2:$E$43))","v":"-"},{"$f":"IF(A21=\"\",\"-\",_xlfn.XLOOKUP(A21,プルダウンデータリスト!$A$2:$A$43,プルダウンデータリスト!$F$2:$F$43))","v":"-"},"-"]
[null,null,null,null,null,null,null,{"$f":"IF(B22=プルダウンデータリスト!$H$2,_xlfn.XLOOKUP(A22,プルダウンデータリスト!$A$2:$A$43,プルダウンデータリスト!$B$2:$B$43),IF(B22=プルダウンデータリスト!$H$3,_xlfn.XLOOKUP(A22,プルダウンデータリスト!$A$2:$A$43,プルダウンデータリスト!$C$2:$C$43),\"-\"))","v":"-"},{"$f":"IF(A22=\"\",\"-\",_xlfn.XLOOKUP(A22,プルダウンデータリスト!$A$2:$A$43,プルダウンデータリスト!$D$2:$D$43) + 1)","v":"-"},{"$f":"IF(A22=\"\",\"-\",_xlfn.XLOOKUP(A22,プルダウンデータリスト!$A$2:$A$43,プルダウンデータリスト!$E$2:$E$43))","v":"-"},{"$f":"IF(A22=\"\",\"-\",_xlfn.XLOOKUP(A22,プルダウンデータリスト!$A$2:$A$43,プルダウンデータリスト!$F$2:$F$43))","v":"-"},"-"]
[null,null,null,null,null,null,null,{"$f":"IF(B23=プルダウンデータリスト!$H$2,_xlfn.XLOOKUP(A23,プルダウンデータリスト!$A$2:$A$43,プルダウンデータリスト!$B$2:$B$43),IF(B23=プルダウンデータリスト!$H$3,_xlfn.XLOOKUP(A23,プルダウンデータリスト!$A$2:$A$43,プルダウンデータリスト!$C$2:$C$43),\"-\"))","v":"-"},{"$f":"IF(A23=\"\",\"-\",_xlfn.XLOOKUP(A23,プルダウンデータリスト!$A$2:$A$43,プルダウンデータリスト!$D$2:$D$43) + 1)","v":"-"},{"$f":"IF(A23=\"\",\"-\",_xlfn.XLOOKUP(A23,プルダウンデータリスト!$A$2:$A$43,プルダウンデータリスト!$E$2:$E$43))","v":"-"},{"$f":"IF(A23=\"\",\"-\",_xlfn.XLOOKUP(A23,プルダウンデータリスト!$A$2:$A$43,プルダウンデータリスト!$F$2:$F$43))","v":"-"},"-"]
[null,null,null,null,null,null,null,{"$f":"IF(B24=プルダウンデータリスト!$H$2,_xlfn.XLOOKUP(A24,プルダウンデータリスト!$A$2:$A$43,プルダウンデータリスト!$B$2:$B$43),IF(B24=プルダウンデータリスト!$H$3,_xlfn.XLOOKUP(A24,プルダウンデータリスト!$A$2:$A$43,プルダウンデータリスト!$C$2:$C$43),\"-\"))","v":"-"},{"$f":"IF(A24=\"\",\"-\",_xlfn.XLOOKUP(A24,プルダウンデータリスト!$A$2:$A$43,プルダウンデータリスト!$D$2:$D$43) + 1)","v":"-"},{"$f":"IF(A24=\"\",\"-\",_xlfn.XLOOKUP(A24,プルダウンデータリスト!$A$2:$A$43,プルダウンデータリスト!$E$2:$E$43))","v":"-"},{"$f":"IF(A24=\"\",\"-\",_xlfn.XLOOKUP(A24,プルダウンデータリスト!$A$2:$A$43,プルダウンデータリスト!$F$2:$F$43))","v":"-"},"-"]
[null,null,null,null,null,null,null,{"$f":"IF(B25=プルダウンデータリスト!$H$2,_xlfn.XLOOKUP(A25,プルダウンデータリスト!$A$2:$A$43,プルダウンデータリスト!$B$2:$B$43),IF(B25=プルダウンデータリスト!$H$3,_xlfn.XLOOKUP(A25,プルダウンデータリスト!$A$2:$A$43,プルダウンデータリスト!$C$2:$C$43),\"-\"))","v":"-"},{"$f":"IF(A25=\"\",\"-\",_xlfn.XLOOKUP(A25,プルダウンデータリスト!$A$2:$A$43,プルダウンデータリスト!$D$2:$D$43) + 1)","v":"-"},{"$f":"IF(A25=\"\",\"-\",_xlfn.XLOOKUP(A25,プルダウンデータリスト!$A$2:$A$43,プルダウンデータリスト!$E$2:$E$43))","v":"-"},{"$f":"IF(A25=\"\",\"-\",_xlfn.XLOOKUP(A25,プルダウンデータリスト!$A$2:$A$43,プルダウンデータリスト!$F$2:$F$43))","v":"-"},"-"]
[null,null,null,null,null,null,null,{"$f":"IF(B26=プルダウンデータリスト!$H$2,_xlfn.XLOOKUP(A26,プルダウンデータリスト!$A$2:$A$43,プルダウンデータリスト!$B$2:$B$43),IF(B26=プルダウンデータリスト!$H$3,_xlfn.XLOOKUP(A26,プルダウンデータリスト!$A$2:$A$43,プルダウンデータリスト!$C$2:$C$43),\"-\"))","v":"-"},{"$f":"IF(A26=\"\",\"-\",_xlfn.XLOOKUP(A26,プルダウンデータリスト!$A$2:$A$43,プルダウンデータリスト!$D$2:$D$43) + 1)","v":"-"},{"$f":"IF(A26=\"\",\"-\",_xlfn.XLOOKUP(A26,プルダウンデータリスト!$A$2:$A$43,プルダウンデータリスト!$E$2:$E$43))","v":"-"},{"$f":"IF(A26=\"\",\"-\",_xlfn.XLOOKUP(A26,プルダウンデータリスト!$A$2:$A$43,プルダウンデータリスト!$F$2:$F$43))","v":"-"},"-"]
[null,null,null,null,null,null,null,{"$f":"IF(B27=プルダウンデータリスト!$H$2,_xlfn.XLOOKUP(A27,プルダウンデータリスト!$A$2:$A$43,プルダウンデータリスト!$B$2:$B$43),IF(B27=プルダウンデータリスト!$H$3,_xlfn.XLOOKUP(A27,プルダウンデータリスト!$A$2:$A$43,プルダウンデータリスト!$C$2:$C$43),\"-\"))","v":"-"},{"$f":"IF(A27=\"\",\"-\",_xlfn.XLOOKUP(A27,プルダウンデータリスト!$A$2:$A$43,プルダウンデータリスト!$D$2:$D$43) + 1)","v":"-"},{"$f":"IF(A27=\"\",\"-\",_xlfn.XLOOKUP(A27,プルダウンデータリスト!$A$2:$A$43,プルダウンデータリスト!$E$2:$E$43))","v":"-"},{"$f":"IF(A27=\"\",\"-\",_xlfn.XLOOKUP(A27,プルダウンデータリスト!$A$2:$A$43,プルダウンデータリスト!$F$2:$F$43))","v":"-"},"-"]
[null,null,null,null,null,null,null,{"$f":"IF(B28=プルダウンデータリスト!$H$2,_xlfn.XLOOKUP(A28,プルダウンデータリスト!$A$2:$A$43,プルダウンデータリスト!$B$2:$B$43),IF(B28=プルダウンデータリスト!$H$3,_xlfn.XLOOKUP(A28,プルダウンデータリスト!$A$2:$A$43,プルダウンデータリスト!$C$2:$C$43),\"-\"))","v":"-"},{"$f":"IF(A28=\"\",\"-\",_xlfn.XLOOKUP(A28,プルダウンデータリスト!$A$2:$A$43,プルダウンデータリスト!$D$2:$D$43) + 1)","v":"-"},{"$f":"IF(A28=\"\",\"-\",_xlfn.XLOOKUP(A28,プルダウンデータリスト!$A$2:$A$43,プルダウンデータリスト!$E$2:$E$43))","v":"-"},{"$f":"IF(A28=\"\",\"-\",_xlfn.XLOOKUP(A28,プルダウンデータリスト!$A$2:$A$43,プルダウンデータリスト!$F$2:$F$43))","v":"-"},"-"]
[null,null,null,null,null,null,null,{"$f":"IF(B29=プルダウンデータリスト!$H$2,_xlfn.XLOOKUP(A29,プルダウンデータリスト!$A$2:$A$43,プルダウンデータリスト!$B$2:$B$43),IF(B29=プルダウンデータリスト!$H$3,_xlfn.XLOOKUP(A29,プルダウンデータリスト!$A$2:$A$43,プルダウンデータリスト!$C$2:$C$43),\"-\"))","v":"-"},{"$f":"IF(A29=\"\",\"-\",_xlfn.XLOOKUP(A29,プルダウンデータリスト!$A$2:$A$43,プルダウンデータリスト!$D$2:$D$43) + 1)","v":"-"},{"$f":"IF(A29=\"\",\"-\",_xlfn.XLOOKUP(A29,プルダウンデータリスト!$A$2:$A$43,プルダウンデータリスト!$E$2:$E$43))","v":"-"},{"$f":"IF(A29=\"\",\"-\",_xlfn.XLOOKUP(A29,プルダウンデータリスト!$A$2:$A$43,プルダウンデータリスト!$F$2:$F$43))","v":"-"},"-"]
[null,null,null,null,null,null,null,{"$f":"IF(B30=プルダウンデータリスト!$H$2,_xlfn.XLOOKUP(A30,プルダウンデータリスト!$A$2:$A$43,プルダウンデータリスト!$B$2:$B$43),IF(B30=プルダウンデータリスト!$H$3,_xlfn.XLOOKUP(A30,プルダウンデータリスト!$A$2:$A$43,プルダウンデータリスト!$C$2:$C$43),\"-\"))","v":"-"},{"$f":"IF(A30=\"\",\"-\",_xlfn.XLOOKUP(A30,プルダウンデータリスト!$A$2:$A$43,プルダウンデータリスト!$D$2:$D$43) + 1)","v":"-"},{"$f":"IF(A30=\"\",\"-\",_xlfn.XLOOKUP(A30,プルダウンデータリスト!$A$2:$A$43,プルダウンデータリスト!$E$2:$E$43))","v":"-"},{"$f":"IF(A30=\"\",\"-\",_xlfn.XLOOKUP(A30,プルダウンデータリスト!$A$2:$A$43,プルダウンデータリスト!$F$2:$F$43))","v":"-"},"-"]
[null,null,null,null,null,null,null,{"$f":"IF(B31=プルダウンデータリスト!$H$2,_xlfn.XLOOKUP(A31,プルダウンデータリスト!$A$2:$A$43,プルダウンデータリスト!$B$2:$B$43),IF(B31=プルダウンデータリスト!$H$3,_xlfn.XLOOKUP(A31,プルダウンデータリスト!$A$2:$A$43,プルダウンデータリスト!$C$2:$C$43),\"-\"))","v":"-"},{"$f":"IF(A31=\"\",\"-\",_xlfn.XLOOKUP(A31,プルダウンデータリスト!$A$2:$A$43,プルダウンデータリスト!$D$2:$D$43) + 1)","v":"-"},{"$f":"IF(A31=\"\",\"-\",_xlfn.XLOOKUP(A31,プルダウンデータリスト!$A$2:$A$43,プルダウンデータリスト!$E$2:$E$43))","v":"-"},{"$f":"IF(A31=\"\",\"-\",_xlfn.XLOOKUP(A31,プルダウンデータリスト!$A$2:$A$43,プルダウンデータリスト!$F$2:$F$43))","v":"-"},"-"]
[null,null,null,null,null,null,null,{"$f":"IF(B32=プルダウンデータリスト!$H$2,_xlfn.XLOOKUP(A32,プルダウンデータリスト!$A$2:$A$43,プルダウンデータリスト!$B$2:$B$43),IF(B32=プルダウンデータリスト!$H$3,_xlfn.XLOOKUP(A32,プルダウンデータリスト!$A$2:$A$43,プルダウンデータリスト!$C$2:$C$43),\"-\"))","v":"-"},{"$f":"IF(A32=\"\",\"-\",_xlfn.XLOOKUP(A32,プルダウンデータリスト!$A$2:$A$43,プルダウンデータリスト!$D$2:$D$43) + 1)","v":"-"},{"$f":"IF(A32=\"\",\"-\",_xlfn.XLOOKUP(A32,プルダウンデータリスト!$A$2:$A$43,プルダウンデータリスト!$E$2:$E$43))","v":"-"},{"$f":"IF(A32=\"\",\"-\",_xlfn.XLOOKUP(A32,プルダウンデータリスト!$A$2:$A$43,プルダウンデータリスト!$F$2:$F$43))","v":"-"},"-"]
[null,null,null,null,null,null,null,{"$f":"IF(B33=プルダウンデータリスト!$H$2,_xlfn.XLOOKUP(A33,プルダウンデータリスト!$A$2:$A$43,プルダウンデータリスト!$B$2:$B$43),IF(B33=プルダウンデータリスト!$H$3,_xlfn.XLOOKUP(A33,プルダウンデータリスト!$A$2:$A$43,プルダウンデータリスト!$C$2:$C$43),\"-\"))","v":"-"},{"$f":"IF(A33=\"\",\"-\",_xlfn.XLOOKUP(A33,プルダウンデータリスト!$A$2:$A$43,プルダウンデータリスト!$D$2:$D$43) + 1)","v":"-"},{"$f":"IF(A33=\"\",\"-\",_xlfn.XLOOKUP(A33,プルダウンデータリスト!$A$2:$A$43,プルダウンデータリスト!$E$2:$E$43))","v":"-"},{"$f":"IF(A33=\"\",\"-\",_xlfn.XLOOKUP(A33,プルダウンデータリスト!$A$2:$A$43,プルダウンデータリスト!$F$2:$F$43))","v":"-"},"-"]
[null,null,null,null,null,null,null,{"$f":"IF(B34=プルダウンデータリスト!$H$2,_xlfn.XLOOKUP(A34,プルダウンデータリスト!$A$2:$A$43,プルダウンデータリスト!$B$2:$B$43),IF(B34=プルダウンデータリスト!$H$3,_xlfn.XLOOKUP(A34,プルダウンデータリスト!$A$2:$A$43,プルダウンデータリスト!$C$2:$C$43),\"-\"))","v":"-"},{"$f":"IF(A34=\"\",\"-\",_xlfn.XLOOKUP(A34,プルダウンデータリスト!$A$2:$A$43,プルダウンデータリスト!$D$2:$D$43) + 1)","v":"-"},{"$f":"IF(A34=\"\",\"-\",_xlfn.XLOOKUP(A34,プルダウンデータリスト!$A$2:$A$43,プルダウンデータリスト!$E$2:$E$43))","v":"-"},{"$f":"IF(A34=\"\",\"-\",_xlfn.XLOOKUP(A34,プルダウンデータリスト!$A$2:$A$43,プルダウンデータリスト!$F$2:$F$43))","v":"-"},"-"]
[null,null,null,null,null,null,null,{"$f":"IF(B35=プルダウンデータリスト!$H$2,_xlfn.XLOOKUP(A35,プルダウンデータリスト!$A$2:$A$43,プルダウンデータリスト!$B$2:$B$43),IF(B35=プルダウンデータリスト!$H$3,_xlfn.XLOOKUP(A35,プルダウンデータリスト!$A$2:$A$43,プルダウンデータリスト!$C$2:$C$43),\"-\"))","v":"-"},{"$f":"IF(A35=\"\",\"-\",_xlfn.XLOOKUP(A35,プルダウンデータリスト!$A$2:$A$43,プルダウンデータリスト!$D$2:$D$43) + 1)","v":"-"},{"$f":"IF(A35=\"\",\"-\",_xlfn.XLOOKUP(A35,プルダウンデータリスト!$A$2:$A$43,プルダウンデータリスト!$E$2:$E$43))","v":"-"},{"$f":"IF(A35=\"\",\"-\",_xlfn.XLOOKUP(A35,プルダウンデータリスト!$A$2:$A$43,プルダウンデータリスト!$F$2:$F$43))","v":"-"},"-"]
[null,null,null,null,null,null,null,{"$f":"IF(B36=プルダウンデータリスト!$H$2,_xlfn.XLOOKUP(A36,プルダウンデータリスト!$A$2:$A$43,プルダウンデータリスト!$B$2:$B$43),IF(B36=プルダウンデータリスト!$H$3,_xlfn.XLOOKUP(A36,プルダウンデータリスト!$A$2:$A$43,プルダウンデータリスト!$C$2:$C$43),\"-\"))","v":"-"},{"$f":"IF(A36=\"\",\"-\",_xlfn.XLOOKUP(A36,プルダウンデータリスト!$A$2:$A$43,プルダウンデータリスト!$D$2:$D$43) + 1)","v":"-"},{"$f":"IF(A36=\"\",\"-\",_xlfn.XLOOKUP(A36,プルダウンデータリスト!$A$2:$A$43,プルダウンデータリスト!$E$2:$E$43))","v":"-"},{"$f":"IF(A36=\"\",\"-\",_xlfn.XLOOKUP(A36,プルダウンデータリスト!$A$2:$A$43,プルダウンデータリスト!$F$2:$F$43))","v":"-"},"-"]
[null,null,null,null,null,null,null,{"$f":"IF(B37=プルダウンデータリスト!$H$2,_xlfn.XLOOKUP(A37,プルダウンデータリスト!$A$2:$A$43,プルダウンデータリスト!$B$2:$B$43),IF(B37=プルダウンデータリスト!$H$3,_xlfn.XLOOKUP(A37,プルダウンデータリスト!$A$2:$A$43,プルダウンデータリスト!$C$2:$C$43),\"-\"))","v":"-"},{"$f":"IF(A37=\"\",\"-\",_xlfn.XLOOKUP(A37,プルダウンデータリスト!$A$2:$A$43,プルダウンデータリスト!$D$2:$D$43) + 1)","v":"-"},{"$f":"IF(A37=\"\",\"-\",_xlfn.XLOOKUP(A37,プルダウンデータリスト!$A$2:$A$43,プルダウンデータリスト!$E$2:$E$43))","v":"-"},{"$f":"IF(A37=\"\",\"-\",_xlfn.XLOOKUP(A37,プルダウンデータリスト!$A$2:$A$43,プルダウンデータリスト!$F$2:$F$43))","v":"-"},"-"]
[null,null,null,null,null,null,null,{"$f":"IF(B38=プルダウンデータリスト!$H$2,_xlfn.XLOOKUP(A38,プルダウンデータリスト!$A$2:$A$43,プルダウンデータリスト!$B$2:$B$43),IF(B38=プルダウンデータリスト!$H$3,_xlfn.XLOOKUP(A38,プルダウンデータリスト!$A$2:$A$43,プルダウンデータリスト!$C$2:$C$43),\"-\"))","v":"-"},{"$f":"IF(A38=\"\",\"-\",_xlfn.XLOOKUP(A38,プルダウンデータリスト!$A$2:$A$43,プルダウンデータリスト!$D$2:$D$43) + 1)","v":"-"},{"$f":"IF(A38=\"\",\"-\",_xlfn.XLOOKUP(A38,プルダウンデータリスト!$A$2:$A$43,プルダウンデータリスト!$E$2:$E$43))","v":"-"},{"$f":"IF(A38=\"\",\"-\",_xlfn.XLOOKUP(A38,プルダウンデータリスト!$A$2:$A$43,プルダウンデータリスト!$F$2:$F$43))","v":"-"},"-"]
[null,null,null,null,null,null,null,{"$f":"IF(B39=プルダウンデータリスト!$H$2,_xlfn.XLOOKUP(A39,プルダウンデータリスト!$A$2:$A$43,プルダウンデータリスト!$B$2:$B$43),IF(B39=プルダウンデータリスト!$H$3,_xlfn.XLOOKUP(A39,プルダウンデータリスト!$A$2:$A$43,プルダウンデータリスト!$C$2:$C$43),\"-\"))","v":"-"},{"$f":"IF(A39=\"\",\"-\",_xlfn.XLOOKUP(A39,プルダウンデータリスト!$A$2:$A$43,プルダウンデータリスト!$D$2:$D$43) + 1)","v":"-"},{"$f":"IF(A39=\"\",\"-\",_xlfn.XLOOKUP(A39,プルダウンデータリスト!$A$2:$A$43,プルダウンデータリスト!$E$2:$E$43))","v":"-"},{"$f":"IF(A39=\"\",\"-\",_xlfn.XLOOKUP(A39,プルダウンデータリスト!$A$2:$A$43,プルダウンデータリスト!$F$2:$F$43))","v":"-"},"-"]
[null,null,null,null,null,null,null,{"$f":"IF(B40=プルダウンデータリスト!$H$2,_xlfn.XLOOKUP(A40,プルダウンデータリスト!$A$2:$A$43,プルダウンデータリスト!$B$2:$B$43),IF(B40=プルダウンデータリスト!$H$3,_xlfn.XLOOKUP(A40,プルダウンデータリスト!$A$2:$A$43,プルダウンデータリスト!$C$2:$C$43),\"-\"))","v":"-"},{"$f":"IF(A40=\"\",\"-\",_xlfn.XLOOKUP(A40,プルダウンデータリスト!$A$2:$A$43,プルダウンデータリスト!$D$2:$D$43) + 1)","v":"-"},{"$f":"IF(A40=\"\",\"-\",_xlfn.XLOOKUP(A40,プルダウンデータリスト!$A$2:$A$43,プルダウンデータリスト!$E$2:$E$43))","v":"-"},{"$f":"IF(A40=\"\",\"-\",_xlfn.XLOOKUP(A40,プルダウンデータリスト!$A$2:$A$43,プルダウンデータリスト!$F$2:$F$43))","v":"-"},"-"]
[null,null,null,null,null,null,null,{"$f":"IF(B41=プルダウンデータリスト!$H$2,_xlfn.XLOOKUP(A41,プルダウンデータリスト!$A$2:$A$43,プルダウンデータリスト!$B$2:$B$43),IF(B41=プルダウンデータリスト!$H$3,_xlfn.XLOOKUP(A41,プルダウンデータリスト!$A$2:$A$43,プルダウンデータリスト!$C$2:$C$43),\"-\"))","v":"-"},{"$f":"IF(A41=\"\",\"-\",_xlfn.XLOOKUP(A41,プルダウンデータリスト!$A$2:$A$43,プルダウンデータリスト!$D$2:$D$43) + 1)","v":"-"},{"$f":"IF(A41=\"\",\"-\",_xlfn.XLOOKUP(A41,プルダウンデータリスト!$A$2:$A$43,プルダウンデータリスト!$E$2:$E$43))","v":"-"},{"$f":"IF(A41=\"\",\"-\",_xlfn.XLOOKUP(A41,プルダウンデータリスト!$A$2:$A$43,プルダウンデータリスト!$F$2:$F$43))","v":"-"},"-"]
[null,null,null,null,null,null,null,{"$f":"IF(B42=プルダウンデータリスト!$H$2,_xlfn.XLOOKUP(A42,プルダウンデータリスト!$A$2:$A$43,プルダウンデータリスト!$B$2:$B$43),IF(B42=プルダウンデータリスト!$H$3,_xlfn.XLOOKUP(A42,プルダウンデータリスト!$A$2:$A$43,プルダウンデータリスト!$C$2:$C$43),\"-\"))","v":"-"},{"$f":"IF(A42=\"\",\"-\",_xlfn.XLOOKUP(A42,プルダウンデータリスト!$A$2:$A$43,プルダウンデータリスト!$D$2:$D$43) + 1)","v":"-"},{"$f":"IF(A42=\"\",\"-\",_xlfn.XLOOKUP(A42,プルダウンデータリスト!$A$2:$A$43,プルダウンデータリスト!$E$2:$E$43))","v":"-"},{"$f":"IF(A42=\"\",\"-\",_xlfn.XLOOKUP(A42,プルダウンデータリスト!$A$2:$A$43,プルダウンデータリスト!$F$2:$F$43))","v":"-"},"-"]
[null,null,null,null,null,null,null,{"$f":"IF(B43=プルダウンデータリスト!$H$2,_xlfn.XLOOKUP(A43,プルダウンデータリスト!$A$2:$A$43,プルダウンデータリスト!$B$2:$B$43),IF(B43=プルダウンデータリスト!$H$3,_xlfn.XLOOKUP(A43,プルダウンデータリスト!$A$2:$A$43,プルダウンデータリスト!$C$2:$C$43),\"-\"))","v":"-"},{"$f":"IF(A43=\"\",\"-\",_xlfn.XLOOKUP(A43,プルダウンデータリスト!$A$2:$A$43,プルダウンデータリスト!$D$2:$D$43) + 1)","v":"-"},{"$f":"IF(A43=\"\",\"-\",_xlfn.XLOOKUP(A43,プルダウンデータリスト!$A$2:$A$43,プルダウンデータリスト!$E$2:$E$43))","v":"-"},{"$f":"IF(A43=\"\",\"-\",_xlfn.XLOOKUP(A43,プルダウンデータリスト!$A$2:$A$43,プルダウンデータリスト!$F$2:$F$43))","v":"-"},"-"]
[null,null,null,null,null,null,null,{"$f":"IF(B44=プルダウンデータリスト!$H$2,_xlfn.XLOOKUP(A44,プルダウンデータリスト!$A$2:$A$43,プルダウンデータリスト!$B$2:$B$43),IF(B44=プルダウンデータリスト!$H$3,_xlfn.XLOOKUP(A44,プルダウンデータリスト!$A$2:$A$43,プルダウンデータリスト!$C$2:$C$43),\"-\"))","v":"-"},{"$f":"IF(A44=\"\",\"-\",_xlfn.XLOOKUP(A44,プルダウンデータリスト!$A$2:$A$43,プルダウンデータリスト!$D$2:$D$43) + 1)","v":"-"},{"$f":"IF(A44=\"\",\"-\",_xlfn.XLOOKUP(A44,プルダウンデータリスト!$A$2:$A$43,プルダウンデータリスト!$E$2:$E$43))","v":"-"},{"$f":"IF(A44=\"\",\"-\",_xlfn.XLOOKUP(A44,プルダウンデータリスト!$A$2:$A$43,プルダウンデータリスト!$F$2:$F$43))","v":"-"},"-"]
[null,null,null,null,null,null,null,{"$f":"IF(B45=プルダウンデータリスト!$H$2,_xlfn.XLOOKUP(A45,プルダウンデータリスト!$A$2:$A$43,プルダウンデータリスト!$B$2:$B$43),IF(B45=プルダウンデータリスト!$H$3,_xlfn.XLOOKUP(A45,プルダウンデータリスト!$A$2:$A$43,プルダウンデータリスト!$C$2:$C$43),\"-\"))","v":"-"},{"$f":"IF(A45=\"\",\"-\",_xlfn.XLOOKUP(A45,プルダウンデータリスト!$A$2:$A$43,プルダウンデータリスト!$D$2:$D$43) + 1)","v":"-"},{"$f":"IF(A45=\"\",\"-\",_xlfn.XLOOKUP(A45,プルダウンデータリスト!$A$2:$A$43,プルダウンデータリスト!$E$2:$E$43))","v":"-"},{"$f":"IF(A45=\"\",\"-\",_xlfn.XLOOKUP(A45,プルダウンデータリスト!$A$2:$A$43,プルダウンデータリスト!$F$2:$F$43))","v":"-"},"-"]
[null,null,null,null,null,null,null,{"$f":"IF(B46=プルダウンデータリスト!$H$2,_xlfn.XLOOKUP(A46,プルダウンデータリスト!$A$2:$A$43,プルダウンデータリスト!$B$2:$B$43),IF(B46=プルダウンデータリスト!$H$3,_xlfn.XLOOKUP(A46,プルダウンデータリスト!$A$2:$A$43,プルダウンデータリスト!$C$2:$C$43),\"-\"))","v":"-"},{"$f":"IF(A46=\"\",\"-\",_xlfn.XLOOKUP(A46,プルダウンデータリスト!$A$2:$A$43,プルダウンデータリスト!$D$2:$D$43) + 1)","v":"-"},{"$f":"IF(A46=\"\",\"-\",_xlfn.XLOOKUP(A46,プルダウンデータリスト!$A$2:$A$43,プルダウンデータリスト!$E$2:$E$43))","v":"-"},{"$f":"IF(A46=\"\",\"-\",_xlfn.XLOOKUP(A46,プルダウンデータリスト!$A$2:$A$43,プルダウンデータリスト!$F$2:$F$43))","v":"-"},"-"]
[null,null,null,null,null,null,null,{"$f":"IF(B47=プルダウンデータリスト!$H$2,_xlfn.XLOOKUP(A47,プルダウンデータリスト!$A$2:$A$43,プルダウンデータリスト!$B$2:$B$43),IF(B47=プルダウンデータリスト!$H$3,_xlfn.XLOOKUP(A47,プルダウンデータリスト!$A$2:$A$43,プルダウンデータリスト!$C$2:$C$43),\"-\"))","v":"-"},{"$f":"IF(A47=\"\",\"-\",_xlfn.XLOOKUP(A47,プルダウンデータリスト!$A$2:$A$43,プルダウンデータリスト!$D$2:$D$43) + 1)","v":"-"},{"$f":"IF(A47=\"\",\"-\",_xlfn.XLOOKUP(A47,プルダウンデータリスト!$A$2:$A$43,プルダウンデータリスト!$E$2:$E$43))","v":"-"},{"$f":"IF(A47=\"\",\"-\",_xlfn.XLOOKUP(A47,プルダウンデータリスト!$A$2:$A$43,プルダウンデータリスト!$F$2:$F$43))","v":"-"},"-"]
[null,null,null,null,null,null,null,{"$f":"IF(B48=プルダウンデータリスト!$H$2,_xlfn.XLOOKUP(A48,プルダウンデータリスト!$A$2:$A$43,プルダウンデータリスト!$B$2:$B$43),IF(B48=プルダウンデータリスト!$H$3,_xlfn.XLOOKUP(A48,プルダウンデータリスト!$A$2:$A$43,プルダウンデータリスト!$C$2:$C$43),\"-\"))","v":"-"},{"$f":"IF(A48=\"\",\"-\",_xlfn.XLOOKUP(A48,プルダウンデータリスト!$A$2:$A$43,プルダウンデータリスト!$D$2:$D$43) + 1)","v":"-"},{"$f":"IF(A48=\"\",\"-\",_xlfn.XLOOKUP(A48,プルダウンデータリスト!$A$2:$A$43,プルダウンデータリスト!$E$2:$E$43))","v":"-"},{"$f":"IF(A48=\"\",\"-\",_xlfn.XLOOKUP(A48,プルダウンデータリスト!$A$2:$A$43,プルダウンデータリスト!$F$2:$F$43))","v":"-"},"-"]
[null,null,null,null,null,null,null,{"$f":"IF(B49=プルダウンデータリスト!$H$2,_xlfn.XLOOKUP(A49,プルダウンデータリスト!$A$2:$A$43,プルダウンデータリスト!$B$2:$B$43),IF(B49=プルダウンデータリスト!$H$3,_xlfn.XLOOKUP(A49,プルダウンデータリスト!$A$2:$A$43,プルダウンデータリスト!$C$2:$C$43),\"-\"))","v":"-"},{"$f":"IF(A49=\"\",\"-\",_xlfn.XLOOKUP(A49,プルダウンデータリスト!$A$2:$A$43,プルダウンデータリスト!$D$2:$D$43) + 1)","v":"-"},{"$f":"IF(A49=\"\",\"-\",_xlfn.XLOOKUP(A49,プルダウンデータリスト!$A$2:$A$43,プルダウンデータリスト!$E$2:$E$43))","v":"-"},{"$f":"IF(A49=\"\",\"-\",_xlfn.XLOOKUP(A49,プルダウンデータリスト!$A$2:$A$43,プルダウンデータリスト!$F$2:$F$43))","v":"-"},"-"]
[null,null,null,null,null,null,null,{"$f":"IF(B50=プルダウンデータリスト!$H$2,_xlfn.XLOOKUP(A50,プルダウンデータリスト!$A$2:$A$43,プルダウンデータリスト!$B$2:$B$43),IF(B50=プルダウンデータリスト!$H$3,_xlfn.XLOOKUP(A50,プルダウンデータリスト!$A$2:$A$43,プルダウンデータリスト!$C$2:$C$43),\"-\"))","v":"-"},{"$f":"IF(A50=\"\",\"-\",_xlfn.XLOOKUP(A50,プルダウンデータリスト!$A$2:$A$43,プルダウンデータリスト!$D$2:$D$43) + 1)","v":"-"},{"$f":"IF(A50=\"\",\"-\",_xlfn.XLOOKUP(A50,プルダウンデータリスト!$A$2:$A$43,プルダウンデータリスト!$E$2:$E$43))","v":"-"},{"$f":"IF(A50=\"\",\"-\",_xlfn.XLOOKUP(A50,プルダウンデータリスト!$A$2:$A$43,プルダウンデータリスト!$F$2:$F$43))","v":"-"},"-"]
[null,null,null,null,null,null,null,{"$f":"IF(B51=プルダウンデータリスト!$H$2,_xlfn.XLOOKUP(A51,プルダウンデータリスト!$A$2:$A$43,プルダウンデータリスト!$B$2:$B$43),IF(B51=プルダウンデータリスト!$H$3,_xlfn.XLOOKUP(A51,プルダウンデータリスト!$A$2:$A$43,プルダウンデータリスト!$C$2:$C$43),\"-\"))","v":"-"},{"$f":"IF(A51=\"\",\"-\",_xlfn.XLOOKUP(A51,プルダウンデータリスト!$A$2:$A$43,プルダウンデータリスト!$D$2:$D$43) + 1)","v":"-"},{"$f":"IF(A51=\"\",\"-\",_xlfn.XLOOKUP(A51,プルダウンデータリスト!$A$2:$A$43,プルダウンデータリスト!$E$2:$E$43))","v":"-"},{"$f":"IF(A51=\"\",\"-\",_xlfn.XLOOKUP(A51,プルダウンデータリスト!$A$2:$A$43,プルダウンデータリスト!$F$2:$F$43))","v":"-"},"-"]
[null,null,null,null,null,null,null,{"$f":"IF(B52=プルダウンデータリスト!$H$2,_xlfn.XLOOKUP(A52,プルダウンデータリスト!$A$2:$A$43,プルダウンデータリスト!$B$2:$B$43),IF(B52=プルダウンデータリスト!$H$3,_xlfn.XLOOKUP(A52,プルダウンデータリスト!$A$2:$A$43,プルダウンデータリスト!$C$2:$C$43),\"-\"))","v":"-"},{"$f":"IF(A52=\"\",\"-\",_xlfn.XLOOKUP(A52,プルダウンデータリスト!$A$2:$A$43,プルダウンデータリスト!$D$2:$D$43) + 1)","v":"-"},{"$f":"IF(A52=\"\",\"-\",_xlfn.XLOOKUP(A52,プルダウンデータリスト!$A$2:$A$43,プルダウンデータリスト!$E$2:$E$43))","v":"-"},{"$f":"IF(A52=\"\",\"-\",_xlfn.XLOOKUP(A52,プルダウンデータリスト!$A$2:$A$43,プルダウンデータリスト!$F$2:$F$43))","v":"-"},"-"]
[null,null,null,null,null,null,null,{"$f":"IF(B53=プルダウンデータリスト!$H$2,_xlfn.XLOOKUP(A53,プルダウンデータリスト!$A$2:$A$43,プルダウンデータリスト!$B$2:$B$43),IF(B53=プルダウンデータリスト!$H$3,_xlfn.XLOOKUP(A53,プルダウンデータリスト!$A$2:$A$43,プルダウンデータリスト!$C$2:$C$43),\"-\"))","v":"-"},{"$f":"IF(A53=\"\",\"-\",_xlfn.XLOOKUP(A53,プルダウンデータリスト!$A$2:$A$43,プルダウンデータリスト!$D$2:$D$43) + 1)","v":"-"},{"$f":"IF(A53=\"\",\"-\",_xlfn.XLOOKUP(A53,プルダウンデータリスト!$A$2:$A$43,プルダウンデータリスト!$E$2:$E$43))","v":"-"},{"$f":"IF(A53=\"\",\"-\",_xlfn.XLOOKUP(A53,プルダウンデータリスト!$A$2:$A$43,プルダウンデータリスト!$F$2:$F$43))","v":"-"},"-"]
[null,null,null,null,null,null,null,{"$f":"IF(B54=プルダウンデータリスト!$H$2,_xlfn.XLOOKUP(A54,プルダウンデータリスト!$A$2:$A$43,プルダウンデータリスト!$B$2:$B$43),IF(B54=プルダウンデータリスト!$H$3,_xlfn.XLOOKUP(A54,プルダウンデータリスト!$A$2:$A$43,プルダウンデータリスト!$C$2:$C$43),\"-\"))","v":"-"},{"$f":"IF(A54=\"\",\"-\",_xlfn.XLOOKUP(A54,プルダウンデータリスト!$A$2:$A$43,プルダウンデータリスト!$D$2:$D$43) + 1)","v":"-"},{"$f":"IF(A54=\"\",\"-\",_xlfn.XLOOKUP(A54,プルダウンデータリスト!$A$2:$A$43,プルダウンデータリスト!$E$2:$E$43))","v":"-"},{"$f":"IF(A54=\"\",\"-\",_xlfn.XLOOKUP(A54,プルダウンデータリスト!$A$2:$A$43,プルダウンデータリスト!$F$2:$F$43))","v":"-"},"-"]
[null,null,null,null,null,null,null,{"$f":"IF(B55=プルダウンデータリスト!$H$2,_xlfn.XLOOKUP(A55,プルダウンデータリスト!$A$2:$A$43,プルダウンデータリスト!$B$2:$B$43),IF(B55=プルダウンデータリスト!$H$3,_xlfn.XLOOKUP(A55,プルダウンデータリスト!$A$2:$A$43,プルダウンデータリスト!$C$2:$C$43),\"-\"))","v":"-"},{"$f":"IF(A55=\"\",\"-\",_xlfn.XLOOKUP(A55,プルダウンデータリスト!$A$2:$A$43,プルダウンデータリスト!$D$2:$D$43) + 1)","v":"-"},{"$f":"IF(A55=\"\",\"-\",_xlfn.XLOOKUP(A55,プルダウンデータリスト!$A$2:$A$43,プルダウンデータリスト!$E$2:$E$43))","v":"-"},{"$f":"IF(A55=\"\",\"-\",_xlfn.XLOOKUP(A55,プルダウンデータリスト!$A$2:$A$43,プルダウンデータリスト!$F$2:$F$43))","v":"-"},"-"]
[null,null,null,null,null,null,null,{"$f":"IF(B56=プルダウンデータリスト!$H$2,_xlfn.XLOOKUP(A56,プルダウンデータリスト!$A$2:$A$43,プルダウンデータリスト!$B$2:$B$43),IF(B56=プルダウンデータリスト!$H$3,_xlfn.XLOOKUP(A56,プルダウンデータリスト!$A$2:$A$43,プルダウンデータリスト!$C$2:$C$43),\"-\"))","v":"-"},{"$f":"IF(A56=\"\",\"-\",_xlfn.XLOOKUP(A56,プルダウンデータリスト!$A$2:$A$43,プルダウンデータリスト!$D$2:$D$43) + 1)","v":"-"},{"$f":"IF(A56=\"\",\"-\",_xlfn.XLOOKUP(A56,プルダウンデータリスト!$A$2:$A$43,プルダウンデータリスト!$E$2:$E$43))","v":"-"},{"$f":"IF(A56=\"\",\"-\",_xlfn.XLOOKUP(A56,プルダウンデータリスト!$A$2:$A$43,プルダウンデータリスト!$F$2:$F$43))","v":"-"},"-"]
[null,null,null,null,null,null,null,{"$f":"IF(B57=プルダウンデータリスト!$H$2,_xlfn.XLOOKUP(A57,プルダウンデータリスト!$A$2:$A$43,プルダウンデータリスト!$B$2:$B$43),IF(B57=プルダウンデータリスト!$H$3,_xlfn.XLOOKUP(A57,プルダウンデータリスト!$A$2:$A$43,プルダウンデータリスト!$C$2:$C$43),\"-\"))","v":"-"},{"$f":"IF(A57=\"\",\"-\",_xlfn.XLOOKUP(A57,プルダウンデータリスト!$A$2:$A$43,プルダウンデータリスト!$D$2:$D$43) + 1)","v":"-"},{"$f":"IF(A57=\"\",\"-\",_xlfn.XLOOKUP(A57,プルダウンデータリスト!$A$2:$A$43,プルダウンデータリスト!$E$2:$E$43))","v":"-"},{"$f":"IF(A57=\"\",\"-\",_xlfn.XLOOKUP(A57,プルダウンデータリスト!$A$2:$A$43,プルダウンデータリスト!$F$2:$F$43))","v":"-"},"-"]
[null,null,null,null,null,null,null,{"$f":"IF(B58=プルダウンデータリスト!$H$2,_xlfn.XLOOKUP(A58,プルダウンデータリスト!$A$2:$A$43,プルダウンデータリスト!$B$2:$B$43),IF(B58=プルダウンデータリスト!$H$3,_xlfn.XLOOKUP(A58,プルダウンデータリスト!$A$2:$A$43,プルダウンデータリスト!$C$2:$C$43),\"-\"))","v":"-"},{"$f":"IF(A58=\"\",\"-\",_xlfn.XLOOKUP(A58,プルダウンデータリスト!$A$2:$A$43,プルダウンデータリスト!$D$2:$D$43) + 1)","v":"-"},{"$f":"IF(A58=\"\",\"-\",_xlfn.XLOOKUP(A58,プルダウンデータリスト!$A$2:$A$43,プルダウンデータリスト!$E$2:$E$43))","v":"-"},{"$f":"IF(A58=\"\",\"-\",_xlfn.XLOOKUP(A58,プルダウンデータリスト!$A$2:$A$43,プルダウンデータリスト!$F$2:$F$43))","v":"-"},"-"]
[null,null,null,null,null,null,null,{"$f":"IF(B59=プルダウンデータリスト!$H$2,_xlfn.XLOOKUP(A59,プルダウンデータリスト!$A$2:$A$43,プルダウンデータリスト!$B$2:$B$43),IF(B59=プルダウンデータリスト!$H$3,_xlfn.XLOOKUP(A59,プルダウンデータリスト!$A$2:$A$43,プルダウンデータリスト!$C$2:$C$43),\"-\"))","v":"-"},{"$f":"IF(A59=\"\",\"-\",_xlfn.XLOOKUP(A59,プルダウンデータリスト!$A$2:$A$43,プルダウンデータリスト!$D$2:$D$43) + 1)","v":"-"},{"$f":"IF(A59=\"\",\"-\",_xlfn.XLOOKUP(A59,プルダウンデータリスト!$A$2:$A$43,プルダウンデータリスト!$E$2:$E$43))","v":"-"},{"$f":"IF(A59=\"\",\"-\",_xlfn.XLOOKUP(A59,プルダウンデータリスト!$A$2:$A$43,プルダウンデータリスト!$F$2:$F$43))","v":"-"},"-"]
[null,null,null,null,null,null,null,{"$f":"IF(B60=プルダウンデータリスト!$H$2,_xlfn.XLOOKUP(A60,プルダウンデータリスト!$A$2:$A$43,プルダウンデータリスト!$B$2:$B$43),IF(B60=プルダウンデータリスト!$H$3,_xlfn.XLOOKUP(A60,プルダウンデータリスト!$A$2:$A$43,プルダウンデータリスト!$C$2:$C$43),\"-\"))","v":"-"},{"$f":"IF(A60=\"\",\"-\",_xlfn.XLOOKUP(A60,プルダウンデータリスト!$A$2:$A$43,プルダウンデータリスト!$D$2:$D$43) + 1)","v":"-"},{"$f":"IF(A60=\"\",\"-\",_xlfn.XLOOKUP(A60,プルダウンデータリスト!$A$2:$A$43,プルダウンデータリスト!$E$2:$E$43))","v":"-"},{"$f":"IF(A60=\"\",\"-\",_xlfn.XLOOKUP(A60,プルダウンデータリスト!$A$2:$A$43,プルダウンデータリスト!$F$2:$F$43))","v":"-"},"-"]
[null,null,null,null,null,null,null,{"$f":"IF(B61=プルダウンデータリスト!$H$2,_xlfn.XLOOKUP(A61,プルダウンデータリスト!$A$2:$A$43,プルダウンデータリスト!$B$2:$B$43),IF(B61=プルダウンデータリスト!$H$3,_xlfn.XLOOKUP(A61,プルダウンデータリスト!$A$2:$A$43,プルダウンデータリスト!$C$2:$C$43),\"-\"))","v":"-"},{"$f":"IF(A61=\"\",\"-\",_xlfn.XLOOKUP(A61,プルダウンデータリスト!$A$2:$A$43,プルダウンデータリスト!$D$2:$D$43) + 1)","v":"-"},{"$f":"IF(A61=\"\",\"-\",_xlfn.XLOOKUP(A61,プルダウンデータリスト!$A$2:$A$43,プルダウンデータリスト!$E$2:$E$43))","v":"-"},{"$f":"IF(A61=\"\",\"-\",_xlfn.XLOOKUP(A61,プルダウンデータリスト!$A$2:$A$43,プルダウンデータリスト!$F$2:$F$43))","v":"-"},"-"]
[null,null,null,null,null,null,null,{"$f":"IF(B62=プルダウンデータリスト!$H$2,_xlfn.XLOOKUP(A62,プルダウンデータリスト!$A$2:$A$43,プルダウンデータリスト!$B$2:$B$43),IF(B62=プルダウンデータリスト!$H$3,_xlfn.XLOOKUP(A62,プルダウンデータリスト!$A$2:$A$43,プルダウンデータリスト!$C$2:$C$43),\"-\"))","v":"-"},{"$f":"IF(A62=\"\",\"-\",_xlfn.XLOOKUP(A62,プルダウンデータリスト!$A$2:$A$43,プルダウンデータリスト!$D$2:$D$43) + 1)","v":"-"},{"$f":"IF(A62=\"\",\"-\",_xlfn.XLOOKUP(A62,プルダウンデータリスト!$A$2:$A$43,プルダウンデータリスト!$E$2:$E$43))","v":"-"},{"$f":"IF(A62=\"\",\"-\",_xlfn.XLOOKUP(A62,プルダウンデータリスト!$A$2:$A$43,プルダウンデータリスト!$F$2:$F$43))","v":"-"},"-"]
[null,null,null,null,null,null,null,{"$f":"IF(B63=プルダウンデータリスト!$H$2,_xlfn.XLOOKUP(A63,プルダウンデータリスト!$A$2:$A$43,プルダウンデータリスト!$B$2:$B$43),IF(B63=プルダウンデータリスト!$H$3,_xlfn.XLOOKUP(A63,プルダウンデータリスト!$A$2:$A$43,プルダウンデータリスト!$C$2:$C$43),\"-\"))","v":"-"},{"$f":"IF(A63=\"\",\"-\",_xlfn.XLOOKUP(A63,プルダウンデータリスト!$A$2:$A$43,プルダウンデータリスト!$D$2:$D$43) + 1)","v":"-"},{"$f":"IF(A63=\"\",\"-\",_xlfn.XLOOKUP(A63,プルダウンデータリスト!$A$2:$A$43,プルダウンデータリスト!$E$2:$E$43))","v":"-"},{"$f":"IF(A63=\"\",\"-\",_xlfn.XLOOKUP(A63,プルダウンデータリスト!$A$2:$A$43,プルダウンデータリスト!$F$2:$F$43))","v":"-"},"-"]
[null,null,null,null,null,null,null,{"$f":"IF(B64=プルダウンデータリスト!$H$2,_xlfn.XLOOKUP(A64,プルダウンデータリスト!$A$2:$A$43,プルダウンデータリスト!$B$2:$B$43),IF(B64=プルダウンデータリスト!$H$3,_xlfn.XLOOKUP(A64,プルダウンデータリスト!$A$2:$A$43,プルダウンデータリスト!$C$2:$C$43),\"-\"))","v":"-"},{"$f":"IF(A64=\"\",\"-\",_xlfn.XLOOKUP(A64,プルダウンデータリスト!$A$2:$A$43,プルダウンデータリスト!$D$2:$D$43) + 1)","v":"-"},{"$f":"IF(A64=\"\",\"-\",_xlfn.XLOOKUP(A64,プルダウンデータリスト!$A$2:$A$43,プルダウンデータリスト!$E$2:$E$43))","v":"-"},{"$f":"IF(A64=\"\",\"-\",_xlfn.XLOOKUP(A64,プルダウンデータリスト!$A$2:$A$43,プルダウンデータリスト!$F$2:$F$43))","v":"-"},"-"]
[null,null,null,null,null,null,null,{"$f":"IF(B65=プルダウンデータリスト!$H$2,_xlfn.XLOOKUP(A65,プルダウンデータリスト!$A$2:$A$43,プルダウンデータリスト!$B$2:$B$43),IF(B65=プルダウンデータリスト!$H$3,_xlfn.XLOOKUP(A65,プルダウンデータリスト!$A$2:$A$43,プルダウンデータリスト!$C$2:$C$43),\"-\"))","v":"-"},{"$f":"IF(A65=\"\",\"-\",_xlfn.XLOOKUP(A65,プルダウンデータリスト!$A$2:$A$43,プルダウンデータリスト!$D$2:$D$43) + 1)","v":"-"},{"$f":"IF(A65=\"\",\"-\",_xlfn.XLOOKUP(A65,プルダウンデータリスト!$A$2:$A$43,プルダウンデータリスト!$E$2:$E$43))","v":"-"},{"$f":"IF(A65=\"\",\"-\",_xlfn.XLOOKUP(A65,プルダウンデータリスト!$A$2:$A$43,プルダウンデータリスト!$F$2:$F$43))","v":"-"},"-"]
[null,null,null,null,null,null,null,{"$f":"IF(B66=プルダウンデータリスト!$H$2,_xlfn.XLOOKUP(A66,プルダウンデータリスト!$A$2:$A$43,プルダウンデータリスト!$B$2:$B$43),IF(B66=プルダウンデータリスト!$H$3,_xlfn.XLOOKUP(A66,プルダウンデータリスト!$A$2:$A$43,プルダウンデータリスト!$C$2:$C$43),\"-\"))","v":"-"},{"$f":"IF(A66=\"\",\"-\",_xlfn.XLOOKUP(A66,プルダウンデータリスト!$A$2:$A$43,プルダウンデータリスト!$D$2:$D$43) + 1)","v":"-"},{"$f":"IF(A66=\"\",\"-\",_xlfn.XLOOKUP(A66,プルダウンデータリスト!$A$2:$A$43,プルダウンデータリスト!$E$2:$E$43))","v":"-"},{"$f":"IF(A66=\"\",\"-\",_xlfn.XLOOKUP(A66,プルダウンデータリスト!$A$2:$A$43,プルダウンデータリスト!$F$2:$F$43))","v":"-"},"-"]
[null,null,null,null,null,null,null,{"$f":"IF(B67=プルダウンデータリスト!$H$2,_xlfn.XLOOKUP(A67,プルダウンデータリスト!$A$2:$A$43,プルダウンデータリスト!$B$2:$B$43),IF(B67=プルダウンデータリスト!$H$3,_xlfn.XLOOKUP(A67,プルダウンデータリスト!$A$2:$A$43,プルダウンデータリスト!$C$2:$C$43),\"-\"))","v":"-"},{"$f":"IF(A67=\"\",\"-\",_xlfn.XLOOKUP(A67,プルダウンデータリスト!$A$2:$A$43,プルダウンデータリスト!$D$2:$D$43) + 1)","v":"-"},{"$f":"IF(A67=\"\",\"-\",_xlfn.XLOOKUP(A67,プルダウンデータリスト!$A$2:$A$43,プルダウンデータリスト!$E$2:$E$43))","v":"-"},{"$f":"IF(A67=\"\",\"-\",_xlfn.XLOOKUP(A67,プルダウンデータリスト!$A$2:$A$43,プルダウンデータリスト!$F$2:$F$43))","v":"-"},"-"]
[null,null,null,null,null,null,null,{"$f":"IF(B68=プルダウンデータリスト!$H$2,_xlfn.XLOOKUP(A68,プルダウンデータリスト!$A$2:$A$43,プルダウンデータリスト!$B$2:$B$43),IF(B68=プルダウンデータリスト!$H$3,_xlfn.XLOOKUP(A68,プルダウンデータリスト!$A$2:$A$43,プルダウンデータリスト!$C$2:$C$43),\"-\"))","v":"-"},{"$f":"IF(A68=\"\",\"-\",_xlfn.XLOOKUP(A68,プルダウンデータリスト!$A$2:$A$43,プルダウンデータリスト!$D$2:$D$43) + 1)","v":"-"},{"$f":"IF(A68=\"\",\"-\",_xlfn.XLOOKUP(A68,プルダウンデータリスト!$A$2:$A$43,プルダウンデータリスト!$E$2:$E$43))","v":"-"},{"$f":"IF(A68=\"\",\"-\",_xlfn.XLOOKUP(A68,プルダウンデータリスト!$A$2:$A$43,プルダウンデータリスト!$F$2:$F$43))","v":"-"},"-"]
[null,null,null,null,null,null,null,{"$f":"IF(B69=プルダウンデータリスト!$H$2,_xlfn.XLOOKUP(A69,プルダウンデータリスト!$A$2:$A$43,プルダウンデータリスト!$B$2:$B$43),IF(B69=プルダウンデータリスト!$H$3,_xlfn.XLOOKUP(A69,プルダウンデータリスト!$A$2:$A$43,プルダウンデータリスト!$C$2:$C$43),\"-\"))","v":"-"},{"$f":"IF(A69=\"\",\"-\",_xlfn.XLOOKUP(A69,プルダウンデータリスト!$A$2:$A$43,プルダウンデータリスト!$D$2:$D$43) + 1)","v":"-"},{"$f":"IF(A69=\"\",\"-\",_xlfn.XLOOKUP(A69,プルダウンデータリスト!$A$2:$A$43,プルダウンデータリスト!$E$2:$E$43))","v":"-"},{"$f":"IF(A69=\"\",\"-\",_xlfn.XLOOKUP(A69,プルダウンデータリスト!$A$2:$A$43,プルダウンデータリスト!$F$2:$F$43))","v":"-"},"-"]
[null,null,null,null,null,null,null,{"$f":"IF(B70=プルダウンデータリスト!$H$2,_xlfn.XLOOKUP(A70,プルダウンデータリスト!$A$2:$A$43,プルダウンデータリスト!$B$2:$B$43),IF(B70=プルダウンデータリスト!$H$3,_xlfn.XLOOKUP(A70,プルダウンデータリスト!$A$2:$A$43,プルダウンデータリスト!$C$2:$C$43),\"-\"))","v":"-"},{"$f":"IF(A70=\"\",\"-\",_xlfn.XLOOKUP(A70,プルダウンデータリスト!$A$2:$A$43,プルダウンデータリスト!$D$2:$D$43) + 1)","v":"-"},{"$f":"IF(A70=\"\",\"-\",_xlfn.XLOOKUP(A70,プルダウンデータリスト!$A$2:$A$43,プルダウンデータリスト!$E$2:$E$43))","v":"-"},{"$f":"IF(A70=\"\",\"-\",_xlfn.XLOOKUP(A70,プルダウンデータリスト!$A$2:$A$43,プルダウンデータリスト!$F$2:$F$43))","v":"-"},"-"]
[null,null,null,null,null,null,null,{"$f":"IF(B71=プルダウンデータリスト!$H$2,_xlfn.XLOOKUP(A71,プルダウンデータリスト!$A$2:$A$43,プルダウンデータリスト!$B$2:$B$43),IF(B71=プルダウンデータリスト!$H$3,_xlfn.XLOOKUP(A71,プルダウンデータリスト!$A$2:$A$43,プルダウンデータリスト!$C$2:$C$43),\"-\"))","v":"-"},{"$f":"IF(A71=\"\",\"-\",_xlfn.XLOOKUP(A71,プルダウンデータリスト!$A$2:$A$43,プルダウンデータリスト!$D$2:$D$43) + 1)","v":"-"},{"$f":"IF(A71=\"\",\"-\",_xlfn.XLOOKUP(A71,プルダウンデータリスト!$A$2:$A$43,プルダウンデータリスト!$E$2:$E$43))","v":"-"},{"$f":"IF(A71=\"\",\"-\",_xlfn.XLOOKUP(A71,プルダウンデータリスト!$A$2:$A$43,プルダウンデータリスト!$F$2:$F$43))","v":"-"},"-"]
[null,null,null,null,null,null,null,{"$f":"IF(B72=プルダウンデータリスト!$H$2,_xlfn.XLOOKUP(A72,プルダウンデータリスト!$A$2:$A$43,プルダウンデータリスト!$B$2:$B$43),IF(B72=プルダウンデータリスト!$H$3,_xlfn.XLOOKUP(A72,プルダウンデータリスト!$A$2:$A$43,プルダウンデータリスト!$C$2:$C$43),\"-\"))","v":"-"},{"$f":"IF(A72=\"\",\"-\",_xlfn.XLOOKUP(A72,プルダウンデータリスト!$A$2:$A$43,プルダウンデータリスト!$D$2:$D$43) + 1)","v":"-"},{"$f":"IF(A72=\"\",\"-\",_xlfn.XLOOKUP(A72,プルダウンデータリスト!$A$2:$A$43,プルダウンデータリスト!$E$2:$E$43))","v":"-"},{"$f":"IF(A72=\"\",\"-\",_xlfn.XLOOKUP(A72,プルダウンデータリスト!$A$2:$A$43,プルダウンデータリスト!$F$2:$F$43))","v":"-"},{"$f":"IFERROR(-1*ABS(G72*(H72*I72*J72*K72)),\"-\")","v":"-"}]
[null,null,null,null,null,null,null,{"$f":"IF(B73=プルダウンデータリスト!$H$2,_xlfn.XLOOKUP(A73,プルダウンデータリスト!$A$2:$A$43,プルダウンデータリスト!$B$2:$B$43),IF(B73=プルダウンデータリスト!$H$3,_xlfn.XLOOKUP(A73,プルダウンデータリスト!$A$2:$A$43,プルダウンデータリスト!$C$2:$C$43),\"-\"))","v":"-"},{"$f":"IF(A73=\"\",\"-\",_xlfn.XLOOKUP(A73,プルダウンデータリスト!$A$2:$A$43,プルダウンデータリスト!$D$2:$D$43) + 1)","v":"-"},{"$f":"IF(A73=\"\",\"-\",_xlfn.XLOOKUP(A73,プルダウンデータリスト!$A$2:$A$43,プルダウンデータリスト!$E$2:$E$43))","v":"-"},{"$f":"IF(A73=\"\",\"-\",_xlfn.XLOOKUP(A73,プルダウンデータリスト!$A$2:$A$43,プルダウンデータリスト!$F$2:$F$43))","v":"-"},"-"]
[null,null,null,null,null,null,null,{"$f":"IF(B74=プルダウンデータリスト!$H$2,_xlfn.XLOOKUP(A74,プルダウンデータリスト!$A$2:$A$43,プルダウンデータリスト!$B$2:$B$43),IF(B74=プルダウンデータリスト!$H$3,_xlfn.XLOOKUP(A74,プルダウンデータリスト!$A$2:$A$43,プルダウンデータリスト!$C$2:$C$43),\"-\"))","v":"-"},{"$f":"IF(A74=\"\",\"-\",_xlfn.XLOOKUP(A74,プルダウンデータリスト!$A$2:$A$43,プルダウンデータリスト!$D$2:$D$43) + 1)","v":"-"},{"$f":"IF(A74=\"\",\"-\",_xlfn.XLOOKUP(A74,プルダウンデータリスト!$A$2:$A$43,プルダウンデータリスト!$E$2:$E$43))","v":"-"},{"$f":"IF(A74=\"\",\"-\",_xlfn.XLOOKUP(A74,プルダウンデータリスト!$A$2:$A$43,プルダウンデータリスト!$F$2:$F$43))","v":"-"},"-"]
[null,null,null,null,null,null,null,{"$f":"IF(B75=プルダウンデータリスト!$H$2,_xlfn.XLOOKUP(A75,プルダウンデータリスト!$A$2:$A$43,プルダウンデータリスト!$B$2:$B$43),IF(B75=プルダウンデータリスト!$H$3,_xlfn.XLOOKUP(A75,プルダウンデータリスト!$A$2:$A$43,プルダウンデータリスト!$C$2:$C$43),\"-\"))","v":"-"},{"$f":"IF(A75=\"\",\"-\",_xlfn.XLOOKUP(A75,プルダウンデータリスト!$A$2:$A$43,プルダウンデータリスト!$D$2:$D$43) + 1)","v":"-"},{"$f":"IF(A75=\"\",\"-\",_xlfn.XLOOKUP(A75,プルダウンデータリスト!$A$2:$A$43,プルダウンデータリスト!$E$2:$E$43))","v":"-"},{"$f":"IF(A75=\"\",\"-\",_xlfn.XLOOKUP(A75,プルダウンデータリスト!$A$2:$A$43,プルダウンデータリスト!$F$2:$F$43))","v":"-"},"-"]
[null,null,null,null,null,null,null,{"$f":"IF(B76=プルダウンデータリスト!$H$2,_xlfn.XLOOKUP(A76,プルダウンデータリスト!$A$2:$A$43,プルダウンデータリスト!$B$2:$B$43),IF(B76=プルダウンデータリスト!$H$3,_xlfn.XLOOKUP(A76,プルダウンデータリスト!$A$2:$A$43,プルダウンデータリスト!$C$2:$C$43),\"-\"))","v":"-"},{"$f":"IF(A76=\"\",\"-\",_xlfn.XLOOKUP(A76,プルダウンデータリスト!$A$2:$A$43,プルダウンデータリスト!$D$2:$D$43) + 1)","v":"-"},{"$f":"IF(A76=\"\",\"-\",_xlfn.XLOOKUP(A76,プルダウンデータリスト!$A$2:$A$43,プルダウンデータリスト!$E$2:$E$43))","v":"-"},{"$f":"IF(A76=\"\",\"-\",_xlfn.XLOOKUP(A76,プルダウンデータリスト!$A$2:$A$43,プルダウンデータリスト!$F$2:$F$43))","v":"-"},"-"]
[null,null,null,null,null,null,null,{"$f":"IF(B77=プルダウンデータリスト!$H$2,_xlfn.XLOOKUP(A77,プルダウンデータリスト!$A$2:$A$43,プルダウンデータリスト!$B$2:$B$43),IF(B77=プルダウンデータリスト!$H$3,_xlfn.XLOOKUP(A77,プルダウンデータリスト!$A$2:$A$43,プルダウンデータリスト!$C$2:$C$43),\"-\"))","v":"-"},{"$f":"IF(A77=\"\",\"-\",_xlfn.XLOOKUP(A77,プルダウンデータリスト!$A$2:$A$43,プルダウンデータリスト!$D$2:$D$43) + 1)","v":"-"},{"$f":"IF(A77=\"\",\"-\",_xlfn.XLOOKUP(A77,プルダウンデータリスト!$A$2:$A$43,プルダウンデータリスト!$E$2:$E$43))","v":"-"},{"$f":"IF(A77=\"\",\"-\",_xlfn.XLOOKUP(A77,プルダウンデータリスト!$A$2:$A$43,プルダウンデータリスト!$F$2:$F$43))","v":"-"},"-"]
[null,null,null,null,null,null,null,{"$f":"IF(B78=プルダウンデータリスト!$H$2,_xlfn.XLOOKUP(A78,プルダウンデータリスト!$A$2:$A$43,プルダウンデータリスト!$B$2:$B$43),IF(B78=プルダウンデータリスト!$H$3,_xlfn.XLOOKUP(A78,プルダウンデータリスト!$A$2:$A$43,プルダウンデータリスト!$C$2:$C$43),\"-\"))","v":"-"},{"$f":"IF(A78=\"\",\"-\",_xlfn.XLOOKUP(A78,プルダウンデータリスト!$A$2:$A$43,プルダウンデータリスト!$D$2:$D$43) + 1)","v":"-"},{"$f":"IF(A78=\"\",\"-\",_xlfn.XLOOKUP(A78,プルダウンデータリスト!$A$2:$A$43,プルダウンデータリスト!$E$2:$E$43))","v":"-"},{"$f":"IF(A78=\"\",\"-\",_xlfn.XLOOKUP(A78,プルダウンデータリスト!$A$2:$A$43,プルダウンデータリスト!$F$2:$F$43))","v":"-"},"-"]
[null,null,null,null,null,null,null,{"$f":"IF(B79=プルダウンデータリスト!$H$2,_xlfn.XLOOKUP(A79,プルダウンデータリスト!$A$2:$A$43,プルダウンデータリスト!$B$2:$B$43),IF(B79=プルダウンデータリスト!$H$3,_xlfn.XLOOKUP(A79,プルダウンデータリスト!$A$2:$A$43,プルダウンデータリスト!$C$2:$C$43),\"-\"))","v":"-"},{"$f":"IF(A79=\"\",\"-\",_xlfn.XLOOKUP(A79,プルダウンデータリスト!$A$2:$A$43,プルダウンデータリスト!$D$2:$D$43) + 1)","v":"-"},{"$f":"IF(A79=\"\",\"-\",_xlfn.XLOOKUP(A79,プルダウンデータリスト!$A$2:$A$43,プルダウンデータリスト!$E$2:$E$43))","v":"-"},{"$f":"IF(A79=\"\",\"-\",_xlfn.XLOOKUP(A79,プルダウンデータリスト!$A$2:$A$43,プルダウンデータリスト!$F$2:$F$43))","v":"-"},"-"]
[null,null,null,null,null,null,null,{"$f":"IF(B80=プルダウンデータリスト!$H$2,_xlfn.XLOOKUP(A80,プルダウンデータリスト!$A$2:$A$43,プルダウンデータリスト!$B$2:$B$43),IF(B80=プルダウンデータリスト!$H$3,_xlfn.XLOOKUP(A80,プルダウンデータリスト!$A$2:$A$43,プルダウンデータリスト!$C$2:$C$43),\"-\"))","v":"-"},{"$f":"IF(A80=\"\",\"-\",_xlfn.XLOOKUP(A80,プルダウンデータリスト!$A$2:$A$43,プルダウンデータリスト!$D$2:$D$43) + 1)","v":"-"},{"$f":"IF(A80=\"\",\"-\",_xlfn.XLOOKUP(A80,プルダウンデータリスト!$A$2:$A$43,プルダウンデータリスト!$E$2:$E$43))","v":"-"},{"$f":"IF(A80=\"\",\"-\",_xlfn.XLOOKUP(A80,プルダウンデータリスト!$A$2:$A$43,プルダウンデータリスト!$F$2:$F$43))","v":"-"},"-"]
[null,null,null,null,null,null,null,{"$f":"IF(B81=プルダウンデータリスト!$H$2,_xlfn.XLOOKUP(A81,プルダウンデータリスト!$A$2:$A$43,プルダウンデータリスト!$B$2:$B$43),IF(B81=プルダウンデータリスト!$H$3,_xlfn.XLOOKUP(A81,プルダウンデータリスト!$A$2:$A$43,プルダウンデータリスト!$C$2:$C$43),\"-\"))","v":"-"},{"$f":"IF(A81=\"\",\"-\",_xlfn.XLOOKUP(A81,プルダウンデータリスト!$A$2:$A$43,プルダウンデータリスト!$D$2:$D$43) + 1)","v":"-"},{"$f":"IF(A81=\"\",\"-\",_xlfn.XLOOKUP(A81,プルダウンデータリスト!$A$2:$A$43,プルダウンデータリスト!$E$2:$E$43))","v":"-"},{"$f":"IF(A81=\"\",\"-\",_xlfn.XLOOKUP(A81,プルダウンデータリスト!$A$2:$A$43,プルダウンデータリスト!$F$2:$F$43))","v":"-"},"-"]
[null,null,null,null,null,null,null,{"$f":"IF(B82=プルダウンデータリスト!$H$2,_xlfn.XLOOKUP(A82,プルダウンデータリスト!$A$2:$A$43,プルダウンデータリスト!$B$2:$B$43),IF(B82=プルダウンデータリスト!$H$3,_xlfn.XLOOKUP(A82,プルダウンデータリスト!$A$2:$A$43,プルダウンデータリスト!$C$2:$C$43),\"-\"))","v":"-"},{"$f":"IF(A82=\"\",\"-\",_xlfn.XLOOKUP(A82,プルダウンデータリスト!$A$2:$A$43,プルダウンデータリスト!$D$2:$D$43) + 1)","v":"-"},{"$f":"IF(A82=\"\",\"-\",_xlfn.XLOOKUP(A82,プルダウンデータリスト!$A$2:$A$43,プルダウンデータリスト!$E$2:$E$43))","v":"-"},{"$f":"IF(A82=\"\",\"-\",_xlfn.XLOOKUP(A82,プルダウンデータリスト!$A$2:$A$43,プルダウンデータリスト!$F$2:$F$43))","v":"-"},"-"]
[null,null,null,null,null,null,null,{"$f":"IF(B83=プルダウンデータリスト!$H$2,_xlfn.XLOOKUP(A83,プルダウンデータリスト!$A$2:$A$43,プルダウンデータリスト!$B$2:$B$43),IF(B83=プルダウンデータリスト!$H$3,_xlfn.XLOOKUP(A83,プルダウンデータリスト!$A$2:$A$43,プルダウンデータリスト!$C$2:$C$43),\"-\"))","v":"-"},{"$f":"IF(A83=\"\",\"-\",_xlfn.XLOOKUP(A83,プルダウンデータリスト!$A$2:$A$43,プルダウンデータリスト!$D$2:$D$43) + 1)","v":"-"},{"$f":"IF(A83=\"\",\"-\",_xlfn.XLOOKUP(A83,プルダウンデータリスト!$A$2:$A$43,プルダウンデータリスト!$E$2:$E$43))","v":"-"},{"$f":"IF(A83=\"\",\"-\",_xlfn.XLOOKUP(A83,プルダウンデータリスト!$A$2:$A$43,プルダウンデータリスト!$F$2:$F$43))","v":"-"},"-"]
[null,null,null,null,null,null,null,{"$f":"IF(B84=プルダウンデータリスト!$H$2,_xlfn.XLOOKUP(A84,プルダウンデータリスト!$A$2:$A$43,プルダウンデータリスト!$B$2:$B$43),IF(B84=プルダウンデータリスト!$H$3,_xlfn.XLOOKUP(A84,プルダウンデータリスト!$A$2:$A$43,プルダウンデータリスト!$C$2:$C$43),\"-\"))","v":"-"},{"$f":"IF(A84=\"\",\"-\",_xlfn.XLOOKUP(A84,プルダウンデータリスト!$A$2:$A$43,プルダウンデータリスト!$D$2:$D$43) + 1)","v":"-"},{"$f":"IF(A84=\"\",\"-\",_xlfn.XLOOKUP(A84,プルダウンデータリスト!$A$2:$A$43,プルダウンデータリスト!$E$2:$E$43))","v":"-"},{"$f":"IF(A84=\"\",\"-\",_xlfn.XLOOKUP(A84,プルダウンデータリスト!$A$2:$A$43,プルダウンデータリスト!$F$2:$F$43))","v":"-"},"-"]
[null,null,null,null,null,null,null,{"$f":"IF(B85=プルダウンデータリスト!$H$2,_xlfn.XLOOKUP(A85,プルダウンデータリスト!$A$2:$A$43,プルダウンデータリスト!$B$2:$B$43),IF(B85=プルダウンデータリスト!$H$3,_xlfn.XLOOKUP(A85,プルダウンデータリスト!$A$2:$A$43,プルダウンデータリスト!$C$2:$C$43),\"-\"))","v":"-"},{"$f":"IF(A85=\"\",\"-\",_xlfn.XLOOKUP(A85,プルダウンデータリスト!$A$2:$A$43,プルダウンデータリスト!$D$2:$D$43) + 1)","v":"-"},{"$f":"IF(A85=\"\",\"-\",_xlfn.XLOOKUP(A85,プルダウンデータリスト!$A$2:$A$43,プルダウンデータリスト!$E$2:$E$43))","v":"-"},{"$f":"IF(A85=\"\",\"-\",_xlfn.XLOOKUP(A85,プルダウンデータリスト!$A$2:$A$43,プルダウンデータリスト!$F$2:$F$43))","v":"-"},"-"]
[null,null,null,null,null,null,null,{"$f":"IF(B86=プルダウンデータリスト!$H$2,_xlfn.XLOOKUP(A86,プルダウンデータリスト!$A$2:$A$43,プルダウンデータリスト!$B$2:$B$43),IF(B86=プルダウンデータリスト!$H$3,_xlfn.XLOOKUP(A86,プルダウンデータリスト!$A$2:$A$43,プルダウンデータリスト!$C$2:$C$43),\"-\"))","v":"-"},{"$f":"IF(A86=\"\",\"-\",_xlfn.XLOOKUP(A86,プルダウンデータリスト!$A$2:$A$43,プルダウンデータリスト!$D$2:$D$43) + 1)","v":"-"},{"$f":"IF(A86=\"\",\"-\",_xlfn.XLOOKUP(A86,プルダウンデータリスト!$A$2:$A$43,プルダウンデータリスト!$E$2:$E$43))","v":"-"},{"$f":"IF(A86=\"\",\"-\",_xlfn.XLOOKUP(A86,プルダウンデータリスト!$A$2:$A$43,プルダウンデータリスト!$F$2:$F$43))","v":"-"},"-"]
[null,null,null,null,null,null,null,{"$f":"IF(B87=プルダウンデータリスト!$H$2,_xlfn.XLOOKUP(A87,プルダウンデータリスト!$A$2:$A$43,プルダウンデータリスト!$B$2:$B$43),IF(B87=プルダウンデータリスト!$H$3,_xlfn.XLOOKUP(A87,プルダウンデータリスト!$A$2:$A$43,プルダウンデータリスト!$C$2:$C$43),\"-\"))","v":"-"},{"$f":"IF(A87=\"\",\"-\",_xlfn.XLOOKUP(A87,プルダウンデータリスト!$A$2:$A$43,プルダウンデータリスト!$D$2:$D$43) + 1)","v":"-"},{"$f":"IF(A87=\"\",\"-\",_xlfn.XLOOKUP(A87,プルダウンデータリスト!$A$2:$A$43,プルダウンデータリスト!$E$2:$E$43))","v":"-"},{"$f":"IF(A87=\"\",\"-\",_xlfn.XLOOKUP(A87,プルダウンデータリスト!$A$2:$A$43,プルダウンデータリスト!$F$2:$F$43))","v":"-"},"-"]
[null,null,null,null,null,null,null,{"$f":"IF(B88=プルダウンデータリスト!$H$2,_xlfn.XLOOKUP(A88,プルダウンデータリスト!$A$2:$A$43,プルダウンデータリスト!$B$2:$B$43),IF(B88=プルダウンデータリスト!$H$3,_xlfn.XLOOKUP(A88,プルダウンデータリスト!$A$2:$A$43,プルダウンデータリスト!$C$2:$C$43),\"-\"))","v":"-"},{"$f":"IF(A88=\"\",\"-\",_xlfn.XLOOKUP(A88,プルダウンデータリスト!$A$2:$A$43,プルダウンデータリスト!$D$2:$D$43) + 1)","v":"-"},{"$f":"IF(A88=\"\",\"-\",_xlfn.XLOOKUP(A88,プルダウンデータリスト!$A$2:$A$43,プルダウンデータリスト!$E$2:$E$43))","v":"-"},{"$f":"IF(A88=\"\",\"-\",_xlfn.XLOOKUP(A88,プルダウンデータリスト!$A$2:$A$43,プルダウンデータリスト!$F$2:$F$43))","v":"-"},"-"]
[null,null,null,null,null,null,null,{"$f":"IF(B89=プルダウンデータリスト!$H$2,_xlfn.XLOOKUP(A89,プルダウンデータリスト!$A$2:$A$43,プルダウンデータリスト!$B$2:$B$43),IF(B89=プルダウンデータリスト!$H$3,_xlfn.XLOOKUP(A89,プルダウンデータリスト!$A$2:$A$43,プルダウンデータリスト!$C$2:$C$43),\"-\"))","v":"-"},{"$f":"IF(A89=\"\",\"-\",_xlfn.XLOOKUP(A89,プルダウンデータリスト!$A$2:$A$43,プルダウンデータリスト!$D$2:$D$43) + 1)","v":"-"},{"$f":"IF(A89=\"\",\"-\",_xlfn.XLOOKUP(A89,プルダウンデータリスト!$A$2:$A$43,プルダウンデータリスト!$E$2:$E$43))","v":"-"},{"$f":"IF(A89=\"\",\"-\",_xlfn.XLOOKUP(A89,プルダウンデータリスト!$A$2:$A$43,プルダウンデータリスト!$F$2:$F$43))","v":"-"},"-"]
[null,null,null,null,null,null,null,{"$f":"IF(B90=プルダウンデータリスト!$H$2,_xlfn.XLOOKUP(A90,プルダウンデータリスト!$A$2:$A$43,プルダウンデータリスト!$B$2:$B$43),IF(B90=プルダウンデータリスト!$H$3,_xlfn.XLOOKUP(A90,プルダウンデータリスト!$A$2:$A$43,プルダウンデータリスト!$C$2:$C$43),\"-\"))","v":"-"},{"$f":"IF(A90=\"\",\"-\",_xlfn.XLOOKUP(A90,プルダウンデータリスト!$A$2:$A$43,プルダウンデータリスト!$D$2:$D$43) + 1)","v":"-"},{"$f":"IF(A90=\"\",\"-\",_xlfn.XLOOKUP(A90,プルダウンデータリスト!$A$2:$A$43,プルダウンデータリスト!$E$2:$E$43))","v":"-"},{"$f":"IF(A90=\"\",\"-\",_xlfn.XLOOKUP(A90,プルダウンデータリスト!$A$2:$A$43,プルダウンデータリスト!$F$2:$F$43))","v":"-"},"-"]
[null,null,null,null,null,null,null,{"$f":"IF(B91=プルダウンデータリスト!$H$2,_xlfn.XLOOKUP(A91,プルダウンデータリスト!$A$2:$A$43,プルダウンデータリスト!$B$2:$B$43),IF(B91=プルダウンデータリスト!$H$3,_xlfn.XLOOKUP(A91,プルダウンデータリスト!$A$2:$A$43,プルダウンデータリスト!$C$2:$C$43),\"-\"))","v":"-"},{"$f":"IF(A91=\"\",\"-\",_xlfn.XLOOKUP(A91,プルダウンデータリスト!$A$2:$A$43,プルダウンデータリスト!$D$2:$D$43) + 1)","v":"-"},{"$f":"IF(A91=\"\",\"-\",_xlfn.XLOOKUP(A91,プルダウンデータリスト!$A$2:$A$43,プルダウンデータリスト!$E$2:$E$43))","v":"-"},{"$f":"IF(A91=\"\",\"-\",_xlfn.XLOOKUP(A91,プルダウンデータリスト!$A$2:$A$43,プルダウンデータリスト!$F$2:$F$43))","v":"-"},"-"]
[null,null,null,null,null,null,null,{"$f":"IF(B92=プルダウンデータリスト!$H$2,_xlfn.XLOOKUP(A92,プルダウンデータリスト!$A$2:$A$43,プルダウンデータリスト!$B$2:$B$43),IF(B92=プルダウンデータリスト!$H$3,_xlfn.XLOOKUP(A92,プルダウンデータリスト!$A$2:$A$43,プルダウンデータリスト!$C$2:$C$43),\"-\"))","v":"-"},{"$f":"IF(A92=\"\",\"-\",_xlfn.XLOOKUP(A92,プルダウンデータリスト!$A$2:$A$43,プルダウンデータリスト!$D$2:$D$43) + 1)","v":"-"},{"$f":"IF(A92=\"\",\"-\",_xlfn.XLOOKUP(A92,プルダウンデータリスト!$A$2:$A$43,プルダウンデータリスト!$E$2:$E$43))","v":"-"},{"$f":"IF(A92=\"\",\"-\",_xlfn.XLOOKUP(A92,プルダウンデータリスト!$A$2:$A$43,プルダウンデータリスト!$F$2:$F$43))","v":"-"},"-"]
[null,null,null,null,null,null,null,{"$f":"IF(B93=プルダウンデータリスト!$H$2,_xlfn.XLOOKUP(A93,プルダウンデータリスト!$A$2:$A$43,プルダウンデータリスト!$B$2:$B$43),IF(B93=プルダウンデータリスト!$H$3,_xlfn.XLOOKUP(A93,プルダウンデータリスト!$A$2:$A$43,プルダウンデータリスト!$C$2:$C$43),\"-\"))","v":"-"},{"$f":"IF(A93=\"\",\"-\",_xlfn.XLOOKUP(A93,プルダウンデータリスト!$A$2:$A$43,プルダウンデータリスト!$D$2:$D$43) + 1)","v":"-"},{"$f":"IF(A93=\"\",\"-\",_xlfn.XLOOKUP(A93,プルダウンデータリスト!$A$2:$A$43,プルダウンデータリスト!$E$2:$E$43))","v":"-"},{"$f":"IF(A93=\"\",\"-\",_xlfn.XLOOKUP(A93,プルダウンデータリスト!$A$2:$A$43,プルダウンデータリスト!$F$2:$F$43))","v":"-"},"-"]
[null,null,null,null,null,null,null,{"$f":"IF(B94=プルダウンデータリスト!$H$2,_xlfn.XLOOKUP(A94,プルダウンデータリスト!$A$2:$A$43,プルダウンデータリスト!$B$2:$B$43),IF(B94=プルダウンデータリスト!$H$3,_xlfn.XLOOKUP(A94,プルダウンデータリスト!$A$2:$A$43,プルダウンデータリスト!$C$2:$C$43),\"-\"))","v":"-"},{"$f":"IF(A94=\"\",\"-\",_xlfn.XLOOKUP(A94,プルダウンデータリスト!$A$2:$A$43,プルダウンデータリスト!$D$2:$D$43) + 1)","v":"-"},{"$f":"IF(A94=\"\",\"-\",_xlfn.XLOOKUP(A94,プルダウンデータリスト!$A$2:$A$43,プルダウンデータリスト!$E$2:$E$43))","v":"-"},{"$f":"IF(A94=\"\",\"-\",_xlfn.XLOOKUP(A94,プルダウンデータリスト!$A$2:$A$43,プルダウンデータリスト!$F$2:$F$43))","v":"-"},"-"]
[null,null,null,null,null,null,null,{"$f":"IF(B95=プルダウンデータリスト!$H$2,_xlfn.XLOOKUP(A95,プルダウンデータリスト!$A$2:$A$43,プルダウンデータリスト!$B$2:$B$43),IF(B95=プルダウンデータリスト!$H$3,_xlfn.XLOOKUP(A95,プルダウンデータリスト!$A$2:$A$43,プルダウンデータリスト!$C$2:$C$43),\"-\"))","v":"-"},{"$f":"IF(A95=\"\",\"-\",_xlfn.XLOOKUP(A95,プルダウンデータリスト!$A$2:$A$43,プルダウンデータリスト!$D$2:$D$43) + 1)","v":"-"},{"$f":"IF(A95=\"\",\"-\",_xlfn.XLOOKUP(A95,プルダウンデータリスト!$A$2:$A$43,プルダウンデータリスト!$E$2:$E$43))","v":"-"},{"$f":"IF(A95=\"\",\"-\",_xlfn.XLOOKUP(A95,プルダウンデータリスト!$A$2:$A$43,プルダウンデータリスト!$F$2:$F$43))","v":"-"},"-"]
[null,null,null,null,null,null,null,{"$f":"IF(B96=プルダウンデータリスト!$H$2,_xlfn.XLOOKUP(A96,プルダウンデータリスト!$A$2:$A$43,プルダウンデータリスト!$B$2:$B$43),IF(B96=プルダウンデータリスト!$H$3,_xlfn.XLOOKUP(A96,プルダウンデータリスト!$A$2:$A$43,プルダウンデータリスト!$C$2:$C$43),\"-\"))","v":"-"},{"$f":"IF(A96=\"\",\"-\",_xlfn.XLOOKUP(A96,プルダウンデータリスト!$A$2:$A$43,プルダウンデータリスト!$D$2:$D$43) + 1)","v":"-"},{"$f":"IF(A96=\"\",\"-\",_xlfn.XLOOKUP(A96,プルダウンデータリスト!$A$2:$A$43,プルダウンデータリスト!$E$2:$E$43))","v":"-"},{"$f":"IF(A96=\"\",\"-\",_xlfn.XLOOKUP(A96,プルダウンデータリスト!$A$2:$A$43,プルダウンデータリスト!$F$2:$F$43))","v":"-"},"-"]
[null,null,null,null,null,null,null,{"$f":"IF(B97=プルダウンデータリスト!$H$2,_xlfn.XLOOKUP(A97,プルダウンデータリスト!$A$2:$A$43,プルダウンデータリスト!$B$2:$B$43),IF(B97=プルダウンデータリスト!$H$3,_xlfn.XLOOKUP(A97,プルダウンデータリスト!$A$2:$A$43,プルダウンデータリスト!$C$2:$C$43),\"-\"))","v":"-"},{"$f":"IF(A97=\"\",\"-\",_xlfn.XLOOKUP(A97,プルダウンデータリスト!$A$2:$A$43,プルダウンデータリスト!$D$2:$D$43) + 1)","v":"-"},{"$f":"IF(A97=\"\",\"-\",_xlfn.XLOOKUP(A97,プルダウンデータリスト!$A$2:$A$43,プルダウンデータリスト!$E$2:$E$43))","v":"-"},{"$f":"IF(A97=\"\",\"-\",_xlfn.XLOOKUP(A97,プルダウンデータリスト!$A$2:$A$43,プルダウンデータリスト!$F$2:$F$43))","v":"-"},"-"]
[null,null,null,null,null,null,null,{"$f":"IF(B98=プルダウンデータリスト!$H$2,_xlfn.XLOOKUP(A98,プルダウンデータリスト!$A$2:$A$43,プルダウンデータリスト!$B$2:$B$43),IF(B98=プルダウンデータリスト!$H$3,_xlfn.XLOOKUP(A98,プルダウンデータリスト!$A$2:$A$43,プルダウンデータリスト!$C$2:$C$43),\"-\"))","v":"-"},{"$f":"IF(A98=\"\",\"-\",_xlfn.XLOOKUP(A98,プルダウンデータリスト!$A$2:$A$43,プルダウンデータリスト!$D$2:$D$43) + 1)","v":"-"},{"$f":"IF(A98=\"\",\"-\",_xlfn.XLOOKUP(A98,プルダウンデータリスト!$A$2:$A$43,プルダウンデータリスト!$E$2:$E$43))","v":"-"},{"$f":"IF(A98=\"\",\"-\",_xlfn.XLOOKUP(A98,プルダウンデータリスト!$A$2:$A$43,プルダウンデータリスト!$F$2:$F$43))","v":"-"},"-"]
[null,null,null,null,null,null,null,{"$f":"IF(B99=プルダウンデータリスト!$H$2,_xlfn.XLOOKUP(A99,プルダウンデータリスト!$A$2:$A$43,プルダウンデータリスト!$B$2:$B$43),IF(B99=プルダウンデータリスト!$H$3,_xlfn.XLOOKUP(A99,プルダウンデータリスト!$A$2:$A$43,プルダウンデータリスト!$C$2:$C$43),\"-\"))","v":"-"},{"$f":"IF(A99=\"\",\"-\",_xlfn.XLOOKUP(A99,プルダウンデータリスト!$A$2:$A$43,プルダウンデータリスト!$D$2:$D$43) + 1)","v":"-"},{"$f":"IF(A99=\"\",\"-\",_xlfn.XLOOKUP(A99,プルダウンデータリスト!$A$2:$A$43,プルダウンデータリスト!$E$2:$E$43))","v":"-"},{"$f":"IF(A99=\"\",\"-\",_xlfn.XLOOKUP(A99,プルダウンデータリスト!$A$2:$A$43,プルダウンデータリスト!$F$2:$F$43))","v":"-"},"-"]
[null,null,null,null,null,null,null,{"$f":"IF(B100=プルダウンデータリスト!$H$2,_xlfn.XLOOKUP(A100,プルダウンデータリスト!$A$2:$A$43,プルダウンデータリスト!$B$2:$B$43),IF(B100=プルダウンデータリスト!$H$3,_xlfn.XLOOKUP(A100,プルダウンデータリスト!$A$2:$A$43,プルダウンデータリスト!$C$2:$C$43),\"-\"))","v":"-"},{"$f":"IF(A100=\"\",\"-\",_xlfn.XLOOKUP(A100,プルダウンデータリスト!$A$2:$A$43,プルダウンデータリスト!$D$2:$D$43) + 1)","v":"-"},{"$f":"IF(A100=\"\",\"-\",_xlfn.XLOOKUP(A100,プルダウンデータリスト!$A$2:$A$43,プルダウンデータリスト!$E$2:$E$43))","v":"-"},{"$f":"IF(A100=\"\",\"-\",_xlfn.XLOOKUP(A100,プルダウンデータリスト!$A$2:$A$43,プルダウンデータリスト!$F$2:$F$43))","v":"-"},"-"]
[null,null,null,null,null,null,null,{"$f":"IF(B101=プルダウンデータリスト!$H$2,_xlfn.XLOOKUP(A101,プルダウンデータリスト!$A$2:$A$43,プルダウンデータリスト!$B$2:$B$43),IF(B101=プルダウンデータリスト!$H$3,_xlfn.XLOOKUP(A101,プルダウンデータリスト!$A$2:$A$43,プルダウンデータリスト!$C$2:$C$43),\"-\"))","v":"-"},{"$f":"IF(A101=\"\",\"-\",_xlfn.XLOOKUP(A101,プルダウンデータリスト!$A$2:$A$43,プルダウンデータリスト!$D$2:$D$43) + 1)","v":"-"},{"$f":"IF(A101=\"\",\"-\",_xlfn.XLOOKUP(A101,プルダウンデータリスト!$A$2:$A$43,プルダウンデータリスト!$E$2:$E$43))","v":"-"},{"$f":"IF(A101=\"\",\"-\",_xlfn.XLOOKUP(A101,プルダウンデータリスト!$A$2:$A$43,プルダウンデータリスト!$F$2:$F$43))","v":"-"},"-"]
[null,null,null,null,null,null,null,{"$f":"IF(B102=プルダウンデータリスト!$H$2,_xlfn.XLOOKUP(A102,プルダウンデータリスト!$A$2:$A$43,プルダウンデータリスト!$B$2:$B$43),IF(B102=プルダウンデータリスト!$H$3,_xlfn.XLOOKUP(A102,プルダウンデータリスト!$A$2:$A$43,プルダウンデータリスト!$C$2:$C$43),\"-\"))","v":"-"},{"$f":"IF(A102=\"\",\"-\",_xlfn.XLOOKUP(A102,プルダウンデータリスト!$A$2:$A$43,プルダウンデータリスト!$D$2:$D$43) + 1)","v":"-"},{"$f":"IF(A102=\"\",\"-\",_xlfn.XLOOKUP(A102,プルダウンデータリスト!$A$2:$A$43,プルダウンデータリスト!$E$2:$E$43))","v":"-"},{"$f":"IF(A102=\"\",\"-\",_xlfn.XLOOKUP(A102,プルダウンデータリスト!$A$2:$A$43,プルダウンデータリスト!$F$2:$F$43))","v":"-"},"-"]
[null,null,null,null,null,null,null,{"$f":"IF(B103=プルダウンデータリスト!$H$2,_xlfn.XLOOKUP(A103,プルダウンデータリスト!$A$2:$A$43,プルダウンデータリスト!$B$2:$B$43),IF(B103=プルダウンデータリスト!$H$3,_xlfn.XLOOKUP(A103,プルダウンデータリスト!$A$2:$A$43,プルダウンデータリスト!$C$2:$C$43),\"-\"))","v":"-"},{"$f":"IF(A103=\"\",\"-\",_xlfn.XLOOKUP(A103,プルダウンデータリスト!$A$2:$A$43,プルダウンデータリスト!$D$2:$D$43) + 1)","v":"-"},{"$f":"IF(A103=\"\",\"-\",_xlfn.XLOOKUP(A103,プルダウンデータリスト!$A$2:$A$43,プルダウンデータリスト!$E$2:$E$43))","v":"-"},{"$f":"IF(A103=\"\",\"-\",_xlfn.XLOOKUP(A103,プルダウンデータリスト!$A$2:$A$43,プルダウンデータリスト!$F$2:$F$43))","v":"-"},"-"]
[null,null,null,null,null,null,null,{"$f":"IF(B104=プルダウンデータリスト!$H$2,_xlfn.XLOOKUP(A104,プルダウンデータリスト!$A$2:$A$43,プルダウンデータリスト!$B$2:$B$43),IF(B104=プルダウンデータリスト!$H$3,_xlfn.XLOOKUP(A104,プルダウンデータリスト!$A$2:$A$43,プルダウンデータリスト!$C$2:$C$43),\"-\"))","v":"-"},{"$f":"IF(A104=\"\",\"-\",_xlfn.XLOOKUP(A104,プルダウンデータリスト!$A$2:$A$43,プルダウンデータリスト!$D$2:$D$43) + 1)","v":"-"},{"$f":"IF(A104=\"\",\"-\",_xlfn.XLOOKUP(A104,プルダウンデータリスト!$A$2:$A$43,プルダウンデータリスト!$E$2:$E$43))","v":"-"},{"$f":"IF(A104=\"\",\"-\",_xlfn.XLOOKUP(A104,プルダウンデータリスト!$A$2:$A$43,プルダウンデータリスト!$F$2:$F$43))","v":"-"},"-"]
[null,null,null,null,null,null,null,{"$f":"IF(B105=プルダウンデータリスト!$H$2,_xlfn.XLOOKUP(A105,プルダウンデータリスト!$A$2:$A$43,プルダウンデータリスト!$B$2:$B$43),IF(B105=プルダウンデータリスト!$H$3,_xlfn.XLOOKUP(A105,プルダウンデータリスト!$A$2:$A$43,プルダウンデータリスト!$C$2:$C$43),\"-\"))","v":"-"},{"$f":"IF(A105=\"\",\"-\",_xlfn.XLOOKUP(A105,プルダウンデータリスト!$A$2:$A$43,プルダウンデータリスト!$D$2:$D$43) + 1)","v":"-"},{"$f":"IF(A105=\"\",\"-\",_xlfn.XLOOKUP(A105,プルダウンデータリスト!$A$2:$A$43,プルダウンデータリスト!$E$2:$E$43))","v":"-"},{"$f":"IF(A105=\"\",\"-\",_xlfn.XLOOKUP(A105,プルダウンデータリスト!$A$2:$A$43,プルダウンデータリスト!$F$2:$F$43))","v":"-"},"-"]
[null,null,null,null,null,null,null,{"$f":"IF(B106=プルダウンデータリスト!$H$2,_xlfn.XLOOKUP(A106,プルダウンデータリスト!$A$2:$A$43,プルダウンデータリスト!$B$2:$B$43),IF(B106=プルダウンデータリスト!$H$3,_xlfn.XLOOKUP(A106,プルダウンデータリスト!$A$2:$A$43,プルダウンデータリスト!$C$2:$C$43),\"-\"))","v":"-"},{"$f":"IF(A106=\"\",\"-\",_xlfn.XLOOKUP(A106,プルダウンデータリスト!$A$2:$A$43,プルダウンデータリスト!$D$2:$D$43) + 1)","v":"-"},{"$f":"IF(A106=\"\",\"-\",_xlfn.XLOOKUP(A106,プルダウンデータリスト!$A$2:$A$43,プルダウンデータリスト!$E$2:$E$43))","v":"-"},{"$f":"IF(A106=\"\",\"-\",_xlfn.XLOOKUP(A106,プルダウンデータリスト!$A$2:$A$43,プルダウンデータリスト!$F$2:$F$43))","v":"-"},"-"]
[null,null,null,null,null,null,null,{"$f":"IF(B107=プルダウンデータリスト!$H$2,_xlfn.XLOOKUP(A107,プルダウンデータリスト!$A$2:$A$43,プルダウンデータリスト!$B$2:$B$43),IF(B107=プルダウンデータリスト!$H$3,_xlfn.XLOOKUP(A107,プルダウンデータリスト!$A$2:$A$43,プルダウンデータリスト!$C$2:$C$43),\"-\"))","v":"-"},{"$f":"IF(A107=\"\",\"-\",_xlfn.XLOOKUP(A107,プルダウンデータリスト!$A$2:$A$43,プルダウンデータリスト!$D$2:$D$43) + 1)","v":"-"},{"$f":"IF(A107=\"\",\"-\",_xlfn.XLOOKUP(A107,プルダウンデータリスト!$A$2:$A$43,プルダウンデータリスト!$E$2:$E$43))","v":"-"},{"$f":"IF(A107=\"\",\"-\",_xlfn.XLOOKUP(A107,プルダウンデータリスト!$A$2:$A$43,プルダウンデータリスト!$F$2:$F$43))","v":"-"},"-"]
[null,null,null,null,null,null,null,{"$f":"IF(B108=プルダウンデータリスト!$H$2,_xlfn.XLOOKUP(A108,プルダウンデータリスト!$A$2:$A$43,プルダウンデータリスト!$B$2:$B$43),IF(B108=プルダウンデータリスト!$H$3,_xlfn.XLOOKUP(A108,プルダウンデータリスト!$A$2:$A$43,プルダウンデータリスト!$C$2:$C$43),\"-\"))","v":"-"},{"$f":"IF(A108=\"\",\"-\",_xlfn.XLOOKUP(A108,プルダウンデータリスト!$A$2:$A$43,プルダウンデータリスト!$D$2:$D$43) + 1)","v":"-"},{"$f":"IF(A108=\"\",\"-\",_xlfn.XLOOKUP(A108,プルダウンデータリスト!$A$2:$A$43,プルダウンデータリスト!$E$2:$E$43))","v":"-"},{"$f":"IF(A108=\"\",\"-\",_xlfn.XLOOKUP(A108,プルダウンデータリスト!$A$2:$A$43,プルダウンデータリスト!$F$2:$F$43))","v":"-"},"-"]
[null,null,null,null,null,null,null,{"$f":"IF(B109=プルダウンデータリスト!$H$2,_xlfn.XLOOKUP(A109,プルダウンデータリスト!$A$2:$A$43,プルダウンデータリスト!$B$2:$B$43),IF(B109=プルダウンデータリスト!$H$3,_xlfn.XLOOKUP(A109,プルダウンデータリスト!$A$2:$A$43,プルダウンデータリスト!$C$2:$C$43),\"-\"))","v":"-"},{"$f":"IF(A109=\"\",\"-\",_xlfn.XLOOKUP(A109,プルダウンデータリスト!$A$2:$A$43,プルダウンデータリスト!$D$2:$D$43) + 1)","v":"-"},{"$f":"IF(A109=\"\",\"-\",_xlfn.XLOOKUP(A109,プルダウンデータリスト!$A$2:$A$43,プルダウンデータリスト!$E$2:$E$43))","v":"-"},{"$f":"IF(A109=\"\",\"-\",_xlfn.XLOOKUP(A109,プルダウンデータリスト!$A$2:$A$43,プルダウンデータリスト!$F$2:$F$43))","v":"-"},"-"]
[null,null,null,null,null,null,null,{"$f":"IF(B110=プルダウンデータリスト!$H$2,_xlfn.XLOOKUP(A110,プルダウンデータリスト!$A$2:$A$43,プルダウンデータリスト!$B$2:$B$43),IF(B110=プルダウンデータリスト!$H$3,_xlfn.XLOOKUP(A110,プルダウンデータリスト!$A$2:$A$43,プルダウンデータリスト!$C$2:$C$43),\"-\"))","v":"-"},{"$f":"IF(A110=\"\",\"-\",_xlfn.XLOOKUP(A110,プルダウンデータリスト!$A$2:$A$43,プルダウンデータリスト!$D$2:$D$43) + 1)","v":"-"},{"$f":"IF(A110=\"\",\"-\",_xlfn.XLOOKUP(A110,プルダウンデータリスト!$A$2:$A$43,プルダウンデータリスト!$E$2:$E$43))","v":"-"},{"$f":"IF(A110=\"\",\"-\",_xlfn.XLOOKUP(A110,プルダウンデータリスト!$A$2:$A$43,プルダウンデータリスト!$F$2:$F$43))","v":"-"},"-"]
[null,null,null,null,null,null,null,{"$f":"IF(B111=プルダウンデータリスト!$H$2,_xlfn.XLOOKUP(A111,プルダウンデータリスト!$A$2:$A$43,プルダウンデータリスト!$B$2:$B$43),IF(B111=プルダウンデータリスト!$H$3,_xlfn.XLOOKUP(A111,プルダウンデータリスト!$A$2:$A$43,プルダウンデータリスト!$C$2:$C$43),\"-\"))","v":"-"},{"$f":"IF(A111=\"\",\"-\",_xlfn.XLOOKUP(A111,プルダウンデータリスト!$A$2:$A$43,プルダウンデータリスト!$D$2:$D$43) + 1)","v":"-"},{"$f":"IF(A111=\"\",\"-\",_xlfn.XLOOKUP(A111,プルダウンデータリスト!$A$2:$A$43,プルダウンデータリスト!$E$2:$E$43))","v":"-"},{"$f":"IF(A111=\"\",\"-\",_xlfn.XLOOKUP(A111,プルダウンデータリスト!$A$2:$A$43,プルダウンデータリスト!$F$2:$F$43))","v":"-"},"-"]
[null,null,null,null,null,null,null,{"$f":"IF(B112=プルダウンデータリスト!$H$2,_xlfn.XLOOKUP(A112,プルダウンデータリスト!$A$2:$A$43,プルダウンデータリスト!$B$2:$B$43),IF(B112=プルダウンデータリスト!$H$3,_xlfn.XLOOKUP(A112,プルダウンデータリスト!$A$2:$A$43,プルダウンデータリスト!$C$2:$C$43),\"-\"))","v":"-"},{"$f":"IF(A112=\"\",\"-\",_xlfn.XLOOKUP(A112,プルダウンデータリスト!$A$2:$A$43,プルダウンデータリスト!$D$2:$D$43) + 1)","v":"-"},{"$f":"IF(A112=\"\",\"-\",_xlfn.XLOOKUP(A112,プルダウンデータリスト!$A$2:$A$43,プルダウンデータリスト!$E$2:$E$43))","v":"-"},{"$f":"IF(A112=\"\",\"-\",_xlfn.XLOOKUP(A112,プルダウンデータリスト!$A$2:$A$43,プルダウンデータリスト!$F$2:$F$43))","v":"-"},"-"]
[null,null,null,null,null,null,null,{"$f":"IF(B113=プルダウンデータリスト!$H$2,_xlfn.XLOOKUP(A113,プルダウンデータリスト!$A$2:$A$43,プルダウンデータリスト!$B$2:$B$43),IF(B113=プルダウンデータリスト!$H$3,_xlfn.XLOOKUP(A113,プルダウンデータリスト!$A$2:$A$43,プルダウンデータリスト!$C$2:$C$43),\"-\"))","v":"-"},{"$f":"IF(A113=\"\",\"-\",_xlfn.XLOOKUP(A113,プルダウンデータリスト!$A$2:$A$43,プルダウンデータリスト!$D$2:$D$43) + 1)","v":"-"},{"$f":"IF(A113=\"\",\"-\",_xlfn.XLOOKUP(A113,プルダウンデータリスト!$A$2:$A$43,プルダウンデータリスト!$E$2:$E$43))","v":"-"},{"$f":"IF(A113=\"\",\"-\",_xlfn.XLOOKUP(A113,プルダウンデータリスト!$A$2:$A$43,プルダウンデータリスト!$F$2:$F$43))","v":"-"},"-"]
[null,null,null,null,null,null,null,{"$f":"IF(B114=プルダウンデータリスト!$H$2,_xlfn.XLOOKUP(A114,プルダウンデータリスト!$A$2:$A$43,プルダウンデータリスト!$B$2:$B$43),IF(B114=プルダウンデータリスト!$H$3,_xlfn.XLOOKUP(A114,プルダウンデータリスト!$A$2:$A$43,プルダウンデータリスト!$C$2:$C$43),\"-\"))","v":"-"},{"$f":"IF(A114=\"\",\"-\",_xlfn.XLOOKUP(A114,プルダウンデータリスト!$A$2:$A$43,プルダウンデータリスト!$D$2:$D$43) + 1)","v":"-"},{"$f":"IF(A114=\"\",\"-\",_xlfn.XLOOKUP(A114,プルダウンデータリスト!$A$2:$A$43,プルダウンデータリスト!$E$2:$E$43))","v":"-"},{"$f":"IF(A114=\"\",\"-\",_xlfn.XLOOKUP(A114,プルダウンデータリスト!$A$2:$A$43,プルダウンデータリスト!$F$2:$F$43))","v":"-"},"-"]
[null,null,null,null,null,null,null,{"$f":"IF(B115=プルダウンデータリスト!$H$2,_xlfn.XLOOKUP(A115,プルダウンデータリスト!$A$2:$A$43,プルダウンデータリスト!$B$2:$B$43),IF(B115=プルダウンデータリスト!$H$3,_xlfn.XLOOKUP(A115,プルダウンデータリスト!$A$2:$A$43,プルダウンデータリスト!$C$2:$C$43),\"-\"))","v":"-"},{"$f":"IF(A115=\"\",\"-\",_xlfn.XLOOKUP(A115,プルダウンデータリスト!$A$2:$A$43,プルダウンデータリスト!$D$2:$D$43) + 1)","v":"-"},{"$f":"IF(A115=\"\",\"-\",_xlfn.XLOOKUP(A115,プルダウンデータリスト!$A$2:$A$43,プルダウンデータリスト!$E$2:$E$43))","v":"-"},{"$f":"IF(A115=\"\",\"-\",_xlfn.XLOOKUP(A115,プルダウンデータリスト!$A$2:$A$43,プルダウンデータリスト!$F$2:$F$43))","v":"-"},"-"]
[null,null,null,null,null,null,null,{"$f":"IF(B116=プルダウンデータリスト!$H$2,_xlfn.XLOOKUP(A116,プルダウンデータリスト!$A$2:$A$43,プルダウンデータリスト!$B$2:$B$43),IF(B116=プルダウンデータリスト!$H$3,_xlfn.XLOOKUP(A116,プルダウンデータリスト!$A$2:$A$43,プルダウンデータリスト!$C$2:$C$43),\"-\"))","v":"-"},{"$f":"IF(A116=\"\",\"-\",_xlfn.XLOOKUP(A116,プルダウンデータリスト!$A$2:$A$43,プルダウンデータリスト!$D$2:$D$43) + 1)","v":"-"},{"$f":"IF(A116=\"\",\"-\",_xlfn.XLOOKUP(A116,プルダウンデータリスト!$A$2:$A$43,プルダウンデータリスト!$E$2:$E$43))","v":"-"},{"$f":"IF(A116=\"\",\"-\",_xlfn.XLOOKUP(A116,プルダウンデータリスト!$A$2:$A$43,プルダウンデータリスト!$F$2:$F$43))","v":"-"},"-"]
[null,null,null,null,null,null,null,{"$f":"IF(B117=プルダウンデータリスト!$H$2,_xlfn.XLOOKUP(A117,プルダウンデータリスト!$A$2:$A$43,プルダウンデータリスト!$B$2:$B$43),IF(B117=プルダウンデータリスト!$H$3,_xlfn.XLOOKUP(A117,プルダウンデータリスト!$A$2:$A$43,プルダウンデータリスト!$C$2:$C$43),\"-\"))","v":"-"},{"$f":"IF(A117=\"\",\"-\",_xlfn.XLOOKUP(A117,プルダウンデータリスト!$A$2:$A$43,プルダウンデータリスト!$D$2:$D$43) + 1)","v":"-"},{"$f":"IF(A117=\"\",\"-\",_xlfn.XLOOKUP(A117,プルダウンデータリスト!$A$2:$A$43,プルダウンデータリスト!$E$2:$E$43))","v":"-"},{"$f":"IF(A117=\"\",\"-\",_xlfn.XLOOKUP(A117,プルダウンデータリスト!$A$2:$A$43,プルダウンデータリスト!$F$2:$F$43))","v":"-"},"-"]
[null,null,null,null,null,null,null,{"$f":"IF(B118=プルダウンデータリスト!$H$2,_xlfn.XLOOKUP(A118,プルダウンデータリスト!$A$2:$A$43,プルダウンデータリスト!$B$2:$B$43),IF(B118=プルダウンデータリスト!$H$3,_xlfn.XLOOKUP(A118,プルダウンデータリスト!$A$2:$A$43,プルダウンデータリスト!$C$2:$C$43),\"-\"))","v":"-"},{"$f":"IF(A118=\"\",\"-\",_xlfn.XLOOKUP(A118,プルダウンデータリスト!$A$2:$A$43,プルダウンデータリスト!$D$2:$D$43) + 1)","v":"-"},{"$f":"IF(A118=\"\",\"-\",_xlfn.XLOOKUP(A118,プルダウンデータリスト!$A$2:$A$43,プルダウンデータリスト!$E$2:$E$43))","v":"-"},{"$f":"IF(A118=\"\",\"-\",_xlfn.XLOOKUP(A118,プルダウンデータリスト!$A$2:$A$43,プルダウンデータリスト!$F$2:$F$43))","v":"-"},"-"]
[null,null,null,null,null,null,null,{"$f":"IF(B119=プルダウンデータリスト!$H$2,_xlfn.XLOOKUP(A119,プルダウンデータリスト!$A$2:$A$43,プルダウンデータリスト!$B$2:$B$43),IF(B119=プルダウンデータリスト!$H$3,_xlfn.XLOOKUP(A119,プルダウンデータリスト!$A$2:$A$43,プルダウンデータリスト!$C$2:$C$43),\"-\"))","v":"-"},{"$f":"IF(A119=\"\",\"-\",_xlfn.XLOOKUP(A119,プルダウンデータリスト!$A$2:$A$43,プルダウンデータリスト!$D$2:$D$43) + 1)","v":"-"},{"$f":"IF(A119=\"\",\"-\",_xlfn.XLOOKUP(A119,プルダウンデータリスト!$A$2:$A$43,プルダウンデータリスト!$E$2:$E$43))","v":"-"},{"$f":"IF(A119=\"\",\"-\",_xlfn.XLOOKUP(A119,プルダウンデータリスト!$A$2:$A$43,プルダウンデータリスト!$F$2:$F$43))","v":"-"},"-"]
[null,null,null,null,null,null,null,{"$f":"IF(B120=プルダウンデータリスト!$H$2,_xlfn.XLOOKUP(A120,プルダウンデータリスト!$A$2:$A$43,プルダウンデータリスト!$B$2:$B$43),IF(B120=プルダウンデータリスト!$H$3,_xlfn.XLOOKUP(A120,プルダウンデータリスト!$A$2:$A$43,プルダウンデータリスト!$C$2:$C$43),\"-\"))","v":"-"},{"$f":"IF(A120=\"\",\"-\",_xlfn.XLOOKUP(A120,プルダウンデータリスト!$A$2:$A$43,プルダウンデータリスト!$D$2:$D$43) + 1)","v":"-"},{"$f":"IF(A120=\"\",\"-\",_xlfn.XLOOKUP(A120,プルダウンデータリスト!$A$2:$A$43,プルダウンデータリスト!$E$2:$E$43))","v":"-"},{"$f":"IF(A120=\"\",\"-\",_xlfn.XLOOKUP(A120,プルダウンデータリスト!$A$2:$A$43,プルダウンデータリスト!$F$2:$F$43))","v":"-"},"-"]
[null,null,null,null,null,null,null,{"$f":"IF(B121=プルダウンデータリスト!$H$2,_xlfn.XLOOKUP(A121,プルダウンデータリスト!$A$2:$A$43,プルダウンデータリスト!$B$2:$B$43),IF(B121=プルダウンデータリスト!$H$3,_xlfn.XLOOKUP(A121,プルダウンデータリスト!$A$2:$A$43,プルダウンデータリスト!$C$2:$C$43),\"-\"))","v":"-"},{"$f":"IF(A121=\"\",\"-\",_xlfn.XLOOKUP(A121,プルダウンデータリスト!$A$2:$A$43,プルダウンデータリスト!$D$2:$D$43) + 1)","v":"-"},{"$f":"IF(A121=\"\",\"-\",_xlfn.XLOOKUP(A121,プルダウンデータリスト!$A$2:$A$43,プルダウンデータリスト!$E$2:$E$43))","v":"-"},{"$f":"IF(A121=\"\",\"-\",_xlfn.XLOOKUP(A121,プルダウンデータリスト!$A$2:$A$43,プルダウンデータリスト!$F$2:$F$43))","v":"-"},"-"]
[null,null,null,null,null,null,null,{"$f":"IF(B122=プルダウンデータリスト!$H$2,_xlfn.XLOOKUP(A122,プルダウンデータリスト!$A$2:$A$43,プルダウンデータリスト!$B$2:$B$43),IF(B122=プルダウンデータリスト!$H$3,_xlfn.XLOOKUP(A122,プルダウンデータリスト!$A$2:$A$43,プルダウンデータリスト!$C$2:$C$43),\"-\"))","v":"-"},{"$f":"IF(A122=\"\",\"-\",_xlfn.XLOOKUP(A122,プルダウンデータリスト!$A$2:$A$43,プルダウンデータリスト!$D$2:$D$43) + 1)","v":"-"},{"$f":"IF(A122=\"\",\"-\",_xlfn.XLOOKUP(A122,プルダウンデータリスト!$A$2:$A$43,プルダウンデータリスト!$E$2:$E$43))","v":"-"},{"$f":"IF(A122=\"\",\"-\",_xlfn.XLOOKUP(A122,プルダウンデータリスト!$A$2:$A$43,プルダウンデータリスト!$F$2:$F$43))","v":"-"},"-"]
[null,null,null,null,null,null,null,{"$f":"IF(B123=プルダウンデータリスト!$H$2,_xlfn.XLOOKUP(A123,プルダウンデータリスト!$A$2:$A$43,プルダウンデータリスト!$B$2:$B$43),IF(B123=プルダウンデータリスト!$H$3,_xlfn.XLOOKUP(A123,プルダウンデータリスト!$A$2:$A$43,プルダウンデータリスト!$C$2:$C$43),\"-\"))","v":"-"},{"$f":"IF(A123=\"\",\"-\",_xlfn.XLOOKUP(A123,プルダウンデータリスト!$A$2:$A$43,プルダウンデータリスト!$D$2:$D$43) + 1)","v":"-"},{"$f":"IF(A123=\"\",\"-\",_xlfn.XLOOKUP(A123,プルダウンデータリスト!$A$2:$A$43,プルダウンデータリスト!$E$2:$E$43))","v":"-"},{"$f":"IF(A123=\"\",\"-\",_xlfn.XLOOKUP(A123,プルダウンデータリスト!$A$2:$A$43,プルダウンデータリスト!$F$2:$F$43))","v":"-"},"-"]
[null,null,null,null,null,null,null,{"$f":"IF(B124=プルダウンデータリスト!$H$2,_xlfn.XLOOKUP(A124,プルダウンデータリスト!$A$2:$A$43,プルダウンデータリスト!$B$2:$B$43),IF(B124=プルダウンデータリスト!$H$3,_xlfn.XLOOKUP(A124,プルダウンデータリスト!$A$2:$A$43,プルダウンデータリスト!$C$2:$C$43),\"-\"))","v":"-"},{"$f":"IF(A124=\"\",\"-\",_xlfn.XLOOKUP(A124,プルダウンデータリスト!$A$2:$A$43,プルダウンデータリスト!$D$2:$D$43) + 1)","v":"-"},{"$f":"IF(A124=\"\",\"-\",_xlfn.XLOOKUP(A124,プルダウンデータリスト!$A$2:$A$43,プルダウンデータリスト!$E$2:$E$43))","v":"-"},{"$f":"IF(A124=\"\",\"-\",_xlfn.XLOOKUP(A124,プルダウンデータリスト!$A$2:$A$43,プルダウンデータリスト!$F$2:$F$43))","v":"-"},"-"]
[null,null,null,null,null,null,null,{"$f":"IF(B125=プルダウンデータリスト!$H$2,_xlfn.XLOOKUP(A125,プルダウンデータリスト!$A$2:$A$43,プルダウンデータリスト!$B$2:$B$43),IF(B125=プルダウンデータリスト!$H$3,_xlfn.XLOOKUP(A125,プルダウンデータリスト!$A$2:$A$43,プルダウンデータリスト!$C$2:$C$43),\"-\"))","v":"-"},{"$f":"IF(A125=\"\",\"-\",_xlfn.XLOOKUP(A125,プルダウンデータリスト!$A$2:$A$43,プルダウンデータリスト!$D$2:$D$43) + 1)","v":"-"},{"$f":"IF(A125=\"\",\"-\",_xlfn.XLOOKUP(A125,プルダウンデータリスト!$A$2:$A$43,プルダウンデータリスト!$E$2:$E$43))","v":"-"},{"$f":"IF(A125=\"\",\"-\",_xlfn.XLOOKUP(A125,プルダウンデータリスト!$A$2:$A$43,プルダウンデータリスト!$F$2:$F$43))","v":"-"},"-"]
[null,null,null,null,null,null,null,{"$f":"IF(B126=プルダウンデータリスト!$H$2,_xlfn.XLOOKUP(A126,プルダウンデータリスト!$A$2:$A$43,プルダウンデータリスト!$B$2:$B$43),IF(B126=プルダウンデータリスト!$H$3,_xlfn.XLOOKUP(A126,プルダウンデータリスト!$A$2:$A$43,プルダウンデータリスト!$C$2:$C$43),\"-\"))","v":"-"},{"$f":"IF(A126=\"\",\"-\",_xlfn.XLOOKUP(A126,プルダウンデータリスト!$A$2:$A$43,プルダウンデータリスト!$D$2:$D$43) + 1)","v":"-"},{"$f":"IF(A126=\"\",\"-\",_xlfn.XLOOKUP(A126,プルダウンデータリスト!$A$2:$A$43,プルダウンデータリスト!$E$2:$E$43))","v":"-"},{"$f":"IF(A126=\"\",\"-\",_xlfn.XLOOKUP(A126,プルダウンデータリスト!$A$2:$A$43,プルダウンデータリスト!$F$2:$F$43))","v":"-"},"-"]
[null,null,null,null,null,null,null,{"$f":"IF(B127=プルダウンデータリスト!$H$2,_xlfn.XLOOKUP(A127,プルダウンデータリスト!$A$2:$A$43,プルダウンデータリスト!$B$2:$B$43),IF(B127=プルダウンデータリスト!$H$3,_xlfn.XLOOKUP(A127,プルダウンデータリスト!$A$2:$A$43,プルダウンデータリスト!$C$2:$C$43),\"-\"))","v":"-"},{"$f":"IF(A127=\"\",\"-\",_xlfn.XLOOKUP(A127,プルダウンデータリスト!$A$2:$A$43,プルダウンデータリスト!$D$2:$D$43) + 1)","v":"-"},{"$f":"IF(A127=\"\",\"-\",_xlfn.XLOOKUP(A127,プルダウンデータリスト!$A$2:$A$43,プルダウンデータリスト!$E$2:$E$43))","v":"-"},{"$f":"IF(A127=\"\",\"-\",_xlfn.XLOOKUP(A127,プルダウンデータリスト!$A$2:$A$43,プルダウンデータリスト!$F$2:$F$43))","v":"-"},"-"]
[null,null,null,null,null,null,null,{"$f":"IF(B128=プルダウンデータリスト!$H$2,_xlfn.XLOOKUP(A128,プルダウンデータリスト!$A$2:$A$43,プルダウンデータリスト!$B$2:$B$43),IF(B128=プルダウンデータリスト!$H$3,_xlfn.XLOOKUP(A128,プルダウンデータリスト!$A$2:$A$43,プルダウンデータリスト!$C$2:$C$43),\"-\"))","v":"-"},{"$f":"IF(A128=\"\",\"-\",_xlfn.XLOOKUP(A128,プルダウンデータリスト!$A$2:$A$43,プルダウンデータリスト!$D$2:$D$43) + 1)","v":"-"},{"$f":"IF(A128=\"\",\"-\",_xlfn.XLOOKUP(A128,プルダウンデータリスト!$A$2:$A$43,プルダウンデータリスト!$E$2:$E$43))","v":"-"},{"$f":"IF(A128=\"\",\"-\",_xlfn.XLOOKUP(A128,プルダウンデータリスト!$A$2:$A$43,プルダウンデータリスト!$F$2:$F$43))","v":"-"},"-"]
[null,null,null,null,null,null,null,{"$f":"IF(B129=プルダウンデータリスト!$H$2,_xlfn.XLOOKUP(A129,プルダウンデータリスト!$A$2:$A$43,プルダウンデータリスト!$B$2:$B$43),IF(B129=プルダウンデータリスト!$H$3,_xlfn.XLOOKUP(A129,プルダウンデータリスト!$A$2:$A$43,プルダウンデータリスト!$C$2:$C$43),\"-\"))","v":"-"},{"$f":"IF(A129=\"\",\"-\",_xlfn.XLOOKUP(A129,プルダウンデータリスト!$A$2:$A$43,プルダウンデータリスト!$D$2:$D$43) + 1)","v":"-"},{"$f":"IF(A129=\"\",\"-\",_xlfn.XLOOKUP(A129,プルダウンデータリスト!$A$2:$A$43,プルダウンデータリスト!$E$2:$E$43))","v":"-"},{"$f":"IF(A129=\"\",\"-\",_xlfn.XLOOKUP(A129,プルダウンデータリスト!$A$2:$A$43,プルダウンデータリスト!$F$2:$F$43))","v":"-"},"-"]
[null,null,null,null,null,null,null,{"$f":"IF(B130=プルダウンデータリスト!$H$2,_xlfn.XLOOKUP(A130,プルダウンデータリスト!$A$2:$A$43,プルダウンデータリスト!$B$2:$B$43),IF(B130=プルダウンデータリスト!$H$3,_xlfn.XLOOKUP(A130,プルダウンデータリスト!$A$2:$A$43,プルダウンデータリスト!$C$2:$C$43),\"-\"))","v":"-"},{"$f":"IF(A130=\"\",\"-\",_xlfn.XLOOKUP(A130,プルダウンデータリスト!$A$2:$A$43,プルダウンデータリスト!$D$2:$D$43) + 1)","v":"-"},{"$f":"IF(A130=\"\",\"-\",_xlfn.XLOOKUP(A130,プルダウンデータリスト!$A$2:$A$43,プルダウンデータリスト!$E$2:$E$43))","v":"-"},{"$f":"IF(A130=\"\",\"-\",_xlfn.XLOOKUP(A130,プルダウンデータリスト!$A$2:$A$43,プルダウンデータリスト!$F$2:$F$43))","v":"-"},"-"]
[null,null,null,null,null,null,null,{"$f":"IF(B131=プルダウンデータリスト!$H$2,_xlfn.XLOOKUP(A131,プルダウンデータリスト!$A$2:$A$43,プルダウンデータリスト!$B$2:$B$43),IF(B131=プルダウンデータリスト!$H$3,_xlfn.XLOOKUP(A131,プルダウンデータリスト!$A$2:$A$43,プルダウンデータリスト!$C$2:$C$43),\"-\"))","v":"-"},{"$f":"IF(A131=\"\",\"-\",_xlfn.XLOOKUP(A131,プルダウンデータリスト!$A$2:$A$43,プルダウンデータリスト!$D$2:$D$43) + 1)","v":"-"},{"$f":"IF(A131=\"\",\"-\",_xlfn.XLOOKUP(A131,プルダウンデータリスト!$A$2:$A$43,プルダウンデータリスト!$E$2:$E$43))","v":"-"},{"$f":"IF(A131=\"\",\"-\",_xlfn.XLOOKUP(A131,プルダウンデータリスト!$A$2:$A$43,プルダウンデータリスト!$F$2:$F$43))","v":"-"},"-"]
[null,null,null,null,null,null,null,{"$f":"IF(B132=プルダウンデータリスト!$H$2,_xlfn.XLOOKUP(A132,プルダウンデータリスト!$A$2:$A$43,プルダウンデータリスト!$B$2:$B$43),IF(B132=プルダウンデータリスト!$H$3,_xlfn.XLOOKUP(A132,プルダウンデータリスト!$A$2:$A$43,プルダウンデータリスト!$C$2:$C$43),\"-\"))","v":"-"},{"$f":"IF(A132=\"\",\"-\",_xlfn.XLOOKUP(A132,プルダウンデータリスト!$A$2:$A$43,プルダウンデータリスト!$D$2:$D$43) + 1)","v":"-"},{"$f":"IF(A132=\"\",\"-\",_xlfn.XLOOKUP(A132,プルダウンデータリスト!$A$2:$A$43,プルダウンデータリスト!$E$2:$E$43))","v":"-"},{"$f":"IF(A132=\"\",\"-\",_xlfn.XLOOKUP(A132,プルダウンデータリスト!$A$2:$A$43,プルダウンデータリスト!$F$2:$F$43))","v":"-"},"-"]
[null,null,null,null,null,null,null,{"$f":"IF(B133=プルダウンデータリスト!$H$2,_xlfn.XLOOKUP(A133,プルダウンデータリスト!$A$2:$A$43,プルダウンデータリスト!$B$2:$B$43),IF(B133=プルダウンデータリスト!$H$3,_xlfn.XLOOKUP(A133,プルダウンデータリスト!$A$2:$A$43,プルダウンデータリスト!$C$2:$C$43),\"-\"))","v":"-"},{"$f":"IF(A133=\"\",\"-\",_xlfn.XLOOKUP(A133,プルダウンデータリスト!$A$2:$A$43,プルダウンデータリスト!$D$2:$D$43) + 1)","v":"-"},{"$f":"IF(A133=\"\",\"-\",_xlfn.XLOOKUP(A133,プルダウンデータリスト!$A$2:$A$43,プルダウンデータリスト!$E$2:$E$43))","v":"-"},{"$f":"IF(A133=\"\",\"-\",_xlfn.XLOOKUP(A133,プルダウンデータリスト!$A$2:$A$43,プルダウンデータリスト!$F$2:$F$43))","v":"-"},"-"]
[null,null,null,null,null,null,null,{"$f":"IF(B134=プルダウンデータリスト!$H$2,_xlfn.XLOOKUP(A134,プルダウンデータリスト!$A$2:$A$43,プルダウンデータリスト!$B$2:$B$43),IF(B134=プルダウンデータリスト!$H$3,_xlfn.XLOOKUP(A134,プルダウンデータリスト!$A$2:$A$43,プルダウンデータリスト!$C$2:$C$43),\"-\"))","v":"-"},{"$f":"IF(A134=\"\",\"-\",_xlfn.XLOOKUP(A134,プルダウンデータリスト!$A$2:$A$43,プルダウンデータリスト!$D$2:$D$43) + 1)","v":"-"},{"$f":"IF(A134=\"\",\"-\",_xlfn.XLOOKUP(A134,プルダウンデータリスト!$A$2:$A$43,プルダウンデータリスト!$E$2:$E$43))","v":"-"},{"$f":"IF(A134=\"\",\"-\",_xlfn.XLOOKUP(A134,プルダウンデータリスト!$A$2:$A$43,プルダウンデータリスト!$F$2:$F$43))","v":"-"},"-"]
[null,null,null,null,null,null,null,{"$f":"IF(B135=プルダウンデータリスト!$H$2,_xlfn.XLOOKUP(A135,プルダウンデータリスト!$A$2:$A$43,プルダウンデータリスト!$B$2:$B$43),IF(B135=プルダウンデータリスト!$H$3,_xlfn.XLOOKUP(A135,プルダウンデータリスト!$A$2:$A$43,プルダウンデータリスト!$C$2:$C$43),\"-\"))","v":"-"},{"$f":"IF(A135=\"\",\"-\",_xlfn.XLOOKUP(A135,プルダウンデータリスト!$A$2:$A$43,プルダウンデータリスト!$D$2:$D$43) + 1)","v":"-"},{"$f":"IF(A135=\"\",\"-\",_xlfn.XLOOKUP(A135,プルダウンデータリスト!$A$2:$A$43,プルダウンデータリスト!$E$2:$E$43))","v":"-"},{"$f":"IF(A135=\"\",\"-\",_xlfn.XLOOKUP(A135,プルダウンデータリスト!$A$2:$A$43,プルダウンデータリスト!$F$2:$F$43))","v":"-"},"-"]
[null,null,null,null,null,null,null,{"$f":"IF(B136=プルダウンデータリスト!$H$2,_xlfn.XLOOKUP(A136,プルダウンデータリスト!$A$2:$A$43,プルダウンデータリスト!$B$2:$B$43),IF(B136=プルダウンデータリスト!$H$3,_xlfn.XLOOKUP(A136,プルダウンデータリスト!$A$2:$A$43,プルダウンデータリスト!$C$2:$C$43),\"-\"))","v":"-"},{"$f":"IF(A136=\"\",\"-\",_xlfn.XLOOKUP(A136,プルダウンデータリスト!$A$2:$A$43,プルダウンデータリスト!$D$2:$D$43) + 1)","v":"-"},{"$f":"IF(A136=\"\",\"-\",_xlfn.XLOOKUP(A136,プルダウンデータリスト!$A$2:$A$43,プルダウンデータリスト!$E$2:$E$43))","v":"-"},{"$f":"IF(A136=\"\",\"-\",_xlfn.XLOOKUP(A136,プルダウンデータリスト!$A$2:$A$43,プルダウンデータリスト!$F$2:$F$43))","v":"-"},{"$f":"IFERROR(-1*ABS(G136*(H136*I136*J136*K136)),\"-\")","v":"-"}]
[null,null,null,null,null,null,null,{"$f":"IF(B137=プルダウンデータリスト!$H$2,_xlfn.XLOOKUP(A137,プルダウンデータリスト!$A$2:$A$43,プルダウンデータリスト!$B$2:$B$43),IF(B137=プルダウンデータリスト!$H$3,_xlfn.XLOOKUP(A137,プルダウンデータリスト!$A$2:$A$43,プルダウンデータリスト!$C$2:$C$43),\"-\"))","v":"-"},{"$f":"IF(A137=\"\",\"-\",_xlfn.XLOOKUP(A137,プルダウンデータリスト!$A$2:$A$43,プルダウンデータリスト!$D$2:$D$43) + 1)","v":"-"},{"$f":"IF(A137=\"\",\"-\",_xlfn.XLOOKUP(A137,プルダウンデータリスト!$A$2:$A$43,プルダウンデータリスト!$E$2:$E$43))","v":"-"},{"$f":"IF(A137=\"\",\"-\",_xlfn.XLOOKUP(A137,プルダウンデータリスト!$A$2:$A$43,プルダウンデータリスト!$F$2:$F$43))","v":"-"},"-"]
[null,null,null,null,null,null,null,{"$f":"IF(B138=プルダウンデータリスト!$H$2,_xlfn.XLOOKUP(A138,プルダウンデータリスト!$A$2:$A$43,プルダウンデータリスト!$B$2:$B$43),IF(B138=プルダウンデータリスト!$H$3,_xlfn.XLOOKUP(A138,プルダウンデータリスト!$A$2:$A$43,プルダウンデータリスト!$C$2:$C$43),\"-\"))","v":"-"},{"$f":"IF(A138=\"\",\"-\",_xlfn.XLOOKUP(A138,プルダウンデータリスト!$A$2:$A$43,プルダウンデータリスト!$D$2:$D$43) + 1)","v":"-"},{"$f":"IF(A138=\"\",\"-\",_xlfn.XLOOKUP(A138,プルダウンデータリスト!$A$2:$A$43,プルダウンデータリスト!$E$2:$E$43))","v":"-"},{"$f":"IF(A138=\"\",\"-\",_xlfn.XLOOKUP(A138,プルダウンデータリスト!$A$2:$A$43,プルダウンデータリスト!$F$2:$F$43))","v":"-"},"-"]
[null,null,null,null,null,null,null,{"$f":"IF(B139=プルダウンデータリスト!$H$2,_xlfn.XLOOKUP(A139,プルダウンデータリスト!$A$2:$A$43,プルダウンデータリスト!$B$2:$B$43),IF(B139=プルダウンデータリスト!$H$3,_xlfn.XLOOKUP(A139,プルダウンデータリスト!$A$2:$A$43,プルダウンデータリスト!$C$2:$C$43),\"-\"))","v":"-"},{"$f":"IF(A139=\"\",\"-\",_xlfn.XLOOKUP(A139,プルダウンデータリスト!$A$2:$A$43,プルダウンデータリスト!$D$2:$D$43) + 1)","v":"-"},{"$f":"IF(A139=\"\",\"-\",_xlfn.XLOOKUP(A139,プルダウンデータリスト!$A$2:$A$43,プルダウンデータリスト!$E$2:$E$43))","v":"-"},{"$f":"IF(A139=\"\",\"-\",_xlfn.XLOOKUP(A139,プルダウンデータリスト!$A$2:$A$43,プルダウンデータリスト!$F$2:$F$43))","v":"-"},"-"]
[null,null,null,null,null,null,null,{"$f":"IF(B140=プルダウンデータリスト!$H$2,_xlfn.XLOOKUP(A140,プルダウンデータリスト!$A$2:$A$43,プルダウンデータリスト!$B$2:$B$43),IF(B140=プルダウンデータリスト!$H$3,_xlfn.XLOOKUP(A140,プルダウンデータリスト!$A$2:$A$43,プルダウンデータリスト!$C$2:$C$43),\"-\"))","v":"-"},{"$f":"IF(A140=\"\",\"-\",_xlfn.XLOOKUP(A140,プルダウンデータリスト!$A$2:$A$43,プルダウンデータリスト!$D$2:$D$43) + 1)","v":"-"},{"$f":"IF(A140=\"\",\"-\",_xlfn.XLOOKUP(A140,プルダウンデータリスト!$A$2:$A$43,プルダウンデータリスト!$E$2:$E$43))","v":"-"},{"$f":"IF(A140=\"\",\"-\",_xlfn.XLOOKUP(A140,プルダウンデータリスト!$A$2:$A$43,プルダウンデータリスト!$F$2:$F$43))","v":"-"},"-"]
[null,null,null,null,null,null,null,{"$f":"IF(B141=プルダウンデータリスト!$H$2,_xlfn.XLOOKUP(A141,プルダウンデータリスト!$A$2:$A$43,プルダウンデータリスト!$B$2:$B$43),IF(B141=プルダウンデータリスト!$H$3,_xlfn.XLOOKUP(A141,プルダウンデータリスト!$A$2:$A$43,プルダウンデータリスト!$C$2:$C$43),\"-\"))","v":"-"},{"$f":"IF(A141=\"\",\"-\",_xlfn.XLOOKUP(A141,プルダウンデータリスト!$A$2:$A$43,プルダウンデータリスト!$D$2:$D$43) + 1)","v":"-"},{"$f":"IF(A141=\"\",\"-\",_xlfn.XLOOKUP(A141,プルダウンデータリスト!$A$2:$A$43,プルダウンデータリスト!$E$2:$E$43))","v":"-"},{"$f":"IF(A141=\"\",\"-\",_xlfn.XLOOKUP(A141,プルダウンデータリスト!$A$2:$A$43,プルダウンデータリスト!$F$2:$F$43))","v":"-"},"-"]
[null,null,null,null,null,null,null,{"$f":"IF(B142=プルダウンデータリスト!$H$2,_xlfn.XLOOKUP(A142,プルダウンデータリスト!$A$2:$A$43,プルダウンデータリスト!$B$2:$B$43),IF(B142=プルダウンデータリスト!$H$3,_xlfn.XLOOKUP(A142,プルダウンデータリスト!$A$2:$A$43,プルダウンデータリスト!$C$2:$C$43),\"-\"))","v":"-"},{"$f":"IF(A142=\"\",\"-\",_xlfn.XLOOKUP(A142,プルダウンデータリスト!$A$2:$A$43,プルダウンデータリスト!$D$2:$D$43) + 1)","v":"-"},{"$f":"IF(A142=\"\",\"-\",_xlfn.XLOOKUP(A142,プルダウンデータリスト!$A$2:$A$43,プルダウンデータリスト!$E$2:$E$43))","v":"-"},{"$f":"IF(A142=\"\",\"-\",_xlfn.XLOOKUP(A142,プルダウンデータリスト!$A$2:$A$43,プルダウンデータリスト!$F$2:$F$43))","v":"-"},"-"]
[null,null,null,null,null,null,null,{"$f":"IF(B143=プルダウンデータリスト!$H$2,_xlfn.XLOOKUP(A143,プルダウンデータリスト!$A$2:$A$43,プルダウンデータリスト!$B$2:$B$43),IF(B143=プルダウンデータリスト!$H$3,_xlfn.XLOOKUP(A143,プルダウンデータリスト!$A$2:$A$43,プルダウンデータリスト!$C$2:$C$43),\"-\"))","v":"-"},{"$f":"IF(A143=\"\",\"-\",_xlfn.XLOOKUP(A143,プルダウンデータリスト!$A$2:$A$43,プルダウンデータリスト!$D$2:$D$43) + 1)","v":"-"},{"$f":"IF(A143=\"\",\"-\",_xlfn.XLOOKUP(A143,プルダウンデータリスト!$A$2:$A$43,プルダウンデータリスト!$E$2:$E$43))","v":"-"},{"$f":"IF(A143=\"\",\"-\",_xlfn.XLOOKUP(A143,プルダウンデータリスト!$A$2:$A$43,プルダウンデータリスト!$F$2:$F$43))","v":"-"},"-"]
[null,null,null,null,null,null,null,{"$f":"IF(B144=プルダウンデータリスト!$H$2,_xlfn.XLOOKUP(A144,プルダウンデータリスト!$A$2:$A$43,プルダウンデータリスト!$B$2:$B$43),IF(B144=プルダウンデータリスト!$H$3,_xlfn.XLOOKUP(A144,プルダウンデータリスト!$A$2:$A$43,プルダウンデータリスト!$C$2:$C$43),\"-\"))","v":"-"},{"$f":"IF(A144=\"\",\"-\",_xlfn.XLOOKUP(A144,プルダウンデータリスト!$A$2:$A$43,プルダウンデータリスト!$D$2:$D$43) + 1)","v":"-"},{"$f":"IF(A144=\"\",\"-\",_xlfn.XLOOKUP(A144,プルダウンデータリスト!$A$2:$A$43,プルダウンデータリスト!$E$2:$E$43))","v":"-"},{"$f":"IF(A144=\"\",\"-\",_xlfn.XLOOKUP(A144,プルダウンデータリスト!$A$2:$A$43,プルダウンデータリスト!$F$2:$F$43))","v":"-"},"-"]
[null,null,null,null,null,null,null,{"$f":"IF(B145=プルダウンデータリスト!$H$2,_xlfn.XLOOKUP(A145,プルダウンデータリスト!$A$2:$A$43,プルダウンデータリスト!$B$2:$B$43),IF(B145=プルダウンデータリスト!$H$3,_xlfn.XLOOKUP(A145,プルダウンデータリスト!$A$2:$A$43,プルダウンデータリスト!$C$2:$C$43),\"-\"))","v":"-"},{"$f":"IF(A145=\"\",\"-\",_xlfn.XLOOKUP(A145,プルダウンデータリスト!$A$2:$A$43,プルダウンデータリスト!$D$2:$D$43) + 1)","v":"-"},{"$f":"IF(A145=\"\",\"-\",_xlfn.XLOOKUP(A145,プルダウンデータリスト!$A$2:$A$43,プルダウンデータリスト!$E$2:$E$43))","v":"-"},{"$f":"IF(A145=\"\",\"-\",_xlfn.XLOOKUP(A145,プルダウンデータリスト!$A$2:$A$43,プルダウンデータリスト!$F$2:$F$43))","v":"-"},"-"]
[null,null,null,null,null,null,null,{"$f":"IF(B146=プルダウンデータリスト!$H$2,_xlfn.XLOOKUP(A146,プルダウンデータリスト!$A$2:$A$43,プルダウンデータリスト!$B$2:$B$43),IF(B146=プルダウンデータリスト!$H$3,_xlfn.XLOOKUP(A146,プルダウンデータリスト!$A$2:$A$43,プルダウンデータリスト!$C$2:$C$43),\"-\"))","v":"-"},{"$f":"IF(A146=\"\",\"-\",_xlfn.XLOOKUP(A146,プルダウンデータリスト!$A$2:$A$43,プルダウンデータリスト!$D$2:$D$43) + 1)","v":"-"},{"$f":"IF(A146=\"\",\"-\",_xlfn.XLOOKUP(A146,プルダウンデータリスト!$A$2:$A$43,プルダウンデータリスト!$E$2:$E$43))","v":"-"},{"$f":"IF(A146=\"\",\"-\",_xlfn.XLOOKUP(A146,プルダウンデータリスト!$A$2:$A$43,プルダウンデータリスト!$F$2:$F$43))","v":"-"},"-"]
[null,null,null,null,null,null,null,{"$f":"IF(B147=プルダウンデータリスト!$H$2,_xlfn.XLOOKUP(A147,プルダウンデータリスト!$A$2:$A$43,プルダウンデータリスト!$B$2:$B$43),IF(B147=プルダウンデータリスト!$H$3,_xlfn.XLOOKUP(A147,プルダウンデータリスト!$A$2:$A$43,プルダウンデータリスト!$C$2:$C$43),\"-\"))","v":"-"},{"$f":"IF(A147=\"\",\"-\",_xlfn.XLOOKUP(A147,プルダウンデータリスト!$A$2:$A$43,プルダウンデータリスト!$D$2:$D$43) + 1)","v":"-"},{"$f":"IF(A147=\"\",\"-\",_xlfn.XLOOKUP(A147,プルダウンデータリスト!$A$2:$A$43,プルダウンデータリスト!$E$2:$E$43))","v":"-"},{"$f":"IF(A147=\"\",\"-\",_xlfn.XLOOKUP(A147,プルダウンデータリスト!$A$2:$A$43,プルダウンデータリスト!$F$2:$F$43))","v":"-"},"-"]
[null,null,null,null,null,null,null,{"$f":"IF(B148=プルダウンデータリスト!$H$2,_xlfn.XLOOKUP(A148,プルダウンデータリスト!$A$2:$A$43,プルダウンデータリスト!$B$2:$B$43),IF(B148=プルダウンデータリスト!$H$3,_xlfn.XLOOKUP(A148,プルダウンデータリスト!$A$2:$A$43,プルダウンデータリスト!$C$2:$C$43),\"-\"))","v":"-"},{"$f":"IF(A148=\"\",\"-\",_xlfn.XLOOKUP(A148,プルダウンデータリスト!$A$2:$A$43,プルダウンデータリスト!$D$2:$D$43) + 1)","v":"-"},{"$f":"IF(A148=\"\",\"-\",_xlfn.XLOOKUP(A148,プルダウンデータリスト!$A$2:$A$43,プルダウンデータリスト!$E$2:$E$43))","v":"-"},{"$f":"IF(A148=\"\",\"-\",_xlfn.XLOOKUP(A148,プルダウンデータリスト!$A$2:$A$43,プルダウンデータリスト!$F$2:$F$43))","v":"-"},"-"]
[null,null,null,null,null,null,null,{"$f":"IF(B149=プルダウンデータリスト!$H$2,_xlfn.XLOOKUP(A149,プルダウンデータリスト!$A$2:$A$43,プルダウンデータリスト!$B$2:$B$43),IF(B149=プルダウンデータリスト!$H$3,_xlfn.XLOOKUP(A149,プルダウンデータリスト!$A$2:$A$43,プルダウンデータリスト!$C$2:$C$43),\"-\"))","v":"-"},{"$f":"IF(A149=\"\",\"-\",_xlfn.XLOOKUP(A149,プルダウンデータリスト!$A$2:$A$43,プルダウンデータリスト!$D$2:$D$43) + 1)","v":"-"},{"$f":"IF(A149=\"\",\"-\",_xlfn.XLOOKUP(A149,プルダウンデータリスト!$A$2:$A$43,プルダウンデータリスト!$E$2:$E$43))","v":"-"},{"$f":"IF(A149=\"\",\"-\",_xlfn.XLOOKUP(A149,プルダウンデータリスト!$A$2:$A$43,プルダウンデータリスト!$F$2:$F$43))","v":"-"},"-"]
[null,null,null,null,null,null,null,{"$f":"IF(B150=プルダウンデータリスト!$H$2,_xlfn.XLOOKUP(A150,プルダウンデータリスト!$A$2:$A$43,プルダウンデータリスト!$B$2:$B$43),IF(B150=プルダウンデータリスト!$H$3,_xlfn.XLOOKUP(A150,プルダウンデータリスト!$A$2:$A$43,プルダウンデータリスト!$C$2:$C$43),\"-\"))","v":"-"},{"$f":"IF(A150=\"\",\"-\",_xlfn.XLOOKUP(A150,プルダウンデータリスト!$A$2:$A$43,プルダウンデータリスト!$D$2:$D$43) + 1)","v":"-"},{"$f":"IF(A150=\"\",\"-\",_xlfn.XLOOKUP(A150,プルダウンデータリスト!$A$2:$A$43,プルダウンデータリスト!$E$2:$E$43))","v":"-"},{"$f":"IF(A150=\"\",\"-\",_xlfn.XLOOKUP(A150,プルダウンデータリスト!$A$2:$A$43,プルダウンデータリスト!$F$2:$F$43))","v":"-"},"-"]
[null,null,null,null,null,null,null,{"$f":"IF(B151=プルダウンデータリスト!$H$2,_xlfn.XLOOKUP(A151,プルダウンデータリスト!$A$2:$A$43,プルダウンデータリスト!$B$2:$B$43),IF(B151=プルダウンデータリスト!$H$3,_xlfn.XLOOKUP(A151,プルダウンデータリスト!$A$2:$A$43,プルダウンデータリスト!$C$2:$C$43),\"-\"))","v":"-"},{"$f":"IF(A151=\"\",\"-\",_xlfn.XLOOKUP(A151,プルダウンデータリスト!$A$2:$A$43,プルダウンデータリスト!$D$2:$D$43) + 1)","v":"-"},{"$f":"IF(A151=\"\",\"-\",_xlfn.XLOOKUP(A151,プルダウンデータリスト!$A$2:$A$43,プルダウンデータリスト!$E$2:$E$43))","v":"-"},{"$f":"IF(A151=\"\",\"-\",_xlfn.XLOOKUP(A151,プルダウンデータリスト!$A$2:$A$43,プルダウンデータリスト!$F$2:$F$43))","v":"-"},"-"]
[null,null,null,null,null,null,null,{"$f":"IF(B152=プルダウンデータリスト!$H$2,_xlfn.XLOOKUP(A152,プルダウンデータリスト!$A$2:$A$43,プルダウンデータリスト!$B$2:$B$43),IF(B152=プルダウンデータリスト!$H$3,_xlfn.XLOOKUP(A152,プルダウンデータリスト!$A$2:$A$43,プルダウンデータリスト!$C$2:$C$43),\"-\"))","v":"-"},{"$f":"IF(A152=\"\",\"-\",_xlfn.XLOOKUP(A152,プルダウンデータリスト!$A$2:$A$43,プルダウンデータリスト!$D$2:$D$43) + 1)","v":"-"},{"$f":"IF(A152=\"\",\"-\",_xlfn.XLOOKUP(A152,プルダウンデータリスト!$A$2:$A$43,プルダウンデータリスト!$E$2:$E$43))","v":"-"},{"$f":"IF(A152=\"\",\"-\",_xlfn.XLOOKUP(A152,プルダウンデータリスト!$A$2:$A$43,プルダウンデータリスト!$F$2:$F$43))","v":"-"},"-"]
[null,null,null,null,null,null,null,{"$f":"IF(B153=プルダウンデータリスト!$H$2,_xlfn.XLOOKUP(A153,プルダウンデータリスト!$A$2:$A$43,プルダウンデータリスト!$B$2:$B$43),IF(B153=プルダウンデータリスト!$H$3,_xlfn.XLOOKUP(A153,プルダウンデータリスト!$A$2:$A$43,プルダウンデータリスト!$C$2:$C$43),\"-\"))","v":"-"},{"$f":"IF(A153=\"\",\"-\",_xlfn.XLOOKUP(A153,プルダウンデータリスト!$A$2:$A$43,プルダウンデータリスト!$D$2:$D$43) + 1)","v":"-"},{"$f":"IF(A153=\"\",\"-\",_xlfn.XLOOKUP(A153,プルダウンデータリスト!$A$2:$A$43,プルダウンデータリスト!$E$2:$E$43))","v":"-"},{"$f":"IF(A153=\"\",\"-\",_xlfn.XLOOKUP(A153,プルダウンデータリスト!$A$2:$A$43,プルダウンデータリスト!$F$2:$F$43))","v":"-"},"-"]
[null,null,null,null,null,null,null,{"$f":"IF(B154=プルダウンデータリスト!$H$2,_xlfn.XLOOKUP(A154,プルダウンデータリスト!$A$2:$A$43,プルダウンデータリスト!$B$2:$B$43),IF(B154=プルダウンデータリスト!$H$3,_xlfn.XLOOKUP(A154,プルダウンデータリスト!$A$2:$A$43,プルダウンデータリスト!$C$2:$C$43),\"-\"))","v":"-"},{"$f":"IF(A154=\"\",\"-\",_xlfn.XLOOKUP(A154,プルダウンデータリスト!$A$2:$A$43,プルダウンデータリスト!$D$2:$D$43) + 1)","v":"-"},{"$f":"IF(A154=\"\",\"-\",_xlfn.XLOOKUP(A154,プルダウンデータリスト!$A$2:$A$43,プルダウンデータリスト!$E$2:$E$43))","v":"-"},{"$f":"IF(A154=\"\",\"-\",_xlfn.XLOOKUP(A154,プルダウンデータリスト!$A$2:$A$43,プルダウンデータリスト!$F$2:$F$43))","v":"-"},"-"]
[null,null,null,null,null,null,null,{"$f":"IF(B155=プルダウンデータリスト!$H$2,_xlfn.XLOOKUP(A155,プルダウンデータリスト!$A$2:$A$43,プルダウンデータリスト!$B$2:$B$43),IF(B155=プルダウンデータリスト!$H$3,_xlfn.XLOOKUP(A155,プルダウンデータリスト!$A$2:$A$43,プルダウンデータリスト!$C$2:$C$43),\"-\"))","v":"-"},{"$f":"IF(A155=\"\",\"-\",_xlfn.XLOOKUP(A155,プルダウンデータリスト!$A$2:$A$43,プルダウンデータリスト!$D$2:$D$43) + 1)","v":"-"},{"$f":"IF(A155=\"\",\"-\",_xlfn.XLOOKUP(A155,プルダウンデータリスト!$A$2:$A$43,プルダウンデータリスト!$E$2:$E$43))","v":"-"},{"$f":"IF(A155=\"\",\"-\",_xlfn.XLOOKUP(A155,プルダウンデータリスト!$A$2:$A$43,プルダウンデータリスト!$F$2:$F$43))","v":"-"},"-"]
[null,null,null,null,null,null,null,{"$f":"IF(B156=プルダウンデータリスト!$H$2,_xlfn.XLOOKUP(A156,プルダウンデータリスト!$A$2:$A$43,プルダウンデータリスト!$B$2:$B$43),IF(B156=プルダウンデータリスト!$H$3,_xlfn.XLOOKUP(A156,プルダウンデータリスト!$A$2:$A$43,プルダウンデータリスト!$C$2:$C$43),\"-\"))","v":"-"},{"$f":"IF(A156=\"\",\"-\",_xlfn.XLOOKUP(A156,プルダウンデータリスト!$A$2:$A$43,プルダウンデータリスト!$D$2:$D$43) + 1)","v":"-"},{"$f":"IF(A156=\"\",\"-\",_xlfn.XLOOKUP(A156,プルダウンデータリスト!$A$2:$A$43,プルダウンデータリスト!$E$2:$E$43))","v":"-"},{"$f":"IF(A156=\"\",\"-\",_xlfn.XLOOKUP(A156,プルダウンデータリスト!$A$2:$A$43,プルダウンデータリスト!$F$2:$F$43))","v":"-"},"-"]
[null,null,null,null,null,null,null,{"$f":"IF(B157=プルダウンデータリスト!$H$2,_xlfn.XLOOKUP(A157,プルダウンデータリスト!$A$2:$A$43,プルダウンデータリスト!$B$2:$B$43),IF(B157=プルダウンデータリスト!$H$3,_xlfn.XLOOKUP(A157,プルダウンデータリスト!$A$2:$A$43,プルダウンデータリスト!$C$2:$C$43),\"-\"))","v":"-"},{"$f":"IF(A157=\"\",\"-\",_xlfn.XLOOKUP(A157,プルダウンデータリスト!$A$2:$A$43,プルダウンデータリスト!$D$2:$D$43) + 1)","v":"-"},{"$f":"IF(A157=\"\",\"-\",_xlfn.XLOOKUP(A157,プルダウンデータリスト!$A$2:$A$43,プルダウンデータリスト!$E$2:$E$43))","v":"-"},{"$f":"IF(A157=\"\",\"-\",_xlfn.XLOOKUP(A157,プルダウンデータリスト!$A$2:$A$43,プルダウンデータリスト!$F$2:$F$43))","v":"-"},"-"]
[null,null,null,null,null,null,null,{"$f":"IF(B158=プルダウンデータリスト!$H$2,_xlfn.XLOOKUP(A158,プルダウンデータリスト!$A$2:$A$43,プルダウンデータリスト!$B$2:$B$43),IF(B158=プルダウンデータリスト!$H$3,_xlfn.XLOOKUP(A158,プルダウンデータリスト!$A$2:$A$43,プルダウンデータリスト!$C$2:$C$43),\"-\"))","v":"-"},{"$f":"IF(A158=\"\",\"-\",_xlfn.XLOOKUP(A158,プルダウンデータリスト!$A$2:$A$43,プルダウンデータリスト!$D$2:$D$43) + 1)","v":"-"},{"$f":"IF(A158=\"\",\"-\",_xlfn.XLOOKUP(A158,プルダウンデータリスト!$A$2:$A$43,プルダウンデータリスト!$E$2:$E$43))","v":"-"},{"$f":"IF(A158=\"\",\"-\",_xlfn.XLOOKUP(A158,プルダウンデータリスト!$A$2:$A$43,プルダウンデータリスト!$F$2:$F$43))","v":"-"},"-"]
[null,null,null,null,null,null,null,{"$f":"IF(B159=プルダウンデータリスト!$H$2,_xlfn.XLOOKUP(A159,プルダウンデータリスト!$A$2:$A$43,プルダウンデータリスト!$B$2:$B$43),IF(B159=プルダウンデータリスト!$H$3,_xlfn.XLOOKUP(A159,プルダウンデータリスト!$A$2:$A$43,プルダウンデータリスト!$C$2:$C$43),\"-\"))","v":"-"},{"$f":"IF(A159=\"\",\"-\",_xlfn.XLOOKUP(A159,プルダウンデータリスト!$A$2:$A$43,プルダウンデータリスト!$D$2:$D$43) + 1)","v":"-"},{"$f":"IF(A159=\"\",\"-\",_xlfn.XLOOKUP(A159,プルダウンデータリスト!$A$2:$A$43,プルダウンデータリスト!$E$2:$E$43))","v":"-"},{"$f":"IF(A159=\"\",\"-\",_xlfn.XLOOKUP(A159,プルダウンデータリスト!$A$2:$A$43,プルダウンデータリスト!$F$2:$F$43))","v":"-"},"-"]
[null,null,null,null,null,null,null,{"$f":"IF(B160=プルダウンデータリスト!$H$2,_xlfn.XLOOKUP(A160,プルダウンデータリスト!$A$2:$A$43,プルダウンデータリスト!$B$2:$B$43),IF(B160=プルダウンデータリスト!$H$3,_xlfn.XLOOKUP(A160,プルダウンデータリスト!$A$2:$A$43,プルダウンデータリスト!$C$2:$C$43),\"-\"))","v":"-"},{"$f":"IF(A160=\"\",\"-\",_xlfn.XLOOKUP(A160,プルダウンデータリスト!$A$2:$A$43,プルダウンデータリスト!$D$2:$D$43) + 1)","v":"-"},{"$f":"IF(A160=\"\",\"-\",_xlfn.XLOOKUP(A160,プルダウンデータリスト!$A$2:$A$43,プルダウンデータリスト!$E$2:$E$43))","v":"-"},{"$f":"IF(A160=\"\",\"-\",_xlfn.XLOOKUP(A160,プルダウンデータリスト!$A$2:$A$43,プルダウンデータリスト!$F$2:$F$43))","v":"-"},"-"]
[null,null,null,null,null,null,null,{"$f":"IF(B161=プルダウンデータリスト!$H$2,_xlfn.XLOOKUP(A161,プルダウンデータリスト!$A$2:$A$43,プルダウンデータリスト!$B$2:$B$43),IF(B161=プルダウンデータリスト!$H$3,_xlfn.XLOOKUP(A161,プルダウンデータリスト!$A$2:$A$43,プルダウンデータリスト!$C$2:$C$43),\"-\"))","v":"-"},{"$f":"IF(A161=\"\",\"-\",_xlfn.XLOOKUP(A161,プルダウンデータリスト!$A$2:$A$43,プルダウンデータリスト!$D$2:$D$43) + 1)","v":"-"},{"$f":"IF(A161=\"\",\"-\",_xlfn.XLOOKUP(A161,プルダウンデータリスト!$A$2:$A$43,プルダウンデータリスト!$E$2:$E$43))","v":"-"},{"$f":"IF(A161=\"\",\"-\",_xlfn.XLOOKUP(A161,プルダウンデータリスト!$A$2:$A$43,プルダウンデータリスト!$F$2:$F$43))","v":"-"},"-"]
[null,null,null,null,null,null,null,{"$f":"IF(B162=プルダウンデータリスト!$H$2,_xlfn.XLOOKUP(A162,プルダウンデータリスト!$A$2:$A$43,プルダウンデータリスト!$B$2:$B$43),IF(B162=プルダウンデータリスト!$H$3,_xlfn.XLOOKUP(A162,プルダウンデータリスト!$A$2:$A$43,プルダウンデータリスト!$C$2:$C$43),\"-\"))","v":"-"},{"$f":"IF(A162=\"\",\"-\",_xlfn.XLOOKUP(A162,プルダウンデータリスト!$A$2:$A$43,プルダウンデータリスト!$D$2:$D$43) + 1)","v":"-"},{"$f":"IF(A162=\"\",\"-\",_xlfn.XLOOKUP(A162,プルダウンデータリスト!$A$2:$A$43,プルダウンデータリスト!$E$2:$E$43))","v":"-"},{"$f":"IF(A162=\"\",\"-\",_xlfn.XLOOKUP(A162,プルダウンデータリスト!$A$2:$A$43,プルダウンデータリスト!$F$2:$F$43))","v":"-"},"-"]
[null,null,null,null,null,null,null,{"$f":"IF(B163=プルダウンデータリスト!$H$2,_xlfn.XLOOKUP(A163,プルダウンデータリスト!$A$2:$A$43,プルダウンデータリスト!$B$2:$B$43),IF(B163=プルダウンデータリスト!$H$3,_xlfn.XLOOKUP(A163,プルダウンデータリスト!$A$2:$A$43,プルダウンデータリスト!$C$2:$C$43),\"-\"))","v":"-"},{"$f":"IF(A163=\"\",\"-\",_xlfn.XLOOKUP(A163,プルダウンデータリスト!$A$2:$A$43,プルダウンデータリスト!$D$2:$D$43) + 1)","v":"-"},{"$f":"IF(A163=\"\",\"-\",_xlfn.XLOOKUP(A163,プルダウンデータリスト!$A$2:$A$43,プルダウンデータリスト!$E$2:$E$43))","v":"-"},{"$f":"IF(A163=\"\",\"-\",_xlfn.XLOOKUP(A163,プルダウンデータリスト!$A$2:$A$43,プルダウンデータリスト!$F$2:$F$43))","v":"-"},"-"]
[null,null,null,null,null,null,null,{"$f":"IF(B164=プルダウンデータリスト!$H$2,_xlfn.XLOOKUP(A164,プルダウンデータリスト!$A$2:$A$43,プルダウンデータリスト!$B$2:$B$43),IF(B164=プルダウンデータリスト!$H$3,_xlfn.XLOOKUP(A164,プルダウンデータリスト!$A$2:$A$43,プルダウンデータリスト!$C$2:$C$43),\"-\"))","v":"-"},{"$f":"IF(A164=\"\",\"-\",_xlfn.XLOOKUP(A164,プルダウンデータリスト!$A$2:$A$43,プルダウンデータリスト!$D$2:$D$43) + 1)","v":"-"},{"$f":"IF(A164=\"\",\"-\",_xlfn.XLOOKUP(A164,プルダウンデータリスト!$A$2:$A$43,プルダウンデータリスト!$E$2:$E$43))","v":"-"},{"$f":"IF(A164=\"\",\"-\",_xlfn.XLOOKUP(A164,プルダウンデータリスト!$A$2:$A$43,プルダウンデータリスト!$F$2:$F$43))","v":"-"},"-"]
[null,null,null,null,null,null,null,{"$f":"IF(B165=プルダウンデータリスト!$H$2,_xlfn.XLOOKUP(A165,プルダウンデータリスト!$A$2:$A$43,プルダウンデータリスト!$B$2:$B$43),IF(B165=プルダウンデータリスト!$H$3,_xlfn.XLOOKUP(A165,プルダウンデータリスト!$A$2:$A$43,プルダウンデータリスト!$C$2:$C$43),\"-\"))","v":"-"},{"$f":"IF(A165=\"\",\"-\",_xlfn.XLOOKUP(A165,プルダウンデータリスト!$A$2:$A$43,プルダウンデータリスト!$D$2:$D$43) + 1)","v":"-"},{"$f":"IF(A165=\"\",\"-\",_xlfn.XLOOKUP(A165,プルダウンデータリスト!$A$2:$A$43,プルダウンデータリスト!$E$2:$E$43))","v":"-"},{"$f":"IF(A165=\"\",\"-\",_xlfn.XLOOKUP(A165,プルダウンデータリスト!$A$2:$A$43,プルダウンデータリスト!$F$2:$F$43))","v":"-"},"-"]
[null,null,null,null,null,null,null,{"$f":"IF(B166=プルダウンデータリスト!$H$2,_xlfn.XLOOKUP(A166,プルダウンデータリスト!$A$2:$A$43,プルダウンデータリスト!$B$2:$B$43),IF(B166=プルダウンデータリスト!$H$3,_xlfn.XLOOKUP(A166,プルダウンデータリスト!$A$2:$A$43,プルダウンデータリスト!$C$2:$C$43),\"-\"))","v":"-"},{"$f":"IF(A166=\"\",\"-\",_xlfn.XLOOKUP(A166,プルダウンデータリスト!$A$2:$A$43,プルダウンデータリスト!$D$2:$D$43) + 1)","v":"-"},{"$f":"IF(A166=\"\",\"-\",_xlfn.XLOOKUP(A166,プルダウンデータリスト!$A$2:$A$43,プルダウンデータリスト!$E$2:$E$43))","v":"-"},{"$f":"IF(A166=\"\",\"-\",_xlfn.XLOOKUP(A166,プルダウンデータリスト!$A$2:$A$43,プルダウンデータリスト!$F$2:$F$43))","v":"-"},"-"]
[null,null,null,null,null,null,null,{"$f":"IF(B167=プルダウンデータリスト!$H$2,_xlfn.XLOOKUP(A167,プルダウンデータリスト!$A$2:$A$43,プルダウンデータリスト!$B$2:$B$43),IF(B167=プルダウンデータリスト!$H$3,_xlfn.XLOOKUP(A167,プルダウンデータリスト!$A$2:$A$43,プルダウンデータリスト!$C$2:$C$43),\"-\"))","v":"-"},{"$f":"IF(A167=\"\",\"-\",_xlfn.XLOOKUP(A167,プルダウンデータリスト!$A$2:$A$43,プルダウンデータリスト!$D$2:$D$43) + 1)","v":"-"},{"$f":"IF(A167=\"\",\"-\",_xlfn.XLOOKUP(A167,プルダウンデータリスト!$A$2:$A$43,プルダウンデータリスト!$E$2:$E$43))","v":"-"},{"$f":"IF(A167=\"\",\"-\",_xlfn.XLOOKUP(A167,プルダウンデータリスト!$A$2:$A$43,プルダウンデータリスト!$F$2:$F$43))","v":"-"},"-"]
[null,null,null,null,null,null,null,{"$f":"IF(B168=プルダウンデータリスト!$H$2,_xlfn.XLOOKUP(A168,プルダウンデータリスト!$A$2:$A$43,プルダウンデータリスト!$B$2:$B$43),IF(B168=プルダウンデータリスト!$H$3,_xlfn.XLOOKUP(A168,プルダウンデータリスト!$A$2:$A$43,プルダウンデータリスト!$C$2:$C$43),\"-\"))","v":"-"},{"$f":"IF(A168=\"\",\"-\",_xlfn.XLOOKUP(A168,プルダウンデータリスト!$A$2:$A$43,プルダウンデータリスト!$D$2:$D$43) + 1)","v":"-"},{"$f":"IF(A168=\"\",\"-\",_xlfn.XLOOKUP(A168,プルダウンデータリスト!$A$2:$A$43,プルダウンデータリスト!$E$2:$E$43))","v":"-"},{"$f":"IF(A168=\"\",\"-\",_xlfn.XLOOKUP(A168,プルダウンデータリスト!$A$2:$A$43,プルダウンデータリスト!$F$2:$F$43))","v":"-"},"-"]
[null,null,null,null,null,null,null,{"$f":"IF(B169=プルダウンデータリスト!$H$2,_xlfn.XLOOKUP(A169,プルダウンデータリスト!$A$2:$A$43,プルダウンデータリスト!$B$2:$B$43),IF(B169=プルダウンデータリスト!$H$3,_xlfn.XLOOKUP(A169,プルダウンデータリスト!$A$2:$A$43,プルダウンデータリスト!$C$2:$C$43),\"-\"))","v":"-"},{"$f":"IF(A169=\"\",\"-\",_xlfn.XLOOKUP(A169,プルダウンデータリスト!$A$2:$A$43,プルダウンデータリスト!$D$2:$D$43) + 1)","v":"-"},{"$f":"IF(A169=\"\",\"-\",_xlfn.XLOOKUP(A169,プルダウンデータリスト!$A$2:$A$43,プルダウンデータリスト!$E$2:$E$43))","v":"-"},{"$f":"IF(A169=\"\",\"-\",_xlfn.XLOOKUP(A169,プルダウンデータリスト!$A$2:$A$43,プルダウンデータリスト!$F$2:$F$43))","v":"-"},"-"]
[null,null,null,null,null,null,null,{"$f":"IF(B170=プルダウンデータリスト!$H$2,_xlfn.XLOOKUP(A170,プルダウンデータリスト!$A$2:$A$43,プルダウンデータリスト!$B$2:$B$43),IF(B170=プルダウンデータリスト!$H$3,_xlfn.XLOOKUP(A170,プルダウンデータリスト!$A$2:$A$43,プルダウンデータリスト!$C$2:$C$43),\"-\"))","v":"-"},{"$f":"IF(A170=\"\",\"-\",_xlfn.XLOOKUP(A170,プルダウンデータリスト!$A$2:$A$43,プルダウンデータリスト!$D$2:$D$43) + 1)","v":"-"},{"$f":"IF(A170=\"\",\"-\",_xlfn.XLOOKUP(A170,プルダウンデータリスト!$A$2:$A$43,プルダウンデータリスト!$E$2:$E$43))","v":"-"},{"$f":"IF(A170=\"\",\"-\",_xlfn.XLOOKUP(A170,プルダウンデータリスト!$A$2:$A$43,プルダウンデータリスト!$F$2:$F$43))","v":"-"},"-"]
[null,null,null,null,null,null,null,{"$f":"IF(B171=プルダウンデータリスト!$H$2,_xlfn.XLOOKUP(A171,プルダウンデータリスト!$A$2:$A$43,プルダウンデータリスト!$B$2:$B$43),IF(B171=プルダウンデータリスト!$H$3,_xlfn.XLOOKUP(A171,プルダウンデータリスト!$A$2:$A$43,プルダウンデータリスト!$C$2:$C$43),\"-\"))","v":"-"},{"$f":"IF(A171=\"\",\"-\",_xlfn.XLOOKUP(A171,プルダウンデータリスト!$A$2:$A$43,プルダウンデータリスト!$D$2:$D$43) + 1)","v":"-"},{"$f":"IF(A171=\"\",\"-\",_xlfn.XLOOKUP(A171,プルダウンデータリスト!$A$2:$A$43,プルダウンデータリスト!$E$2:$E$43))","v":"-"},{"$f":"IF(A171=\"\",\"-\",_xlfn.XLOOKUP(A171,プルダウンデータリスト!$A$2:$A$43,プルダウンデータリスト!$F$2:$F$43))","v":"-"},"-"]
[null,null,null,null,null,null,null,{"$f":"IF(B172=プルダウンデータリスト!$H$2,_xlfn.XLOOKUP(A172,プルダウンデータリスト!$A$2:$A$43,プルダウンデータリスト!$B$2:$B$43),IF(B172=プルダウンデータリスト!$H$3,_xlfn.XLOOKUP(A172,プルダウンデータリスト!$A$2:$A$43,プルダウンデータリスト!$C$2:$C$43),\"-\"))","v":"-"},{"$f":"IF(A172=\"\",\"-\",_xlfn.XLOOKUP(A172,プルダウンデータリスト!$A$2:$A$43,プルダウンデータリスト!$D$2:$D$43) + 1)","v":"-"},{"$f":"IF(A172=\"\",\"-\",_xlfn.XLOOKUP(A172,プルダウンデータリスト!$A$2:$A$43,プルダウンデータリスト!$E$2:$E$43))","v":"-"},{"$f":"IF(A172=\"\",\"-\",_xlfn.XLOOKUP(A172,プルダウンデータリスト!$A$2:$A$43,プルダウンデータリスト!$F$2:$F$43))","v":"-"},"-"]
[null,null,null,null,null,null,null,{"$f":"IF(B173=プルダウンデータリスト!$H$2,_xlfn.XLOOKUP(A173,プルダウンデータリスト!$A$2:$A$43,プルダウンデータリスト!$B$2:$B$43),IF(B173=プルダウンデータリスト!$H$3,_xlfn.XLOOKUP(A173,プルダウンデータリスト!$A$2:$A$43,プルダウンデータリスト!$C$2:$C$43),\"-\"))","v":"-"},{"$f":"IF(A173=\"\",\"-\",_xlfn.XLOOKUP(A173,プルダウンデータリスト!$A$2:$A$43,プルダウンデータリスト!$D$2:$D$43) + 1)","v":"-"},{"$f":"IF(A173=\"\",\"-\",_xlfn.XLOOKUP(A173,プルダウンデータリスト!$A$2:$A$43,プルダウンデータリスト!$E$2:$E$43))","v":"-"},{"$f":"IF(A173=\"\",\"-\",_xlfn.XLOOKUP(A173,プルダウンデータリスト!$A$2:$A$43,プルダウンデータリスト!$F$2:$F$43))","v":"-"},"-"]
[null,null,null,null,null,null,null,{"$f":"IF(B174=プルダウンデータリスト!$H$2,_xlfn.XLOOKUP(A174,プルダウンデータリスト!$A$2:$A$43,プルダウンデータリスト!$B$2:$B$43),IF(B174=プルダウンデータリスト!$H$3,_xlfn.XLOOKUP(A174,プルダウンデータリスト!$A$2:$A$43,プルダウンデータリスト!$C$2:$C$43),\"-\"))","v":"-"},{"$f":"IF(A174=\"\",\"-\",_xlfn.XLOOKUP(A174,プルダウンデータリスト!$A$2:$A$43,プルダウンデータリスト!$D$2:$D$43) + 1)","v":"-"},{"$f":"IF(A174=\"\",\"-\",_xlfn.XLOOKUP(A174,プルダウンデータリスト!$A$2:$A$43,プルダウンデータリスト!$E$2:$E$43))","v":"-"},{"$f":"IF(A174=\"\",\"-\",_xlfn.XLOOKUP(A174,プルダウンデータリスト!$A$2:$A$43,プルダウンデータリスト!$F$2:$F$43))","v":"-"},"-"]
[null,null,null,null,null,null,null,{"$f":"IF(B175=プルダウンデータリスト!$H$2,_xlfn.XLOOKUP(A175,プルダウンデータリスト!$A$2:$A$43,プルダウンデータリスト!$B$2:$B$43),IF(B175=プルダウンデータリスト!$H$3,_xlfn.XLOOKUP(A175,プルダウンデータリスト!$A$2:$A$43,プルダウンデータリスト!$C$2:$C$43),\"-\"))","v":"-"},{"$f":"IF(A175=\"\",\"-\",_xlfn.XLOOKUP(A175,プルダウンデータリスト!$A$2:$A$43,プルダウンデータリスト!$D$2:$D$43) + 1)","v":"-"},{"$f":"IF(A175=\"\",\"-\",_xlfn.XLOOKUP(A175,プルダウンデータリスト!$A$2:$A$43,プルダウンデータリスト!$E$2:$E$43))","v":"-"},{"$f":"IF(A175=\"\",\"-\",_xlfn.XLOOKUP(A175,プルダウンデータリスト!$A$2:$A$43,プルダウンデータリスト!$F$2:$F$43))","v":"-"},"-"]
[null,null,null,null,null,null,null,{"$f":"IF(B176=プルダウンデータリスト!$H$2,_xlfn.XLOOKUP(A176,プルダウンデータリスト!$A$2:$A$43,プルダウンデータリスト!$B$2:$B$43),IF(B176=プルダウンデータリスト!$H$3,_xlfn.XLOOKUP(A176,プルダウンデータリスト!$A$2:$A$43,プルダウンデータリスト!$C$2:$C$43),\"-\"))","v":"-"},{"$f":"IF(A176=\"\",\"-\",_xlfn.XLOOKUP(A176,プルダウンデータリスト!$A$2:$A$43,プルダウンデータリスト!$D$2:$D$43) + 1)","v":"-"},{"$f":"IF(A176=\"\",\"-\",_xlfn.XLOOKUP(A176,プルダウンデータリスト!$A$2:$A$43,プルダウンデータリスト!$E$2:$E$43))","v":"-"},{"$f":"IF(A176=\"\",\"-\",_xlfn.XLOOKUP(A176,プルダウンデータリスト!$A$2:$A$43,プルダウンデータリスト!$F$2:$F$43))","v":"-"},"-"]
[null,null,null,null,null,null,null,{"$f":"IF(B177=プルダウンデータリスト!$H$2,_xlfn.XLOOKUP(A177,プルダウンデータリスト!$A$2:$A$43,プルダウンデータリスト!$B$2:$B$43),IF(B177=プルダウンデータリスト!$H$3,_xlfn.XLOOKUP(A177,プルダウンデータリスト!$A$2:$A$43,プルダウンデータリスト!$C$2:$C$43),\"-\"))","v":"-"},{"$f":"IF(A177=\"\",\"-\",_xlfn.XLOOKUP(A177,プルダウンデータリスト!$A$2:$A$43,プルダウンデータリスト!$D$2:$D$43) + 1)","v":"-"},{"$f":"IF(A177=\"\",\"-\",_xlfn.XLOOKUP(A177,プルダウンデータリスト!$A$2:$A$43,プルダウンデータリスト!$E$2:$E$43))","v":"-"},{"$f":"IF(A177=\"\",\"-\",_xlfn.XLOOKUP(A177,プルダウンデータリスト!$A$2:$A$43,プルダウンデータリスト!$F$2:$F$43))","v":"-"},"-"]
[null,null,null,null,null,null,null,{"$f":"IF(B178=プルダウンデータリスト!$H$2,_xlfn.XLOOKUP(A178,プルダウンデータリスト!$A$2:$A$43,プルダウンデータリスト!$B$2:$B$43),IF(B178=プルダウンデータリスト!$H$3,_xlfn.XLOOKUP(A178,プルダウンデータリスト!$A$2:$A$43,プルダウンデータリスト!$C$2:$C$43),\"-\"))","v":"-"},{"$f":"IF(A178=\"\",\"-\",_xlfn.XLOOKUP(A178,プルダウンデータリスト!$A$2:$A$43,プルダウンデータリスト!$D$2:$D$43) + 1)","v":"-"},{"$f":"IF(A178=\"\",\"-\",_xlfn.XLOOKUP(A178,プルダウンデータリスト!$A$2:$A$43,プルダウンデータリスト!$E$2:$E$43))","v":"-"},{"$f":"IF(A178=\"\",\"-\",_xlfn.XLOOKUP(A178,プルダウンデータリスト!$A$2:$A$43,プルダウンデータリスト!$F$2:$F$43))","v":"-"},"-"]
[null,null,null,null,null,null,null,{"$f":"IF(B179=プルダウンデータリスト!$H$2,_xlfn.XLOOKUP(A179,プルダウンデータリスト!$A$2:$A$43,プルダウンデータリスト!$B$2:$B$43),IF(B179=プルダウンデータリスト!$H$3,_xlfn.XLOOKUP(A179,プルダウンデータリスト!$A$2:$A$43,プルダウンデータリスト!$C$2:$C$43),\"-\"))","v":"-"},{"$f":"IF(A179=\"\",\"-\",_xlfn.XLOOKUP(A179,プルダウンデータリスト!$A$2:$A$43,プルダウンデータリスト!$D$2:$D$43) + 1)","v":"-"},{"$f":"IF(A179=\"\",\"-\",_xlfn.XLOOKUP(A179,プルダウンデータリスト!$A$2:$A$43,プルダウンデータリスト!$E$2:$E$43))","v":"-"},{"$f":"IF(A179=\"\",\"-\",_xlfn.XLOOKUP(A179,プルダウンデータリスト!$A$2:$A$43,プルダウンデータリスト!$F$2:$F$43))","v":"-"},"-"]
[null,null,null,null,null,null,null,{"$f":"IF(B180=プルダウンデータリスト!$H$2,_xlfn.XLOOKUP(A180,プルダウンデータリスト!$A$2:$A$43,プルダウンデータリスト!$B$2:$B$43),IF(B180=プルダウンデータリスト!$H$3,_xlfn.XLOOKUP(A180,プルダウンデータリスト!$A$2:$A$43,プルダウンデータリスト!$C$2:$C$43),\"-\"))","v":"-"},{"$f":"IF(A180=\"\",\"-\",_xlfn.XLOOKUP(A180,プルダウンデータリスト!$A$2:$A$43,プルダウンデータリスト!$D$2:$D$43) + 1)","v":"-"},{"$f":"IF(A180=\"\",\"-\",_xlfn.XLOOKUP(A180,プルダウンデータリスト!$A$2:$A$43,プルダウンデータリスト!$E$2:$E$43))","v":"-"},{"$f":"IF(A180=\"\",\"-\",_xlfn.XLOOKUP(A180,プルダウンデータリスト!$A$2:$A$43,プルダウンデータリスト!$F$2:$F$43))","v":"-"},"-"]
[null,null,null,null,null,null,null,{"$f":"IF(B181=プルダウンデータリスト!$H$2,_xlfn.XLOOKUP(A181,プルダウンデータリスト!$A$2:$A$43,プルダウンデータリスト!$B$2:$B$43),IF(B181=プルダウンデータリスト!$H$3,_xlfn.XLOOKUP(A181,プルダウンデータリスト!$A$2:$A$43,プルダウンデータリスト!$C$2:$C$43),\"-\"))","v":"-"},{"$f":"IF(A181=\"\",\"-\",_xlfn.XLOOKUP(A181,プルダウンデータリスト!$A$2:$A$43,プルダウンデータリスト!$D$2:$D$43) + 1)","v":"-"},{"$f":"IF(A181=\"\",\"-\",_xlfn.XLOOKUP(A181,プルダウンデータリスト!$A$2:$A$43,プルダウンデータリスト!$E$2:$E$43))","v":"-"},{"$f":"IF(A181=\"\",\"-\",_xlfn.XLOOKUP(A181,プルダウンデータリスト!$A$2:$A$43,プルダウンデータリスト!$F$2:$F$43))","v":"-"},"-"]
[null,null,null,null,null,null,null,{"$f":"IF(B182=プルダウンデータリスト!$H$2,_xlfn.XLOOKUP(A182,プルダウンデータリスト!$A$2:$A$43,プルダウンデータリスト!$B$2:$B$43),IF(B182=プルダウンデータリスト!$H$3,_xlfn.XLOOKUP(A182,プルダウンデータリスト!$A$2:$A$43,プルダウンデータリスト!$C$2:$C$43),\"-\"))","v":"-"},{"$f":"IF(A182=\"\",\"-\",_xlfn.XLOOKUP(A182,プルダウンデータリスト!$A$2:$A$43,プルダウンデータリスト!$D$2:$D$43) + 1)","v":"-"},{"$f":"IF(A182=\"\",\"-\",_xlfn.XLOOKUP(A182,プルダウンデータリスト!$A$2:$A$43,プルダウンデータリスト!$E$2:$E$43))","v":"-"},{"$f":"IF(A182=\"\",\"-\",_xlfn.XLOOKUP(A182,プルダウンデータリスト!$A$2:$A$43,プルダウンデータリスト!$F$2:$F$43))","v":"-"},"-"]
[null,null,null,null,null,null,null,{"$f":"IF(B183=プルダウンデータリスト!$H$2,_xlfn.XLOOKUP(A183,プルダウンデータリスト!$A$2:$A$43,プルダウンデータリスト!$B$2:$B$43),IF(B183=プルダウンデータリスト!$H$3,_xlfn.XLOOKUP(A183,プルダウンデータリスト!$A$2:$A$43,プルダウンデータリスト!$C$2:$C$43),\"-\"))","v":"-"},{"$f":"IF(A183=\"\",\"-\",_xlfn.XLOOKUP(A183,プルダウンデータリスト!$A$2:$A$43,プルダウンデータリスト!$D$2:$D$43) + 1)","v":"-"},{"$f":"IF(A183=\"\",\"-\",_xlfn.XLOOKUP(A183,プルダウンデータリスト!$A$2:$A$43,プルダウンデータリスト!$E$2:$E$43))","v":"-"},{"$f":"IF(A183=\"\",\"-\",_xlfn.XLOOKUP(A183,プルダウンデータリスト!$A$2:$A$43,プルダウンデータリスト!$F$2:$F$43))","v":"-"},"-"]
[null,null,null,null,null,null,null,{"$f":"IF(B184=プルダウンデータリスト!$H$2,_xlfn.XLOOKUP(A184,プルダウンデータリスト!$A$2:$A$43,プルダウンデータリスト!$B$2:$B$43),IF(B184=プルダウンデータリスト!$H$3,_xlfn.XLOOKUP(A184,プルダウンデータリスト!$A$2:$A$43,プルダウンデータリスト!$C$2:$C$43),\"-\"))","v":"-"},{"$f":"IF(A184=\"\",\"-\",_xlfn.XLOOKUP(A184,プルダウンデータリスト!$A$2:$A$43,プルダウンデータリスト!$D$2:$D$43) + 1)","v":"-"},{"$f":"IF(A184=\"\",\"-\",_xlfn.XLOOKUP(A184,プルダウンデータリスト!$A$2:$A$43,プルダウンデータリスト!$E$2:$E$43))","v":"-"},{"$f":"IF(A184=\"\",\"-\",_xlfn.XLOOKUP(A184,プルダウンデータリスト!$A$2:$A$43,プルダウンデータリスト!$F$2:$F$43))","v":"-"},"-"]
[null,null,null,null,null,null,null,{"$f":"IF(B185=プルダウンデータリスト!$H$2,_xlfn.XLOOKUP(A185,プルダウンデータリスト!$A$2:$A$43,プルダウンデータリスト!$B$2:$B$43),IF(B185=プルダウンデータリスト!$H$3,_xlfn.XLOOKUP(A185,プルダウンデータリスト!$A$2:$A$43,プルダウンデータリスト!$C$2:$C$43),\"-\"))","v":"-"},{"$f":"IF(A185=\"\",\"-\",_xlfn.XLOOKUP(A185,プルダウンデータリスト!$A$2:$A$43,プルダウンデータリスト!$D$2:$D$43) + 1)","v":"-"},{"$f":"IF(A185=\"\",\"-\",_xlfn.XLOOKUP(A185,プルダウンデータリスト!$A$2:$A$43,プルダウンデータリスト!$E$2:$E$43))","v":"-"},{"$f":"IF(A185=\"\",\"-\",_xlfn.XLOOKUP(A185,プルダウンデータリスト!$A$2:$A$43,プルダウンデータリスト!$F$2:$F$43))","v":"-"},"-"]
[null,null,null,null,null,null,null,{"$f":"IF(B186=プルダウンデータリスト!$H$2,_xlfn.XLOOKUP(A186,プルダウンデータリスト!$A$2:$A$43,プルダウンデータリスト!$B$2:$B$43),IF(B186=プルダウンデータリスト!$H$3,_xlfn.XLOOKUP(A186,プルダウンデータリスト!$A$2:$A$43,プルダウンデータリスト!$C$2:$C$43),\"-\"))","v":"-"},{"$f":"IF(A186=\"\",\"-\",_xlfn.XLOOKUP(A186,プルダウンデータリスト!$A$2:$A$43,プルダウンデータリスト!$D$2:$D$43) + 1)","v":"-"},{"$f":"IF(A186=\"\",\"-\",_xlfn.XLOOKUP(A186,プルダウンデータリスト!$A$2:$A$43,プルダウンデータリスト!$E$2:$E$43))","v":"-"},{"$f":"IF(A186=\"\",\"-\",_xlfn.XLOOKUP(A186,プルダウンデータリスト!$A$2:$A$43,プルダウンデータリスト!$F$2:$F$43))","v":"-"},"-"]
[null,null,null,null,null,null,null,{"$f":"IF(B187=プルダウンデータリスト!$H$2,_xlfn.XLOOKUP(A187,プルダウンデータリスト!$A$2:$A$43,プルダウンデータリスト!$B$2:$B$43),IF(B187=プルダウンデータリスト!$H$3,_xlfn.XLOOKUP(A187,プルダウンデータリスト!$A$2:$A$43,プルダウンデータリスト!$C$2:$C$43),\"-\"))","v":"-"},{"$f":"IF(A187=\"\",\"-\",_xlfn.XLOOKUP(A187,プルダウンデータリスト!$A$2:$A$43,プルダウンデータリスト!$D$2:$D$43) + 1)","v":"-"},{"$f":"IF(A187=\"\",\"-\",_xlfn.XLOOKUP(A187,プルダウンデータリスト!$A$2:$A$43,プルダウンデータリスト!$E$2:$E$43))","v":"-"},{"$f":"IF(A187=\"\",\"-\",_xlfn.XLOOKUP(A187,プルダウンデータリスト!$A$2:$A$43,プルダウンデータリスト!$F$2:$F$43))","v":"-"},"-"]
[null,null,null,null,null,null,null,{"$f":"IF(B188=プルダウンデータリスト!$H$2,_xlfn.XLOOKUP(A188,プルダウンデータリスト!$A$2:$A$43,プルダウンデータリスト!$B$2:$B$43),IF(B188=プルダウンデータリスト!$H$3,_xlfn.XLOOKUP(A188,プルダウンデータリスト!$A$2:$A$43,プルダウンデータリスト!$C$2:$C$43),\"-\"))","v":"-"},{"$f":"IF(A188=\"\",\"-\",_xlfn.XLOOKUP(A188,プルダウンデータリスト!$A$2:$A$43,プルダウンデータリスト!$D$2:$D$43) + 1)","v":"-"},{"$f":"IF(A188=\"\",\"-\",_xlfn.XLOOKUP(A188,プルダウンデータリスト!$A$2:$A$43,プルダウンデータリスト!$E$2:$E$43))","v":"-"},{"$f":"IF(A188=\"\",\"-\",_xlfn.XLOOKUP(A188,プルダウンデータリスト!$A$2:$A$43,プルダウンデータリスト!$F$2:$F$43))","v":"-"},"-"]
[null,null,null,null,null,null,null,{"$f":"IF(B189=プルダウンデータリスト!$H$2,_xlfn.XLOOKUP(A189,プルダウンデータリスト!$A$2:$A$43,プルダウンデータリスト!$B$2:$B$43),IF(B189=プルダウンデータリスト!$H$3,_xlfn.XLOOKUP(A189,プルダウンデータリスト!$A$2:$A$43,プルダウンデータリスト!$C$2:$C$43),\"-\"))","v":"-"},{"$f":"IF(A189=\"\",\"-\",_xlfn.XLOOKUP(A189,プルダウンデータリスト!$A$2:$A$43,プルダウンデータリスト!$D$2:$D$43) + 1)","v":"-"},{"$f":"IF(A189=\"\",\"-\",_xlfn.XLOOKUP(A189,プルダウンデータリスト!$A$2:$A$43,プルダウンデータリスト!$E$2:$E$43))","v":"-"},{"$f":"IF(A189=\"\",\"-\",_xlfn.XLOOKUP(A189,プルダウンデータリスト!$A$2:$A$43,プルダウンデータリスト!$F$2:$F$43))","v":"-"},"-"]
[null,null,null,null,null,null,null,{"$f":"IF(B190=プルダウンデータリスト!$H$2,_xlfn.XLOOKUP(A190,プルダウンデータリスト!$A$2:$A$43,プルダウンデータリスト!$B$2:$B$43),IF(B190=プルダウンデータリスト!$H$3,_xlfn.XLOOKUP(A190,プルダウンデータリスト!$A$2:$A$43,プルダウンデータリスト!$C$2:$C$43),\"-\"))","v":"-"},{"$f":"IF(A190=\"\",\"-\",_xlfn.XLOOKUP(A190,プルダウンデータリスト!$A$2:$A$43,プルダウンデータリスト!$D$2:$D$43) + 1)","v":"-"},{"$f":"IF(A190=\"\",\"-\",_xlfn.XLOOKUP(A190,プルダウンデータリスト!$A$2:$A$43,プルダウンデータリスト!$E$2:$E$43))","v":"-"},{"$f":"IF(A190=\"\",\"-\",_xlfn.XLOOKUP(A190,プルダウンデータリスト!$A$2:$A$43,プルダウンデータリスト!$F$2:$F$43))","v":"-"},"-"]
[null,null,null,null,null,null,null,{"$f":"IF(B191=プルダウンデータリスト!$H$2,_xlfn.XLOOKUP(A191,プルダウンデータリスト!$A$2:$A$43,プルダウンデータリスト!$B$2:$B$43),IF(B191=プルダウンデータリスト!$H$3,_xlfn.XLOOKUP(A191,プルダウンデータリスト!$A$2:$A$43,プルダウンデータリスト!$C$2:$C$43),\"-\"))","v":"-"},{"$f":"IF(A191=\"\",\"-\",_xlfn.XLOOKUP(A191,プルダウンデータリスト!$A$2:$A$43,プルダウンデータリスト!$D$2:$D$43) + 1)","v":"-"},{"$f":"IF(A191=\"\",\"-\",_xlfn.XLOOKUP(A191,プルダウンデータリスト!$A$2:$A$43,プルダウンデータリスト!$E$2:$E$43))","v":"-"},{"$f":"IF(A191=\"\",\"-\",_xlfn.XLOOKUP(A191,プルダウンデータリスト!$A$2:$A$43,プルダウンデータリスト!$F$2:$F$43))","v":"-"},"-"]
[null,null,null,null,null,null,null,{"$f":"IF(B192=プルダウンデータリスト!$H$2,_xlfn.XLOOKUP(A192,プルダウンデータリスト!$A$2:$A$43,プルダウンデータリスト!$B$2:$B$43),IF(B192=プルダウンデータリスト!$H$3,_xlfn.XLOOKUP(A192,プルダウンデータリスト!$A$2:$A$43,プルダウンデータリスト!$C$2:$C$43),\"-\"))","v":"-"},{"$f":"IF(A192=\"\",\"-\",_xlfn.XLOOKUP(A192,プルダウンデータリスト!$A$2:$A$43,プルダウンデータリスト!$D$2:$D$43) + 1)","v":"-"},{"$f":"IF(A192=\"\",\"-\",_xlfn.XLOOKUP(A192,プルダウンデータリスト!$A$2:$A$43,プルダウンデータリスト!$E$2:$E$43))","v":"-"},{"$f":"IF(A192=\"\",\"-\",_xlfn.XLOOKUP(A192,プルダウンデータリスト!$A$2:$A$43,プルダウンデータリスト!$F$2:$F$43))","v":"-"},"-"]
[null,null,null,null,null,null,null,{"$f":"IF(B193=プルダウンデータリスト!$H$2,_xlfn.XLOOKUP(A193,プルダウンデータリスト!$A$2:$A$43,プルダウンデータリスト!$B$2:$B$43),IF(B193=プルダウンデータリスト!$H$3,_xlfn.XLOOKUP(A193,プルダウンデータリスト!$A$2:$A$43,プルダウンデータリスト!$C$2:$C$43),\"-\"))","v":"-"},{"$f":"IF(A193=\"\",\"-\",_xlfn.XLOOKUP(A193,プルダウンデータリスト!$A$2:$A$43,プルダウンデータリスト!$D$2:$D$43) + 1)","v":"-"},{"$f":"IF(A193=\"\",\"-\",_xlfn.XLOOKUP(A193,プルダウンデータリスト!$A$2:$A$43,プルダウンデータリスト!$E$2:$E$43))","v":"-"},{"$f":"IF(A193=\"\",\"-\",_xlfn.XLOOKUP(A193,プルダウンデータリスト!$A$2:$A$43,プルダウンデータリスト!$F$2:$F$43))","v":"-"},"-"]
[null,null,null,null,null,null,null,{"$f":"IF(B194=プルダウンデータリスト!$H$2,_xlfn.XLOOKUP(A194,プルダウンデータリスト!$A$2:$A$43,プルダウンデータリスト!$B$2:$B$43),IF(B194=プルダウンデータリスト!$H$3,_xlfn.XLOOKUP(A194,プルダウンデータリスト!$A$2:$A$43,プルダウンデータリスト!$C$2:$C$43),\"-\"))","v":"-"},{"$f":"IF(A194=\"\",\"-\",_xlfn.XLOOKUP(A194,プルダウンデータリスト!$A$2:$A$43,プルダウンデータリスト!$D$2:$D$43) + 1)","v":"-"},{"$f":"IF(A194=\"\",\"-\",_xlfn.XLOOKUP(A194,プルダウンデータリスト!$A$2:$A$43,プルダウンデータリスト!$E$2:$E$43))","v":"-"},{"$f":"IF(A194=\"\",\"-\",_xlfn.XLOOKUP(A194,プルダウンデータリスト!$A$2:$A$43,プルダウンデータリスト!$F$2:$F$43))","v":"-"},"-"]
[null,null,null,null,null,null,null,{"$f":"IF(B195=プルダウンデータリスト!$H$2,_xlfn.XLOOKUP(A195,プルダウンデータリスト!$A$2:$A$43,プルダウンデータリスト!$B$2:$B$43),IF(B195=プルダウンデータリスト!$H$3,_xlfn.XLOOKUP(A195,プルダウンデータリスト!$A$2:$A$43,プルダウンデータリスト!$C$2:$C$43),\"-\"))","v":"-"},{"$f":"IF(A195=\"\",\"-\",_xlfn.XLOOKUP(A195,プルダウンデータリスト!$A$2:$A$43,プルダウンデータリスト!$D$2:$D$43) + 1)","v":"-"},{"$f":"IF(A195=\"\",\"-\",_xlfn.XLOOKUP(A195,プルダウンデータリスト!$A$2:$A$43,プルダウンデータリスト!$E$2:$E$43))","v":"-"},{"$f":"IF(A195=\"\",\"-\",_xlfn.XLOOKUP(A195,プルダウンデータリスト!$A$2:$A$43,プルダウンデータリスト!$F$2:$F$43))","v":"-"},"-"]
[null,null,null,null,null,null,null,{"$f":"IF(B196=プルダウンデータリスト!$H$2,_xlfn.XLOOKUP(A196,プルダウンデータリスト!$A$2:$A$43,プルダウンデータリスト!$B$2:$B$43),IF(B196=プルダウンデータリスト!$H$3,_xlfn.XLOOKUP(A196,プルダウンデータリスト!$A$2:$A$43,プルダウンデータリスト!$C$2:$C$43),\"-\"))","v":"-"},{"$f":"IF(A196=\"\",\"-\",_xlfn.XLOOKUP(A196,プルダウンデータリスト!$A$2:$A$43,プルダウンデータリスト!$D$2:$D$43) + 1)","v":"-"},{"$f":"IF(A196=\"\",\"-\",_xlfn.XLOOKUP(A196,プルダウンデータリスト!$A$2:$A$43,プルダウンデータリスト!$E$2:$E$43))","v":"-"},{"$f":"IF(A196=\"\",\"-\",_xlfn.XLOOKUP(A196,プルダウンデータリスト!$A$2:$A$43,プルダウンデータリスト!$F$2:$F$43))","v":"-"},"-"]
[null,null,null,null,null,null,null,{"$f":"IF(B197=プルダウンデータリスト!$H$2,_xlfn.XLOOKUP(A197,プルダウンデータリスト!$A$2:$A$43,プルダウンデータリスト!$B$2:$B$43),IF(B197=プルダウンデータリスト!$H$3,_xlfn.XLOOKUP(A197,プルダウンデータリスト!$A$2:$A$43,プルダウンデータリスト!$C$2:$C$43),\"-\"))","v":"-"},{"$f":"IF(A197=\"\",\"-\",_xlfn.XLOOKUP(A197,プルダウンデータリスト!$A$2:$A$43,プルダウンデータリスト!$D$2:$D$43) + 1)","v":"-"},{"$f":"IF(A197=\"\",\"-\",_xlfn.XLOOKUP(A197,プルダウンデータリスト!$A$2:$A$43,プルダウンデータリスト!$E$2:$E$43))","v":"-"},{"$f":"IF(A197=\"\",\"-\",_xlfn.XLOOKUP(A197,プルダウンデータリスト!$A$2:$A$43,プルダウンデータリスト!$F$2:$F$43))","v":"-"},"-"]
[null,null,null,null,null,null,null,{"$f":"IF(B198=プルダウンデータリスト!$H$2,_xlfn.XLOOKUP(A198,プルダウンデータリスト!$A$2:$A$43,プルダウンデータリスト!$B$2:$B$43),IF(B198=プルダウンデータリスト!$H$3,_xlfn.XLOOKUP(A198,プルダウンデータリスト!$A$2:$A$43,プルダウンデータリスト!$C$2:$C$43),\"-\"))","v":"-"},{"$f":"IF(A198=\"\",\"-\",_xlfn.XLOOKUP(A198,プルダウンデータリスト!$A$2:$A$43,プルダウンデータリスト!$D$2:$D$43) + 1)","v":"-"},{"$f":"IF(A198=\"\",\"-\",_xlfn.XLOOKUP(A198,プルダウンデータリスト!$A$2:$A$43,プルダウンデータリスト!$E$2:$E$43))","v":"-"},{"$f":"IF(A198=\"\",\"-\",_xlfn.XLOOKUP(A198,プルダウンデータリスト!$A$2:$A$43,プルダウンデータリスト!$F$2:$F$43))","v":"-"},"-"]
[null,null,null,null,null,null,null,{"$f":"IF(B199=プルダウンデータリスト!$H$2,_xlfn.XLOOKUP(A199,プルダウンデータリスト!$A$2:$A$43,プルダウンデータリスト!$B$2:$B$43),IF(B199=プルダウンデータリスト!$H$3,_xlfn.XLOOKUP(A199,プルダウンデータリスト!$A$2:$A$43,プルダウンデータリスト!$C$2:$C$43),\"-\"))","v":"-"},{"$f":"IF(A199=\"\",\"-\",_xlfn.XLOOKUP(A199,プルダウンデータリスト!$A$2:$A$43,プルダウンデータリスト!$D$2:$D$43) + 1)","v":"-"},{"$f":"IF(A199=\"\",\"-\",_xlfn.XLOOKUP(A199,プルダウンデータリスト!$A$2:$A$43,プルダウンデータリスト!$E$2:$E$43))","v":"-"},{"$f":"IF(A199=\"\",\"-\",_xlfn.XLOOKUP(A199,プルダウンデータリスト!$A$2:$A$43,プルダウンデータリスト!$F$2:$F$43))","v":"-"},"-"]
[null,null,null,null,null,null,null,{"$f":"IF(B200=プルダウンデータリスト!$H$2,_xlfn.XLOOKUP(A200,プルダウンデータリスト!$A$2:$A$43,プルダウンデータリスト!$B$2:$B$43),IF(B200=プルダウンデータリスト!$H$3,_xlfn.XLOOKUP(A200,プルダウンデータリスト!$A$2:$A$43,プルダウンデータリスト!$C$2:$C$43),\"-\"))","v":"-"},{"$f":"IF(A200=\"\",\"-\",_xlfn.XLOOKUP(A200,プルダウンデータリスト!$A$2:$A$43,プルダウンデータリスト!$D$2:$D$43) + 1)","v":"-"},{"$f":"IF(A200=\"\",\"-\",_xlfn.XLOOKUP(A200,プルダウンデータリスト!$A$2:$A$43,プルダウンデータリスト!$E$2:$E$43))","v":"-"},{"$f":"IF(A200=\"\",\"-\",_xlfn.XLOOKUP(A200,プルダウンデータリスト!$A$2:$A$43,プルダウンデータリスト!$F$2:$F$43))","v":"-"},{"$f":"IFERROR(-1*ABS(G200*(H200*I200*J200*K200)),\"-\")","v":"-"}]
[null,null,null,null,null,null,null,{"$f":"IF(B201=プルダウンデータリスト!$H$2,_xlfn.XLOOKUP(A201,プルダウンデータリスト!$A$2:$A$43,プルダウンデータリスト!$B$2:$B$43),IF(B201=プルダウンデータリスト!$H$3,_xlfn.XLOOKUP(A201,プルダウンデータリスト!$A$2:$A$43,プルダウンデータリスト!$C$2:$C$43),\"-\"))","v":"-"},{"$f":"IF(A201=\"\",\"-\",_xlfn.XLOOKUP(A201,プルダウンデータリスト!$A$2:$A$43,プルダウンデータリスト!$D$2:$D$43) + 1)","v":"-"},{"$f":"IF(A201=\"\",\"-\",_xlfn.XLOOKUP(A201,プルダウンデータリスト!$A$2:$A$43,プルダウンデータリスト!$E$2:$E$43))","v":"-"},{"$f":"IF(A201=\"\",\"-\",_xlfn.XLOOKUP(A201,プルダウンデータリスト!$A$2:$A$43,プルダウンデータリスト!$F$2:$F$43))","v":"-"},"-"]
[null,null,null,null,null,null,null,{"$f":"IF(B202=プルダウンデータリスト!$H$2,_xlfn.XLOOKUP(A202,プルダウンデータリスト!$A$2:$A$43,プルダウンデータリスト!$B$2:$B$43),IF(B202=プルダウンデータリスト!$H$3,_xlfn.XLOOKUP(A202,プルダウンデータリスト!$A$2:$A$43,プルダウンデータリスト!$C$2:$C$43),\"-\"))","v":"-"},{"$f":"IF(A202=\"\",\"-\",_xlfn.XLOOKUP(A202,プルダウンデータリスト!$A$2:$A$43,プルダウンデータリスト!$D$2:$D$43) + 1)","v":"-"},{"$f":"IF(A202=\"\",\"-\",_xlfn.XLOOKUP(A202,プルダウンデータリスト!$A$2:$A$43,プルダウンデータリスト!$E$2:$E$43))","v":"-"},{"$f":"IF(A202=\"\",\"-\",_xlfn.XLOOKUP(A202,プルダウンデータリスト!$A$2:$A$43,プルダウンデータリスト!$F$2:$F$43))","v":"-"},"-"]
[null,null,null,null,null,null,null,{"$f":"IF(B203=プルダウンデータリスト!$H$2,_xlfn.XLOOKUP(A203,プルダウンデータリスト!$A$2:$A$43,プルダウンデータリスト!$B$2:$B$43),IF(B203=プルダウンデータリスト!$H$3,_xlfn.XLOOKUP(A203,プルダウンデータリスト!$A$2:$A$43,プルダウンデータリスト!$C$2:$C$43),\"-\"))","v":"-"},{"$f":"IF(A203=\"\",\"-\",_xlfn.XLOOKUP(A203,プルダウンデータリスト!$A$2:$A$43,プルダウンデータリスト!$D$2:$D$43) + 1)","v":"-"},{"$f":"IF(A203=\"\",\"-\",_xlfn.XLOOKUP(A203,プルダウンデータリスト!$A$2:$A$43,プルダウンデータリスト!$E$2:$E$43))","v":"-"},{"$f":"IF(A203=\"\",\"-\",_xlfn.XLOOKUP(A203,プルダウンデータリスト!$A$2:$A$43,プルダウンデータリスト!$F$2:$F$43))","v":"-"},"-"]
[null,null,null,null,null,null,null,{"$f":"IF(B204=プルダウンデータリスト!$H$2,_xlfn.XLOOKUP(A204,プルダウンデータリスト!$A$2:$A$43,プルダウンデータリスト!$B$2:$B$43),IF(B204=プルダウンデータリスト!$H$3,_xlfn.XLOOKUP(A204,プルダウンデータリスト!$A$2:$A$43,プルダウンデータリスト!$C$2:$C$43),\"-\"))","v":"-"},{"$f":"IF(A204=\"\",\"-\",_xlfn.XLOOKUP(A204,プルダウンデータリスト!$A$2:$A$43,プルダウンデータリスト!$D$2:$D$43) + 1)","v":"-"},{"$f":"IF(A204=\"\",\"-\",_xlfn.XLOOKUP(A204,プルダウンデータリスト!$A$2:$A$43,プルダウンデータリスト!$E$2:$E$43))","v":"-"},{"$f":"IF(A204=\"\",\"-\",_xlfn.XLOOKUP(A204,プルダウンデータリスト!$A$2:$A$43,プルダウンデータリスト!$F$2:$F$43))","v":"-"},"-"]
[null,null,null,null,null,null,null,{"$f":"IF(B205=プルダウンデータリスト!$H$2,_xlfn.XLOOKUP(A205,プルダウンデータリスト!$A$2:$A$43,プルダウンデータリスト!$B$2:$B$43),IF(B205=プルダウンデータリスト!$H$3,_xlfn.XLOOKUP(A205,プルダウンデータリスト!$A$2:$A$43,プルダウンデータリスト!$C$2:$C$43),\"-\"))","v":"-"},{"$f":"IF(A205=\"\",\"-\",_xlfn.XLOOKUP(A205,プルダウンデータリスト!$A$2:$A$43,プルダウンデータリスト!$D$2:$D$43) + 1)","v":"-"},{"$f":"IF(A205=\"\",\"-\",_xlfn.XLOOKUP(A205,プルダウンデータリスト!$A$2:$A$43,プルダウンデータリスト!$E$2:$E$43))","v":"-"},{"$f":"IF(A205=\"\",\"-\",_xlfn.XLOOKUP(A205,プルダウンデータリスト!$A$2:$A$43,プルダウンデータリスト!$F$2:$F$43))","v":"-"},"-"]
[null,null,null,null,null,null,null,{"$f":"IF(B206=プルダウンデータリスト!$H$2,_xlfn.XLOOKUP(A206,プルダウンデータリスト!$A$2:$A$43,プルダウンデータリスト!$B$2:$B$43),IF(B206=プルダウンデータリスト!$H$3,_xlfn.XLOOKUP(A206,プルダウンデータリスト!$A$2:$A$43,プルダウンデータリスト!$C$2:$C$43),\"-\"))","v":"-"},{"$f":"IF(A206=\"\",\"-\",_xlfn.XLOOKUP(A206,プルダウンデータリスト!$A$2:$A$43,プルダウンデータリスト!$D$2:$D$43) + 1)","v":"-"},{"$f":"IF(A206=\"\",\"-\",_xlfn.XLOOKUP(A206,プルダウンデータリスト!$A$2:$A$43,プルダウンデータリスト!$E$2:$E$43))","v":"-"},{"$f":"IF(A206=\"\",\"-\",_xlfn.XLOOKUP(A206,プルダウンデータリスト!$A$2:$A$43,プルダウンデータリスト!$F$2:$F$43))","v":"-"},"-"]
["合計",null,null,{"$f":"SUM(D7:D206)","v":0},{"$f":"SUM(E7:E206)","v":0},{"$f":"SUM(F7:F206)","v":0},{"$f":"-1*SUM(ABS(G7:G206))","v":0},null,null,null,null,{"$f":"SUM(L7:L206)","v":0}]
["（備考）"]
["※算定する森林のうち、森林経営計画、増進活動実施計画又は連携増進活動実施計画の対象外の森林であって、"]
["伐採等により森林の蓄積が減少した小班等のみ入力すること。"]
["※樹種の別、林齢の区分（20年生以下/21年生以上）の別、森林簿・実測の別ごとに行を分けて入力すること。"]
["※複数の小班等にまたがる場合は合計の蓄積を入力することが可能。"]
["※伐採等により減少した森林の蓄積の量を、森林簿に依らず実測等により把握した場合には、「森林簿・実測の別」の欄"]
["において「実測」を選択すること。"]
["※「減少した森林の蓄積の量」のうち、主伐により減少した森林の蓄積の量を「主伐材積」の欄に入力すること。"]
["※バイオマス拡大係数は、幹バイオマス量に対する地上部バイオマス（幹・枝・葉）量の比率。"]
["※1+Rは、地上部バイオマス量に対する、地上部及び地下部バイオマス量の比率。"]
["※行は必要に応じて追加すること。（隠れている行を再表示させることで追加可能。）"]

{"sheet":"シート1-3","index":4,"n_rows":209,"n_cols":7,"rows_kept":209,"cut":false,"hidden":false,"merged":[]}
["○シート1-3（森林以外の土地の森林への用途の変更又は森林の森林以外の土地への用途の変更）"]
[]
[]
["所在地","用途の変更内容","用途の変更年度","面積(ha)","用途変更後20年間での１ha当たりの変化した炭素蓄積の量(t-C)","変化した炭素蓄積の量(土地)(t-C)","備考"]
[null,null,null,null,{"$f":"IF(B5=\"\",\"-\",_xlfn.XLOOKUP(B5,プルダウンデータリスト!$L$2:$L$11,プルダウンデータリスト!$M$2:$M$11))","v":"-"},{"$f":"IFERROR(D5*E5/20,\"-\")","v":"-"}]
[null,null,null,null,{"$f":"IF(B6=\"\",\"-\",_xlfn.XLOOKUP(B6,プルダウンデータリスト!$L$2:$L$11,プルダウンデータリスト!$M$2:$M$11))","v":"-"},{"$f":"IFERROR(D6*E6/20,\"-\")","v":"-"}]
[null,null,null,null,{"$f":"IF(B7=\"\",\"-\",_xlfn.XLOOKUP(B7,プルダウンデータリスト!$L$2:$L$11,プルダウンデータリスト!$M$2:$M$11))","v":"-"},"-"]
[null,null,null,null,{"$f":"IF(B8=\"\",\"-\",_xlfn.XLOOKUP(B8,プルダウンデータリスト!$L$2:$L$11,プルダウンデータリスト!$M$2:$M$11))","v":"-"},"-"]
[null,null,null,null,{"$f":"IF(B9=\"\",\"-\",_xlfn.XLOOKUP(B9,プルダウンデータリスト!$L$2:$L$11,プルダウンデータリスト!$M$2:$M$11))","v":"-"},"-"]
[null,null,null,null,{"$f":"IF(B10=\"\",\"-\",_xlfn.XLOOKUP(B10,プルダウンデータリスト!$L$2:$L$11,プルダウンデータリスト!$M$2:$M$11))","v":"-"},"-"]
[null,null,null,null,{"$f":"IF(B11=\"\",\"-\",_xlfn.XLOOKUP(B11,プルダウンデータリスト!$L$2:$L$11,プルダウンデータリスト!$M$2:$M$11))","v":"-"},"-"]
[null,null,null,null,{"$f":"IF(B12=\"\",\"-\",_xlfn.XLOOKUP(B12,プルダウンデータリスト!$L$2:$L$11,プルダウンデータリスト!$M$2:$M$11))","v":"-"},"-"]
[null,null,null,null,{"$f":"IF(B13=\"\",\"-\",_xlfn.XLOOKUP(B13,プルダウンデータリスト!$L$2:$L$11,プルダウンデータリスト!$M$2:$M$11))","v":"-"},"-"]
[null,null,null,null,{"$f":"IF(B14=\"\",\"-\",_xlfn.XLOOKUP(B14,プルダウンデータリスト!$L$2:$L$11,プルダウンデータリスト!$M$2:$M$11))","v":"-"},"-"]
[null,null,null,null,{"$f":"IF(B15=\"\",\"-\",_xlfn.XLOOKUP(B15,プルダウンデータリスト!$L$2:$L$11,プルダウンデータリスト!$M$2:$M$11))","v":"-"},"-"]
[null,null,null,null,{"$f":"IF(B16=\"\",\"-\",_xlfn.XLOOKUP(B16,プルダウンデータリスト!$L$2:$L$11,プルダウンデータリスト!$M$2:$M$11))","v":"-"},"-"]
[null,null,null,null,{"$f":"IF(B17=\"\",\"-\",_xlfn.XLOOKUP(B17,プルダウンデータリスト!$L$2:$L$11,プルダウンデータリスト!$M$2:$M$11))","v":"-"},"-"]
[null,null,null,null,{"$f":"IF(B18=\"\",\"-\",_xlfn.XLOOKUP(B18,プルダウンデータリスト!$L$2:$L$11,プルダウンデータリスト!$M$2:$M$11))","v":"-"},"-"]
[null,null,null,null,{"$f":"IF(B19=\"\",\"-\",_xlfn.XLOOKUP(B19,プルダウンデータリスト!$L$2:$L$11,プルダウンデータリスト!$M$2:$M$11))","v":"-"},"-"]
[null,null,null,null,{"$f":"IF(B20=\"\",\"-\",_xlfn.XLOOKUP(B20,プルダウンデータリスト!$L$2:$L$11,プルダウンデータリスト!$M$2:$M$11))","v":"-"},"-"]
[null,null,null,null,{"$f":"IF(B21=\"\",\"-\",_xlfn.XLOOKUP(B21,プルダウンデータリスト!$L$2:$L$11,プルダウンデータリスト!$M$2:$M$11))","v":"-"},"-"]
[null,null,null,null,{"$f":"IF(B22=\"\",\"-\",_xlfn.XLOOKUP(B22,プルダウンデータリスト!$L$2:$L$11,プルダウンデータリスト!$M$2:$M$11))","v":"-"},"-"]
[null,null,null,null,{"$f":"IF(B23=\"\",\"-\",_xlfn.XLOOKUP(B23,プルダウンデータリスト!$L$2:$L$11,プルダウンデータリスト!$M$2:$M$11))","v":"-"},"-"]
[null,null,null,null,{"$f":"IF(B24=\"\",\"-\",_xlfn.XLOOKUP(B24,プルダウンデータリスト!$L$2:$L$11,プルダウンデータリスト!$M$2:$M$11))","v":"-"},"-"]
[null,null,null,null,{"$f":"IF(B25=\"\",\"-\",_xlfn.XLOOKUP(B25,プルダウンデータリスト!$L$2:$L$11,プルダウンデータリスト!$M$2:$M$11))","v":"-"},"-"]
[null,null,null,null,{"$f":"IF(B26=\"\",\"-\",_xlfn.XLOOKUP(B26,プルダウンデータリスト!$L$2:$L$11,プルダウンデータリスト!$M$2:$M$11))","v":"-"},"-"]
[null,null,null,null,{"$f":"IF(B27=\"\",\"-\",_xlfn.XLOOKUP(B27,プルダウンデータリスト!$L$2:$L$11,プルダウンデータリスト!$M$2:$M$11))","v":"-"},"-"]
[null,null,null,null,{"$f":"IF(B28=\"\",\"-\",_xlfn.XLOOKUP(B28,プルダウンデータリスト!$L$2:$L$11,プルダウンデータリスト!$M$2:$M$11))","v":"-"},"-"]
[null,null,null,null,{"$f":"IF(B29=\"\",\"-\",_xlfn.XLOOKUP(B29,プルダウンデータリスト!$L$2:$L$11,プルダウンデータリスト!$M$2:$M$11))","v":"-"},"-"]
[null,null,null,null,{"$f":"IF(B30=\"\",\"-\",_xlfn.XLOOKUP(B30,プルダウンデータリスト!$L$2:$L$11,プルダウンデータリスト!$M$2:$M$11))","v":"-"},"-"]
[null,null,null,null,{"$f":"IF(B31=\"\",\"-\",_xlfn.XLOOKUP(B31,プルダウンデータリスト!$L$2:$L$11,プルダウンデータリスト!$M$2:$M$11))","v":"-"},"-"]
[null,null,null,null,{"$f":"IF(B32=\"\",\"-\",_xlfn.XLOOKUP(B32,プルダウンデータリスト!$L$2:$L$11,プルダウンデータリスト!$M$2:$M$11))","v":"-"},"-"]
[null,null,null,null,{"$f":"IF(B33=\"\",\"-\",_xlfn.XLOOKUP(B33,プルダウンデータリスト!$L$2:$L$11,プルダウンデータリスト!$M$2:$M$11))","v":"-"},"-"]
[null,null,null,null,{"$f":"IF(B34=\"\",\"-\",_xlfn.XLOOKUP(B34,プルダウンデータリスト!$L$2:$L$11,プルダウンデータリスト!$M$2:$M$11))","v":"-"},"-"]
[null,null,null,null,{"$f":"IF(B35=\"\",\"-\",_xlfn.XLOOKUP(B35,プルダウンデータリスト!$L$2:$L$11,プルダウンデータリスト!$M$2:$M$11))","v":"-"},"-"]
[null,null,null,null,{"$f":"IF(B36=\"\",\"-\",_xlfn.XLOOKUP(B36,プルダウンデータリスト!$L$2:$L$11,プルダウンデータリスト!$M$2:$M$11))","v":"-"},"-"]
[null,null,null,null,{"$f":"IF(B37=\"\",\"-\",_xlfn.XLOOKUP(B37,プルダウンデータリスト!$L$2:$L$11,プルダウンデータリスト!$M$2:$M$11))","v":"-"},"-"]
[null,null,null,null,{"$f":"IF(B38=\"\",\"-\",_xlfn.XLOOKUP(B38,プルダウンデータリスト!$L$2:$L$11,プルダウンデータリスト!$M$2:$M$11))","v":"-"},"-"]
[null,null,null,null,{"$f":"IF(B39=\"\",\"-\",_xlfn.XLOOKUP(B39,プルダウンデータリスト!$L$2:$L$11,プルダウンデータリスト!$M$2:$M$11))","v":"-"},"-"]
[null,null,null,null,{"$f":"IF(B40=\"\",\"-\",_xlfn.XLOOKUP(B40,プルダウンデータリスト!$L$2:$L$11,プルダウンデータリスト!$M$2:$M$11))","v":"-"},"-"]
[null,null,null,null,{"$f":"IF(B41=\"\",\"-\",_xlfn.XLOOKUP(B41,プルダウンデータリスト!$L$2:$L$11,プルダウンデータリスト!$M$2:$M$11))","v":"-"},"-"]
[null,null,null,null,{"$f":"IF(B42=\"\",\"-\",_xlfn.XLOOKUP(B42,プルダウンデータリスト!$L$2:$L$11,プルダウンデータリスト!$M$2:$M$11))","v":"-"},"-"]
[null,null,null,null,{"$f":"IF(B43=\"\",\"-\",_xlfn.XLOOKUP(B43,プルダウンデータリスト!$L$2:$L$11,プルダウンデータリスト!$M$2:$M$11))","v":"-"},"-"]
[null,null,null,null,{"$f":"IF(B44=\"\",\"-\",_xlfn.XLOOKUP(B44,プルダウンデータリスト!$L$2:$L$11,プルダウンデータリスト!$M$2:$M$11))","v":"-"},"-"]
[null,null,null,null,{"$f":"IF(B45=\"\",\"-\",_xlfn.XLOOKUP(B45,プルダウンデータリスト!$L$2:$L$11,プルダウンデータリスト!$M$2:$M$11))","v":"-"},"-"]
[null,null,null,null,{"$f":"IF(B46=\"\",\"-\",_xlfn.XLOOKUP(B46,プルダウンデータリスト!$L$2:$L$11,プルダウンデータリスト!$M$2:$M$11))","v":"-"},"-"]
[null,null,null,null,{"$f":"IF(B47=\"\",\"-\",_xlfn.XLOOKUP(B47,プルダウンデータリスト!$L$2:$L$11,プルダウンデータリスト!$M$2:$M$11))","v":"-"},"-"]
[null,null,null,null,{"$f":"IF(B48=\"\",\"-\",_xlfn.XLOOKUP(B48,プルダウンデータリスト!$L$2:$L$11,プルダウンデータリスト!$M$2:$M$11))","v":"-"},"-"]
[null,null,null,null,{"$f":"IF(B49=\"\",\"-\",_xlfn.XLOOKUP(B49,プルダウンデータリスト!$L$2:$L$11,プルダウンデータリスト!$M$2:$M$11))","v":"-"},"-"]
[null,null,null,null,{"$f":"IF(B50=\"\",\"-\",_xlfn.XLOOKUP(B50,プルダウンデータリスト!$L$2:$L$11,プルダウンデータリスト!$M$2:$M$11))","v":"-"},"-"]
[null,null,null,null,{"$f":"IF(B51=\"\",\"-\",_xlfn.XLOOKUP(B51,プルダウンデータリスト!$L$2:$L$11,プルダウンデータリスト!$M$2:$M$11))","v":"-"},"-"]
[null,null,null,null,{"$f":"IF(B52=\"\",\"-\",_xlfn.XLOOKUP(B52,プルダウンデータリスト!$L$2:$L$11,プルダウンデータリスト!$M$2:$M$11))","v":"-"},"-"]
[null,null,null,null,{"$f":"IF(B53=\"\",\"-\",_xlfn.XLOOKUP(B53,プルダウンデータリスト!$L$2:$L$11,プルダウンデータリスト!$M$2:$M$11))","v":"-"},"-"]
[null,null,null,null,{"$f":"IF(B54=\"\",\"-\",_xlfn.XLOOKUP(B54,プルダウンデータリスト!$L$2:$L$11,プルダウンデータリスト!$M$2:$M$11))","v":"-"},"-"]
[null,null,null,null,{"$f":"IF(B55=\"\",\"-\",_xlfn.XLOOKUP(B55,プルダウンデータリスト!$L$2:$L$11,プルダウンデータリスト!$M$2:$M$11))","v":"-"},"-"]
[null,null,null,null,{"$f":"IF(B56=\"\",\"-\",_xlfn.XLOOKUP(B56,プルダウンデータリスト!$L$2:$L$11,プルダウンデータリスト!$M$2:$M$11))","v":"-"},"-"]
[null,null,null,null,{"$f":"IF(B57=\"\",\"-\",_xlfn.XLOOKUP(B57,プルダウンデータリスト!$L$2:$L$11,プルダウンデータリスト!$M$2:$M$11))","v":"-"},"-"]
[null,null,null,null,{"$f":"IF(B58=\"\",\"-\",_xlfn.XLOOKUP(B58,プルダウンデータリスト!$L$2:$L$11,プルダウンデータリスト!$M$2:$M$11))","v":"-"},"-"]
[null,null,null,null,{"$f":"IF(B59=\"\",\"-\",_xlfn.XLOOKUP(B59,プルダウンデータリスト!$L$2:$L$11,プルダウンデータリスト!$M$2:$M$11))","v":"-"},"-"]
[null,null,null,null,{"$f":"IF(B60=\"\",\"-\",_xlfn.XLOOKUP(B60,プルダウンデータリスト!$L$2:$L$11,プルダウンデータリスト!$M$2:$M$11))","v":"-"},"-"]
[null,null,null,null,{"$f":"IF(B61=\"\",\"-\",_xlfn.XLOOKUP(B61,プルダウンデータリスト!$L$2:$L$11,プルダウンデータリスト!$M$2:$M$11))","v":"-"},"-"]
[null,null,null,null,{"$f":"IF(B62=\"\",\"-\",_xlfn.XLOOKUP(B62,プルダウンデータリスト!$L$2:$L$11,プルダウンデータリスト!$M$2:$M$11))","v":"-"},"-"]
[null,null,null,null,{"$f":"IF(B63=\"\",\"-\",_xlfn.XLOOKUP(B63,プルダウンデータリスト!$L$2:$L$11,プルダウンデータリスト!$M$2:$M$11))","v":"-"},"-"]
[null,null,null,null,{"$f":"IF(B64=\"\",\"-\",_xlfn.XLOOKUP(B64,プルダウンデータリスト!$L$2:$L$11,プルダウンデータリスト!$M$2:$M$11))","v":"-"},"-"]
[null,null,null,null,{"$f":"IF(B65=\"\",\"-\",_xlfn.XLOOKUP(B65,プルダウンデータリスト!$L$2:$L$11,プルダウンデータリスト!$M$2:$M$11))","v":"-"},"-"]
[null,null,null,null,{"$f":"IF(B66=\"\",\"-\",_xlfn.XLOOKUP(B66,プルダウンデータリスト!$L$2:$L$11,プルダウンデータリスト!$M$2:$M$11))","v":"-"},"-"]
[null,null,null,null,{"$f":"IF(B67=\"\",\"-\",_xlfn.XLOOKUP(B67,プルダウンデータリスト!$L$2:$L$11,プルダウンデータリスト!$M$2:$M$11))","v":"-"},"-"]
[null,null,null,null,{"$f":"IF(B68=\"\",\"-\",_xlfn.XLOOKUP(B68,プルダウンデータリスト!$L$2:$L$11,プルダウンデータリスト!$M$2:$M$11))","v":"-"},"-"]
[null,null,null,null,{"$f":"IF(B69=\"\",\"-\",_xlfn.XLOOKUP(B69,プルダウンデータリスト!$L$2:$L$11,プルダウンデータリスト!$M$2:$M$11))","v":"-"},"-"]
[null,null,null,null,{"$f":"IF(B70=\"\",\"-\",_xlfn.XLOOKUP(B70,プルダウンデータリスト!$L$2:$L$11,プルダウンデータリスト!$M$2:$M$11))","v":"-"},{"$f":"IFERROR(D70*E70/20,\"-\")","v":"-"}]
[null,null,null,null,{"$f":"IF(B71=\"\",\"-\",_xlfn.XLOOKUP(B71,プルダウンデータリスト!$L$2:$L$11,プルダウンデータリスト!$M$2:$M$11))","v":"-"},"-"]
[null,null,null,null,{"$f":"IF(B72=\"\",\"-\",_xlfn.XLOOKUP(B72,プルダウンデータリスト!$L$2:$L$11,プルダウンデータリスト!$M$2:$M$11))","v":"-"},"-"]
[null,null,null,null,{"$f":"IF(B73=\"\",\"-\",_xlfn.XLOOKUP(B73,プルダウンデータリスト!$L$2:$L$11,プルダウンデータリスト!$M$2:$M$11))","v":"-"},"-"]
[null,null,null,null,{"$f":"IF(B74=\"\",\"-\",_xlfn.XLOOKUP(B74,プルダウンデータリスト!$L$2:$L$11,プルダウンデータリスト!$M$2:$M$11))","v":"-"},"-"]
[null,null,null,null,{"$f":"IF(B75=\"\",\"-\",_xlfn.XLOOKUP(B75,プルダウンデータリスト!$L$2:$L$11,プルダウンデータリスト!$M$2:$M$11))","v":"-"},"-"]
[null,null,null,null,{"$f":"IF(B76=\"\",\"-\",_xlfn.XLOOKUP(B76,プルダウンデータリスト!$L$2:$L$11,プルダウンデータリスト!$M$2:$M$11))","v":"-"},"-"]
[null,null,null,null,{"$f":"IF(B77=\"\",\"-\",_xlfn.XLOOKUP(B77,プルダウンデータリスト!$L$2:$L$11,プルダウンデータリスト!$M$2:$M$11))","v":"-"},"-"]
[null,null,null,null,{"$f":"IF(B78=\"\",\"-\",_xlfn.XLOOKUP(B78,プルダウンデータリスト!$L$2:$L$11,プルダウンデータリスト!$M$2:$M$11))","v":"-"},"-"]
[null,null,null,null,{"$f":"IF(B79=\"\",\"-\",_xlfn.XLOOKUP(B79,プルダウンデータリスト!$L$2:$L$11,プルダウンデータリスト!$M$2:$M$11))","v":"-"},"-"]
[null,null,null,null,{"$f":"IF(B80=\"\",\"-\",_xlfn.XLOOKUP(B80,プルダウンデータリスト!$L$2:$L$11,プルダウンデータリスト!$M$2:$M$11))","v":"-"},"-"]
[null,null,null,null,{"$f":"IF(B81=\"\",\"-\",_xlfn.XLOOKUP(B81,プルダウンデータリスト!$L$2:$L$11,プルダウンデータリスト!$M$2:$M$11))","v":"-"},"-"]
[null,null,null,null,{"$f":"IF(B82=\"\",\"-\",_xlfn.XLOOKUP(B82,プルダウンデータリスト!$L$2:$L$11,プルダウンデータリスト!$M$2:$M$11))","v":"-"},"-"]
[null,null,null,null,{"$f":"IF(B83=\"\",\"-\",_xlfn.XLOOKUP(B83,プルダウンデータリスト!$L$2:$L$11,プルダウンデータリスト!$M$2:$M$11))","v":"-"},"-"]
[null,null,null,null,{"$f":"IF(B84=\"\",\"-\",_xlfn.XLOOKUP(B84,プルダウンデータリスト!$L$2:$L$11,プルダウンデータリスト!$M$2:$M$11))","v":"-"},"-"]
[null,null,null,null,{"$f":"IF(B85=\"\",\"-\",_xlfn.XLOOKUP(B85,プルダウンデータリスト!$L$2:$L$11,プルダウンデータリスト!$M$2:$M$11))","v":"-"},"-"]
[null,null,null,null,{"$f":"IF(B86=\"\",\"-\",_xlfn.XLOOKUP(B86,プルダウンデータリスト!$L$2:$L$11,プルダウンデータリスト!$M$2:$M$11))","v":"-"},"-"]
[null,null,null,null,{"$f":"IF(B87=\"\",\"-\",_xlfn.XLOOKUP(B87,プルダウンデータリスト!$L$2:$L$11,プルダウンデータリスト!$M$2:$M$11))","v":"-"},"-"]
[null,null,null,null,{"$f":"IF(B88=\"\",\"-\",_xlfn.XLOOKUP(B88,プルダウンデータリスト!$L$2:$L$11,プルダウンデータリスト!$M$2:$M$11))","v":"-"},"-"]
[null,null,null,null,{"$f":"IF(B89=\"\",\"-\",_xlfn.XLOOKUP(B89,プルダウンデータリスト!$L$2:$L$11,プルダウンデータリスト!$M$2:$M$11))","v":"-"},"-"]
[null,null,null,null,{"$f":"IF(B90=\"\",\"-\",_xlfn.XLOOKUP(B90,プルダウンデータリスト!$L$2:$L$11,プルダウンデータリスト!$M$2:$M$11))","v":"-"},"-"]
[null,null,null,null,{"$f":"IF(B91=\"\",\"-\",_xlfn.XLOOKUP(B91,プルダウンデータリスト!$L$2:$L$11,プルダウンデータリスト!$M$2:$M$11))","v":"-"},"-"]
[null,null,null,null,{"$f":"IF(B92=\"\",\"-\",_xlfn.XLOOKUP(B92,プルダウンデータリスト!$L$2:$L$11,プルダウンデータリスト!$M$2:$M$11))","v":"-"},"-"]
[null,null,null,null,{"$f":"IF(B93=\"\",\"-\",_xlfn.XLOOKUP(B93,プルダウンデータリスト!$L$2:$L$11,プルダウンデータリスト!$M$2:$M$11))","v":"-"},"-"]
[null,null,null,null,{"$f":"IF(B94=\"\",\"-\",_xlfn.XLOOKUP(B94,プルダウンデータリスト!$L$2:$L$11,プルダウンデータリスト!$M$2:$M$11))","v":"-"},"-"]
[null,null,null,null,{"$f":"IF(B95=\"\",\"-\",_xlfn.XLOOKUP(B95,プルダウンデータリスト!$L$2:$L$11,プルダウンデータリスト!$M$2:$M$11))","v":"-"},"-"]
[null,null,null,null,{"$f":"IF(B96=\"\",\"-\",_xlfn.XLOOKUP(B96,プルダウンデータリスト!$L$2:$L$11,プルダウンデータリスト!$M$2:$M$11))","v":"-"},"-"]
[null,null,null,null,{"$f":"IF(B97=\"\",\"-\",_xlfn.XLOOKUP(B97,プルダウンデータリスト!$L$2:$L$11,プルダウンデータリスト!$M$2:$M$11))","v":"-"},"-"]
[null,null,null,null,{"$f":"IF(B98=\"\",\"-\",_xlfn.XLOOKUP(B98,プルダウンデータリスト!$L$2:$L$11,プルダウンデータリスト!$M$2:$M$11))","v":"-"},"-"]
[null,null,null,null,{"$f":"IF(B99=\"\",\"-\",_xlfn.XLOOKUP(B99,プルダウンデータリスト!$L$2:$L$11,プルダウンデータリスト!$M$2:$M$11))","v":"-"},"-"]
[null,null,null,null,{"$f":"IF(B100=\"\",\"-\",_xlfn.XLOOKUP(B100,プルダウンデータリスト!$L$2:$L$11,プルダウンデータリスト!$M$2:$M$11))","v":"-"},"-"]
[null,null,null,null,{"$f":"IF(B101=\"\",\"-\",_xlfn.XLOOKUP(B101,プルダウンデータリスト!$L$2:$L$11,プルダウンデータリスト!$M$2:$M$11))","v":"-"},"-"]
[null,null,null,null,{"$f":"IF(B102=\"\",\"-\",_xlfn.XLOOKUP(B102,プルダウンデータリスト!$L$2:$L$11,プルダウンデータリスト!$M$2:$M$11))","v":"-"},"-"]
[null,null,null,null,{"$f":"IF(B103=\"\",\"-\",_xlfn.XLOOKUP(B103,プルダウンデータリスト!$L$2:$L$11,プルダウンデータリスト!$M$2:$M$11))","v":"-"},"-"]
[null,null,null,null,{"$f":"IF(B104=\"\",\"-\",_xlfn.XLOOKUP(B104,プルダウンデータリスト!$L$2:$L$11,プルダウンデータリスト!$M$2:$M$11))","v":"-"},"-"]
[null,null,null,null,{"$f":"IF(B105=\"\",\"-\",_xlfn.XLOOKUP(B105,プルダウンデータリスト!$L$2:$L$11,プルダウンデータリスト!$M$2:$M$11))","v":"-"},"-"]
[null,null,null,null,{"$f":"IF(B106=\"\",\"-\",_xlfn.XLOOKUP(B106,プルダウンデータリスト!$L$2:$L$11,プルダウンデータリスト!$M$2:$M$11))","v":"-"},"-"]
[null,null,null,null,{"$f":"IF(B107=\"\",\"-\",_xlfn.XLOOKUP(B107,プルダウンデータリスト!$L$2:$L$11,プルダウンデータリスト!$M$2:$M$11))","v":"-"},"-"]
[null,null,null,null,{"$f":"IF(B108=\"\",\"-\",_xlfn.XLOOKUP(B108,プルダウンデータリスト!$L$2:$L$11,プルダウンデータリスト!$M$2:$M$11))","v":"-"},"-"]
[null,null,null,null,{"$f":"IF(B109=\"\",\"-\",_xlfn.XLOOKUP(B109,プルダウンデータリスト!$L$2:$L$11,プルダウンデータリスト!$M$2:$M$11))","v":"-"},"-"]
[null,null,null,null,{"$f":"IF(B110=\"\",\"-\",_xlfn.XLOOKUP(B110,プルダウンデータリスト!$L$2:$L$11,プルダウンデータリスト!$M$2:$M$11))","v":"-"},"-"]
[null,null,null,null,{"$f":"IF(B111=\"\",\"-\",_xlfn.XLOOKUP(B111,プルダウンデータリスト!$L$2:$L$11,プルダウンデータリスト!$M$2:$M$11))","v":"-"},"-"]
[null,null,null,null,{"$f":"IF(B112=\"\",\"-\",_xlfn.XLOOKUP(B112,プルダウンデータリスト!$L$2:$L$11,プルダウンデータリスト!$M$2:$M$11))","v":"-"},"-"]
[null,null,null,null,{"$f":"IF(B113=\"\",\"-\",_xlfn.XLOOKUP(B113,プルダウンデータリスト!$L$2:$L$11,プルダウンデータリスト!$M$2:$M$11))","v":"-"},"-"]
[null,null,null,null,{"$f":"IF(B114=\"\",\"-\",_xlfn.XLOOKUP(B114,プルダウンデータリスト!$L$2:$L$11,プルダウンデータリスト!$M$2:$M$11))","v":"-"},"-"]
[null,null,null,null,{"$f":"IF(B115=\"\",\"-\",_xlfn.XLOOKUP(B115,プルダウンデータリスト!$L$2:$L$11,プルダウンデータリスト!$M$2:$M$11))","v":"-"},"-"]
[null,null,null,null,{"$f":"IF(B116=\"\",\"-\",_xlfn.XLOOKUP(B116,プルダウンデータリスト!$L$2:$L$11,プルダウンデータリスト!$M$2:$M$11))","v":"-"},"-"]
[null,null,null,null,{"$f":"IF(B117=\"\",\"-\",_xlfn.XLOOKUP(B117,プルダウンデータリスト!$L$2:$L$11,プルダウンデータリスト!$M$2:$M$11))","v":"-"},"-"]
[null,null,null,null,{"$f":"IF(B118=\"\",\"-\",_xlfn.XLOOKUP(B118,プルダウンデータリスト!$L$2:$L$11,プルダウンデータリスト!$M$2:$M$11))","v":"-"},"-"]
[null,null,null,null,{"$f":"IF(B119=\"\",\"-\",_xlfn.XLOOKUP(B119,プルダウンデータリスト!$L$2:$L$11,プルダウンデータリスト!$M$2:$M$11))","v":"-"},"-"]
[null,null,null,null,{"$f":"IF(B120=\"\",\"-\",_xlfn.XLOOKUP(B120,プルダウンデータリスト!$L$2:$L$11,プルダウンデータリスト!$M$2:$M$11))","v":"-"},"-"]
[null,null,null,null,{"$f":"IF(B121=\"\",\"-\",_xlfn.XLOOKUP(B121,プルダウンデータリスト!$L$2:$L$11,プルダウンデータリスト!$M$2:$M$11))","v":"-"},"-"]
[null,null,null,null,{"$f":"IF(B122=\"\",\"-\",_xlfn.XLOOKUP(B122,プルダウンデータリスト!$L$2:$L$11,プルダウンデータリスト!$M$2:$M$11))","v":"-"},"-"]
[null,null,null,null,{"$f":"IF(B123=\"\",\"-\",_xlfn.XLOOKUP(B123,プルダウンデータリスト!$L$2:$L$11,プルダウンデータリスト!$M$2:$M$11))","v":"-"},"-"]
[null,null,null,null,{"$f":"IF(B124=\"\",\"-\",_xlfn.XLOOKUP(B124,プルダウンデータリスト!$L$2:$L$11,プルダウンデータリスト!$M$2:$M$11))","v":"-"},"-"]
[null,null,null,null,{"$f":"IF(B125=\"\",\"-\",_xlfn.XLOOKUP(B125,プルダウンデータリスト!$L$2:$L$11,プルダウンデータリスト!$M$2:$M$11))","v":"-"},"-"]
[null,null,null,null,{"$f":"IF(B126=\"\",\"-\",_xlfn.XLOOKUP(B126,プルダウンデータリスト!$L$2:$L$11,プルダウンデータリスト!$M$2:$M$11))","v":"-"},"-"]
[null,null,null,null,{"$f":"IF(B127=\"\",\"-\",_xlfn.XLOOKUP(B127,プルダウンデータリスト!$L$2:$L$11,プルダウンデータリスト!$M$2:$M$11))","v":"-"},"-"]
[null,null,null,null,{"$f":"IF(B128=\"\",\"-\",_xlfn.XLOOKUP(B128,プルダウンデータリスト!$L$2:$L$11,プルダウンデータリスト!$M$2:$M$11))","v":"-"},"-"]
[null,null,null,null,{"$f":"IF(B129=\"\",\"-\",_xlfn.XLOOKUP(B129,プルダウンデータリスト!$L$2:$L$11,プルダウンデータリスト!$M$2:$M$11))","v":"-"},"-"]
[null,null,null,null,{"$f":"IF(B130=\"\",\"-\",_xlfn.XLOOKUP(B130,プルダウンデータリスト!$L$2:$L$11,プルダウンデータリスト!$M$2:$M$11))","v":"-"},"-"]
[null,null,null,null,{"$f":"IF(B131=\"\",\"-\",_xlfn.XLOOKUP(B131,プルダウンデータリスト!$L$2:$L$11,プルダウンデータリスト!$M$2:$M$11))","v":"-"},"-"]
[null,null,null,null,{"$f":"IF(B132=\"\",\"-\",_xlfn.XLOOKUP(B132,プルダウンデータリスト!$L$2:$L$11,プルダウンデータリスト!$M$2:$M$11))","v":"-"},"-"]
[null,null,null,null,{"$f":"IF(B133=\"\",\"-\",_xlfn.XLOOKUP(B133,プルダウンデータリスト!$L$2:$L$11,プルダウンデータリスト!$M$2:$M$11))","v":"-"},"-"]
[null,null,null,null,{"$f":"IF(B134=\"\",\"-\",_xlfn.XLOOKUP(B134,プルダウンデータリスト!$L$2:$L$11,プルダウンデータリスト!$M$2:$M$11))","v":"-"},{"$f":"IFERROR(D134*E134/20,\"-\")","v":"-"}]
[null,null,null,null,{"$f":"IF(B135=\"\",\"-\",_xlfn.XLOOKUP(B135,プルダウンデータリスト!$L$2:$L$11,プルダウンデータリスト!$M$2:$M$11))","v":"-"},"-"]
[null,null,null,null,{"$f":"IF(B136=\"\",\"-\",_xlfn.XLOOKUP(B136,プルダウンデータリスト!$L$2:$L$11,プルダウンデータリスト!$M$2:$M$11))","v":"-"},"-"]
[null,null,null,null,{"$f":"IF(B137=\"\",\"-\",_xlfn.XLOOKUP(B137,プルダウンデータリスト!$L$2:$L$11,プルダウンデータリスト!$M$2:$M$11))","v":"-"},"-"]
[null,null,null,null,{"$f":"IF(B138=\"\",\"-\",_xlfn.XLOOKUP(B138,プルダウンデータリスト!$L$2:$L$11,プルダウンデータリスト!$M$2:$M$11))","v":"-"},"-"]
[null,null,null,null,{"$f":"IF(B139=\"\",\"-\",_xlfn.XLOOKUP(B139,プルダウンデータリスト!$L$2:$L$11,プルダウンデータリスト!$M$2:$M$11))","v":"-"},"-"]
[null,null,null,null,{"$f":"IF(B140=\"\",\"-\",_xlfn.XLOOKUP(B140,プルダウンデータリスト!$L$2:$L$11,プルダウンデータリスト!$M$2:$M$11))","v":"-"},"-"]
[null,null,null,null,{"$f":"IF(B141=\"\",\"-\",_xlfn.XLOOKUP(B141,プルダウンデータリスト!$L$2:$L$11,プルダウンデータリスト!$M$2:$M$11))","v":"-"},"-"]
[null,null,null,null,{"$f":"IF(B142=\"\",\"-\",_xlfn.XLOOKUP(B142,プルダウンデータリスト!$L$2:$L$11,プルダウンデータリスト!$M$2:$M$11))","v":"-"},"-"]
[null,null,null,null,{"$f":"IF(B143=\"\",\"-\",_xlfn.XLOOKUP(B143,プルダウンデータリスト!$L$2:$L$11,プルダウンデータリスト!$M$2:$M$11))","v":"-"},"-"]
[null,null,null,null,{"$f":"IF(B144=\"\",\"-\",_xlfn.XLOOKUP(B144,プルダウンデータリスト!$L$2:$L$11,プルダウンデータリスト!$M$2:$M$11))","v":"-"},"-"]
[null,null,null,null,{"$f":"IF(B145=\"\",\"-\",_xlfn.XLOOKUP(B145,プルダウンデータリスト!$L$2:$L$11,プルダウンデータリスト!$M$2:$M$11))","v":"-"},"-"]
[null,null,null,null,{"$f":"IF(B146=\"\",\"-\",_xlfn.XLOOKUP(B146,プルダウンデータリスト!$L$2:$L$11,プルダウンデータリスト!$M$2:$M$11))","v":"-"},"-"]
[null,null,null,null,{"$f":"IF(B147=\"\",\"-\",_xlfn.XLOOKUP(B147,プルダウンデータリスト!$L$2:$L$11,プルダウンデータリスト!$M$2:$M$11))","v":"-"},"-"]
[null,null,null,null,{"$f":"IF(B148=\"\",\"-\",_xlfn.XLOOKUP(B148,プルダウンデータリスト!$L$2:$L$11,プルダウンデータリスト!$M$2:$M$11))","v":"-"},"-"]
[null,null,null,null,{"$f":"IF(B149=\"\",\"-\",_xlfn.XLOOKUP(B149,プルダウンデータリスト!$L$2:$L$11,プルダウンデータリスト!$M$2:$M$11))","v":"-"},"-"]
[null,null,null,null,{"$f":"IF(B150=\"\",\"-\",_xlfn.XLOOKUP(B150,プルダウンデータリスト!$L$2:$L$11,プルダウンデータリスト!$M$2:$M$11))","v":"-"},"-"]
[null,null,null,null,{"$f":"IF(B151=\"\",\"-\",_xlfn.XLOOKUP(B151,プルダウンデータリスト!$L$2:$L$11,プルダウンデータリスト!$M$2:$M$11))","v":"-"},"-"]
[null,null,null,null,{"$f":"IF(B152=\"\",\"-\",_xlfn.XLOOKUP(B152,プルダウンデータリスト!$L$2:$L$11,プルダウンデータリスト!$M$2:$M$11))","v":"-"},"-"]
[null,null,null,null,{"$f":"IF(B153=\"\",\"-\",_xlfn.XLOOKUP(B153,プルダウンデータリスト!$L$2:$L$11,プルダウンデータリスト!$M$2:$M$11))","v":"-"},"-"]
[null,null,null,null,{"$f":"IF(B154=\"\",\"-\",_xlfn.XLOOKUP(B154,プルダウンデータリスト!$L$2:$L$11,プルダウンデータリスト!$M$2:$M$11))","v":"-"},"-"]
[null,null,null,null,{"$f":"IF(B155=\"\",\"-\",_xlfn.XLOOKUP(B155,プルダウンデータリスト!$L$2:$L$11,プルダウンデータリスト!$M$2:$M$11))","v":"-"},"-"]
[null,null,null,null,{"$f":"IF(B156=\"\",\"-\",_xlfn.XLOOKUP(B156,プルダウンデータリスト!$L$2:$L$11,プルダウンデータリスト!$M$2:$M$11))","v":"-"},"-"]
[null,null,null,null,{"$f":"IF(B157=\"\",\"-\",_xlfn.XLOOKUP(B157,プルダウンデータリスト!$L$2:$L$11,プルダウンデータリスト!$M$2:$M$11))","v":"-"},"-"]
[null,null,null,null,{"$f":"IF(B158=\"\",\"-\",_xlfn.XLOOKUP(B158,プルダウンデータリスト!$L$2:$L$11,プルダウンデータリスト!$M$2:$M$11))","v":"-"},"-"]
[null,null,null,null,{"$f":"IF(B159=\"\",\"-\",_xlfn.XLOOKUP(B159,プルダウンデータリスト!$L$2:$L$11,プルダウンデータリスト!$M$2:$M$11))","v":"-"},"-"]
[null,null,null,null,{"$f":"IF(B160=\"\",\"-\",_xlfn.XLOOKUP(B160,プルダウンデータリスト!$L$2:$L$11,プルダウンデータリスト!$M$2:$M$11))","v":"-"},"-"]
[null,null,null,null,{"$f":"IF(B161=\"\",\"-\",_xlfn.XLOOKUP(B161,プルダウンデータリスト!$L$2:$L$11,プルダウンデータリスト!$M$2:$M$11))","v":"-"},"-"]
[null,null,null,null,{"$f":"IF(B162=\"\",\"-\",_xlfn.XLOOKUP(B162,プルダウンデータリスト!$L$2:$L$11,プルダウンデータリスト!$M$2:$M$11))","v":"-"},"-"]
[null,null,null,null,{"$f":"IF(B163=\"\",\"-\",_xlfn.XLOOKUP(B163,プルダウンデータリスト!$L$2:$L$11,プルダウンデータリスト!$M$2:$M$11))","v":"-"},"-"]
[null,null,null,null,{"$f":"IF(B164=\"\",\"-\",_xlfn.XLOOKUP(B164,プルダウンデータリスト!$L$2:$L$11,プルダウンデータリスト!$M$2:$M$11))","v":"-"},"-"]
[null,null,null,null,{"$f":"IF(B165=\"\",\"-\",_xlfn.XLOOKUP(B165,プルダウンデータリスト!$L$2:$L$11,プルダウンデータリスト!$M$2:$M$11))","v":"-"},"-"]
[null,null,null,null,{"$f":"IF(B166=\"\",\"-\",_xlfn.XLOOKUP(B166,プルダウンデータリスト!$L$2:$L$11,プルダウンデータリスト!$M$2:$M$11))","v":"-"},"-"]
[null,null,null,null,{"$f":"IF(B167=\"\",\"-\",_xlfn.XLOOKUP(B167,プルダウンデータリスト!$L$2:$L$11,プルダウンデータリスト!$M$2:$M$11))","v":"-"},"-"]
[null,null,null,null,{"$f":"IF(B168=\"\",\"-\",_xlfn.XLOOKUP(B168,プルダウンデータリスト!$L$2:$L$11,プルダウンデータリスト!$M$2:$M$11))","v":"-"},"-"]
[null,null,null,null,{"$f":"IF(B169=\"\",\"-\",_xlfn.XLOOKUP(B169,プルダウンデータリスト!$L$2:$L$11,プルダウンデータリスト!$M$2:$M$11))","v":"-"},"-"]
[null,null,null,null,{"$f":"IF(B170=\"\",\"-\",_xlfn.XLOOKUP(B170,プルダウンデータリスト!$L$2:$L$11,プルダウンデータリスト!$M$2:$M$11))","v":"-"},"-"]
[null,null,null,null,{"$f":"IF(B171=\"\",\"-\",_xlfn.XLOOKUP(B171,プルダウンデータリスト!$L$2:$L$11,プルダウンデータリスト!$M$2:$M$11))","v":"-"},"-"]
[null,null,null,null,{"$f":"IF(B172=\"\",\"-\",_xlfn.XLOOKUP(B172,プルダウンデータリスト!$L$2:$L$11,プルダウンデータリスト!$M$2:$M$11))","v":"-"},"-"]
[null,null,null,null,{"$f":"IF(B173=\"\",\"-\",_xlfn.XLOOKUP(B173,プルダウンデータリスト!$L$2:$L$11,プルダウンデータリスト!$M$2:$M$11))","v":"-"},"-"]
[null,null,null,null,{"$f":"IF(B174=\"\",\"-\",_xlfn.XLOOKUP(B174,プルダウンデータリスト!$L$2:$L$11,プルダウンデータリスト!$M$2:$M$11))","v":"-"},"-"]
[null,null,null,null,{"$f":"IF(B175=\"\",\"-\",_xlfn.XLOOKUP(B175,プルダウンデータリスト!$L$2:$L$11,プルダウンデータリスト!$M$2:$M$11))","v":"-"},"-"]
[null,null,null,null,{"$f":"IF(B176=\"\",\"-\",_xlfn.XLOOKUP(B176,プルダウンデータリスト!$L$2:$L$11,プルダウンデータリスト!$M$2:$M$11))","v":"-"},"-"]
[null,null,null,null,{"$f":"IF(B177=\"\",\"-\",_xlfn.XLOOKUP(B177,プルダウンデータリスト!$L$2:$L$11,プルダウンデータリスト!$M$2:$M$11))","v":"-"},"-"]
[null,null,null,null,{"$f":"IF(B178=\"\",\"-\",_xlfn.XLOOKUP(B178,プルダウンデータリスト!$L$2:$L$11,プルダウンデータリスト!$M$2:$M$11))","v":"-"},"-"]
[null,null,null,null,{"$f":"IF(B179=\"\",\"-\",_xlfn.XLOOKUP(B179,プルダウンデータリスト!$L$2:$L$11,プルダウンデータリスト!$M$2:$M$11))","v":"-"},"-"]
[null,null,null,null,{"$f":"IF(B180=\"\",\"-\",_xlfn.XLOOKUP(B180,プルダウンデータリスト!$L$2:$L$11,プルダウンデータリスト!$M$2:$M$11))","v":"-"},"-"]
[null,null,null,null,{"$f":"IF(B181=\"\",\"-\",_xlfn.XLOOKUP(B181,プルダウンデータリスト!$L$2:$L$11,プルダウンデータリスト!$M$2:$M$11))","v":"-"},"-"]
[null,null,null,null,{"$f":"IF(B182=\"\",\"-\",_xlfn.XLOOKUP(B182,プルダウンデータリスト!$L$2:$L$11,プルダウンデータリスト!$M$2:$M$11))","v":"-"},"-"]
[null,null,null,null,{"$f":"IF(B183=\"\",\"-\",_xlfn.XLOOKUP(B183,プルダウンデータリスト!$L$2:$L$11,プルダウンデータリスト!$M$2:$M$11))","v":"-"},"-"]
[null,null,null,null,{"$f":"IF(B184=\"\",\"-\",_xlfn.XLOOKUP(B184,プルダウンデータリスト!$L$2:$L$11,プルダウンデータリスト!$M$2:$M$11))","v":"-"},"-"]
[null,null,null,null,{"$f":"IF(B185=\"\",\"-\",_xlfn.XLOOKUP(B185,プルダウンデータリスト!$L$2:$L$11,プルダウンデータリスト!$M$2:$M$11))","v":"-"},"-"]
[null,null,null,null,{"$f":"IF(B186=\"\",\"-\",_xlfn.XLOOKUP(B186,プルダウンデータリスト!$L$2:$L$11,プルダウンデータリスト!$M$2:$M$11))","v":"-"},"-"]
[null,null,null,null,{"$f":"IF(B187=\"\",\"-\",_xlfn.XLOOKUP(B187,プルダウンデータリスト!$L$2:$L$11,プルダウンデータリスト!$M$2:$M$11))","v":"-"},"-"]
[null,null,null,null,{"$f":"IF(B188=\"\",\"-\",_xlfn.XLOOKUP(B188,プルダウンデータリスト!$L$2:$L$11,プルダウンデータリスト!$M$2:$M$11))","v":"-"},"-"]
[null,null,null,null,{"$f":"IF(B189=\"\",\"-\",_xlfn.XLOOKUP(B189,プルダウンデータリスト!$L$2:$L$11,プルダウンデータリスト!$M$2:$M$11))","v":"-"},"-"]
[null,null,null,null,{"$f":"IF(B190=\"\",\"-\",_xlfn.XLOOKUP(B190,プルダウンデータリスト!$L$2:$L$11,プルダウンデータリスト!$M$2:$M$11))","v":"-"},"-"]
[null,null,null,null,{"$f":"IF(B191=\"\",\"-\",_xlfn.XLOOKUP(B191,プルダウンデータリスト!$L$2:$L$11,プルダウンデータリスト!$M$2:$M$11))","v":"-"},"-"]
[null,null,null,null,{"$f":"IF(B192=\"\",\"-\",_xlfn.XLOOKUP(B192,プルダウンデータリスト!$L$2:$L$11,プルダウンデータリスト!$M$2:$M$11))","v":"-"},"-"]
[null,null,null,null,{"$f":"IF(B193=\"\",\"-\",_xlfn.XLOOKUP(B193,プルダウンデータリスト!$L$2:$L$11,プルダウンデータリスト!$M$2:$M$11))","v":"-"},"-"]
[null,null,null,null,{"$f":"IF(B194=\"\",\"-\",_xlfn.XLOOKUP(B194,プルダウンデータリスト!$L$2:$L$11,プルダウンデータリスト!$M$2:$M$11))","v":"-"},"-"]
[null,null,null,null,{"$f":"IF(B195=\"\",\"-\",_xlfn.XLOOKUP(B195,プルダウンデータリスト!$L$2:$L$11,プルダウンデータリスト!$M$2:$M$11))","v":"-"},"-"]
[null,null,null,null,{"$f":"IF(B196=\"\",\"-\",_xlfn.XLOOKUP(B196,プルダウンデータリスト!$L$2:$L$11,プルダウンデータリスト!$M$2:$M$11))","v":"-"},"-"]
[null,null,null,null,{"$f":"IF(B197=\"\",\"-\",_xlfn.XLOOKUP(B197,プルダウンデータリスト!$L$2:$L$11,プルダウンデータリスト!$M$2:$M$11))","v":"-"},"-"]
[null,null,null,null,{"$f":"IF(B198=\"\",\"-\",_xlfn.XLOOKUP(B198,プルダウンデータリスト!$L$2:$L$11,プルダウンデータリスト!$M$2:$M$11))","v":"-"},{"$f":"IFERROR(D198*E198/20,\"-\")","v":"-"}]
[null,null,null,null,{"$f":"IF(B199=\"\",\"-\",_xlfn.XLOOKUP(B199,プルダウンデータリスト!$L$2:$L$11,プルダウンデータリスト!$M$2:$M$11))","v":"-"},"-"]
[null,null,null,null,{"$f":"IF(B200=\"\",\"-\",_xlfn.XLOOKUP(B200,プルダウンデータリスト!$L$2:$L$11,プルダウンデータリスト!$M$2:$M$11))","v":"-"},"-"]
[null,null,null,null,{"$f":"IF(B201=\"\",\"-\",_xlfn.XLOOKUP(B201,プルダウンデータリスト!$L$2:$L$11,プルダウンデータリスト!$M$2:$M$11))","v":"-"},"-"]
[null,null,null,null,{"$f":"IF(B202=\"\",\"-\",_xlfn.XLOOKUP(B202,プルダウンデータリスト!$L$2:$L$11,プルダウンデータリスト!$M$2:$M$11))","v":"-"},"-"]
[null,null,null,null,{"$f":"IF(B203=\"\",\"-\",_xlfn.XLOOKUP(B203,プルダウンデータリスト!$L$2:$L$11,プルダウンデータリスト!$M$2:$M$11))","v":"-"},"-"]
[null,null,null,null,{"$f":"IF(B204=\"\",\"-\",_xlfn.XLOOKUP(B204,プルダウンデータリスト!$L$2:$L$11,プルダウンデータリスト!$M$2:$M$11))","v":"-"},"-"]
["合計",null,null,{"$f":"SUM(D5:D204)","v":0},null,{"$f":"SUM(F5:F204)","v":0}]
["（備考）"]
["※土地の用途が森林である時点で算定する者が、森林以外の土地から森林への用途の変更又は森林から森林以外の土地への"]
["用途の変更があった場合に入力すること。"]
["※行は必要に応じて追加すること。（隠れている行を再表示させることで追加可能。）"]

{"sheet":"シート1-4","index":5,"n_rows":415,"n_cols":4,"rows_kept":415,"cut":false,"hidden":false,"merged":[]}
["○シート1-4（森林の譲渡）"]
[]
[]
["シート1-4-1　過年度に炭素蓄積の量を報告した森林のうち算定対象年度に譲渡したもの"]
["所在地","面積(ha)","減少した炭素蓄積の量(t-C)","備考"]
[]
[]
[]
[]
[]
[]
[]
[]
[]
[]
[]
[]
[]
[]
[]
[]
[]
[]
[]
[]
[]
[]
[]
[]
[]
[]
[]
[]
[]
[]
[]
[]
[]
[]
[]
[]
[]
[]
[]
[]
[]
[]
[]
[]
[]
[]
[]
[]
[]
[]
[]
[]
[]
[]
[]
[]
[]
[]
[]
[]
[]
[]
[]
[]
[]
[]
[]
[]
[]
[]
[]
[]
[]
[]
[]
[]
[]
[]
[]
[]
[]
[]
[]
[]
[]
[]
[]
[]
[]
[]
[]
[]
[]
[]
[]
[]
[]
[]
[]
[]
[]
[]
[]
[]
[]
[]
[]
[]
[]
[]
[]
[]
[]
[]
[]
[]
[]
[]
[]
[]
[]
[]
[]
[]
[]
[]
[]
[]
[]
[]
[]
[]
[]
[]
[]
[]
[]
[]
[]
[]
[]
[]
[]
[]
[]
[]
[]
[]
[]
[]
[]
[]
[]
[]
[]
[]
[]
[]
[]
[]
[]
[]
[]
[]
[]
[]
[]
[]
[]
[]
[]
[]
[]
[]
[]
[]
[]
[]
[]
[]
[]
[]
[]
[]
[]
[]
[]
[]
[]
[]
[]
[]
[]
[]
[]
[]
[]
[]
[]
[]
["合計",{"$f":"SUM(B6:B205)","v":0},{"$f":"-1*SUM(ABS(C6:J205))","v":0}]
["（備考）"]
["※行は必要に応じて追加すること。（隠れている行を再表示させることで追加可能。）"]
[]
[]
["シート1-4-2　過年度に他の特定排出者が炭素蓄積の量を報告した森林のうち算定対象年度に譲渡されたもの"]
["所在地","面積(ha)","増加した炭素蓄積の量(t-C)","備考"]
[]
[]
[]
[]
[]
[]
[]
[]
[]
[]
[]
[]
[]
[]
[]
[]
[]
[]
[]
[]
[]
[]
[]
[]
[]
[]
[]
[]
[]
[]
[]
[]
[]
[]
[]
[]
[]
[]
[]
[]
[]
[]
[]
[]
[]
[]
[]
[]
[]
[]
[]
[]
[]
[]
[]
[]
[]
[]
[]
[]
[]
[]
[]
[]
[]
[]
[]
[]
[]
[]
[]
[]
[]
[]
[]
[]
[]
[]
[]
[]
[]
[]
[]
[]
[]
[]
[]
[]
[]
[]
[]
[]
[]
[]
[]
[]
[]
[]
[]
[]
[]
[]
[]
[]
[]
[]
[]
[]
[]
[]
[]
[]
[]
[]
[]
[]
[]
[]
[]
[]
[]
[]
[]
[]
[]
[]
[]
[]
[]
[]
[]
[]
[]
[]
[]
[]
[]
[]
[]
[]
[]
[]
[]
[]
[]
[]
[]
[]
[]
[]
[]
[]
[]
[]
[]
[]
[]
[]
[]
[]
[]
[]
[]
[]
[]
[]
[]
[]
[]
[]
[]
[]
[]
[]
[]
[]
[]
[]
[]
[]
[]
[]
[]
[]
[]
[]
[]
[]
[]
[]
[]
[]
[]
[]
[]
[]
[]
[]
[]
[]
["合計",{"$f":"SUM(B213:B412)","v":0},{"$f":"SUM(C213:C412)","v":0}]
["（備考）"]
["※行は必要に応じて追加すること。（隠れている行を再表示させることで追加可能。）"]

{"sheet":"２－２","index":6,"n_rows":222,"n_cols":19,"rows_kept":222,"cut":false,"hidden":true,"merged":[[20,18,21,18],[20,16,20,17],[20,1,21,1],[20,0,21,0],[20,12,21,12],[20,14,21,14],[20,2,21,2],[20,8,20,11],[20,13,21,13],[20,15,21,15],[20,3,21,3],[20,4,20,7],[4,2,4,4],[5,2,5,4],[7,2,7,4],[8,2,8,4],[9,2,9,4],[6,2,6,4],[10,2,10,4],[11,2,11,4],[12,2,12,4],[17,2,17,4],[9,0,12,0],[13,2,13,4],[14,2,14,4],[15,2,15,4],[16,2,16,4],[4,0,4,1],[5,0,5,1],[7,0,7,1],[8,0,8,1],[17,0,17,1],[13,0,16,0],[6,0,6,1]]}
["○算定シート２－２"]
[]
["【算定排出量算定期間に使用した木材（個票）】"]
[]
["名称"]
["所在地"]
["建築物その他の工作物/家具その他の物品の別",null,"建築物その他の工作物"]
["算定する部材等の範囲"]
["延床面積(㎡)(建築物その他の工作物の場合)"]
["国産材使用量(㎥)","建築物その他の工作物（構造材）",{"$f":"IF($C$7=\"建築物その他の工作物\",\nSUMIFS($M$23:$M$222,$D$23:$D$222,\"構造材\"),\n\"-\")","v":0}]
[null,"建築物その他の工作物（非構造材）",{"$f":"IF($C$7=\"建築物その他の工作物\",\nSUMIFS($M$23:$M$222,$D$23:$D$222,\"非構造材\"),\n\"-\")","v":0}]
[null,"家具その他の物品",{"$f":"IF($C$7=\"家具その他の物品\",SUM($M$23:$M$222),\"-\")","v":"-"}]
[null,"合計",{"$f":"SUM(C10:E12)","v":0}]
["国産材使用量(kg)","建築物その他の工作物（構造材）",{"$f":"IF($C$7=\"建築物その他の工作物\",\nSUMIFS($N$23:$N$222,$D$23:$D$222,\"構造材\"),\n\"-\")","v":0}]
[null,"建築物その他の工作物（非構造材）",{"$f":"IF($C$7=\"建築物その他の工作物\",\nSUMIFS($N$23:$N$222,$D$23:$D$222,\"非構造材\"),\n\"-\")","v":0}]
[null,"家具その他の物品",{"$f":"IF($C$7=\"家具その他の物品\",IF(COUNTIF($N$23:$N$222,\"*木質ボード区分を選択*\")>0,\"ERROR\",SUM($N$23:$N$222)),\"-\")","v":"-"}]
[null,"合計",{"$f":"SUM(C14:E16)","v":0}]
["炭素蓄積の量小計(t-C)",null,{"$f":"IF(COUNTIF($P$23:$P$222,\"*ERROR*\")>0,\"エラーあり\",SUM($P$23:$P$222))","v":"エラーあり"},{"$f":"IF(COUNTIF(M23:M222,\"*ERROR*\")>0,\"エラーあり\",SUM(M23:M222))","v":{"$error":"#REF!"}},{"$error":"#REF!"}]
["※各行、「国産材使用量」又は「木材使用量（木質ボード区分であって、国産材使用量が不明な場合）」のいずれかの欄において、材積又は重量のいずれかの欄に入力すること。",null,null,null,null,null,null,null,null,null,null,null,null,"必要な値が入力されていない場合ERRORを返す"]
["※行は必要に応じて追加すること。"]
["通し番号","部品、製品名等","区分(製材・合板・木質ボード)","構造材/非構造材の別（建築物その他の工作物の場合）","国産材使用量",null,null,null,"木材使用量（木質ボード区分であって、国産材使用量が不明な場合）",null,null,null,"国産材使用量小計(㎥)","国産材使用量小計(kg)","木材の炭素含有率","炭素蓄積の量(t-C)","合法性を確認できる伝達情報等",null,"備考"]
[null,null,null,null,"樹種","材積(㎥)","木材の密度(t/㎥)","重量(kg)","材積(㎥)","木材の密度(t/㎥)","重量(kg)","国産材率(％)",null,null,null,null,"伝達情報等の件名","日付"]
[null,null,"製材（製材・集成材・ＣＬＴ等）",null,"スギ",100,{"$f":"IF($F23=\"\",\"-\",IF($C23=\"製材（製材・集成材・ＣＬＴ等）\",IF($E23=\"\",\"-\",_xlfn.XLOOKUP('２－２'!$E23,プルダウンデータリスト!$AC$2:$AC$65,プルダウンデータリスト!$AD$2:$AD$65)),_xlfn.XLOOKUP($C23,プルダウンデータリスト!$V$3:$V$9,プルダウンデータリスト!$W$3:$W$9,)))","v":0.33},null,null,{"$f":"IF($I23=\"\",\"-\",IF($C23=\"製材（製材・集成材・ＣＬＴ等）\",IF($E23=\"\",\"-\",_xlfn.XLOOKUP('２－２'!$E23,プルダウンデータリスト!$AC$2:$AC$65,プルダウンデータリスト!$AD$2:$AD$65)),_xlfn.XLOOKUP($C23,プルダウンデータリスト!$V$3:$V$9,プルダウンデータリスト!$W$3:$W$9,)))","v":"-"},null,{"$f":"IF(LEN(F23)+LEN(H23)>0,\"-\",IF(LEN(I23)+LEN(K23)<=0,\"-\",_xlfn.XLOOKUP(C23,プルダウンデータリスト!$AF$2:$AF$7,プルダウンデータリスト!$AG$2:$AG$7,\"-\")))","v":"-"},{"$f":"IF(SUM(F23,H23,I23,K23)<=0,\"-\",IF((LEN(H23)+LEN(K23))>0,\"-\",IF(LEN(F23)>0,F23,IF(LEN(I23)>0,I23*L23,\"\"))))","v":100},{"$f":"IF(SUM(F23,H23,I23,K23)<=0,\"-\",IF((LEN(F23)+LEN(I23))>0,\"-\",IF(LEN(H23)>0,H23,IF(LEN(K23)>0,K23*L23,\"\"))))","v":"-"},{"$f":"IF(C23=\"\",\"-\",_xlfn.XLOOKUP(C23,プルダウンデータリスト!$V$2:$V$9,プルダウンデータリスト!$X$2:$X$9,\"-\"))","v":0.5},{"$f":"IFERROR(IF(LEN(F23)>0,M23*G23*O23,IF(LEN(H23)>0,N23*O23/1000,IF(LEN(I23)>0,M23*J23*O23,IF(LEN(K23)>0,N23*O23/1000,\"-\")))),\"ERROR\")","v":16.5}]
[null,null,"製材（製材・集成材・ＣＬＴ等）",null,"スギ",null,{"$f":"IF($F24=\"\",\"-\",IF($C24=\"製材（製材・集成材・ＣＬＴ等）\",IF($E24=\"\",\"-\",_xlfn.XLOOKUP('２－２'!$E24,プルダウンデータリスト!$AC$2:$AC$65,プルダウンデータリスト!$AD$2:$AD$65)),_xlfn.XLOOKUP($C24,プルダウンデータリスト!$V$3:$V$9,プルダウンデータリスト!$W$3:$W$9,)))","v":"-"},100,null,{"$f":"IF($I24=\"\",\"-\",IF($C24=\"製材（製材・集成材・ＣＬＴ等）\",IF($E24=\"\",\"-\",_xlfn.XLOOKUP('２－２'!$E24,プルダウンデータリスト!$AC$2:$AC$65,プルダウンデータリスト!$AD$2:$AD$65)),_xlfn.XLOOKUP($C24,プルダウンデータリスト!$V$3:$V$9,プルダウンデータリスト!$W$3:$W$9,)))","v":"-"},null,{"$f":"IF(LEN(F24)+LEN(H24)>0,\"-\",IF(LEN(I24)+LEN(K24)<=0,\"-\",_xlfn.XLOOKUP(C24,プルダウンデータリスト!$AF$2:$AF$7,プルダウンデータリスト!$AG$2:$AG$7,\"-\")))","v":"-"},{"$f":"IF(SUM(F24,H24,I24,K24)<=0,\"-\",IF((LEN(H24)+LEN(K24))>0,\"-\",IF(LEN(F24)>0,F24,IF(LEN(I24)>0,I24*L24,\"\"))))","v":"-"},{"$f":"IF(SUM(F24,H24,I24,K24)<=0,\"-\",IF((LEN(F24)+LEN(I24))>0,\"-\",IF(LEN(H24)>0,H24,IF(LEN(K24)>0,K24*L24,\"\"))))","v":100},{"$f":"IF(C24=\"\",\"-\",_xlfn.XLOOKUP(C24,プルダウンデータリスト!$V$2:$V$9,プルダウンデータリスト!$X$2:$X$9,\"-\"))","v":0.5},{"$f":"IFERROR(IF(LEN(F24)>0,M24*G24*O24,IF(LEN(H24)>0,N24*O24/1000,IF(LEN(I24)>0,M24*J24*O24,IF(LEN(K24)>0,N24*O24/1000,\"-\")))),\"ERROR\")","v":0.05}]
[null,null,"製材（製材・集成材・ＣＬＴ等）",null,"スギ",100,{"$f":"IF($F25=\"\",\"-\",IF($C25=\"製材（製材・集成材・ＣＬＴ等）\",IF($E25=\"\",\"-\",_xlfn.XLOOKUP('２－２'!$E25,プルダウンデータリスト!$AC$2:$AC$65,プルダウンデータリスト!$AD$2:$AD$65)),_xlfn.XLOOKUP($C25,プルダウンデータリスト!$V$3:$V$9,プルダウンデータリスト!$W$3:$W$9,)))","v":0.33},null,null,{"$f":"IF($I25=\"\",\"-\",IF($C25=\"製材（製材・集成材・ＣＬＴ等）\",IF($E25=\"\",\"-\",_xlfn.XLOOKUP('２－２'!$E25,プルダウンデータリスト!$AC$2:$AC$65,プルダウンデータリスト!$AD$2:$AD$65)),_xlfn.XLOOKUP($C25,プルダウンデータリスト!$V$3:$V$9,プルダウンデータリスト!$W$3:$W$9,)))","v":"-"},null,{"$f":"IF(LEN(F25)+LEN(H25)>0,\"-\",IF(LEN(I25)+LEN(K25)<=0,\"-\",_xlfn.XLOOKUP(C25,プルダウンデータリスト!$AF$2:$AF$7,プルダウンデータリスト!$AG$2:$AG$7,\"-\")))","v":"-"},100,"-",{"$f":"IF(C25=\"\",\"-\",_xlfn.XLOOKUP(C25,プルダウンデータリスト!$V$2:$V$9,プルダウンデータリスト!$X$2:$X$9,\"-\"))","v":0.5},16.5]
[null,null,"製材（製材・集成材・ＣＬＴ等）",null,"スギ",null,{"$f":"IF($F26=\"\",\"-\",IF($C26=\"製材（製材・集成材・ＣＬＴ等）\",IF($E26=\"\",\"-\",_xlfn.XLOOKUP('２－２'!$E26,プルダウンデータリスト!$AC$2:$AC$65,プルダウンデータリスト!$AD$2:$AD$65)),_xlfn.XLOOKUP($C26,プルダウンデータリスト!$V$3:$V$9,プルダウンデータリスト!$W$3:$W$9,)))","v":"-"},100,null,{"$f":"IF($I26=\"\",\"-\",IF($C26=\"製材（製材・集成材・ＣＬＴ等）\",IF($E26=\"\",\"-\",_xlfn.XLOOKUP('２－２'!$E26,プルダウンデータリスト!$AC$2:$AC$65,プルダウンデータリスト!$AD$2:$AD$65)),_xlfn.XLOOKUP($C26,プルダウンデータリスト!$V$3:$V$9,プルダウンデータリスト!$W$3:$W$9,)))","v":"-"},null,{"$f":"IF(LEN(F26)+LEN(H26)>0,\"-\",IF(LEN(I26)+LEN(K26)<=0,\"-\",_xlfn.XLOOKUP(C26,プルダウンデータリスト!$AF$2:$AF$7,プルダウンデータリスト!$AG$2:$AG$7,\"-\")))","v":"-"},"-",100,{"$f":"IF(C26=\"\",\"-\",_xlfn.XLOOKUP(C26,プルダウンデータリスト!$V$2:$V$9,プルダウンデータリスト!$X$2:$X$9,\"-\"))","v":0.5},0.05]
[null,null,"合板（合板・ＬＶＬ等）",null,null,100,{"$f":"IF($F27=\"\",\"-\",IF($C27=\"製材（製材・集成材・ＣＬＴ等）\",IF($E27=\"\",\"-\",_xlfn.XLOOKUP('２－２'!$E27,プルダウンデータリスト!$AC$2:$AC$65,プルダウンデータリスト!$AD$2:$AD$65)),_xlfn.XLOOKUP($C27,プルダウンデータリスト!$V$3:$V$9,プルダウンデータリスト!$W$3:$W$9,)))","v":0.54200000000000004},null,null,{"$f":"IF($I27=\"\",\"-\",IF($C27=\"製材（製材・集成材・ＣＬＴ等）\",IF($E27=\"\",\"-\",_xlfn.XLOOKUP('２－２'!$E27,プルダウンデータリスト!$AC$2:$AC$65,プルダウンデータリスト!$AD$2:$AD$65)),_xlfn.XLOOKUP($C27,プルダウンデータリスト!$V$3:$V$9,プルダウンデータリスト!$W$3:$W$9,)))","v":"-"},null,{"$f":"IF(LEN(F27)+LEN(H27)>0,\"-\",IF(LEN(I27)+LEN(K27)<=0,\"-\",_xlfn.XLOOKUP(C27,プルダウンデータリスト!$AF$2:$AF$7,プルダウンデータリスト!$AG$2:$AG$7,\"-\")))","v":"-"},100,"-",{"$f":"IF(C27=\"\",\"-\",_xlfn.XLOOKUP(C27,プルダウンデータリスト!$V$2:$V$9,プルダウンデータリスト!$X$2:$X$9,\"-\"))","v":0.49299999999999999},26.720600000000001]
[null,null,"合板（合板・ＬＶＬ等）",null,null,null,{"$f":"IF($F28=\"\",\"-\",IF($C28=\"製材（製材・集成材・ＣＬＴ等）\",IF($E28=\"\",\"-\",_xlfn.XLOOKUP('２－２'!$E28,プルダウンデータリスト!$AC$2:$AC$65,プルダウンデータリスト!$AD$2:$AD$65)),_xlfn.XLOOKUP($C28,プルダウンデータリスト!$V$3:$V$9,プルダウンデータリスト!$W$3:$W$9,)))","v":"-"},100,null,{"$f":"IF($I28=\"\",\"-\",IF($C28=\"製材（製材・集成材・ＣＬＴ等）\",IF($E28=\"\",\"-\",_xlfn.XLOOKUP('２－２'!$E28,プルダウンデータリスト!$AC$2:$AC$65,プルダウンデータリスト!$AD$2:$AD$65)),_xlfn.XLOOKUP($C28,プルダウンデータリスト!$V$3:$V$9,プルダウンデータリスト!$W$3:$W$9,)))","v":"-"},null,{"$f":"IF(LEN(F28)+LEN(H28)>0,\"-\",IF(LEN(I28)+LEN(K28)<=0,\"-\",_xlfn.XLOOKUP(C28,プルダウンデータリスト!$AF$2:$AF$7,プルダウンデータリスト!$AG$2:$AG$7,\"-\")))","v":"-"},"-",100,{"$f":"IF(C28=\"\",\"-\",_xlfn.XLOOKUP(C28,プルダウンデータリスト!$V$2:$V$9,プルダウンデータリスト!$X$2:$X$9,\"-\"))","v":0.49299999999999999},4.9299999999999997E-2]
[null,null,"木質ボード（パーティクルボード）",null,null,100,{"$f":"IF($F29=\"\",\"-\",IF($C29=\"製材（製材・集成材・ＣＬＴ等）\",IF($E29=\"\",\"-\",_xlfn.XLOOKUP('２－２'!$E29,プルダウンデータリスト!$AC$2:$AC$65,プルダウンデータリスト!$AD$2:$AD$65)),_xlfn.XLOOKUP($C29,プルダウンデータリスト!$V$3:$V$9,プルダウンデータリスト!$W$3:$W$9,)))","v":0.59599999999999997},null,null,{"$f":"IF($I29=\"\",\"-\",IF($C29=\"製材（製材・集成材・ＣＬＴ等）\",IF($E29=\"\",\"-\",_xlfn.XLOOKUP('２－２'!$E29,プルダウンデータリスト!$AC$2:$AC$65,プルダウンデータリスト!$AD$2:$AD$65)),_xlfn.XLOOKUP($C29,プルダウンデータリスト!$V$3:$V$9,プルダウンデータリスト!$W$3:$W$9,)))","v":"-"},null,{"$f":"IF(LEN(F29)+LEN(H29)>0,\"-\",IF(LEN(I29)+LEN(K29)<=0,\"-\",_xlfn.XLOOKUP(C29,プルダウンデータリスト!$AF$2:$AF$7,プルダウンデータリスト!$AG$2:$AG$7,\"-\")))","v":"-"},100,"-",{"$f":"IF(C29=\"\",\"-\",_xlfn.XLOOKUP(C29,プルダウンデータリスト!$V$2:$V$9,プルダウンデータリスト!$X$2:$X$9,\"-\"))","v":0.45100000000000001},26.879599999999996]
[null,null,"木質ボード（パーティクルボード）",null,null,null,{"$f":"IF($F30=\"\",\"-\",IF($C30=\"製材（製材・集成材・ＣＬＴ等）\",IF($E30=\"\",\"-\",_xlfn.XLOOKUP('２－２'!$E30,プルダウンデータリスト!$AC$2:$AC$65,プルダウンデータリスト!$AD$2:$AD$65)),_xlfn.XLOOKUP($C30,プルダウンデータリスト!$V$3:$V$9,プルダウンデータリスト!$W$3:$W$9,)))","v":"-"},100,null,{"$f":"IF($I30=\"\",\"-\",IF($C30=\"製材（製材・集成材・ＣＬＴ等）\",IF($E30=\"\",\"-\",_xlfn.XLOOKUP('２－２'!$E30,プルダウンデータリスト!$AC$2:$AC$65,プルダウンデータリスト!$AD$2:$AD$65)),_xlfn.XLOOKUP($C30,プルダウンデータリスト!$V$3:$V$9,プルダウンデータリスト!$W$3:$W$9,)))","v":"-"},null,{"$f":"IF(LEN(F30)+LEN(H30)>0,\"-\",IF(LEN(I30)+LEN(K30)<=0,\"-\",_xlfn.XLOOKUP(C30,プルダウンデータリスト!$AF$2:$AF$7,プルダウンデータリスト!$AG$2:$AG$7,\"-\")))","v":"-"},"-",100,{"$f":"IF(C30=\"\",\"-\",_xlfn.XLOOKUP(C30,プルダウンデータリスト!$V$2:$V$9,プルダウンデータリスト!$X$2:$X$9,\"-\"))","v":0.45100000000000001},4.5100000000000001E-2]
[null,null,"木質ボード（パーティクルボード）",null,null,null,{"$f":"IF($F31=\"\",\"-\",IF($C31=\"製材（製材・集成材・ＣＬＴ等）\",IF($E31=\"\",\"-\",_xlfn.XLOOKUP('２－２'!$E31,プルダウンデータリスト!$AC$2:$AC$65,プルダウンデータリスト!$AD$2:$AD$65)),_xlfn.XLOOKUP($C31,プルダウンデータリスト!$V$3:$V$9,プルダウンデータリスト!$W$3:$W$9,)))","v":"-"},null,100,{"$f":"IF($I31=\"\",\"-\",IF($C31=\"製材（製材・集成材・ＣＬＴ等）\",IF($E31=\"\",\"-\",_xlfn.XLOOKUP('２－２'!$E31,プルダウンデータリスト!$AC$2:$AC$65,プルダウンデータリスト!$AD$2:$AD$65)),_xlfn.XLOOKUP($C31,プルダウンデータリスト!$V$3:$V$9,プルダウンデータリスト!$W$3:$W$9,)))","v":0.59599999999999997},null,{"$f":"IF(LEN(F31)+LEN(H31)>0,\"-\",IF(LEN(I31)+LEN(K31)<=0,\"-\",_xlfn.XLOOKUP(C31,プルダウンデータリスト!$AF$2:$AF$7,プルダウンデータリスト!$AG$2:$AG$7,\"-\")))","v":{"$error":"#REF!"}},{"$error":"#REF!"},"-",{"$f":"IF(C31=\"\",\"-\",_xlfn.XLOOKUP(C31,プルダウンデータリスト!$V$2:$V$9,プルダウンデータリスト!$X$2:$X$9,\"-\"))","v":0.45100000000000001},"ERROR"]
[null,null,"木質ボード（パーティクルボード）",null,null,null,{"$f":"IF($F32=\"\",\"-\",IF($C32=\"製材（製材・集成材・ＣＬＴ等）\",IF($E32=\"\",\"-\",_xlfn.XLOOKUP('２－２'!$E32,プルダウンデータリスト!$AC$2:$AC$65,プルダウンデータリスト!$AD$2:$AD$65)),_xlfn.XLOOKUP($C32,プルダウンデータリスト!$V$3:$V$9,プルダウンデータリスト!$W$3:$W$9,)))","v":"-"},null,null,{"$f":"IF($I32=\"\",\"-\",IF($C32=\"製材（製材・集成材・ＣＬＴ等）\",IF($E32=\"\",\"-\",_xlfn.XLOOKUP('２－２'!$E32,プルダウンデータリスト!$AC$2:$AC$65,プルダウンデータリスト!$AD$2:$AD$65)),_xlfn.XLOOKUP($C32,プルダウンデータリスト!$V$3:$V$9,プルダウンデータリスト!$W$3:$W$9,)))","v":"-"},100,{"$f":"IF(LEN(F32)+LEN(H32)>0,\"-\",IF(LEN(I32)+LEN(K32)<=0,\"-\",_xlfn.XLOOKUP(C32,プルダウンデータリスト!$AF$2:$AF$7,プルダウンデータリスト!$AG$2:$AG$7,\"-\")))","v":{"$error":"#REF!"}},"-",{"$error":"#REF!"},{"$f":"IF(C32=\"\",\"-\",_xlfn.XLOOKUP(C32,プルダウンデータリスト!$V$2:$V$9,プルダウンデータリスト!$X$2:$X$9,\"-\"))","v":0.45100000000000001},"ERROR"]
[null,null,"製材（製材・集成材・ＣＬＴ等）",null,"スギ",null,{"$f":"IF($F33=\"\",\"-\",IF($C33=\"製材（製材・集成材・ＣＬＴ等）\",IF($E33=\"\",\"-\",_xlfn.XLOOKUP('２－２'!$E33,プルダウンデータリスト!$AC$2:$AC$65,プルダウンデータリスト!$AD$2:$AD$65)),_xlfn.XLOOKUP($C33,プルダウンデータリスト!$V$3:$V$9,プルダウンデータリスト!$W$3:$W$9,)))","v":"-"},null,null,{"$f":"IF($I33=\"\",\"-\",IF($C33=\"製材（製材・集成材・ＣＬＴ等）\",IF($E33=\"\",\"-\",_xlfn.XLOOKUP('２－２'!$E33,プルダウンデータリスト!$AC$2:$AC$65,プルダウンデータリスト!$AD$2:$AD$65)),_xlfn.XLOOKUP($C33,プルダウンデータリスト!$V$3:$V$9,プルダウンデータリスト!$W$3:$W$9,)))","v":"-"},null,{"$f":"IF(LEN(F33)+LEN(H33)>0,\"-\",IF(LEN(I33)+LEN(K33)<=0,\"-\",_xlfn.XLOOKUP(C33,プルダウンデータリスト!$AF$2:$AF$7,プルダウンデータリスト!$AG$2:$AG$7,\"-\")))","v":"-"},"-","-",{"$f":"IF(C33=\"\",\"-\",_xlfn.XLOOKUP(C33,プルダウンデータリスト!$V$2:$V$9,プルダウンデータリスト!$X$2:$X$9,\"-\"))","v":0.5},"-"]
[null,null,null,null,null,null,{"$f":"IF($F34=\"\",\"-\",IF($C34=\"製材（製材・集成材・ＣＬＴ等）\",IF($E34=\"\",\"-\",_xlfn.XLOOKUP('２－２'!$E34,プルダウンデータリスト!$AC$2:$AC$65,プルダウンデータリスト!$AD$2:$AD$65)),_xlfn.XLOOKUP($C34,プルダウンデータリスト!$V$3:$V$9,プルダウンデータリスト!$W$3:$W$9,)))","v":"-"},null,null,{"$f":"IF($I34=\"\",\"-\",IF($C34=\"製材（製材・集成材・ＣＬＴ等）\",IF($E34=\"\",\"-\",_xlfn.XLOOKUP('２－２'!$E34,プルダウンデータリスト!$AC$2:$AC$65,プルダウンデータリスト!$AD$2:$AD$65)),_xlfn.XLOOKUP($C34,プルダウンデータリスト!$V$3:$V$9,プルダウンデータリスト!$W$3:$W$9,)))","v":"-"},null,{"$f":"IF(LEN(F34)+LEN(H34)>0,\"-\",IF(LEN(I34)+LEN(K34)<=0,\"-\",_xlfn.XLOOKUP(C34,プルダウンデータリスト!$AF$2:$AF$7,プルダウンデータリスト!$AG$2:$AG$7,\"-\")))","v":"-"},"-","-",{"$f":"IF(C34=\"\",\"-\",_xlfn.XLOOKUP(C34,プルダウンデータリスト!$V$2:$V$9,プルダウンデータリスト!$X$2:$X$9,\"-\"))","v":"-"},"-"]
[null,null,null,null,null,null,{"$f":"IF($F35=\"\",\"-\",IF($C35=\"製材（製材・集成材・ＣＬＴ等）\",IF($E35=\"\",\"-\",_xlfn.XLOOKUP('２－２'!$E35,プルダウンデータリスト!$AC$2:$AC$65,プルダウンデータリスト!$AD$2:$AD$65)),_xlfn.XLOOKUP($C35,プルダウンデータリスト!$V$3:$V$9,プルダウンデータリスト!$W$3:$W$9,)))","v":"-"},null,null,{"$f":"IF($I35=\"\",\"-\",IF($C35=\"製材（製材・集成材・ＣＬＴ等）\",IF($E35=\"\",\"-\",_xlfn.XLOOKUP('２－２'!$E35,プルダウンデータリスト!$AC$2:$AC$65,プルダウンデータリスト!$AD$2:$AD$65)),_xlfn.XLOOKUP($C35,プルダウンデータリスト!$V$3:$V$9,プルダウンデータリスト!$W$3:$W$9,)))","v":"-"},null,{"$f":"IF(LEN(F35)+LEN(H35)>0,\"-\",IF(LEN(I35)+LEN(K35)<=0,\"-\",_xlfn.XLOOKUP(C35,プルダウンデータリスト!$AF$2:$AF$7,プルダウンデータリスト!$AG$2:$AG$7,\"-\")))","v":"-"},"-","-",{"$f":"IF(C35=\"\",\"-\",_xlfn.XLOOKUP(C35,プルダウンデータリスト!$V$2:$V$9,プルダウンデータリスト!$X$2:$X$9,\"-\"))","v":"-"},"-"]
[null,null,null,null,null,null,{"$f":"IF($F36=\"\",\"-\",IF($C36=\"製材（製材・集成材・ＣＬＴ等）\",IF($E36=\"\",\"-\",_xlfn.XLOOKUP('２－２'!$E36,プルダウンデータリスト!$AC$2:$AC$65,プルダウンデータリスト!$AD$2:$AD$65)),_xlfn.XLOOKUP($C36,プルダウンデータリスト!$V$3:$V$9,プルダウンデータリスト!$W$3:$W$9,)))","v":"-"},null,null,{"$f":"IF($I36=\"\",\"-\",IF($C36=\"製材（製材・集成材・ＣＬＴ等）\",IF($E36=\"\",\"-\",_xlfn.XLOOKUP('２－２'!$E36,プルダウンデータリスト!$AC$2:$AC$65,プルダウンデータリスト!$AD$2:$AD$65)),_xlfn.XLOOKUP($C36,プルダウンデータリスト!$V$3:$V$9,プルダウンデータリスト!$W$3:$W$9,)))","v":"-"},null,{"$f":"IF(LEN(F36)+LEN(H36)>0,\"-\",IF(LEN(I36)+LEN(K36)<=0,\"-\",_xlfn.XLOOKUP(C36,プルダウンデータリスト!$AF$2:$AF$7,プルダウンデータリスト!$AG$2:$AG$7,\"-\")))","v":"-"},"-","-",{"$f":"IF(C36=\"\",\"-\",_xlfn.XLOOKUP(C36,プルダウンデータリスト!$V$2:$V$9,プルダウンデータリスト!$X$2:$X$9,\"-\"))","v":"-"},{"$f":"IFERROR(IF(LEN(F36)>0,M36*G36*O36,IF(LEN(H36)>0,N36*O36/1000,IF(LEN(I36)>0,M36*J36*O36,IF(LEN(K36)>0,N36*O36/1000,\"-\")))),\"ERROR\")","v":"-"}]
[null,null,null,null,null,null,{"$f":"IF($F37=\"\",\"-\",IF($C37=\"製材（製材・集成材・ＣＬＴ等）\",IF($E37=\"\",\"-\",_xlfn.XLOOKUP('２－２'!$E37,プルダウンデータリスト!$AC$2:$AC$65,プルダウンデータリスト!$AD$2:$AD$65)),_xlfn.XLOOKUP($C37,プルダウンデータリスト!$V$3:$V$9,プルダウンデータリスト!$W$3:$W$9,)))","v":"-"},null,null,{"$f":"IF($I37=\"\",\"-\",IF($C37=\"製材（製材・集成材・ＣＬＴ等）\",IF($E37=\"\",\"-\",_xlfn.XLOOKUP('２－２'!$E37,プルダウンデータリスト!$AC$2:$AC$65,プルダウンデータリスト!$AD$2:$AD$65)),_xlfn.XLOOKUP($C37,プルダウンデータリスト!$V$3:$V$9,プルダウンデータリスト!$W$3:$W$9,)))","v":"-"},null,{"$f":"IF(LEN(F37)+LEN(H37)>0,\"-\",IF(LEN(I37)+LEN(K37)<=0,\"-\",_xlfn.XLOOKUP(C37,プルダウンデータリスト!$AF$2:$AF$7,プルダウンデータリスト!$AG$2:$AG$7,\"-\")))","v":"-"},"-","-",{"$f":"IF(C37=\"\",\"-\",_xlfn.XLOOKUP(C37,プルダウンデータリスト!$V$2:$V$9,プルダウンデータリスト!$X$2:$X$9,\"-\"))","v":"-"},"-"]
[null,null,null,null,null,null,{"$f":"IF($F38=\"\",\"-\",IF($C38=\"製材（製材・集成材・ＣＬＴ等）\",IF($E38=\"\",\"-\",_xlfn.XLOOKUP('２－２'!$E38,プルダウンデータリスト!$AC$2:$AC$65,プルダウンデータリスト!$AD$2:$AD$65)),_xlfn.XLOOKUP($C38,プルダウンデータリスト!$V$3:$V$9,プルダウンデータリスト!$W$3:$W$9,)))","v":"-"},null,null,{"$f":"IF($I38=\"\",\"-\",IF($C38=\"製材（製材・集成材・ＣＬＴ等）\",IF($E38=\"\",\"-\",_xlfn.XLOOKUP('２－２'!$E38,プルダウンデータリスト!$AC$2:$AC$65,プルダウンデータリスト!$AD$2:$AD$65)),_xlfn.XLOOKUP($C38,プルダウンデータリスト!$V$3:$V$9,プルダウンデータリスト!$W$3:$W$9,)))","v":"-"},null,{"$f":"IF(LEN(F38)+LEN(H38)>0,\"-\",IF(LEN(I38)+LEN(K38)<=0,\"-\",_xlfn.XLOOKUP(C38,プルダウンデータリスト!$AF$2:$AF$7,プルダウンデータリスト!$AG$2:$AG$7,\"-\")))","v":"-"},"-","-",{"$f":"IF(C38=\"\",\"-\",_xlfn.XLOOKUP(C38,プルダウンデータリスト!$V$2:$V$9,プルダウンデータリスト!$X$2:$X$9,\"-\"))","v":"-"},"-"]
[null,null,null,null,null,null,{"$f":"IF($F39=\"\",\"-\",IF($C39=\"製材（製材・集成材・ＣＬＴ等）\",IF($E39=\"\",\"-\",_xlfn.XLOOKUP('２－２'!$E39,プルダウンデータリスト!$AC$2:$AC$65,プルダウンデータリスト!$AD$2:$AD$65)),_xlfn.XLOOKUP($C39,プルダウンデータリスト!$V$3:$V$9,プルダウンデータリスト!$W$3:$W$9,)))","v":"-"},null,null,{"$f":"IF($I39=\"\",\"-\",IF($C39=\"製材（製材・集成材・ＣＬＴ等）\",IF($E39=\"\",\"-\",_xlfn.XLOOKUP('２－２'!$E39,プルダウンデータリスト!$AC$2:$AC$65,プルダウンデータリスト!$AD$2:$AD$65)),_xlfn.XLOOKUP($C39,プルダウンデータリスト!$V$3:$V$9,プルダウンデータリスト!$W$3:$W$9,)))","v":"-"},null,{"$f":"IF(LEN(F39)+LEN(H39)>0,\"-\",IF(LEN(I39)+LEN(K39)<=0,\"-\",_xlfn.XLOOKUP(C39,プルダウンデータリスト!$AF$2:$AF$7,プルダウンデータリスト!$AG$2:$AG$7,\"-\")))","v":"-"},"-","-",{"$f":"IF(C39=\"\",\"-\",_xlfn.XLOOKUP(C39,プルダウンデータリスト!$V$2:$V$9,プルダウンデータリスト!$X$2:$X$9,\"-\"))","v":"-"},"-"]
[null,null,null,null,null,null,{"$f":"IF($F40=\"\",\"-\",IF($C40=\"製材（製材・集成材・ＣＬＴ等）\",IF($E40=\"\",\"-\",_xlfn.XLOOKUP('２－２'!$E40,プルダウンデータリスト!$AC$2:$AC$65,プルダウンデータリスト!$AD$2:$AD$65)),_xlfn.XLOOKUP($C40,プルダウンデータリスト!$V$3:$V$9,プルダウンデータリスト!$W$3:$W$9,)))","v":"-"},null,null,{"$f":"IF($I40=\"\",\"-\",IF($C40=\"製材（製材・集成材・ＣＬＴ等）\",IF($E40=\"\",\"-\",_xlfn.XLOOKUP('２－２'!$E40,プルダウンデータリスト!$AC$2:$AC$65,プルダウンデータリスト!$AD$2:$AD$65)),_xlfn.XLOOKUP($C40,プルダウンデータリスト!$V$3:$V$9,プルダウンデータリスト!$W$3:$W$9,)))","v":"-"},null,{"$f":"IF(LEN(F40)+LEN(H40)>0,\"-\",IF(LEN(I40)+LEN(K40)<=0,\"-\",_xlfn.XLOOKUP(C40,プルダウンデータリスト!$AF$2:$AF$7,プルダウンデータリスト!$AG$2:$AG$7,\"-\")))","v":"-"},"-","-",{"$f":"IF(C40=\"\",\"-\",_xlfn.XLOOKUP(C40,プルダウンデータリスト!$V$2:$V$9,プルダウンデータリスト!$X$2:$X$9,\"-\"))","v":"-"},"-"]
[null,null,null,null,null,null,{"$f":"IF($F41=\"\",\"-\",IF($C41=\"製材（製材・集成材・ＣＬＴ等）\",IF($E41=\"\",\"-\",_xlfn.XLOOKUP('２－２'!$E41,プルダウンデータリスト!$AC$2:$AC$65,プルダウンデータリスト!$AD$2:$AD$65)),_xlfn.XLOOKUP($C41,プルダウンデータリスト!$V$3:$V$9,プルダウンデータリスト!$W$3:$W$9,)))","v":"-"},null,null,{"$f":"IF($I41=\"\",\"-\",IF($C41=\"製材（製材・集成材・ＣＬＴ等）\",IF($E41=\"\",\"-\",_xlfn.XLOOKUP('２－２'!$E41,プルダウンデータリスト!$AC$2:$AC$65,プルダウンデータリスト!$AD$2:$AD$65)),_xlfn.XLOOKUP($C41,プルダウンデータリスト!$V$3:$V$9,プルダウンデータリスト!$W$3:$W$9,)))","v":"-"},null,{"$f":"IF(LEN(F41)+LEN(H41)>0,\"-\",IF(LEN(I41)+LEN(K41)<=0,\"-\",_xlfn.XLOOKUP(C41,プルダウンデータリスト!$AF$2:$AF$7,プルダウンデータリスト!$AG$2:$AG$7,\"-\")))","v":"-"},"-","-",{"$f":"IF(C41=\"\",\"-\",_xlfn.XLOOKUP(C41,プルダウンデータリスト!$V$2:$V$9,プルダウンデータリスト!$X$2:$X$9,\"-\"))","v":"-"},"-"]
[null,null,null,null,null,null,{"$f":"IF($F42=\"\",\"-\",IF($C42=\"製材（製材・集成材・ＣＬＴ等）\",IF($E42=\"\",\"-\",_xlfn.XLOOKUP('２－２'!$E42,プルダウンデータリスト!$AC$2:$AC$65,プルダウンデータリスト!$AD$2:$AD$65)),_xlfn.XLOOKUP($C42,プルダウンデータリスト!$V$3:$V$9,プルダウンデータリスト!$W$3:$W$9,)))","v":"-"},null,null,{"$f":"IF($I42=\"\",\"-\",IF($C42=\"製材（製材・集成材・ＣＬＴ等）\",IF($E42=\"\",\"-\",_xlfn.XLOOKUP('２－２'!$E42,プルダウンデータリスト!$AC$2:$AC$65,プルダウンデータリスト!$AD$2:$AD$65)),_xlfn.XLOOKUP($C42,プルダウンデータリスト!$V$3:$V$9,プルダウンデータリスト!$W$3:$W$9,)))","v":"-"},null,{"$f":"IF(LEN(F42)+LEN(H42)>0,\"-\",IF(LEN(I42)+LEN(K42)<=0,\"-\",_xlfn.XLOOKUP(C42,プルダウンデータリスト!$AF$2:$AF$7,プルダウンデータリスト!$AG$2:$AG$7,\"-\")))","v":"-"},"-","-",{"$f":"IF(C42=\"\",\"-\",_xlfn.XLOOKUP(C42,プルダウンデータリスト!$V$2:$V$9,プルダウンデータリスト!$X$2:$X$9,\"-\"))","v":"-"},"-"]
[null,null,null,null,null,null,{"$f":"IF($F43=\"\",\"-\",IF($C43=\"製材（製材・集成材・ＣＬＴ等）\",IF($E43=\"\",\"-\",_xlfn.XLOOKUP('２－２'!$E43,プルダウンデータリスト!$AC$2:$AC$65,プルダウンデータリスト!$AD$2:$AD$65)),_xlfn.XLOOKUP($C43,プルダウンデータリスト!$V$3:$V$9,プルダウンデータリスト!$W$3:$W$9,)))","v":"-"},null,null,{"$f":"IF($I43=\"\",\"-\",IF($C43=\"製材（製材・集成材・ＣＬＴ等）\",IF($E43=\"\",\"-\",_xlfn.XLOOKUP('２－２'!$E43,プルダウンデータリスト!$AC$2:$AC$65,プルダウンデータリスト!$AD$2:$AD$65)),_xlfn.XLOOKUP($C43,プルダウンデータリスト!$V$3:$V$9,プルダウンデータリスト!$W$3:$W$9,)))","v":"-"},null,{"$f":"IF(LEN(F43)+LEN(H43)>0,\"-\",IF(LEN(I43)+LEN(K43)<=0,\"-\",_xlfn.XLOOKUP(C43,プルダウンデータリスト!$AF$2:$AF$7,プルダウンデータリスト!$AG$2:$AG$7,\"-\")))","v":"-"},"-","-",{"$f":"IF(C43=\"\",\"-\",_xlfn.XLOOKUP(C43,プルダウンデータリスト!$V$2:$V$9,プルダウンデータリスト!$X$2:$X$9,\"-\"))","v":"-"},"-"]
[null,null,null,null,null,null,{"$f":"IF($F44=\"\",\"-\",IF($C44=\"製材（製材・集成材・ＣＬＴ等）\",IF($E44=\"\",\"-\",_xlfn.XLOOKUP('２－２'!$E44,プルダウンデータリスト!$AC$2:$AC$65,プルダウンデータリスト!$AD$2:$AD$65)),_xlfn.XLOOKUP($C44,プルダウンデータリスト!$V$3:$V$9,プルダウンデータリスト!$W$3:$W$9,)))","v":"-"},null,null,{"$f":"IF($I44=\"\",\"-\",IF($C44=\"製材（製材・集成材・ＣＬＴ等）\",IF($E44=\"\",\"-\",_xlfn.XLOOKUP('２－２'!$E44,プルダウンデータリスト!$AC$2:$AC$65,プルダウンデータリスト!$AD$2:$AD$65)),_xlfn.XLOOKUP($C44,プルダウンデータリスト!$V$3:$V$9,プルダウンデータリスト!$W$3:$W$9,)))","v":"-"},null,{"$f":"IF(LEN(F44)+LEN(H44)>0,\"-\",IF(LEN(I44)+LEN(K44)<=0,\"-\",_xlfn.XLOOKUP(C44,プルダウンデータリスト!$AF$2:$AF$7,プルダウンデータリスト!$AG$2:$AG$7,\"-\")))","v":"-"},"-","-",{"$f":"IF(C44=\"\",\"-\",_xlfn.XLOOKUP(C44,プルダウンデータリスト!$V$2:$V$9,プルダウンデータリスト!$X$2:$X$9,\"-\"))","v":"-"},"-"]
[null,null,null,null,null,null,{"$f":"IF($F45=\"\",\"-\",IF($C45=\"製材（製材・集成材・ＣＬＴ等）\",IF($E45=\"\",\"-\",_xlfn.XLOOKUP('２－２'!$E45,プルダウンデータリスト!$AC$2:$AC$65,プルダウンデータリスト!$AD$2:$AD$65)),_xlfn.XLOOKUP($C45,プルダウンデータリスト!$V$3:$V$9,プルダウンデータリスト!$W$3:$W$9,)))","v":"-"},null,null,{"$f":"IF($I45=\"\",\"-\",IF($C45=\"製材（製材・集成材・ＣＬＴ等）\",IF($E45=\"\",\"-\",_xlfn.XLOOKUP('２－２'!$E45,プルダウンデータリスト!$AC$2:$AC$65,プルダウンデータリスト!$AD$2:$AD$65)),_xlfn.XLOOKUP($C45,プルダウンデータリスト!$V$3:$V$9,プルダウンデータリスト!$W$3:$W$9,)))","v":"-"},null,{"$f":"IF(LEN(F45)+LEN(H45)>0,\"-\",IF(LEN(I45)+LEN(K45)<=0,\"-\",_xlfn.XLOOKUP(C45,プルダウンデータリスト!$AF$2:$AF$7,プルダウンデータリスト!$AG$2:$AG$7,\"-\")))","v":"-"},"-","-",{"$f":"IF(C45=\"\",\"-\",_xlfn.XLOOKUP(C45,プルダウンデータリスト!$V$2:$V$9,プルダウンデータリスト!$X$2:$X$9,\"-\"))","v":"-"},"-"]
[null,null,null,null,null,null,{"$f":"IF($F46=\"\",\"-\",IF($C46=\"製材（製材・集成材・ＣＬＴ等）\",IF($E46=\"\",\"-\",_xlfn.XLOOKUP('２－２'!$E46,プルダウンデータリスト!$AC$2:$AC$65,プルダウンデータリスト!$AD$2:$AD$65)),_xlfn.XLOOKUP($C46,プルダウンデータリスト!$V$3:$V$9,プルダウンデータリスト!$W$3:$W$9,)))","v":"-"},null,null,{"$f":"IF($I46=\"\",\"-\",IF($C46=\"製材（製材・集成材・ＣＬＴ等）\",IF($E46=\"\",\"-\",_xlfn.XLOOKUP('２－２'!$E46,プルダウンデータリスト!$AC$2:$AC$65,プルダウンデータリスト!$AD$2:$AD$65)),_xlfn.XLOOKUP($C46,プルダウンデータリスト!$V$3:$V$9,プルダウンデータリスト!$W$3:$W$9,)))","v":"-"},null,{"$f":"IF(LEN(F46)+LEN(H46)>0,\"-\",IF(LEN(I46)+LEN(K46)<=0,\"-\",_xlfn.XLOOKUP(C46,プルダウンデータリスト!$AF$2:$AF$7,プルダウンデータリスト!$AG$2:$AG$7,\"-\")))","v":"-"},"-","-",{"$f":"IF(C46=\"\",\"-\",_xlfn.XLOOKUP(C46,プルダウンデータリスト!$V$2:$V$9,プルダウンデータリスト!$X$2:$X$9,\"-\"))","v":"-"},"-"]
[null,null,null,null,null,null,{"$f":"IF($F47=\"\",\"-\",IF($C47=\"製材（製材・集成材・ＣＬＴ等）\",IF($E47=\"\",\"-\",_xlfn.XLOOKUP('２－２'!$E47,プルダウンデータリスト!$AC$2:$AC$65,プルダウンデータリスト!$AD$2:$AD$65)),_xlfn.XLOOKUP($C47,プルダウンデータリスト!$V$3:$V$9,プルダウンデータリスト!$W$3:$W$9,)))","v":"-"},null,null,{"$f":"IF($I47=\"\",\"-\",IF($C47=\"製材（製材・集成材・ＣＬＴ等）\",IF($E47=\"\",\"-\",_xlfn.XLOOKUP('２－２'!$E47,プルダウンデータリスト!$AC$2:$AC$65,プルダウンデータリスト!$AD$2:$AD$65)),_xlfn.XLOOKUP($C47,プルダウンデータリスト!$V$3:$V$9,プルダウンデータリスト!$W$3:$W$9,)))","v":"-"},null,{"$f":"IF(LEN(F47)+LEN(H47)>0,\"-\",IF(LEN(I47)+LEN(K47)<=0,\"-\",_xlfn.XLOOKUP(C47,プルダウンデータリスト!$AF$2:$AF$7,プルダウンデータリスト!$AG$2:$AG$7,\"-\")))","v":"-"},"-","-",{"$f":"IF(C47=\"\",\"-\",_xlfn.XLOOKUP(C47,プルダウンデータリスト!$V$2:$V$9,プルダウンデータリスト!$X$2:$X$9,\"-\"))","v":"-"},"-"]
[null,null,null,null,null,null,{"$f":"IF($F48=\"\",\"-\",IF($C48=\"製材（製材・集成材・ＣＬＴ等）\",IF($E48=\"\",\"-\",_xlfn.XLOOKUP('２－２'!$E48,プルダウンデータリスト!$AC$2:$AC$65,プルダウンデータリスト!$AD$2:$AD$65)),_xlfn.XLOOKUP($C48,プルダウンデータリスト!$V$3:$V$9,プルダウンデータリスト!$W$3:$W$9,)))","v":"-"},null,null,{"$f":"IF($I48=\"\",\"-\",IF($C48=\"製材（製材・集成材・ＣＬＴ等）\",IF($E48=\"\",\"-\",_xlfn.XLOOKUP('２－２'!$E48,プルダウンデータリスト!$AC$2:$AC$65,プルダウンデータリスト!$AD$2:$AD$65)),_xlfn.XLOOKUP($C48,プルダウンデータリスト!$V$3:$V$9,プルダウンデータリスト!$W$3:$W$9,)))","v":"-"},null,{"$f":"IF(LEN(F48)+LEN(H48)>0,\"-\",IF(LEN(I48)+LEN(K48)<=0,\"-\",_xlfn.XLOOKUP(C48,プルダウンデータリスト!$AF$2:$AF$7,プルダウンデータリスト!$AG$2:$AG$7,\"-\")))","v":"-"},"-","-",{"$f":"IF(C48=\"\",\"-\",_xlfn.XLOOKUP(C48,プルダウンデータリスト!$V$2:$V$9,プルダウンデータリスト!$X$2:$X$9,\"-\"))","v":"-"},"-"]
[null,null,null,null,null,null,{"$f":"IF($F49=\"\",\"-\",IF($C49=\"製材（製材・集成材・ＣＬＴ等）\",IF($E49=\"\",\"-\",_xlfn.XLOOKUP('２－２'!$E49,プルダウンデータリスト!$AC$2:$AC$65,プルダウンデータリスト!$AD$2:$AD$65)),_xlfn.XLOOKUP($C49,プルダウンデータリスト!$V$3:$V$9,プルダウンデータリスト!$W$3:$W$9,)))","v":"-"},null,null,{"$f":"IF($I49=\"\",\"-\",IF($C49=\"製材（製材・集成材・ＣＬＴ等）\",IF($E49=\"\",\"-\",_xlfn.XLOOKUP('２－２'!$E49,プルダウンデータリスト!$AC$2:$AC$65,プルダウンデータリスト!$AD$2:$AD$65)),_xlfn.XLOOKUP($C49,プルダウンデータリスト!$V$3:$V$9,プルダウンデータリスト!$W$3:$W$9,)))","v":"-"},null,{"$f":"IF(LEN(F49)+LEN(H49)>0,\"-\",IF(LEN(I49)+LEN(K49)<=0,\"-\",_xlfn.XLOOKUP(C49,プルダウンデータリスト!$AF$2:$AF$7,プルダウンデータリスト!$AG$2:$AG$7,\"-\")))","v":"-"},"-","-",{"$f":"IF(C49=\"\",\"-\",_xlfn.XLOOKUP(C49,プルダウンデータリスト!$V$2:$V$9,プルダウンデータリスト!$X$2:$X$9,\"-\"))","v":"-"},"-"]
[null,null,null,null,null,null,{"$f":"IF($F50=\"\",\"-\",IF($C50=\"製材（製材・集成材・ＣＬＴ等）\",IF($E50=\"\",\"-\",_xlfn.XLOOKUP('２－２'!$E50,プルダウンデータリスト!$AC$2:$AC$65,プルダウンデータリスト!$AD$2:$AD$65)),_xlfn.XLOOKUP($C50,プルダウンデータリスト!$V$3:$V$9,プルダウンデータリスト!$W$3:$W$9,)))","v":"-"},null,null,{"$f":"IF($I50=\"\",\"-\",IF($C50=\"製材（製材・集成材・ＣＬＴ等）\",IF($E50=\"\",\"-\",_xlfn.XLOOKUP('２－２'!$E50,プルダウンデータリスト!$AC$2:$AC$65,プルダウンデータリスト!$AD$2:$AD$65)),_xlfn.XLOOKUP($C50,プルダウンデータリスト!$V$3:$V$9,プルダウンデータリスト!$W$3:$W$9,)))","v":"-"},null,{"$f":"IF(LEN(F50)+LEN(H50)>0,\"-\",IF(LEN(I50)+LEN(K50)<=0,\"-\",_xlfn.XLOOKUP(C50,プルダウンデータリスト!$AF$2:$AF$7,プルダウンデータリスト!$AG$2:$AG$7,\"-\")))","v":"-"},"-","-",{"$f":"IF(C50=\"\",\"-\",_xlfn.XLOOKUP(C50,プルダウンデータリスト!$V$2:$V$9,プルダウンデータリスト!$X$2:$X$9,\"-\"))","v":"-"},"-"]
[null,null,null,null,null,null,{"$f":"IF($F51=\"\",\"-\",IF($C51=\"製材（製材・集成材・ＣＬＴ等）\",IF($E51=\"\",\"-\",_xlfn.XLOOKUP('２－２'!$E51,プルダウンデータリスト!$AC$2:$AC$65,プルダウンデータリスト!$AD$2:$AD$65)),_xlfn.XLOOKUP($C51,プルダウンデータリスト!$V$3:$V$9,プルダウンデータリスト!$W$3:$W$9,)))","v":"-"},null,null,{"$f":"IF($I51=\"\",\"-\",IF($C51=\"製材（製材・集成材・ＣＬＴ等）\",IF($E51=\"\",\"-\",_xlfn.XLOOKUP('２－２'!$E51,プルダウンデータリスト!$AC$2:$AC$65,プルダウンデータリスト!$AD$2:$AD$65)),_xlfn.XLOOKUP($C51,プルダウンデータリスト!$V$3:$V$9,プルダウンデータリスト!$W$3:$W$9,)))","v":"-"},null,{"$f":"IF(LEN(F51)+LEN(H51)>0,\"-\",IF(LEN(I51)+LEN(K51)<=0,\"-\",_xlfn.XLOOKUP(C51,プルダウンデータリスト!$AF$2:$AF$7,プルダウンデータリスト!$AG$2:$AG$7,\"-\")))","v":"-"},"-","-",{"$f":"IF(C51=\"\",\"-\",_xlfn.XLOOKUP(C51,プルダウンデータリスト!$V$2:$V$9,プルダウンデータリスト!$X$2:$X$9,\"-\"))","v":"-"},"-"]
[null,null,null,null,null,null,{"$f":"IF($F52=\"\",\"-\",IF($C52=\"製材（製材・集成材・ＣＬＴ等）\",IF($E52=\"\",\"-\",_xlfn.XLOOKUP('２－２'!$E52,プルダウンデータリスト!$AC$2:$AC$65,プルダウンデータリスト!$AD$2:$AD$65)),_xlfn.XLOOKUP($C52,プルダウンデータリスト!$V$3:$V$9,プルダウンデータリスト!$W$3:$W$9,)))","v":"-"},null,null,{"$f":"IF($I52=\"\",\"-\",IF($C52=\"製材（製材・集成材・ＣＬＴ等）\",IF($E52=\"\",\"-\",_xlfn.XLOOKUP('２－２'!$E52,プルダウンデータリスト!$AC$2:$AC$65,プルダウンデータリスト!$AD$2:$AD$65)),_xlfn.XLOOKUP($C52,プルダウンデータリスト!$V$3:$V$9,プルダウンデータリスト!$W$3:$W$9,)))","v":"-"},null,{"$f":"IF(LEN(F52)+LEN(H52)>0,\"-\",IF(LEN(I52)+LEN(K52)<=0,\"-\",_xlfn.XLOOKUP(C52,プルダウンデータリスト!$AF$2:$AF$7,プルダウンデータリスト!$AG$2:$AG$7,\"-\")))","v":"-"},"-","-",{"$f":"IF(C52=\"\",\"-\",_xlfn.XLOOKUP(C52,プルダウンデータリスト!$V$2:$V$9,プルダウンデータリスト!$X$2:$X$9,\"-\"))","v":"-"},"-"]
[null,null,null,null,null,null,{"$f":"IF($F53=\"\",\"-\",IF($C53=\"製材（製材・集成材・ＣＬＴ等）\",IF($E53=\"\",\"-\",_xlfn.XLOOKUP('２－２'!$E53,プルダウンデータリスト!$AC$2:$AC$65,プルダウンデータリスト!$AD$2:$AD$65)),_xlfn.XLOOKUP($C53,プルダウンデータリスト!$V$3:$V$9,プルダウンデータリスト!$W$3:$W$9,)))","v":"-"},null,null,{"$f":"IF($I53=\"\",\"-\",IF($C53=\"製材（製材・集成材・ＣＬＴ等）\",IF($E53=\"\",\"-\",_xlfn.XLOOKUP('２－２'!$E53,プルダウンデータリスト!$AC$2:$AC$65,プルダウンデータリスト!$AD$2:$AD$65)),_xlfn.XLOOKUP($C53,プルダウンデータリスト!$V$3:$V$9,プルダウンデータリスト!$W$3:$W$9,)))","v":"-"},null,{"$f":"IF(LEN(F53)+LEN(H53)>0,\"-\",IF(LEN(I53)+LEN(K53)<=0,\"-\",_xlfn.XLOOKUP(C53,プルダウンデータリスト!$AF$2:$AF$7,プルダウンデータリスト!$AG$2:$AG$7,\"-\")))","v":"-"},"-","-",{"$f":"IF(C53=\"\",\"-\",_xlfn.XLOOKUP(C53,プルダウンデータリスト!$V$2:$V$9,プルダウンデータリスト!$X$2:$X$9,\"-\"))","v":"-"},"-"]
[null,null,null,null,null,null,{"$f":"IF($F54=\"\",\"-\",IF($C54=\"製材（製材・集成材・ＣＬＴ等）\",IF($E54=\"\",\"-\",_xlfn.XLOOKUP('２－２'!$E54,プルダウンデータリスト!$AC$2:$AC$65,プルダウンデータリスト!$AD$2:$AD$65)),_xlfn.XLOOKUP($C54,プルダウンデータリスト!$V$3:$V$9,プルダウンデータリスト!$W$3:$W$9,)))","v":"-"},null,null,{"$f":"IF($I54=\"\",\"-\",IF($C54=\"製材（製材・集成材・ＣＬＴ等）\",IF($E54=\"\",\"-\",_xlfn.XLOOKUP('２－２'!$E54,プルダウンデータリスト!$AC$2:$AC$65,プルダウンデータリスト!$AD$2:$AD$65)),_xlfn.XLOOKUP($C54,プルダウンデータリスト!$V$3:$V$9,プルダウンデータリスト!$W$3:$W$9,)))","v":"-"},null,{"$f":"IF(LEN(F54)+LEN(H54)>0,\"-\",IF(LEN(I54)+LEN(K54)<=0,\"-\",_xlfn.XLOOKUP(C54,プルダウンデータリスト!$AF$2:$AF$7,プルダウンデータリスト!$AG$2:$AG$7,\"-\")))","v":"-"},"-","-",{"$f":"IF(C54=\"\",\"-\",_xlfn.XLOOKUP(C54,プルダウンデータリスト!$V$2:$V$9,プルダウンデータリスト!$X$2:$X$9,\"-\"))","v":"-"},"-"]
[null,null,null,null,null,null,{"$f":"IF($F55=\"\",\"-\",IF($C55=\"製材（製材・集成材・ＣＬＴ等）\",IF($E55=\"\",\"-\",_xlfn.XLOOKUP('２－２'!$E55,プルダウンデータリスト!$AC$2:$AC$65,プルダウンデータリスト!$AD$2:$AD$65)),_xlfn.XLOOKUP($C55,プルダウンデータリスト!$V$3:$V$9,プルダウンデータリスト!$W$3:$W$9,)))","v":"-"},null,null,{"$f":"IF($I55=\"\",\"-\",IF($C55=\"製材（製材・集成材・ＣＬＴ等）\",IF($E55=\"\",\"-\",_xlfn.XLOOKUP('２－２'!$E55,プルダウンデータリスト!$AC$2:$AC$65,プルダウンデータリスト!$AD$2:$AD$65)),_xlfn.XLOOKUP($C55,プルダウンデータリスト!$V$3:$V$9,プルダウンデータリスト!$W$3:$W$9,)))","v":"-"},null,{"$f":"IF(LEN(F55)+LEN(H55)>0,\"-\",IF(LEN(I55)+LEN(K55)<=0,\"-\",_xlfn.XLOOKUP(C55,プルダウンデータリスト!$AF$2:$AF$7,プルダウンデータリスト!$AG$2:$AG$7,\"-\")))","v":"-"},"-","-",{"$f":"IF(C55=\"\",\"-\",_xlfn.XLOOKUP(C55,プルダウンデータリスト!$V$2:$V$9,プルダウンデータリスト!$X$2:$X$9,\"-\"))","v":"-"},"-"]
[null,null,null,null,null,null,{"$f":"IF($F56=\"\",\"-\",IF($C56=\"製材（製材・集成材・ＣＬＴ等）\",IF($E56=\"\",\"-\",_xlfn.XLOOKUP('２－２'!$E56,プルダウンデータリスト!$AC$2:$AC$65,プルダウンデータリスト!$AD$2:$AD$65)),_xlfn.XLOOKUP($C56,プルダウンデータリスト!$V$3:$V$9,プルダウンデータリスト!$W$3:$W$9,)))","v":"-"},null,null,{"$f":"IF($I56=\"\",\"-\",IF($C56=\"製材（製材・集成材・ＣＬＴ等）\",IF($E56=\"\",\"-\",_xlfn.XLOOKUP('２－２'!$E56,プルダウンデータリスト!$AC$2:$AC$65,プルダウンデータリスト!$AD$2:$AD$65)),_xlfn.XLOOKUP($C56,プルダウンデータリスト!$V$3:$V$9,プルダウンデータリスト!$W$3:$W$9,)))","v":"-"},null,{"$f":"IF(LEN(F56)+LEN(H56)>0,\"-\",IF(LEN(I56)+LEN(K56)<=0,\"-\",_xlfn.XLOOKUP(C56,プルダウンデータリスト!$AF$2:$AF$7,プルダウンデータリスト!$AG$2:$AG$7,\"-\")))","v":"-"},"-","-",{"$f":"IF(C56=\"\",\"-\",_xlfn.XLOOKUP(C56,プルダウンデータリスト!$V$2:$V$9,プルダウンデータリスト!$X$2:$X$9,\"-\"))","v":"-"},"-"]
[null,null,null,null,null,null,{"$f":"IF($F57=\"\",\"-\",IF($C57=\"製材（製材・集成材・ＣＬＴ等）\",IF($E57=\"\",\"-\",_xlfn.XLOOKUP('２－２'!$E57,プルダウンデータリスト!$AC$2:$AC$65,プルダウンデータリスト!$AD$2:$AD$65)),_xlfn.XLOOKUP($C57,プルダウンデータリスト!$V$3:$V$9,プルダウンデータリスト!$W$3:$W$9,)))","v":"-"},null,null,{"$f":"IF($I57=\"\",\"-\",IF($C57=\"製材（製材・集成材・ＣＬＴ等）\",IF($E57=\"\",\"-\",_xlfn.XLOOKUP('２－２'!$E57,プルダウンデータリスト!$AC$2:$AC$65,プルダウンデータリスト!$AD$2:$AD$65)),_xlfn.XLOOKUP($C57,プルダウンデータリスト!$V$3:$V$9,プルダウンデータリスト!$W$3:$W$9,)))","v":"-"},null,{"$f":"IF(LEN(F57)+LEN(H57)>0,\"-\",IF(LEN(I57)+LEN(K57)<=0,\"-\",_xlfn.XLOOKUP(C57,プルダウンデータリスト!$AF$2:$AF$7,プルダウンデータリスト!$AG$2:$AG$7,\"-\")))","v":"-"},"-","-",{"$f":"IF(C57=\"\",\"-\",_xlfn.XLOOKUP(C57,プルダウンデータリスト!$V$2:$V$9,プルダウンデータリスト!$X$2:$X$9,\"-\"))","v":"-"},"-"]
[null,null,null,null,null,null,{"$f":"IF($F58=\"\",\"-\",IF($C58=\"製材（製材・集成材・ＣＬＴ等）\",IF($E58=\"\",\"-\",_xlfn.XLOOKUP('２－２'!$E58,プルダウンデータリスト!$AC$2:$AC$65,プルダウンデータリスト!$AD$2:$AD$65)),_xlfn.XLOOKUP($C58,プルダウンデータリスト!$V$3:$V$9,プルダウンデータリスト!$W$3:$W$9,)))","v":"-"},null,null,{"$f":"IF($I58=\"\",\"-\",IF($C58=\"製材（製材・集成材・ＣＬＴ等）\",IF($E58=\"\",\"-\",_xlfn.XLOOKUP('２－２'!$E58,プルダウンデータリスト!$AC$2:$AC$65,プルダウンデータリスト!$AD$2:$AD$65)),_xlfn.XLOOKUP($C58,プルダウンデータリスト!$V$3:$V$9,プルダウンデータリスト!$W$3:$W$9,)))","v":"-"},null,{"$f":"IF(LEN(F58)+LEN(H58)>0,\"-\",IF(LEN(I58)+LEN(K58)<=0,\"-\",_xlfn.XLOOKUP(C58,プルダウンデータリスト!$AF$2:$AF$7,プルダウンデータリスト!$AG$2:$AG$7,\"-\")))","v":"-"},"-","-",{"$f":"IF(C58=\"\",\"-\",_xlfn.XLOOKUP(C58,プルダウンデータリスト!$V$2:$V$9,プルダウンデータリスト!$X$2:$X$9,\"-\"))","v":"-"},"-"]
[null,null,null,null,null,null,{"$f":"IF($F59=\"\",\"-\",IF($C59=\"製材（製材・集成材・ＣＬＴ等）\",IF($E59=\"\",\"-\",_xlfn.XLOOKUP('２－２'!$E59,プルダウンデータリスト!$AC$2:$AC$65,プルダウンデータリスト!$AD$2:$AD$65)),_xlfn.XLOOKUP($C59,プルダウンデータリスト!$V$3:$V$9,プルダウンデータリスト!$W$3:$W$9,)))","v":"-"},null,null,{"$f":"IF($I59=\"\",\"-\",IF($C59=\"製材（製材・集成材・ＣＬＴ等）\",IF($E59=\"\",\"-\",_xlfn.XLOOKUP('２－２'!$E59,プルダウンデータリスト!$AC$2:$AC$65,プルダウンデータリスト!$AD$2:$AD$65)),_xlfn.XLOOKUP($C59,プルダウンデータリスト!$V$3:$V$9,プルダウンデータリスト!$W$3:$W$9,)))","v":"-"},null,{"$f":"IF(LEN(F59)+LEN(H59)>0,\"-\",IF(LEN(I59)+LEN(K59)<=0,\"-\",_xlfn.XLOOKUP(C59,プルダウンデータリスト!$AF$2:$AF$7,プルダウンデータリスト!$AG$2:$AG$7,\"-\")))","v":"-"},"-","-",{"$f":"IF(C59=\"\",\"-\",_xlfn.XLOOKUP(C59,プルダウンデータリスト!$V$2:$V$9,プルダウンデータリスト!$X$2:$X$9,\"-\"))","v":"-"},"-"]
[null,null,null,null,null,null,{"$f":"IF($F60=\"\",\"-\",IF($C60=\"製材（製材・集成材・ＣＬＴ等）\",IF($E60=\"\",\"-\",_xlfn.XLOOKUP('２－２'!$E60,プルダウンデータリスト!$AC$2:$AC$65,プルダウンデータリスト!$AD$2:$AD$65)),_xlfn.XLOOKUP($C60,プルダウンデータリスト!$V$3:$V$9,プルダウンデータリスト!$W$3:$W$9,)))","v":"-"},null,null,{"$f":"IF($I60=\"\",\"-\",IF($C60=\"製材（製材・集成材・ＣＬＴ等）\",IF($E60=\"\",\"-\",_xlfn.XLOOKUP('２－２'!$E60,プルダウンデータリスト!$AC$2:$AC$65,プルダウンデータリスト!$AD$2:$AD$65)),_xlfn.XLOOKUP($C60,プルダウンデータリスト!$V$3:$V$9,プルダウンデータリスト!$W$3:$W$9,)))","v":"-"},null,{"$f":"IF(LEN(F60)+LEN(H60)>0,\"-\",IF(LEN(I60)+LEN(K60)<=0,\"-\",_xlfn.XLOOKUP(C60,プルダウンデータリスト!$AF$2:$AF$7,プルダウンデータリスト!$AG$2:$AG$7,\"-\")))","v":"-"},"-","-",{"$f":"IF(C60=\"\",\"-\",_xlfn.XLOOKUP(C60,プルダウンデータリスト!$V$2:$V$9,プルダウンデータリスト!$X$2:$X$9,\"-\"))","v":"-"},"-"]
[null,null,null,null,null,null,{"$f":"IF($F61=\"\",\"-\",IF($C61=\"製材（製材・集成材・ＣＬＴ等）\",IF($E61=\"\",\"-\",_xlfn.XLOOKUP('２－２'!$E61,プルダウンデータリスト!$AC$2:$AC$65,プルダウンデータリスト!$AD$2:$AD$65)),_xlfn.XLOOKUP($C61,プルダウンデータリスト!$V$3:$V$9,プルダウンデータリスト!$W$3:$W$9,)))","v":"-"},null,null,{"$f":"IF($I61=\"\",\"-\",IF($C61=\"製材（製材・集成材・ＣＬＴ等）\",IF($E61=\"\",\"-\",_xlfn.XLOOKUP('２－２'!$E61,プルダウンデータリスト!$AC$2:$AC$65,プルダウンデータリスト!$AD$2:$AD$65)),_xlfn.XLOOKUP($C61,プルダウンデータリスト!$V$3:$V$9,プルダウンデータリスト!$W$3:$W$9,)))","v":"-"},null,{"$f":"IF(LEN(F61)+LEN(H61)>0,\"-\",IF(LEN(I61)+LEN(K61)<=0,\"-\",_xlfn.XLOOKUP(C61,プルダウンデータリスト!$AF$2:$AF$7,プルダウンデータリスト!$AG$2:$AG$7,\"-\")))","v":"-"},"-","-",{"$f":"IF(C61=\"\",\"-\",_xlfn.XLOOKUP(C61,プルダウンデータリスト!$V$2:$V$9,プルダウンデータリスト!$X$2:$X$9,\"-\"))","v":"-"},"-"]
[null,null,null,null,null,null,{"$f":"IF($F62=\"\",\"-\",IF($C62=\"製材（製材・集成材・ＣＬＴ等）\",IF($E62=\"\",\"-\",_xlfn.XLOOKUP('２－２'!$E62,プルダウンデータリスト!$AC$2:$AC$65,プルダウンデータリスト!$AD$2:$AD$65)),_xlfn.XLOOKUP($C62,プルダウンデータリスト!$V$3:$V$9,プルダウンデータリスト!$W$3:$W$9,)))","v":"-"},null,null,{"$f":"IF($I62=\"\",\"-\",IF($C62=\"製材（製材・集成材・ＣＬＴ等）\",IF($E62=\"\",\"-\",_xlfn.XLOOKUP('２－２'!$E62,プルダウンデータリスト!$AC$2:$AC$65,プルダウンデータリスト!$AD$2:$AD$65)),_xlfn.XLOOKUP($C62,プルダウンデータリスト!$V$3:$V$9,プルダウンデータリスト!$W$3:$W$9,)))","v":"-"},null,{"$f":"IF(LEN(F62)+LEN(H62)>0,\"-\",IF(LEN(I62)+LEN(K62)<=0,\"-\",_xlfn.XLOOKUP(C62,プルダウンデータリスト!$AF$2:$AF$7,プルダウンデータリスト!$AG$2:$AG$7,\"-\")))","v":"-"},"-","-",{"$f":"IF(C62=\"\",\"-\",_xlfn.XLOOKUP(C62,プルダウンデータリスト!$V$2:$V$9,プルダウンデータリスト!$X$2:$X$9,\"-\"))","v":"-"},"-"]
[null,null,null,null,null,null,{"$f":"IF($F63=\"\",\"-\",IF($C63=\"製材（製材・集成材・ＣＬＴ等）\",IF($E63=\"\",\"-\",_xlfn.XLOOKUP('２－２'!$E63,プルダウンデータリスト!$AC$2:$AC$65,プルダウンデータリスト!$AD$2:$AD$65)),_xlfn.XLOOKUP($C63,プルダウンデータリスト!$V$3:$V$9,プルダウンデータリスト!$W$3:$W$9,)))","v":"-"},null,null,{"$f":"IF($I63=\"\",\"-\",IF($C63=\"製材（製材・集成材・ＣＬＴ等）\",IF($E63=\"\",\"-\",_xlfn.XLOOKUP('２－２'!$E63,プルダウンデータリスト!$AC$2:$AC$65,プルダウンデータリスト!$AD$2:$AD$65)),_xlfn.XLOOKUP($C63,プルダウンデータリスト!$V$3:$V$9,プルダウンデータリスト!$W$3:$W$9,)))","v":"-"},null,{"$f":"IF(LEN(F63)+LEN(H63)>0,\"-\",IF(LEN(I63)+LEN(K63)<=0,\"-\",_xlfn.XLOOKUP(C63,プルダウンデータリスト!$AF$2:$AF$7,プルダウンデータリスト!$AG$2:$AG$7,\"-\")))","v":"-"},"-","-",{"$f":"IF(C63=\"\",\"-\",_xlfn.XLOOKUP(C63,プルダウンデータリスト!$V$2:$V$9,プルダウンデータリスト!$X$2:$X$9,\"-\"))","v":"-"},"-"]
[null,null,null,null,null,null,{"$f":"IF($F64=\"\",\"-\",IF($C64=\"製材（製材・集成材・ＣＬＴ等）\",IF($E64=\"\",\"-\",_xlfn.XLOOKUP('２－２'!$E64,プルダウンデータリスト!$AC$2:$AC$65,プルダウンデータリスト!$AD$2:$AD$65)),_xlfn.XLOOKUP($C64,プルダウンデータリスト!$V$3:$V$9,プルダウンデータリスト!$W$3:$W$9,)))","v":"-"},null,null,{"$f":"IF($I64=\"\",\"-\",IF($C64=\"製材（製材・集成材・ＣＬＴ等）\",IF($E64=\"\",\"-\",_xlfn.XLOOKUP('２－２'!$E64,プルダウンデータリスト!$AC$2:$AC$65,プルダウンデータリスト!$AD$2:$AD$65)),_xlfn.XLOOKUP($C64,プルダウンデータリスト!$V$3:$V$9,プルダウンデータリスト!$W$3:$W$9,)))","v":"-"},null,{"$f":"IF(LEN(F64)+LEN(H64)>0,\"-\",IF(LEN(I64)+LEN(K64)<=0,\"-\",_xlfn.XLOOKUP(C64,プルダウンデータリスト!$AF$2:$AF$7,プルダウンデータリスト!$AG$2:$AG$7,\"-\")))","v":"-"},"-","-",{"$f":"IF(C64=\"\",\"-\",_xlfn.XLOOKUP(C64,プルダウンデータリスト!$V$2:$V$9,プルダウンデータリスト!$X$2:$X$9,\"-\"))","v":"-"},"-"]
[null,null,null,null,null,null,{"$f":"IF($F65=\"\",\"-\",IF($C65=\"製材（製材・集成材・ＣＬＴ等）\",IF($E65=\"\",\"-\",_xlfn.XLOOKUP('２－２'!$E65,プルダウンデータリスト!$AC$2:$AC$65,プルダウンデータリスト!$AD$2:$AD$65)),_xlfn.XLOOKUP($C65,プルダウンデータリスト!$V$3:$V$9,プルダウンデータリスト!$W$3:$W$9,)))","v":"-"},null,null,{"$f":"IF($I65=\"\",\"-\",IF($C65=\"製材（製材・集成材・ＣＬＴ等）\",IF($E65=\"\",\"-\",_xlfn.XLOOKUP('２－２'!$E65,プルダウンデータリスト!$AC$2:$AC$65,プルダウンデータリスト!$AD$2:$AD$65)),_xlfn.XLOOKUP($C65,プルダウンデータリスト!$V$3:$V$9,プルダウンデータリスト!$W$3:$W$9,)))","v":"-"},null,{"$f":"IF(LEN(F65)+LEN(H65)>0,\"-\",IF(LEN(I65)+LEN(K65)<=0,\"-\",_xlfn.XLOOKUP(C65,プルダウンデータリスト!$AF$2:$AF$7,プルダウンデータリスト!$AG$2:$AG$7,\"-\")))","v":"-"},"-","-",{"$f":"IF(C65=\"\",\"-\",_xlfn.XLOOKUP(C65,プルダウンデータリスト!$V$2:$V$9,プルダウンデータリスト!$X$2:$X$9,\"-\"))","v":"-"},"-"]
[null,null,null,null,null,null,{"$f":"IF($F66=\"\",\"-\",IF($C66=\"製材（製材・集成材・ＣＬＴ等）\",IF($E66=\"\",\"-\",_xlfn.XLOOKUP('２－２'!$E66,プルダウンデータリスト!$AC$2:$AC$65,プルダウンデータリスト!$AD$2:$AD$65)),_xlfn.XLOOKUP($C66,プルダウンデータリスト!$V$3:$V$9,プルダウンデータリスト!$W$3:$W$9,)))","v":"-"},null,null,{"$f":"IF($I66=\"\",\"-\",IF($C66=\"製材（製材・集成材・ＣＬＴ等）\",IF($E66=\"\",\"-\",_xlfn.XLOOKUP('２－２'!$E66,プルダウンデータリスト!$AC$2:$AC$65,プルダウンデータリスト!$AD$2:$AD$65)),_xlfn.XLOOKUP($C66,プルダウンデータリスト!$V$3:$V$9,プルダウンデータリスト!$W$3:$W$9,)))","v":"-"},null,{"$f":"IF(LEN(F66)+LEN(H66)>0,\"-\",IF(LEN(I66)+LEN(K66)<=0,\"-\",_xlfn.XLOOKUP(C66,プルダウンデータリスト!$AF$2:$AF$7,プルダウンデータリスト!$AG$2:$AG$7,\"-\")))","v":"-"},"-","-",{"$f":"IF(C66=\"\",\"-\",_xlfn.XLOOKUP(C66,プルダウンデータリスト!$V$2:$V$9,プルダウンデータリスト!$X$2:$X$9,\"-\"))","v":"-"},"-"]
[null,null,null,null,null,null,{"$f":"IF($F67=\"\",\"-\",IF($C67=\"製材（製材・集成材・ＣＬＴ等）\",IF($E67=\"\",\"-\",_xlfn.XLOOKUP('２－２'!$E67,プルダウンデータリスト!$AC$2:$AC$65,プルダウンデータリスト!$AD$2:$AD$65)),_xlfn.XLOOKUP($C67,プルダウンデータリスト!$V$3:$V$9,プルダウンデータリスト!$W$3:$W$9,)))","v":"-"},null,null,{"$f":"IF($I67=\"\",\"-\",IF($C67=\"製材（製材・集成材・ＣＬＴ等）\",IF($E67=\"\",\"-\",_xlfn.XLOOKUP('２－２'!$E67,プルダウンデータリスト!$AC$2:$AC$65,プルダウンデータリスト!$AD$2:$AD$65)),_xlfn.XLOOKUP($C67,プルダウンデータリスト!$V$3:$V$9,プルダウンデータリスト!$W$3:$W$9,)))","v":"-"},null,{"$f":"IF(LEN(F67)+LEN(H67)>0,\"-\",IF(LEN(I67)+LEN(K67)<=0,\"-\",_xlfn.XLOOKUP(C67,プルダウンデータリスト!$AF$2:$AF$7,プルダウンデータリスト!$AG$2:$AG$7,\"-\")))","v":"-"},"-","-",{"$f":"IF(C67=\"\",\"-\",_xlfn.XLOOKUP(C67,プルダウンデータリスト!$V$2:$V$9,プルダウンデータリスト!$X$2:$X$9,\"-\"))","v":"-"},"-"]
[null,null,null,null,null,null,{"$f":"IF($F68=\"\",\"-\",IF($C68=\"製材（製材・集成材・ＣＬＴ等）\",IF($E68=\"\",\"-\",_xlfn.XLOOKUP('２－２'!$E68,プルダウンデータリスト!$AC$2:$AC$65,プルダウンデータリスト!$AD$2:$AD$65)),_xlfn.XLOOKUP($C68,プルダウンデータリスト!$V$3:$V$9,プルダウンデータリスト!$W$3:$W$9,)))","v":"-"},null,null,{"$f":"IF($I68=\"\",\"-\",IF($C68=\"製材（製材・集成材・ＣＬＴ等）\",IF($E68=\"\",\"-\",_xlfn.XLOOKUP('２－２'!$E68,プルダウンデータリスト!$AC$2:$AC$65,プルダウンデータリスト!$AD$2:$AD$65)),_xlfn.XLOOKUP($C68,プルダウンデータリスト!$V$3:$V$9,プルダウンデータリスト!$W$3:$W$9,)))","v":"-"},null,{"$f":"IF(LEN(F68)+LEN(H68)>0,\"-\",IF(LEN(I68)+LEN(K68)<=0,\"-\",_xlfn.XLOOKUP(C68,プルダウンデータリスト!$AF$2:$AF$7,プルダウンデータリスト!$AG$2:$AG$7,\"-\")))","v":"-"},"-","-",{"$f":"IF(C68=\"\",\"-\",_xlfn.XLOOKUP(C68,プルダウンデータリスト!$V$2:$V$9,プルダウンデータリスト!$X$2:$X$9,\"-\"))","v":"-"},"-"]
[null,null,null,null,null,null,{"$f":"IF($F69=\"\",\"-\",IF($C69=\"製材（製材・集成材・ＣＬＴ等）\",IF($E69=\"\",\"-\",_xlfn.XLOOKUP('２－２'!$E69,プルダウンデータリスト!$AC$2:$AC$65,プルダウンデータリスト!$AD$2:$AD$65)),_xlfn.XLOOKUP($C69,プルダウンデータリスト!$V$3:$V$9,プルダウンデータリスト!$W$3:$W$9,)))","v":"-"},null,null,{"$f":"IF($I69=\"\",\"-\",IF($C69=\"製材（製材・集成材・ＣＬＴ等）\",IF($E69=\"\",\"-\",_xlfn.XLOOKUP('２－２'!$E69,プルダウンデータリスト!$AC$2:$AC$65,プルダウンデータリスト!$AD$2:$AD$65)),_xlfn.XLOOKUP($C69,プルダウンデータリスト!$V$3:$V$9,プルダウンデータリスト!$W$3:$W$9,)))","v":"-"},null,{"$f":"IF(LEN(F69)+LEN(H69)>0,\"-\",IF(LEN(I69)+LEN(K69)<=0,\"-\",_xlfn.XLOOKUP(C69,プルダウンデータリスト!$AF$2:$AF$7,プルダウンデータリスト!$AG$2:$AG$7,\"-\")))","v":"-"},"-","-",{"$f":"IF(C69=\"\",\"-\",_xlfn.XLOOKUP(C69,プルダウンデータリスト!$V$2:$V$9,プルダウンデータリスト!$X$2:$X$9,\"-\"))","v":"-"},"-"]
[null,null,null,null,null,null,{"$f":"IF($F70=\"\",\"-\",IF($C70=\"製材（製材・集成材・ＣＬＴ等）\",IF($E70=\"\",\"-\",_xlfn.XLOOKUP('２－２'!$E70,プルダウンデータリスト!$AC$2:$AC$65,プルダウンデータリスト!$AD$2:$AD$65)),_xlfn.XLOOKUP($C70,プルダウンデータリスト!$V$3:$V$9,プルダウンデータリスト!$W$3:$W$9,)))","v":"-"},null,null,{"$f":"IF($I70=\"\",\"-\",IF($C70=\"製材（製材・集成材・ＣＬＴ等）\",IF($E70=\"\",\"-\",_xlfn.XLOOKUP('２－２'!$E70,プルダウンデータリスト!$AC$2:$AC$65,プルダウンデータリスト!$AD$2:$AD$65)),_xlfn.XLOOKUP($C70,プルダウンデータリスト!$V$3:$V$9,プルダウンデータリスト!$W$3:$W$9,)))","v":"-"},null,{"$f":"IF(LEN(F70)+LEN(H70)>0,\"-\",IF(LEN(I70)+LEN(K70)<=0,\"-\",_xlfn.XLOOKUP(C70,プルダウンデータリスト!$AF$2:$AF$7,プルダウンデータリスト!$AG$2:$AG$7,\"-\")))","v":"-"},"-","-",{"$f":"IF(C70=\"\",\"-\",_xlfn.XLOOKUP(C70,プルダウンデータリスト!$V$2:$V$9,プルダウンデータリスト!$X$2:$X$9,\"-\"))","v":"-"},"-"]
[null,null,null,null,null,null,{"$f":"IF($F71=\"\",\"-\",IF($C71=\"製材（製材・集成材・ＣＬＴ等）\",IF($E71=\"\",\"-\",_xlfn.XLOOKUP('２－２'!$E71,プルダウンデータリスト!$AC$2:$AC$65,プルダウンデータリスト!$AD$2:$AD$65)),_xlfn.XLOOKUP($C71,プルダウンデータリスト!$V$3:$V$9,プルダウンデータリスト!$W$3:$W$9,)))","v":"-"},null,null,{"$f":"IF($I71=\"\",\"-\",IF($C71=\"製材（製材・集成材・ＣＬＴ等）\",IF($E71=\"\",\"-\",_xlfn.XLOOKUP('２－２'!$E71,プルダウンデータリスト!$AC$2:$AC$65,プルダウンデータリスト!$AD$2:$AD$65)),_xlfn.XLOOKUP($C71,プルダウンデータリスト!$V$3:$V$9,プルダウンデータリスト!$W$3:$W$9,)))","v":"-"},null,{"$f":"IF(LEN(F71)+LEN(H71)>0,\"-\",IF(LEN(I71)+LEN(K71)<=0,\"-\",_xlfn.XLOOKUP(C71,プルダウンデータリスト!$AF$2:$AF$7,プルダウンデータリスト!$AG$2:$AG$7,\"-\")))","v":"-"},"-","-",{"$f":"IF(C71=\"\",\"-\",_xlfn.XLOOKUP(C71,プルダウンデータリスト!$V$2:$V$9,プルダウンデータリスト!$X$2:$X$9,\"-\"))","v":"-"},"-"]
[null,null,null,null,null,null,{"$f":"IF($F72=\"\",\"-\",IF($C72=\"製材（製材・集成材・ＣＬＴ等）\",IF($E72=\"\",\"-\",_xlfn.XLOOKUP('２－２'!$E72,プルダウンデータリスト!$AC$2:$AC$65,プルダウンデータリスト!$AD$2:$AD$65)),_xlfn.XLOOKUP($C72,プルダウンデータリスト!$V$3:$V$9,プルダウンデータリスト!$W$3:$W$9,)))","v":"-"},null,null,{"$f":"IF($I72=\"\",\"-\",IF($C72=\"製材（製材・集成材・ＣＬＴ等）\",IF($E72=\"\",\"-\",_xlfn.XLOOKUP('２－２'!$E72,プルダウンデータリスト!$AC$2:$AC$65,プルダウンデータリスト!$AD$2:$AD$65)),_xlfn.XLOOKUP($C72,プルダウンデータリスト!$V$3:$V$9,プルダウンデータリスト!$W$3:$W$9,)))","v":"-"},null,{"$f":"IF(LEN(F72)+LEN(H72)>0,\"-\",IF(LEN(I72)+LEN(K72)<=0,\"-\",_xlfn.XLOOKUP(C72,プルダウンデータリスト!$AF$2:$AF$7,プルダウンデータリスト!$AG$2:$AG$7,\"-\")))","v":"-"},"-","-",{"$f":"IF(C72=\"\",\"-\",_xlfn.XLOOKUP(C72,プルダウンデータリスト!$V$2:$V$9,プルダウンデータリスト!$X$2:$X$9,\"-\"))","v":"-"},"-"]
[null,null,null,null,null,null,{"$f":"IF($F73=\"\",\"-\",IF($C73=\"製材（製材・集成材・ＣＬＴ等）\",IF($E73=\"\",\"-\",_xlfn.XLOOKUP('２－２'!$E73,プルダウンデータリスト!$AC$2:$AC$65,プルダウンデータリスト!$AD$2:$AD$65)),_xlfn.XLOOKUP($C73,プルダウンデータリスト!$V$3:$V$9,プルダウンデータリスト!$W$3:$W$9,)))","v":"-"},null,null,{"$f":"IF($I73=\"\",\"-\",IF($C73=\"製材（製材・集成材・ＣＬＴ等）\",IF($E73=\"\",\"-\",_xlfn.XLOOKUP('２－２'!$E73,プルダウンデータリスト!$AC$2:$AC$65,プルダウンデータリスト!$AD$2:$AD$65)),_xlfn.XLOOKUP($C73,プルダウンデータリスト!$V$3:$V$9,プルダウンデータリスト!$W$3:$W$9,)))","v":"-"},null,{"$f":"IF(LEN(F73)+LEN(H73)>0,\"-\",IF(LEN(I73)+LEN(K73)<=0,\"-\",_xlfn.XLOOKUP(C73,プルダウンデータリスト!$AF$2:$AF$7,プルダウンデータリスト!$AG$2:$AG$7,\"-\")))","v":"-"},"-","-",{"$f":"IF(C73=\"\",\"-\",_xlfn.XLOOKUP(C73,プルダウンデータリスト!$V$2:$V$9,プルダウンデータリスト!$X$2:$X$9,\"-\"))","v":"-"},"-"]
[null,null,null,null,null,null,{"$f":"IF($F74=\"\",\"-\",IF($C74=\"製材（製材・集成材・ＣＬＴ等）\",IF($E74=\"\",\"-\",_xlfn.XLOOKUP('２－２'!$E74,プルダウンデータリスト!$AC$2:$AC$65,プルダウンデータリスト!$AD$2:$AD$65)),_xlfn.XLOOKUP($C74,プルダウンデータリスト!$V$3:$V$9,プルダウンデータリスト!$W$3:$W$9,)))","v":"-"},null,null,{"$f":"IF($I74=\"\",\"-\",IF($C74=\"製材（製材・集成材・ＣＬＴ等）\",IF($E74=\"\",\"-\",_xlfn.XLOOKUP('２－２'!$E74,プルダウンデータリスト!$AC$2:$AC$65,プルダウンデータリスト!$AD$2:$AD$65)),_xlfn.XLOOKUP($C74,プルダウンデータリスト!$V$3:$V$9,プルダウンデータリスト!$W$3:$W$9,)))","v":"-"},null,{"$f":"IF(LEN(F74)+LEN(H74)>0,\"-\",IF(LEN(I74)+LEN(K74)<=0,\"-\",_xlfn.XLOOKUP(C74,プルダウンデータリスト!$AF$2:$AF$7,プルダウンデータリスト!$AG$2:$AG$7,\"-\")))","v":"-"},"-","-",{"$f":"IF(C74=\"\",\"-\",_xlfn.XLOOKUP(C74,プルダウンデータリスト!$V$2:$V$9,プルダウンデータリスト!$X$2:$X$9,\"-\"))","v":"-"},"-"]
[null,null,null,null,null,null,{"$f":"IF($F75=\"\",\"-\",IF($C75=\"製材（製材・集成材・ＣＬＴ等）\",IF($E75=\"\",\"-\",_xlfn.XLOOKUP('２－２'!$E75,プルダウンデータリスト!$AC$2:$AC$65,プルダウンデータリスト!$AD$2:$AD$65)),_xlfn.XLOOKUP($C75,プルダウンデータリスト!$V$3:$V$9,プルダウンデータリスト!$W$3:$W$9,)))","v":"-"},null,null,{"$f":"IF($I75=\"\",\"-\",IF($C75=\"製材（製材・集成材・ＣＬＴ等）\",IF($E75=\"\",\"-\",_xlfn.XLOOKUP('２－２'!$E75,プルダウンデータリスト!$AC$2:$AC$65,プルダウンデータリスト!$AD$2:$AD$65)),_xlfn.XLOOKUP($C75,プルダウンデータリスト!$V$3:$V$9,プルダウンデータリスト!$W$3:$W$9,)))","v":"-"},null,{"$f":"IF(LEN(F75)+LEN(H75)>0,\"-\",IF(LEN(I75)+LEN(K75)<=0,\"-\",_xlfn.XLOOKUP(C75,プルダウンデータリスト!$AF$2:$AF$7,プルダウンデータリスト!$AG$2:$AG$7,\"-\")))","v":"-"},"-","-",{"$f":"IF(C75=\"\",\"-\",_xlfn.XLOOKUP(C75,プルダウンデータリスト!$V$2:$V$9,プルダウンデータリスト!$X$2:$X$9,\"-\"))","v":"-"},"-"]
[null,null,null,null,null,null,{"$f":"IF($F76=\"\",\"-\",IF($C76=\"製材（製材・集成材・ＣＬＴ等）\",IF($E76=\"\",\"-\",_xlfn.XLOOKUP('２－２'!$E76,プルダウンデータリスト!$AC$2:$AC$65,プルダウンデータリスト!$AD$2:$AD$65)),_xlfn.XLOOKUP($C76,プルダウンデータリスト!$V$3:$V$9,プルダウンデータリスト!$W$3:$W$9,)))","v":"-"},null,null,{"$f":"IF($I76=\"\",\"-\",IF($C76=\"製材（製材・集成材・ＣＬＴ等）\",IF($E76=\"\",\"-\",_xlfn.XLOOKUP('２－２'!$E76,プルダウンデータリスト!$AC$2:$AC$65,プルダウンデータリスト!$AD$2:$AD$65)),_xlfn.XLOOKUP($C76,プルダウンデータリスト!$V$3:$V$9,プルダウンデータリスト!$W$3:$W$9,)))","v":"-"},null,{"$f":"IF(LEN(F76)+LEN(H76)>0,\"-\",IF(LEN(I76)+LEN(K76)<=0,\"-\",_xlfn.XLOOKUP(C76,プルダウンデータリスト!$AF$2:$AF$7,プルダウンデータリスト!$AG$2:$AG$7,\"-\")))","v":"-"},"-","-",{"$f":"IF(C76=\"\",\"-\",_xlfn.XLOOKUP(C76,プルダウンデータリスト!$V$2:$V$9,プルダウンデータリスト!$X$2:$X$9,\"-\"))","v":"-"},"-"]
[null,null,null,null,null,null,{"$f":"IF($F77=\"\",\"-\",IF($C77=\"製材（製材・集成材・ＣＬＴ等）\",IF($E77=\"\",\"-\",_xlfn.XLOOKUP('２－２'!$E77,プルダウンデータリスト!$AC$2:$AC$65,プルダウンデータリスト!$AD$2:$AD$65)),_xlfn.XLOOKUP($C77,プルダウンデータリスト!$V$3:$V$9,プルダウンデータリスト!$W$3:$W$9,)))","v":"-"},null,null,{"$f":"IF($I77=\"\",\"-\",IF($C77=\"製材（製材・集成材・ＣＬＴ等）\",IF($E77=\"\",\"-\",_xlfn.XLOOKUP('２－２'!$E77,プルダウンデータリスト!$AC$2:$AC$65,プルダウンデータリスト!$AD$2:$AD$65)),_xlfn.XLOOKUP($C77,プルダウンデータリスト!$V$3:$V$9,プルダウンデータリスト!$W$3:$W$9,)))","v":"-"},null,{"$f":"IF(LEN(F77)+LEN(H77)>0,\"-\",IF(LEN(I77)+LEN(K77)<=0,\"-\",_xlfn.XLOOKUP(C77,プルダウンデータリスト!$AF$2:$AF$7,プルダウンデータリスト!$AG$2:$AG$7,\"-\")))","v":"-"},"-","-",{"$f":"IF(C77=\"\",\"-\",_xlfn.XLOOKUP(C77,プルダウンデータリスト!$V$2:$V$9,プルダウンデータリスト!$X$2:$X$9,\"-\"))","v":"-"},"-"]
[null,null,null,null,null,null,{"$f":"IF($F78=\"\",\"-\",IF($C78=\"製材（製材・集成材・ＣＬＴ等）\",IF($E78=\"\",\"-\",_xlfn.XLOOKUP('２－２'!$E78,プルダウンデータリスト!$AC$2:$AC$65,プルダウンデータリスト!$AD$2:$AD$65)),_xlfn.XLOOKUP($C78,プルダウンデータリスト!$V$3:$V$9,プルダウンデータリスト!$W$3:$W$9,)))","v":"-"},null,null,{"$f":"IF($I78=\"\",\"-\",IF($C78=\"製材（製材・集成材・ＣＬＴ等）\",IF($E78=\"\",\"-\",_xlfn.XLOOKUP('２－２'!$E78,プルダウンデータリスト!$AC$2:$AC$65,プルダウンデータリスト!$AD$2:$AD$65)),_xlfn.XLOOKUP($C78,プルダウンデータリスト!$V$3:$V$9,プルダウンデータリスト!$W$3:$W$9,)))","v":"-"},null,{"$f":"IF(LEN(F78)+LEN(H78)>0,\"-\",IF(LEN(I78)+LEN(K78)<=0,\"-\",_xlfn.XLOOKUP(C78,プルダウンデータリスト!$AF$2:$AF$7,プルダウンデータリスト!$AG$2:$AG$7,\"-\")))","v":"-"},"-","-",{"$f":"IF(C78=\"\",\"-\",_xlfn.XLOOKUP(C78,プルダウンデータリスト!$V$2:$V$9,プルダウンデータリスト!$X$2:$X$9,\"-\"))","v":"-"},"-"]
[null,null,null,null,null,null,{"$f":"IF($F79=\"\",\"-\",IF($C79=\"製材（製材・集成材・ＣＬＴ等）\",IF($E79=\"\",\"-\",_xlfn.XLOOKUP('２－２'!$E79,プルダウンデータリスト!$AC$2:$AC$65,プルダウンデータリスト!$AD$2:$AD$65)),_xlfn.XLOOKUP($C79,プルダウンデータリスト!$V$3:$V$9,プルダウンデータリスト!$W$3:$W$9,)))","v":"-"},null,null,{"$f":"IF($I79=\"\",\"-\",IF($C79=\"製材（製材・集成材・ＣＬＴ等）\",IF($E79=\"\",\"-\",_xlfn.XLOOKUP('２－２'!$E79,プルダウンデータリスト!$AC$2:$AC$65,プルダウンデータリスト!$AD$2:$AD$65)),_xlfn.XLOOKUP($C79,プルダウンデータリスト!$V$3:$V$9,プルダウンデータリスト!$W$3:$W$9,)))","v":"-"},null,{"$f":"IF(LEN(F79)+LEN(H79)>0,\"-\",IF(LEN(I79)+LEN(K79)<=0,\"-\",_xlfn.XLOOKUP(C79,プルダウンデータリスト!$AF$2:$AF$7,プルダウンデータリスト!$AG$2:$AG$7,\"-\")))","v":"-"},"-","-",{"$f":"IF(C79=\"\",\"-\",_xlfn.XLOOKUP(C79,プルダウンデータリスト!$V$2:$V$9,プルダウンデータリスト!$X$2:$X$9,\"-\"))","v":"-"},"-"]
[null,null,null,null,null,null,{"$f":"IF($F80=\"\",\"-\",IF($C80=\"製材（製材・集成材・ＣＬＴ等）\",IF($E80=\"\",\"-\",_xlfn.XLOOKUP('２－２'!$E80,プルダウンデータリスト!$AC$2:$AC$65,プルダウンデータリスト!$AD$2:$AD$65)),_xlfn.XLOOKUP($C80,プルダウンデータリスト!$V$3:$V$9,プルダウンデータリスト!$W$3:$W$9,)))","v":"-"},null,null,{"$f":"IF($I80=\"\",\"-\",IF($C80=\"製材（製材・集成材・ＣＬＴ等）\",IF($E80=\"\",\"-\",_xlfn.XLOOKUP('２－２'!$E80,プルダウンデータリスト!$AC$2:$AC$65,プルダウンデータリスト!$AD$2:$AD$65)),_xlfn.XLOOKUP($C80,プルダウンデータリスト!$V$3:$V$9,プルダウンデータリスト!$W$3:$W$9,)))","v":"-"},null,{"$f":"IF(LEN(F80)+LEN(H80)>0,\"-\",IF(LEN(I80)+LEN(K80)<=0,\"-\",_xlfn.XLOOKUP(C80,プルダウンデータリスト!$AF$2:$AF$7,プルダウンデータリスト!$AG$2:$AG$7,\"-\")))","v":"-"},"-","-",{"$f":"IF(C80=\"\",\"-\",_xlfn.XLOOKUP(C80,プルダウンデータリスト!$V$2:$V$9,プルダウンデータリスト!$X$2:$X$9,\"-\"))","v":"-"},"-"]
[null,null,null,null,null,null,{"$f":"IF($F81=\"\",\"-\",IF($C81=\"製材（製材・集成材・ＣＬＴ等）\",IF($E81=\"\",\"-\",_xlfn.XLOOKUP('２－２'!$E81,プルダウンデータリスト!$AC$2:$AC$65,プルダウンデータリスト!$AD$2:$AD$65)),_xlfn.XLOOKUP($C81,プルダウンデータリスト!$V$3:$V$9,プルダウンデータリスト!$W$3:$W$9,)))","v":"-"},null,null,{"$f":"IF($I81=\"\",\"-\",IF($C81=\"製材（製材・集成材・ＣＬＴ等）\",IF($E81=\"\",\"-\",_xlfn.XLOOKUP('２－２'!$E81,プルダウンデータリスト!$AC$2:$AC$65,プルダウンデータリスト!$AD$2:$AD$65)),_xlfn.XLOOKUP($C81,プルダウンデータリスト!$V$3:$V$9,プルダウンデータリスト!$W$3:$W$9,)))","v":"-"},null,{"$f":"IF(LEN(F81)+LEN(H81)>0,\"-\",IF(LEN(I81)+LEN(K81)<=0,\"-\",_xlfn.XLOOKUP(C81,プルダウンデータリスト!$AF$2:$AF$7,プルダウンデータリスト!$AG$2:$AG$7,\"-\")))","v":"-"},"-","-",{"$f":"IF(C81=\"\",\"-\",_xlfn.XLOOKUP(C81,プルダウンデータリスト!$V$2:$V$9,プルダウンデータリスト!$X$2:$X$9,\"-\"))","v":"-"},"-"]
[null,null,null,null,null,null,{"$f":"IF($F82=\"\",\"-\",IF($C82=\"製材（製材・集成材・ＣＬＴ等）\",IF($E82=\"\",\"-\",_xlfn.XLOOKUP('２－２'!$E82,プルダウンデータリスト!$AC$2:$AC$65,プルダウンデータリスト!$AD$2:$AD$65)),_xlfn.XLOOKUP($C82,プルダウンデータリスト!$V$3:$V$9,プルダウンデータリスト!$W$3:$W$9,)))","v":"-"},null,null,{"$f":"IF($I82=\"\",\"-\",IF($C82=\"製材（製材・集成材・ＣＬＴ等）\",IF($E82=\"\",\"-\",_xlfn.XLOOKUP('２－２'!$E82,プルダウンデータリスト!$AC$2:$AC$65,プルダウンデータリスト!$AD$2:$AD$65)),_xlfn.XLOOKUP($C82,プルダウンデータリスト!$V$3:$V$9,プルダウンデータリスト!$W$3:$W$9,)))","v":"-"},null,{"$f":"IF(LEN(F82)+LEN(H82)>0,\"-\",IF(LEN(I82)+LEN(K82)<=0,\"-\",_xlfn.XLOOKUP(C82,プルダウンデータリスト!$AF$2:$AF$7,プルダウンデータリスト!$AG$2:$AG$7,\"-\")))","v":"-"},"-","-",{"$f":"IF(C82=\"\",\"-\",_xlfn.XLOOKUP(C82,プルダウンデータリスト!$V$2:$V$9,プルダウンデータリスト!$X$2:$X$9,\"-\"))","v":"-"},"-"]
[null,null,null,null,null,null,{"$f":"IF($F83=\"\",\"-\",IF($C83=\"製材（製材・集成材・ＣＬＴ等）\",IF($E83=\"\",\"-\",_xlfn.XLOOKUP('２－２'!$E83,プルダウンデータリスト!$AC$2:$AC$65,プルダウンデータリスト!$AD$2:$AD$65)),_xlfn.XLOOKUP($C83,プルダウンデータリスト!$V$3:$V$9,プルダウンデータリスト!$W$3:$W$9,)))","v":"-"},null,null,{"$f":"IF($I83=\"\",\"-\",IF($C83=\"製材（製材・集成材・ＣＬＴ等）\",IF($E83=\"\",\"-\",_xlfn.XLOOKUP('２－２'!$E83,プルダウンデータリスト!$AC$2:$AC$65,プルダウンデータリスト!$AD$2:$AD$65)),_xlfn.XLOOKUP($C83,プルダウンデータリスト!$V$3:$V$9,プルダウンデータリスト!$W$3:$W$9,)))","v":"-"},null,{"$f":"IF(LEN(F83)+LEN(H83)>0,\"-\",IF(LEN(I83)+LEN(K83)<=0,\"-\",_xlfn.XLOOKUP(C83,プルダウンデータリスト!$AF$2:$AF$7,プルダウンデータリスト!$AG$2:$AG$7,\"-\")))","v":"-"},"-","-",{"$f":"IF(C83=\"\",\"-\",_xlfn.XLOOKUP(C83,プルダウンデータリスト!$V$2:$V$9,プルダウンデータリスト!$X$2:$X$9,\"-\"))","v":"-"},"-"]
[null,null,null,null,null,null,{"$f":"IF($F84=\"\",\"-\",IF($C84=\"製材（製材・集成材・ＣＬＴ等）\",IF($E84=\"\",\"-\",_xlfn.XLOOKUP('２－２'!$E84,プルダウンデータリスト!$AC$2:$AC$65,プルダウンデータリスト!$AD$2:$AD$65)),_xlfn.XLOOKUP($C84,プルダウンデータリスト!$V$3:$V$9,プルダウンデータリスト!$W$3:$W$9,)))","v":"-"},null,null,{"$f":"IF($I84=\"\",\"-\",IF($C84=\"製材（製材・集成材・ＣＬＴ等）\",IF($E84=\"\",\"-\",_xlfn.XLOOKUP('２－２'!$E84,プルダウンデータリスト!$AC$2:$AC$65,プルダウンデータリスト!$AD$2:$AD$65)),_xlfn.XLOOKUP($C84,プルダウンデータリスト!$V$3:$V$9,プルダウンデータリスト!$W$3:$W$9,)))","v":"-"},null,{"$f":"IF(LEN(F84)+LEN(H84)>0,\"-\",IF(LEN(I84)+LEN(K84)<=0,\"-\",_xlfn.XLOOKUP(C84,プルダウンデータリスト!$AF$2:$AF$7,プルダウンデータリスト!$AG$2:$AG$7,\"-\")))","v":"-"},"-","-",{"$f":"IF(C84=\"\",\"-\",_xlfn.XLOOKUP(C84,プルダウンデータリスト!$V$2:$V$9,プルダウンデータリスト!$X$2:$X$9,\"-\"))","v":"-"},"-"]
[null,null,null,null,null,null,{"$f":"IF($F85=\"\",\"-\",IF($C85=\"製材（製材・集成材・ＣＬＴ等）\",IF($E85=\"\",\"-\",_xlfn.XLOOKUP('２－２'!$E85,プルダウンデータリスト!$AC$2:$AC$65,プルダウンデータリスト!$AD$2:$AD$65)),_xlfn.XLOOKUP($C85,プルダウンデータリスト!$V$3:$V$9,プルダウンデータリスト!$W$3:$W$9,)))","v":"-"},null,null,{"$f":"IF($I85=\"\",\"-\",IF($C85=\"製材（製材・集成材・ＣＬＴ等）\",IF($E85=\"\",\"-\",_xlfn.XLOOKUP('２－２'!$E85,プルダウンデータリスト!$AC$2:$AC$65,プルダウンデータリスト!$AD$2:$AD$65)),_xlfn.XLOOKUP($C85,プルダウンデータリスト!$V$3:$V$9,プルダウンデータリスト!$W$3:$W$9,)))","v":"-"},null,{"$f":"IF(LEN(F85)+LEN(H85)>0,\"-\",IF(LEN(I85)+LEN(K85)<=0,\"-\",_xlfn.XLOOKUP(C85,プルダウンデータリスト!$AF$2:$AF$7,プルダウンデータリスト!$AG$2:$AG$7,\"-\")))","v":"-"},"-","-",{"$f":"IF(C85=\"\",\"-\",_xlfn.XLOOKUP(C85,プルダウンデータリスト!$V$2:$V$9,プルダウンデータリスト!$X$2:$X$9,\"-\"))","v":"-"},"-"]
[null,null,null,null,null,null,{"$f":"IF($F86=\"\",\"-\",IF($C86=\"製材（製材・集成材・ＣＬＴ等）\",IF($E86=\"\",\"-\",_xlfn.XLOOKUP('２－２'!$E86,プルダウンデータリスト!$AC$2:$AC$65,プルダウンデータリスト!$AD$2:$AD$65)),_xlfn.XLOOKUP($C86,プルダウンデータリスト!$V$3:$V$9,プルダウンデータリスト!$W$3:$W$9,)))","v":"-"},null,null,{"$f":"IF($I86=\"\",\"-\",IF($C86=\"製材（製材・集成材・ＣＬＴ等）\",IF($E86=\"\",\"-\",_xlfn.XLOOKUP('２－２'!$E86,プルダウンデータリスト!$AC$2:$AC$65,プルダウンデータリスト!$AD$2:$AD$65)),_xlfn.XLOOKUP($C86,プルダウンデータリスト!$V$3:$V$9,プルダウンデータリスト!$W$3:$W$9,)))","v":"-"},null,{"$f":"IF(LEN(F86)+LEN(H86)>0,\"-\",IF(LEN(I86)+LEN(K86)<=0,\"-\",_xlfn.XLOOKUP(C86,プルダウンデータリスト!$AF$2:$AF$7,プルダウンデータリスト!$AG$2:$AG$7,\"-\")))","v":"-"},"-","-",{"$f":"IF(C86=\"\",\"-\",_xlfn.XLOOKUP(C86,プルダウンデータリスト!$V$2:$V$9,プルダウンデータリスト!$X$2:$X$9,\"-\"))","v":"-"},"-"]
[null,null,null,null,null,null,{"$f":"IF($F87=\"\",\"-\",IF($C87=\"製材（製材・集成材・ＣＬＴ等）\",IF($E87=\"\",\"-\",_xlfn.XLOOKUP('２－２'!$E87,プルダウンデータリスト!$AC$2:$AC$65,プルダウンデータリスト!$AD$2:$AD$65)),_xlfn.XLOOKUP($C87,プルダウンデータリスト!$V$3:$V$9,プルダウンデータリスト!$W$3:$W$9,)))","v":"-"},null,null,{"$f":"IF($I87=\"\",\"-\",IF($C87=\"製材（製材・集成材・ＣＬＴ等）\",IF($E87=\"\",\"-\",_xlfn.XLOOKUP('２－２'!$E87,プルダウンデータリスト!$AC$2:$AC$65,プルダウンデータリスト!$AD$2:$AD$65)),_xlfn.XLOOKUP($C87,プルダウンデータリスト!$V$3:$V$9,プルダウンデータリスト!$W$3:$W$9,)))","v":"-"},null,{"$f":"IF(LEN(F87)+LEN(H87)>0,\"-\",IF(LEN(I87)+LEN(K87)<=0,\"-\",_xlfn.XLOOKUP(C87,プルダウンデータリスト!$AF$2:$AF$7,プルダウンデータリスト!$AG$2:$AG$7,\"-\")))","v":"-"},"-","-",{"$f":"IF(C87=\"\",\"-\",_xlfn.XLOOKUP(C87,プルダウンデータリスト!$V$2:$V$9,プルダウンデータリスト!$X$2:$X$9,\"-\"))","v":"-"},"-"]
[null,null,null,null,null,null,{"$f":"IF($F88=\"\",\"-\",IF($C88=\"製材（製材・集成材・ＣＬＴ等）\",IF($E88=\"\",\"-\",_xlfn.XLOOKUP('２－２'!$E88,プルダウンデータリスト!$AC$2:$AC$65,プルダウンデータリスト!$AD$2:$AD$65)),_xlfn.XLOOKUP($C88,プルダウンデータリスト!$V$3:$V$9,プルダウンデータリスト!$W$3:$W$9,)))","v":"-"},null,null,{"$f":"IF($I88=\"\",\"-\",IF($C88=\"製材（製材・集成材・ＣＬＴ等）\",IF($E88=\"\",\"-\",_xlfn.XLOOKUP('２－２'!$E88,プルダウンデータリスト!$AC$2:$AC$65,プルダウンデータリスト!$AD$2:$AD$65)),_xlfn.XLOOKUP($C88,プルダウンデータリスト!$V$3:$V$9,プルダウンデータリスト!$W$3:$W$9,)))","v":"-"},null,{"$f":"IF(LEN(F88)+LEN(H88)>0,\"-\",IF(LEN(I88)+LEN(K88)<=0,\"-\",_xlfn.XLOOKUP(C88,プルダウンデータリスト!$AF$2:$AF$7,プルダウンデータリスト!$AG$2:$AG$7,\"-\")))","v":"-"},{"$f":"IF(SUM(F88,H88,I88,K88)<=0,\"-\",IF((LEN(H88)+LEN(K88))>0,\"-\",IF(LEN(F88)>0,F88,IF(LEN(I88)>0,I88*L88,\"\"))))","v":"-"},{"$f":"IF(SUM(F88,H88,I88,K88)<=0,\"-\",IF((LEN(F88)+LEN(I88))>0,\"-\",IF(LEN(H88)>0,H88,IF(LEN(K88)>0,K88*L88,\"\"))))","v":"-"},{"$f":"IF(C88=\"\",\"-\",_xlfn.XLOOKUP(C88,プルダウンデータリスト!$V$2:$V$9,プルダウンデータリスト!$X$2:$X$9,\"-\"))","v":"-"},"-"]
[null,null,null,null,null,null,{"$f":"IF($F89=\"\",\"-\",IF($C89=\"製材（製材・集成材・ＣＬＴ等）\",IF($E89=\"\",\"-\",_xlfn.XLOOKUP('２－２'!$E89,プルダウンデータリスト!$AC$2:$AC$65,プルダウンデータリスト!$AD$2:$AD$65)),_xlfn.XLOOKUP($C89,プルダウンデータリスト!$V$3:$V$9,プルダウンデータリスト!$W$3:$W$9,)))","v":"-"},null,null,{"$f":"IF($I89=\"\",\"-\",IF($C89=\"製材（製材・集成材・ＣＬＴ等）\",IF($E89=\"\",\"-\",_xlfn.XLOOKUP('２－２'!$E89,プルダウンデータリスト!$AC$2:$AC$65,プルダウンデータリスト!$AD$2:$AD$65)),_xlfn.XLOOKUP($C89,プルダウンデータリスト!$V$3:$V$9,プルダウンデータリスト!$W$3:$W$9,)))","v":"-"},null,{"$f":"IF(LEN(F89)+LEN(H89)>0,\"-\",IF(LEN(I89)+LEN(K89)<=0,\"-\",_xlfn.XLOOKUP(C89,プルダウンデータリスト!$AF$2:$AF$7,プルダウンデータリスト!$AG$2:$AG$7,\"-\")))","v":"-"},"-","-",{"$f":"IF(C89=\"\",\"-\",_xlfn.XLOOKUP(C89,プルダウンデータリスト!$V$2:$V$9,プルダウンデータリスト!$X$2:$X$9,\"-\"))","v":"-"},"-"]
[null,null,null,null,null,null,{"$f":"IF($F90=\"\",\"-\",IF($C90=\"製材（製材・集成材・ＣＬＴ等）\",IF($E90=\"\",\"-\",_xlfn.XLOOKUP('２－２'!$E90,プルダウンデータリスト!$AC$2:$AC$65,プルダウンデータリスト!$AD$2:$AD$65)),_xlfn.XLOOKUP($C90,プルダウンデータリスト!$V$3:$V$9,プルダウンデータリスト!$W$3:$W$9,)))","v":"-"},null,null,{"$f":"IF($I90=\"\",\"-\",IF($C90=\"製材（製材・集成材・ＣＬＴ等）\",IF($E90=\"\",\"-\",_xlfn.XLOOKUP('２－２'!$E90,プルダウンデータリスト!$AC$2:$AC$65,プルダウンデータリスト!$AD$2:$AD$65)),_xlfn.XLOOKUP($C90,プルダウンデータリスト!$V$3:$V$9,プルダウンデータリスト!$W$3:$W$9,)))","v":"-"},null,{"$f":"IF(LEN(F90)+LEN(H90)>0,\"-\",IF(LEN(I90)+LEN(K90)<=0,\"-\",_xlfn.XLOOKUP(C90,プルダウンデータリスト!$AF$2:$AF$7,プルダウンデータリスト!$AG$2:$AG$7,\"-\")))","v":"-"},"-","-",{"$f":"IF(C90=\"\",\"-\",_xlfn.XLOOKUP(C90,プルダウンデータリスト!$V$2:$V$9,プルダウンデータリスト!$X$2:$X$9,\"-\"))","v":"-"},"-"]
[null,null,null,null,null,null,{"$f":"IF($F91=\"\",\"-\",IF($C91=\"製材（製材・集成材・ＣＬＴ等）\",IF($E91=\"\",\"-\",_xlfn.XLOOKUP('２－２'!$E91,プルダウンデータリスト!$AC$2:$AC$65,プルダウンデータリスト!$AD$2:$AD$65)),_xlfn.XLOOKUP($C91,プルダウンデータリスト!$V$3:$V$9,プルダウンデータリスト!$W$3:$W$9,)))","v":"-"},null,null,{"$f":"IF($I91=\"\",\"-\",IF($C91=\"製材（製材・集成材・ＣＬＴ等）\",IF($E91=\"\",\"-\",_xlfn.XLOOKUP('２－２'!$E91,プルダウンデータリスト!$AC$2:$AC$65,プルダウンデータリスト!$AD$2:$AD$65)),_xlfn.XLOOKUP($C91,プルダウンデータリスト!$V$3:$V$9,プルダウンデータリスト!$W$3:$W$9,)))","v":"-"},null,{"$f":"IF(LEN(F91)+LEN(H91)>0,\"-\",IF(LEN(I91)+LEN(K91)<=0,\"-\",_xlfn.XLOOKUP(C91,プルダウンデータリスト!$AF$2:$AF$7,プルダウンデータリスト!$AG$2:$AG$7,\"-\")))","v":"-"},"-","-",{"$f":"IF(C91=\"\",\"-\",_xlfn.XLOOKUP(C91,プルダウンデータリスト!$V$2:$V$9,プルダウンデータリスト!$X$2:$X$9,\"-\"))","v":"-"},"-"]
[null,null,null,null,null,null,{"$f":"IF($F92=\"\",\"-\",IF($C92=\"製材（製材・集成材・ＣＬＴ等）\",IF($E92=\"\",\"-\",_xlfn.XLOOKUP('２－２'!$E92,プルダウンデータリスト!$AC$2:$AC$65,プルダウンデータリスト!$AD$2:$AD$65)),_xlfn.XLOOKUP($C92,プルダウンデータリスト!$V$3:$V$9,プルダウンデータリスト!$W$3:$W$9,)))","v":"-"},null,null,{"$f":"IF($I92=\"\",\"-\",IF($C92=\"製材（製材・集成材・ＣＬＴ等）\",IF($E92=\"\",\"-\",_xlfn.XLOOKUP('２－２'!$E92,プルダウンデータリスト!$AC$2:$AC$65,プルダウンデータリスト!$AD$2:$AD$65)),_xlfn.XLOOKUP($C92,プルダウンデータリスト!$V$3:$V$9,プルダウンデータリスト!$W$3:$W$9,)))","v":"-"},null,{"$f":"IF(LEN(F92)+LEN(H92)>0,\"-\",IF(LEN(I92)+LEN(K92)<=0,\"-\",_xlfn.XLOOKUP(C92,プルダウンデータリスト!$AF$2:$AF$7,プルダウンデータリスト!$AG$2:$AG$7,\"-\")))","v":"-"},"-","-",{"$f":"IF(C92=\"\",\"-\",_xlfn.XLOOKUP(C92,プルダウンデータリスト!$V$2:$V$9,プルダウンデータリスト!$X$2:$X$9,\"-\"))","v":"-"},"-"]
[null,null,null,null,null,null,{"$f":"IF($F93=\"\",\"-\",IF($C93=\"製材（製材・集成材・ＣＬＴ等）\",IF($E93=\"\",\"-\",_xlfn.XLOOKUP('２－２'!$E93,プルダウンデータリスト!$AC$2:$AC$65,プルダウンデータリスト!$AD$2:$AD$65)),_xlfn.XLOOKUP($C93,プルダウンデータリスト!$V$3:$V$9,プルダウンデータリスト!$W$3:$W$9,)))","v":"-"},null,null,{"$f":"IF($I93=\"\",\"-\",IF($C93=\"製材（製材・集成材・ＣＬＴ等）\",IF($E93=\"\",\"-\",_xlfn.XLOOKUP('２－２'!$E93,プルダウンデータリスト!$AC$2:$AC$65,プルダウンデータリスト!$AD$2:$AD$65)),_xlfn.XLOOKUP($C93,プルダウンデータリスト!$V$3:$V$9,プルダウンデータリスト!$W$3:$W$9,)))","v":"-"},null,{"$f":"IF(LEN(F93)+LEN(H93)>0,\"-\",IF(LEN(I93)+LEN(K93)<=0,\"-\",_xlfn.XLOOKUP(C93,プルダウンデータリスト!$AF$2:$AF$7,プルダウンデータリスト!$AG$2:$AG$7,\"-\")))","v":"-"},"-","-",{"$f":"IF(C93=\"\",\"-\",_xlfn.XLOOKUP(C93,プルダウンデータリスト!$V$2:$V$9,プルダウンデータリスト!$X$2:$X$9,\"-\"))","v":"-"},"-"]
[null,null,null,null,null,null,{"$f":"IF($F94=\"\",\"-\",IF($C94=\"製材（製材・集成材・ＣＬＴ等）\",IF($E94=\"\",\"-\",_xlfn.XLOOKUP('２－２'!$E94,プルダウンデータリスト!$AC$2:$AC$65,プルダウンデータリスト!$AD$2:$AD$65)),_xlfn.XLOOKUP($C94,プルダウンデータリスト!$V$3:$V$9,プルダウンデータリスト!$W$3:$W$9,)))","v":"-"},null,null,{"$f":"IF($I94=\"\",\"-\",IF($C94=\"製材（製材・集成材・ＣＬＴ等）\",IF($E94=\"\",\"-\",_xlfn.XLOOKUP('２－２'!$E94,プルダウンデータリスト!$AC$2:$AC$65,プルダウンデータリスト!$AD$2:$AD$65)),_xlfn.XLOOKUP($C94,プルダウンデータリスト!$V$3:$V$9,プルダウンデータリスト!$W$3:$W$9,)))","v":"-"},null,{"$f":"IF(LEN(F94)+LEN(H94)>0,\"-\",IF(LEN(I94)+LEN(K94)<=0,\"-\",_xlfn.XLOOKUP(C94,プルダウンデータリスト!$AF$2:$AF$7,プルダウンデータリスト!$AG$2:$AG$7,\"-\")))","v":"-"},"-","-",{"$f":"IF(C94=\"\",\"-\",_xlfn.XLOOKUP(C94,プルダウンデータリスト!$V$2:$V$9,プルダウンデータリスト!$X$2:$X$9,\"-\"))","v":"-"},"-"]
[null,null,null,null,null,null,{"$f":"IF($F95=\"\",\"-\",IF($C95=\"製材（製材・集成材・ＣＬＴ等）\",IF($E95=\"\",\"-\",_xlfn.XLOOKUP('２－２'!$E95,プルダウンデータリスト!$AC$2:$AC$65,プルダウンデータリスト!$AD$2:$AD$65)),_xlfn.XLOOKUP($C95,プルダウンデータリスト!$V$3:$V$9,プルダウンデータリスト!$W$3:$W$9,)))","v":"-"},null,null,{"$f":"IF($I95=\"\",\"-\",IF($C95=\"製材（製材・集成材・ＣＬＴ等）\",IF($E95=\"\",\"-\",_xlfn.XLOOKUP('２－２'!$E95,プルダウンデータリスト!$AC$2:$AC$65,プルダウンデータリスト!$AD$2:$AD$65)),_xlfn.XLOOKUP($C95,プルダウンデータリスト!$V$3:$V$9,プルダウンデータリスト!$W$3:$W$9,)))","v":"-"},null,{"$f":"IF(LEN(F95)+LEN(H95)>0,\"-\",IF(LEN(I95)+LEN(K95)<=0,\"-\",_xlfn.XLOOKUP(C95,プルダウンデータリスト!$AF$2:$AF$7,プルダウンデータリスト!$AG$2:$AG$7,\"-\")))","v":"-"},"-","-",{"$f":"IF(C95=\"\",\"-\",_xlfn.XLOOKUP(C95,プルダウンデータリスト!$V$2:$V$9,プルダウンデータリスト!$X$2:$X$9,\"-\"))","v":"-"},"-"]
[null,null,null,null,null,null,{"$f":"IF($F96=\"\",\"-\",IF($C96=\"製材（製材・集成材・ＣＬＴ等）\",IF($E96=\"\",\"-\",_xlfn.XLOOKUP('２－２'!$E96,プルダウンデータリスト!$AC$2:$AC$65,プルダウンデータリスト!$AD$2:$AD$65)),_xlfn.XLOOKUP($C96,プルダウンデータリスト!$V$3:$V$9,プルダウンデータリスト!$W$3:$W$9,)))","v":"-"},null,null,{"$f":"IF($I96=\"\",\"-\",IF($C96=\"製材（製材・集成材・ＣＬＴ等）\",IF($E96=\"\",\"-\",_xlfn.XLOOKUP('２－２'!$E96,プルダウンデータリスト!$AC$2:$AC$65,プルダウンデータリスト!$AD$2:$AD$65)),_xlfn.XLOOKUP($C96,プルダウンデータリスト!$V$3:$V$9,プルダウンデータリスト!$W$3:$W$9,)))","v":"-"},null,{"$f":"IF(LEN(F96)+LEN(H96)>0,\"-\",IF(LEN(I96)+LEN(K96)<=0,\"-\",_xlfn.XLOOKUP(C96,プルダウンデータリスト!$AF$2:$AF$7,プルダウンデータリスト!$AG$2:$AG$7,\"-\")))","v":"-"},"-","-",{"$f":"IF(C96=\"\",\"-\",_xlfn.XLOOKUP(C96,プルダウンデータリスト!$V$2:$V$9,プルダウンデータリスト!$X$2:$X$9,\"-\"))","v":"-"},"-"]
[null,null,null,null,null,null,{"$f":"IF($F97=\"\",\"-\",IF($C97=\"製材（製材・集成材・ＣＬＴ等）\",IF($E97=\"\",\"-\",_xlfn.XLOOKUP('２－２'!$E97,プルダウンデータリスト!$AC$2:$AC$65,プルダウンデータリスト!$AD$2:$AD$65)),_xlfn.XLOOKUP($C97,プルダウンデータリスト!$V$3:$V$9,プルダウンデータリスト!$W$3:$W$9,)))","v":"-"},null,null,{"$f":"IF($I97=\"\",\"-\",IF($C97=\"製材（製材・集成材・ＣＬＴ等）\",IF($E97=\"\",\"-\",_xlfn.XLOOKUP('２－２'!$E97,プルダウンデータリスト!$AC$2:$AC$65,プルダウンデータリスト!$AD$2:$AD$65)),_xlfn.XLOOKUP($C97,プルダウンデータリスト!$V$3:$V$9,プルダウンデータリスト!$W$3:$W$9,)))","v":"-"},null,{"$f":"IF(LEN(F97)+LEN(H97)>0,\"-\",IF(LEN(I97)+LEN(K97)<=0,\"-\",_xlfn.XLOOKUP(C97,プルダウンデータリスト!$AF$2:$AF$7,プルダウンデータリスト!$AG$2:$AG$7,\"-\")))","v":"-"},"-","-",{"$f":"IF(C97=\"\",\"-\",_xlfn.XLOOKUP(C97,プルダウンデータリスト!$V$2:$V$9,プルダウンデータリスト!$X$2:$X$9,\"-\"))","v":"-"},"-"]
[null,null,null,null,null,null,{"$f":"IF($F98=\"\",\"-\",IF($C98=\"製材（製材・集成材・ＣＬＴ等）\",IF($E98=\"\",\"-\",_xlfn.XLOOKUP('２－２'!$E98,プルダウンデータリスト!$AC$2:$AC$65,プルダウンデータリスト!$AD$2:$AD$65)),_xlfn.XLOOKUP($C98,プルダウンデータリスト!$V$3:$V$9,プルダウンデータリスト!$W$3:$W$9,)))","v":"-"},null,null,{"$f":"IF($I98=\"\",\"-\",IF($C98=\"製材（製材・集成材・ＣＬＴ等）\",IF($E98=\"\",\"-\",_xlfn.XLOOKUP('２－２'!$E98,プルダウンデータリスト!$AC$2:$AC$65,プルダウンデータリスト!$AD$2:$AD$65)),_xlfn.XLOOKUP($C98,プルダウンデータリスト!$V$3:$V$9,プルダウンデータリスト!$W$3:$W$9,)))","v":"-"},null,{"$f":"IF(LEN(F98)+LEN(H98)>0,\"-\",IF(LEN(I98)+LEN(K98)<=0,\"-\",_xlfn.XLOOKUP(C98,プルダウンデータリスト!$AF$2:$AF$7,プルダウンデータリスト!$AG$2:$AG$7,\"-\")))","v":"-"},"-","-",{"$f":"IF(C98=\"\",\"-\",_xlfn.XLOOKUP(C98,プルダウンデータリスト!$V$2:$V$9,プルダウンデータリスト!$X$2:$X$9,\"-\"))","v":"-"},"-"]
[null,null,null,null,null,null,{"$f":"IF($F99=\"\",\"-\",IF($C99=\"製材（製材・集成材・ＣＬＴ等）\",IF($E99=\"\",\"-\",_xlfn.XLOOKUP('２－２'!$E99,プルダウンデータリスト!$AC$2:$AC$65,プルダウンデータリスト!$AD$2:$AD$65)),_xlfn.XLOOKUP($C99,プルダウンデータリスト!$V$3:$V$9,プルダウンデータリスト!$W$3:$W$9,)))","v":"-"},null,null,{"$f":"IF($I99=\"\",\"-\",IF($C99=\"製材（製材・集成材・ＣＬＴ等）\",IF($E99=\"\",\"-\",_xlfn.XLOOKUP('２－２'!$E99,プルダウンデータリスト!$AC$2:$AC$65,プルダウンデータリスト!$AD$2:$AD$65)),_xlfn.XLOOKUP($C99,プルダウンデータリスト!$V$3:$V$9,プルダウンデータリスト!$W$3:$W$9,)))","v":"-"},null,{"$f":"IF(LEN(F99)+LEN(H99)>0,\"-\",IF(LEN(I99)+LEN(K99)<=0,\"-\",_xlfn.XLOOKUP(C99,プルダウンデータリスト!$AF$2:$AF$7,プルダウンデータリスト!$AG$2:$AG$7,\"-\")))","v":"-"},"-","-",{"$f":"IF(C99=\"\",\"-\",_xlfn.XLOOKUP(C99,プルダウンデータリスト!$V$2:$V$9,プルダウンデータリスト!$X$2:$X$9,\"-\"))","v":"-"},"-"]
[null,null,null,null,null,null,{"$f":"IF($F100=\"\",\"-\",IF($C100=\"製材（製材・集成材・ＣＬＴ等）\",IF($E100=\"\",\"-\",_xlfn.XLOOKUP('２－２'!$E100,プルダウンデータリスト!$AC$2:$AC$65,プルダウンデータリスト!$AD$2:$AD$65)),_xlfn.XLOOKUP($C100,プルダウンデータリスト!$V$3:$V$9,プルダウンデータリスト!$W$3:$W$9,)))","v":"-"},null,null,{"$f":"IF($I100=\"\",\"-\",IF($C100=\"製材（製材・集成材・ＣＬＴ等）\",IF($E100=\"\",\"-\",_xlfn.XLOOKUP('２－２'!$E100,プルダウンデータリスト!$AC$2:$AC$65,プルダウンデータリスト!$AD$2:$AD$65)),_xlfn.XLOOKUP($C100,プルダウンデータリスト!$V$3:$V$9,プルダウンデータリスト!$W$3:$W$9,)))","v":"-"},null,{"$f":"IF(LEN(F100)+LEN(H100)>0,\"-\",IF(LEN(I100)+LEN(K100)<=0,\"-\",_xlfn.XLOOKUP(C100,プルダウンデータリスト!$AF$2:$AF$7,プルダウンデータリスト!$AG$2:$AG$7,\"-\")))","v":"-"},"-","-",{"$f":"IF(C100=\"\",\"-\",_xlfn.XLOOKUP(C100,プルダウンデータリスト!$V$2:$V$9,プルダウンデータリスト!$X$2:$X$9,\"-\"))","v":"-"},{"$f":"IFERROR(IF(LEN(F100)>0,M100*G100*O100,IF(LEN(H100)>0,N100*O100/1000,IF(LEN(I100)>0,M100*J100*O100,IF(LEN(K100)>0,N100*O100/1000,\"-\")))),\"ERROR\")","v":"-"}]
[null,null,null,null,null,null,{"$f":"IF($F101=\"\",\"-\",IF($C101=\"製材（製材・集成材・ＣＬＴ等）\",IF($E101=\"\",\"-\",_xlfn.XLOOKUP('２－２'!$E101,プルダウンデータリスト!$AC$2:$AC$65,プルダウンデータリスト!$AD$2:$AD$65)),_xlfn.XLOOKUP($C101,プルダウンデータリスト!$V$3:$V$9,プルダウンデータリスト!$W$3:$W$9,)))","v":"-"},null,null,{"$f":"IF($I101=\"\",\"-\",IF($C101=\"製材（製材・集成材・ＣＬＴ等）\",IF($E101=\"\",\"-\",_xlfn.XLOOKUP('２－２'!$E101,プルダウンデータリスト!$AC$2:$AC$65,プルダウンデータリスト!$AD$2:$AD$65)),_xlfn.XLOOKUP($C101,プルダウンデータリスト!$V$3:$V$9,プルダウンデータリスト!$W$3:$W$9,)))","v":"-"},null,{"$f":"IF(LEN(F101)+LEN(H101)>0,\"-\",IF(LEN(I101)+LEN(K101)<=0,\"-\",_xlfn.XLOOKUP(C101,プルダウンデータリスト!$AF$2:$AF$7,プルダウンデータリスト!$AG$2:$AG$7,\"-\")))","v":"-"},"-","-",{"$f":"IF(C101=\"\",\"-\",_xlfn.XLOOKUP(C101,プルダウンデータリスト!$V$2:$V$9,プルダウンデータリスト!$X$2:$X$9,\"-\"))","v":"-"},"-"]
[null,null,null,null,null,null,{"$f":"IF($F102=\"\",\"-\",IF($C102=\"製材（製材・集成材・ＣＬＴ等）\",IF($E102=\"\",\"-\",_xlfn.XLOOKUP('２－２'!$E102,プルダウンデータリスト!$AC$2:$AC$65,プルダウンデータリスト!$AD$2:$AD$65)),_xlfn.XLOOKUP($C102,プルダウンデータリスト!$V$3:$V$9,プルダウンデータリスト!$W$3:$W$9,)))","v":"-"},null,null,{"$f":"IF($I102=\"\",\"-\",IF($C102=\"製材（製材・集成材・ＣＬＴ等）\",IF($E102=\"\",\"-\",_xlfn.XLOOKUP('２－２'!$E102,プルダウンデータリスト!$AC$2:$AC$65,プルダウンデータリスト!$AD$2:$AD$65)),_xlfn.XLOOKUP($C102,プルダウンデータリスト!$V$3:$V$9,プルダウンデータリスト!$W$3:$W$9,)))","v":"-"},null,{"$f":"IF(LEN(F102)+LEN(H102)>0,\"-\",IF(LEN(I102)+LEN(K102)<=0,\"-\",_xlfn.XLOOKUP(C102,プルダウンデータリスト!$AF$2:$AF$7,プルダウンデータリスト!$AG$2:$AG$7,\"-\")))","v":"-"},"-","-",{"$f":"IF(C102=\"\",\"-\",_xlfn.XLOOKUP(C102,プルダウンデータリスト!$V$2:$V$9,プルダウンデータリスト!$X$2:$X$9,\"-\"))","v":"-"},"-"]
[null,null,null,null,null,null,{"$f":"IF($F103=\"\",\"-\",IF($C103=\"製材（製材・集成材・ＣＬＴ等）\",IF($E103=\"\",\"-\",_xlfn.XLOOKUP('２－２'!$E103,プルダウンデータリスト!$AC$2:$AC$65,プルダウンデータリスト!$AD$2:$AD$65)),_xlfn.XLOOKUP($C103,プルダウンデータリスト!$V$3:$V$9,プルダウンデータリスト!$W$3:$W$9,)))","v":"-"},null,null,{"$f":"IF($I103=\"\",\"-\",IF($C103=\"製材（製材・集成材・ＣＬＴ等）\",IF($E103=\"\",\"-\",_xlfn.XLOOKUP('２－２'!$E103,プルダウンデータリスト!$AC$2:$AC$65,プルダウンデータリスト!$AD$2:$AD$65)),_xlfn.XLOOKUP($C103,プルダウンデータリスト!$V$3:$V$9,プルダウンデータリスト!$W$3:$W$9,)))","v":"-"},null,{"$f":"IF(LEN(F103)+LEN(H103)>0,\"-\",IF(LEN(I103)+LEN(K103)<=0,\"-\",_xlfn.XLOOKUP(C103,プルダウンデータリスト!$AF$2:$AF$7,プルダウンデータリスト!$AG$2:$AG$7,\"-\")))","v":"-"},"-","-",{"$f":"IF(C103=\"\",\"-\",_xlfn.XLOOKUP(C103,プルダウンデータリスト!$V$2:$V$9,プルダウンデータリスト!$X$2:$X$9,\"-\"))","v":"-"},"-"]
[null,null,null,null,null,null,{"$f":"IF($F104=\"\",\"-\",IF($C104=\"製材（製材・集成材・ＣＬＴ等）\",IF($E104=\"\",\"-\",_xlfn.XLOOKUP('２－２'!$E104,プルダウンデータリスト!$AC$2:$AC$65,プルダウンデータリスト!$AD$2:$AD$65)),_xlfn.XLOOKUP($C104,プルダウンデータリスト!$V$3:$V$9,プルダウンデータリスト!$W$3:$W$9,)))","v":"-"},null,null,{"$f":"IF($I104=\"\",\"-\",IF($C104=\"製材（製材・集成材・ＣＬＴ等）\",IF($E104=\"\",\"-\",_xlfn.XLOOKUP('２－２'!$E104,プルダウンデータリスト!$AC$2:$AC$65,プルダウンデータリスト!$AD$2:$AD$65)),_xlfn.XLOOKUP($C104,プルダウンデータリスト!$V$3:$V$9,プルダウンデータリスト!$W$3:$W$9,)))","v":"-"},null,{"$f":"IF(LEN(F104)+LEN(H104)>0,\"-\",IF(LEN(I104)+LEN(K104)<=0,\"-\",_xlfn.XLOOKUP(C104,プルダウンデータリスト!$AF$2:$AF$7,プルダウンデータリスト!$AG$2:$AG$7,\"-\")))","v":"-"},"-","-",{"$f":"IF(C104=\"\",\"-\",_xlfn.XLOOKUP(C104,プルダウンデータリスト!$V$2:$V$9,プルダウンデータリスト!$X$2:$X$9,\"-\"))","v":"-"},"-"]
[null,null,null,null,null,null,{"$f":"IF($F105=\"\",\"-\",IF($C105=\"製材（製材・集成材・ＣＬＴ等）\",IF($E105=\"\",\"-\",_xlfn.XLOOKUP('２－２'!$E105,プルダウンデータリスト!$AC$2:$AC$65,プルダウンデータリスト!$AD$2:$AD$65)),_xlfn.XLOOKUP($C105,プルダウンデータリスト!$V$3:$V$9,プルダウンデータリスト!$W$3:$W$9,)))","v":"-"},null,null,{"$f":"IF($I105=\"\",\"-\",IF($C105=\"製材（製材・集成材・ＣＬＴ等）\",IF($E105=\"\",\"-\",_xlfn.XLOOKUP('２－２'!$E105,プルダウンデータリスト!$AC$2:$AC$65,プルダウンデータリスト!$AD$2:$AD$65)),_xlfn.XLOOKUP($C105,プルダウンデータリスト!$V$3:$V$9,プルダウンデータリスト!$W$3:$W$9,)))","v":"-"},null,{"$f":"IF(LEN(F105)+LEN(H105)>0,\"-\",IF(LEN(I105)+LEN(K105)<=0,\"-\",_xlfn.XLOOKUP(C105,プルダウンデータリスト!$AF$2:$AF$7,プルダウンデータリスト!$AG$2:$AG$7,\"-\")))","v":"-"},"-","-",{"$f":"IF(C105=\"\",\"-\",_xlfn.XLOOKUP(C105,プルダウンデータリスト!$V$2:$V$9,プルダウンデータリスト!$X$2:$X$9,\"-\"))","v":"-"},"-"]
[null,null,null,null,null,null,{"$f":"IF($F106=\"\",\"-\",IF($C106=\"製材（製材・集成材・ＣＬＴ等）\",IF($E106=\"\",\"-\",_xlfn.XLOOKUP('２－２'!$E106,プルダウンデータリスト!$AC$2:$AC$65,プルダウンデータリスト!$AD$2:$AD$65)),_xlfn.XLOOKUP($C106,プルダウンデータリスト!$V$3:$V$9,プルダウンデータリスト!$W$3:$W$9,)))","v":"-"},null,null,{"$f":"IF($I106=\"\",\"-\",IF($C106=\"製材（製材・集成材・ＣＬＴ等）\",IF($E106=\"\",\"-\",_xlfn.XLOOKUP('２－２'!$E106,プルダウンデータリスト!$AC$2:$AC$65,プルダウンデータリスト!$AD$2:$AD$65)),_xlfn.XLOOKUP($C106,プルダウンデータリスト!$V$3:$V$9,プルダウンデータリスト!$W$3:$W$9,)))","v":"-"},null,{"$f":"IF(LEN(F106)+LEN(H106)>0,\"-\",IF(LEN(I106)+LEN(K106)<=0,\"-\",_xlfn.XLOOKUP(C106,プルダウンデータリスト!$AF$2:$AF$7,プルダウンデータリスト!$AG$2:$AG$7,\"-\")))","v":"-"},"-","-",{"$f":"IF(C106=\"\",\"-\",_xlfn.XLOOKUP(C106,プルダウンデータリスト!$V$2:$V$9,プルダウンデータリスト!$X$2:$X$9,\"-\"))","v":"-"},"-"]
[null,null,null,null,null,null,{"$f":"IF($F107=\"\",\"-\",IF($C107=\"製材（製材・集成材・ＣＬＴ等）\",IF($E107=\"\",\"-\",_xlfn.XLOOKUP('２－２'!$E107,プルダウンデータリスト!$AC$2:$AC$65,プルダウンデータリスト!$AD$2:$AD$65)),_xlfn.XLOOKUP($C107,プルダウンデータリスト!$V$3:$V$9,プルダウンデータリスト!$W$3:$W$9,)))","v":"-"},null,null,{"$f":"IF($I107=\"\",\"-\",IF($C107=\"製材（製材・集成材・ＣＬＴ等）\",IF($E107=\"\",\"-\",_xlfn.XLOOKUP('２－２'!$E107,プルダウンデータリスト!$AC$2:$AC$65,プルダウンデータリスト!$AD$2:$AD$65)),_xlfn.XLOOKUP($C107,プルダウンデータリスト!$V$3:$V$9,プルダウンデータリスト!$W$3:$W$9,)))","v":"-"},null,{"$f":"IF(LEN(F107)+LEN(H107)>0,\"-\",IF(LEN(I107)+LEN(K107)<=0,\"-\",_xlfn.XLOOKUP(C107,プルダウンデータリスト!$AF$2:$AF$7,プルダウンデータリスト!$AG$2:$AG$7,\"-\")))","v":"-"},"-","-",{"$f":"IF(C107=\"\",\"-\",_xlfn.XLOOKUP(C107,プルダウンデータリスト!$V$2:$V$9,プルダウンデータリスト!$X$2:$X$9,\"-\"))","v":"-"},"-"]
[null,null,null,null,null,null,{"$f":"IF($F108=\"\",\"-\",IF($C108=\"製材（製材・集成材・ＣＬＴ等）\",IF($E108=\"\",\"-\",_xlfn.XLOOKUP('２－２'!$E108,プルダウンデータリスト!$AC$2:$AC$65,プルダウンデータリスト!$AD$2:$AD$65)),_xlfn.XLOOKUP($C108,プルダウンデータリスト!$V$3:$V$9,プルダウンデータリスト!$W$3:$W$9,)))","v":"-"},null,null,{"$f":"IF($I108=\"\",\"-\",IF($C108=\"製材（製材・集成材・ＣＬＴ等）\",IF($E108=\"\",\"-\",_xlfn.XLOOKUP('２－２'!$E108,プルダウンデータリスト!$AC$2:$AC$65,プルダウンデータリスト!$AD$2:$AD$65)),_xlfn.XLOOKUP($C108,プルダウンデータリスト!$V$3:$V$9,プルダウンデータリスト!$W$3:$W$9,)))","v":"-"},null,{"$f":"IF(LEN(F108)+LEN(H108)>0,\"-\",IF(LEN(I108)+LEN(K108)<=0,\"-\",_xlfn.XLOOKUP(C108,プルダウンデータリスト!$AF$2:$AF$7,プルダウンデータリスト!$AG$2:$AG$7,\"-\")))","v":"-"},"-","-",{"$f":"IF(C108=\"\",\"-\",_xlfn.XLOOKUP(C108,プルダウンデータリスト!$V$2:$V$9,プルダウンデータリスト!$X$2:$X$9,\"-\"))","v":"-"},"-"]
[null,null,null,null,null,null,{"$f":"IF($F109=\"\",\"-\",IF($C109=\"製材（製材・集成材・ＣＬＴ等）\",IF($E109=\"\",\"-\",_xlfn.XLOOKUP('２－２'!$E109,プルダウンデータリスト!$AC$2:$AC$65,プルダウンデータリスト!$AD$2:$AD$65)),_xlfn.XLOOKUP($C109,プルダウンデータリスト!$V$3:$V$9,プルダウンデータリスト!$W$3:$W$9,)))","v":"-"},null,null,{"$f":"IF($I109=\"\",\"-\",IF($C109=\"製材（製材・集成材・ＣＬＴ等）\",IF($E109=\"\",\"-\",_xlfn.XLOOKUP('２－２'!$E109,プルダウンデータリスト!$AC$2:$AC$65,プルダウンデータリスト!$AD$2:$AD$65)),_xlfn.XLOOKUP($C109,プルダウンデータリスト!$V$3:$V$9,プルダウンデータリスト!$W$3:$W$9,)))","v":"-"},null,{"$f":"IF(LEN(F109)+LEN(H109)>0,\"-\",IF(LEN(I109)+LEN(K109)<=0,\"-\",_xlfn.XLOOKUP(C109,プルダウンデータリスト!$AF$2:$AF$7,プルダウンデータリスト!$AG$2:$AG$7,\"-\")))","v":"-"},"-","-",{"$f":"IF(C109=\"\",\"-\",_xlfn.XLOOKUP(C109,プルダウンデータリスト!$V$2:$V$9,プルダウンデータリスト!$X$2:$X$9,\"-\"))","v":"-"},"-"]
[null,null,null,null,null,null,{"$f":"IF($F110=\"\",\"-\",IF($C110=\"製材（製材・集成材・ＣＬＴ等）\",IF($E110=\"\",\"-\",_xlfn.XLOOKUP('２－２'!$E110,プルダウンデータリスト!$AC$2:$AC$65,プルダウンデータリスト!$AD$2:$AD$65)),_xlfn.XLOOKUP($C110,プルダウンデータリスト!$V$3:$V$9,プルダウンデータリスト!$W$3:$W$9,)))","v":"-"},null,null,{"$f":"IF($I110=\"\",\"-\",IF($C110=\"製材（製材・集成材・ＣＬＴ等）\",IF($E110=\"\",\"-\",_xlfn.XLOOKUP('２－２'!$E110,プルダウンデータリスト!$AC$2:$AC$65,プルダウンデータリスト!$AD$2:$AD$65)),_xlfn.XLOOKUP($C110,プルダウンデータリスト!$V$3:$V$9,プルダウンデータリスト!$W$3:$W$9,)))","v":"-"},null,{"$f":"IF(LEN(F110)+LEN(H110)>0,\"-\",IF(LEN(I110)+LEN(K110)<=0,\"-\",_xlfn.XLOOKUP(C110,プルダウンデータリスト!$AF$2:$AF$7,プルダウンデータリスト!$AG$2:$AG$7,\"-\")))","v":"-"},"-","-",{"$f":"IF(C110=\"\",\"-\",_xlfn.XLOOKUP(C110,プルダウンデータリスト!$V$2:$V$9,プルダウンデータリスト!$X$2:$X$9,\"-\"))","v":"-"},"-"]
[null,null,null,null,null,null,{"$f":"IF($F111=\"\",\"-\",IF($C111=\"製材（製材・集成材・ＣＬＴ等）\",IF($E111=\"\",\"-\",_xlfn.XLOOKUP('２－２'!$E111,プルダウンデータリスト!$AC$2:$AC$65,プルダウンデータリスト!$AD$2:$AD$65)),_xlfn.XLOOKUP($C111,プルダウンデータリスト!$V$3:$V$9,プルダウンデータリスト!$W$3:$W$9,)))","v":"-"},null,null,{"$f":"IF($I111=\"\",\"-\",IF($C111=\"製材（製材・集成材・ＣＬＴ等）\",IF($E111=\"\",\"-\",_xlfn.XLOOKUP('２－２'!$E111,プルダウンデータリスト!$AC$2:$AC$65,プルダウンデータリスト!$AD$2:$AD$65)),_xlfn.XLOOKUP($C111,プルダウンデータリスト!$V$3:$V$9,プルダウンデータリスト!$W$3:$W$9,)))","v":"-"},null,{"$f":"IF(LEN(F111)+LEN(H111)>0,\"-\",IF(LEN(I111)+LEN(K111)<=0,\"-\",_xlfn.XLOOKUP(C111,プルダウンデータリスト!$AF$2:$AF$7,プルダウンデータリスト!$AG$2:$AG$7,\"-\")))","v":"-"},"-","-",{"$f":"IF(C111=\"\",\"-\",_xlfn.XLOOKUP(C111,プルダウンデータリスト!$V$2:$V$9,プルダウンデータリスト!$X$2:$X$9,\"-\"))","v":"-"},"-"]
[null,null,null,null,null,null,{"$f":"IF($F112=\"\",\"-\",IF($C112=\"製材（製材・集成材・ＣＬＴ等）\",IF($E112=\"\",\"-\",_xlfn.XLOOKUP('２－２'!$E112,プルダウンデータリスト!$AC$2:$AC$65,プルダウンデータリスト!$AD$2:$AD$65)),_xlfn.XLOOKUP($C112,プルダウンデータリスト!$V$3:$V$9,プルダウンデータリスト!$W$3:$W$9,)))","v":"-"},null,null,{"$f":"IF($I112=\"\",\"-\",IF($C112=\"製材（製材・集成材・ＣＬＴ等）\",IF($E112=\"\",\"-\",_xlfn.XLOOKUP('２－２'!$E112,プルダウンデータリスト!$AC$2:$AC$65,プルダウンデータリスト!$AD$2:$AD$65)),_xlfn.XLOOKUP($C112,プルダウンデータリスト!$V$3:$V$9,プルダウンデータリスト!$W$3:$W$9,)))","v":"-"},null,{"$f":"IF(LEN(F112)+LEN(H112)>0,\"-\",IF(LEN(I112)+LEN(K112)<=0,\"-\",_xlfn.XLOOKUP(C112,プルダウンデータリスト!$AF$2:$AF$7,プルダウンデータリスト!$AG$2:$AG$7,\"-\")))","v":"-"},"-","-",{"$f":"IF(C112=\"\",\"-\",_xlfn.XLOOKUP(C112,プルダウンデータリスト!$V$2:$V$9,プルダウンデータリスト!$X$2:$X$9,\"-\"))","v":"-"},"-"]
[null,null,null,null,null,null,{"$f":"IF($F113=\"\",\"-\",IF($C113=\"製材（製材・集成材・ＣＬＴ等）\",IF($E113=\"\",\"-\",_xlfn.XLOOKUP('２－２'!$E113,プルダウンデータリスト!$AC$2:$AC$65,プルダウンデータリスト!$AD$2:$AD$65)),_xlfn.XLOOKUP($C113,プルダウンデータリスト!$V$3:$V$9,プルダウンデータリスト!$W$3:$W$9,)))","v":"-"},null,null,{"$f":"IF($I113=\"\",\"-\",IF($C113=\"製材（製材・集成材・ＣＬＴ等）\",IF($E113=\"\",\"-\",_xlfn.XLOOKUP('２－２'!$E113,プルダウンデータリスト!$AC$2:$AC$65,プルダウンデータリスト!$AD$2:$AD$65)),_xlfn.XLOOKUP($C113,プルダウンデータリスト!$V$3:$V$9,プルダウンデータリスト!$W$3:$W$9,)))","v":"-"},null,{"$f":"IF(LEN(F113)+LEN(H113)>0,\"-\",IF(LEN(I113)+LEN(K113)<=0,\"-\",_xlfn.XLOOKUP(C113,プルダウンデータリスト!$AF$2:$AF$7,プルダウンデータリスト!$AG$2:$AG$7,\"-\")))","v":"-"},"-","-",{"$f":"IF(C113=\"\",\"-\",_xlfn.XLOOKUP(C113,プルダウンデータリスト!$V$2:$V$9,プルダウンデータリスト!$X$2:$X$9,\"-\"))","v":"-"},"-"]
[null,null,null,null,null,null,{"$f":"IF($F114=\"\",\"-\",IF($C114=\"製材（製材・集成材・ＣＬＴ等）\",IF($E114=\"\",\"-\",_xlfn.XLOOKUP('２－２'!$E114,プルダウンデータリスト!$AC$2:$AC$65,プルダウンデータリスト!$AD$2:$AD$65)),_xlfn.XLOOKUP($C114,プルダウンデータリスト!$V$3:$V$9,プルダウンデータリスト!$W$3:$W$9,)))","v":"-"},null,null,{"$f":"IF($I114=\"\",\"-\",IF($C114=\"製材（製材・集成材・ＣＬＴ等）\",IF($E114=\"\",\"-\",_xlfn.XLOOKUP('２－２'!$E114,プルダウンデータリスト!$AC$2:$AC$65,プルダウンデータリスト!$AD$2:$AD$65)),_xlfn.XLOOKUP($C114,プルダウンデータリスト!$V$3:$V$9,プルダウンデータリスト!$W$3:$W$9,)))","v":"-"},null,{"$f":"IF(LEN(F114)+LEN(H114)>0,\"-\",IF(LEN(I114)+LEN(K114)<=0,\"-\",_xlfn.XLOOKUP(C114,プルダウンデータリスト!$AF$2:$AF$7,プルダウンデータリスト!$AG$2:$AG$7,\"-\")))","v":"-"},"-","-",{"$f":"IF(C114=\"\",\"-\",_xlfn.XLOOKUP(C114,プルダウンデータリスト!$V$2:$V$9,プルダウンデータリスト!$X$2:$X$9,\"-\"))","v":"-"},"-"]
[null,null,null,null,null,null,{"$f":"IF($F115=\"\",\"-\",IF($C115=\"製材（製材・集成材・ＣＬＴ等）\",IF($E115=\"\",\"-\",_xlfn.XLOOKUP('２－２'!$E115,プルダウンデータリスト!$AC$2:$AC$65,プルダウンデータリスト!$AD$2:$AD$65)),_xlfn.XLOOKUP($C115,プルダウンデータリスト!$V$3:$V$9,プルダウンデータリスト!$W$3:$W$9,)))","v":"-"},null,null,{"$f":"IF($I115=\"\",\"-\",IF($C115=\"製材（製材・集成材・ＣＬＴ等）\",IF($E115=\"\",\"-\",_xlfn.XLOOKUP('２－２'!$E115,プルダウンデータリスト!$AC$2:$AC$65,プルダウンデータリスト!$AD$2:$AD$65)),_xlfn.XLOOKUP($C115,プルダウンデータリスト!$V$3:$V$9,プルダウンデータリスト!$W$3:$W$9,)))","v":"-"},null,{"$f":"IF(LEN(F115)+LEN(H115)>0,\"-\",IF(LEN(I115)+LEN(K115)<=0,\"-\",_xlfn.XLOOKUP(C115,プルダウンデータリスト!$AF$2:$AF$7,プルダウンデータリスト!$AG$2:$AG$7,\"-\")))","v":"-"},"-","-",{"$f":"IF(C115=\"\",\"-\",_xlfn.XLOOKUP(C115,プルダウンデータリスト!$V$2:$V$9,プルダウンデータリスト!$X$2:$X$9,\"-\"))","v":"-"},"-"]
[null,null,null,null,null,null,{"$f":"IF($F116=\"\",\"-\",IF($C116=\"製材（製材・集成材・ＣＬＴ等）\",IF($E116=\"\",\"-\",_xlfn.XLOOKUP('２－２'!$E116,プルダウンデータリスト!$AC$2:$AC$65,プルダウンデータリスト!$AD$2:$AD$65)),_xlfn.XLOOKUP($C116,プルダウンデータリスト!$V$3:$V$9,プルダウンデータリスト!$W$3:$W$9,)))","v":"-"},null,null,{"$f":"IF($I116=\"\",\"-\",IF($C116=\"製材（製材・集成材・ＣＬＴ等）\",IF($E116=\"\",\"-\",_xlfn.XLOOKUP('２－２'!$E116,プルダウンデータリスト!$AC$2:$AC$65,プルダウンデータリスト!$AD$2:$AD$65)),_xlfn.XLOOKUP($C116,プルダウンデータリスト!$V$3:$V$9,プルダウンデータリスト!$W$3:$W$9,)))","v":"-"},null,{"$f":"IF(LEN(F116)+LEN(H116)>0,\"-\",IF(LEN(I116)+LEN(K116)<=0,\"-\",_xlfn.XLOOKUP(C116,プルダウンデータリスト!$AF$2:$AF$7,プルダウンデータリスト!$AG$2:$AG$7,\"-\")))","v":"-"},"-","-",{"$f":"IF(C116=\"\",\"-\",_xlfn.XLOOKUP(C116,プルダウンデータリスト!$V$2:$V$9,プルダウンデータリスト!$X$2:$X$9,\"-\"))","v":"-"},"-"]
[null,null,null,null,null,null,{"$f":"IF($F117=\"\",\"-\",IF($C117=\"製材（製材・集成材・ＣＬＴ等）\",IF($E117=\"\",\"-\",_xlfn.XLOOKUP('２－２'!$E117,プルダウンデータリスト!$AC$2:$AC$65,プルダウンデータリスト!$AD$2:$AD$65)),_xlfn.XLOOKUP($C117,プルダウンデータリスト!$V$3:$V$9,プルダウンデータリスト!$W$3:$W$9,)))","v":"-"},null,null,{"$f":"IF($I117=\"\",\"-\",IF($C117=\"製材（製材・集成材・ＣＬＴ等）\",IF($E117=\"\",\"-\",_xlfn.XLOOKUP('２－２'!$E117,プルダウンデータリスト!$AC$2:$AC$65,プルダウンデータリスト!$AD$2:$AD$65)),_xlfn.XLOOKUP($C117,プルダウンデータリスト!$V$3:$V$9,プルダウンデータリスト!$W$3:$W$9,)))","v":"-"},null,{"$f":"IF(LEN(F117)+LEN(H117)>0,\"-\",IF(LEN(I117)+LEN(K117)<=0,\"-\",_xlfn.XLOOKUP(C117,プルダウンデータリスト!$AF$2:$AF$7,プルダウンデータリスト!$AG$2:$AG$7,\"-\")))","v":"-"},"-","-",{"$f":"IF(C117=\"\",\"-\",_xlfn.XLOOKUP(C117,プルダウンデータリスト!$V$2:$V$9,プルダウンデータリスト!$X$2:$X$9,\"-\"))","v":"-"},"-"]
[null,null,null,null,null,null,{"$f":"IF($F118=\"\",\"-\",IF($C118=\"製材（製材・集成材・ＣＬＴ等）\",IF($E118=\"\",\"-\",_xlfn.XLOOKUP('２－２'!$E118,プルダウンデータリスト!$AC$2:$AC$65,プルダウンデータリスト!$AD$2:$AD$65)),_xlfn.XLOOKUP($C118,プルダウンデータリスト!$V$3:$V$9,プルダウンデータリスト!$W$3:$W$9,)))","v":"-"},null,null,{"$f":"IF($I118=\"\",\"-\",IF($C118=\"製材（製材・集成材・ＣＬＴ等）\",IF($E118=\"\",\"-\",_xlfn.XLOOKUP('２－２'!$E118,プルダウンデータリスト!$AC$2:$AC$65,プルダウンデータリスト!$AD$2:$AD$65)),_xlfn.XLOOKUP($C118,プルダウンデータリスト!$V$3:$V$9,プルダウンデータリスト!$W$3:$W$9,)))","v":"-"},null,{"$f":"IF(LEN(F118)+LEN(H118)>0,\"-\",IF(LEN(I118)+LEN(K118)<=0,\"-\",_xlfn.XLOOKUP(C118,プルダウンデータリスト!$AF$2:$AF$7,プルダウンデータリスト!$AG$2:$AG$7,\"-\")))","v":"-"},"-","-",{"$f":"IF(C118=\"\",\"-\",_xlfn.XLOOKUP(C118,プルダウンデータリスト!$V$2:$V$9,プルダウンデータリスト!$X$2:$X$9,\"-\"))","v":"-"},"-"]
[null,null,null,null,null,null,{"$f":"IF($F119=\"\",\"-\",IF($C119=\"製材（製材・集成材・ＣＬＴ等）\",IF($E119=\"\",\"-\",_xlfn.XLOOKUP('２－２'!$E119,プルダウンデータリスト!$AC$2:$AC$65,プルダウンデータリスト!$AD$2:$AD$65)),_xlfn.XLOOKUP($C119,プルダウンデータリスト!$V$3:$V$9,プルダウンデータリスト!$W$3:$W$9,)))","v":"-"},null,null,{"$f":"IF($I119=\"\",\"-\",IF($C119=\"製材（製材・集成材・ＣＬＴ等）\",IF($E119=\"\",\"-\",_xlfn.XLOOKUP('２－２'!$E119,プルダウンデータリスト!$AC$2:$AC$65,プルダウンデータリスト!$AD$2:$AD$65)),_xlfn.XLOOKUP($C119,プルダウンデータリスト!$V$3:$V$9,プルダウンデータリスト!$W$3:$W$9,)))","v":"-"},null,{"$f":"IF(LEN(F119)+LEN(H119)>0,\"-\",IF(LEN(I119)+LEN(K119)<=0,\"-\",_xlfn.XLOOKUP(C119,プルダウンデータリスト!$AF$2:$AF$7,プルダウンデータリスト!$AG$2:$AG$7,\"-\")))","v":"-"},"-","-",{"$f":"IF(C119=\"\",\"-\",_xlfn.XLOOKUP(C119,プルダウンデータリスト!$V$2:$V$9,プルダウンデータリスト!$X$2:$X$9,\"-\"))","v":"-"},"-"]
[null,null,null,null,null,null,{"$f":"IF($F120=\"\",\"-\",IF($C120=\"製材（製材・集成材・ＣＬＴ等）\",IF($E120=\"\",\"-\",_xlfn.XLOOKUP('２－２'!$E120,プルダウンデータリスト!$AC$2:$AC$65,プルダウンデータリスト!$AD$2:$AD$65)),_xlfn.XLOOKUP($C120,プルダウンデータリスト!$V$3:$V$9,プルダウンデータリスト!$W$3:$W$9,)))","v":"-"},null,null,{"$f":"IF($I120=\"\",\"-\",IF($C120=\"製材（製材・集成材・ＣＬＴ等）\",IF($E120=\"\",\"-\",_xlfn.XLOOKUP('２－２'!$E120,プルダウンデータリスト!$AC$2:$AC$65,プルダウンデータリスト!$AD$2:$AD$65)),_xlfn.XLOOKUP($C120,プルダウンデータリスト!$V$3:$V$9,プルダウンデータリスト!$W$3:$W$9,)))","v":"-"},null,{"$f":"IF(LEN(F120)+LEN(H120)>0,\"-\",IF(LEN(I120)+LEN(K120)<=0,\"-\",_xlfn.XLOOKUP(C120,プルダウンデータリスト!$AF$2:$AF$7,プルダウンデータリスト!$AG$2:$AG$7,\"-\")))","v":"-"},"-","-",{"$f":"IF(C120=\"\",\"-\",_xlfn.XLOOKUP(C120,プルダウンデータリスト!$V$2:$V$9,プルダウンデータリスト!$X$2:$X$9,\"-\"))","v":"-"},"-"]
[null,null,null,null,null,null,{"$f":"IF($F121=\"\",\"-\",IF($C121=\"製材（製材・集成材・ＣＬＴ等）\",IF($E121=\"\",\"-\",_xlfn.XLOOKUP('２－２'!$E121,プルダウンデータリスト!$AC$2:$AC$65,プルダウンデータリスト!$AD$2:$AD$65)),_xlfn.XLOOKUP($C121,プルダウンデータリスト!$V$3:$V$9,プルダウンデータリスト!$W$3:$W$9,)))","v":"-"},null,null,{"$f":"IF($I121=\"\",\"-\",IF($C121=\"製材（製材・集成材・ＣＬＴ等）\",IF($E121=\"\",\"-\",_xlfn.XLOOKUP('２－２'!$E121,プルダウンデータリスト!$AC$2:$AC$65,プルダウンデータリスト!$AD$2:$AD$65)),_xlfn.XLOOKUP($C121,プルダウンデータリスト!$V$3:$V$9,プルダウンデータリスト!$W$3:$W$9,)))","v":"-"},null,{"$f":"IF(LEN(F121)+LEN(H121)>0,\"-\",IF(LEN(I121)+LEN(K121)<=0,\"-\",_xlfn.XLOOKUP(C121,プルダウンデータリスト!$AF$2:$AF$7,プルダウンデータリスト!$AG$2:$AG$7,\"-\")))","v":"-"},"-","-",{"$f":"IF(C121=\"\",\"-\",_xlfn.XLOOKUP(C121,プルダウンデータリスト!$V$2:$V$9,プルダウンデータリスト!$X$2:$X$9,\"-\"))","v":"-"},"-"]
[null,null,null,null,null,null,{"$f":"IF($F122=\"\",\"-\",IF($C122=\"製材（製材・集成材・ＣＬＴ等）\",IF($E122=\"\",\"-\",_xlfn.XLOOKUP('２－２'!$E122,プルダウンデータリスト!$AC$2:$AC$65,プルダウンデータリスト!$AD$2:$AD$65)),_xlfn.XLOOKUP($C122,プルダウンデータリスト!$V$3:$V$9,プルダウンデータリスト!$W$3:$W$9,)))","v":"-"},null,null,{"$f":"IF($I122=\"\",\"-\",IF($C122=\"製材（製材・集成材・ＣＬＴ等）\",IF($E122=\"\",\"-\",_xlfn.XLOOKUP('２－２'!$E122,プルダウンデータリスト!$AC$2:$AC$65,プルダウンデータリスト!$AD$2:$AD$65)),_xlfn.XLOOKUP($C122,プルダウンデータリスト!$V$3:$V$9,プルダウンデータリスト!$W$3:$W$9,)))","v":"-"},null,{"$f":"IF(LEN(F122)+LEN(H122)>0,\"-\",IF(LEN(I122)+LEN(K122)<=0,\"-\",_xlfn.XLOOKUP(C122,プルダウンデータリスト!$AF$2:$AF$7,プルダウンデータリスト!$AG$2:$AG$7,\"-\")))","v":"-"},"-","-",{"$f":"IF(C122=\"\",\"-\",_xlfn.XLOOKUP(C122,プルダウンデータリスト!$V$2:$V$9,プルダウンデータリスト!$X$2:$X$9,\"-\"))","v":"-"},"-"]
[null,null,null,null,null,null,{"$f":"IF($F123=\"\",\"-\",IF($C123=\"製材（製材・集成材・ＣＬＴ等）\",IF($E123=\"\",\"-\",_xlfn.XLOOKUP('２－２'!$E123,プルダウンデータリスト!$AC$2:$AC$65,プルダウンデータリスト!$AD$2:$AD$65)),_xlfn.XLOOKUP($C123,プルダウンデータリスト!$V$3:$V$9,プルダウンデータリスト!$W$3:$W$9,)))","v":"-"},null,null,{"$f":"IF($I123=\"\",\"-\",IF($C123=\"製材（製材・集成材・ＣＬＴ等）\",IF($E123=\"\",\"-\",_xlfn.XLOOKUP('２－２'!$E123,プルダウンデータリスト!$AC$2:$AC$65,プルダウンデータリスト!$AD$2:$AD$65)),_xlfn.XLOOKUP($C123,プルダウンデータリスト!$V$3:$V$9,プルダウンデータリスト!$W$3:$W$9,)))","v":"-"},null,{"$f":"IF(LEN(F123)+LEN(H123)>0,\"-\",IF(LEN(I123)+LEN(K123)<=0,\"-\",_xlfn.XLOOKUP(C123,プルダウンデータリスト!$AF$2:$AF$7,プルダウンデータリスト!$AG$2:$AG$7,\"-\")))","v":"-"},"-","-",{"$f":"IF(C123=\"\",\"-\",_xlfn.XLOOKUP(C123,プルダウンデータリスト!$V$2:$V$9,プルダウンデータリスト!$X$2:$X$9,\"-\"))","v":"-"},"-"]
[null,null,null,null,null,null,{"$f":"IF($F124=\"\",\"-\",IF($C124=\"製材（製材・集成材・ＣＬＴ等）\",IF($E124=\"\",\"-\",_xlfn.XLOOKUP('２－２'!$E124,プルダウンデータリスト!$AC$2:$AC$65,プルダウンデータリスト!$AD$2:$AD$65)),_xlfn.XLOOKUP($C124,プルダウンデータリスト!$V$3:$V$9,プルダウンデータリスト!$W$3:$W$9,)))","v":"-"},null,null,{"$f":"IF($I124=\"\",\"-\",IF($C124=\"製材（製材・集成材・ＣＬＴ等）\",IF($E124=\"\",\"-\",_xlfn.XLOOKUP('２－２'!$E124,プルダウンデータリスト!$AC$2:$AC$65,プルダウンデータリスト!$AD$2:$AD$65)),_xlfn.XLOOKUP($C124,プルダウンデータリスト!$V$3:$V$9,プルダウンデータリスト!$W$3:$W$9,)))","v":"-"},null,{"$f":"IF(LEN(F124)+LEN(H124)>0,\"-\",IF(LEN(I124)+LEN(K124)<=0,\"-\",_xlfn.XLOOKUP(C124,プルダウンデータリスト!$AF$2:$AF$7,プルダウンデータリスト!$AG$2:$AG$7,\"-\")))","v":"-"},"-","-",{"$f":"IF(C124=\"\",\"-\",_xlfn.XLOOKUP(C124,プルダウンデータリスト!$V$2:$V$9,プルダウンデータリスト!$X$2:$X$9,\"-\"))","v":"-"},"-"]
[null,null,null,null,null,null,{"$f":"IF($F125=\"\",\"-\",IF($C125=\"製材（製材・集成材・ＣＬＴ等）\",IF($E125=\"\",\"-\",_xlfn.XLOOKUP('２－２'!$E125,プルダウンデータリスト!$AC$2:$AC$65,プルダウンデータリスト!$AD$2:$AD$65)),_xlfn.XLOOKUP($C125,プルダウンデータリスト!$V$3:$V$9,プルダウンデータリスト!$W$3:$W$9,)))","v":"-"},null,null,{"$f":"IF($I125=\"\",\"-\",IF($C125=\"製材（製材・集成材・ＣＬＴ等）\",IF($E125=\"\",\"-\",_xlfn.XLOOKUP('２－２'!$E125,プルダウンデータリスト!$AC$2:$AC$65,プルダウンデータリスト!$AD$2:$AD$65)),_xlfn.XLOOKUP($C125,プルダウンデータリスト!$V$3:$V$9,プルダウンデータリスト!$W$3:$W$9,)))","v":"-"},null,{"$f":"IF(LEN(F125)+LEN(H125)>0,\"-\",IF(LEN(I125)+LEN(K125)<=0,\"-\",_xlfn.XLOOKUP(C125,プルダウンデータリスト!$AF$2:$AF$7,プルダウンデータリスト!$AG$2:$AG$7,\"-\")))","v":"-"},"-","-",{"$f":"IF(C125=\"\",\"-\",_xlfn.XLOOKUP(C125,プルダウンデータリスト!$V$2:$V$9,プルダウンデータリスト!$X$2:$X$9,\"-\"))","v":"-"},"-"]
[null,null,null,null,null,null,{"$f":"IF($F126=\"\",\"-\",IF($C126=\"製材（製材・集成材・ＣＬＴ等）\",IF($E126=\"\",\"-\",_xlfn.XLOOKUP('２－２'!$E126,プルダウンデータリスト!$AC$2:$AC$65,プルダウンデータリスト!$AD$2:$AD$65)),_xlfn.XLOOKUP($C126,プルダウンデータリスト!$V$3:$V$9,プルダウンデータリスト!$W$3:$W$9,)))","v":"-"},null,null,{"$f":"IF($I126=\"\",\"-\",IF($C126=\"製材（製材・集成材・ＣＬＴ等）\",IF($E126=\"\",\"-\",_xlfn.XLOOKUP('２－２'!$E126,プルダウンデータリスト!$AC$2:$AC$65,プルダウンデータリスト!$AD$2:$AD$65)),_xlfn.XLOOKUP($C126,プルダウンデータリスト!$V$3:$V$9,プルダウンデータリスト!$W$3:$W$9,)))","v":"-"},null,{"$f":"IF(LEN(F126)+LEN(H126)>0,\"-\",IF(LEN(I126)+LEN(K126)<=0,\"-\",_xlfn.XLOOKUP(C126,プルダウンデータリスト!$AF$2:$AF$7,プルダウンデータリスト!$AG$2:$AG$7,\"-\")))","v":"-"},"-","-",{"$f":"IF(C126=\"\",\"-\",_xlfn.XLOOKUP(C126,プルダウンデータリスト!$V$2:$V$9,プルダウンデータリスト!$X$2:$X$9,\"-\"))","v":"-"},"-"]
[null,null,null,null,null,null,{"$f":"IF($F127=\"\",\"-\",IF($C127=\"製材（製材・集成材・ＣＬＴ等）\",IF($E127=\"\",\"-\",_xlfn.XLOOKUP('２－２'!$E127,プルダウンデータリスト!$AC$2:$AC$65,プルダウンデータリスト!$AD$2:$AD$65)),_xlfn.XLOOKUP($C127,プルダウンデータリスト!$V$3:$V$9,プルダウンデータリスト!$W$3:$W$9,)))","v":"-"},null,null,{"$f":"IF($I127=\"\",\"-\",IF($C127=\"製材（製材・集成材・ＣＬＴ等）\",IF($E127=\"\",\"-\",_xlfn.XLOOKUP('２－２'!$E127,プルダウンデータリスト!$AC$2:$AC$65,プルダウンデータリスト!$AD$2:$AD$65)),_xlfn.XLOOKUP($C127,プルダウンデータリスト!$V$3:$V$9,プルダウンデータリスト!$W$3:$W$9,)))","v":"-"},null,{"$f":"IF(LEN(F127)+LEN(H127)>0,\"-\",IF(LEN(I127)+LEN(K127)<=0,\"-\",_xlfn.XLOOKUP(C127,プルダウンデータリスト!$AF$2:$AF$7,プルダウンデータリスト!$AG$2:$AG$7,\"-\")))","v":"-"},"-","-",{"$f":"IF(C127=\"\",\"-\",_xlfn.XLOOKUP(C127,プルダウンデータリスト!$V$2:$V$9,プルダウンデータリスト!$X$2:$X$9,\"-\"))","v":"-"},"-"]
[null,null,null,null,null,null,{"$f":"IF($F128=\"\",\"-\",IF($C128=\"製材（製材・集成材・ＣＬＴ等）\",IF($E128=\"\",\"-\",_xlfn.XLOOKUP('２－２'!$E128,プルダウンデータリスト!$AC$2:$AC$65,プルダウンデータリスト!$AD$2:$AD$65)),_xlfn.XLOOKUP($C128,プルダウンデータリスト!$V$3:$V$9,プルダウンデータリスト!$W$3:$W$9,)))","v":"-"},null,null,{"$f":"IF($I128=\"\",\"-\",IF($C128=\"製材（製材・集成材・ＣＬＴ等）\",IF($E128=\"\",\"-\",_xlfn.XLOOKUP('２－２'!$E128,プルダウンデータリスト!$AC$2:$AC$65,プルダウンデータリスト!$AD$2:$AD$65)),_xlfn.XLOOKUP($C128,プルダウンデータリスト!$V$3:$V$9,プルダウンデータリスト!$W$3:$W$9,)))","v":"-"},null,{"$f":"IF(LEN(F128)+LEN(H128)>0,\"-\",IF(LEN(I128)+LEN(K128)<=0,\"-\",_xlfn.XLOOKUP(C128,プルダウンデータリスト!$AF$2:$AF$7,プルダウンデータリスト!$AG$2:$AG$7,\"-\")))","v":"-"},"-","-",{"$f":"IF(C128=\"\",\"-\",_xlfn.XLOOKUP(C128,プルダウンデータリスト!$V$2:$V$9,プルダウンデータリスト!$X$2:$X$9,\"-\"))","v":"-"},"-"]
[null,null,null,null,null,null,{"$f":"IF($F129=\"\",\"-\",IF($C129=\"製材（製材・集成材・ＣＬＴ等）\",IF($E129=\"\",\"-\",_xlfn.XLOOKUP('２－２'!$E129,プルダウンデータリスト!$AC$2:$AC$65,プルダウンデータリスト!$AD$2:$AD$65)),_xlfn.XLOOKUP($C129,プルダウンデータリスト!$V$3:$V$9,プルダウンデータリスト!$W$3:$W$9,)))","v":"-"},null,null,{"$f":"IF($I129=\"\",\"-\",IF($C129=\"製材（製材・集成材・ＣＬＴ等）\",IF($E129=\"\",\"-\",_xlfn.XLOOKUP('２－２'!$E129,プルダウンデータリスト!$AC$2:$AC$65,プルダウンデータリスト!$AD$2:$AD$65)),_xlfn.XLOOKUP($C129,プルダウンデータリスト!$V$3:$V$9,プルダウンデータリスト!$W$3:$W$9,)))","v":"-"},null,{"$f":"IF(LEN(F129)+LEN(H129)>0,\"-\",IF(LEN(I129)+LEN(K129)<=0,\"-\",_xlfn.XLOOKUP(C129,プルダウンデータリスト!$AF$2:$AF$7,プルダウンデータリスト!$AG$2:$AG$7,\"-\")))","v":"-"},"-","-",{"$f":"IF(C129=\"\",\"-\",_xlfn.XLOOKUP(C129,プルダウンデータリスト!$V$2:$V$9,プルダウンデータリスト!$X$2:$X$9,\"-\"))","v":"-"},"-"]
[null,null,null,null,null,null,{"$f":"IF($F130=\"\",\"-\",IF($C130=\"製材（製材・集成材・ＣＬＴ等）\",IF($E130=\"\",\"-\",_xlfn.XLOOKUP('２－２'!$E130,プルダウンデータリスト!$AC$2:$AC$65,プルダウンデータリスト!$AD$2:$AD$65)),_xlfn.XLOOKUP($C130,プルダウンデータリスト!$V$3:$V$9,プルダウンデータリスト!$W$3:$W$9,)))","v":"-"},null,null,{"$f":"IF($I130=\"\",\"-\",IF($C130=\"製材（製材・集成材・ＣＬＴ等）\",IF($E130=\"\",\"-\",_xlfn.XLOOKUP('２－２'!$E130,プルダウンデータリスト!$AC$2:$AC$65,プルダウンデータリスト!$AD$2:$AD$65)),_xlfn.XLOOKUP($C130,プルダウンデータリスト!$V$3:$V$9,プルダウンデータリスト!$W$3:$W$9,)))","v":"-"},null,{"$f":"IF(LEN(F130)+LEN(H130)>0,\"-\",IF(LEN(I130)+LEN(K130)<=0,\"-\",_xlfn.XLOOKUP(C130,プルダウンデータリスト!$AF$2:$AF$7,プルダウンデータリスト!$AG$2:$AG$7,\"-\")))","v":"-"},"-","-",{"$f":"IF(C130=\"\",\"-\",_xlfn.XLOOKUP(C130,プルダウンデータリスト!$V$2:$V$9,プルダウンデータリスト!$X$2:$X$9,\"-\"))","v":"-"},"-"]
[null,null,null,null,null,null,{"$f":"IF($F131=\"\",\"-\",IF($C131=\"製材（製材・集成材・ＣＬＴ等）\",IF($E131=\"\",\"-\",_xlfn.XLOOKUP('２－２'!$E131,プルダウンデータリスト!$AC$2:$AC$65,プルダウンデータリスト!$AD$2:$AD$65)),_xlfn.XLOOKUP($C131,プルダウンデータリスト!$V$3:$V$9,プルダウンデータリスト!$W$3:$W$9,)))","v":"-"},null,null,{"$f":"IF($I131=\"\",\"-\",IF($C131=\"製材（製材・集成材・ＣＬＴ等）\",IF($E131=\"\",\"-\",_xlfn.XLOOKUP('２－２'!$E131,プルダウンデータリスト!$AC$2:$AC$65,プルダウンデータリスト!$AD$2:$AD$65)),_xlfn.XLOOKUP($C131,プルダウンデータリスト!$V$3:$V$9,プルダウンデータリスト!$W$3:$W$9,)))","v":"-"},null,{"$f":"IF(LEN(F131)+LEN(H131)>0,\"-\",IF(LEN(I131)+LEN(K131)<=0,\"-\",_xlfn.XLOOKUP(C131,プルダウンデータリスト!$AF$2:$AF$7,プルダウンデータリスト!$AG$2:$AG$7,\"-\")))","v":"-"},"-","-",{"$f":"IF(C131=\"\",\"-\",_xlfn.XLOOKUP(C131,プルダウンデータリスト!$V$2:$V$9,プルダウンデータリスト!$X$2:$X$9,\"-\"))","v":"-"},"-"]
[null,null,null,null,null,null,{"$f":"IF($F132=\"\",\"-\",IF($C132=\"製材（製材・集成材・ＣＬＴ等）\",IF($E132=\"\",\"-\",_xlfn.XLOOKUP('２－２'!$E132,プルダウンデータリスト!$AC$2:$AC$65,プルダウンデータリスト!$AD$2:$AD$65)),_xlfn.XLOOKUP($C132,プルダウンデータリスト!$V$3:$V$9,プルダウンデータリスト!$W$3:$W$9,)))","v":"-"},null,null,{"$f":"IF($I132=\"\",\"-\",IF($C132=\"製材（製材・集成材・ＣＬＴ等）\",IF($E132=\"\",\"-\",_xlfn.XLOOKUP('２－２'!$E132,プルダウンデータリスト!$AC$2:$AC$65,プルダウンデータリスト!$AD$2:$AD$65)),_xlfn.XLOOKUP($C132,プルダウンデータリスト!$V$3:$V$9,プルダウンデータリスト!$W$3:$W$9,)))","v":"-"},null,{"$f":"IF(LEN(F132)+LEN(H132)>0,\"-\",IF(LEN(I132)+LEN(K132)<=0,\"-\",_xlfn.XLOOKUP(C132,プルダウンデータリスト!$AF$2:$AF$7,プルダウンデータリスト!$AG$2:$AG$7,\"-\")))","v":"-"},"-","-",{"$f":"IF(C132=\"\",\"-\",_xlfn.XLOOKUP(C132,プルダウンデータリスト!$V$2:$V$9,プルダウンデータリスト!$X$2:$X$9,\"-\"))","v":"-"},"-"]
[null,null,null,null,null,null,{"$f":"IF($F133=\"\",\"-\",IF($C133=\"製材（製材・集成材・ＣＬＴ等）\",IF($E133=\"\",\"-\",_xlfn.XLOOKUP('２－２'!$E133,プルダウンデータリスト!$AC$2:$AC$65,プルダウンデータリスト!$AD$2:$AD$65)),_xlfn.XLOOKUP($C133,プルダウンデータリスト!$V$3:$V$9,プルダウンデータリスト!$W$3:$W$9,)))","v":"-"},null,null,{"$f":"IF($I133=\"\",\"-\",IF($C133=\"製材（製材・集成材・ＣＬＴ等）\",IF($E133=\"\",\"-\",_xlfn.XLOOKUP('２－２'!$E133,プルダウンデータリスト!$AC$2:$AC$65,プルダウンデータリスト!$AD$2:$AD$65)),_xlfn.XLOOKUP($C133,プルダウンデータリスト!$V$3:$V$9,プルダウンデータリスト!$W$3:$W$9,)))","v":"-"},null,{"$f":"IF(LEN(F133)+LEN(H133)>0,\"-\",IF(LEN(I133)+LEN(K133)<=0,\"-\",_xlfn.XLOOKUP(C133,プルダウンデータリスト!$AF$2:$AF$7,プルダウンデータリスト!$AG$2:$AG$7,\"-\")))","v":"-"},"-","-",{"$f":"IF(C133=\"\",\"-\",_xlfn.XLOOKUP(C133,プルダウンデータリスト!$V$2:$V$9,プルダウンデータリスト!$X$2:$X$9,\"-\"))","v":"-"},"-"]
[null,null,null,null,null,null,{"$f":"IF($F134=\"\",\"-\",IF($C134=\"製材（製材・集成材・ＣＬＴ等）\",IF($E134=\"\",\"-\",_xlfn.XLOOKUP('２－２'!$E134,プルダウンデータリスト!$AC$2:$AC$65,プルダウンデータリスト!$AD$2:$AD$65)),_xlfn.XLOOKUP($C134,プルダウンデータリスト!$V$3:$V$9,プルダウンデータリスト!$W$3:$W$9,)))","v":"-"},null,null,{"$f":"IF($I134=\"\",\"-\",IF($C134=\"製材（製材・集成材・ＣＬＴ等）\",IF($E134=\"\",\"-\",_xlfn.XLOOKUP('２－２'!$E134,プルダウンデータリスト!$AC$2:$AC$65,プルダウンデータリスト!$AD$2:$AD$65)),_xlfn.XLOOKUP($C134,プルダウンデータリスト!$V$3:$V$9,プルダウンデータリスト!$W$3:$W$9,)))","v":"-"},null,{"$f":"IF(LEN(F134)+LEN(H134)>0,\"-\",IF(LEN(I134)+LEN(K134)<=0,\"-\",_xlfn.XLOOKUP(C134,プルダウンデータリスト!$AF$2:$AF$7,プルダウンデータリスト!$AG$2:$AG$7,\"-\")))","v":"-"},"-","-",{"$f":"IF(C134=\"\",\"-\",_xlfn.XLOOKUP(C134,プルダウンデータリスト!$V$2:$V$9,プルダウンデータリスト!$X$2:$X$9,\"-\"))","v":"-"},"-"]
[null,null,null,null,null,null,{"$f":"IF($F135=\"\",\"-\",IF($C135=\"製材（製材・集成材・ＣＬＴ等）\",IF($E135=\"\",\"-\",_xlfn.XLOOKUP('２－２'!$E135,プルダウンデータリスト!$AC$2:$AC$65,プルダウンデータリスト!$AD$2:$AD$65)),_xlfn.XLOOKUP($C135,プルダウンデータリスト!$V$3:$V$9,プルダウンデータリスト!$W$3:$W$9,)))","v":"-"},null,null,{"$f":"IF($I135=\"\",\"-\",IF($C135=\"製材（製材・集成材・ＣＬＴ等）\",IF($E135=\"\",\"-\",_xlfn.XLOOKUP('２－２'!$E135,プルダウンデータリスト!$AC$2:$AC$65,プルダウンデータリスト!$AD$2:$AD$65)),_xlfn.XLOOKUP($C135,プルダウンデータリスト!$V$3:$V$9,プルダウンデータリスト!$W$3:$W$9,)))","v":"-"},null,{"$f":"IF(LEN(F135)+LEN(H135)>0,\"-\",IF(LEN(I135)+LEN(K135)<=0,\"-\",_xlfn.XLOOKUP(C135,プルダウンデータリスト!$AF$2:$AF$7,プルダウンデータリスト!$AG$2:$AG$7,\"-\")))","v":"-"},"-","-",{"$f":"IF(C135=\"\",\"-\",_xlfn.XLOOKUP(C135,プルダウンデータリスト!$V$2:$V$9,プルダウンデータリスト!$X$2:$X$9,\"-\"))","v":"-"},"-"]
[null,null,null,null,null,null,{"$f":"IF($F136=\"\",\"-\",IF($C136=\"製材（製材・集成材・ＣＬＴ等）\",IF($E136=\"\",\"-\",_xlfn.XLOOKUP('２－２'!$E136,プルダウンデータリスト!$AC$2:$AC$65,プルダウンデータリスト!$AD$2:$AD$65)),_xlfn.XLOOKUP($C136,プルダウンデータリスト!$V$3:$V$9,プルダウンデータリスト!$W$3:$W$9,)))","v":"-"},null,null,{"$f":"IF($I136=\"\",\"-\",IF($C136=\"製材（製材・集成材・ＣＬＴ等）\",IF($E136=\"\",\"-\",_xlfn.XLOOKUP('２－２'!$E136,プルダウンデータリスト!$AC$2:$AC$65,プルダウンデータリスト!$AD$2:$AD$65)),_xlfn.XLOOKUP($C136,プルダウンデータリスト!$V$3:$V$9,プルダウンデータリスト!$W$3:$W$9,)))","v":"-"},null,{"$f":"IF(LEN(F136)+LEN(H136)>0,\"-\",IF(LEN(I136)+LEN(K136)<=0,\"-\",_xlfn.XLOOKUP(C136,プルダウンデータリスト!$AF$2:$AF$7,プルダウンデータリスト!$AG$2:$AG$7,\"-\")))","v":"-"},"-","-",{"$f":"IF(C136=\"\",\"-\",_xlfn.XLOOKUP(C136,プルダウンデータリスト!$V$2:$V$9,プルダウンデータリスト!$X$2:$X$9,\"-\"))","v":"-"},"-"]
[null,null,null,null,null,null,{"$f":"IF($F137=\"\",\"-\",IF($C137=\"製材（製材・集成材・ＣＬＴ等）\",IF($E137=\"\",\"-\",_xlfn.XLOOKUP('２－２'!$E137,プルダウンデータリスト!$AC$2:$AC$65,プルダウンデータリスト!$AD$2:$AD$65)),_xlfn.XLOOKUP($C137,プルダウンデータリスト!$V$3:$V$9,プルダウンデータリスト!$W$3:$W$9,)))","v":"-"},null,null,{"$f":"IF($I137=\"\",\"-\",IF($C137=\"製材（製材・集成材・ＣＬＴ等）\",IF($E137=\"\",\"-\",_xlfn.XLOOKUP('２－２'!$E137,プルダウンデータリスト!$AC$2:$AC$65,プルダウンデータリスト!$AD$2:$AD$65)),_xlfn.XLOOKUP($C137,プルダウンデータリスト!$V$3:$V$9,プルダウンデータリスト!$W$3:$W$9,)))","v":"-"},null,{"$f":"IF(LEN(F137)+LEN(H137)>0,\"-\",IF(LEN(I137)+LEN(K137)<=0,\"-\",_xlfn.XLOOKUP(C137,プルダウンデータリスト!$AF$2:$AF$7,プルダウンデータリスト!$AG$2:$AG$7,\"-\")))","v":"-"},"-","-",{"$f":"IF(C137=\"\",\"-\",_xlfn.XLOOKUP(C137,プルダウンデータリスト!$V$2:$V$9,プルダウンデータリスト!$X$2:$X$9,\"-\"))","v":"-"},"-"]
[null,null,null,null,null,null,{"$f":"IF($F138=\"\",\"-\",IF($C138=\"製材（製材・集成材・ＣＬＴ等）\",IF($E138=\"\",\"-\",_xlfn.XLOOKUP('２－２'!$E138,プルダウンデータリスト!$AC$2:$AC$65,プルダウンデータリスト!$AD$2:$AD$65)),_xlfn.XLOOKUP($C138,プルダウンデータリスト!$V$3:$V$9,プルダウンデータリスト!$W$3:$W$9,)))","v":"-"},null,null,{"$f":"IF($I138=\"\",\"-\",IF($C138=\"製材（製材・集成材・ＣＬＴ等）\",IF($E138=\"\",\"-\",_xlfn.XLOOKUP('２－２'!$E138,プルダウンデータリスト!$AC$2:$AC$65,プルダウンデータリスト!$AD$2:$AD$65)),_xlfn.XLOOKUP($C138,プルダウンデータリスト!$V$3:$V$9,プルダウンデータリスト!$W$3:$W$9,)))","v":"-"},null,{"$f":"IF(LEN(F138)+LEN(H138)>0,\"-\",IF(LEN(I138)+LEN(K138)<=0,\"-\",_xlfn.XLOOKUP(C138,プルダウンデータリスト!$AF$2:$AF$7,プルダウンデータリスト!$AG$2:$AG$7,\"-\")))","v":"-"},"-","-",{"$f":"IF(C138=\"\",\"-\",_xlfn.XLOOKUP(C138,プルダウンデータリスト!$V$2:$V$9,プルダウンデータリスト!$X$2:$X$9,\"-\"))","v":"-"},"-"]
[null,null,null,null,null,null,{"$f":"IF($F139=\"\",\"-\",IF($C139=\"製材（製材・集成材・ＣＬＴ等）\",IF($E139=\"\",\"-\",_xlfn.XLOOKUP('２－２'!$E139,プルダウンデータリスト!$AC$2:$AC$65,プルダウンデータリスト!$AD$2:$AD$65)),_xlfn.XLOOKUP($C139,プルダウンデータリスト!$V$3:$V$9,プルダウンデータリスト!$W$3:$W$9,)))","v":"-"},null,null,{"$f":"IF($I139=\"\",\"-\",IF($C139=\"製材（製材・集成材・ＣＬＴ等）\",IF($E139=\"\",\"-\",_xlfn.XLOOKUP('２－２'!$E139,プルダウンデータリスト!$AC$2:$AC$65,プルダウンデータリスト!$AD$2:$AD$65)),_xlfn.XLOOKUP($C139,プルダウンデータリスト!$V$3:$V$9,プルダウンデータリスト!$W$3:$W$9,)))","v":"-"},null,{"$f":"IF(LEN(F139)+LEN(H139)>0,\"-\",IF(LEN(I139)+LEN(K139)<=0,\"-\",_xlfn.XLOOKUP(C139,プルダウンデータリスト!$AF$2:$AF$7,プルダウンデータリスト!$AG$2:$AG$7,\"-\")))","v":"-"},"-","-",{"$f":"IF(C139=\"\",\"-\",_xlfn.XLOOKUP(C139,プルダウンデータリスト!$V$2:$V$9,プルダウンデータリスト!$X$2:$X$9,\"-\"))","v":"-"},"-"]
[null,null,null,null,null,null,{"$f":"IF($F140=\"\",\"-\",IF($C140=\"製材（製材・集成材・ＣＬＴ等）\",IF($E140=\"\",\"-\",_xlfn.XLOOKUP('２－２'!$E140,プルダウンデータリスト!$AC$2:$AC$65,プルダウンデータリスト!$AD$2:$AD$65)),_xlfn.XLOOKUP($C140,プルダウンデータリスト!$V$3:$V$9,プルダウンデータリスト!$W$3:$W$9,)))","v":"-"},null,null,{"$f":"IF($I140=\"\",\"-\",IF($C140=\"製材（製材・集成材・ＣＬＴ等）\",IF($E140=\"\",\"-\",_xlfn.XLOOKUP('２－２'!$E140,プルダウンデータリスト!$AC$2:$AC$65,プルダウンデータリスト!$AD$2:$AD$65)),_xlfn.XLOOKUP($C140,プルダウンデータリスト!$V$3:$V$9,プルダウンデータリスト!$W$3:$W$9,)))","v":"-"},null,{"$f":"IF(LEN(F140)+LEN(H140)>0,\"-\",IF(LEN(I140)+LEN(K140)<=0,\"-\",_xlfn.XLOOKUP(C140,プルダウンデータリスト!$AF$2:$AF$7,プルダウンデータリスト!$AG$2:$AG$7,\"-\")))","v":"-"},"-","-",{"$f":"IF(C140=\"\",\"-\",_xlfn.XLOOKUP(C140,プルダウンデータリスト!$V$2:$V$9,プルダウンデータリスト!$X$2:$X$9,\"-\"))","v":"-"},"-"]
[null,null,null,null,null,null,{"$f":"IF($F141=\"\",\"-\",IF($C141=\"製材（製材・集成材・ＣＬＴ等）\",IF($E141=\"\",\"-\",_xlfn.XLOOKUP('２－２'!$E141,プルダウンデータリスト!$AC$2:$AC$65,プルダウンデータリスト!$AD$2:$AD$65)),_xlfn.XLOOKUP($C141,プルダウンデータリスト!$V$3:$V$9,プルダウンデータリスト!$W$3:$W$9,)))","v":"-"},null,null,{"$f":"IF($I141=\"\",\"-\",IF($C141=\"製材（製材・集成材・ＣＬＴ等）\",IF($E141=\"\",\"-\",_xlfn.XLOOKUP('２－２'!$E141,プルダウンデータリスト!$AC$2:$AC$65,プルダウンデータリスト!$AD$2:$AD$65)),_xlfn.XLOOKUP($C141,プルダウンデータリスト!$V$3:$V$9,プルダウンデータリスト!$W$3:$W$9,)))","v":"-"},null,{"$f":"IF(LEN(F141)+LEN(H141)>0,\"-\",IF(LEN(I141)+LEN(K141)<=0,\"-\",_xlfn.XLOOKUP(C141,プルダウンデータリスト!$AF$2:$AF$7,プルダウンデータリスト!$AG$2:$AG$7,\"-\")))","v":"-"},"-","-",{"$f":"IF(C141=\"\",\"-\",_xlfn.XLOOKUP(C141,プルダウンデータリスト!$V$2:$V$9,プルダウンデータリスト!$X$2:$X$9,\"-\"))","v":"-"},"-"]
[null,null,null,null,null,null,{"$f":"IF($F142=\"\",\"-\",IF($C142=\"製材（製材・集成材・ＣＬＴ等）\",IF($E142=\"\",\"-\",_xlfn.XLOOKUP('２－２'!$E142,プルダウンデータリスト!$AC$2:$AC$65,プルダウンデータリスト!$AD$2:$AD$65)),_xlfn.XLOOKUP($C142,プルダウンデータリスト!$V$3:$V$9,プルダウンデータリスト!$W$3:$W$9,)))","v":"-"},null,null,{"$f":"IF($I142=\"\",\"-\",IF($C142=\"製材（製材・集成材・ＣＬＴ等）\",IF($E142=\"\",\"-\",_xlfn.XLOOKUP('２－２'!$E142,プルダウンデータリスト!$AC$2:$AC$65,プルダウンデータリスト!$AD$2:$AD$65)),_xlfn.XLOOKUP($C142,プルダウンデータリスト!$V$3:$V$9,プルダウンデータリスト!$W$3:$W$9,)))","v":"-"},null,{"$f":"IF(LEN(F142)+LEN(H142)>0,\"-\",IF(LEN(I142)+LEN(K142)<=0,\"-\",_xlfn.XLOOKUP(C142,プルダウンデータリスト!$AF$2:$AF$7,プルダウンデータリスト!$AG$2:$AG$7,\"-\")))","v":"-"},"-","-",{"$f":"IF(C142=\"\",\"-\",_xlfn.XLOOKUP(C142,プルダウンデータリスト!$V$2:$V$9,プルダウンデータリスト!$X$2:$X$9,\"-\"))","v":"-"},"-"]
[null,null,null,null,null,null,{"$f":"IF($F143=\"\",\"-\",IF($C143=\"製材（製材・集成材・ＣＬＴ等）\",IF($E143=\"\",\"-\",_xlfn.XLOOKUP('２－２'!$E143,プルダウンデータリスト!$AC$2:$AC$65,プルダウンデータリスト!$AD$2:$AD$65)),_xlfn.XLOOKUP($C143,プルダウンデータリスト!$V$3:$V$9,プルダウンデータリスト!$W$3:$W$9,)))","v":"-"},null,null,{"$f":"IF($I143=\"\",\"-\",IF($C143=\"製材（製材・集成材・ＣＬＴ等）\",IF($E143=\"\",\"-\",_xlfn.XLOOKUP('２－２'!$E143,プルダウンデータリスト!$AC$2:$AC$65,プルダウンデータリスト!$AD$2:$AD$65)),_xlfn.XLOOKUP($C143,プルダウンデータリスト!$V$3:$V$9,プルダウンデータリスト!$W$3:$W$9,)))","v":"-"},null,{"$f":"IF(LEN(F143)+LEN(H143)>0,\"-\",IF(LEN(I143)+LEN(K143)<=0,\"-\",_xlfn.XLOOKUP(C143,プルダウンデータリスト!$AF$2:$AF$7,プルダウンデータリスト!$AG$2:$AG$7,\"-\")))","v":"-"},"-","-",{"$f":"IF(C143=\"\",\"-\",_xlfn.XLOOKUP(C143,プルダウンデータリスト!$V$2:$V$9,プルダウンデータリスト!$X$2:$X$9,\"-\"))","v":"-"},"-"]
[null,null,null,null,null,null,{"$f":"IF($F144=\"\",\"-\",IF($C144=\"製材（製材・集成材・ＣＬＴ等）\",IF($E144=\"\",\"-\",_xlfn.XLOOKUP('２－２'!$E144,プルダウンデータリスト!$AC$2:$AC$65,プルダウンデータリスト!$AD$2:$AD$65)),_xlfn.XLOOKUP($C144,プルダウンデータリスト!$V$3:$V$9,プルダウンデータリスト!$W$3:$W$9,)))","v":"-"},null,null,{"$f":"IF($I144=\"\",\"-\",IF($C144=\"製材（製材・集成材・ＣＬＴ等）\",IF($E144=\"\",\"-\",_xlfn.XLOOKUP('２－２'!$E144,プルダウンデータリスト!$AC$2:$AC$65,プルダウンデータリスト!$AD$2:$AD$65)),_xlfn.XLOOKUP($C144,プルダウンデータリスト!$V$3:$V$9,プルダウンデータリスト!$W$3:$W$9,)))","v":"-"},null,{"$f":"IF(LEN(F144)+LEN(H144)>0,\"-\",IF(LEN(I144)+LEN(K144)<=0,\"-\",_xlfn.XLOOKUP(C144,プルダウンデータリスト!$AF$2:$AF$7,プルダウンデータリスト!$AG$2:$AG$7,\"-\")))","v":"-"},"-","-",{"$f":"IF(C144=\"\",\"-\",_xlfn.XLOOKUP(C144,プルダウンデータリスト!$V$2:$V$9,プルダウンデータリスト!$X$2:$X$9,\"-\"))","v":"-"},"-"]
[null,null,null,null,null,null,{"$f":"IF($F145=\"\",\"-\",IF($C145=\"製材（製材・集成材・ＣＬＴ等）\",IF($E145=\"\",\"-\",_xlfn.XLOOKUP('２－２'!$E145,プルダウンデータリスト!$AC$2:$AC$65,プルダウンデータリスト!$AD$2:$AD$65)),_xlfn.XLOOKUP($C145,プルダウンデータリスト!$V$3:$V$9,プルダウンデータリスト!$W$3:$W$9,)))","v":"-"},null,null,{"$f":"IF($I145=\"\",\"-\",IF($C145=\"製材（製材・集成材・ＣＬＴ等）\",IF($E145=\"\",\"-\",_xlfn.XLOOKUP('２－２'!$E145,プルダウンデータリスト!$AC$2:$AC$65,プルダウンデータリスト!$AD$2:$AD$65)),_xlfn.XLOOKUP($C145,プルダウンデータリスト!$V$3:$V$9,プルダウンデータリスト!$W$3:$W$9,)))","v":"-"},null,{"$f":"IF(LEN(F145)+LEN(H145)>0,\"-\",IF(LEN(I145)+LEN(K145)<=0,\"-\",_xlfn.XLOOKUP(C145,プルダウンデータリスト!$AF$2:$AF$7,プルダウンデータリスト!$AG$2:$AG$7,\"-\")))","v":"-"},"-","-",{"$f":"IF(C145=\"\",\"-\",_xlfn.XLOOKUP(C145,プルダウンデータリスト!$V$2:$V$9,プルダウンデータリスト!$X$2:$X$9,\"-\"))","v":"-"},"-"]
[null,null,null,null,null,null,{"$f":"IF($F146=\"\",\"-\",IF($C146=\"製材（製材・集成材・ＣＬＴ等）\",IF($E146=\"\",\"-\",_xlfn.XLOOKUP('２－２'!$E146,プルダウンデータリスト!$AC$2:$AC$65,プルダウンデータリスト!$AD$2:$AD$65)),_xlfn.XLOOKUP($C146,プルダウンデータリスト!$V$3:$V$9,プルダウンデータリスト!$W$3:$W$9,)))","v":"-"},null,null,{"$f":"IF($I146=\"\",\"-\",IF($C146=\"製材（製材・集成材・ＣＬＴ等）\",IF($E146=\"\",\"-\",_xlfn.XLOOKUP('２－２'!$E146,プルダウンデータリスト!$AC$2:$AC$65,プルダウンデータリスト!$AD$2:$AD$65)),_xlfn.XLOOKUP($C146,プルダウンデータリスト!$V$3:$V$9,プルダウンデータリスト!$W$3:$W$9,)))","v":"-"},null,{"$f":"IF(LEN(F146)+LEN(H146)>0,\"-\",IF(LEN(I146)+LEN(K146)<=0,\"-\",_xlfn.XLOOKUP(C146,プルダウンデータリスト!$AF$2:$AF$7,プルダウンデータリスト!$AG$2:$AG$7,\"-\")))","v":"-"},"-","-",{"$f":"IF(C146=\"\",\"-\",_xlfn.XLOOKUP(C146,プルダウンデータリスト!$V$2:$V$9,プルダウンデータリスト!$X$2:$X$9,\"-\"))","v":"-"},"-"]
[null,null,null,null,null,null,{"$f":"IF($F147=\"\",\"-\",IF($C147=\"製材（製材・集成材・ＣＬＴ等）\",IF($E147=\"\",\"-\",_xlfn.XLOOKUP('２－２'!$E147,プルダウンデータリスト!$AC$2:$AC$65,プルダウンデータリスト!$AD$2:$AD$65)),_xlfn.XLOOKUP($C147,プルダウンデータリスト!$V$3:$V$9,プルダウンデータリスト!$W$3:$W$9,)))","v":"-"},null,null,{"$f":"IF($I147=\"\",\"-\",IF($C147=\"製材（製材・集成材・ＣＬＴ等）\",IF($E147=\"\",\"-\",_xlfn.XLOOKUP('２－２'!$E147,プルダウンデータリスト!$AC$2:$AC$65,プルダウンデータリスト!$AD$2:$AD$65)),_xlfn.XLOOKUP($C147,プルダウンデータリスト!$V$3:$V$9,プルダウンデータリスト!$W$3:$W$9,)))","v":"-"},null,{"$f":"IF(LEN(F147)+LEN(H147)>0,\"-\",IF(LEN(I147)+LEN(K147)<=0,\"-\",_xlfn.XLOOKUP(C147,プルダウンデータリスト!$AF$2:$AF$7,プルダウンデータリスト!$AG$2:$AG$7,\"-\")))","v":"-"},"-","-",{"$f":"IF(C147=\"\",\"-\",_xlfn.XLOOKUP(C147,プルダウンデータリスト!$V$2:$V$9,プルダウンデータリスト!$X$2:$X$9,\"-\"))","v":"-"},"-"]
[null,null,null,null,null,null,{"$f":"IF($F148=\"\",\"-\",IF($C148=\"製材（製材・集成材・ＣＬＴ等）\",IF($E148=\"\",\"-\",_xlfn.XLOOKUP('２－２'!$E148,プルダウンデータリスト!$AC$2:$AC$65,プルダウンデータリスト!$AD$2:$AD$65)),_xlfn.XLOOKUP($C148,プルダウンデータリスト!$V$3:$V$9,プルダウンデータリスト!$W$3:$W$9,)))","v":"-"},null,null,{"$f":"IF($I148=\"\",\"-\",IF($C148=\"製材（製材・集成材・ＣＬＴ等）\",IF($E148=\"\",\"-\",_xlfn.XLOOKUP('２－２'!$E148,プルダウンデータリスト!$AC$2:$AC$65,プルダウンデータリスト!$AD$2:$AD$65)),_xlfn.XLOOKUP($C148,プルダウンデータリスト!$V$3:$V$9,プルダウンデータリスト!$W$3:$W$9,)))","v":"-"},null,{"$f":"IF(LEN(F148)+LEN(H148)>0,\"-\",IF(LEN(I148)+LEN(K148)<=0,\"-\",_xlfn.XLOOKUP(C148,プルダウンデータリスト!$AF$2:$AF$7,プルダウンデータリスト!$AG$2:$AG$7,\"-\")))","v":"-"},"-","-",{"$f":"IF(C148=\"\",\"-\",_xlfn.XLOOKUP(C148,プルダウンデータリスト!$V$2:$V$9,プルダウンデータリスト!$X$2:$X$9,\"-\"))","v":"-"},"-"]
[null,null,null,null,null,null,{"$f":"IF($F149=\"\",\"-\",IF($C149=\"製材（製材・集成材・ＣＬＴ等）\",IF($E149=\"\",\"-\",_xlfn.XLOOKUP('２－２'!$E149,プルダウンデータリスト!$AC$2:$AC$65,プルダウンデータリスト!$AD$2:$AD$65)),_xlfn.XLOOKUP($C149,プルダウンデータリスト!$V$3:$V$9,プルダウンデータリスト!$W$3:$W$9,)))","v":"-"},null,null,{"$f":"IF($I149=\"\",\"-\",IF($C149=\"製材（製材・集成材・ＣＬＴ等）\",IF($E149=\"\",\"-\",_xlfn.XLOOKUP('２－２'!$E149,プルダウンデータリスト!$AC$2:$AC$65,プルダウンデータリスト!$AD$2:$AD$65)),_xlfn.XLOOKUP($C149,プルダウンデータリスト!$V$3:$V$9,プルダウンデータリスト!$W$3:$W$9,)))","v":"-"},null,{"$f":"IF(LEN(F149)+LEN(H149)>0,\"-\",IF(LEN(I149)+LEN(K149)<=0,\"-\",_xlfn.XLOOKUP(C149,プルダウンデータリスト!$AF$2:$AF$7,プルダウンデータリスト!$AG$2:$AG$7,\"-\")))","v":"-"},"-","-",{"$f":"IF(C149=\"\",\"-\",_xlfn.XLOOKUP(C149,プルダウンデータリスト!$V$2:$V$9,プルダウンデータリスト!$X$2:$X$9,\"-\"))","v":"-"},"-"]
[null,null,null,null,null,null,{"$f":"IF($F150=\"\",\"-\",IF($C150=\"製材（製材・集成材・ＣＬＴ等）\",IF($E150=\"\",\"-\",_xlfn.XLOOKUP('２－２'!$E150,プルダウンデータリスト!$AC$2:$AC$65,プルダウンデータリスト!$AD$2:$AD$65)),_xlfn.XLOOKUP($C150,プルダウンデータリスト!$V$3:$V$9,プルダウンデータリスト!$W$3:$W$9,)))","v":"-"},null,null,{"$f":"IF($I150=\"\",\"-\",IF($C150=\"製材（製材・集成材・ＣＬＴ等）\",IF($E150=\"\",\"-\",_xlfn.XLOOKUP('２－２'!$E150,プルダウンデータリスト!$AC$2:$AC$65,プルダウンデータリスト!$AD$2:$AD$65)),_xlfn.XLOOKUP($C150,プルダウンデータリスト!$V$3:$V$9,プルダウンデータリスト!$W$3:$W$9,)))","v":"-"},null,{"$f":"IF(LEN(F150)+LEN(H150)>0,\"-\",IF(LEN(I150)+LEN(K150)<=0,\"-\",_xlfn.XLOOKUP(C150,プルダウンデータリスト!$AF$2:$AF$7,プルダウンデータリスト!$AG$2:$AG$7,\"-\")))","v":"-"},"-","-",{"$f":"IF(C150=\"\",\"-\",_xlfn.XLOOKUP(C150,プルダウンデータリスト!$V$2:$V$9,プルダウンデータリスト!$X$2:$X$9,\"-\"))","v":"-"},"-"]
[null,null,null,null,null,null,{"$f":"IF($F151=\"\",\"-\",IF($C151=\"製材（製材・集成材・ＣＬＴ等）\",IF($E151=\"\",\"-\",_xlfn.XLOOKUP('２－２'!$E151,プルダウンデータリスト!$AC$2:$AC$65,プルダウンデータリスト!$AD$2:$AD$65)),_xlfn.XLOOKUP($C151,プルダウンデータリスト!$V$3:$V$9,プルダウンデータリスト!$W$3:$W$9,)))","v":"-"},null,null,{"$f":"IF($I151=\"\",\"-\",IF($C151=\"製材（製材・集成材・ＣＬＴ等）\",IF($E151=\"\",\"-\",_xlfn.XLOOKUP('２－２'!$E151,プルダウンデータリスト!$AC$2:$AC$65,プルダウンデータリスト!$AD$2:$AD$65)),_xlfn.XLOOKUP($C151,プルダウンデータリスト!$V$3:$V$9,プルダウンデータリスト!$W$3:$W$9,)))","v":"-"},null,{"$f":"IF(LEN(F151)+LEN(H151)>0,\"-\",IF(LEN(I151)+LEN(K151)<=0,\"-\",_xlfn.XLOOKUP(C151,プルダウンデータリスト!$AF$2:$AF$7,プルダウンデータリスト!$AG$2:$AG$7,\"-\")))","v":"-"},"-","-",{"$f":"IF(C151=\"\",\"-\",_xlfn.XLOOKUP(C151,プルダウンデータリスト!$V$2:$V$9,プルダウンデータリスト!$X$2:$X$9,\"-\"))","v":"-"},"-"]
[null,null,null,null,null,null,{"$f":"IF($F152=\"\",\"-\",IF($C152=\"製材（製材・集成材・ＣＬＴ等）\",IF($E152=\"\",\"-\",_xlfn.XLOOKUP('２－２'!$E152,プルダウンデータリスト!$AC$2:$AC$65,プルダウンデータリスト!$AD$2:$AD$65)),_xlfn.XLOOKUP($C152,プルダウンデータリスト!$V$3:$V$9,プルダウンデータリスト!$W$3:$W$9,)))","v":"-"},null,null,{"$f":"IF($I152=\"\",\"-\",IF($C152=\"製材（製材・集成材・ＣＬＴ等）\",IF($E152=\"\",\"-\",_xlfn.XLOOKUP('２－２'!$E152,プルダウンデータリスト!$AC$2:$AC$65,プルダウンデータリスト!$AD$2:$AD$65)),_xlfn.XLOOKUP($C152,プルダウンデータリスト!$V$3:$V$9,プルダウンデータリスト!$W$3:$W$9,)))","v":"-"},null,{"$f":"IF(LEN(F152)+LEN(H152)>0,\"-\",IF(LEN(I152)+LEN(K152)<=0,\"-\",_xlfn.XLOOKUP(C152,プルダウンデータリスト!$AF$2:$AF$7,プルダウンデータリスト!$AG$2:$AG$7,\"-\")))","v":"-"},{"$f":"IF(SUM(F152,H152,I152,K152)<=0,\"-\",IF((LEN(H152)+LEN(K152))>0,\"-\",IF(LEN(F152)>0,F152,IF(LEN(I152)>0,I152*L152,\"\"))))","v":"-"},{"$f":"IF(SUM(F152,H152,I152,K152)<=0,\"-\",IF((LEN(F152)+LEN(I152))>0,\"-\",IF(LEN(H152)>0,H152,IF(LEN(K152)>0,K152*L152,\"\"))))","v":"-"},{"$f":"IF(C152=\"\",\"-\",_xlfn.XLOOKUP(C152,プルダウンデータリスト!$V$2:$V$9,プルダウンデータリスト!$X$2:$X$9,\"-\"))","v":"-"},"-"]
[null,null,null,null,null,null,{"$f":"IF($F153=\"\",\"-\",IF($C153=\"製材（製材・集成材・ＣＬＴ等）\",IF($E153=\"\",\"-\",_xlfn.XLOOKUP('２－２'!$E153,プルダウンデータリスト!$AC$2:$AC$65,プルダウンデータリスト!$AD$2:$AD$65)),_xlfn.XLOOKUP($C153,プルダウンデータリスト!$V$3:$V$9,プルダウンデータリスト!$W$3:$W$9,)))","v":"-"},null,null,{"$f":"IF($I153=\"\",\"-\",IF($C153=\"製材（製材・集成材・ＣＬＴ等）\",IF($E153=\"\",\"-\",_xlfn.XLOOKUP('２－２'!$E153,プルダウンデータリスト!$AC$2:$AC$65,プルダウンデータリスト!$AD$2:$AD$65)),_xlfn.XLOOKUP($C153,プルダウンデータリスト!$V$3:$V$9,プルダウンデータリスト!$W$3:$W$9,)))","v":"-"},null,{"$f":"IF(LEN(F153)+LEN(H153)>0,\"-\",IF(LEN(I153)+LEN(K153)<=0,\"-\",_xlfn.XLOOKUP(C153,プルダウンデータリスト!$AF$2:$AF$7,プルダウンデータリスト!$AG$2:$AG$7,\"-\")))","v":"-"},"-","-",{"$f":"IF(C153=\"\",\"-\",_xlfn.XLOOKUP(C153,プルダウンデータリスト!$V$2:$V$9,プルダウンデータリスト!$X$2:$X$9,\"-\"))","v":"-"},"-"]
[null,null,null,null,null,null,{"$f":"IF($F154=\"\",\"-\",IF($C154=\"製材（製材・集成材・ＣＬＴ等）\",IF($E154=\"\",\"-\",_xlfn.XLOOKUP('２－２'!$E154,プルダウンデータリスト!$AC$2:$AC$65,プルダウンデータリスト!$AD$2:$AD$65)),_xlfn.XLOOKUP($C154,プルダウンデータリスト!$V$3:$V$9,プルダウンデータリスト!$W$3:$W$9,)))","v":"-"},null,null,{"$f":"IF($I154=\"\",\"-\",IF($C154=\"製材（製材・集成材・ＣＬＴ等）\",IF($E154=\"\",\"-\",_xlfn.XLOOKUP('２－２'!$E154,プルダウンデータリスト!$AC$2:$AC$65,プルダウンデータリスト!$AD$2:$AD$65)),_xlfn.XLOOKUP($C154,プルダウンデータリスト!$V$3:$V$9,プルダウンデータリスト!$W$3:$W$9,)))","v":"-"},null,{"$f":"IF(LEN(F154)+LEN(H154)>0,\"-\",IF(LEN(I154)+LEN(K154)<=0,\"-\",_xlfn.XLOOKUP(C154,プルダウンデータリスト!$AF$2:$AF$7,プルダウンデータリスト!$AG$2:$AG$7,\"-\")))","v":"-"},"-","-",{"$f":"IF(C154=\"\",\"-\",_xlfn.XLOOKUP(C154,プルダウンデータリスト!$V$2:$V$9,プルダウンデータリスト!$X$2:$X$9,\"-\"))","v":"-"},"-"]
[null,null,null,null,null,null,{"$f":"IF($F155=\"\",\"-\",IF($C155=\"製材（製材・集成材・ＣＬＴ等）\",IF($E155=\"\",\"-\",_xlfn.XLOOKUP('２－２'!$E155,プルダウンデータリスト!$AC$2:$AC$65,プルダウンデータリスト!$AD$2:$AD$65)),_xlfn.XLOOKUP($C155,プルダウンデータリスト!$V$3:$V$9,プルダウンデータリスト!$W$3:$W$9,)))","v":"-"},null,null,{"$f":"IF($I155=\"\",\"-\",IF($C155=\"製材（製材・集成材・ＣＬＴ等）\",IF($E155=\"\",\"-\",_xlfn.XLOOKUP('２－２'!$E155,プルダウンデータリスト!$AC$2:$AC$65,プルダウンデータリスト!$AD$2:$AD$65)),_xlfn.XLOOKUP($C155,プルダウンデータリスト!$V$3:$V$9,プルダウンデータリスト!$W$3:$W$9,)))","v":"-"},null,{"$f":"IF(LEN(F155)+LEN(H155)>0,\"-\",IF(LEN(I155)+LEN(K155)<=0,\"-\",_xlfn.XLOOKUP(C155,プルダウンデータリスト!$AF$2:$AF$7,プルダウンデータリスト!$AG$2:$AG$7,\"-\")))","v":"-"},"-","-",{"$f":"IF(C155=\"\",\"-\",_xlfn.XLOOKUP(C155,プルダウンデータリスト!$V$2:$V$9,プルダウンデータリスト!$X$2:$X$9,\"-\"))","v":"-"},"-"]
[null,null,null,null,null,null,{"$f":"IF($F156=\"\",\"-\",IF($C156=\"製材（製材・集成材・ＣＬＴ等）\",IF($E156=\"\",\"-\",_xlfn.XLOOKUP('２－２'!$E156,プルダウンデータリスト!$AC$2:$AC$65,プルダウンデータリスト!$AD$2:$AD$65)),_xlfn.XLOOKUP($C156,プルダウンデータリスト!$V$3:$V$9,プルダウンデータリスト!$W$3:$W$9,)))","v":"-"},null,null,{"$f":"IF($I156=\"\",\"-\",IF($C156=\"製材（製材・集成材・ＣＬＴ等）\",IF($E156=\"\",\"-\",_xlfn.XLOOKUP('２－２'!$E156,プルダウンデータリスト!$AC$2:$AC$65,プルダウンデータリスト!$AD$2:$AD$65)),_xlfn.XLOOKUP($C156,プルダウンデータリスト!$V$3:$V$9,プルダウンデータリスト!$W$3:$W$9,)))","v":"-"},null,{"$f":"IF(LEN(F156)+LEN(H156)>0,\"-\",IF(LEN(I156)+LEN(K156)<=0,\"-\",_xlfn.XLOOKUP(C156,プルダウンデータリスト!$AF$2:$AF$7,プルダウンデータリスト!$AG$2:$AG$7,\"-\")))","v":"-"},"-","-",{"$f":"IF(C156=\"\",\"-\",_xlfn.XLOOKUP(C156,プルダウンデータリスト!$V$2:$V$9,プルダウンデータリスト!$X$2:$X$9,\"-\"))","v":"-"},"-"]
[null,null,null,null,null,null,{"$f":"IF($F157=\"\",\"-\",IF($C157=\"製材（製材・集成材・ＣＬＴ等）\",IF($E157=\"\",\"-\",_xlfn.XLOOKUP('２－２'!$E157,プルダウンデータリスト!$AC$2:$AC$65,プルダウンデータリスト!$AD$2:$AD$65)),_xlfn.XLOOKUP($C157,プルダウンデータリスト!$V$3:$V$9,プルダウンデータリスト!$W$3:$W$9,)))","v":"-"},null,null,{"$f":"IF($I157=\"\",\"-\",IF($C157=\"製材（製材・集成材・ＣＬＴ等）\",IF($E157=\"\",\"-\",_xlfn.XLOOKUP('２－２'!$E157,プルダウンデータリスト!$AC$2:$AC$65,プルダウンデータリスト!$AD$2:$AD$65)),_xlfn.XLOOKUP($C157,プルダウンデータリスト!$V$3:$V$9,プルダウンデータリスト!$W$3:$W$9,)))","v":"-"},null,{"$f":"IF(LEN(F157)+LEN(H157)>0,\"-\",IF(LEN(I157)+LEN(K157)<=0,\"-\",_xlfn.XLOOKUP(C157,プルダウンデータリスト!$AF$2:$AF$7,プルダウンデータリスト!$AG$2:$AG$7,\"-\")))","v":"-"},"-","-",{"$f":"IF(C157=\"\",\"-\",_xlfn.XLOOKUP(C157,プルダウンデータリスト!$V$2:$V$9,プルダウンデータリスト!$X$2:$X$9,\"-\"))","v":"-"},"-"]
[null,null,null,null,null,null,{"$f":"IF($F158=\"\",\"-\",IF($C158=\"製材（製材・集成材・ＣＬＴ等）\",IF($E158=\"\",\"-\",_xlfn.XLOOKUP('２－２'!$E158,プルダウンデータリスト!$AC$2:$AC$65,プルダウンデータリスト!$AD$2:$AD$65)),_xlfn.XLOOKUP($C158,プルダウンデータリスト!$V$3:$V$9,プルダウンデータリスト!$W$3:$W$9,)))","v":"-"},null,null,{"$f":"IF($I158=\"\",\"-\",IF($C158=\"製材（製材・集成材・ＣＬＴ等）\",IF($E158=\"\",\"-\",_xlfn.XLOOKUP('２－２'!$E158,プルダウンデータリスト!$AC$2:$AC$65,プルダウンデータリスト!$AD$2:$AD$65)),_xlfn.XLOOKUP($C158,プルダウンデータリスト!$V$3:$V$9,プルダウンデータリスト!$W$3:$W$9,)))","v":"-"},null,{"$f":"IF(LEN(F158)+LEN(H158)>0,\"-\",IF(LEN(I158)+LEN(K158)<=0,\"-\",_xlfn.XLOOKUP(C158,プルダウンデータリスト!$AF$2:$AF$7,プルダウンデータリスト!$AG$2:$AG$7,\"-\")))","v":"-"},"-","-",{"$f":"IF(C158=\"\",\"-\",_xlfn.XLOOKUP(C158,プルダウンデータリスト!$V$2:$V$9,プルダウンデータリスト!$X$2:$X$9,\"-\"))","v":"-"},"-"]
[null,null,null,null,null,null,{"$f":"IF($F159=\"\",\"-\",IF($C159=\"製材（製材・集成材・ＣＬＴ等）\",IF($E159=\"\",\"-\",_xlfn.XLOOKUP('２－２'!$E159,プルダウンデータリスト!$AC$2:$AC$65,プルダウンデータリスト!$AD$2:$AD$65)),_xlfn.XLOOKUP($C159,プルダウンデータリスト!$V$3:$V$9,プルダウンデータリスト!$W$3:$W$9,)))","v":"-"},null,null,{"$f":"IF($I159=\"\",\"-\",IF($C159=\"製材（製材・集成材・ＣＬＴ等）\",IF($E159=\"\",\"-\",_xlfn.XLOOKUP('２－２'!$E159,プルダウンデータリスト!$AC$2:$AC$65,プルダウンデータリスト!$AD$2:$AD$65)),_xlfn.XLOOKUP($C159,プルダウンデータリスト!$V$3:$V$9,プルダウンデータリスト!$W$3:$W$9,)))","v":"-"},null,{"$f":"IF(LEN(F159)+LEN(H159)>0,\"-\",IF(LEN(I159)+LEN(K159)<=0,\"-\",_xlfn.XLOOKUP(C159,プルダウンデータリスト!$AF$2:$AF$7,プルダウンデータリスト!$AG$2:$AG$7,\"-\")))","v":"-"},"-","-",{"$f":"IF(C159=\"\",\"-\",_xlfn.XLOOKUP(C159,プルダウンデータリスト!$V$2:$V$9,プルダウンデータリスト!$X$2:$X$9,\"-\"))","v":"-"},"-"]
[null,null,null,null,null,null,{"$f":"IF($F160=\"\",\"-\",IF($C160=\"製材（製材・集成材・ＣＬＴ等）\",IF($E160=\"\",\"-\",_xlfn.XLOOKUP('２－２'!$E160,プルダウンデータリスト!$AC$2:$AC$65,プルダウンデータリスト!$AD$2:$AD$65)),_xlfn.XLOOKUP($C160,プルダウンデータリスト!$V$3:$V$9,プルダウンデータリスト!$W$3:$W$9,)))","v":"-"},null,null,{"$f":"IF($I160=\"\",\"-\",IF($C160=\"製材（製材・集成材・ＣＬＴ等）\",IF($E160=\"\",\"-\",_xlfn.XLOOKUP('２－２'!$E160,プルダウンデータリスト!$AC$2:$AC$65,プルダウンデータリスト!$AD$2:$AD$65)),_xlfn.XLOOKUP($C160,プルダウンデータリスト!$V$3:$V$9,プルダウンデータリスト!$W$3:$W$9,)))","v":"-"},null,{"$f":"IF(LEN(F160)+LEN(H160)>0,\"-\",IF(LEN(I160)+LEN(K160)<=0,\"-\",_xlfn.XLOOKUP(C160,プルダウンデータリスト!$AF$2:$AF$7,プルダウンデータリスト!$AG$2:$AG$7,\"-\")))","v":"-"},"-","-",{"$f":"IF(C160=\"\",\"-\",_xlfn.XLOOKUP(C160,プルダウンデータリスト!$V$2:$V$9,プルダウンデータリスト!$X$2:$X$9,\"-\"))","v":"-"},"-"]
[null,null,null,null,null,null,{"$f":"IF($F161=\"\",\"-\",IF($C161=\"製材（製材・集成材・ＣＬＴ等）\",IF($E161=\"\",\"-\",_xlfn.XLOOKUP('２－２'!$E161,プルダウンデータリスト!$AC$2:$AC$65,プルダウンデータリスト!$AD$2:$AD$65)),_xlfn.XLOOKUP($C161,プルダウンデータリスト!$V$3:$V$9,プルダウンデータリスト!$W$3:$W$9,)))","v":"-"},null,null,{"$f":"IF($I161=\"\",\"-\",IF($C161=\"製材（製材・集成材・ＣＬＴ等）\",IF($E161=\"\",\"-\",_xlfn.XLOOKUP('２－２'!$E161,プルダウンデータリスト!$AC$2:$AC$65,プルダウンデータリスト!$AD$2:$AD$65)),_xlfn.XLOOKUP($C161,プルダウンデータリスト!$V$3:$V$9,プルダウンデータリスト!$W$3:$W$9,)))","v":"-"},null,{"$f":"IF(LEN(F161)+LEN(H161)>0,\"-\",IF(LEN(I161)+LEN(K161)<=0,\"-\",_xlfn.XLOOKUP(C161,プルダウンデータリスト!$AF$2:$AF$7,プルダウンデータリスト!$AG$2:$AG$7,\"-\")))","v":"-"},"-","-",{"$f":"IF(C161=\"\",\"-\",_xlfn.XLOOKUP(C161,プルダウンデータリスト!$V$2:$V$9,プルダウンデータリスト!$X$2:$X$9,\"-\"))","v":"-"},"-"]
[null,null,null,null,null,null,{"$f":"IF($F162=\"\",\"-\",IF($C162=\"製材（製材・集成材・ＣＬＴ等）\",IF($E162=\"\",\"-\",_xlfn.XLOOKUP('２－２'!$E162,プルダウンデータリスト!$AC$2:$AC$65,プルダウンデータリスト!$AD$2:$AD$65)),_xlfn.XLOOKUP($C162,プルダウンデータリスト!$V$3:$V$9,プルダウンデータリスト!$W$3:$W$9,)))","v":"-"},null,null,{"$f":"IF($I162=\"\",\"-\",IF($C162=\"製材（製材・集成材・ＣＬＴ等）\",IF($E162=\"\",\"-\",_xlfn.XLOOKUP('２－２'!$E162,プルダウンデータリスト!$AC$2:$AC$65,プルダウンデータリスト!$AD$2:$AD$65)),_xlfn.XLOOKUP($C162,プルダウンデータリスト!$V$3:$V$9,プルダウンデータリスト!$W$3:$W$9,)))","v":"-"},null,{"$f":"IF(LEN(F162)+LEN(H162)>0,\"-\",IF(LEN(I162)+LEN(K162)<=0,\"-\",_xlfn.XLOOKUP(C162,プルダウンデータリスト!$AF$2:$AF$7,プルダウンデータリスト!$AG$2:$AG$7,\"-\")))","v":"-"},"-","-",{"$f":"IF(C162=\"\",\"-\",_xlfn.XLOOKUP(C162,プルダウンデータリスト!$V$2:$V$9,プルダウンデータリスト!$X$2:$X$9,\"-\"))","v":"-"},"-"]
[null,null,null,null,null,null,{"$f":"IF($F163=\"\",\"-\",IF($C163=\"製材（製材・集成材・ＣＬＴ等）\",IF($E163=\"\",\"-\",_xlfn.XLOOKUP('２－２'!$E163,プルダウンデータリスト!$AC$2:$AC$65,プルダウンデータリスト!$AD$2:$AD$65)),_xlfn.XLOOKUP($C163,プルダウンデータリスト!$V$3:$V$9,プルダウンデータリスト!$W$3:$W$9,)))","v":"-"},null,null,{"$f":"IF($I163=\"\",\"-\",IF($C163=\"製材（製材・集成材・ＣＬＴ等）\",IF($E163=\"\",\"-\",_xlfn.XLOOKUP('２－２'!$E163,プルダウンデータリスト!$AC$2:$AC$65,プルダウンデータリスト!$AD$2:$AD$65)),_xlfn.XLOOKUP($C163,プルダウンデータリスト!$V$3:$V$9,プルダウンデータリスト!$W$3:$W$9,)))","v":"-"},null,{"$f":"IF(LEN(F163)+LEN(H163)>0,\"-\",IF(LEN(I163)+LEN(K163)<=0,\"-\",_xlfn.XLOOKUP(C163,プルダウンデータリスト!$AF$2:$AF$7,プルダウンデータリスト!$AG$2:$AG$7,\"-\")))","v":"-"},"-","-",{"$f":"IF(C163=\"\",\"-\",_xlfn.XLOOKUP(C163,プルダウンデータリスト!$V$2:$V$9,プルダウンデータリスト!$X$2:$X$9,\"-\"))","v":"-"},"-"]
[null,null,null,null,null,null,{"$f":"IF($F164=\"\",\"-\",IF($C164=\"製材（製材・集成材・ＣＬＴ等）\",IF($E164=\"\",\"-\",_xlfn.XLOOKUP('２－２'!$E164,プルダウンデータリスト!$AC$2:$AC$65,プルダウンデータリスト!$AD$2:$AD$65)),_xlfn.XLOOKUP($C164,プルダウンデータリスト!$V$3:$V$9,プルダウンデータリスト!$W$3:$W$9,)))","v":"-"},null,null,{"$f":"IF($I164=\"\",\"-\",IF($C164=\"製材（製材・集成材・ＣＬＴ等）\",IF($E164=\"\",\"-\",_xlfn.XLOOKUP('２－２'!$E164,プルダウンデータリスト!$AC$2:$AC$65,プルダウンデータリスト!$AD$2:$AD$65)),_xlfn.XLOOKUP($C164,プルダウンデータリスト!$V$3:$V$9,プルダウンデータリスト!$W$3:$W$9,)))","v":"-"},null,{"$f":"IF(LEN(F164)+LEN(H164)>0,\"-\",IF(LEN(I164)+LEN(K164)<=0,\"-\",_xlfn.XLOOKUP(C164,プルダウンデータリスト!$AF$2:$AF$7,プルダウンデータリスト!$AG$2:$AG$7,\"-\")))","v":"-"},"-","-",{"$f":"IF(C164=\"\",\"-\",_xlfn.XLOOKUP(C164,プルダウンデータリスト!$V$2:$V$9,プルダウンデータリスト!$X$2:$X$9,\"-\"))","v":"-"},{"$f":"IFERROR(IF(LEN(F164)>0,M164*G164*O164,IF(LEN(H164)>0,N164*O164/1000,IF(LEN(I164)>0,M164*J164*O164,IF(LEN(K164)>0,N164*O164/1000,\"-\")))),\"ERROR\")","v":"-"}]
[null,null,null,null,null,null,{"$f":"IF($F165=\"\",\"-\",IF($C165=\"製材（製材・集成材・ＣＬＴ等）\",IF($E165=\"\",\"-\",_xlfn.XLOOKUP('２－２'!$E165,プルダウンデータリスト!$AC$2:$AC$65,プルダウンデータリスト!$AD$2:$AD$65)),_xlfn.XLOOKUP($C165,プルダウンデータリスト!$V$3:$V$9,プルダウンデータリスト!$W$3:$W$9,)))","v":"-"},null,null,{"$f":"IF($I165=\"\",\"-\",IF($C165=\"製材（製材・集成材・ＣＬＴ等）\",IF($E165=\"\",\"-\",_xlfn.XLOOKUP('２－２'!$E165,プルダウンデータリスト!$AC$2:$AC$65,プルダウンデータリスト!$AD$2:$AD$65)),_xlfn.XLOOKUP($C165,プルダウンデータリスト!$V$3:$V$9,プルダウンデータリスト!$W$3:$W$9,)))","v":"-"},null,{"$f":"IF(LEN(F165)+LEN(H165)>0,\"-\",IF(LEN(I165)+LEN(K165)<=0,\"-\",_xlfn.XLOOKUP(C165,プルダウンデータリスト!$AF$2:$AF$7,プルダウンデータリスト!$AG$2:$AG$7,\"-\")))","v":"-"},"-","-",{"$f":"IF(C165=\"\",\"-\",_xlfn.XLOOKUP(C165,プルダウンデータリスト!$V$2:$V$9,プルダウンデータリスト!$X$2:$X$9,\"-\"))","v":"-"},"-"]
[null,null,null,null,null,null,{"$f":"IF($F166=\"\",\"-\",IF($C166=\"製材（製材・集成材・ＣＬＴ等）\",IF($E166=\"\",\"-\",_xlfn.XLOOKUP('２－２'!$E166,プルダウンデータリスト!$AC$2:$AC$65,プルダウンデータリスト!$AD$2:$AD$65)),_xlfn.XLOOKUP($C166,プルダウンデータリスト!$V$3:$V$9,プルダウンデータリスト!$W$3:$W$9,)))","v":"-"},null,null,{"$f":"IF($I166=\"\",\"-\",IF($C166=\"製材（製材・集成材・ＣＬＴ等）\",IF($E166=\"\",\"-\",_xlfn.XLOOKUP('２－２'!$E166,プルダウンデータリスト!$AC$2:$AC$65,プルダウンデータリスト!$AD$2:$AD$65)),_xlfn.XLOOKUP($C166,プルダウンデータリスト!$V$3:$V$9,プルダウンデータリスト!$W$3:$W$9,)))","v":"-"},null,{"$f":"IF(LEN(F166)+LEN(H166)>0,\"-\",IF(LEN(I166)+LEN(K166)<=0,\"-\",_xlfn.XLOOKUP(C166,プルダウンデータリスト!$AF$2:$AF$7,プルダウンデータリスト!$AG$2:$AG$7,\"-\")))","v":"-"},"-","-",{"$f":"IF(C166=\"\",\"-\",_xlfn.XLOOKUP(C166,プルダウンデータリスト!$V$2:$V$9,プルダウンデータリスト!$X$2:$X$9,\"-\"))","v":"-"},"-"]
[null,null,null,null,null,null,{"$f":"IF($F167=\"\",\"-\",IF($C167=\"製材（製材・集成材・ＣＬＴ等）\",IF($E167=\"\",\"-\",_xlfn.XLOOKUP('２－２'!$E167,プルダウンデータリスト!$AC$2:$AC$65,プルダウンデータリスト!$AD$2:$AD$65)),_xlfn.XLOOKUP($C167,プルダウンデータリスト!$V$3:$V$9,プルダウンデータリスト!$W$3:$W$9,)))","v":"-"},null,null,{"$f":"IF($I167=\"\",\"-\",IF($C167=\"製材（製材・集成材・ＣＬＴ等）\",IF($E167=\"\",\"-\",_xlfn.XLOOKUP('２－２'!$E167,プルダウンデータリスト!$AC$2:$AC$65,プルダウンデータリスト!$AD$2:$AD$65)),_xlfn.XLOOKUP($C167,プルダウンデータリスト!$V$3:$V$9,プルダウンデータリスト!$W$3:$W$9,)))","v":"-"},null,{"$f":"IF(LEN(F167)+LEN(H167)>0,\"-\",IF(LEN(I167)+LEN(K167)<=0,\"-\",_xlfn.XLOOKUP(C167,プルダウンデータリスト!$AF$2:$AF$7,プルダウンデータリスト!$AG$2:$AG$7,\"-\")))","v":"-"},"-","-",{"$f":"IF(C167=\"\",\"-\",_xlfn.XLOOKUP(C167,プルダウンデータリスト!$V$2:$V$9,プルダウンデータリスト!$X$2:$X$9,\"-\"))","v":"-"},"-"]
[null,null,null,null,null,null,{"$f":"IF($F168=\"\",\"-\",IF($C168=\"製材（製材・集成材・ＣＬＴ等）\",IF($E168=\"\",\"-\",_xlfn.XLOOKUP('２－２'!$E168,プルダウンデータリスト!$AC$2:$AC$65,プルダウンデータリスト!$AD$2:$AD$65)),_xlfn.XLOOKUP($C168,プルダウンデータリスト!$V$3:$V$9,プルダウンデータリスト!$W$3:$W$9,)))","v":"-"},null,null,{"$f":"IF($I168=\"\",\"-\",IF($C168=\"製材（製材・集成材・ＣＬＴ等）\",IF($E168=\"\",\"-\",_xlfn.XLOOKUP('２－２'!$E168,プルダウンデータリスト!$AC$2:$AC$65,プルダウンデータリスト!$AD$2:$AD$65)),_xlfn.XLOOKUP($C168,プルダウンデータリスト!$V$3:$V$9,プルダウンデータリスト!$W$3:$W$9,)))","v":"-"},null,{"$f":"IF(LEN(F168)+LEN(H168)>0,\"-\",IF(LEN(I168)+LEN(K168)<=0,\"-\",_xlfn.XLOOKUP(C168,プルダウンデータリスト!$AF$2:$AF$7,プルダウンデータリスト!$AG$2:$AG$7,\"-\")))","v":"-"},"-","-",{"$f":"IF(C168=\"\",\"-\",_xlfn.XLOOKUP(C168,プルダウンデータリスト!$V$2:$V$9,プルダウンデータリスト!$X$2:$X$9,\"-\"))","v":"-"},"-"]
[null,null,null,null,null,null,{"$f":"IF($F169=\"\",\"-\",IF($C169=\"製材（製材・集成材・ＣＬＴ等）\",IF($E169=\"\",\"-\",_xlfn.XLOOKUP('２－２'!$E169,プルダウンデータリスト!$AC$2:$AC$65,プルダウンデータリスト!$AD$2:$AD$65)),_xlfn.XLOOKUP($C169,プルダウンデータリスト!$V$3:$V$9,プルダウンデータリスト!$W$3:$W$9,)))","v":"-"},null,null,{"$f":"IF($I169=\"\",\"-\",IF($C169=\"製材（製材・集成材・ＣＬＴ等）\",IF($E169=\"\",\"-\",_xlfn.XLOOKUP('２－２'!$E169,プルダウンデータリスト!$AC$2:$AC$65,プルダウンデータリスト!$AD$2:$AD$65)),_xlfn.XLOOKUP($C169,プルダウンデータリスト!$V$3:$V$9,プルダウンデータリスト!$W$3:$W$9,)))","v":"-"},null,{"$f":"IF(LEN(F169)+LEN(H169)>0,\"-\",IF(LEN(I169)+LEN(K169)<=0,\"-\",_xlfn.XLOOKUP(C169,プルダウンデータリスト!$AF$2:$AF$7,プルダウンデータリスト!$AG$2:$AG$7,\"-\")))","v":"-"},"-","-",{"$f":"IF(C169=\"\",\"-\",_xlfn.XLOOKUP(C169,プルダウンデータリスト!$V$2:$V$9,プルダウンデータリスト!$X$2:$X$9,\"-\"))","v":"-"},"-"]
[null,null,null,null,null,null,{"$f":"IF($F170=\"\",\"-\",IF($C170=\"製材（製材・集成材・ＣＬＴ等）\",IF($E170=\"\",\"-\",_xlfn.XLOOKUP('２－２'!$E170,プルダウンデータリスト!$AC$2:$AC$65,プルダウンデータリスト!$AD$2:$AD$65)),_xlfn.XLOOKUP($C170,プルダウンデータリスト!$V$3:$V$9,プルダウンデータリスト!$W$3:$W$9,)))","v":"-"},null,null,{"$f":"IF($I170=\"\",\"-\",IF($C170=\"製材（製材・集成材・ＣＬＴ等）\",IF($E170=\"\",\"-\",_xlfn.XLOOKUP('２－２'!$E170,プルダウンデータリスト!$AC$2:$AC$65,プルダウンデータリスト!$AD$2:$AD$65)),_xlfn.XLOOKUP($C170,プルダウンデータリスト!$V$3:$V$9,プルダウンデータリスト!$W$3:$W$9,)))","v":"-"},null,{"$f":"IF(LEN(F170)+LEN(H170)>0,\"-\",IF(LEN(I170)+LEN(K170)<=0,\"-\",_xlfn.XLOOKUP(C170,プルダウンデータリスト!$AF$2:$AF$7,プルダウンデータリスト!$AG$2:$AG$7,\"-\")))","v":"-"},"-","-",{"$f":"IF(C170=\"\",\"-\",_xlfn.XLOOKUP(C170,プルダウンデータリスト!$V$2:$V$9,プルダウンデータリスト!$X$2:$X$9,\"-\"))","v":"-"},"-"]
[null,null,null,null,null,null,{"$f":"IF($F171=\"\",\"-\",IF($C171=\"製材（製材・集成材・ＣＬＴ等）\",IF($E171=\"\",\"-\",_xlfn.XLOOKUP('２－２'!$E171,プルダウンデータリスト!$AC$2:$AC$65,プルダウンデータリスト!$AD$2:$AD$65)),_xlfn.XLOOKUP($C171,プルダウンデータリスト!$V$3:$V$9,プルダウンデータリスト!$W$3:$W$9,)))","v":"-"},null,null,{"$f":"IF($I171=\"\",\"-\",IF($C171=\"製材（製材・集成材・ＣＬＴ等）\",IF($E171=\"\",\"-\",_xlfn.XLOOKUP('２－２'!$E171,プルダウンデータリスト!$AC$2:$AC$65,プルダウンデータリスト!$AD$2:$AD$65)),_xlfn.XLOOKUP($C171,プルダウンデータリスト!$V$3:$V$9,プルダウンデータリスト!$W$3:$W$9,)))","v":"-"},null,{"$f":"IF(LEN(F171)+LEN(H171)>0,\"-\",IF(LEN(I171)+LEN(K171)<=0,\"-\",_xlfn.XLOOKUP(C171,プルダウンデータリスト!$AF$2:$AF$7,プルダウンデータリスト!$AG$2:$AG$7,\"-\")))","v":"-"},"-","-",{"$f":"IF(C171=\"\",\"-\",_xlfn.XLOOKUP(C171,プルダウンデータリスト!$V$2:$V$9,プルダウンデータリスト!$X$2:$X$9,\"-\"))","v":"-"},"-"]
[null,null,null,null,null,null,{"$f":"IF($F172=\"\",\"-\",IF($C172=\"製材（製材・集成材・ＣＬＴ等）\",IF($E172=\"\",\"-\",_xlfn.XLOOKUP('２－２'!$E172,プルダウンデータリスト!$AC$2:$AC$65,プルダウンデータリスト!$AD$2:$AD$65)),_xlfn.XLOOKUP($C172,プルダウンデータリスト!$V$3:$V$9,プルダウンデータリスト!$W$3:$W$9,)))","v":"-"},null,null,{"$f":"IF($I172=\"\",\"-\",IF($C172=\"製材（製材・集成材・ＣＬＴ等）\",IF($E172=\"\",\"-\",_xlfn.XLOOKUP('２－２'!$E172,プルダウンデータリスト!$AC$2:$AC$65,プルダウンデータリスト!$AD$2:$AD$65)),_xlfn.XLOOKUP($C172,プルダウンデータリスト!$V$3:$V$9,プルダウンデータリスト!$W$3:$W$9,)))","v":"-"},null,{"$f":"IF(LEN(F172)+LEN(H172)>0,\"-\",IF(LEN(I172)+LEN(K172)<=0,\"-\",_xlfn.XLOOKUP(C172,プルダウンデータリスト!$AF$2:$AF$7,プルダウンデータリスト!$AG$2:$AG$7,\"-\")))","v":"-"},"-","-",{"$f":"IF(C172=\"\",\"-\",_xlfn.XLOOKUP(C172,プルダウンデータリスト!$V$2:$V$9,プルダウンデータリスト!$X$2:$X$9,\"-\"))","v":"-"},"-"]
[null,null,null,null,null,null,{"$f":"IF($F173=\"\",\"-\",IF($C173=\"製材（製材・集成材・ＣＬＴ等）\",IF($E173=\"\",\"-\",_xlfn.XLOOKUP('２－２'!$E173,プルダウンデータリスト!$AC$2:$AC$65,プルダウンデータリスト!$AD$2:$AD$65)),_xlfn.XLOOKUP($C173,プルダウンデータリスト!$V$3:$V$9,プルダウンデータリスト!$W$3:$W$9,)))","v":"-"},null,null,{"$f":"IF($I173=\"\",\"-\",IF($C173=\"製材（製材・集成材・ＣＬＴ等）\",IF($E173=\"\",\"-\",_xlfn.XLOOKUP('２－２'!$E173,プルダウンデータリスト!$AC$2:$AC$65,プルダウンデータリスト!$AD$2:$AD$65)),_xlfn.XLOOKUP($C173,プルダウンデータリスト!$V$3:$V$9,プルダウンデータリスト!$W$3:$W$9,)))","v":"-"},null,{"$f":"IF(LEN(F173)+LEN(H173)>0,\"-\",IF(LEN(I173)+LEN(K173)<=0,\"-\",_xlfn.XLOOKUP(C173,プルダウンデータリスト!$AF$2:$AF$7,プルダウンデータリスト!$AG$2:$AG$7,\"-\")))","v":"-"},"-","-",{"$f":"IF(C173=\"\",\"-\",_xlfn.XLOOKUP(C173,プルダウンデータリスト!$V$2:$V$9,プルダウンデータリスト!$X$2:$X$9,\"-\"))","v":"-"},"-"]
[null,null,null,null,null,null,{"$f":"IF($F174=\"\",\"-\",IF($C174=\"製材（製材・集成材・ＣＬＴ等）\",IF($E174=\"\",\"-\",_xlfn.XLOOKUP('２－２'!$E174,プルダウンデータリスト!$AC$2:$AC$65,プルダウンデータリスト!$AD$2:$AD$65)),_xlfn.XLOOKUP($C174,プルダウンデータリスト!$V$3:$V$9,プルダウンデータリスト!$W$3:$W$9,)))","v":"-"},null,null,{"$f":"IF($I174=\"\",\"-\",IF($C174=\"製材（製材・集成材・ＣＬＴ等）\",IF($E174=\"\",\"-\",_xlfn.XLOOKUP('２－２'!$E174,プルダウンデータリスト!$AC$2:$AC$65,プルダウンデータリスト!$AD$2:$AD$65)),_xlfn.XLOOKUP($C174,プルダウンデータリスト!$V$3:$V$9,プルダウンデータリスト!$W$3:$W$9,)))","v":"-"},null,{"$f":"IF(LEN(F174)+LEN(H174)>0,\"-\",IF(LEN(I174)+LEN(K174)<=0,\"-\",_xlfn.XLOOKUP(C174,プルダウンデータリスト!$AF$2:$AF$7,プルダウンデータリスト!$AG$2:$AG$7,\"-\")))","v":"-"},"-","-",{"$f":"IF(C174=\"\",\"-\",_xlfn.XLOOKUP(C174,プルダウンデータリスト!$V$2:$V$9,プルダウンデータリスト!$X$2:$X$9,\"-\"))","v":"-"},"-"]
[null,null,null,null,null,null,{"$f":"IF($F175=\"\",\"-\",IF($C175=\"製材（製材・集成材・ＣＬＴ等）\",IF($E175=\"\",\"-\",_xlfn.XLOOKUP('２－２'!$E175,プルダウンデータリスト!$AC$2:$AC$65,プルダウンデータリスト!$AD$2:$AD$65)),_xlfn.XLOOKUP($C175,プルダウンデータリスト!$V$3:$V$9,プルダウンデータリスト!$W$3:$W$9,)))","v":"-"},null,null,{"$f":"IF($I175=\"\",\"-\",IF($C175=\"製材（製材・集成材・ＣＬＴ等）\",IF($E175=\"\",\"-\",_xlfn.XLOOKUP('２－２'!$E175,プルダウンデータリスト!$AC$2:$AC$65,プルダウンデータリスト!$AD$2:$AD$65)),_xlfn.XLOOKUP($C175,プルダウンデータリスト!$V$3:$V$9,プルダウンデータリスト!$W$3:$W$9,)))","v":"-"},null,{"$f":"IF(LEN(F175)+LEN(H175)>0,\"-\",IF(LEN(I175)+LEN(K175)<=0,\"-\",_xlfn.XLOOKUP(C175,プルダウンデータリスト!$AF$2:$AF$7,プルダウンデータリスト!$AG$2:$AG$7,\"-\")))","v":"-"},"-","-",{"$f":"IF(C175=\"\",\"-\",_xlfn.XLOOKUP(C175,プルダウンデータリスト!$V$2:$V$9,プルダウンデータリスト!$X$2:$X$9,\"-\"))","v":"-"},"-"]
[null,null,null,null,null,null,{"$f":"IF($F176=\"\",\"-\",IF($C176=\"製材（製材・集成材・ＣＬＴ等）\",IF($E176=\"\",\"-\",_xlfn.XLOOKUP('２－２'!$E176,プルダウンデータリスト!$AC$2:$AC$65,プルダウンデータリスト!$AD$2:$AD$65)),_xlfn.XLOOKUP($C176,プルダウンデータリスト!$V$3:$V$9,プルダウンデータリスト!$W$3:$W$9,)))","v":"-"},null,null,{"$f":"IF($I176=\"\",\"-\",IF($C176=\"製材（製材・集成材・ＣＬＴ等）\",IF($E176=\"\",\"-\",_xlfn.XLOOKUP('２－２'!$E176,プルダウンデータリスト!$AC$2:$AC$65,プルダウンデータリスト!$AD$2:$AD$65)),_xlfn.XLOOKUP($C176,プルダウンデータリスト!$V$3:$V$9,プルダウンデータリスト!$W$3:$W$9,)))","v":"-"},null,{"$f":"IF(LEN(F176)+LEN(H176)>0,\"-\",IF(LEN(I176)+LEN(K176)<=0,\"-\",_xlfn.XLOOKUP(C176,プルダウンデータリスト!$AF$2:$AF$7,プルダウンデータリスト!$AG$2:$AG$7,\"-\")))","v":"-"},"-","-",{"$f":"IF(C176=\"\",\"-\",_xlfn.XLOOKUP(C176,プルダウンデータリスト!$V$2:$V$9,プルダウンデータリスト!$X$2:$X$9,\"-\"))","v":"-"},"-"]
[null,null,null,null,null,null,{"$f":"IF($F177=\"\",\"-\",IF($C177=\"製材（製材・集成材・ＣＬＴ等）\",IF($E177=\"\",\"-\",_xlfn.XLOOKUP('２－２'!$E177,プルダウンデータリスト!$AC$2:$AC$65,プルダウンデータリスト!$AD$2:$AD$65)),_xlfn.XLOOKUP($C177,プルダウンデータリスト!$V$3:$V$9,プルダウンデータリスト!$W$3:$W$9,)))","v":"-"},null,null,{"$f":"IF($I177=\"\",\"-\",IF($C177=\"製材（製材・集成材・ＣＬＴ等）\",IF($E177=\"\",\"-\",_xlfn.XLOOKUP('２－２'!$E177,プルダウンデータリスト!$AC$2:$AC$65,プルダウンデータリスト!$AD$2:$AD$65)),_xlfn.XLOOKUP($C177,プルダウンデータリスト!$V$3:$V$9,プルダウンデータリスト!$W$3:$W$9,)))","v":"-"},null,{"$f":"IF(LEN(F177)+LEN(H177)>0,\"-\",IF(LEN(I177)+LEN(K177)<=0,\"-\",_xlfn.XLOOKUP(C177,プルダウンデータリスト!$AF$2:$AF$7,プルダウンデータリスト!$AG$2:$AG$7,\"-\")))","v":"-"},"-","-",{"$f":"IF(C177=\"\",\"-\",_xlfn.XLOOKUP(C177,プルダウンデータリスト!$V$2:$V$9,プルダウンデータリスト!$X$2:$X$9,\"-\"))","v":"-"},"-"]
[null,null,null,null,null,null,{"$f":"IF($F178=\"\",\"-\",IF($C178=\"製材（製材・集成材・ＣＬＴ等）\",IF($E178=\"\",\"-\",_xlfn.XLOOKUP('２－２'!$E178,プルダウンデータリスト!$AC$2:$AC$65,プルダウンデータリスト!$AD$2:$AD$65)),_xlfn.XLOOKUP($C178,プルダウンデータリスト!$V$3:$V$9,プルダウンデータリスト!$W$3:$W$9,)))","v":"-"},null,null,{"$f":"IF($I178=\"\",\"-\",IF($C178=\"製材（製材・集成材・ＣＬＴ等）\",IF($E178=\"\",\"-\",_xlfn.XLOOKUP('２－２'!$E178,プルダウンデータリスト!$AC$2:$AC$65,プルダウンデータリスト!$AD$2:$AD$65)),_xlfn.XLOOKUP($C178,プルダウンデータリスト!$V$3:$V$9,プルダウンデータリスト!$W$3:$W$9,)))","v":"-"},null,{"$f":"IF(LEN(F178)+LEN(H178)>0,\"-\",IF(LEN(I178)+LEN(K178)<=0,\"-\",_xlfn.XLOOKUP(C178,プルダウンデータリスト!$AF$2:$AF$7,プルダウンデータリスト!$AG$2:$AG$7,\"-\")))","v":"-"},"-","-",{"$f":"IF(C178=\"\",\"-\",_xlfn.XLOOKUP(C178,プルダウンデータリスト!$V$2:$V$9,プルダウンデータリスト!$X$2:$X$9,\"-\"))","v":"-"},"-"]
[null,null,null,null,null,null,{"$f":"IF($F179=\"\",\"-\",IF($C179=\"製材（製材・集成材・ＣＬＴ等）\",IF($E179=\"\",\"-\",_xlfn.XLOOKUP('２－２'!$E179,プルダウンデータリスト!$AC$2:$AC$65,プルダウンデータリスト!$AD$2:$AD$65)),_xlfn.XLOOKUP($C179,プルダウンデータリスト!$V$3:$V$9,プルダウンデータリスト!$W$3:$W$9,)))","v":"-"},null,null,{"$f":"IF($I179=\"\",\"-\",IF($C179=\"製材（製材・集成材・ＣＬＴ等）\",IF($E179=\"\",\"-\",_xlfn.XLOOKUP('２－２'!$E179,プルダウンデータリスト!$AC$2:$AC$65,プルダウンデータリスト!$AD$2:$AD$65)),_xlfn.XLOOKUP($C179,プルダウンデータリスト!$V$3:$V$9,プルダウンデータリスト!$W$3:$W$9,)))","v":"-"},null,{"$f":"IF(LEN(F179)+LEN(H179)>0,\"-\",IF(LEN(I179)+LEN(K179)<=0,\"-\",_xlfn.XLOOKUP(C179,プルダウンデータリスト!$AF$2:$AF$7,プルダウンデータリスト!$AG$2:$AG$7,\"-\")))","v":"-"},"-","-",{"$f":"IF(C179=\"\",\"-\",_xlfn.XLOOKUP(C179,プルダウンデータリスト!$V$2:$V$9,プルダウンデータリスト!$X$2:$X$9,\"-\"))","v":"-"},"-"]
[null,null,null,null,null,null,{"$f":"IF($F180=\"\",\"-\",IF($C180=\"製材（製材・集成材・ＣＬＴ等）\",IF($E180=\"\",\"-\",_xlfn.XLOOKUP('２－２'!$E180,プルダウンデータリスト!$AC$2:$AC$65,プルダウンデータリスト!$AD$2:$AD$65)),_xlfn.XLOOKUP($C180,プルダウンデータリスト!$V$3:$V$9,プルダウンデータリスト!$W$3:$W$9,)))","v":"-"},null,null,{"$f":"IF($I180=\"\",\"-\",IF($C180=\"製材（製材・集成材・ＣＬＴ等）\",IF($E180=\"\",\"-\",_xlfn.XLOOKUP('２－２'!$E180,プルダウンデータリスト!$AC$2:$AC$65,プルダウンデータリスト!$AD$2:$AD$65)),_xlfn.XLOOKUP($C180,プルダウンデータリスト!$V$3:$V$9,プルダウンデータリスト!$W$3:$W$9,)))","v":"-"},null,{"$f":"IF(LEN(F180)+LEN(H180)>0,\"-\",IF(LEN(I180)+LEN(K180)<=0,\"-\",_xlfn.XLOOKUP(C180,プルダウンデータリスト!$AF$2:$AF$7,プルダウンデータリスト!$AG$2:$AG$7,\"-\")))","v":"-"},"-","-",{"$f":"IF(C180=\"\",\"-\",_xlfn.XLOOKUP(C180,プルダウンデータリスト!$V$2:$V$9,プルダウンデータリスト!$X$2:$X$9,\"-\"))","v":"-"},"-"]
[null,null,null,null,null,null,{"$f":"IF($F181=\"\",\"-\",IF($C181=\"製材（製材・集成材・ＣＬＴ等）\",IF($E181=\"\",\"-\",_xlfn.XLOOKUP('２－２'!$E181,プルダウンデータリスト!$AC$2:$AC$65,プルダウンデータリスト!$AD$2:$AD$65)),_xlfn.XLOOKUP($C181,プルダウンデータリスト!$V$3:$V$9,プルダウンデータリスト!$W$3:$W$9,)))","v":"-"},null,null,{"$f":"IF($I181=\"\",\"-\",IF($C181=\"製材（製材・集成材・ＣＬＴ等）\",IF($E181=\"\",\"-\",_xlfn.XLOOKUP('２－２'!$E181,プルダウンデータリスト!$AC$2:$AC$65,プルダウンデータリスト!$AD$2:$AD$65)),_xlfn.XLOOKUP($C181,プルダウンデータリスト!$V$3:$V$9,プルダウンデータリスト!$W$3:$W$9,)))","v":"-"},null,{"$f":"IF(LEN(F181)+LEN(H181)>0,\"-\",IF(LEN(I181)+LEN(K181)<=0,\"-\",_xlfn.XLOOKUP(C181,プルダウンデータリスト!$AF$2:$AF$7,プルダウンデータリスト!$AG$2:$AG$7,\"-\")))","v":"-"},"-","-",{"$f":"IF(C181=\"\",\"-\",_xlfn.XLOOKUP(C181,プルダウンデータリスト!$V$2:$V$9,プルダウンデータリスト!$X$2:$X$9,\"-\"))","v":"-"},"-"]
[null,null,null,null,null,null,{"$f":"IF($F182=\"\",\"-\",IF($C182=\"製材（製材・集成材・ＣＬＴ等）\",IF($E182=\"\",\"-\",_xlfn.XLOOKUP('２－２'!$E182,プルダウンデータリスト!$AC$2:$AC$65,プルダウンデータリスト!$AD$2:$AD$65)),_xlfn.XLOOKUP($C182,プルダウンデータリスト!$V$3:$V$9,プルダウンデータリスト!$W$3:$W$9,)))","v":"-"},null,null,{"$f":"IF($I182=\"\",\"-\",IF($C182=\"製材（製材・集成材・ＣＬＴ等）\",IF($E182=\"\",\"-\",_xlfn.XLOOKUP('２－２'!$E182,プルダウンデータリスト!$AC$2:$AC$65,プルダウンデータリスト!$AD$2:$AD$65)),_xlfn.XLOOKUP($C182,プルダウンデータリスト!$V$3:$V$9,プルダウンデータリスト!$W$3:$W$9,)))","v":"-"},null,{"$f":"IF(LEN(F182)+LEN(H182)>0,\"-\",IF(LEN(I182)+LEN(K182)<=0,\"-\",_xlfn.XLOOKUP(C182,プルダウンデータリスト!$AF$2:$AF$7,プルダウンデータリスト!$AG$2:$AG$7,\"-\")))","v":"-"},"-","-",{"$f":"IF(C182=\"\",\"-\",_xlfn.XLOOKUP(C182,プルダウンデータリスト!$V$2:$V$9,プルダウンデータリスト!$X$2:$X$9,\"-\"))","v":"-"},"-"]
[null,null,null,null,null,null,{"$f":"IF($F183=\"\",\"-\",IF($C183=\"製材（製材・集成材・ＣＬＴ等）\",IF($E183=\"\",\"-\",_xlfn.XLOOKUP('２－２'!$E183,プルダウンデータリスト!$AC$2:$AC$65,プルダウンデータリスト!$AD$2:$AD$65)),_xlfn.XLOOKUP($C183,プルダウンデータリスト!$V$3:$V$9,プルダウンデータリスト!$W$3:$W$9,)))","v":"-"},null,null,{"$f":"IF($I183=\"\",\"-\",IF($C183=\"製材（製材・集成材・ＣＬＴ等）\",IF($E183=\"\",\"-\",_xlfn.XLOOKUP('２－２'!$E183,プルダウンデータリスト!$AC$2:$AC$65,プルダウンデータリスト!$AD$2:$AD$65)),_xlfn.XLOOKUP($C183,プルダウンデータリスト!$V$3:$V$9,プルダウンデータリスト!$W$3:$W$9,)))","v":"-"},null,{"$f":"IF(LEN(F183)+LEN(H183)>0,\"-\",IF(LEN(I183)+LEN(K183)<=0,\"-\",_xlfn.XLOOKUP(C183,プルダウンデータリスト!$AF$2:$AF$7,プルダウンデータリスト!$AG$2:$AG$7,\"-\")))","v":"-"},"-","-",{"$f":"IF(C183=\"\",\"-\",_xlfn.XLOOKUP(C183,プルダウンデータリスト!$V$2:$V$9,プルダウンデータリスト!$X$2:$X$9,\"-\"))","v":"-"},"-"]
[null,null,null,null,null,null,{"$f":"IF($F184=\"\",\"-\",IF($C184=\"製材（製材・集成材・ＣＬＴ等）\",IF($E184=\"\",\"-\",_xlfn.XLOOKUP('２－２'!$E184,プルダウンデータリスト!$AC$2:$AC$65,プルダウンデータリスト!$AD$2:$AD$65)),_xlfn.XLOOKUP($C184,プルダウンデータリスト!$V$3:$V$9,プルダウンデータリスト!$W$3:$W$9,)))","v":"-"},null,null,{"$f":"IF($I184=\"\",\"-\",IF($C184=\"製材（製材・集成材・ＣＬＴ等）\",IF($E184=\"\",\"-\",_xlfn.XLOOKUP('２－２'!$E184,プルダウンデータリスト!$AC$2:$AC$65,プルダウンデータリスト!$AD$2:$AD$65)),_xlfn.XLOOKUP($C184,プルダウンデータリスト!$V$3:$V$9,プルダウンデータリスト!$W$3:$W$9,)))","v":"-"},null,{"$f":"IF(LEN(F184)+LEN(H184)>0,\"-\",IF(LEN(I184)+LEN(K184)<=0,\"-\",_xlfn.XLOOKUP(C184,プルダウンデータリスト!$AF$2:$AF$7,プルダウンデータリスト!$AG$2:$AG$7,\"-\")))","v":"-"},"-","-",{"$f":"IF(C184=\"\",\"-\",_xlfn.XLOOKUP(C184,プルダウンデータリスト!$V$2:$V$9,プルダウンデータリスト!$X$2:$X$9,\"-\"))","v":"-"},"-"]
[null,null,null,null,null,null,{"$f":"IF($F185=\"\",\"-\",IF($C185=\"製材（製材・集成材・ＣＬＴ等）\",IF($E185=\"\",\"-\",_xlfn.XLOOKUP('２－２'!$E185,プルダウンデータリスト!$AC$2:$AC$65,プルダウンデータリスト!$AD$2:$AD$65)),_xlfn.XLOOKUP($C185,プルダウンデータリスト!$V$3:$V$9,プルダウンデータリスト!$W$3:$W$9,)))","v":"-"},null,null,{"$f":"IF($I185=\"\",\"-\",IF($C185=\"製材（製材・集成材・ＣＬＴ等）\",IF($E185=\"\",\"-\",_xlfn.XLOOKUP('２－２'!$E185,プルダウンデータリスト!$AC$2:$AC$65,プルダウンデータリスト!$AD$2:$AD$65)),_xlfn.XLOOKUP($C185,プルダウンデータリスト!$V$3:$V$9,プルダウンデータリスト!$W$3:$W$9,)))","v":"-"},null,{"$f":"IF(LEN(F185)+LEN(H185)>0,\"-\",IF(LEN(I185)+LEN(K185)<=0,\"-\",_xlfn.XLOOKUP(C185,プルダウンデータリスト!$AF$2:$AF$7,プルダウンデータリスト!$AG$2:$AG$7,\"-\")))","v":"-"},"-","-",{"$f":"IF(C185=\"\",\"-\",_xlfn.XLOOKUP(C185,プルダウンデータリスト!$V$2:$V$9,プルダウンデータリスト!$X$2:$X$9,\"-\"))","v":"-"},"-"]
[null,null,null,null,null,null,{"$f":"IF($F186=\"\",\"-\",IF($C186=\"製材（製材・集成材・ＣＬＴ等）\",IF($E186=\"\",\"-\",_xlfn.XLOOKUP('２－２'!$E186,プルダウンデータリスト!$AC$2:$AC$65,プルダウンデータリスト!$AD$2:$AD$65)),_xlfn.XLOOKUP($C186,プルダウンデータリスト!$V$3:$V$9,プルダウンデータリスト!$W$3:$W$9,)))","v":"-"},null,null,{"$f":"IF($I186=\"\",\"-\",IF($C186=\"製材（製材・集成材・ＣＬＴ等）\",IF($E186=\"\",\"-\",_xlfn.XLOOKUP('２－２'!$E186,プルダウンデータリスト!$AC$2:$AC$65,プルダウンデータリスト!$AD$2:$AD$65)),_xlfn.XLOOKUP($C186,プルダウンデータリスト!$V$3:$V$9,プルダウンデータリスト!$W$3:$W$9,)))","v":"-"},null,{"$f":"IF(LEN(F186)+LEN(H186)>0,\"-\",IF(LEN(I186)+LEN(K186)<=0,\"-\",_xlfn.XLOOKUP(C186,プルダウンデータリスト!$AF$2:$AF$7,プルダウンデータリスト!$AG$2:$AG$7,\"-\")))","v":"-"},"-","-",{"$f":"IF(C186=\"\",\"-\",_xlfn.XLOOKUP(C186,プルダウンデータリスト!$V$2:$V$9,プルダウンデータリスト!$X$2:$X$9,\"-\"))","v":"-"},"-"]
[null,null,null,null,null,null,{"$f":"IF($F187=\"\",\"-\",IF($C187=\"製材（製材・集成材・ＣＬＴ等）\",IF($E187=\"\",\"-\",_xlfn.XLOOKUP('２－２'!$E187,プルダウンデータリスト!$AC$2:$AC$65,プルダウンデータリスト!$AD$2:$AD$65)),_xlfn.XLOOKUP($C187,プルダウンデータリスト!$V$3:$V$9,プルダウンデータリスト!$W$3:$W$9,)))","v":"-"},null,null,{"$f":"IF($I187=\"\",\"-\",IF($C187=\"製材（製材・集成材・ＣＬＴ等）\",IF($E187=\"\",\"-\",_xlfn.XLOOKUP('２－２'!$E187,プルダウンデータリスト!$AC$2:$AC$65,プルダウンデータリスト!$AD$2:$AD$65)),_xlfn.XLOOKUP($C187,プルダウンデータリスト!$V$3:$V$9,プルダウンデータリスト!$W$3:$W$9,)))","v":"-"},null,{"$f":"IF(LEN(F187)+LEN(H187)>0,\"-\",IF(LEN(I187)+LEN(K187)<=0,\"-\",_xlfn.XLOOKUP(C187,プルダウンデータリスト!$AF$2:$AF$7,プルダウンデータリスト!$AG$2:$AG$7,\"-\")))","v":"-"},"-","-",{"$f":"IF(C187=\"\",\"-\",_xlfn.XLOOKUP(C187,プルダウンデータリスト!$V$2:$V$9,プルダウンデータリスト!$X$2:$X$9,\"-\"))","v":"-"},"-"]
[null,null,null,null,null,null,{"$f":"IF($F188=\"\",\"-\",IF($C188=\"製材（製材・集成材・ＣＬＴ等）\",IF($E188=\"\",\"-\",_xlfn.XLOOKUP('２－２'!$E188,プルダウンデータリスト!$AC$2:$AC$65,プルダウンデータリスト!$AD$2:$AD$65)),_xlfn.XLOOKUP($C188,プルダウンデータリスト!$V$3:$V$9,プルダウンデータリスト!$W$3:$W$9,)))","v":"-"},null,null,{"$f":"IF($I188=\"\",\"-\",IF($C188=\"製材（製材・集成材・ＣＬＴ等）\",IF($E188=\"\",\"-\",_xlfn.XLOOKUP('２－２'!$E188,プルダウンデータリスト!$AC$2:$AC$65,プルダウンデータリスト!$AD$2:$AD$65)),_xlfn.XLOOKUP($C188,プルダウンデータリスト!$V$3:$V$9,プルダウンデータリスト!$W$3:$W$9,)))","v":"-"},null,{"$f":"IF(LEN(F188)+LEN(H188)>0,\"-\",IF(LEN(I188)+LEN(K188)<=0,\"-\",_xlfn.XLOOKUP(C188,プルダウンデータリスト!$AF$2:$AF$7,プルダウンデータリスト!$AG$2:$AG$7,\"-\")))","v":"-"},"-","-",{"$f":"IF(C188=\"\",\"-\",_xlfn.XLOOKUP(C188,プルダウンデータリスト!$V$2:$V$9,プルダウンデータリスト!$X$2:$X$9,\"-\"))","v":"-"},"-"]
[null,null,null,null,null,null,{"$f":"IF($F189=\"\",\"-\",IF($C189=\"製材（製材・集成材・ＣＬＴ等）\",IF($E189=\"\",\"-\",_xlfn.XLOOKUP('２－２'!$E189,プルダウンデータリスト!$AC$2:$AC$65,プルダウンデータリスト!$AD$2:$AD$65)),_xlfn.XLOOKUP($C189,プルダウンデータリスト!$V$3:$V$9,プルダウンデータリスト!$W$3:$W$9,)))","v":"-"},null,null,{"$f":"IF($I189=\"\",\"-\",IF($C189=\"製材（製材・集成材・ＣＬＴ等）\",IF($E189=\"\",\"-\",_xlfn.XLOOKUP('２－２'!$E189,プルダウンデータリスト!$AC$2:$AC$65,プルダウンデータリスト!$AD$2:$AD$65)),_xlfn.XLOOKUP($C189,プルダウンデータリスト!$V$3:$V$9,プルダウンデータリスト!$W$3:$W$9,)))","v":"-"},null,{"$f":"IF(LEN(F189)+LEN(H189)>0,\"-\",IF(LEN(I189)+LEN(K189)<=0,\"-\",_xlfn.XLOOKUP(C189,プルダウンデータリスト!$AF$2:$AF$7,プルダウンデータリスト!$AG$2:$AG$7,\"-\")))","v":"-"},"-","-",{"$f":"IF(C189=\"\",\"-\",_xlfn.XLOOKUP(C189,プルダウンデータリスト!$V$2:$V$9,プルダウンデータリスト!$X$2:$X$9,\"-\"))","v":"-"},"-"]
[null,null,null,null,null,null,{"$f":"IF($F190=\"\",\"-\",IF($C190=\"製材（製材・集成材・ＣＬＴ等）\",IF($E190=\"\",\"-\",_xlfn.XLOOKUP('２－２'!$E190,プルダウンデータリスト!$AC$2:$AC$65,プルダウンデータリスト!$AD$2:$AD$65)),_xlfn.XLOOKUP($C190,プルダウンデータリスト!$V$3:$V$9,プルダウンデータリスト!$W$3:$W$9,)))","v":"-"},null,null,{"$f":"IF($I190=\"\",\"-\",IF($C190=\"製材（製材・集成材・ＣＬＴ等）\",IF($E190=\"\",\"-\",_xlfn.XLOOKUP('２－２'!$E190,プルダウンデータリスト!$AC$2:$AC$65,プルダウンデータリスト!$AD$2:$AD$65)),_xlfn.XLOOKUP($C190,プルダウンデータリスト!$V$3:$V$9,プルダウンデータリスト!$W$3:$W$9,)))","v":"-"},null,{"$f":"IF(LEN(F190)+LEN(H190)>0,\"-\",IF(LEN(I190)+LEN(K190)<=0,\"-\",_xlfn.XLOOKUP(C190,プルダウンデータリスト!$AF$2:$AF$7,プルダウンデータリスト!$AG$2:$AG$7,\"-\")))","v":"-"},"-","-",{"$f":"IF(C190=\"\",\"-\",_xlfn.XLOOKUP(C190,プルダウンデータリスト!$V$2:$V$9,プルダウンデータリスト!$X$2:$X$9,\"-\"))","v":"-"},"-"]
[null,null,null,null,null,null,{"$f":"IF($F191=\"\",\"-\",IF($C191=\"製材（製材・集成材・ＣＬＴ等）\",IF($E191=\"\",\"-\",_xlfn.XLOOKUP('２－２'!$E191,プルダウンデータリスト!$AC$2:$AC$65,プルダウンデータリスト!$AD$2:$AD$65)),_xlfn.XLOOKUP($C191,プルダウンデータリスト!$V$3:$V$9,プルダウンデータリスト!$W$3:$W$9,)))","v":"-"},null,null,{"$f":"IF($I191=\"\",\"-\",IF($C191=\"製材（製材・集成材・ＣＬＴ等）\",IF($E191=\"\",\"-\",_xlfn.XLOOKUP('２－２'!$E191,プルダウンデータリスト!$AC$2:$AC$65,プルダウンデータリスト!$AD$2:$AD$65)),_xlfn.XLOOKUP($C191,プルダウンデータリスト!$V$3:$V$9,プルダウンデータリスト!$W$3:$W$9,)))","v":"-"},null,{"$f":"IF(LEN(F191)+LEN(H191)>0,\"-\",IF(LEN(I191)+LEN(K191)<=0,\"-\",_xlfn.XLOOKUP(C191,プルダウンデータリスト!$AF$2:$AF$7,プルダウンデータリスト!$AG$2:$AG$7,\"-\")))","v":"-"},"-","-",{"$f":"IF(C191=\"\",\"-\",_xlfn.XLOOKUP(C191,プルダウンデータリスト!$V$2:$V$9,プルダウンデータリスト!$X$2:$X$9,\"-\"))","v":"-"},"-"]
[null,null,null,null,null,null,{"$f":"IF($F192=\"\",\"-\",IF($C192=\"製材（製材・集成材・ＣＬＴ等）\",IF($E192=\"\",\"-\",_xlfn.XLOOKUP('２－２'!$E192,プルダウンデータリスト!$AC$2:$AC$65,プルダウンデータリスト!$AD$2:$AD$65)),_xlfn.XLOOKUP($C192,プルダウンデータリスト!$V$3:$V$9,プルダウンデータリスト!$W$3:$W$9,)))","v":"-"},null,null,{"$f":"IF($I192=\"\",\"-\",IF($C192=\"製材（製材・集成材・ＣＬＴ等）\",IF($E192=\"\",\"-\",_xlfn.XLOOKUP('２－２'!$E192,プルダウンデータリスト!$AC$2:$AC$65,プルダウンデータリスト!$AD$2:$AD$65)),_xlfn.XLOOKUP($C192,プルダウンデータリスト!$V$3:$V$9,プルダウンデータリスト!$W$3:$W$9,)))","v":"-"},null,{"$f":"IF(LEN(F192)+LEN(H192)>0,\"-\",IF(LEN(I192)+LEN(K192)<=0,\"-\",_xlfn.XLOOKUP(C192,プルダウンデータリスト!$AF$2:$AF$7,プルダウンデータリスト!$AG$2:$AG$7,\"-\")))","v":"-"},"-","-",{"$f":"IF(C192=\"\",\"-\",_xlfn.XLOOKUP(C192,プルダウンデータリスト!$V$2:$V$9,プルダウンデータリスト!$X$2:$X$9,\"-\"))","v":"-"},"-"]
[null,null,null,null,null,null,{"$f":"IF($F193=\"\",\"-\",IF($C193=\"製材（製材・集成材・ＣＬＴ等）\",IF($E193=\"\",\"-\",_xlfn.XLOOKUP('２－２'!$E193,プルダウンデータリスト!$AC$2:$AC$65,プルダウンデータリスト!$AD$2:$AD$65)),_xlfn.XLOOKUP($C193,プルダウンデータリスト!$V$3:$V$9,プルダウンデータリスト!$W$3:$W$9,)))","v":"-"},null,null,{"$f":"IF($I193=\"\",\"-\",IF($C193=\"製材（製材・集成材・ＣＬＴ等）\",IF($E193=\"\",\"-\",_xlfn.XLOOKUP('２－２'!$E193,プルダウンデータリスト!$AC$2:$AC$65,プルダウンデータリスト!$AD$2:$AD$65)),_xlfn.XLOOKUP($C193,プルダウンデータリスト!$V$3:$V$9,プルダウンデータリスト!$W$3:$W$9,)))","v":"-"},null,{"$f":"IF(LEN(F193)+LEN(H193)>0,\"-\",IF(LEN(I193)+LEN(K193)<=0,\"-\",_xlfn.XLOOKUP(C193,プルダウンデータリスト!$AF$2:$AF$7,プルダウンデータリスト!$AG$2:$AG$7,\"-\")))","v":"-"},"-","-",{"$f":"IF(C193=\"\",\"-\",_xlfn.XLOOKUP(C193,プルダウンデータリスト!$V$2:$V$9,プルダウンデータリスト!$X$2:$X$9,\"-\"))","v":"-"},"-"]
[null,null,null,null,null,null,{"$f":"IF($F194=\"\",\"-\",IF($C194=\"製材（製材・集成材・ＣＬＴ等）\",IF($E194=\"\",\"-\",_xlfn.XLOOKUP('２－２'!$E194,プルダウンデータリスト!$AC$2:$AC$65,プルダウンデータリスト!$AD$2:$AD$65)),_xlfn.XLOOKUP($C194,プルダウンデータリスト!$V$3:$V$9,プルダウンデータリスト!$W$3:$W$9,)))","v":"-"},null,null,{"$f":"IF($I194=\"\",\"-\",IF($C194=\"製材（製材・集成材・ＣＬＴ等）\",IF($E194=\"\",\"-\",_xlfn.XLOOKUP('２－２'!$E194,プルダウンデータリスト!$AC$2:$AC$65,プルダウンデータリスト!$AD$2:$AD$65)),_xlfn.XLOOKUP($C194,プルダウンデータリスト!$V$3:$V$9,プルダウンデータリスト!$W$3:$W$9,)))","v":"-"},null,{"$f":"IF(LEN(F194)+LEN(H194)>0,\"-\",IF(LEN(I194)+LEN(K194)<=0,\"-\",_xlfn.XLOOKUP(C194,プルダウンデータリスト!$AF$2:$AF$7,プルダウンデータリスト!$AG$2:$AG$7,\"-\")))","v":"-"},"-","-",{"$f":"IF(C194=\"\",\"-\",_xlfn.XLOOKUP(C194,プルダウンデータリスト!$V$2:$V$9,プルダウンデータリスト!$X$2:$X$9,\"-\"))","v":"-"},"-"]
[null,null,null,null,null,null,{"$f":"IF($F195=\"\",\"-\",IF($C195=\"製材（製材・集成材・ＣＬＴ等）\",IF($E195=\"\",\"-\",_xlfn.XLOOKUP('２－２'!$E195,プルダウンデータリスト!$AC$2:$AC$65,プルダウンデータリスト!$AD$2:$AD$65)),_xlfn.XLOOKUP($C195,プルダウンデータリスト!$V$3:$V$9,プルダウンデータリスト!$W$3:$W$9,)))","v":"-"},null,null,{"$f":"IF($I195=\"\",\"-\",IF($C195=\"製材（製材・集成材・ＣＬＴ等）\",IF($E195=\"\",\"-\",_xlfn.XLOOKUP('２－２'!$E195,プルダウンデータリスト!$AC$2:$AC$65,プルダウンデータリスト!$AD$2:$AD$65)),_xlfn.XLOOKUP($C195,プルダウンデータリスト!$V$3:$V$9,プルダウンデータリスト!$W$3:$W$9,)))","v":"-"},null,{"$f":"IF(LEN(F195)+LEN(H195)>0,\"-\",IF(LEN(I195)+LEN(K195)<=0,\"-\",_xlfn.XLOOKUP(C195,プルダウンデータリスト!$AF$2:$AF$7,プルダウンデータリスト!$AG$2:$AG$7,\"-\")))","v":"-"},"-","-",{"$f":"IF(C195=\"\",\"-\",_xlfn.XLOOKUP(C195,プルダウンデータリスト!$V$2:$V$9,プルダウンデータリスト!$X$2:$X$9,\"-\"))","v":"-"},"-"]
[null,null,null,null,null,null,{"$f":"IF($F196=\"\",\"-\",IF($C196=\"製材（製材・集成材・ＣＬＴ等）\",IF($E196=\"\",\"-\",_xlfn.XLOOKUP('２－２'!$E196,プルダウンデータリスト!$AC$2:$AC$65,プルダウンデータリスト!$AD$2:$AD$65)),_xlfn.XLOOKUP($C196,プルダウンデータリスト!$V$3:$V$9,プルダウンデータリスト!$W$3:$W$9,)))","v":"-"},null,null,{"$f":"IF($I196=\"\",\"-\",IF($C196=\"製材（製材・集成材・ＣＬＴ等）\",IF($E196=\"\",\"-\",_xlfn.XLOOKUP('２－２'!$E196,プルダウンデータリスト!$AC$2:$AC$65,プルダウンデータリスト!$AD$2:$AD$65)),_xlfn.XLOOKUP($C196,プルダウンデータリスト!$V$3:$V$9,プルダウンデータリスト!$W$3:$W$9,)))","v":"-"},null,{"$f":"IF(LEN(F196)+LEN(H196)>0,\"-\",IF(LEN(I196)+LEN(K196)<=0,\"-\",_xlfn.XLOOKUP(C196,プルダウンデータリスト!$AF$2:$AF$7,プルダウンデータリスト!$AG$2:$AG$7,\"-\")))","v":"-"},"-","-",{"$f":"IF(C196=\"\",\"-\",_xlfn.XLOOKUP(C196,プルダウンデータリスト!$V$2:$V$9,プルダウンデータリスト!$X$2:$X$9,\"-\"))","v":"-"},"-"]
[null,null,null,null,null,null,{"$f":"IF($F197=\"\",\"-\",IF($C197=\"製材（製材・集成材・ＣＬＴ等）\",IF($E197=\"\",\"-\",_xlfn.XLOOKUP('２－２'!$E197,プルダウンデータリスト!$AC$2:$AC$65,プルダウンデータリスト!$AD$2:$AD$65)),_xlfn.XLOOKUP($C197,プルダウンデータリスト!$V$3:$V$9,プルダウンデータリスト!$W$3:$W$9,)))","v":"-"},null,null,{"$f":"IF($I197=\"\",\"-\",IF($C197=\"製材（製材・集成材・ＣＬＴ等）\",IF($E197=\"\",\"-\",_xlfn.XLOOKUP('２－２'!$E197,プルダウンデータリスト!$AC$2:$AC$65,プルダウンデータリスト!$AD$2:$AD$65)),_xlfn.XLOOKUP($C197,プルダウンデータリスト!$V$3:$V$9,プルダウンデータリスト!$W$3:$W$9,)))","v":"-"},null,{"$f":"IF(LEN(F197)+LEN(H197)>0,\"-\",IF(LEN(I197)+LEN(K197)<=0,\"-\",_xlfn.XLOOKUP(C197,プルダウンデータリスト!$AF$2:$AF$7,プルダウンデータリスト!$AG$2:$AG$7,\"-\")))","v":"-"},"-","-",{"$f":"IF(C197=\"\",\"-\",_xlfn.XLOOKUP(C197,プルダウンデータリスト!$V$2:$V$9,プルダウンデータリスト!$X$2:$X$9,\"-\"))","v":"-"},"-"]
[null,null,null,null,null,null,{"$f":"IF($F198=\"\",\"-\",IF($C198=\"製材（製材・集成材・ＣＬＴ等）\",IF($E198=\"\",\"-\",_xlfn.XLOOKUP('２－２'!$E198,プルダウンデータリスト!$AC$2:$AC$65,プルダウンデータリスト!$AD$2:$AD$65)),_xlfn.XLOOKUP($C198,プルダウンデータリスト!$V$3:$V$9,プルダウンデータリスト!$W$3:$W$9,)))","v":"-"},null,null,{"$f":"IF($I198=\"\",\"-\",IF($C198=\"製材（製材・集成材・ＣＬＴ等）\",IF($E198=\"\",\"-\",_xlfn.XLOOKUP('２－２'!$E198,プルダウンデータリスト!$AC$2:$AC$65,プルダウンデータリスト!$AD$2:$AD$65)),_xlfn.XLOOKUP($C198,プルダウンデータリスト!$V$3:$V$9,プルダウンデータリスト!$W$3:$W$9,)))","v":"-"},null,{"$f":"IF(LEN(F198)+LEN(H198)>0,\"-\",IF(LEN(I198)+LEN(K198)<=0,\"-\",_xlfn.XLOOKUP(C198,プルダウンデータリスト!$AF$2:$AF$7,プルダウンデータリスト!$AG$2:$AG$7,\"-\")))","v":"-"},"-","-",{"$f":"IF(C198=\"\",\"-\",_xlfn.XLOOKUP(C198,プルダウンデータリスト!$V$2:$V$9,プルダウンデータリスト!$X$2:$X$9,\"-\"))","v":"-"},"-"]
[null,null,null,null,null,null,{"$f":"IF($F199=\"\",\"-\",IF($C199=\"製材（製材・集成材・ＣＬＴ等）\",IF($E199=\"\",\"-\",_xlfn.XLOOKUP('２－２'!$E199,プルダウンデータリスト!$AC$2:$AC$65,プルダウンデータリスト!$AD$2:$AD$65)),_xlfn.XLOOKUP($C199,プルダウンデータリスト!$V$3:$V$9,プルダウンデータリスト!$W$3:$W$9,)))","v":"-"},null,null,{"$f":"IF($I199=\"\",\"-\",IF($C199=\"製材（製材・集成材・ＣＬＴ等）\",IF($E199=\"\",\"-\",_xlfn.XLOOKUP('２－２'!$E199,プルダウンデータリスト!$AC$2:$AC$65,プルダウンデータリスト!$AD$2:$AD$65)),_xlfn.XLOOKUP($C199,プルダウンデータリスト!$V$3:$V$9,プルダウンデータリスト!$W$3:$W$9,)))","v":"-"},null,{"$f":"IF(LEN(F199)+LEN(H199)>0,\"-\",IF(LEN(I199)+LEN(K199)<=0,\"-\",_xlfn.XLOOKUP(C199,プルダウンデータリスト!$AF$2:$AF$7,プルダウンデータリスト!$AG$2:$AG$7,\"-\")))","v":"-"},"-","-",{"$f":"IF(C199=\"\",\"-\",_xlfn.XLOOKUP(C199,プルダウンデータリスト!$V$2:$V$9,プルダウンデータリスト!$X$2:$X$9,\"-\"))","v":"-"},"-"]
[null,null,null,null,null,null,{"$f":"IF($F200=\"\",\"-\",IF($C200=\"製材（製材・集成材・ＣＬＴ等）\",IF($E200=\"\",\"-\",_xlfn.XLOOKUP('２－２'!$E200,プルダウンデータリスト!$AC$2:$AC$65,プルダウンデータリスト!$AD$2:$AD$65)),_xlfn.XLOOKUP($C200,プルダウンデータリスト!$V$3:$V$9,プルダウンデータリスト!$W$3:$W$9,)))","v":"-"},null,null,{"$f":"IF($I200=\"\",\"-\",IF($C200=\"製材（製材・集成材・ＣＬＴ等）\",IF($E200=\"\",\"-\",_xlfn.XLOOKUP('２－２'!$E200,プルダウンデータリスト!$AC$2:$AC$65,プルダウンデータリスト!$AD$2:$AD$65)),_xlfn.XLOOKUP($C200,プルダウンデータリスト!$V$3:$V$9,プルダウンデータリスト!$W$3:$W$9,)))","v":"-"},null,{"$f":"IF(LEN(F200)+LEN(H200)>0,\"-\",IF(LEN(I200)+LEN(K200)<=0,\"-\",_xlfn.XLOOKUP(C200,プルダウンデータリスト!$AF$2:$AF$7,プルダウンデータリスト!$AG$2:$AG$7,\"-\")))","v":"-"},"-","-",{"$f":"IF(C200=\"\",\"-\",_xlfn.XLOOKUP(C200,プルダウンデータリスト!$V$2:$V$9,プルダウンデータリスト!$X$2:$X$9,\"-\"))","v":"-"},"-"]
[null,null,null,null,null,null,{"$f":"IF($F201=\"\",\"-\",IF($C201=\"製材（製材・集成材・ＣＬＴ等）\",IF($E201=\"\",\"-\",_xlfn.XLOOKUP('２－２'!$E201,プルダウンデータリスト!$AC$2:$AC$65,プルダウンデータリスト!$AD$2:$AD$65)),_xlfn.XLOOKUP($C201,プルダウンデータリスト!$V$3:$V$9,プルダウンデータリスト!$W$3:$W$9,)))","v":"-"},null,null,{"$f":"IF($I201=\"\",\"-\",IF($C201=\"製材（製材・集成材・ＣＬＴ等）\",IF($E201=\"\",\"-\",_xlfn.XLOOKUP('２－２'!$E201,プルダウンデータリスト!$AC$2:$AC$65,プルダウンデータリスト!$AD$2:$AD$65)),_xlfn.XLOOKUP($C201,プルダウンデータリスト!$V$3:$V$9,プルダウンデータリスト!$W$3:$W$9,)))","v":"-"},null,{"$f":"IF(LEN(F201)+LEN(H201)>0,\"-\",IF(LEN(I201)+LEN(K201)<=0,\"-\",_xlfn.XLOOKUP(C201,プルダウンデータリスト!$AF$2:$AF$7,プルダウンデータリスト!$AG$2:$AG$7,\"-\")))","v":"-"},"-","-",{"$f":"IF(C201=\"\",\"-\",_xlfn.XLOOKUP(C201,プルダウンデータリスト!$V$2:$V$9,プルダウンデータリスト!$X$2:$X$9,\"-\"))","v":"-"},"-"]
[null,null,null,null,null,null,{"$f":"IF($F202=\"\",\"-\",IF($C202=\"製材（製材・集成材・ＣＬＴ等）\",IF($E202=\"\",\"-\",_xlfn.XLOOKUP('２－２'!$E202,プルダウンデータリスト!$AC$2:$AC$65,プルダウンデータリスト!$AD$2:$AD$65)),_xlfn.XLOOKUP($C202,プルダウンデータリスト!$V$3:$V$9,プルダウンデータリスト!$W$3:$W$9,)))","v":"-"},null,null,{"$f":"IF($I202=\"\",\"-\",IF($C202=\"製材（製材・集成材・ＣＬＴ等）\",IF($E202=\"\",\"-\",_xlfn.XLOOKUP('２－２'!$E202,プルダウンデータリスト!$AC$2:$AC$65,プルダウンデータリスト!$AD$2:$AD$65)),_xlfn.XLOOKUP($C202,プルダウンデータリスト!$V$3:$V$9,プルダウンデータリスト!$W$3:$W$9,)))","v":"-"},null,{"$f":"IF(LEN(F202)+LEN(H202)>0,\"-\",IF(LEN(I202)+LEN(K202)<=0,\"-\",_xlfn.XLOOKUP(C202,プルダウンデータリスト!$AF$2:$AF$7,プルダウンデータリスト!$AG$2:$AG$7,\"-\")))","v":"-"},"-","-",{"$f":"IF(C202=\"\",\"-\",_xlfn.XLOOKUP(C202,プルダウンデータリスト!$V$2:$V$9,プルダウンデータリスト!$X$2:$X$9,\"-\"))","v":"-"},"-"]
[null,null,null,null,null,null,{"$f":"IF($F203=\"\",\"-\",IF($C203=\"製材（製材・集成材・ＣＬＴ等）\",IF($E203=\"\",\"-\",_xlfn.XLOOKUP('２－２'!$E203,プルダウンデータリスト!$AC$2:$AC$65,プルダウンデータリスト!$AD$2:$AD$65)),_xlfn.XLOOKUP($C203,プルダウンデータリスト!$V$3:$V$9,プルダウンデータリスト!$W$3:$W$9,)))","v":"-"},null,null,{"$f":"IF($I203=\"\",\"-\",IF($C203=\"製材（製材・集成材・ＣＬＴ等）\",IF($E203=\"\",\"-\",_xlfn.XLOOKUP('２－２'!$E203,プルダウンデータリスト!$AC$2:$AC$65,プルダウンデータリスト!$AD$2:$AD$65)),_xlfn.XLOOKUP($C203,プルダウンデータリスト!$V$3:$V$9,プルダウンデータリスト!$W$3:$W$9,)))","v":"-"},null,{"$f":"IF(LEN(F203)+LEN(H203)>0,\"-\",IF(LEN(I203)+LEN(K203)<=0,\"-\",_xlfn.XLOOKUP(C203,プルダウンデータリスト!$AF$2:$AF$7,プルダウンデータリスト!$AG$2:$AG$7,\"-\")))","v":"-"},"-","-",{"$f":"IF(C203=\"\",\"-\",_xlfn.XLOOKUP(C203,プルダウンデータリスト!$V$2:$V$9,プルダウンデータリスト!$X$2:$X$9,\"-\"))","v":"-"},"-"]
[null,null,null,null,null,null,{"$f":"IF($F204=\"\",\"-\",IF($C204=\"製材（製材・集成材・ＣＬＴ等）\",IF($E204=\"\",\"-\",_xlfn.XLOOKUP('２－２'!$E204,プルダウンデータリスト!$AC$2:$AC$65,プルダウンデータリスト!$AD$2:$AD$65)),_xlfn.XLOOKUP($C204,プルダウンデータリスト!$V$3:$V$9,プルダウンデータリスト!$W$3:$W$9,)))","v":"-"},null,null,{"$f":"IF($I204=\"\",\"-\",IF($C204=\"製材（製材・集成材・ＣＬＴ等）\",IF($E204=\"\",\"-\",_xlfn.XLOOKUP('２－２'!$E204,プルダウンデータリスト!$AC$2:$AC$65,プルダウンデータリスト!$AD$2:$AD$65)),_xlfn.XLOOKUP($C204,プルダウンデータリスト!$V$3:$V$9,プルダウンデータリスト!$W$3:$W$9,)))","v":"-"},null,{"$f":"IF(LEN(F204)+LEN(H204)>0,\"-\",IF(LEN(I204)+LEN(K204)<=0,\"-\",_xlfn.XLOOKUP(C204,プルダウンデータリスト!$AF$2:$AF$7,プルダウンデータリスト!$AG$2:$AG$7,\"-\")))","v":"-"},"-","-",{"$f":"IF(C204=\"\",\"-\",_xlfn.XLOOKUP(C204,プルダウンデータリスト!$V$2:$V$9,プルダウンデータリスト!$X$2:$X$9,\"-\"))","v":"-"},"-"]
[null,null,null,null,null,null,{"$f":"IF($F205=\"\",\"-\",IF($C205=\"製材（製材・集成材・ＣＬＴ等）\",IF($E205=\"\",\"-\",_xlfn.XLOOKUP('２－２'!$E205,プルダウンデータリスト!$AC$2:$AC$65,プルダウンデータリスト!$AD$2:$AD$65)),_xlfn.XLOOKUP($C205,プルダウンデータリスト!$V$3:$V$9,プルダウンデータリスト!$W$3:$W$9,)))","v":"-"},null,null,{"$f":"IF($I205=\"\",\"-\",IF($C205=\"製材（製材・集成材・ＣＬＴ等）\",IF($E205=\"\",\"-\",_xlfn.XLOOKUP('２－２'!$E205,プルダウンデータリスト!$AC$2:$AC$65,プルダウンデータリスト!$AD$2:$AD$65)),_xlfn.XLOOKUP($C205,プルダウンデータリスト!$V$3:$V$9,プルダウンデータリスト!$W$3:$W$9,)))","v":"-"},null,{"$f":"IF(LEN(F205)+LEN(H205)>0,\"-\",IF(LEN(I205)+LEN(K205)<=0,\"-\",_xlfn.XLOOKUP(C205,プルダウンデータリスト!$AF$2:$AF$7,プルダウンデータリスト!$AG$2:$AG$7,\"-\")))","v":"-"},"-","-",{"$f":"IF(C205=\"\",\"-\",_xlfn.XLOOKUP(C205,プルダウンデータリスト!$V$2:$V$9,プルダウンデータリスト!$X$2:$X$9,\"-\"))","v":"-"},"-"]
[null,null,null,null,null,null,{"$f":"IF($F206=\"\",\"-\",IF($C206=\"製材（製材・集成材・ＣＬＴ等）\",IF($E206=\"\",\"-\",_xlfn.XLOOKUP('２－２'!$E206,プルダウンデータリスト!$AC$2:$AC$65,プルダウンデータリスト!$AD$2:$AD$65)),_xlfn.XLOOKUP($C206,プルダウンデータリスト!$V$3:$V$9,プルダウンデータリスト!$W$3:$W$9,)))","v":"-"},null,null,{"$f":"IF($I206=\"\",\"-\",IF($C206=\"製材（製材・集成材・ＣＬＴ等）\",IF($E206=\"\",\"-\",_xlfn.XLOOKUP('２－２'!$E206,プルダウンデータリスト!$AC$2:$AC$65,プルダウンデータリスト!$AD$2:$AD$65)),_xlfn.XLOOKUP($C206,プルダウンデータリスト!$V$3:$V$9,プルダウンデータリスト!$W$3:$W$9,)))","v":"-"},null,{"$f":"IF(LEN(F206)+LEN(H206)>0,\"-\",IF(LEN(I206)+LEN(K206)<=0,\"-\",_xlfn.XLOOKUP(C206,プルダウンデータリスト!$AF$2:$AF$7,プルダウンデータリスト!$AG$2:$AG$7,\"-\")))","v":"-"},"-","-",{"$f":"IF(C206=\"\",\"-\",_xlfn.XLOOKUP(C206,プルダウンデータリスト!$V$2:$V$9,プルダウンデータリスト!$X$2:$X$9,\"-\"))","v":"-"},"-"]
[null,null,null,null,null,null,{"$f":"IF($F207=\"\",\"-\",IF($C207=\"製材（製材・集成材・ＣＬＴ等）\",IF($E207=\"\",\"-\",_xlfn.XLOOKUP('２－２'!$E207,プルダウンデータリスト!$AC$2:$AC$65,プルダウンデータリスト!$AD$2:$AD$65)),_xlfn.XLOOKUP($C207,プルダウンデータリスト!$V$3:$V$9,プルダウンデータリスト!$W$3:$W$9,)))","v":"-"},null,null,{"$f":"IF($I207=\"\",\"-\",IF($C207=\"製材（製材・集成材・ＣＬＴ等）\",IF($E207=\"\",\"-\",_xlfn.XLOOKUP('２－２'!$E207,プルダウンデータリスト!$AC$2:$AC$65,プルダウンデータリスト!$AD$2:$AD$65)),_xlfn.XLOOKUP($C207,プルダウンデータリスト!$V$3:$V$9,プルダウンデータリスト!$W$3:$W$9,)))","v":"-"},null,{"$f":"IF(LEN(F207)+LEN(H207)>0,\"-\",IF(LEN(I207)+LEN(K207)<=0,\"-\",_xlfn.XLOOKUP(C207,プルダウンデータリスト!$AF$2:$AF$7,プルダウンデータリスト!$AG$2:$AG$7,\"-\")))","v":"-"},"-","-",{"$f":"IF(C207=\"\",\"-\",_xlfn.XLOOKUP(C207,プルダウンデータリスト!$V$2:$V$9,プルダウンデータリスト!$X$2:$X$9,\"-\"))","v":"-"},"-"]
[null,null,null,null,null,null,{"$f":"IF($F208=\"\",\"-\",IF($C208=\"製材（製材・集成材・ＣＬＴ等）\",IF($E208=\"\",\"-\",_xlfn.XLOOKUP('２－２'!$E208,プルダウンデータリスト!$AC$2:$AC$65,プルダウンデータリスト!$AD$2:$AD$65)),_xlfn.XLOOKUP($C208,プルダウンデータリスト!$V$3:$V$9,プルダウンデータリスト!$W$3:$W$9,)))","v":"-"},null,null,{"$f":"IF($I208=\"\",\"-\",IF($C208=\"製材（製材・集成材・ＣＬＴ等）\",IF($E208=\"\",\"-\",_xlfn.XLOOKUP('２－２'!$E208,プルダウンデータリスト!$AC$2:$AC$65,プルダウンデータリスト!$AD$2:$AD$65)),_xlfn.XLOOKUP($C208,プルダウンデータリスト!$V$3:$V$9,プルダウンデータリスト!$W$3:$W$9,)))","v":"-"},null,{"$f":"IF(LEN(F208)+LEN(H208)>0,\"-\",IF(LEN(I208)+LEN(K208)<=0,\"-\",_xlfn.XLOOKUP(C208,プルダウンデータリスト!$AF$2:$AF$7,プルダウンデータリスト!$AG$2:$AG$7,\"-\")))","v":"-"},"-","-",{"$f":"IF(C208=\"\",\"-\",_xlfn.XLOOKUP(C208,プルダウンデータリスト!$V$2:$V$9,プルダウンデータリスト!$X$2:$X$9,\"-\"))","v":"-"},"-"]
[null,null,null,null,null,null,{"$f":"IF($F209=\"\",\"-\",IF($C209=\"製材（製材・集成材・ＣＬＴ等）\",IF($E209=\"\",\"-\",_xlfn.XLOOKUP('２－２'!$E209,プルダウンデータリスト!$AC$2:$AC$65,プルダウンデータリスト!$AD$2:$AD$65)),_xlfn.XLOOKUP($C209,プルダウンデータリスト!$V$3:$V$9,プルダウンデータリスト!$W$3:$W$9,)))","v":"-"},null,null,{"$f":"IF($I209=\"\",\"-\",IF($C209=\"製材（製材・集成材・ＣＬＴ等）\",IF($E209=\"\",\"-\",_xlfn.XLOOKUP('２－２'!$E209,プルダウンデータリスト!$AC$2:$AC$65,プルダウンデータリスト!$AD$2:$AD$65)),_xlfn.XLOOKUP($C209,プルダウンデータリスト!$V$3:$V$9,プルダウンデータリスト!$W$3:$W$9,)))","v":"-"},null,{"$f":"IF(LEN(F209)+LEN(H209)>0,\"-\",IF(LEN(I209)+LEN(K209)<=0,\"-\",_xlfn.XLOOKUP(C209,プルダウンデータリスト!$AF$2:$AF$7,プルダウンデータリスト!$AG$2:$AG$7,\"-\")))","v":"-"},"-","-",{"$f":"IF(C209=\"\",\"-\",_xlfn.XLOOKUP(C209,プルダウンデータリスト!$V$2:$V$9,プルダウンデータリスト!$X$2:$X$9,\"-\"))","v":"-"},"-"]
[null,null,null,null,null,null,{"$f":"IF($F210=\"\",\"-\",IF($C210=\"製材（製材・集成材・ＣＬＴ等）\",IF($E210=\"\",\"-\",_xlfn.XLOOKUP('２－２'!$E210,プルダウンデータリスト!$AC$2:$AC$65,プルダウンデータリスト!$AD$2:$AD$65)),_xlfn.XLOOKUP($C210,プルダウンデータリスト!$V$3:$V$9,プルダウンデータリスト!$W$3:$W$9,)))","v":"-"},null,null,{"$f":"IF($I210=\"\",\"-\",IF($C210=\"製材（製材・集成材・ＣＬＴ等）\",IF($E210=\"\",\"-\",_xlfn.XLOOKUP('２－２'!$E210,プルダウンデータリスト!$AC$2:$AC$65,プルダウンデータリスト!$AD$2:$AD$65)),_xlfn.XLOOKUP($C210,プルダウンデータリスト!$V$3:$V$9,プルダウンデータリスト!$W$3:$W$9,)))","v":"-"},null,{"$f":"IF(LEN(F210)+LEN(H210)>0,\"-\",IF(LEN(I210)+LEN(K210)<=0,\"-\",_xlfn.XLOOKUP(C210,プルダウンデータリスト!$AF$2:$AF$7,プルダウンデータリスト!$AG$2:$AG$7,\"-\")))","v":"-"},"-","-",{"$f":"IF(C210=\"\",\"-\",_xlfn.XLOOKUP(C210,プルダウンデータリスト!$V$2:$V$9,プルダウンデータリスト!$X$2:$X$9,\"-\"))","v":"-"},"-"]
[null,null,null,null,null,null,{"$f":"IF($F211=\"\",\"-\",IF($C211=\"製材（製材・集成材・ＣＬＴ等）\",IF($E211=\"\",\"-\",_xlfn.XLOOKUP('２－２'!$E211,プルダウンデータリスト!$AC$2:$AC$65,プルダウンデータリスト!$AD$2:$AD$65)),_xlfn.XLOOKUP($C211,プルダウンデータリスト!$V$3:$V$9,プルダウンデータリスト!$W$3:$W$9,)))","v":"-"},null,null,{"$f":"IF($I211=\"\",\"-\",IF($C211=\"製材（製材・集成材・ＣＬＴ等）\",IF($E211=\"\",\"-\",_xlfn.XLOOKUP('２－２'!$E211,プルダウンデータリスト!$AC$2:$AC$65,プルダウンデータリスト!$AD$2:$AD$65)),_xlfn.XLOOKUP($C211,プルダウンデータリスト!$V$3:$V$9,プルダウンデータリスト!$W$3:$W$9,)))","v":"-"},null,{"$f":"IF(LEN(F211)+LEN(H211)>0,\"-\",IF(LEN(I211)+LEN(K211)<=0,\"-\",_xlfn.XLOOKUP(C211,プルダウンデータリスト!$AF$2:$AF$7,プルダウンデータリスト!$AG$2:$AG$7,\"-\")))","v":"-"},"-","-",{"$f":"IF(C211=\"\",\"-\",_xlfn.XLOOKUP(C211,プルダウンデータリスト!$V$2:$V$9,プルダウンデータリスト!$X$2:$X$9,\"-\"))","v":"-"},"-"]
[null,null,null,null,null,null,{"$f":"IF($F212=\"\",\"-\",IF($C212=\"製材（製材・集成材・ＣＬＴ等）\",IF($E212=\"\",\"-\",_xlfn.XLOOKUP('２－２'!$E212,プルダウンデータリスト!$AC$2:$AC$65,プルダウンデータリスト!$AD$2:$AD$65)),_xlfn.XLOOKUP($C212,プルダウンデータリスト!$V$3:$V$9,プルダウンデータリスト!$W$3:$W$9,)))","v":"-"},null,null,{"$f":"IF($I212=\"\",\"-\",IF($C212=\"製材（製材・集成材・ＣＬＴ等）\",IF($E212=\"\",\"-\",_xlfn.XLOOKUP('２－２'!$E212,プルダウンデータリスト!$AC$2:$AC$65,プルダウンデータリスト!$AD$2:$AD$65)),_xlfn.XLOOKUP($C212,プルダウンデータリスト!$V$3:$V$9,プルダウンデータリスト!$W$3:$W$9,)))","v":"-"},null,{"$f":"IF(LEN(F212)+LEN(H212)>0,\"-\",IF(LEN(I212)+LEN(K212)<=0,\"-\",_xlfn.XLOOKUP(C212,プルダウンデータリスト!$AF$2:$AF$7,プルダウンデータリスト!$AG$2:$AG$7,\"-\")))","v":"-"},"-","-",{"$f":"IF(C212=\"\",\"-\",_xlfn.XLOOKUP(C212,プルダウンデータリスト!$V$2:$V$9,プルダウンデータリスト!$X$2:$X$9,\"-\"))","v":"-"},"-"]
[null,null,null,null,null,null,{"$f":"IF($F213=\"\",\"-\",IF($C213=\"製材（製材・集成材・ＣＬＴ等）\",IF($E213=\"\",\"-\",_xlfn.XLOOKUP('２－２'!$E213,プルダウンデータリスト!$AC$2:$AC$65,プルダウンデータリスト!$AD$2:$AD$65)),_xlfn.XLOOKUP($C213,プルダウンデータリスト!$V$3:$V$9,プルダウンデータリスト!$W$3:$W$9,)))","v":"-"},null,null,{"$f":"IF($I213=\"\",\"-\",IF($C213=\"製材（製材・集成材・ＣＬＴ等）\",IF($E213=\"\",\"-\",_xlfn.XLOOKUP('２－２'!$E213,プルダウンデータリスト!$AC$2:$AC$65,プルダウンデータリスト!$AD$2:$AD$65)),_xlfn.XLOOKUP($C213,プルダウンデータリスト!$V$3:$V$9,プルダウンデータリスト!$W$3:$W$9,)))","v":"-"},null,{"$f":"IF(LEN(F213)+LEN(H213)>0,\"-\",IF(LEN(I213)+LEN(K213)<=0,\"-\",_xlfn.XLOOKUP(C213,プルダウンデータリスト!$AF$2:$AF$7,プルダウンデータリスト!$AG$2:$AG$7,\"-\")))","v":"-"},"-","-",{"$f":"IF(C213=\"\",\"-\",_xlfn.XLOOKUP(C213,プルダウンデータリスト!$V$2:$V$9,プルダウンデータリスト!$X$2:$X$9,\"-\"))","v":"-"},"-"]
[null,null,null,null,null,null,{"$f":"IF($F214=\"\",\"-\",IF($C214=\"製材（製材・集成材・ＣＬＴ等）\",IF($E214=\"\",\"-\",_xlfn.XLOOKUP('２－２'!$E214,プルダウンデータリスト!$AC$2:$AC$65,プルダウンデータリスト!$AD$2:$AD$65)),_xlfn.XLOOKUP($C214,プルダウンデータリスト!$V$3:$V$9,プルダウンデータリスト!$W$3:$W$9,)))","v":"-"},null,null,{"$f":"IF($I214=\"\",\"-\",IF($C214=\"製材（製材・集成材・ＣＬＴ等）\",IF($E214=\"\",\"-\",_xlfn.XLOOKUP('２－２'!$E214,プルダウンデータリスト!$AC$2:$AC$65,プルダウンデータリスト!$AD$2:$AD$65)),_xlfn.XLOOKUP($C214,プルダウンデータリスト!$V$3:$V$9,プルダウンデータリスト!$W$3:$W$9,)))","v":"-"},null,{"$f":"IF(LEN(F214)+LEN(H214)>0,\"-\",IF(LEN(I214)+LEN(K214)<=0,\"-\",_xlfn.XLOOKUP(C214,プルダウンデータリスト!$AF$2:$AF$7,プルダウンデータリスト!$AG$2:$AG$7,\"-\")))","v":"-"},"-","-",{"$f":"IF(C214=\"\",\"-\",_xlfn.XLOOKUP(C214,プルダウンデータリスト!$V$2:$V$9,プルダウンデータリスト!$X$2:$X$9,\"-\"))","v":"-"},"-"]
[null,null,null,null,null,null,{"$f":"IF($F215=\"\",\"-\",IF($C215=\"製材（製材・集成材・ＣＬＴ等）\",IF($E215=\"\",\"-\",_xlfn.XLOOKUP('２－２'!$E215,プルダウンデータリスト!$AC$2:$AC$65,プルダウンデータリスト!$AD$2:$AD$65)),_xlfn.XLOOKUP($C215,プルダウンデータリスト!$V$3:$V$9,プルダウンデータリスト!$W$3:$W$9,)))","v":"-"},null,null,{"$f":"IF($I215=\"\",\"-\",IF($C215=\"製材（製材・集成材・ＣＬＴ等）\",IF($E215=\"\",\"-\",_xlfn.XLOOKUP('２－２'!$E215,プルダウンデータリスト!$AC$2:$AC$65,プルダウンデータリスト!$AD$2:$AD$65)),_xlfn.XLOOKUP($C215,プルダウンデータリスト!$V$3:$V$9,プルダウンデータリスト!$W$3:$W$9,)))","v":"-"},null,{"$f":"IF(LEN(F215)+LEN(H215)>0,\"-\",IF(LEN(I215)+LEN(K215)<=0,\"-\",_xlfn.XLOOKUP(C215,プルダウンデータリスト!$AF$2:$AF$7,プルダウンデータリスト!$AG$2:$AG$7,\"-\")))","v":"-"},"-","-",{"$f":"IF(C215=\"\",\"-\",_xlfn.XLOOKUP(C215,プルダウンデータリスト!$V$2:$V$9,プルダウンデータリスト!$X$2:$X$9,\"-\"))","v":"-"},"-"]
[null,null,null,null,null,null,{"$f":"IF($F216=\"\",\"-\",IF($C216=\"製材（製材・集成材・ＣＬＴ等）\",IF($E216=\"\",\"-\",_xlfn.XLOOKUP('２－２'!$E216,プルダウンデータリスト!$AC$2:$AC$65,プルダウンデータリスト!$AD$2:$AD$65)),_xlfn.XLOOKUP($C216,プルダウンデータリスト!$V$3:$V$9,プルダウンデータリスト!$W$3:$W$9,)))","v":"-"},null,null,{"$f":"IF($I216=\"\",\"-\",IF($C216=\"製材（製材・集成材・ＣＬＴ等）\",IF($E216=\"\",\"-\",_xlfn.XLOOKUP('２－２'!$E216,プルダウンデータリスト!$AC$2:$AC$65,プルダウンデータリスト!$AD$2:$AD$65)),_xlfn.XLOOKUP($C216,プルダウンデータリスト!$V$3:$V$9,プルダウンデータリスト!$W$3:$W$9,)))","v":"-"},null,{"$f":"IF(LEN(F216)+LEN(H216)>0,\"-\",IF(LEN(I216)+LEN(K216)<=0,\"-\",_xlfn.XLOOKUP(C216,プルダウンデータリスト!$AF$2:$AF$7,プルダウンデータリスト!$AG$2:$AG$7,\"-\")))","v":"-"},{"$f":"IF(SUM(F216,H216,I216,K216)<=0,\"-\",IF((LEN(H216)+LEN(K216))>0,\"-\",IF(LEN(F216)>0,F216,IF(LEN(I216)>0,I216*L216,\"\"))))","v":"-"},{"$f":"IF(SUM(F216,H216,I216,K216)<=0,\"-\",IF((LEN(F216)+LEN(I216))>0,\"-\",IF(LEN(H216)>0,H216,IF(LEN(K216)>0,K216*L216,\"\"))))","v":"-"},{"$f":"IF(C216=\"\",\"-\",_xlfn.XLOOKUP(C216,プルダウンデータリスト!$V$2:$V$9,プルダウンデータリスト!$X$2:$X$9,\"-\"))","v":"-"},"-"]
[null,null,null,null,null,null,{"$f":"IF($F217=\"\",\"-\",IF($C217=\"製材（製材・集成材・ＣＬＴ等）\",IF($E217=\"\",\"-\",_xlfn.XLOOKUP('２－２'!$E217,プルダウンデータリスト!$AC$2:$AC$65,プルダウンデータリスト!$AD$2:$AD$65)),_xlfn.XLOOKUP($C217,プルダウンデータリスト!$V$3:$V$9,プルダウンデータリスト!$W$3:$W$9,)))","v":"-"},null,null,{"$f":"IF($I217=\"\",\"-\",IF($C217=\"製材（製材・集成材・ＣＬＴ等）\",IF($E217=\"\",\"-\",_xlfn.XLOOKUP('２－２'!$E217,プルダウンデータリスト!$AC$2:$AC$65,プルダウンデータリスト!$AD$2:$AD$65)),_xlfn.XLOOKUP($C217,プルダウンデータリスト!$V$3:$V$9,プルダウンデータリスト!$W$3:$W$9,)))","v":"-"},null,{"$f":"IF(LEN(F217)+LEN(H217)>0,\"-\",IF(LEN(I217)+LEN(K217)<=0,\"-\",_xlfn.XLOOKUP(C217,プルダウンデータリスト!$AF$2:$AF$7,プルダウンデータリスト!$AG$2:$AG$7,\"-\")))","v":"-"},"-","-",{"$f":"IF(C217=\"\",\"-\",_xlfn.XLOOKUP(C217,プルダウンデータリスト!$V$2:$V$9,プルダウンデータリスト!$X$2:$X$9,\"-\"))","v":"-"},"-"]
[null,null,null,null,null,null,{"$f":"IF($F218=\"\",\"-\",IF($C218=\"製材（製材・集成材・ＣＬＴ等）\",IF($E218=\"\",\"-\",_xlfn.XLOOKUP('２－２'!$E218,プルダウンデータリスト!$AC$2:$AC$65,プルダウンデータリスト!$AD$2:$AD$65)),_xlfn.XLOOKUP($C218,プルダウンデータリスト!$V$3:$V$9,プルダウンデータリスト!$W$3:$W$9,)))","v":"-"},null,null,{"$f":"IF($I218=\"\",\"-\",IF($C218=\"製材（製材・集成材・ＣＬＴ等）\",IF($E218=\"\",\"-\",_xlfn.XLOOKUP('２－２'!$E218,プルダウンデータリスト!$AC$2:$AC$65,プルダウンデータリスト!$AD$2:$AD$65)),_xlfn.XLOOKUP($C218,プルダウンデータリスト!$V$3:$V$9,プルダウンデータリスト!$W$3:$W$9,)))","v":"-"},null,{"$f":"IF(LEN(F218)+LEN(H218)>0,\"-\",IF(LEN(I218)+LEN(K218)<=0,\"-\",_xlfn.XLOOKUP(C218,プルダウンデータリスト!$AF$2:$AF$7,プルダウンデータリスト!$AG$2:$AG$7,\"-\")))","v":"-"},"-","-",{"$f":"IF(C218=\"\",\"-\",_xlfn.XLOOKUP(C218,プルダウンデータリスト!$V$2:$V$9,プルダウンデータリスト!$X$2:$X$9,\"-\"))","v":"-"},"-"]
[null,null,null,null,null,null,{"$f":"IF($F219=\"\",\"-\",IF($C219=\"製材（製材・集成材・ＣＬＴ等）\",IF($E219=\"\",\"-\",_xlfn.XLOOKUP('２－２'!$E219,プルダウンデータリスト!$AC$2:$AC$65,プルダウンデータリスト!$AD$2:$AD$65)),_xlfn.XLOOKUP($C219,プルダウンデータリスト!$V$3:$V$9,プルダウンデータリスト!$W$3:$W$9,)))","v":"-"},null,null,{"$f":"IF($I219=\"\",\"-\",IF($C219=\"製材（製材・集成材・ＣＬＴ等）\",IF($E219=\"\",\"-\",_xlfn.XLOOKUP('２－２'!$E219,プルダウンデータリスト!$AC$2:$AC$65,プルダウンデータリスト!$AD$2:$AD$65)),_xlfn.XLOOKUP($C219,プルダウンデータリスト!$V$3:$V$9,プルダウンデータリスト!$W$3:$W$9,)))","v":"-"},null,{"$f":"IF(LEN(F219)+LEN(H219)>0,\"-\",IF(LEN(I219)+LEN(K219)<=0,\"-\",_xlfn.XLOOKUP(C219,プルダウンデータリスト!$AF$2:$AF$7,プルダウンデータリスト!$AG$2:$AG$7,\"-\")))","v":"-"},"-","-",{"$f":"IF(C219=\"\",\"-\",_xlfn.XLOOKUP(C219,プルダウンデータリスト!$V$2:$V$9,プルダウンデータリスト!$X$2:$X$9,\"-\"))","v":"-"},"-"]
[null,null,null,null,null,null,{"$f":"IF($F220=\"\",\"-\",IF($C220=\"製材（製材・集成材・ＣＬＴ等）\",IF($E220=\"\",\"-\",_xlfn.XLOOKUP('２－２'!$E220,プルダウンデータリスト!$AC$2:$AC$65,プルダウンデータリスト!$AD$2:$AD$65)),_xlfn.XLOOKUP($C220,プルダウンデータリスト!$V$3:$V$9,プルダウンデータリスト!$W$3:$W$9,)))","v":"-"},null,null,{"$f":"IF($I220=\"\",\"-\",IF($C220=\"製材（製材・集成材・ＣＬＴ等）\",IF($E220=\"\",\"-\",_xlfn.XLOOKUP('２－２'!$E220,プルダウンデータリスト!$AC$2:$AC$65,プルダウンデータリスト!$AD$2:$AD$65)),_xlfn.XLOOKUP($C220,プルダウンデータリスト!$V$3:$V$9,プルダウンデータリスト!$W$3:$W$9,)))","v":"-"},null,{"$f":"IF(LEN(F220)+LEN(H220)>0,\"-\",IF(LEN(I220)+LEN(K220)<=0,\"-\",_xlfn.XLOOKUP(C220,プルダウンデータリスト!$AF$2:$AF$7,プルダウンデータリスト!$AG$2:$AG$7,\"-\")))","v":"-"},"-","-",{"$f":"IF(C220=\"\",\"-\",_xlfn.XLOOKUP(C220,プルダウンデータリスト!$V$2:$V$9,プルダウンデータリスト!$X$2:$X$9,\"-\"))","v":"-"},"-"]
[null,null,null,null,null,null,{"$f":"IF($F221=\"\",\"-\",IF($C221=\"製材（製材・集成材・ＣＬＴ等）\",IF($E221=\"\",\"-\",_xlfn.XLOOKUP('２－２'!$E221,プルダウンデータリスト!$AC$2:$AC$65,プルダウンデータリスト!$AD$2:$AD$65)),_xlfn.XLOOKUP($C221,プルダウンデータリスト!$V$3:$V$9,プルダウンデータリスト!$W$3:$W$9,)))","v":"-"},null,null,{"$f":"IF($I221=\"\",\"-\",IF($C221=\"製材（製材・集成材・ＣＬＴ等）\",IF($E221=\"\",\"-\",_xlfn.XLOOKUP('２－２'!$E221,プルダウンデータリスト!$AC$2:$AC$65,プルダウンデータリスト!$AD$2:$AD$65)),_xlfn.XLOOKUP($C221,プルダウンデータリスト!$V$3:$V$9,プルダウンデータリスト!$W$3:$W$9,)))","v":"-"},null,{"$f":"IF(LEN(F221)+LEN(H221)>0,\"-\",IF(LEN(I221)+LEN(K221)<=0,\"-\",_xlfn.XLOOKUP(C221,プルダウンデータリスト!$AF$2:$AF$7,プルダウンデータリスト!$AG$2:$AG$7,\"-\")))","v":"-"},"-","-",{"$f":"IF(C221=\"\",\"-\",_xlfn.XLOOKUP(C221,プルダウンデータリスト!$V$2:$V$9,プルダウンデータリスト!$X$2:$X$9,\"-\"))","v":"-"},"-"]
[null,null,null,null,null,null,{"$f":"IF($F222=\"\",\"-\",IF($C222=\"製材（製材・集成材・ＣＬＴ等）\",IF($E222=\"\",\"-\",_xlfn.XLOOKUP('２－２'!$E222,プルダウンデータリスト!$AC$2:$AC$65,プルダウンデータリスト!$AD$2:$AD$65)),_xlfn.XLOOKUP($C222,プルダウンデータリスト!$V$3:$V$9,プルダウンデータリスト!$W$3:$W$9,)))","v":"-"},null,null,{"$f":"IF($I222=\"\",\"-\",IF($C222=\"製材（製材・集成材・ＣＬＴ等）\",IF($E222=\"\",\"-\",_xlfn.XLOOKUP('２－２'!$E222,プルダウンデータリスト!$AC$2:$AC$65,プルダウンデータリスト!$AD$2:$AD$65)),_xlfn.XLOOKUP($C222,プルダウンデータリスト!$V$3:$V$9,プルダウンデータリスト!$W$3:$W$9,)))","v":"-"},null,{"$f":"IF(LEN(F222)+LEN(H222)>0,\"-\",IF(LEN(I222)+LEN(K222)<=0,\"-\",_xlfn.XLOOKUP(C222,プルダウンデータリスト!$AF$2:$AF$7,プルダウンデータリスト!$AG$2:$AG$7,\"-\")))","v":"-"},"-","-",{"$f":"IF(C222=\"\",\"-\",_xlfn.XLOOKUP(C222,プルダウンデータリスト!$V$2:$V$9,プルダウンデータリスト!$X$2:$X$9,\"-\"))","v":"-"},"-"]

{"sheet":"２－４","index":7,"n_rows":238,"n_cols":12,"rows_kept":238,"cut":false,"hidden":true,"merged":[[36,11,37,11],[13,0,13,1],[9,0,10,0],[11,0,12,0],[8,0,8,1],[36,7,37,7],[20,0,20,1],[21,0,21,1],[22,0,22,1],[23,0,23,1],[24,0,24,1],[34,0,34,1],[25,0,25,1],[26,0,26,1],[27,0,27,1],[32,0,32,1],[33,0,33,1],[36,8,37,8],[36,9,37,9],[36,10,37,10],[36,0,37,0],[36,1,37,1],[36,2,37,2],[36,3,36,6]]}
["○算定シート２－４"]
[]
["【算定排出量算定期間に廃棄又は滅失した木材（個票）】"]
[]
["※（１）、（２）ア）、（２）イ）のいずれかの表に記入すること。"]
[]
["（１）過年度に炭素蓄積の量を報告している場合"]
[]
["名称"]
["減少した国産材使用量(㎥)","建築物その他の工作物"]
[null,"家具その他の物品"]
["減少した国産材使用量(kg)","建築物その他の工作物"]
[null,"家具その他の物品"]
["減少した炭素蓄積の量の小計(t-C)"]
[]
[]
["（２）過年度に炭素蓄積の量を報告していない場合であって、新築建築物その他の工作物を報告するにあたり、"]
["      その土地に従前建てられていた建築物その他の工作物の解体により減少した炭素蓄積の量を報告する場合"]
["　ア）国産材使用量が不明な場合"]
[]
["名称"]
["所在地"]
["建築年度",null,"～1980"]
["住宅/非住宅の別",null,"非住宅"]
["構造の区分",null,"S造"]
["延床面積(㎡)",null,100]
["単位床面積当たりの炭素蓄積の減少量(t-C)",null,{"$f":"IFERROR(_xlfn.XLOOKUP('２－４'!C23&'２－４'!C24&'２－４'!C25,プルダウンデータリスト!AI2:AI5211&プルダウンデータリスト!AJ2:AJ5211&プルダウンデータリスト!AK2:AK5211,プルダウンデータリスト!AL2:AL5211),\"-\")","v":"-"}]
["減少した炭素蓄積の量の小計(t-C)",null,{"$f":"IFERROR(C27*C26,\"-\")","v":"-"}]
[]
[]
["　イ）国産材使用量が既知の場合"]
[]
["名称"]
["所在地"]
["減少した炭素蓄積の量の小計(t-C)",null,{"$f":"SUM(K235:K238)","v":0},null,null,"※各行、材積又は重量のいずれかの欄に入力すること。"]
[null,null,null,"↓緑に変更"]
["No","部品、製品名等","区分(製材・合板・木質ボード)","国産材使用量",null,null,null,"国産材使用量小計(㎥)","国産材使用量小計(kg)","木材の炭素含有率","炭素蓄積の量(t-C)","備考"]
[null,null,null,"樹種","材積(㎥)","木材の密度(t/㎥)","重量(kg)"]
[null,null,"製材（製材・集成材・ＣＬＴ等）","スギ",100,{"$f":"IF($C39=\"\",\"-\",IF($D39=\"\",\"-\",IF($C39=\"製材（製材・集成材・ＣＬＴ等）\",_xlfn.XLOOKUP('２－４'!$D39,プルダウンデータリスト!$AC$2:$AC$65,プルダウンデータリスト!$AD$2:$AD$65),_xlfn.XLOOKUP($C39,プルダウンデータリスト!$V$3:$V$9,プルダウンデータリスト!$W$3:$W$9,))))","v":0.33},null,{"$f":"IF(E39=\"\",\"-\",E39)","v":100},{"$f":"IF(G39=\"\",\"-\",G39)","v":"-"},{"$f":"IF(C39=\"\",\"-\",_xlfn.XLOOKUP(C39,プルダウンデータリスト!$V$2:$V$9,プルダウンデータリスト!$X$2:$X$9,\"-\"))","v":0.5},{"$f":"IFERROR(IF(LEN(E39)>0,E39*F39*J39,IF(LEN(G39)>0,G39*J39/1000,\"-\")),\"-\")","v":16.5}]
[null,null,"木質ボード（パーティクルボード）","ヒノキ",null,{"$f":"IF($C40=\"\",\"-\",IF($D40=\"\",\"-\",IF($C40=\"製材（製材・集成材・ＣＬＴ等）\",_xlfn.XLOOKUP('２－４'!$D40,プルダウンデータリスト!$AC$2:$AC$65,プルダウンデータリスト!$AD$2:$AD$65),_xlfn.XLOOKUP($C40,プルダウンデータリスト!$V$3:$V$9,プルダウンデータリスト!$W$3:$W$9,))))","v":0.59599999999999997},100,{"$f":"IF(E40=\"\",\"-\",E40)","v":"-"},{"$f":"IF(G40=\"\",\"-\",G40)","v":100},{"$f":"IF(C40=\"\",\"-\",_xlfn.XLOOKUP(C40,プルダウンデータリスト!$V$2:$V$9,プルダウンデータリスト!$X$2:$X$9,\"-\"))","v":0.45100000000000001},{"$f":"IFERROR(IF(LEN(E40)>0,E40*F40*J40,IF(LEN(G40)>0,G40*J40/1000,\"-\")),\"-\")","v":4.5100000000000001E-2}]
[null,null,null,null,null,{"$f":"IF($C41=\"\",\"-\",IF($D41=\"\",\"-\",IF($C41=\"製材（製材・集成材・ＣＬＴ等）\",_xlfn.XLOOKUP('２－４'!$D41,プルダウンデータリスト!$AC$2:$AC$65,プルダウンデータリスト!$AD$2:$AD$65),_xlfn.XLOOKUP($C41,プルダウンデータリスト!$V$3:$V$9,プルダウンデータリスト!$W$3:$W$9,))))","v":"-"},null,"-","-",{"$f":"IF(C41=\"\",\"-\",_xlfn.XLOOKUP(C41,プルダウンデータリスト!$V$2:$V$9,プルダウンデータリスト!$X$2:$X$9,\"-\"))","v":"-"},"-"]
[null,null,null,null,null,{"$f":"IF($C42=\"\",\"-\",IF($D42=\"\",\"-\",IF($C42=\"製材（製材・集成材・ＣＬＴ等）\",_xlfn.XLOOKUP('２－４'!$D42,プルダウンデータリスト!$AC$2:$AC$65,プルダウンデータリスト!$AD$2:$AD$65),_xlfn.XLOOKUP($C42,プルダウンデータリスト!$V$3:$V$9,プルダウンデータリスト!$W$3:$W$9,))))","v":"-"},null,"-","-",{"$f":"IF(C42=\"\",\"-\",_xlfn.XLOOKUP(C42,プルダウンデータリスト!$V$2:$V$9,プルダウンデータリスト!$X$2:$X$9,\"-\"))","v":"-"},"-"]
[null,null,null,null,null,{"$f":"IF($C43=\"\",\"-\",IF($D43=\"\",\"-\",IF($C43=\"製材（製材・集成材・ＣＬＴ等）\",_xlfn.XLOOKUP('２－４'!$D43,プルダウンデータリスト!$AC$2:$AC$65,プルダウンデータリスト!$AD$2:$AD$65),_xlfn.XLOOKUP($C43,プルダウンデータリスト!$V$3:$V$9,プルダウンデータリスト!$W$3:$W$9,))))","v":"-"},null,"-","-",{"$f":"IF(C43=\"\",\"-\",_xlfn.XLOOKUP(C43,プルダウンデータリスト!$V$2:$V$9,プルダウンデータリスト!$X$2:$X$9,\"-\"))","v":"-"},"-"]
[null,null,null,null,null,{"$f":"IF($C44=\"\",\"-\",IF($D44=\"\",\"-\",IF($C44=\"製材（製材・集成材・ＣＬＴ等）\",_xlfn.XLOOKUP('２－４'!$D44,プルダウンデータリスト!$AC$2:$AC$65,プルダウンデータリスト!$AD$2:$AD$65),_xlfn.XLOOKUP($C44,プルダウンデータリスト!$V$3:$V$9,プルダウンデータリスト!$W$3:$W$9,))))","v":"-"},null,"-","-",{"$f":"IF(C44=\"\",\"-\",_xlfn.XLOOKUP(C44,プルダウンデータリスト!$V$2:$V$9,プルダウンデータリスト!$X$2:$X$9,\"-\"))","v":"-"},"-"]
[null,null,null,null,null,{"$f":"IF($C45=\"\",\"-\",IF($D45=\"\",\"-\",IF($C45=\"製材（製材・集成材・ＣＬＴ等）\",_xlfn.XLOOKUP('２－４'!$D45,プルダウンデータリスト!$AC$2:$AC$65,プルダウンデータリスト!$AD$2:$AD$65),_xlfn.XLOOKUP($C45,プルダウンデータリスト!$V$3:$V$9,プルダウンデータリスト!$W$3:$W$9,))))","v":"-"},null,"-","-",{"$f":"IF(C45=\"\",\"-\",_xlfn.XLOOKUP(C45,プルダウンデータリスト!$V$2:$V$9,プルダウンデータリスト!$X$2:$X$9,\"-\"))","v":"-"},"-"]
[null,null,null,null,null,{"$f":"IF($C46=\"\",\"-\",IF($D46=\"\",\"-\",IF($C46=\"製材（製材・集成材・ＣＬＴ等）\",_xlfn.XLOOKUP('２－４'!$D46,プルダウンデータリスト!$AC$2:$AC$65,プルダウンデータリスト!$AD$2:$AD$65),_xlfn.XLOOKUP($C46,プルダウンデータリスト!$V$3:$V$9,プルダウンデータリスト!$W$3:$W$9,))))","v":"-"},null,"-","-",{"$f":"IF(C46=\"\",\"-\",_xlfn.XLOOKUP(C46,プルダウンデータリスト!$V$2:$V$9,プルダウンデータリスト!$X$2:$X$9,\"-\"))","v":"-"},"-"]
[null,null,null,null,null,{"$f":"IF($C47=\"\",\"-\",IF($D47=\"\",\"-\",IF($C47=\"製材（製材・集成材・ＣＬＴ等）\",_xlfn.XLOOKUP('２－４'!$D47,プルダウンデータリスト!$AC$2:$AC$65,プルダウンデータリスト!$AD$2:$AD$65),_xlfn.XLOOKUP($C47,プルダウンデータリスト!$V$3:$V$9,プルダウンデータリスト!$W$3:$W$9,))))","v":"-"},null,"-","-",{"$f":"IF(C47=\"\",\"-\",_xlfn.XLOOKUP(C47,プルダウンデータリスト!$V$2:$V$9,プルダウンデータリスト!$X$2:$X$9,\"-\"))","v":"-"},"-"]
[null,null,null,null,null,{"$f":"IF($C48=\"\",\"-\",IF($D48=\"\",\"-\",IF($C48=\"製材（製材・集成材・ＣＬＴ等）\",_xlfn.XLOOKUP('２－４'!$D48,プルダウンデータリスト!$AC$2:$AC$65,プルダウンデータリスト!$AD$2:$AD$65),_xlfn.XLOOKUP($C48,プルダウンデータリスト!$V$3:$V$9,プルダウンデータリスト!$W$3:$W$9,))))","v":"-"},null,"-","-",{"$f":"IF(C48=\"\",\"-\",_xlfn.XLOOKUP(C48,プルダウンデータリスト!$V$2:$V$9,プルダウンデータリスト!$X$2:$X$9,\"-\"))","v":"-"},"-"]
[null,null,null,null,null,{"$f":"IF($C49=\"\",\"-\",IF($D49=\"\",\"-\",IF($C49=\"製材（製材・集成材・ＣＬＴ等）\",_xlfn.XLOOKUP('２－４'!$D49,プルダウンデータリスト!$AC$2:$AC$65,プルダウンデータリスト!$AD$2:$AD$65),_xlfn.XLOOKUP($C49,プルダウンデータリスト!$V$3:$V$9,プルダウンデータリスト!$W$3:$W$9,))))","v":"-"},null,"-","-",{"$f":"IF(C49=\"\",\"-\",_xlfn.XLOOKUP(C49,プルダウンデータリスト!$V$2:$V$9,プルダウンデータリスト!$X$2:$X$9,\"-\"))","v":"-"},"-"]
[null,null,null,null,null,{"$f":"IF($C50=\"\",\"-\",IF($D50=\"\",\"-\",IF($C50=\"製材（製材・集成材・ＣＬＴ等）\",_xlfn.XLOOKUP('２－４'!$D50,プルダウンデータリスト!$AC$2:$AC$65,プルダウンデータリスト!$AD$2:$AD$65),_xlfn.XLOOKUP($C50,プルダウンデータリスト!$V$3:$V$9,プルダウンデータリスト!$W$3:$W$9,))))","v":"-"},null,"-","-",{"$f":"IF(C50=\"\",\"-\",_xlfn.XLOOKUP(C50,プルダウンデータリスト!$V$2:$V$9,プルダウンデータリスト!$X$2:$X$9,\"-\"))","v":"-"},"-"]
[null,null,null,null,null,{"$f":"IF($C51=\"\",\"-\",IF($D51=\"\",\"-\",IF($C51=\"製材（製材・集成材・ＣＬＴ等）\",_xlfn.XLOOKUP('２－４'!$D51,プルダウンデータリスト!$AC$2:$AC$65,プルダウンデータリスト!$AD$2:$AD$65),_xlfn.XLOOKUP($C51,プルダウンデータリスト!$V$3:$V$9,プルダウンデータリスト!$W$3:$W$9,))))","v":"-"},null,"-","-",{"$f":"IF(C51=\"\",\"-\",_xlfn.XLOOKUP(C51,プルダウンデータリスト!$V$2:$V$9,プルダウンデータリスト!$X$2:$X$9,\"-\"))","v":"-"},"-"]
[null,null,null,null,null,{"$f":"IF($C52=\"\",\"-\",IF($D52=\"\",\"-\",IF($C52=\"製材（製材・集成材・ＣＬＴ等）\",_xlfn.XLOOKUP('２－４'!$D52,プルダウンデータリスト!$AC$2:$AC$65,プルダウンデータリスト!$AD$2:$AD$65),_xlfn.XLOOKUP($C52,プルダウンデータリスト!$V$3:$V$9,プルダウンデータリスト!$W$3:$W$9,))))","v":"-"},null,"-","-",{"$f":"IF(C52=\"\",\"-\",_xlfn.XLOOKUP(C52,プルダウンデータリスト!$V$2:$V$9,プルダウンデータリスト!$X$2:$X$9,\"-\"))","v":"-"},"-"]
[null,null,null,null,null,{"$f":"IF($C53=\"\",\"-\",IF($D53=\"\",\"-\",IF($C53=\"製材（製材・集成材・ＣＬＴ等）\",_xlfn.XLOOKUP('２－４'!$D53,プルダウンデータリスト!$AC$2:$AC$65,プルダウンデータリスト!$AD$2:$AD$65),_xlfn.XLOOKUP($C53,プルダウンデータリスト!$V$3:$V$9,プルダウンデータリスト!$W$3:$W$9,))))","v":"-"},null,"-","-",{"$f":"IF(C53=\"\",\"-\",_xlfn.XLOOKUP(C53,プルダウンデータリスト!$V$2:$V$9,プルダウンデータリスト!$X$2:$X$9,\"-\"))","v":"-"},"-"]
[null,null,null,null,null,{"$f":"IF($C54=\"\",\"-\",IF($D54=\"\",\"-\",IF($C54=\"製材（製材・集成材・ＣＬＴ等）\",_xlfn.XLOOKUP('２－４'!$D54,プルダウンデータリスト!$AC$2:$AC$65,プルダウンデータリスト!$AD$2:$AD$65),_xlfn.XLOOKUP($C54,プルダウンデータリスト!$V$3:$V$9,プルダウンデータリスト!$W$3:$W$9,))))","v":"-"},null,"-","-",{"$f":"IF(C54=\"\",\"-\",_xlfn.XLOOKUP(C54,プルダウンデータリスト!$V$2:$V$9,プルダウンデータリスト!$X$2:$X$9,\"-\"))","v":"-"},"-"]
[null,null,null,null,null,{"$f":"IF($C55=\"\",\"-\",IF($D55=\"\",\"-\",IF($C55=\"製材（製材・集成材・ＣＬＴ等）\",_xlfn.XLOOKUP('２－４'!$D55,プルダウンデータリスト!$AC$2:$AC$65,プルダウンデータリスト!$AD$2:$AD$65),_xlfn.XLOOKUP($C55,プルダウンデータリスト!$V$3:$V$9,プルダウンデータリスト!$W$3:$W$9,))))","v":"-"},null,"-","-",{"$f":"IF(C55=\"\",\"-\",_xlfn.XLOOKUP(C55,プルダウンデータリスト!$V$2:$V$9,プルダウンデータリスト!$X$2:$X$9,\"-\"))","v":"-"},"-"]
[null,null,null,null,null,{"$f":"IF($C56=\"\",\"-\",IF($D56=\"\",\"-\",IF($C56=\"製材（製材・集成材・ＣＬＴ等）\",_xlfn.XLOOKUP('２－４'!$D56,プルダウンデータリスト!$AC$2:$AC$65,プルダウンデータリスト!$AD$2:$AD$65),_xlfn.XLOOKUP($C56,プルダウンデータリスト!$V$3:$V$9,プルダウンデータリスト!$W$3:$W$9,))))","v":"-"},null,"-","-",{"$f":"IF(C56=\"\",\"-\",_xlfn.XLOOKUP(C56,プルダウンデータリスト!$V$2:$V$9,プルダウンデータリスト!$X$2:$X$9,\"-\"))","v":"-"},"-"]
[null,null,null,null,null,{"$f":"IF($C57=\"\",\"-\",IF($D57=\"\",\"-\",IF($C57=\"製材（製材・集成材・ＣＬＴ等）\",_xlfn.XLOOKUP('２－４'!$D57,プルダウンデータリスト!$AC$2:$AC$65,プルダウンデータリスト!$AD$2:$AD$65),_xlfn.XLOOKUP($C57,プルダウンデータリスト!$V$3:$V$9,プルダウンデータリスト!$W$3:$W$9,))))","v":"-"},null,"-","-",{"$f":"IF(C57=\"\",\"-\",_xlfn.XLOOKUP(C57,プルダウンデータリスト!$V$2:$V$9,プルダウンデータリスト!$X$2:$X$9,\"-\"))","v":"-"},"-"]
[null,null,null,null,null,{"$f":"IF($C58=\"\",\"-\",IF($D58=\"\",\"-\",IF($C58=\"製材（製材・集成材・ＣＬＴ等）\",_xlfn.XLOOKUP('２－４'!$D58,プルダウンデータリスト!$AC$2:$AC$65,プルダウンデータリスト!$AD$2:$AD$65),_xlfn.XLOOKUP($C58,プルダウンデータリスト!$V$3:$V$9,プルダウンデータリスト!$W$3:$W$9,))))","v":"-"},null,"-","-",{"$f":"IF(C58=\"\",\"-\",_xlfn.XLOOKUP(C58,プルダウンデータリスト!$V$2:$V$9,プルダウンデータリスト!$X$2:$X$9,\"-\"))","v":"-"},"-"]
[null,null,null,null,null,{"$f":"IF($C59=\"\",\"-\",IF($D59=\"\",\"-\",IF($C59=\"製材（製材・集成材・ＣＬＴ等）\",_xlfn.XLOOKUP('２－４'!$D59,プルダウンデータリスト!$AC$2:$AC$65,プルダウンデータリスト!$AD$2:$AD$65),_xlfn.XLOOKUP($C59,プルダウンデータリスト!$V$3:$V$9,プルダウンデータリスト!$W$3:$W$9,))))","v":"-"},null,"-","-",{"$f":"IF(C59=\"\",\"-\",_xlfn.XLOOKUP(C59,プルダウンデータリスト!$V$2:$V$9,プルダウンデータリスト!$X$2:$X$9,\"-\"))","v":"-"},"-"]
[null,null,null,null,null,{"$f":"IF($C60=\"\",\"-\",IF($D60=\"\",\"-\",IF($C60=\"製材（製材・集成材・ＣＬＴ等）\",_xlfn.XLOOKUP('２－４'!$D60,プルダウンデータリスト!$AC$2:$AC$65,プルダウンデータリスト!$AD$2:$AD$65),_xlfn.XLOOKUP($C60,プルダウンデータリスト!$V$3:$V$9,プルダウンデータリスト!$W$3:$W$9,))))","v":"-"},null,"-","-",{"$f":"IF(C60=\"\",\"-\",_xlfn.XLOOKUP(C60,プルダウンデータリスト!$V$2:$V$9,プルダウンデータリスト!$X$2:$X$9,\"-\"))","v":"-"},"-"]
[null,null,null,null,null,{"$f":"IF($C61=\"\",\"-\",IF($D61=\"\",\"-\",IF($C61=\"製材（製材・集成材・ＣＬＴ等）\",_xlfn.XLOOKUP('２－４'!$D61,プルダウンデータリスト!$AC$2:$AC$65,プルダウンデータリスト!$AD$2:$AD$65),_xlfn.XLOOKUP($C61,プルダウンデータリスト!$V$3:$V$9,プルダウンデータリスト!$W$3:$W$9,))))","v":"-"},null,"-","-",{"$f":"IF(C61=\"\",\"-\",_xlfn.XLOOKUP(C61,プルダウンデータリスト!$V$2:$V$9,プルダウンデータリスト!$X$2:$X$9,\"-\"))","v":"-"},"-"]
[null,null,null,null,null,{"$f":"IF($C62=\"\",\"-\",IF($D62=\"\",\"-\",IF($C62=\"製材（製材・集成材・ＣＬＴ等）\",_xlfn.XLOOKUP('２－４'!$D62,プルダウンデータリスト!$AC$2:$AC$65,プルダウンデータリスト!$AD$2:$AD$65),_xlfn.XLOOKUP($C62,プルダウンデータリスト!$V$3:$V$9,プルダウンデータリスト!$W$3:$W$9,))))","v":"-"},null,"-","-",{"$f":"IF(C62=\"\",\"-\",_xlfn.XLOOKUP(C62,プルダウンデータリスト!$V$2:$V$9,プルダウンデータリスト!$X$2:$X$9,\"-\"))","v":"-"},"-"]
[null,null,null,null,null,{"$f":"IF($C63=\"\",\"-\",IF($D63=\"\",\"-\",IF($C63=\"製材（製材・集成材・ＣＬＴ等）\",_xlfn.XLOOKUP('２－４'!$D63,プルダウンデータリスト!$AC$2:$AC$65,プルダウンデータリスト!$AD$2:$AD$65),_xlfn.XLOOKUP($C63,プルダウンデータリスト!$V$3:$V$9,プルダウンデータリスト!$W$3:$W$9,))))","v":"-"},null,"-","-",{"$f":"IF(C63=\"\",\"-\",_xlfn.XLOOKUP(C63,プルダウンデータリスト!$V$2:$V$9,プルダウンデータリスト!$X$2:$X$9,\"-\"))","v":"-"},"-"]
[null,null,null,null,null,{"$f":"IF($C64=\"\",\"-\",IF($D64=\"\",\"-\",IF($C64=\"製材（製材・集成材・ＣＬＴ等）\",_xlfn.XLOOKUP('２－４'!$D64,プルダウンデータリスト!$AC$2:$AC$65,プルダウンデータリスト!$AD$2:$AD$65),_xlfn.XLOOKUP($C64,プルダウンデータリスト!$V$3:$V$9,プルダウンデータリスト!$W$3:$W$9,))))","v":"-"},null,"-","-",{"$f":"IF(C64=\"\",\"-\",_xlfn.XLOOKUP(C64,プルダウンデータリスト!$V$2:$V$9,プルダウンデータリスト!$X$2:$X$9,\"-\"))","v":"-"},"-"]
[null,null,null,null,null,{"$f":"IF($C65=\"\",\"-\",IF($D65=\"\",\"-\",IF($C65=\"製材（製材・集成材・ＣＬＴ等）\",_xlfn.XLOOKUP('２－４'!$D65,プルダウンデータリスト!$AC$2:$AC$65,プルダウンデータリスト!$AD$2:$AD$65),_xlfn.XLOOKUP($C65,プルダウンデータリスト!$V$3:$V$9,プルダウンデータリスト!$W$3:$W$9,))))","v":"-"},null,"-","-",{"$f":"IF(C65=\"\",\"-\",_xlfn.XLOOKUP(C65,プルダウンデータリスト!$V$2:$V$9,プルダウンデータリスト!$X$2:$X$9,\"-\"))","v":"-"},"-"]
[null,null,null,null,null,{"$f":"IF($C66=\"\",\"-\",IF($D66=\"\",\"-\",IF($C66=\"製材（製材・集成材・ＣＬＴ等）\",_xlfn.XLOOKUP('２－４'!$D66,プルダウンデータリスト!$AC$2:$AC$65,プルダウンデータリスト!$AD$2:$AD$65),_xlfn.XLOOKUP($C66,プルダウンデータリスト!$V$3:$V$9,プルダウンデータリスト!$W$3:$W$9,))))","v":"-"},null,"-","-",{"$f":"IF(C66=\"\",\"-\",_xlfn.XLOOKUP(C66,プルダウンデータリスト!$V$2:$V$9,プルダウンデータリスト!$X$2:$X$9,\"-\"))","v":"-"},"-"]
[null,null,null,null,null,{"$f":"IF($C67=\"\",\"-\",IF($D67=\"\",\"-\",IF($C67=\"製材（製材・集成材・ＣＬＴ等）\",_xlfn.XLOOKUP('２－４'!$D67,プルダウンデータリスト!$AC$2:$AC$65,プルダウンデータリスト!$AD$2:$AD$65),_xlfn.XLOOKUP($C67,プルダウンデータリスト!$V$3:$V$9,プルダウンデータリスト!$W$3:$W$9,))))","v":"-"},null,"-","-",{"$f":"IF(C67=\"\",\"-\",_xlfn.XLOOKUP(C67,プルダウンデータリスト!$V$2:$V$9,プルダウンデータリスト!$X$2:$X$9,\"-\"))","v":"-"},"-"]
[null,null,null,null,null,{"$f":"IF($C68=\"\",\"-\",IF($D68=\"\",\"-\",IF($C68=\"製材（製材・集成材・ＣＬＴ等）\",_xlfn.XLOOKUP('２－４'!$D68,プルダウンデータリスト!$AC$2:$AC$65,プルダウンデータリスト!$AD$2:$AD$65),_xlfn.XLOOKUP($C68,プルダウンデータリスト!$V$3:$V$9,プルダウンデータリスト!$W$3:$W$9,))))","v":"-"},null,"-","-",{"$f":"IF(C68=\"\",\"-\",_xlfn.XLOOKUP(C68,プルダウンデータリスト!$V$2:$V$9,プルダウンデータリスト!$X$2:$X$9,\"-\"))","v":"-"},"-"]
[null,null,null,null,null,{"$f":"IF($C69=\"\",\"-\",IF($D69=\"\",\"-\",IF($C69=\"製材（製材・集成材・ＣＬＴ等）\",_xlfn.XLOOKUP('２－４'!$D69,プルダウンデータリスト!$AC$2:$AC$65,プルダウンデータリスト!$AD$2:$AD$65),_xlfn.XLOOKUP($C69,プルダウンデータリスト!$V$3:$V$9,プルダウンデータリスト!$W$3:$W$9,))))","v":"-"},null,"-","-",{"$f":"IF(C69=\"\",\"-\",_xlfn.XLOOKUP(C69,プルダウンデータリスト!$V$2:$V$9,プルダウンデータリスト!$X$2:$X$9,\"-\"))","v":"-"},"-"]
[null,null,null,null,null,{"$f":"IF($C70=\"\",\"-\",IF($D70=\"\",\"-\",IF($C70=\"製材（製材・集成材・ＣＬＴ等）\",_xlfn.XLOOKUP('２－４'!$D70,プルダウンデータリスト!$AC$2:$AC$65,プルダウンデータリスト!$AD$2:$AD$65),_xlfn.XLOOKUP($C70,プルダウンデータリスト!$V$3:$V$9,プルダウンデータリスト!$W$3:$W$9,))))","v":"-"},null,"-","-",{"$f":"IF(C70=\"\",\"-\",_xlfn.XLOOKUP(C70,プルダウンデータリスト!$V$2:$V$9,プルダウンデータリスト!$X$2:$X$9,\"-\"))","v":"-"},"-"]
[null,null,null,null,null,{"$f":"IF($C71=\"\",\"-\",IF($D71=\"\",\"-\",IF($C71=\"製材（製材・集成材・ＣＬＴ等）\",_xlfn.XLOOKUP('２－４'!$D71,プルダウンデータリスト!$AC$2:$AC$65,プルダウンデータリスト!$AD$2:$AD$65),_xlfn.XLOOKUP($C71,プルダウンデータリスト!$V$3:$V$9,プルダウンデータリスト!$W$3:$W$9,))))","v":"-"},null,"-","-",{"$f":"IF(C71=\"\",\"-\",_xlfn.XLOOKUP(C71,プルダウンデータリスト!$V$2:$V$9,プルダウンデータリスト!$X$2:$X$9,\"-\"))","v":"-"},"-"]
[null,null,null,null,null,{"$f":"IF($C72=\"\",\"-\",IF($D72=\"\",\"-\",IF($C72=\"製材（製材・集成材・ＣＬＴ等）\",_xlfn.XLOOKUP('２－４'!$D72,プルダウンデータリスト!$AC$2:$AC$65,プルダウンデータリスト!$AD$2:$AD$65),_xlfn.XLOOKUP($C72,プルダウンデータリスト!$V$3:$V$9,プルダウンデータリスト!$W$3:$W$9,))))","v":"-"},null,"-","-",{"$f":"IF(C72=\"\",\"-\",_xlfn.XLOOKUP(C72,プルダウンデータリスト!$V$2:$V$9,プルダウンデータリスト!$X$2:$X$9,\"-\"))","v":"-"},"-"]
[null,null,null,null,null,{"$f":"IF($C73=\"\",\"-\",IF($D73=\"\",\"-\",IF($C73=\"製材（製材・集成材・ＣＬＴ等）\",_xlfn.XLOOKUP('２－４'!$D73,プルダウンデータリスト!$AC$2:$AC$65,プルダウンデータリスト!$AD$2:$AD$65),_xlfn.XLOOKUP($C73,プルダウンデータリスト!$V$3:$V$9,プルダウンデータリスト!$W$3:$W$9,))))","v":"-"},null,"-","-",{"$f":"IF(C73=\"\",\"-\",_xlfn.XLOOKUP(C73,プルダウンデータリスト!$V$2:$V$9,プルダウンデータリスト!$X$2:$X$9,\"-\"))","v":"-"},"-"]
[null,null,null,null,null,{"$f":"IF($C74=\"\",\"-\",IF($D74=\"\",\"-\",IF($C74=\"製材（製材・集成材・ＣＬＴ等）\",_xlfn.XLOOKUP('２－４'!$D74,プルダウンデータリスト!$AC$2:$AC$65,プルダウンデータリスト!$AD$2:$AD$65),_xlfn.XLOOKUP($C74,プルダウンデータリスト!$V$3:$V$9,プルダウンデータリスト!$W$3:$W$9,))))","v":"-"},null,"-","-",{"$f":"IF(C74=\"\",\"-\",_xlfn.XLOOKUP(C74,プルダウンデータリスト!$V$2:$V$9,プルダウンデータリスト!$X$2:$X$9,\"-\"))","v":"-"},"-"]
[null,null,null,null,null,{"$f":"IF($C75=\"\",\"-\",IF($D75=\"\",\"-\",IF($C75=\"製材（製材・集成材・ＣＬＴ等）\",_xlfn.XLOOKUP('２－４'!$D75,プルダウンデータリスト!$AC$2:$AC$65,プルダウンデータリスト!$AD$2:$AD$65),_xlfn.XLOOKUP($C75,プルダウンデータリスト!$V$3:$V$9,プルダウンデータリスト!$W$3:$W$9,))))","v":"-"},null,"-","-",{"$f":"IF(C75=\"\",\"-\",_xlfn.XLOOKUP(C75,プルダウンデータリスト!$V$2:$V$9,プルダウンデータリスト!$X$2:$X$9,\"-\"))","v":"-"},"-"]
[null,null,null,null,null,{"$f":"IF($C76=\"\",\"-\",IF($D76=\"\",\"-\",IF($C76=\"製材（製材・集成材・ＣＬＴ等）\",_xlfn.XLOOKUP('２－４'!$D76,プルダウンデータリスト!$AC$2:$AC$65,プルダウンデータリスト!$AD$2:$AD$65),_xlfn.XLOOKUP($C76,プルダウンデータリスト!$V$3:$V$9,プルダウンデータリスト!$W$3:$W$9,))))","v":"-"},null,"-","-",{"$f":"IF(C76=\"\",\"-\",_xlfn.XLOOKUP(C76,プルダウンデータリスト!$V$2:$V$9,プルダウンデータリスト!$X$2:$X$9,\"-\"))","v":"-"},"-"]
[null,null,null,null,null,{"$f":"IF($C77=\"\",\"-\",IF($D77=\"\",\"-\",IF($C77=\"製材（製材・集成材・ＣＬＴ等）\",_xlfn.XLOOKUP('２－４'!$D77,プルダウンデータリスト!$AC$2:$AC$65,プルダウンデータリスト!$AD$2:$AD$65),_xlfn.XLOOKUP($C77,プルダウンデータリスト!$V$3:$V$9,プルダウンデータリスト!$W$3:$W$9,))))","v":"-"},null,"-","-",{"$f":"IF(C77=\"\",\"-\",_xlfn.XLOOKUP(C77,プルダウンデータリスト!$V$2:$V$9,プルダウンデータリスト!$X$2:$X$9,\"-\"))","v":"-"},"-"]
[null,null,null,null,null,{"$f":"IF($C78=\"\",\"-\",IF($D78=\"\",\"-\",IF($C78=\"製材（製材・集成材・ＣＬＴ等）\",_xlfn.XLOOKUP('２－４'!$D78,プルダウンデータリスト!$AC$2:$AC$65,プルダウンデータリスト!$AD$2:$AD$65),_xlfn.XLOOKUP($C78,プルダウンデータリスト!$V$3:$V$9,プルダウンデータリスト!$W$3:$W$9,))))","v":"-"},null,"-","-",{"$f":"IF(C78=\"\",\"-\",_xlfn.XLOOKUP(C78,プルダウンデータリスト!$V$2:$V$9,プルダウンデータリスト!$X$2:$X$9,\"-\"))","v":"-"},"-"]
[null,null,null,null,null,{"$f":"IF($C79=\"\",\"-\",IF($D79=\"\",\"-\",IF($C79=\"製材（製材・集成材・ＣＬＴ等）\",_xlfn.XLOOKUP('２－４'!$D79,プルダウンデータリスト!$AC$2:$AC$65,プルダウンデータリスト!$AD$2:$AD$65),_xlfn.XLOOKUP($C79,プルダウンデータリスト!$V$3:$V$9,プルダウンデータリスト!$W$3:$W$9,))))","v":"-"},null,"-","-",{"$f":"IF(C79=\"\",\"-\",_xlfn.XLOOKUP(C79,プルダウンデータリスト!$V$2:$V$9,プルダウンデータリスト!$X$2:$X$9,\"-\"))","v":"-"},"-"]
[null,null,null,null,null,{"$f":"IF($C80=\"\",\"-\",IF($D80=\"\",\"-\",IF($C80=\"製材（製材・集成材・ＣＬＴ等）\",_xlfn.XLOOKUP('２－４'!$D80,プルダウンデータリスト!$AC$2:$AC$65,プルダウンデータリスト!$AD$2:$AD$65),_xlfn.XLOOKUP($C80,プルダウンデータリスト!$V$3:$V$9,プルダウンデータリスト!$W$3:$W$9,))))","v":"-"},null,"-","-",{"$f":"IF(C80=\"\",\"-\",_xlfn.XLOOKUP(C80,プルダウンデータリスト!$V$2:$V$9,プルダウンデータリスト!$X$2:$X$9,\"-\"))","v":"-"},"-"]
[null,null,null,null,null,{"$f":"IF($C81=\"\",\"-\",IF($D81=\"\",\"-\",IF($C81=\"製材（製材・集成材・ＣＬＴ等）\",_xlfn.XLOOKUP('２－４'!$D81,プルダウンデータリスト!$AC$2:$AC$65,プルダウンデータリスト!$AD$2:$AD$65),_xlfn.XLOOKUP($C81,プルダウンデータリスト!$V$3:$V$9,プルダウンデータリスト!$W$3:$W$9,))))","v":"-"},null,"-","-",{"$f":"IF(C81=\"\",\"-\",_xlfn.XLOOKUP(C81,プルダウンデータリスト!$V$2:$V$9,プルダウンデータリスト!$X$2:$X$9,\"-\"))","v":"-"},"-"]
[null,null,null,null,null,{"$f":"IF($C82=\"\",\"-\",IF($D82=\"\",\"-\",IF($C82=\"製材（製材・集成材・ＣＬＴ等）\",_xlfn.XLOOKUP('２－４'!$D82,プルダウンデータリスト!$AC$2:$AC$65,プルダウンデータリスト!$AD$2:$AD$65),_xlfn.XLOOKUP($C82,プルダウンデータリスト!$V$3:$V$9,プルダウンデータリスト!$W$3:$W$9,))))","v":"-"},null,"-","-",{"$f":"IF(C82=\"\",\"-\",_xlfn.XLOOKUP(C82,プルダウンデータリスト!$V$2:$V$9,プルダウンデータリスト!$X$2:$X$9,\"-\"))","v":"-"},"-"]
[null,null,null,null,null,{"$f":"IF($C83=\"\",\"-\",IF($D83=\"\",\"-\",IF($C83=\"製材（製材・集成材・ＣＬＴ等）\",_xlfn.XLOOKUP('２－４'!$D83,プルダウンデータリスト!$AC$2:$AC$65,プルダウンデータリスト!$AD$2:$AD$65),_xlfn.XLOOKUP($C83,プルダウンデータリスト!$V$3:$V$9,プルダウンデータリスト!$W$3:$W$9,))))","v":"-"},null,"-","-",{"$f":"IF(C83=\"\",\"-\",_xlfn.XLOOKUP(C83,プルダウンデータリスト!$V$2:$V$9,プルダウンデータリスト!$X$2:$X$9,\"-\"))","v":"-"},"-"]
[null,null,null,null,null,{"$f":"IF($C84=\"\",\"-\",IF($D84=\"\",\"-\",IF($C84=\"製材（製材・集成材・ＣＬＴ等）\",_xlfn.XLOOKUP('２－４'!$D84,プルダウンデータリスト!$AC$2:$AC$65,プルダウンデータリスト!$AD$2:$AD$65),_xlfn.XLOOKUP($C84,プルダウンデータリスト!$V$3:$V$9,プルダウンデータリスト!$W$3:$W$9,))))","v":"-"},null,"-","-",{"$f":"IF(C84=\"\",\"-\",_xlfn.XLOOKUP(C84,プルダウンデータリスト!$V$2:$V$9,プルダウンデータリスト!$X$2:$X$9,\"-\"))","v":"-"},"-"]
[null,null,null,null,null,{"$f":"IF($C85=\"\",\"-\",IF($D85=\"\",\"-\",IF($C85=\"製材（製材・集成材・ＣＬＴ等）\",_xlfn.XLOOKUP('２－４'!$D85,プルダウンデータリスト!$AC$2:$AC$65,プルダウンデータリスト!$AD$2:$AD$65),_xlfn.XLOOKUP($C85,プルダウンデータリスト!$V$3:$V$9,プルダウンデータリスト!$W$3:$W$9,))))","v":"-"},null,"-","-",{"$f":"IF(C85=\"\",\"-\",_xlfn.XLOOKUP(C85,プルダウンデータリスト!$V$2:$V$9,プルダウンデータリスト!$X$2:$X$9,\"-\"))","v":"-"},"-"]
[null,null,null,null,null,{"$f":"IF($C86=\"\",\"-\",IF($D86=\"\",\"-\",IF($C86=\"製材（製材・集成材・ＣＬＴ等）\",_xlfn.XLOOKUP('２－４'!$D86,プルダウンデータリスト!$AC$2:$AC$65,プルダウンデータリスト!$AD$2:$AD$65),_xlfn.XLOOKUP($C86,プルダウンデータリスト!$V$3:$V$9,プルダウンデータリスト!$W$3:$W$9,))))","v":"-"},null,"-","-",{"$f":"IF(C86=\"\",\"-\",_xlfn.XLOOKUP(C86,プルダウンデータリスト!$V$2:$V$9,プルダウンデータリスト!$X$2:$X$9,\"-\"))","v":"-"},"-"]
[null,null,null,null,null,{"$f":"IF($C87=\"\",\"-\",IF($D87=\"\",\"-\",IF($C87=\"製材（製材・集成材・ＣＬＴ等）\",_xlfn.XLOOKUP('２－４'!$D87,プルダウンデータリスト!$AC$2:$AC$65,プルダウンデータリスト!$AD$2:$AD$65),_xlfn.XLOOKUP($C87,プルダウンデータリスト!$V$3:$V$9,プルダウンデータリスト!$W$3:$W$9,))))","v":"-"},null,"-","-",{"$f":"IF(C87=\"\",\"-\",_xlfn.XLOOKUP(C87,プルダウンデータリスト!$V$2:$V$9,プルダウンデータリスト!$X$2:$X$9,\"-\"))","v":"-"},"-"]
[null,null,null,null,null,{"$f":"IF($C88=\"\",\"-\",IF($D88=\"\",\"-\",IF($C88=\"製材（製材・集成材・ＣＬＴ等）\",_xlfn.XLOOKUP('２－４'!$D88,プルダウンデータリスト!$AC$2:$AC$65,プルダウンデータリスト!$AD$2:$AD$65),_xlfn.XLOOKUP($C88,プルダウンデータリスト!$V$3:$V$9,プルダウンデータリスト!$W$3:$W$9,))))","v":"-"},null,"-","-",{"$f":"IF(C88=\"\",\"-\",_xlfn.XLOOKUP(C88,プルダウンデータリスト!$V$2:$V$9,プルダウンデータリスト!$X$2:$X$9,\"-\"))","v":"-"},"-"]
[null,null,null,null,null,{"$f":"IF($C89=\"\",\"-\",IF($D89=\"\",\"-\",IF($C89=\"製材（製材・集成材・ＣＬＴ等）\",_xlfn.XLOOKUP('２－４'!$D89,プルダウンデータリスト!$AC$2:$AC$65,プルダウンデータリスト!$AD$2:$AD$65),_xlfn.XLOOKUP($C89,プルダウンデータリスト!$V$3:$V$9,プルダウンデータリスト!$W$3:$W$9,))))","v":"-"},null,"-","-",{"$f":"IF(C89=\"\",\"-\",_xlfn.XLOOKUP(C89,プルダウンデータリスト!$V$2:$V$9,プルダウンデータリスト!$X$2:$X$9,\"-\"))","v":"-"},"-"]
[null,null,null,null,null,{"$f":"IF($C90=\"\",\"-\",IF($D90=\"\",\"-\",IF($C90=\"製材（製材・集成材・ＣＬＴ等）\",_xlfn.XLOOKUP('２－４'!$D90,プルダウンデータリスト!$AC$2:$AC$65,プルダウンデータリスト!$AD$2:$AD$65),_xlfn.XLOOKUP($C90,プルダウンデータリスト!$V$3:$V$9,プルダウンデータリスト!$W$3:$W$9,))))","v":"-"},null,"-","-",{"$f":"IF(C90=\"\",\"-\",_xlfn.XLOOKUP(C90,プルダウンデータリスト!$V$2:$V$9,プルダウンデータリスト!$X$2:$X$9,\"-\"))","v":"-"},"-"]
[null,null,null,null,null,{"$f":"IF($C91=\"\",\"-\",IF($D91=\"\",\"-\",IF($C91=\"製材（製材・集成材・ＣＬＴ等）\",_xlfn.XLOOKUP('２－４'!$D91,プルダウンデータリスト!$AC$2:$AC$65,プルダウンデータリスト!$AD$2:$AD$65),_xlfn.XLOOKUP($C91,プルダウンデータリスト!$V$3:$V$9,プルダウンデータリスト!$W$3:$W$9,))))","v":"-"},null,"-","-",{"$f":"IF(C91=\"\",\"-\",_xlfn.XLOOKUP(C91,プルダウンデータリスト!$V$2:$V$9,プルダウンデータリスト!$X$2:$X$9,\"-\"))","v":"-"},"-"]
[null,null,null,null,null,{"$f":"IF($C92=\"\",\"-\",IF($D92=\"\",\"-\",IF($C92=\"製材（製材・集成材・ＣＬＴ等）\",_xlfn.XLOOKUP('２－４'!$D92,プルダウンデータリスト!$AC$2:$AC$65,プルダウンデータリスト!$AD$2:$AD$65),_xlfn.XLOOKUP($C92,プルダウンデータリスト!$V$3:$V$9,プルダウンデータリスト!$W$3:$W$9,))))","v":"-"},null,"-","-",{"$f":"IF(C92=\"\",\"-\",_xlfn.XLOOKUP(C92,プルダウンデータリスト!$V$2:$V$9,プルダウンデータリスト!$X$2:$X$9,\"-\"))","v":"-"},"-"]
[null,null,null,null,null,{"$f":"IF($C93=\"\",\"-\",IF($D93=\"\",\"-\",IF($C93=\"製材（製材・集成材・ＣＬＴ等）\",_xlfn.XLOOKUP('２－４'!$D93,プルダウンデータリスト!$AC$2:$AC$65,プルダウンデータリスト!$AD$2:$AD$65),_xlfn.XLOOKUP($C93,プルダウンデータリスト!$V$3:$V$9,プルダウンデータリスト!$W$3:$W$9,))))","v":"-"},null,"-","-",{"$f":"IF(C93=\"\",\"-\",_xlfn.XLOOKUP(C93,プルダウンデータリスト!$V$2:$V$9,プルダウンデータリスト!$X$2:$X$9,\"-\"))","v":"-"},"-"]
[null,null,null,null,null,{"$f":"IF($C94=\"\",\"-\",IF($D94=\"\",\"-\",IF($C94=\"製材（製材・集成材・ＣＬＴ等）\",_xlfn.XLOOKUP('２－４'!$D94,プルダウンデータリスト!$AC$2:$AC$65,プルダウンデータリスト!$AD$2:$AD$65),_xlfn.XLOOKUP($C94,プルダウンデータリスト!$V$3:$V$9,プルダウンデータリスト!$W$3:$W$9,))))","v":"-"},null,"-","-",{"$f":"IF(C94=\"\",\"-\",_xlfn.XLOOKUP(C94,プルダウンデータリスト!$V$2:$V$9,プルダウンデータリスト!$X$2:$X$9,\"-\"))","v":"-"},"-"]
[null,null,null,null,null,{"$f":"IF($C95=\"\",\"-\",IF($D95=\"\",\"-\",IF($C95=\"製材（製材・集成材・ＣＬＴ等）\",_xlfn.XLOOKUP('２－４'!$D95,プルダウンデータリスト!$AC$2:$AC$65,プルダウンデータリスト!$AD$2:$AD$65),_xlfn.XLOOKUP($C95,プルダウンデータリスト!$V$3:$V$9,プルダウンデータリスト!$W$3:$W$9,))))","v":"-"},null,"-","-",{"$f":"IF(C95=\"\",\"-\",_xlfn.XLOOKUP(C95,プルダウンデータリスト!$V$2:$V$9,プルダウンデータリスト!$X$2:$X$9,\"-\"))","v":"-"},"-"]
[null,null,null,null,null,{"$f":"IF($C96=\"\",\"-\",IF($D96=\"\",\"-\",IF($C96=\"製材（製材・集成材・ＣＬＴ等）\",_xlfn.XLOOKUP('２－４'!$D96,プルダウンデータリスト!$AC$2:$AC$65,プルダウンデータリスト!$AD$2:$AD$65),_xlfn.XLOOKUP($C96,プルダウンデータリスト!$V$3:$V$9,プルダウンデータリスト!$W$3:$W$9,))))","v":"-"},null,"-","-",{"$f":"IF(C96=\"\",\"-\",_xlfn.XLOOKUP(C96,プルダウンデータリスト!$V$2:$V$9,プルダウンデータリスト!$X$2:$X$9,\"-\"))","v":"-"},"-"]
[null,null,null,null,null,{"$f":"IF($C97=\"\",\"-\",IF($D97=\"\",\"-\",IF($C97=\"製材（製材・集成材・ＣＬＴ等）\",_xlfn.XLOOKUP('２－４'!$D97,プルダウンデータリスト!$AC$2:$AC$65,プルダウンデータリスト!$AD$2:$AD$65),_xlfn.XLOOKUP($C97,プルダウンデータリスト!$V$3:$V$9,プルダウンデータリスト!$W$3:$W$9,))))","v":"-"},null,"-","-",{"$f":"IF(C97=\"\",\"-\",_xlfn.XLOOKUP(C97,プルダウンデータリスト!$V$2:$V$9,プルダウンデータリスト!$X$2:$X$9,\"-\"))","v":"-"},"-"]
[null,null,null,null,null,{"$f":"IF($C98=\"\",\"-\",IF($D98=\"\",\"-\",IF($C98=\"製材（製材・集成材・ＣＬＴ等）\",_xlfn.XLOOKUP('２－４'!$D98,プルダウンデータリスト!$AC$2:$AC$65,プルダウンデータリスト!$AD$2:$AD$65),_xlfn.XLOOKUP($C98,プルダウンデータリスト!$V$3:$V$9,プルダウンデータリスト!$W$3:$W$9,))))","v":"-"},null,"-","-",{"$f":"IF(C98=\"\",\"-\",_xlfn.XLOOKUP(C98,プルダウンデータリスト!$V$2:$V$9,プルダウンデータリスト!$X$2:$X$9,\"-\"))","v":"-"},"-"]
[null,null,null,null,null,{"$f":"IF($C99=\"\",\"-\",IF($D99=\"\",\"-\",IF($C99=\"製材（製材・集成材・ＣＬＴ等）\",_xlfn.XLOOKUP('２－４'!$D99,プルダウンデータリスト!$AC$2:$AC$65,プルダウンデータリスト!$AD$2:$AD$65),_xlfn.XLOOKUP($C99,プルダウンデータリスト!$V$3:$V$9,プルダウンデータリスト!$W$3:$W$9,))))","v":"-"},null,"-","-",{"$f":"IF(C99=\"\",\"-\",_xlfn.XLOOKUP(C99,プルダウンデータリスト!$V$2:$V$9,プルダウンデータリスト!$X$2:$X$9,\"-\"))","v":"-"},"-"]
[null,null,null,null,null,{"$f":"IF($C100=\"\",\"-\",IF($D100=\"\",\"-\",IF($C100=\"製材（製材・集成材・ＣＬＴ等）\",_xlfn.XLOOKUP('２－４'!$D100,プルダウンデータリスト!$AC$2:$AC$65,プルダウンデータリスト!$AD$2:$AD$65),_xlfn.XLOOKUP($C100,プルダウンデータリスト!$V$3:$V$9,プルダウンデータリスト!$W$3:$W$9,))))","v":"-"},null,"-","-",{"$f":"IF(C100=\"\",\"-\",_xlfn.XLOOKUP(C100,プルダウンデータリスト!$V$2:$V$9,プルダウンデータリスト!$X$2:$X$9,\"-\"))","v":"-"},"-"]
[null,null,null,null,null,{"$f":"IF($C101=\"\",\"-\",IF($D101=\"\",\"-\",IF($C101=\"製材（製材・集成材・ＣＬＴ等）\",_xlfn.XLOOKUP('２－４'!$D101,プルダウンデータリスト!$AC$2:$AC$65,プルダウンデータリスト!$AD$2:$AD$65),_xlfn.XLOOKUP($C101,プルダウンデータリスト!$V$3:$V$9,プルダウンデータリスト!$W$3:$W$9,))))","v":"-"},null,"-","-",{"$f":"IF(C101=\"\",\"-\",_xlfn.XLOOKUP(C101,プルダウンデータリスト!$V$2:$V$9,プルダウンデータリスト!$X$2:$X$9,\"-\"))","v":"-"},"-"]
[null,null,null,null,null,{"$f":"IF($C102=\"\",\"-\",IF($D102=\"\",\"-\",IF($C102=\"製材（製材・集成材・ＣＬＴ等）\",_xlfn.XLOOKUP('２－４'!$D102,プルダウンデータリスト!$AC$2:$AC$65,プルダウンデータリスト!$AD$2:$AD$65),_xlfn.XLOOKUP($C102,プルダウンデータリスト!$V$3:$V$9,プルダウンデータリスト!$W$3:$W$9,))))","v":"-"},null,"-","-",{"$f":"IF(C102=\"\",\"-\",_xlfn.XLOOKUP(C102,プルダウンデータリスト!$V$2:$V$9,プルダウンデータリスト!$X$2:$X$9,\"-\"))","v":"-"},"-"]
[null,null,null,null,null,{"$f":"IF($C103=\"\",\"-\",IF($D103=\"\",\"-\",IF($C103=\"製材（製材・集成材・ＣＬＴ等）\",_xlfn.XLOOKUP('２－４'!$D103,プルダウンデータリスト!$AC$2:$AC$65,プルダウンデータリスト!$AD$2:$AD$65),_xlfn.XLOOKUP($C103,プルダウンデータリスト!$V$3:$V$9,プルダウンデータリスト!$W$3:$W$9,))))","v":"-"},null,"-","-",{"$f":"IF(C103=\"\",\"-\",_xlfn.XLOOKUP(C103,プルダウンデータリスト!$V$2:$V$9,プルダウンデータリスト!$X$2:$X$9,\"-\"))","v":"-"},"-"]
[null,null,null,null,null,{"$f":"IF($C104=\"\",\"-\",IF($D104=\"\",\"-\",IF($C104=\"製材（製材・集成材・ＣＬＴ等）\",_xlfn.XLOOKUP('２－４'!$D104,プルダウンデータリスト!$AC$2:$AC$65,プルダウンデータリスト!$AD$2:$AD$65),_xlfn.XLOOKUP($C104,プルダウンデータリスト!$V$3:$V$9,プルダウンデータリスト!$W$3:$W$9,))))","v":"-"},null,{"$f":"IF(E104=\"\",\"-\",E104)","v":"-"},{"$f":"IF(G104=\"\",\"-\",G104)","v":"-"},{"$f":"IF(C104=\"\",\"-\",_xlfn.XLOOKUP(C104,プルダウンデータリスト!$V$2:$V$9,プルダウンデータリスト!$X$2:$X$9,\"-\"))","v":"-"},{"$f":"IFERROR(IF(LEN(E104)>0,E104*F104*J104,IF(LEN(G104)>0,G104*J104/1000,\"-\")),\"-\")","v":"-"}]
[null,null,null,null,null,{"$f":"IF($C105=\"\",\"-\",IF($D105=\"\",\"-\",IF($C105=\"製材（製材・集成材・ＣＬＴ等）\",_xlfn.XLOOKUP('２－４'!$D105,プルダウンデータリスト!$AC$2:$AC$65,プルダウンデータリスト!$AD$2:$AD$65),_xlfn.XLOOKUP($C105,プルダウンデータリスト!$V$3:$V$9,プルダウンデータリスト!$W$3:$W$9,))))","v":"-"},null,"-","-",{"$f":"IF(C105=\"\",\"-\",_xlfn.XLOOKUP(C105,プルダウンデータリスト!$V$2:$V$9,プルダウンデータリスト!$X$2:$X$9,\"-\"))","v":"-"},"-"]
[null,null,null,null,null,{"$f":"IF($C106=\"\",\"-\",IF($D106=\"\",\"-\",IF($C106=\"製材（製材・集成材・ＣＬＴ等）\",_xlfn.XLOOKUP('２－４'!$D106,プルダウンデータリスト!$AC$2:$AC$65,プルダウンデータリスト!$AD$2:$AD$65),_xlfn.XLOOKUP($C106,プルダウンデータリスト!$V$3:$V$9,プルダウンデータリスト!$W$3:$W$9,))))","v":"-"},null,"-","-",{"$f":"IF(C106=\"\",\"-\",_xlfn.XLOOKUP(C106,プルダウンデータリスト!$V$2:$V$9,プルダウンデータリスト!$X$2:$X$9,\"-\"))","v":"-"},"-"]
[null,null,null,null,null,{"$f":"IF($C107=\"\",\"-\",IF($D107=\"\",\"-\",IF($C107=\"製材（製材・集成材・ＣＬＴ等）\",_xlfn.XLOOKUP('２－４'!$D107,プルダウンデータリスト!$AC$2:$AC$65,プルダウンデータリスト!$AD$2:$AD$65),_xlfn.XLOOKUP($C107,プルダウンデータリスト!$V$3:$V$9,プルダウンデータリスト!$W$3:$W$9,))))","v":"-"},null,"-","-",{"$f":"IF(C107=\"\",\"-\",_xlfn.XLOOKUP(C107,プルダウンデータリスト!$V$2:$V$9,プルダウンデータリスト!$X$2:$X$9,\"-\"))","v":"-"},"-"]
[null,null,null,null,null,{"$f":"IF($C108=\"\",\"-\",IF($D108=\"\",\"-\",IF($C108=\"製材（製材・集成材・ＣＬＴ等）\",_xlfn.XLOOKUP('２－４'!$D108,プルダウンデータリスト!$AC$2:$AC$65,プルダウンデータリスト!$AD$2:$AD$65),_xlfn.XLOOKUP($C108,プルダウンデータリスト!$V$3:$V$9,プルダウンデータリスト!$W$3:$W$9,))))","v":"-"},null,"-","-",{"$f":"IF(C108=\"\",\"-\",_xlfn.XLOOKUP(C108,プルダウンデータリスト!$V$2:$V$9,プルダウンデータリスト!$X$2:$X$9,\"-\"))","v":"-"},"-"]
[null,null,null,null,null,{"$f":"IF($C109=\"\",\"-\",IF($D109=\"\",\"-\",IF($C109=\"製材（製材・集成材・ＣＬＴ等）\",_xlfn.XLOOKUP('２－４'!$D109,プルダウンデータリスト!$AC$2:$AC$65,プルダウンデータリスト!$AD$2:$AD$65),_xlfn.XLOOKUP($C109,プルダウンデータリスト!$V$3:$V$9,プルダウンデータリスト!$W$3:$W$9,))))","v":"-"},null,"-","-",{"$f":"IF(C109=\"\",\"-\",_xlfn.XLOOKUP(C109,プルダウンデータリスト!$V$2:$V$9,プルダウンデータリスト!$X$2:$X$9,\"-\"))","v":"-"},"-"]
[null,null,null,null,null,{"$f":"IF($C110=\"\",\"-\",IF($D110=\"\",\"-\",IF($C110=\"製材（製材・集成材・ＣＬＴ等）\",_xlfn.XLOOKUP('２－４'!$D110,プルダウンデータリスト!$AC$2:$AC$65,プルダウンデータリスト!$AD$2:$AD$65),_xlfn.XLOOKUP($C110,プルダウンデータリスト!$V$3:$V$9,プルダウンデータリスト!$W$3:$W$9,))))","v":"-"},null,"-","-",{"$f":"IF(C110=\"\",\"-\",_xlfn.XLOOKUP(C110,プルダウンデータリスト!$V$2:$V$9,プルダウンデータリスト!$X$2:$X$9,\"-\"))","v":"-"},"-"]
[null,null,null,null,null,{"$f":"IF($C111=\"\",\"-\",IF($D111=\"\",\"-\",IF($C111=\"製材（製材・集成材・ＣＬＴ等）\",_xlfn.XLOOKUP('２－４'!$D111,プルダウンデータリスト!$AC$2:$AC$65,プルダウンデータリスト!$AD$2:$AD$65),_xlfn.XLOOKUP($C111,プルダウンデータリスト!$V$3:$V$9,プルダウンデータリスト!$W$3:$W$9,))))","v":"-"},null,"-","-",{"$f":"IF(C111=\"\",\"-\",_xlfn.XLOOKUP(C111,プルダウンデータリスト!$V$2:$V$9,プルダウンデータリスト!$X$2:$X$9,\"-\"))","v":"-"},"-"]
[null,null,null,null,null,{"$f":"IF($C112=\"\",\"-\",IF($D112=\"\",\"-\",IF($C112=\"製材（製材・集成材・ＣＬＴ等）\",_xlfn.XLOOKUP('２－４'!$D112,プルダウンデータリスト!$AC$2:$AC$65,プルダウンデータリスト!$AD$2:$AD$65),_xlfn.XLOOKUP($C112,プルダウンデータリスト!$V$3:$V$9,プルダウンデータリスト!$W$3:$W$9,))))","v":"-"},null,"-","-",{"$f":"IF(C112=\"\",\"-\",_xlfn.XLOOKUP(C112,プルダウンデータリスト!$V$2:$V$9,プルダウンデータリスト!$X$2:$X$9,\"-\"))","v":"-"},"-"]
[null,null,null,null,null,{"$f":"IF($C113=\"\",\"-\",IF($D113=\"\",\"-\",IF($C113=\"製材（製材・集成材・ＣＬＴ等）\",_xlfn.XLOOKUP('２－４'!$D113,プルダウンデータリスト!$AC$2:$AC$65,プルダウンデータリスト!$AD$2:$AD$65),_xlfn.XLOOKUP($C113,プルダウンデータリスト!$V$3:$V$9,プルダウンデータリスト!$W$3:$W$9,))))","v":"-"},null,"-","-",{"$f":"IF(C113=\"\",\"-\",_xlfn.XLOOKUP(C113,プルダウンデータリスト!$V$2:$V$9,プルダウンデータリスト!$X$2:$X$9,\"-\"))","v":"-"},"-"]
[null,null,null,null,null,{"$f":"IF($C114=\"\",\"-\",IF($D114=\"\",\"-\",IF($C114=\"製材（製材・集成材・ＣＬＴ等）\",_xlfn.XLOOKUP('２－４'!$D114,プルダウンデータリスト!$AC$2:$AC$65,プルダウンデータリスト!$AD$2:$AD$65),_xlfn.XLOOKUP($C114,プルダウンデータリスト!$V$3:$V$9,プルダウンデータリスト!$W$3:$W$9,))))","v":"-"},null,"-","-",{"$f":"IF(C114=\"\",\"-\",_xlfn.XLOOKUP(C114,プルダウンデータリスト!$V$2:$V$9,プルダウンデータリスト!$X$2:$X$9,\"-\"))","v":"-"},"-"]
[null,null,null,null,null,{"$f":"IF($C115=\"\",\"-\",IF($D115=\"\",\"-\",IF($C115=\"製材（製材・集成材・ＣＬＴ等）\",_xlfn.XLOOKUP('２－４'!$D115,プルダウンデータリスト!$AC$2:$AC$65,プルダウンデータリスト!$AD$2:$AD$65),_xlfn.XLOOKUP($C115,プルダウンデータリスト!$V$3:$V$9,プルダウンデータリスト!$W$3:$W$9,))))","v":"-"},null,"-","-",{"$f":"IF(C115=\"\",\"-\",_xlfn.XLOOKUP(C115,プルダウンデータリスト!$V$2:$V$9,プルダウンデータリスト!$X$2:$X$9,\"-\"))","v":"-"},"-"]
[null,null,null,null,null,{"$f":"IF($C116=\"\",\"-\",IF($D116=\"\",\"-\",IF($C116=\"製材（製材・集成材・ＣＬＴ等）\",_xlfn.XLOOKUP('２－４'!$D116,プルダウンデータリスト!$AC$2:$AC$65,プルダウンデータリスト!$AD$2:$AD$65),_xlfn.XLOOKUP($C116,プルダウンデータリスト!$V$3:$V$9,プルダウンデータリスト!$W$3:$W$9,))))","v":"-"},null,"-","-",{"$f":"IF(C116=\"\",\"-\",_xlfn.XLOOKUP(C116,プルダウンデータリスト!$V$2:$V$9,プルダウンデータリスト!$X$2:$X$9,\"-\"))","v":"-"},"-"]
[null,null,null,null,null,{"$f":"IF($C117=\"\",\"-\",IF($D117=\"\",\"-\",IF($C117=\"製材（製材・集成材・ＣＬＴ等）\",_xlfn.XLOOKUP('２－４'!$D117,プルダウンデータリスト!$AC$2:$AC$65,プルダウンデータリスト!$AD$2:$AD$65),_xlfn.XLOOKUP($C117,プルダウンデータリスト!$V$3:$V$9,プルダウンデータリスト!$W$3:$W$9,))))","v":"-"},null,"-","-",{"$f":"IF(C117=\"\",\"-\",_xlfn.XLOOKUP(C117,プルダウンデータリスト!$V$2:$V$9,プルダウンデータリスト!$X$2:$X$9,\"-\"))","v":"-"},"-"]
[null,null,null,null,null,{"$f":"IF($C118=\"\",\"-\",IF($D118=\"\",\"-\",IF($C118=\"製材（製材・集成材・ＣＬＴ等）\",_xlfn.XLOOKUP('２－４'!$D118,プルダウンデータリスト!$AC$2:$AC$65,プルダウンデータリスト!$AD$2:$AD$65),_xlfn.XLOOKUP($C118,プルダウンデータリスト!$V$3:$V$9,プルダウンデータリスト!$W$3:$W$9,))))","v":"-"},null,"-","-",{"$f":"IF(C118=\"\",\"-\",_xlfn.XLOOKUP(C118,プルダウンデータリスト!$V$2:$V$9,プルダウンデータリスト!$X$2:$X$9,\"-\"))","v":"-"},"-"]
[null,null,null,null,null,{"$f":"IF($C119=\"\",\"-\",IF($D119=\"\",\"-\",IF($C119=\"製材（製材・集成材・ＣＬＴ等）\",_xlfn.XLOOKUP('２－４'!$D119,プルダウンデータリスト!$AC$2:$AC$65,プルダウンデータリスト!$AD$2:$AD$65),_xlfn.XLOOKUP($C119,プルダウンデータリスト!$V$3:$V$9,プルダウンデータリスト!$W$3:$W$9,))))","v":"-"},null,"-","-",{"$f":"IF(C119=\"\",\"-\",_xlfn.XLOOKUP(C119,プルダウンデータリスト!$V$2:$V$9,プルダウンデータリスト!$X$2:$X$9,\"-\"))","v":"-"},"-"]
[null,null,null,null,null,{"$f":"IF($C120=\"\",\"-\",IF($D120=\"\",\"-\",IF($C120=\"製材（製材・集成材・ＣＬＴ等）\",_xlfn.XLOOKUP('２－４'!$D120,プルダウンデータリスト!$AC$2:$AC$65,プルダウンデータリスト!$AD$2:$AD$65),_xlfn.XLOOKUP($C120,プルダウンデータリスト!$V$3:$V$9,プルダウンデータリスト!$W$3:$W$9,))))","v":"-"},null,"-","-",{"$f":"IF(C120=\"\",\"-\",_xlfn.XLOOKUP(C120,プルダウンデータリスト!$V$2:$V$9,プルダウンデータリスト!$X$2:$X$9,\"-\"))","v":"-"},"-"]
[null,null,null,null,null,{"$f":"IF($C121=\"\",\"-\",IF($D121=\"\",\"-\",IF($C121=\"製材（製材・集成材・ＣＬＴ等）\",_xlfn.XLOOKUP('２－４'!$D121,プルダウンデータリスト!$AC$2:$AC$65,プルダウンデータリスト!$AD$2:$AD$65),_xlfn.XLOOKUP($C121,プルダウンデータリスト!$V$3:$V$9,プルダウンデータリスト!$W$3:$W$9,))))","v":"-"},null,"-","-",{"$f":"IF(C121=\"\",\"-\",_xlfn.XLOOKUP(C121,プルダウンデータリスト!$V$2:$V$9,プルダウンデータリスト!$X$2:$X$9,\"-\"))","v":"-"},"-"]
[null,null,null,null,null,{"$f":"IF($C122=\"\",\"-\",IF($D122=\"\",\"-\",IF($C122=\"製材（製材・集成材・ＣＬＴ等）\",_xlfn.XLOOKUP('２－４'!$D122,プルダウンデータリスト!$AC$2:$AC$65,プルダウンデータリスト!$AD$2:$AD$65),_xlfn.XLOOKUP($C122,プルダウンデータリスト!$V$3:$V$9,プルダウンデータリスト!$W$3:$W$9,))))","v":"-"},null,"-","-",{"$f":"IF(C122=\"\",\"-\",_xlfn.XLOOKUP(C122,プルダウンデータリスト!$V$2:$V$9,プルダウンデータリスト!$X$2:$X$9,\"-\"))","v":"-"},"-"]
[null,null,null,null,null,{"$f":"IF($C123=\"\",\"-\",IF($D123=\"\",\"-\",IF($C123=\"製材（製材・集成材・ＣＬＴ等）\",_xlfn.XLOOKUP('２－４'!$D123,プルダウンデータリスト!$AC$2:$AC$65,プルダウンデータリスト!$AD$2:$AD$65),_xlfn.XLOOKUP($C123,プルダウンデータリスト!$V$3:$V$9,プルダウンデータリスト!$W$3:$W$9,))))","v":"-"},null,"-","-",{"$f":"IF(C123=\"\",\"-\",_xlfn.XLOOKUP(C123,プルダウンデータリスト!$V$2:$V$9,プルダウンデータリスト!$X$2:$X$9,\"-\"))","v":"-"},"-"]
[null,null,null,null,null,{"$f":"IF($C124=\"\",\"-\",IF($D124=\"\",\"-\",IF($C124=\"製材（製材・集成材・ＣＬＴ等）\",_xlfn.XLOOKUP('２－４'!$D124,プルダウンデータリスト!$AC$2:$AC$65,プルダウンデータリスト!$AD$2:$AD$65),_xlfn.XLOOKUP($C124,プルダウンデータリスト!$V$3:$V$9,プルダウンデータリスト!$W$3:$W$9,))))","v":"-"},null,"-","-",{"$f":"IF(C124=\"\",\"-\",_xlfn.XLOOKUP(C124,プルダウンデータリスト!$V$2:$V$9,プルダウンデータリスト!$X$2:$X$9,\"-\"))","v":"-"},"-"]
[null,null,null,null,null,{"$f":"IF($C125=\"\",\"-\",IF($D125=\"\",\"-\",IF($C125=\"製材（製材・集成材・ＣＬＴ等）\",_xlfn.XLOOKUP('２－４'!$D125,プルダウンデータリスト!$AC$2:$AC$65,プルダウンデータリスト!$AD$2:$AD$65),_xlfn.XLOOKUP($C125,プルダウンデータリスト!$V$3:$V$9,プルダウンデータリスト!$W$3:$W$9,))))","v":"-"},null,"-","-",{"$f":"IF(C125=\"\",\"-\",_xlfn.XLOOKUP(C125,プルダウンデータリスト!$V$2:$V$9,プルダウンデータリスト!$X$2:$X$9,\"-\"))","v":"-"},"-"]
[null,null,null,null,null,{"$f":"IF($C126=\"\",\"-\",IF($D126=\"\",\"-\",IF($C126=\"製材（製材・集成材・ＣＬＴ等）\",_xlfn.XLOOKUP('２－４'!$D126,プルダウンデータリスト!$AC$2:$AC$65,プルダウンデータリスト!$AD$2:$AD$65),_xlfn.XLOOKUP($C126,プルダウンデータリスト!$V$3:$V$9,プルダウンデータリスト!$W$3:$W$9,))))","v":"-"},null,"-","-",{"$f":"IF(C126=\"\",\"-\",_xlfn.XLOOKUP(C126,プルダウンデータリスト!$V$2:$V$9,プルダウンデータリスト!$X$2:$X$9,\"-\"))","v":"-"},"-"]
[null,null,null,null,null,{"$f":"IF($C127=\"\",\"-\",IF($D127=\"\",\"-\",IF($C127=\"製材（製材・集成材・ＣＬＴ等）\",_xlfn.XLOOKUP('２－４'!$D127,プルダウンデータリスト!$AC$2:$AC$65,プルダウンデータリスト!$AD$2:$AD$65),_xlfn.XLOOKUP($C127,プルダウンデータリスト!$V$3:$V$9,プルダウンデータリスト!$W$3:$W$9,))))","v":"-"},null,"-","-",{"$f":"IF(C127=\"\",\"-\",_xlfn.XLOOKUP(C127,プルダウンデータリスト!$V$2:$V$9,プルダウンデータリスト!$X$2:$X$9,\"-\"))","v":"-"},"-"]
[null,null,null,null,null,{"$f":"IF($C128=\"\",\"-\",IF($D128=\"\",\"-\",IF($C128=\"製材（製材・集成材・ＣＬＴ等）\",_xlfn.XLOOKUP('２－４'!$D128,プルダウンデータリスト!$AC$2:$AC$65,プルダウンデータリスト!$AD$2:$AD$65),_xlfn.XLOOKUP($C128,プルダウンデータリスト!$V$3:$V$9,プルダウンデータリスト!$W$3:$W$9,))))","v":"-"},null,"-","-",{"$f":"IF(C128=\"\",\"-\",_xlfn.XLOOKUP(C128,プルダウンデータリスト!$V$2:$V$9,プルダウンデータリスト!$X$2:$X$9,\"-\"))","v":"-"},"-"]
[null,null,null,null,null,{"$f":"IF($C129=\"\",\"-\",IF($D129=\"\",\"-\",IF($C129=\"製材（製材・集成材・ＣＬＴ等）\",_xlfn.XLOOKUP('２－４'!$D129,プルダウンデータリスト!$AC$2:$AC$65,プルダウンデータリスト!$AD$2:$AD$65),_xlfn.XLOOKUP($C129,プルダウンデータリスト!$V$3:$V$9,プルダウンデータリスト!$W$3:$W$9,))))","v":"-"},null,"-","-",{"$f":"IF(C129=\"\",\"-\",_xlfn.XLOOKUP(C129,プルダウンデータリスト!$V$2:$V$9,プルダウンデータリスト!$X$2:$X$9,\"-\"))","v":"-"},"-"]
[null,null,null,null,null,{"$f":"IF($C130=\"\",\"-\",IF($D130=\"\",\"-\",IF($C130=\"製材（製材・集成材・ＣＬＴ等）\",_xlfn.XLOOKUP('２－４'!$D130,プルダウンデータリスト!$AC$2:$AC$65,プルダウンデータリスト!$AD$2:$AD$65),_xlfn.XLOOKUP($C130,プルダウンデータリスト!$V$3:$V$9,プルダウンデータリスト!$W$3:$W$9,))))","v":"-"},null,"-","-",{"$f":"IF(C130=\"\",\"-\",_xlfn.XLOOKUP(C130,プルダウンデータリスト!$V$2:$V$9,プルダウンデータリスト!$X$2:$X$9,\"-\"))","v":"-"},"-"]
[null,null,null,null,null,{"$f":"IF($C131=\"\",\"-\",IF($D131=\"\",\"-\",IF($C131=\"製材（製材・集成材・ＣＬＴ等）\",_xlfn.XLOOKUP('２－４'!$D131,プルダウンデータリスト!$AC$2:$AC$65,プルダウンデータリスト!$AD$2:$AD$65),_xlfn.XLOOKUP($C131,プルダウンデータリスト!$V$3:$V$9,プルダウンデータリスト!$W$3:$W$9,))))","v":"-"},null,"-","-",{"$f":"IF(C131=\"\",\"-\",_xlfn.XLOOKUP(C131,プルダウンデータリスト!$V$2:$V$9,プルダウンデータリスト!$X$2:$X$9,\"-\"))","v":"-"},"-"]
[null,null,null,null,null,{"$f":"IF($C132=\"\",\"-\",IF($D132=\"\",\"-\",IF($C132=\"製材（製材・集成材・ＣＬＴ等）\",_xlfn.XLOOKUP('２－４'!$D132,プルダウンデータリスト!$AC$2:$AC$65,プルダウンデータリスト!$AD$2:$AD$65),_xlfn.XLOOKUP($C132,プルダウンデータリスト!$V$3:$V$9,プルダウンデータリスト!$W$3:$W$9,))))","v":"-"},null,"-","-",{"$f":"IF(C132=\"\",\"-\",_xlfn.XLOOKUP(C132,プルダウンデータリスト!$V$2:$V$9,プルダウンデータリスト!$X$2:$X$9,\"-\"))","v":"-"},"-"]
[null,null,null,null,null,{"$f":"IF($C133=\"\",\"-\",IF($D133=\"\",\"-\",IF($C133=\"製材（製材・集成材・ＣＬＴ等）\",_xlfn.XLOOKUP('２－４'!$D133,プルダウンデータリスト!$AC$2:$AC$65,プルダウンデータリスト!$AD$2:$AD$65),_xlfn.XLOOKUP($C133,プルダウンデータリスト!$V$3:$V$9,プルダウンデータリスト!$W$3:$W$9,))))","v":"-"},null,"-","-",{"$f":"IF(C133=\"\",\"-\",_xlfn.XLOOKUP(C133,プルダウンデータリスト!$V$2:$V$9,プルダウンデータリスト!$X$2:$X$9,\"-\"))","v":"-"},"-"]
[null,null,null,null,null,{"$f":"IF($C134=\"\",\"-\",IF($D134=\"\",\"-\",IF($C134=\"製材（製材・集成材・ＣＬＴ等）\",_xlfn.XLOOKUP('２－４'!$D134,プルダウンデータリスト!$AC$2:$AC$65,プルダウンデータリスト!$AD$2:$AD$65),_xlfn.XLOOKUP($C134,プルダウンデータリスト!$V$3:$V$9,プルダウンデータリスト!$W$3:$W$9,))))","v":"-"},null,"-","-",{"$f":"IF(C134=\"\",\"-\",_xlfn.XLOOKUP(C134,プルダウンデータリスト!$V$2:$V$9,プルダウンデータリスト!$X$2:$X$9,\"-\"))","v":"-"},"-"]
[null,null,null,null,null,{"$f":"IF($C135=\"\",\"-\",IF($D135=\"\",\"-\",IF($C135=\"製材（製材・集成材・ＣＬＴ等）\",_xlfn.XLOOKUP('２－４'!$D135,プルダウンデータリスト!$AC$2:$AC$65,プルダウンデータリスト!$AD$2:$AD$65),_xlfn.XLOOKUP($C135,プルダウンデータリスト!$V$3:$V$9,プルダウンデータリスト!$W$3:$W$9,))))","v":"-"},null,"-","-",{"$f":"IF(C135=\"\",\"-\",_xlfn.XLOOKUP(C135,プルダウンデータリスト!$V$2:$V$9,プルダウンデータリスト!$X$2:$X$9,\"-\"))","v":"-"},"-"]
[null,null,null,null,null,{"$f":"IF($C136=\"\",\"-\",IF($D136=\"\",\"-\",IF($C136=\"製材（製材・集成材・ＣＬＴ等）\",_xlfn.XLOOKUP('２－４'!$D136,プルダウンデータリスト!$AC$2:$AC$65,プルダウンデータリスト!$AD$2:$AD$65),_xlfn.XLOOKUP($C136,プルダウンデータリスト!$V$3:$V$9,プルダウンデータリスト!$W$3:$W$9,))))","v":"-"},null,"-","-",{"$f":"IF(C136=\"\",\"-\",_xlfn.XLOOKUP(C136,プルダウンデータリスト!$V$2:$V$9,プルダウンデータリスト!$X$2:$X$9,\"-\"))","v":"-"},"-"]
[null,null,null,null,null,{"$f":"IF($C137=\"\",\"-\",IF($D137=\"\",\"-\",IF($C137=\"製材（製材・集成材・ＣＬＴ等）\",_xlfn.XLOOKUP('２－４'!$D137,プルダウンデータリスト!$AC$2:$AC$65,プルダウンデータリスト!$AD$2:$AD$65),_xlfn.XLOOKUP($C137,プルダウンデータリスト!$V$3:$V$9,プルダウンデータリスト!$W$3:$W$9,))))","v":"-"},null,"-","-",{"$f":"IF(C137=\"\",\"-\",_xlfn.XLOOKUP(C137,プルダウンデータリスト!$V$2:$V$9,プルダウンデータリスト!$X$2:$X$9,\"-\"))","v":"-"},"-"]
[null,null,null,null,null,{"$f":"IF($C138=\"\",\"-\",IF($D138=\"\",\"-\",IF($C138=\"製材（製材・集成材・ＣＬＴ等）\",_xlfn.XLOOKUP('２－４'!$D138,プルダウンデータリスト!$AC$2:$AC$65,プルダウンデータリスト!$AD$2:$AD$65),_xlfn.XLOOKUP($C138,プルダウンデータリスト!$V$3:$V$9,プルダウンデータリスト!$W$3:$W$9,))))","v":"-"},null,"-","-",{"$f":"IF(C138=\"\",\"-\",_xlfn.XLOOKUP(C138,プルダウンデータリスト!$V$2:$V$9,プルダウンデータリスト!$X$2:$X$9,\"-\"))","v":"-"},"-"]
[null,null,null,null,null,{"$f":"IF($C139=\"\",\"-\",IF($D139=\"\",\"-\",IF($C139=\"製材（製材・集成材・ＣＬＴ等）\",_xlfn.XLOOKUP('２－４'!$D139,プルダウンデータリスト!$AC$2:$AC$65,プルダウンデータリスト!$AD$2:$AD$65),_xlfn.XLOOKUP($C139,プルダウンデータリスト!$V$3:$V$9,プルダウンデータリスト!$W$3:$W$9,))))","v":"-"},null,"-","-",{"$f":"IF(C139=\"\",\"-\",_xlfn.XLOOKUP(C139,プルダウンデータリスト!$V$2:$V$9,プルダウンデータリスト!$X$2:$X$9,\"-\"))","v":"-"},"-"]
[null,null,null,null,null,{"$f":"IF($C140=\"\",\"-\",IF($D140=\"\",\"-\",IF($C140=\"製材（製材・集成材・ＣＬＴ等）\",_xlfn.XLOOKUP('２－４'!$D140,プルダウンデータリスト!$AC$2:$AC$65,プルダウンデータリスト!$AD$2:$AD$65),_xlfn.XLOOKUP($C140,プルダウンデータリスト!$V$3:$V$9,プルダウンデータリスト!$W$3:$W$9,))))","v":"-"},null,"-","-",{"$f":"IF(C140=\"\",\"-\",_xlfn.XLOOKUP(C140,プルダウンデータリスト!$V$2:$V$9,プルダウンデータリスト!$X$2:$X$9,\"-\"))","v":"-"},"-"]
[null,null,null,null,null,{"$f":"IF($C141=\"\",\"-\",IF($D141=\"\",\"-\",IF($C141=\"製材（製材・集成材・ＣＬＴ等）\",_xlfn.XLOOKUP('２－４'!$D141,プルダウンデータリスト!$AC$2:$AC$65,プルダウンデータリスト!$AD$2:$AD$65),_xlfn.XLOOKUP($C141,プルダウンデータリスト!$V$3:$V$9,プルダウンデータリスト!$W$3:$W$9,))))","v":"-"},null,"-","-",{"$f":"IF(C141=\"\",\"-\",_xlfn.XLOOKUP(C141,プルダウンデータリスト!$V$2:$V$9,プルダウンデータリスト!$X$2:$X$9,\"-\"))","v":"-"},"-"]
[null,null,null,null,null,{"$f":"IF($C142=\"\",\"-\",IF($D142=\"\",\"-\",IF($C142=\"製材（製材・集成材・ＣＬＴ等）\",_xlfn.XLOOKUP('２－４'!$D142,プルダウンデータリスト!$AC$2:$AC$65,プルダウンデータリスト!$AD$2:$AD$65),_xlfn.XLOOKUP($C142,プルダウンデータリスト!$V$3:$V$9,プルダウンデータリスト!$W$3:$W$9,))))","v":"-"},null,"-","-",{"$f":"IF(C142=\"\",\"-\",_xlfn.XLOOKUP(C142,プルダウンデータリスト!$V$2:$V$9,プルダウンデータリスト!$X$2:$X$9,\"-\"))","v":"-"},"-"]
[null,null,null,null,null,{"$f":"IF($C143=\"\",\"-\",IF($D143=\"\",\"-\",IF($C143=\"製材（製材・集成材・ＣＬＴ等）\",_xlfn.XLOOKUP('２－４'!$D143,プルダウンデータリスト!$AC$2:$AC$65,プルダウンデータリスト!$AD$2:$AD$65),_xlfn.XLOOKUP($C143,プルダウンデータリスト!$V$3:$V$9,プルダウンデータリスト!$W$3:$W$9,))))","v":"-"},null,"-","-",{"$f":"IF(C143=\"\",\"-\",_xlfn.XLOOKUP(C143,プルダウンデータリスト!$V$2:$V$9,プルダウンデータリスト!$X$2:$X$9,\"-\"))","v":"-"},"-"]
[null,null,null,null,null,{"$f":"IF($C144=\"\",\"-\",IF($D144=\"\",\"-\",IF($C144=\"製材（製材・集成材・ＣＬＴ等）\",_xlfn.XLOOKUP('２－４'!$D144,プルダウンデータリスト!$AC$2:$AC$65,プルダウンデータリスト!$AD$2:$AD$65),_xlfn.XLOOKUP($C144,プルダウンデータリスト!$V$3:$V$9,プルダウンデータリスト!$W$3:$W$9,))))","v":"-"},null,"-","-",{"$f":"IF(C144=\"\",\"-\",_xlfn.XLOOKUP(C144,プルダウンデータリスト!$V$2:$V$9,プルダウンデータリスト!$X$2:$X$9,\"-\"))","v":"-"},"-"]
[null,null,null,null,null,{"$f":"IF($C145=\"\",\"-\",IF($D145=\"\",\"-\",IF($C145=\"製材（製材・集成材・ＣＬＴ等）\",_xlfn.XLOOKUP('２－４'!$D145,プルダウンデータリスト!$AC$2:$AC$65,プルダウンデータリスト!$AD$2:$AD$65),_xlfn.XLOOKUP($C145,プルダウンデータリスト!$V$3:$V$9,プルダウンデータリスト!$W$3:$W$9,))))","v":"-"},null,"-","-",{"$f":"IF(C145=\"\",\"-\",_xlfn.XLOOKUP(C145,プルダウンデータリスト!$V$2:$V$9,プルダウンデータリスト!$X$2:$X$9,\"-\"))","v":"-"},"-"]
[null,null,null,null,null,{"$f":"IF($C146=\"\",\"-\",IF($D146=\"\",\"-\",IF($C146=\"製材（製材・集成材・ＣＬＴ等）\",_xlfn.XLOOKUP('２－４'!$D146,プルダウンデータリスト!$AC$2:$AC$65,プルダウンデータリスト!$AD$2:$AD$65),_xlfn.XLOOKUP($C146,プルダウンデータリスト!$V$3:$V$9,プルダウンデータリスト!$W$3:$W$9,))))","v":"-"},null,"-","-",{"$f":"IF(C146=\"\",\"-\",_xlfn.XLOOKUP(C146,プルダウンデータリスト!$V$2:$V$9,プルダウンデータリスト!$X$2:$X$9,\"-\"))","v":"-"},"-"]
[null,null,null,null,null,{"$f":"IF($C147=\"\",\"-\",IF($D147=\"\",\"-\",IF($C147=\"製材（製材・集成材・ＣＬＴ等）\",_xlfn.XLOOKUP('２－４'!$D147,プルダウンデータリスト!$AC$2:$AC$65,プルダウンデータリスト!$AD$2:$AD$65),_xlfn.XLOOKUP($C147,プルダウンデータリスト!$V$3:$V$9,プルダウンデータリスト!$W$3:$W$9,))))","v":"-"},null,"-","-",{"$f":"IF(C147=\"\",\"-\",_xlfn.XLOOKUP(C147,プルダウンデータリスト!$V$2:$V$9,プルダウンデータリスト!$X$2:$X$9,\"-\"))","v":"-"},"-"]
[null,null,null,null,null,{"$f":"IF($C148=\"\",\"-\",IF($D148=\"\",\"-\",IF($C148=\"製材（製材・集成材・ＣＬＴ等）\",_xlfn.XLOOKUP('２－４'!$D148,プルダウンデータリスト!$AC$2:$AC$65,プルダウンデータリスト!$AD$2:$AD$65),_xlfn.XLOOKUP($C148,プルダウンデータリスト!$V$3:$V$9,プルダウンデータリスト!$W$3:$W$9,))))","v":"-"},null,"-","-",{"$f":"IF(C148=\"\",\"-\",_xlfn.XLOOKUP(C148,プルダウンデータリスト!$V$2:$V$9,プルダウンデータリスト!$X$2:$X$9,\"-\"))","v":"-"},"-"]
[null,null,null,null,null,{"$f":"IF($C149=\"\",\"-\",IF($D149=\"\",\"-\",IF($C149=\"製材（製材・集成材・ＣＬＴ等）\",_xlfn.XLOOKUP('２－４'!$D149,プルダウンデータリスト!$AC$2:$AC$65,プルダウンデータリスト!$AD$2:$AD$65),_xlfn.XLOOKUP($C149,プルダウンデータリスト!$V$3:$V$9,プルダウンデータリスト!$W$3:$W$9,))))","v":"-"},null,"-","-",{"$f":"IF(C149=\"\",\"-\",_xlfn.XLOOKUP(C149,プルダウンデータリスト!$V$2:$V$9,プルダウンデータリスト!$X$2:$X$9,\"-\"))","v":"-"},"-"]
[null,null,null,null,null,{"$f":"IF($C150=\"\",\"-\",IF($D150=\"\",\"-\",IF($C150=\"製材（製材・集成材・ＣＬＴ等）\",_xlfn.XLOOKUP('２－４'!$D150,プルダウンデータリスト!$AC$2:$AC$65,プルダウンデータリスト!$AD$2:$AD$65),_xlfn.XLOOKUP($C150,プルダウンデータリスト!$V$3:$V$9,プルダウンデータリスト!$W$3:$W$9,))))","v":"-"},null,"-","-",{"$f":"IF(C150=\"\",\"-\",_xlfn.XLOOKUP(C150,プルダウンデータリスト!$V$2:$V$9,プルダウンデータリスト!$X$2:$X$9,\"-\"))","v":"-"},"-"]
[null,null,null,null,null,{"$f":"IF($C151=\"\",\"-\",IF($D151=\"\",\"-\",IF($C151=\"製材（製材・集成材・ＣＬＴ等）\",_xlfn.XLOOKUP('２－４'!$D151,プルダウンデータリスト!$AC$2:$AC$65,プルダウンデータリスト!$AD$2:$AD$65),_xlfn.XLOOKUP($C151,プルダウンデータリスト!$V$3:$V$9,プルダウンデータリスト!$W$3:$W$9,))))","v":"-"},null,"-","-",{"$f":"IF(C151=\"\",\"-\",_xlfn.XLOOKUP(C151,プルダウンデータリスト!$V$2:$V$9,プルダウンデータリスト!$X$2:$X$9,\"-\"))","v":"-"},"-"]
[null,null,null,null,null,{"$f":"IF($C152=\"\",\"-\",IF($D152=\"\",\"-\",IF($C152=\"製材（製材・集成材・ＣＬＴ等）\",_xlfn.XLOOKUP('２－４'!$D152,プルダウンデータリスト!$AC$2:$AC$65,プルダウンデータリスト!$AD$2:$AD$65),_xlfn.XLOOKUP($C152,プルダウンデータリスト!$V$3:$V$9,プルダウンデータリスト!$W$3:$W$9,))))","v":"-"},null,"-","-",{"$f":"IF(C152=\"\",\"-\",_xlfn.XLOOKUP(C152,プルダウンデータリスト!$V$2:$V$9,プルダウンデータリスト!$X$2:$X$9,\"-\"))","v":"-"},"-"]
[null,null,null,null,null,{"$f":"IF($C153=\"\",\"-\",IF($D153=\"\",\"-\",IF($C153=\"製材（製材・集成材・ＣＬＴ等）\",_xlfn.XLOOKUP('２－４'!$D153,プルダウンデータリスト!$AC$2:$AC$65,プルダウンデータリスト!$AD$2:$AD$65),_xlfn.XLOOKUP($C153,プルダウンデータリスト!$V$3:$V$9,プルダウンデータリスト!$W$3:$W$9,))))","v":"-"},null,"-","-",{"$f":"IF(C153=\"\",\"-\",_xlfn.XLOOKUP(C153,プルダウンデータリスト!$V$2:$V$9,プルダウンデータリスト!$X$2:$X$9,\"-\"))","v":"-"},"-"]
[null,null,null,null,null,{"$f":"IF($C154=\"\",\"-\",IF($D154=\"\",\"-\",IF($C154=\"製材（製材・集成材・ＣＬＴ等）\",_xlfn.XLOOKUP('２－４'!$D154,プルダウンデータリスト!$AC$2:$AC$65,プルダウンデータリスト!$AD$2:$AD$65),_xlfn.XLOOKUP($C154,プルダウンデータリスト!$V$3:$V$9,プルダウンデータリスト!$W$3:$W$9,))))","v":"-"},null,"-","-",{"$f":"IF(C154=\"\",\"-\",_xlfn.XLOOKUP(C154,プルダウンデータリスト!$V$2:$V$9,プルダウンデータリスト!$X$2:$X$9,\"-\"))","v":"-"},"-"]
[null,null,null,null,null,{"$f":"IF($C155=\"\",\"-\",IF($D155=\"\",\"-\",IF($C155=\"製材（製材・集成材・ＣＬＴ等）\",_xlfn.XLOOKUP('２－４'!$D155,プルダウンデータリスト!$AC$2:$AC$65,プルダウンデータリスト!$AD$2:$AD$65),_xlfn.XLOOKUP($C155,プルダウンデータリスト!$V$3:$V$9,プルダウンデータリスト!$W$3:$W$9,))))","v":"-"},null,"-","-",{"$f":"IF(C155=\"\",\"-\",_xlfn.XLOOKUP(C155,プルダウンデータリスト!$V$2:$V$9,プルダウンデータリスト!$X$2:$X$9,\"-\"))","v":"-"},"-"]
[null,null,null,null,null,{"$f":"IF($C156=\"\",\"-\",IF($D156=\"\",\"-\",IF($C156=\"製材（製材・集成材・ＣＬＴ等）\",_xlfn.XLOOKUP('２－４'!$D156,プルダウンデータリスト!$AC$2:$AC$65,プルダウンデータリスト!$AD$2:$AD$65),_xlfn.XLOOKUP($C156,プルダウンデータリスト!$V$3:$V$9,プルダウンデータリスト!$W$3:$W$9,))))","v":"-"},null,"-","-",{"$f":"IF(C156=\"\",\"-\",_xlfn.XLOOKUP(C156,プルダウンデータリスト!$V$2:$V$9,プルダウンデータリスト!$X$2:$X$9,\"-\"))","v":"-"},"-"]
[null,null,null,null,null,{"$f":"IF($C157=\"\",\"-\",IF($D157=\"\",\"-\",IF($C157=\"製材（製材・集成材・ＣＬＴ等）\",_xlfn.XLOOKUP('２－４'!$D157,プルダウンデータリスト!$AC$2:$AC$65,プルダウンデータリスト!$AD$2:$AD$65),_xlfn.XLOOKUP($C157,プルダウンデータリスト!$V$3:$V$9,プルダウンデータリスト!$W$3:$W$9,))))","v":"-"},null,"-","-",{"$f":"IF(C157=\"\",\"-\",_xlfn.XLOOKUP(C157,プルダウンデータリスト!$V$2:$V$9,プルダウンデータリスト!$X$2:$X$9,\"-\"))","v":"-"},"-"]
[null,null,null,null,null,{"$f":"IF($C158=\"\",\"-\",IF($D158=\"\",\"-\",IF($C158=\"製材（製材・集成材・ＣＬＴ等）\",_xlfn.XLOOKUP('２－４'!$D158,プルダウンデータリスト!$AC$2:$AC$65,プルダウンデータリスト!$AD$2:$AD$65),_xlfn.XLOOKUP($C158,プルダウンデータリスト!$V$3:$V$9,プルダウンデータリスト!$W$3:$W$9,))))","v":"-"},null,"-","-",{"$f":"IF(C158=\"\",\"-\",_xlfn.XLOOKUP(C158,プルダウンデータリスト!$V$2:$V$9,プルダウンデータリスト!$X$2:$X$9,\"-\"))","v":"-"},"-"]
[null,null,null,null,null,{"$f":"IF($C159=\"\",\"-\",IF($D159=\"\",\"-\",IF($C159=\"製材（製材・集成材・ＣＬＴ等）\",_xlfn.XLOOKUP('２－４'!$D159,プルダウンデータリスト!$AC$2:$AC$65,プルダウンデータリスト!$AD$2:$AD$65),_xlfn.XLOOKUP($C159,プルダウンデータリスト!$V$3:$V$9,プルダウンデータリスト!$W$3:$W$9,))))","v":"-"},null,"-","-",{"$f":"IF(C159=\"\",\"-\",_xlfn.XLOOKUP(C159,プルダウンデータリスト!$V$2:$V$9,プルダウンデータリスト!$X$2:$X$9,\"-\"))","v":"-"},"-"]
[null,null,null,null,null,{"$f":"IF($C160=\"\",\"-\",IF($D160=\"\",\"-\",IF($C160=\"製材（製材・集成材・ＣＬＴ等）\",_xlfn.XLOOKUP('２－４'!$D160,プルダウンデータリスト!$AC$2:$AC$65,プルダウンデータリスト!$AD$2:$AD$65),_xlfn.XLOOKUP($C160,プルダウンデータリスト!$V$3:$V$9,プルダウンデータリスト!$W$3:$W$9,))))","v":"-"},null,"-","-",{"$f":"IF(C160=\"\",\"-\",_xlfn.XLOOKUP(C160,プルダウンデータリスト!$V$2:$V$9,プルダウンデータリスト!$X$2:$X$9,\"-\"))","v":"-"},"-"]
[null,null,null,null,null,{"$f":"IF($C161=\"\",\"-\",IF($D161=\"\",\"-\",IF($C161=\"製材（製材・集成材・ＣＬＴ等）\",_xlfn.XLOOKUP('２－４'!$D161,プルダウンデータリスト!$AC$2:$AC$65,プルダウンデータリスト!$AD$2:$AD$65),_xlfn.XLOOKUP($C161,プルダウンデータリスト!$V$3:$V$9,プルダウンデータリスト!$W$3:$W$9,))))","v":"-"},null,"-","-",{"$f":"IF(C161=\"\",\"-\",_xlfn.XLOOKUP(C161,プルダウンデータリスト!$V$2:$V$9,プルダウンデータリスト!$X$2:$X$9,\"-\"))","v":"-"},"-"]
[null,null,null,null,null,{"$f":"IF($C162=\"\",\"-\",IF($D162=\"\",\"-\",IF($C162=\"製材（製材・集成材・ＣＬＴ等）\",_xlfn.XLOOKUP('２－４'!$D162,プルダウンデータリスト!$AC$2:$AC$65,プルダウンデータリスト!$AD$2:$AD$65),_xlfn.XLOOKUP($C162,プルダウンデータリスト!$V$3:$V$9,プルダウンデータリスト!$W$3:$W$9,))))","v":"-"},null,"-","-",{"$f":"IF(C162=\"\",\"-\",_xlfn.XLOOKUP(C162,プルダウンデータリスト!$V$2:$V$9,プルダウンデータリスト!$X$2:$X$9,\"-\"))","v":"-"},"-"]
[null,null,null,null,null,{"$f":"IF($C163=\"\",\"-\",IF($D163=\"\",\"-\",IF($C163=\"製材（製材・集成材・ＣＬＴ等）\",_xlfn.XLOOKUP('２－４'!$D163,プルダウンデータリスト!$AC$2:$AC$65,プルダウンデータリスト!$AD$2:$AD$65),_xlfn.XLOOKUP($C163,プルダウンデータリスト!$V$3:$V$9,プルダウンデータリスト!$W$3:$W$9,))))","v":"-"},null,"-","-",{"$f":"IF(C163=\"\",\"-\",_xlfn.XLOOKUP(C163,プルダウンデータリスト!$V$2:$V$9,プルダウンデータリスト!$X$2:$X$9,\"-\"))","v":"-"},"-"]
[null,null,null,null,null,{"$f":"IF($C164=\"\",\"-\",IF($D164=\"\",\"-\",IF($C164=\"製材（製材・集成材・ＣＬＴ等）\",_xlfn.XLOOKUP('２－４'!$D164,プルダウンデータリスト!$AC$2:$AC$65,プルダウンデータリスト!$AD$2:$AD$65),_xlfn.XLOOKUP($C164,プルダウンデータリスト!$V$3:$V$9,プルダウンデータリスト!$W$3:$W$9,))))","v":"-"},null,"-","-",{"$f":"IF(C164=\"\",\"-\",_xlfn.XLOOKUP(C164,プルダウンデータリスト!$V$2:$V$9,プルダウンデータリスト!$X$2:$X$9,\"-\"))","v":"-"},"-"]
[null,null,null,null,null,{"$f":"IF($C165=\"\",\"-\",IF($D165=\"\",\"-\",IF($C165=\"製材（製材・集成材・ＣＬＴ等）\",_xlfn.XLOOKUP('２－４'!$D165,プルダウンデータリスト!$AC$2:$AC$65,プルダウンデータリスト!$AD$2:$AD$65),_xlfn.XLOOKUP($C165,プルダウンデータリスト!$V$3:$V$9,プルダウンデータリスト!$W$3:$W$9,))))","v":"-"},null,"-","-",{"$f":"IF(C165=\"\",\"-\",_xlfn.XLOOKUP(C165,プルダウンデータリスト!$V$2:$V$9,プルダウンデータリスト!$X$2:$X$9,\"-\"))","v":"-"},"-"]
[null,null,null,null,null,{"$f":"IF($C166=\"\",\"-\",IF($D166=\"\",\"-\",IF($C166=\"製材（製材・集成材・ＣＬＴ等）\",_xlfn.XLOOKUP('２－４'!$D166,プルダウンデータリスト!$AC$2:$AC$65,プルダウンデータリスト!$AD$2:$AD$65),_xlfn.XLOOKUP($C166,プルダウンデータリスト!$V$3:$V$9,プルダウンデータリスト!$W$3:$W$9,))))","v":"-"},null,"-","-",{"$f":"IF(C166=\"\",\"-\",_xlfn.XLOOKUP(C166,プルダウンデータリスト!$V$2:$V$9,プルダウンデータリスト!$X$2:$X$9,\"-\"))","v":"-"},"-"]
[null,null,null,null,null,{"$f":"IF($C167=\"\",\"-\",IF($D167=\"\",\"-\",IF($C167=\"製材（製材・集成材・ＣＬＴ等）\",_xlfn.XLOOKUP('２－４'!$D167,プルダウンデータリスト!$AC$2:$AC$65,プルダウンデータリスト!$AD$2:$AD$65),_xlfn.XLOOKUP($C167,プルダウンデータリスト!$V$3:$V$9,プルダウンデータリスト!$W$3:$W$9,))))","v":"-"},null,"-","-",{"$f":"IF(C167=\"\",\"-\",_xlfn.XLOOKUP(C167,プルダウンデータリスト!$V$2:$V$9,プルダウンデータリスト!$X$2:$X$9,\"-\"))","v":"-"},"-"]
[null,null,null,null,null,{"$f":"IF($C168=\"\",\"-\",IF($D168=\"\",\"-\",IF($C168=\"製材（製材・集成材・ＣＬＴ等）\",_xlfn.XLOOKUP('２－４'!$D168,プルダウンデータリスト!$AC$2:$AC$65,プルダウンデータリスト!$AD$2:$AD$65),_xlfn.XLOOKUP($C168,プルダウンデータリスト!$V$3:$V$9,プルダウンデータリスト!$W$3:$W$9,))))","v":"-"},null,{"$f":"IF(E168=\"\",\"-\",E168)","v":"-"},{"$f":"IF(G168=\"\",\"-\",G168)","v":"-"},{"$f":"IF(C168=\"\",\"-\",_xlfn.XLOOKUP(C168,プルダウンデータリスト!$V$2:$V$9,プルダウンデータリスト!$X$2:$X$9,\"-\"))","v":"-"},{"$f":"IFERROR(IF(LEN(E168)>0,E168*F168*J168,IF(LEN(G168)>0,G168*J168/1000,\"-\")),\"-\")","v":"-"}]
[null,null,null,null,null,{"$f":"IF($C169=\"\",\"-\",IF($D169=\"\",\"-\",IF($C169=\"製材（製材・集成材・ＣＬＴ等）\",_xlfn.XLOOKUP('２－４'!$D169,プルダウンデータリスト!$AC$2:$AC$65,プルダウンデータリスト!$AD$2:$AD$65),_xlfn.XLOOKUP($C169,プルダウンデータリスト!$V$3:$V$9,プルダウンデータリスト!$W$3:$W$9,))))","v":"-"},null,"-","-",{"$f":"IF(C169=\"\",\"-\",_xlfn.XLOOKUP(C169,プルダウンデータリスト!$V$2:$V$9,プルダウンデータリスト!$X$2:$X$9,\"-\"))","v":"-"},"-"]
[null,null,null,null,null,{"$f":"IF($C170=\"\",\"-\",IF($D170=\"\",\"-\",IF($C170=\"製材（製材・集成材・ＣＬＴ等）\",_xlfn.XLOOKUP('２－４'!$D170,プルダウンデータリスト!$AC$2:$AC$65,プルダウンデータリスト!$AD$2:$AD$65),_xlfn.XLOOKUP($C170,プルダウンデータリスト!$V$3:$V$9,プルダウンデータリスト!$W$3:$W$9,))))","v":"-"},null,"-","-",{"$f":"IF(C170=\"\",\"-\",_xlfn.XLOOKUP(C170,プルダウンデータリスト!$V$2:$V$9,プルダウンデータリスト!$X$2:$X$9,\"-\"))","v":"-"},"-"]
[null,null,null,null,null,{"$f":"IF($C171=\"\",\"-\",IF($D171=\"\",\"-\",IF($C171=\"製材（製材・集成材・ＣＬＴ等）\",_xlfn.XLOOKUP('２－４'!$D171,プルダウンデータリスト!$AC$2:$AC$65,プルダウンデータリスト!$AD$2:$AD$65),_xlfn.XLOOKUP($C171,プルダウンデータリスト!$V$3:$V$9,プルダウンデータリスト!$W$3:$W$9,))))","v":"-"},null,"-","-",{"$f":"IF(C171=\"\",\"-\",_xlfn.XLOOKUP(C171,プルダウンデータリスト!$V$2:$V$9,プルダウンデータリスト!$X$2:$X$9,\"-\"))","v":"-"},"-"]
[null,null,null,null,null,{"$f":"IF($C172=\"\",\"-\",IF($D172=\"\",\"-\",IF($C172=\"製材（製材・集成材・ＣＬＴ等）\",_xlfn.XLOOKUP('２－４'!$D172,プルダウンデータリスト!$AC$2:$AC$65,プルダウンデータリスト!$AD$2:$AD$65),_xlfn.XLOOKUP($C172,プルダウンデータリスト!$V$3:$V$9,プルダウンデータリスト!$W$3:$W$9,))))","v":"-"},null,"-","-",{"$f":"IF(C172=\"\",\"-\",_xlfn.XLOOKUP(C172,プルダウンデータリスト!$V$2:$V$9,プルダウンデータリスト!$X$2:$X$9,\"-\"))","v":"-"},"-"]
[null,null,null,null,null,{"$f":"IF($C173=\"\",\"-\",IF($D173=\"\",\"-\",IF($C173=\"製材（製材・集成材・ＣＬＴ等）\",_xlfn.XLOOKUP('２－４'!$D173,プルダウンデータリスト!$AC$2:$AC$65,プルダウンデータリスト!$AD$2:$AD$65),_xlfn.XLOOKUP($C173,プルダウンデータリスト!$V$3:$V$9,プルダウンデータリスト!$W$3:$W$9,))))","v":"-"},null,"-","-",{"$f":"IF(C173=\"\",\"-\",_xlfn.XLOOKUP(C173,プルダウンデータリスト!$V$2:$V$9,プルダウンデータリスト!$X$2:$X$9,\"-\"))","v":"-"},"-"]
[null,null,null,null,null,{"$f":"IF($C174=\"\",\"-\",IF($D174=\"\",\"-\",IF($C174=\"製材（製材・集成材・ＣＬＴ等）\",_xlfn.XLOOKUP('２－４'!$D174,プルダウンデータリスト!$AC$2:$AC$65,プルダウンデータリスト!$AD$2:$AD$65),_xlfn.XLOOKUP($C174,プルダウンデータリスト!$V$3:$V$9,プルダウンデータリスト!$W$3:$W$9,))))","v":"-"},null,"-","-",{"$f":"IF(C174=\"\",\"-\",_xlfn.XLOOKUP(C174,プルダウンデータリスト!$V$2:$V$9,プルダウンデータリスト!$X$2:$X$9,\"-\"))","v":"-"},"-"]
[null,null,null,null,null,{"$f":"IF($C175=\"\",\"-\",IF($D175=\"\",\"-\",IF($C175=\"製材（製材・集成材・ＣＬＴ等）\",_xlfn.XLOOKUP('２－４'!$D175,プルダウンデータリスト!$AC$2:$AC$65,プルダウンデータリスト!$AD$2:$AD$65),_xlfn.XLOOKUP($C175,プルダウンデータリスト!$V$3:$V$9,プルダウンデータリスト!$W$3:$W$9,))))","v":"-"},null,"-","-",{"$f":"IF(C175=\"\",\"-\",_xlfn.XLOOKUP(C175,プルダウンデータリスト!$V$2:$V$9,プルダウンデータリスト!$X$2:$X$9,\"-\"))","v":"-"},"-"]
[null,null,null,null,null,{"$f":"IF($C176=\"\",\"-\",IF($D176=\"\",\"-\",IF($C176=\"製材（製材・集成材・ＣＬＴ等）\",_xlfn.XLOOKUP('２－４'!$D176,プルダウンデータリスト!$AC$2:$AC$65,プルダウンデータリスト!$AD$2:$AD$65),_xlfn.XLOOKUP($C176,プルダウンデータリスト!$V$3:$V$9,プルダウンデータリスト!$W$3:$W$9,))))","v":"-"},null,"-","-",{"$f":"IF(C176=\"\",\"-\",_xlfn.XLOOKUP(C176,プルダウンデータリスト!$V$2:$V$9,プルダウンデータリスト!$X$2:$X$9,\"-\"))","v":"-"},"-"]
[null,null,null,null,null,{"$f":"IF($C177=\"\",\"-\",IF($D177=\"\",\"-\",IF($C177=\"製材（製材・集成材・ＣＬＴ等）\",_xlfn.XLOOKUP('２－４'!$D177,プルダウンデータリスト!$AC$2:$AC$65,プルダウンデータリスト!$AD$2:$AD$65),_xlfn.XLOOKUP($C177,プルダウンデータリスト!$V$3:$V$9,プルダウンデータリスト!$W$3:$W$9,))))","v":"-"},null,"-","-",{"$f":"IF(C177=\"\",\"-\",_xlfn.XLOOKUP(C177,プルダウンデータリスト!$V$2:$V$9,プルダウンデータリスト!$X$2:$X$9,\"-\"))","v":"-"},"-"]
[null,null,null,null,null,{"$f":"IF($C178=\"\",\"-\",IF($D178=\"\",\"-\",IF($C178=\"製材（製材・集成材・ＣＬＴ等）\",_xlfn.XLOOKUP('２－４'!$D178,プルダウンデータリスト!$AC$2:$AC$65,プルダウンデータリスト!$AD$2:$AD$65),_xlfn.XLOOKUP($C178,プルダウンデータリスト!$V$3:$V$9,プルダウンデータリスト!$W$3:$W$9,))))","v":"-"},null,"-","-",{"$f":"IF(C178=\"\",\"-\",_xlfn.XLOOKUP(C178,プルダウンデータリスト!$V$2:$V$9,プルダウンデータリスト!$X$2:$X$9,\"-\"))","v":"-"},"-"]
[null,null,null,null,null,{"$f":"IF($C179=\"\",\"-\",IF($D179=\"\",\"-\",IF($C179=\"製材（製材・集成材・ＣＬＴ等）\",_xlfn.XLOOKUP('２－４'!$D179,プルダウンデータリスト!$AC$2:$AC$65,プルダウンデータリスト!$AD$2:$AD$65),_xlfn.XLOOKUP($C179,プルダウンデータリスト!$V$3:$V$9,プルダウンデータリスト!$W$3:$W$9,))))","v":"-"},null,"-","-",{"$f":"IF(C179=\"\",\"-\",_xlfn.XLOOKUP(C179,プルダウンデータリスト!$V$2:$V$9,プルダウンデータリスト!$X$2:$X$9,\"-\"))","v":"-"},"-"]
[null,null,null,null,null,{"$f":"IF($C180=\"\",\"-\",IF($D180=\"\",\"-\",IF($C180=\"製材（製材・集成材・ＣＬＴ等）\",_xlfn.XLOOKUP('２－４'!$D180,プルダウンデータリスト!$AC$2:$AC$65,プルダウンデータリスト!$AD$2:$AD$65),_xlfn.XLOOKUP($C180,プルダウンデータリスト!$V$3:$V$9,プルダウンデータリスト!$W$3:$W$9,))))","v":"-"},null,"-","-",{"$f":"IF(C180=\"\",\"-\",_xlfn.XLOOKUP(C180,プルダウンデータリスト!$V$2:$V$9,プルダウンデータリスト!$X$2:$X$9,\"-\"))","v":"-"},"-"]
[null,null,null,null,null,{"$f":"IF($C181=\"\",\"-\",IF($D181=\"\",\"-\",IF($C181=\"製材（製材・集成材・ＣＬＴ等）\",_xlfn.XLOOKUP('２－４'!$D181,プルダウンデータリスト!$AC$2:$AC$65,プルダウンデータリスト!$AD$2:$AD$65),_xlfn.XLOOKUP($C181,プルダウンデータリスト!$V$3:$V$9,プルダウンデータリスト!$W$3:$W$9,))))","v":"-"},null,"-","-",{"$f":"IF(C181=\"\",\"-\",_xlfn.XLOOKUP(C181,プルダウンデータリスト!$V$2:$V$9,プルダウンデータリスト!$X$2:$X$9,\"-\"))","v":"-"},"-"]
[null,null,null,null,null,{"$f":"IF($C182=\"\",\"-\",IF($D182=\"\",\"-\",IF($C182=\"製材（製材・集成材・ＣＬＴ等）\",_xlfn.XLOOKUP('２－４'!$D182,プルダウンデータリスト!$AC$2:$AC$65,プルダウンデータリスト!$AD$2:$AD$65),_xlfn.XLOOKUP($C182,プルダウンデータリスト!$V$3:$V$9,プルダウンデータリスト!$W$3:$W$9,))))","v":"-"},null,"-","-",{"$f":"IF(C182=\"\",\"-\",_xlfn.XLOOKUP(C182,プルダウンデータリスト!$V$2:$V$9,プルダウンデータリスト!$X$2:$X$9,\"-\"))","v":"-"},"-"]
[null,null,null,null,null,{"$f":"IF($C183=\"\",\"-\",IF($D183=\"\",\"-\",IF($C183=\"製材（製材・集成材・ＣＬＴ等）\",_xlfn.XLOOKUP('２－４'!$D183,プルダウンデータリスト!$AC$2:$AC$65,プルダウンデータリスト!$AD$2:$AD$65),_xlfn.XLOOKUP($C183,プルダウンデータリスト!$V$3:$V$9,プルダウンデータリスト!$W$3:$W$9,))))","v":"-"},null,"-","-",{"$f":"IF(C183=\"\",\"-\",_xlfn.XLOOKUP(C183,プルダウンデータリスト!$V$2:$V$9,プルダウンデータリスト!$X$2:$X$9,\"-\"))","v":"-"},"-"]
[null,null,null,null,null,{"$f":"IF($C184=\"\",\"-\",IF($D184=\"\",\"-\",IF($C184=\"製材（製材・集成材・ＣＬＴ等）\",_xlfn.XLOOKUP('２－４'!$D184,プルダウンデータリスト!$AC$2:$AC$65,プルダウンデータリスト!$AD$2:$AD$65),_xlfn.XLOOKUP($C184,プルダウンデータリスト!$V$3:$V$9,プルダウンデータリスト!$W$3:$W$9,))))","v":"-"},null,"-","-",{"$f":"IF(C184=\"\",\"-\",_xlfn.XLOOKUP(C184,プルダウンデータリスト!$V$2:$V$9,プルダウンデータリスト!$X$2:$X$9,\"-\"))","v":"-"},"-"]
[null,null,null,null,null,{"$f":"IF($C185=\"\",\"-\",IF($D185=\"\",\"-\",IF($C185=\"製材（製材・集成材・ＣＬＴ等）\",_xlfn.XLOOKUP('２－４'!$D185,プルダウンデータリスト!$AC$2:$AC$65,プルダウンデータリスト!$AD$2:$AD$65),_xlfn.XLOOKUP($C185,プルダウンデータリスト!$V$3:$V$9,プルダウンデータリスト!$W$3:$W$9,))))","v":"-"},null,"-","-",{"$f":"IF(C185=\"\",\"-\",_xlfn.XLOOKUP(C185,プルダウンデータリスト!$V$2:$V$9,プルダウンデータリスト!$X$2:$X$9,\"-\"))","v":"-"},"-"]
[null,null,null,null,null,{"$f":"IF($C186=\"\",\"-\",IF($D186=\"\",\"-\",IF($C186=\"製材（製材・集成材・ＣＬＴ等）\",_xlfn.XLOOKUP('２－４'!$D186,プルダウンデータリスト!$AC$2:$AC$65,プルダウンデータリスト!$AD$2:$AD$65),_xlfn.XLOOKUP($C186,プルダウンデータリスト!$V$3:$V$9,プルダウンデータリスト!$W$3:$W$9,))))","v":"-"},null,"-","-",{"$f":"IF(C186=\"\",\"-\",_xlfn.XLOOKUP(C186,プルダウンデータリスト!$V$2:$V$9,プルダウンデータリスト!$X$2:$X$9,\"-\"))","v":"-"},"-"]
[null,null,null,null,null,{"$f":"IF($C187=\"\",\"-\",IF($D187=\"\",\"-\",IF($C187=\"製材（製材・集成材・ＣＬＴ等）\",_xlfn.XLOOKUP('２－４'!$D187,プルダウンデータリスト!$AC$2:$AC$65,プルダウンデータリスト!$AD$2:$AD$65),_xlfn.XLOOKUP($C187,プルダウンデータリスト!$V$3:$V$9,プルダウンデータリスト!$W$3:$W$9,))))","v":"-"},null,"-","-",{"$f":"IF(C187=\"\",\"-\",_xlfn.XLOOKUP(C187,プルダウンデータリスト!$V$2:$V$9,プルダウンデータリスト!$X$2:$X$9,\"-\"))","v":"-"},"-"]
[null,null,null,null,null,{"$f":"IF($C188=\"\",\"-\",IF($D188=\"\",\"-\",IF($C188=\"製材（製材・集成材・ＣＬＴ等）\",_xlfn.XLOOKUP('２－４'!$D188,プルダウンデータリスト!$AC$2:$AC$65,プルダウンデータリスト!$AD$2:$AD$65),_xlfn.XLOOKUP($C188,プルダウンデータリスト!$V$3:$V$9,プルダウンデータリスト!$W$3:$W$9,))))","v":"-"},null,"-","-",{"$f":"IF(C188=\"\",\"-\",_xlfn.XLOOKUP(C188,プルダウンデータリスト!$V$2:$V$9,プルダウンデータリスト!$X$2:$X$9,\"-\"))","v":"-"},"-"]
[null,null,null,null,null,{"$f":"IF($C189=\"\",\"-\",IF($D189=\"\",\"-\",IF($C189=\"製材（製材・集成材・ＣＬＴ等）\",_xlfn.XLOOKUP('２－４'!$D189,プルダウンデータリスト!$AC$2:$AC$65,プルダウンデータリスト!$AD$2:$AD$65),_xlfn.XLOOKUP($C189,プルダウンデータリスト!$V$3:$V$9,プルダウンデータリスト!$W$3:$W$9,))))","v":"-"},null,"-","-",{"$f":"IF(C189=\"\",\"-\",_xlfn.XLOOKUP(C189,プルダウンデータリスト!$V$2:$V$9,プルダウンデータリスト!$X$2:$X$9,\"-\"))","v":"-"},"-"]
[null,null,null,null,null,{"$f":"IF($C190=\"\",\"-\",IF($D190=\"\",\"-\",IF($C190=\"製材（製材・集成材・ＣＬＴ等）\",_xlfn.XLOOKUP('２－４'!$D190,プルダウンデータリスト!$AC$2:$AC$65,プルダウンデータリスト!$AD$2:$AD$65),_xlfn.XLOOKUP($C190,プルダウンデータリスト!$V$3:$V$9,プルダウンデータリスト!$W$3:$W$9,))))","v":"-"},null,"-","-",{"$f":"IF(C190=\"\",\"-\",_xlfn.XLOOKUP(C190,プルダウンデータリスト!$V$2:$V$9,プルダウンデータリスト!$X$2:$X$9,\"-\"))","v":"-"},"-"]
[null,null,null,null,null,{"$f":"IF($C191=\"\",\"-\",IF($D191=\"\",\"-\",IF($C191=\"製材（製材・集成材・ＣＬＴ等）\",_xlfn.XLOOKUP('２－４'!$D191,プルダウンデータリスト!$AC$2:$AC$65,プルダウンデータリスト!$AD$2:$AD$65),_xlfn.XLOOKUP($C191,プルダウンデータリスト!$V$3:$V$9,プルダウンデータリスト!$W$3:$W$9,))))","v":"-"},null,"-","-",{"$f":"IF(C191=\"\",\"-\",_xlfn.XLOOKUP(C191,プルダウンデータリスト!$V$2:$V$9,プルダウンデータリスト!$X$2:$X$9,\"-\"))","v":"-"},"-"]
[null,null,null,null,null,{"$f":"IF($C192=\"\",\"-\",IF($D192=\"\",\"-\",IF($C192=\"製材（製材・集成材・ＣＬＴ等）\",_xlfn.XLOOKUP('２－４'!$D192,プルダウンデータリスト!$AC$2:$AC$65,プルダウンデータリスト!$AD$2:$AD$65),_xlfn.XLOOKUP($C192,プルダウンデータリスト!$V$3:$V$9,プルダウンデータリスト!$W$3:$W$9,))))","v":"-"},null,"-","-",{"$f":"IF(C192=\"\",\"-\",_xlfn.XLOOKUP(C192,プルダウンデータリスト!$V$2:$V$9,プルダウンデータリスト!$X$2:$X$9,\"-\"))","v":"-"},"-"]
[null,null,null,null,null,{"$f":"IF($C193=\"\",\"-\",IF($D193=\"\",\"-\",IF($C193=\"製材（製材・集成材・ＣＬＴ等）\",_xlfn.XLOOKUP('２－４'!$D193,プルダウンデータリスト!$AC$2:$AC$65,プルダウンデータリスト!$AD$2:$AD$65),_xlfn.XLOOKUP($C193,プルダウンデータリスト!$V$3:$V$9,プルダウンデータリスト!$W$3:$W$9,))))","v":"-"},null,"-","-",{"$f":"IF(C193=\"\",\"-\",_xlfn.XLOOKUP(C193,プルダウンデータリスト!$V$2:$V$9,プルダウンデータリスト!$X$2:$X$9,\"-\"))","v":"-"},"-"]
[null,null,null,null,null,{"$f":"IF($C194=\"\",\"-\",IF($D194=\"\",\"-\",IF($C194=\"製材（製材・集成材・ＣＬＴ等）\",_xlfn.XLOOKUP('２－４'!$D194,プルダウンデータリスト!$AC$2:$AC$65,プルダウンデータリスト!$AD$2:$AD$65),_xlfn.XLOOKUP($C194,プルダウンデータリスト!$V$3:$V$9,プルダウンデータリスト!$W$3:$W$9,))))","v":"-"},null,"-","-",{"$f":"IF(C194=\"\",\"-\",_xlfn.XLOOKUP(C194,プルダウンデータリスト!$V$2:$V$9,プルダウンデータリスト!$X$2:$X$9,\"-\"))","v":"-"},"-"]
[null,null,null,null,null,{"$f":"IF($C195=\"\",\"-\",IF($D195=\"\",\"-\",IF($C195=\"製材（製材・集成材・ＣＬＴ等）\",_xlfn.XLOOKUP('２－４'!$D195,プルダウンデータリスト!$AC$2:$AC$65,プルダウンデータリスト!$AD$2:$AD$65),_xlfn.XLOOKUP($C195,プルダウンデータリスト!$V$3:$V$9,プルダウンデータリスト!$W$3:$W$9,))))","v":"-"},null,"-","-",{"$f":"IF(C195=\"\",\"-\",_xlfn.XLOOKUP(C195,プルダウンデータリスト!$V$2:$V$9,プルダウンデータリスト!$X$2:$X$9,\"-\"))","v":"-"},"-"]
[null,null,null,null,null,{"$f":"IF($C196=\"\",\"-\",IF($D196=\"\",\"-\",IF($C196=\"製材（製材・集成材・ＣＬＴ等）\",_xlfn.XLOOKUP('２－４'!$D196,プルダウンデータリスト!$AC$2:$AC$65,プルダウンデータリスト!$AD$2:$AD$65),_xlfn.XLOOKUP($C196,プルダウンデータリスト!$V$3:$V$9,プルダウンデータリスト!$W$3:$W$9,))))","v":"-"},null,"-","-",{"$f":"IF(C196=\"\",\"-\",_xlfn.XLOOKUP(C196,プルダウンデータリスト!$V$2:$V$9,プルダウンデータリスト!$X$2:$X$9,\"-\"))","v":"-"},"-"]
[null,null,null,null,null,{"$f":"IF($C197=\"\",\"-\",IF($D197=\"\",\"-\",IF($C197=\"製材（製材・集成材・ＣＬＴ等）\",_xlfn.XLOOKUP('２－４'!$D197,プルダウンデータリスト!$AC$2:$AC$65,プルダウンデータリスト!$AD$2:$AD$65),_xlfn.XLOOKUP($C197,プルダウンデータリスト!$V$3:$V$9,プルダウンデータリスト!$W$3:$W$9,))))","v":"-"},null,"-","-",{"$f":"IF(C197=\"\",\"-\",_xlfn.XLOOKUP(C197,プルダウンデータリスト!$V$2:$V$9,プルダウンデータリスト!$X$2:$X$9,\"-\"))","v":"-"},"-"]
[null,null,null,null,null,{"$f":"IF($C198=\"\",\"-\",IF($D198=\"\",\"-\",IF($C198=\"製材（製材・集成材・ＣＬＴ等）\",_xlfn.XLOOKUP('２－４'!$D198,プルダウンデータリスト!$AC$2:$AC$65,プルダウンデータリスト!$AD$2:$AD$65),_xlfn.XLOOKUP($C198,プルダウンデータリスト!$V$3:$V$9,プルダウンデータリスト!$W$3:$W$9,))))","v":"-"},null,"-","-",{"$f":"IF(C198=\"\",\"-\",_xlfn.XLOOKUP(C198,プルダウンデータリスト!$V$2:$V$9,プルダウンデータリスト!$X$2:$X$9,\"-\"))","v":"-"},"-"]
[null,null,null,null,null,{"$f":"IF($C199=\"\",\"-\",IF($D199=\"\",\"-\",IF($C199=\"製材（製材・集成材・ＣＬＴ等）\",_xlfn.XLOOKUP('２－４'!$D199,プルダウンデータリスト!$AC$2:$AC$65,プルダウンデータリスト!$AD$2:$AD$65),_xlfn.XLOOKUP($C199,プルダウンデータリスト!$V$3:$V$9,プルダウンデータリスト!$W$3:$W$9,))))","v":"-"},null,"-","-",{"$f":"IF(C199=\"\",\"-\",_xlfn.XLOOKUP(C199,プルダウンデータリスト!$V$2:$V$9,プルダウンデータリスト!$X$2:$X$9,\"-\"))","v":"-"},"-"]
[null,null,null,null,null,{"$f":"IF($C200=\"\",\"-\",IF($D200=\"\",\"-\",IF($C200=\"製材（製材・集成材・ＣＬＴ等）\",_xlfn.XLOOKUP('２－４'!$D200,プルダウンデータリスト!$AC$2:$AC$65,プルダウンデータリスト!$AD$2:$AD$65),_xlfn.XLOOKUP($C200,プルダウンデータリスト!$V$3:$V$9,プルダウンデータリスト!$W$3:$W$9,))))","v":"-"},null,"-","-",{"$f":"IF(C200=\"\",\"-\",_xlfn.XLOOKUP(C200,プルダウンデータリスト!$V$2:$V$9,プルダウンデータリスト!$X$2:$X$9,\"-\"))","v":"-"},"-"]
[null,null,null,null,null,{"$f":"IF($C201=\"\",\"-\",IF($D201=\"\",\"-\",IF($C201=\"製材（製材・集成材・ＣＬＴ等）\",_xlfn.XLOOKUP('２－４'!$D201,プルダウンデータリスト!$AC$2:$AC$65,プルダウンデータリスト!$AD$2:$AD$65),_xlfn.XLOOKUP($C201,プルダウンデータリスト!$V$3:$V$9,プルダウンデータリスト!$W$3:$W$9,))))","v":"-"},null,"-","-",{"$f":"IF(C201=\"\",\"-\",_xlfn.XLOOKUP(C201,プルダウンデータリスト!$V$2:$V$9,プルダウンデータリスト!$X$2:$X$9,\"-\"))","v":"-"},"-"]
[null,null,null,null,null,{"$f":"IF($C202=\"\",\"-\",IF($D202=\"\",\"-\",IF($C202=\"製材（製材・集成材・ＣＬＴ等）\",_xlfn.XLOOKUP('２－４'!$D202,プルダウンデータリスト!$AC$2:$AC$65,プルダウンデータリスト!$AD$2:$AD$65),_xlfn.XLOOKUP($C202,プルダウンデータリスト!$V$3:$V$9,プルダウンデータリスト!$W$3:$W$9,))))","v":"-"},null,"-","-",{"$f":"IF(C202=\"\",\"-\",_xlfn.XLOOKUP(C202,プルダウンデータリスト!$V$2:$V$9,プルダウンデータリスト!$X$2:$X$9,\"-\"))","v":"-"},"-"]
[null,null,null,null,null,{"$f":"IF($C203=\"\",\"-\",IF($D203=\"\",\"-\",IF($C203=\"製材（製材・集成材・ＣＬＴ等）\",_xlfn.XLOOKUP('２－４'!$D203,プルダウンデータリスト!$AC$2:$AC$65,プルダウンデータリスト!$AD$2:$AD$65),_xlfn.XLOOKUP($C203,プルダウンデータリスト!$V$3:$V$9,プルダウンデータリスト!$W$3:$W$9,))))","v":"-"},null,"-","-",{"$f":"IF(C203=\"\",\"-\",_xlfn.XLOOKUP(C203,プルダウンデータリスト!$V$2:$V$9,プルダウンデータリスト!$X$2:$X$9,\"-\"))","v":"-"},"-"]
[null,null,null,null,null,{"$f":"IF($C204=\"\",\"-\",IF($D204=\"\",\"-\",IF($C204=\"製材（製材・集成材・ＣＬＴ等）\",_xlfn.XLOOKUP('２－４'!$D204,プルダウンデータリスト!$AC$2:$AC$65,プルダウンデータリスト!$AD$2:$AD$65),_xlfn.XLOOKUP($C204,プルダウンデータリスト!$V$3:$V$9,プルダウンデータリスト!$W$3:$W$9,))))","v":"-"},null,"-","-",{"$f":"IF(C204=\"\",\"-\",_xlfn.XLOOKUP(C204,プルダウンデータリスト!$V$2:$V$9,プルダウンデータリスト!$X$2:$X$9,\"-\"))","v":"-"},"-"]
[null,null,null,null,null,{"$f":"IF($C205=\"\",\"-\",IF($D205=\"\",\"-\",IF($C205=\"製材（製材・集成材・ＣＬＴ等）\",_xlfn.XLOOKUP('２－４'!$D205,プルダウンデータリスト!$AC$2:$AC$65,プルダウンデータリスト!$AD$2:$AD$65),_xlfn.XLOOKUP($C205,プルダウンデータリスト!$V$3:$V$9,プルダウンデータリスト!$W$3:$W$9,))))","v":"-"},null,"-","-",{"$f":"IF(C205=\"\",\"-\",_xlfn.XLOOKUP(C205,プルダウンデータリスト!$V$2:$V$9,プルダウンデータリスト!$X$2:$X$9,\"-\"))","v":"-"},"-"]
[null,null,null,null,null,{"$f":"IF($C206=\"\",\"-\",IF($D206=\"\",\"-\",IF($C206=\"製材（製材・集成材・ＣＬＴ等）\",_xlfn.XLOOKUP('２－４'!$D206,プルダウンデータリスト!$AC$2:$AC$65,プルダウンデータリスト!$AD$2:$AD$65),_xlfn.XLOOKUP($C206,プルダウンデータリスト!$V$3:$V$9,プルダウンデータリスト!$W$3:$W$9,))))","v":"-"},null,"-","-",{"$f":"IF(C206=\"\",\"-\",_xlfn.XLOOKUP(C206,プルダウンデータリスト!$V$2:$V$9,プルダウンデータリスト!$X$2:$X$9,\"-\"))","v":"-"},"-"]
[null,null,null,null,null,{"$f":"IF($C207=\"\",\"-\",IF($D207=\"\",\"-\",IF($C207=\"製材（製材・集成材・ＣＬＴ等）\",_xlfn.XLOOKUP('２－４'!$D207,プルダウンデータリスト!$AC$2:$AC$65,プルダウンデータリスト!$AD$2:$AD$65),_xlfn.XLOOKUP($C207,プルダウンデータリスト!$V$3:$V$9,プルダウンデータリスト!$W$3:$W$9,))))","v":"-"},null,"-","-",{"$f":"IF(C207=\"\",\"-\",_xlfn.XLOOKUP(C207,プルダウンデータリスト!$V$2:$V$9,プルダウンデータリスト!$X$2:$X$9,\"-\"))","v":"-"},"-"]
[null,null,null,null,null,{"$f":"IF($C208=\"\",\"-\",IF($D208=\"\",\"-\",IF($C208=\"製材（製材・集成材・ＣＬＴ等）\",_xlfn.XLOOKUP('２－４'!$D208,プルダウンデータリスト!$AC$2:$AC$65,プルダウンデータリスト!$AD$2:$AD$65),_xlfn.XLOOKUP($C208,プルダウンデータリスト!$V$3:$V$9,プルダウンデータリスト!$W$3:$W$9,))))","v":"-"},null,"-","-",{"$f":"IF(C208=\"\",\"-\",_xlfn.XLOOKUP(C208,プルダウンデータリスト!$V$2:$V$9,プルダウンデータリスト!$X$2:$X$9,\"-\"))","v":"-"},"-"]
[null,null,null,null,null,{"$f":"IF($C209=\"\",\"-\",IF($D209=\"\",\"-\",IF($C209=\"製材（製材・集成材・ＣＬＴ等）\",_xlfn.XLOOKUP('２－４'!$D209,プルダウンデータリスト!$AC$2:$AC$65,プルダウンデータリスト!$AD$2:$AD$65),_xlfn.XLOOKUP($C209,プルダウンデータリスト!$V$3:$V$9,プルダウンデータリスト!$W$3:$W$9,))))","v":"-"},null,"-","-",{"$f":"IF(C209=\"\",\"-\",_xlfn.XLOOKUP(C209,プルダウンデータリスト!$V$2:$V$9,プルダウンデータリスト!$X$2:$X$9,\"-\"))","v":"-"},"-"]
[null,null,null,null,null,{"$f":"IF($C210=\"\",\"-\",IF($D210=\"\",\"-\",IF($C210=\"製材（製材・集成材・ＣＬＴ等）\",_xlfn.XLOOKUP('２－４'!$D210,プルダウンデータリスト!$AC$2:$AC$65,プルダウンデータリスト!$AD$2:$AD$65),_xlfn.XLOOKUP($C210,プルダウンデータリスト!$V$3:$V$9,プルダウンデータリスト!$W$3:$W$9,))))","v":"-"},null,"-","-",{"$f":"IF(C210=\"\",\"-\",_xlfn.XLOOKUP(C210,プルダウンデータリスト!$V$2:$V$9,プルダウンデータリスト!$X$2:$X$9,\"-\"))","v":"-"},"-"]
[null,null,null,null,null,{"$f":"IF($C211=\"\",\"-\",IF($D211=\"\",\"-\",IF($C211=\"製材（製材・集成材・ＣＬＴ等）\",_xlfn.XLOOKUP('２－４'!$D211,プルダウンデータリスト!$AC$2:$AC$65,プルダウンデータリスト!$AD$2:$AD$65),_xlfn.XLOOKUP($C211,プルダウンデータリスト!$V$3:$V$9,プルダウンデータリスト!$W$3:$W$9,))))","v":"-"},null,"-","-",{"$f":"IF(C211=\"\",\"-\",_xlfn.XLOOKUP(C211,プルダウンデータリスト!$V$2:$V$9,プルダウンデータリスト!$X$2:$X$9,\"-\"))","v":"-"},"-"]
[null,null,null,null,null,{"$f":"IF($C212=\"\",\"-\",IF($D212=\"\",\"-\",IF($C212=\"製材（製材・集成材・ＣＬＴ等）\",_xlfn.XLOOKUP('２－４'!$D212,プルダウンデータリスト!$AC$2:$AC$65,プルダウンデータリスト!$AD$2:$AD$65),_xlfn.XLOOKUP($C212,プルダウンデータリスト!$V$3:$V$9,プルダウンデータリスト!$W$3:$W$9,))))","v":"-"},null,"-","-",{"$f":"IF(C212=\"\",\"-\",_xlfn.XLOOKUP(C212,プルダウンデータリスト!$V$2:$V$9,プルダウンデータリスト!$X$2:$X$9,\"-\"))","v":"-"},"-"]
[null,null,null,null,null,{"$f":"IF($C213=\"\",\"-\",IF($D213=\"\",\"-\",IF($C213=\"製材（製材・集成材・ＣＬＴ等）\",_xlfn.XLOOKUP('２－４'!$D213,プルダウンデータリスト!$AC$2:$AC$65,プルダウンデータリスト!$AD$2:$AD$65),_xlfn.XLOOKUP($C213,プルダウンデータリスト!$V$3:$V$9,プルダウンデータリスト!$W$3:$W$9,))))","v":"-"},null,"-","-",{"$f":"IF(C213=\"\",\"-\",_xlfn.XLOOKUP(C213,プルダウンデータリスト!$V$2:$V$9,プルダウンデータリスト!$X$2:$X$9,\"-\"))","v":"-"},"-"]
[null,null,null,null,null,{"$f":"IF($C214=\"\",\"-\",IF($D214=\"\",\"-\",IF($C214=\"製材（製材・集成材・ＣＬＴ等）\",_xlfn.XLOOKUP('２－４'!$D214,プルダウンデータリスト!$AC$2:$AC$65,プルダウンデータリスト!$AD$2:$AD$65),_xlfn.XLOOKUP($C214,プルダウンデータリスト!$V$3:$V$9,プルダウンデータリスト!$W$3:$W$9,))))","v":"-"},null,"-","-",{"$f":"IF(C214=\"\",\"-\",_xlfn.XLOOKUP(C214,プルダウンデータリスト!$V$2:$V$9,プルダウンデータリスト!$X$2:$X$9,\"-\"))","v":"-"},"-"]
[null,null,null,null,null,{"$f":"IF($C215=\"\",\"-\",IF($D215=\"\",\"-\",IF($C215=\"製材（製材・集成材・ＣＬＴ等）\",_xlfn.XLOOKUP('２－４'!$D215,プルダウンデータリスト!$AC$2:$AC$65,プルダウンデータリスト!$AD$2:$AD$65),_xlfn.XLOOKUP($C215,プルダウンデータリスト!$V$3:$V$9,プルダウンデータリスト!$W$3:$W$9,))))","v":"-"},null,"-","-",{"$f":"IF(C215=\"\",\"-\",_xlfn.XLOOKUP(C215,プルダウンデータリスト!$V$2:$V$9,プルダウンデータリスト!$X$2:$X$9,\"-\"))","v":"-"},"-"]
[null,null,null,null,null,{"$f":"IF($C216=\"\",\"-\",IF($D216=\"\",\"-\",IF($C216=\"製材（製材・集成材・ＣＬＴ等）\",_xlfn.XLOOKUP('２－４'!$D216,プルダウンデータリスト!$AC$2:$AC$65,プルダウンデータリスト!$AD$2:$AD$65),_xlfn.XLOOKUP($C216,プルダウンデータリスト!$V$3:$V$9,プルダウンデータリスト!$W$3:$W$9,))))","v":"-"},null,"-","-",{"$f":"IF(C216=\"\",\"-\",_xlfn.XLOOKUP(C216,プルダウンデータリスト!$V$2:$V$9,プルダウンデータリスト!$X$2:$X$9,\"-\"))","v":"-"},"-"]
[null,null,null,null,null,{"$f":"IF($C217=\"\",\"-\",IF($D217=\"\",\"-\",IF($C217=\"製材（製材・集成材・ＣＬＴ等）\",_xlfn.XLOOKUP('２－４'!$D217,プルダウンデータリスト!$AC$2:$AC$65,プルダウンデータリスト!$AD$2:$AD$65),_xlfn.XLOOKUP($C217,プルダウンデータリスト!$V$3:$V$9,プルダウンデータリスト!$W$3:$W$9,))))","v":"-"},null,"-","-",{"$f":"IF(C217=\"\",\"-\",_xlfn.XLOOKUP(C217,プルダウンデータリスト!$V$2:$V$9,プルダウンデータリスト!$X$2:$X$9,\"-\"))","v":"-"},"-"]
[null,null,null,null,null,{"$f":"IF($C218=\"\",\"-\",IF($D218=\"\",\"-\",IF($C218=\"製材（製材・集成材・ＣＬＴ等）\",_xlfn.XLOOKUP('２－４'!$D218,プルダウンデータリスト!$AC$2:$AC$65,プルダウンデータリスト!$AD$2:$AD$65),_xlfn.XLOOKUP($C218,プルダウンデータリスト!$V$3:$V$9,プルダウンデータリスト!$W$3:$W$9,))))","v":"-"},null,"-","-",{"$f":"IF(C218=\"\",\"-\",_xlfn.XLOOKUP(C218,プルダウンデータリスト!$V$2:$V$9,プルダウンデータリスト!$X$2:$X$9,\"-\"))","v":"-"},"-"]
[null,null,null,null,null,{"$f":"IF($C219=\"\",\"-\",IF($D219=\"\",\"-\",IF($C219=\"製材（製材・集成材・ＣＬＴ等）\",_xlfn.XLOOKUP('２－４'!$D219,プルダウンデータリスト!$AC$2:$AC$65,プルダウンデータリスト!$AD$2:$AD$65),_xlfn.XLOOKUP($C219,プルダウンデータリスト!$V$3:$V$9,プルダウンデータリスト!$W$3:$W$9,))))","v":"-"},null,"-","-",{"$f":"IF(C219=\"\",\"-\",_xlfn.XLOOKUP(C219,プルダウンデータリスト!$V$2:$V$9,プルダウンデータリスト!$X$2:$X$9,\"-\"))","v":"-"},"-"]
[null,null,null,null,null,{"$f":"IF($C220=\"\",\"-\",IF($D220=\"\",\"-\",IF($C220=\"製材（製材・集成材・ＣＬＴ等）\",_xlfn.XLOOKUP('２－４'!$D220,プルダウンデータリスト!$AC$2:$AC$65,プルダウンデータリスト!$AD$2:$AD$65),_xlfn.XLOOKUP($C220,プルダウンデータリスト!$V$3:$V$9,プルダウンデータリスト!$W$3:$W$9,))))","v":"-"},null,"-","-",{"$f":"IF(C220=\"\",\"-\",_xlfn.XLOOKUP(C220,プルダウンデータリスト!$V$2:$V$9,プルダウンデータリスト!$X$2:$X$9,\"-\"))","v":"-"},"-"]
[null,null,null,null,null,{"$f":"IF($C221=\"\",\"-\",IF($D221=\"\",\"-\",IF($C221=\"製材（製材・集成材・ＣＬＴ等）\",_xlfn.XLOOKUP('２－４'!$D221,プルダウンデータリスト!$AC$2:$AC$65,プルダウンデータリスト!$AD$2:$AD$65),_xlfn.XLOOKUP($C221,プルダウンデータリスト!$V$3:$V$9,プルダウンデータリスト!$W$3:$W$9,))))","v":"-"},null,"-","-",{"$f":"IF(C221=\"\",\"-\",_xlfn.XLOOKUP(C221,プルダウンデータリスト!$V$2:$V$9,プルダウンデータリスト!$X$2:$X$9,\"-\"))","v":"-"},"-"]
[null,null,null,null,null,{"$f":"IF($C222=\"\",\"-\",IF($D222=\"\",\"-\",IF($C222=\"製材（製材・集成材・ＣＬＴ等）\",_xlfn.XLOOKUP('２－４'!$D222,プルダウンデータリスト!$AC$2:$AC$65,プルダウンデータリスト!$AD$2:$AD$65),_xlfn.XLOOKUP($C222,プルダウンデータリスト!$V$3:$V$9,プルダウンデータリスト!$W$3:$W$9,))))","v":"-"},null,"-","-",{"$f":"IF(C222=\"\",\"-\",_xlfn.XLOOKUP(C222,プルダウンデータリスト!$V$2:$V$9,プルダウンデータリスト!$X$2:$X$9,\"-\"))","v":"-"},"-"]
[null,null,null,null,null,{"$f":"IF($C223=\"\",\"-\",IF($D223=\"\",\"-\",IF($C223=\"製材（製材・集成材・ＣＬＴ等）\",_xlfn.XLOOKUP('２－４'!$D223,プルダウンデータリスト!$AC$2:$AC$65,プルダウンデータリスト!$AD$2:$AD$65),_xlfn.XLOOKUP($C223,プルダウンデータリスト!$V$3:$V$9,プルダウンデータリスト!$W$3:$W$9,))))","v":"-"},null,"-","-",{"$f":"IF(C223=\"\",\"-\",_xlfn.XLOOKUP(C223,プルダウンデータリスト!$V$2:$V$9,プルダウンデータリスト!$X$2:$X$9,\"-\"))","v":"-"},"-"]
[null,null,null,null,null,{"$f":"IF($C224=\"\",\"-\",IF($D224=\"\",\"-\",IF($C224=\"製材（製材・集成材・ＣＬＴ等）\",_xlfn.XLOOKUP('２－４'!$D224,プルダウンデータリスト!$AC$2:$AC$65,プルダウンデータリスト!$AD$2:$AD$65),_xlfn.XLOOKUP($C224,プルダウンデータリスト!$V$3:$V$9,プルダウンデータリスト!$W$3:$W$9,))))","v":"-"},null,"-","-",{"$f":"IF(C224=\"\",\"-\",_xlfn.XLOOKUP(C224,プルダウンデータリスト!$V$2:$V$9,プルダウンデータリスト!$X$2:$X$9,\"-\"))","v":"-"},"-"]
[null,null,null,null,null,{"$f":"IF($C225=\"\",\"-\",IF($D225=\"\",\"-\",IF($C225=\"製材（製材・集成材・ＣＬＴ等）\",_xlfn.XLOOKUP('２－４'!$D225,プルダウンデータリスト!$AC$2:$AC$65,プルダウンデータリスト!$AD$2:$AD$65),_xlfn.XLOOKUP($C225,プルダウンデータリスト!$V$3:$V$9,プルダウンデータリスト!$W$3:$W$9,))))","v":"-"},null,"-","-",{"$f":"IF(C225=\"\",\"-\",_xlfn.XLOOKUP(C225,プルダウンデータリスト!$V$2:$V$9,プルダウンデータリスト!$X$2:$X$9,\"-\"))","v":"-"},"-"]
[null,null,null,null,null,{"$f":"IF($C226=\"\",\"-\",IF($D226=\"\",\"-\",IF($C226=\"製材（製材・集成材・ＣＬＴ等）\",_xlfn.XLOOKUP('２－４'!$D226,プルダウンデータリスト!$AC$2:$AC$65,プルダウンデータリスト!$AD$2:$AD$65),_xlfn.XLOOKUP($C226,プルダウンデータリスト!$V$3:$V$9,プルダウンデータリスト!$W$3:$W$9,))))","v":"-"},null,"-","-",{"$f":"IF(C226=\"\",\"-\",_xlfn.XLOOKUP(C226,プルダウンデータリスト!$V$2:$V$9,プルダウンデータリスト!$X$2:$X$9,\"-\"))","v":"-"},"-"]
[null,null,null,null,null,{"$f":"IF($C227=\"\",\"-\",IF($D227=\"\",\"-\",IF($C227=\"製材（製材・集成材・ＣＬＴ等）\",_xlfn.XLOOKUP('２－４'!$D227,プルダウンデータリスト!$AC$2:$AC$65,プルダウンデータリスト!$AD$2:$AD$65),_xlfn.XLOOKUP($C227,プルダウンデータリスト!$V$3:$V$9,プルダウンデータリスト!$W$3:$W$9,))))","v":"-"},null,"-","-",{"$f":"IF(C227=\"\",\"-\",_xlfn.XLOOKUP(C227,プルダウンデータリスト!$V$2:$V$9,プルダウンデータリスト!$X$2:$X$9,\"-\"))","v":"-"},"-"]
[null,null,null,null,null,{"$f":"IF($C228=\"\",\"-\",IF($D228=\"\",\"-\",IF($C228=\"製材（製材・集成材・ＣＬＴ等）\",_xlfn.XLOOKUP('２－４'!$D228,プルダウンデータリスト!$AC$2:$AC$65,プルダウンデータリスト!$AD$2:$AD$65),_xlfn.XLOOKUP($C228,プルダウンデータリスト!$V$3:$V$9,プルダウンデータリスト!$W$3:$W$9,))))","v":"-"},null,"-","-",{"$f":"IF(C228=\"\",\"-\",_xlfn.XLOOKUP(C228,プルダウンデータリスト!$V$2:$V$9,プルダウンデータリスト!$X$2:$X$9,\"-\"))","v":"-"},"-"]
[null,null,null,null,null,{"$f":"IF($C229=\"\",\"-\",IF($D229=\"\",\"-\",IF($C229=\"製材（製材・集成材・ＣＬＴ等）\",_xlfn.XLOOKUP('２－４'!$D229,プルダウンデータリスト!$AC$2:$AC$65,プルダウンデータリスト!$AD$2:$AD$65),_xlfn.XLOOKUP($C229,プルダウンデータリスト!$V$3:$V$9,プルダウンデータリスト!$W$3:$W$9,))))","v":"-"},null,"-","-",{"$f":"IF(C229=\"\",\"-\",_xlfn.XLOOKUP(C229,プルダウンデータリスト!$V$2:$V$9,プルダウンデータリスト!$X$2:$X$9,\"-\"))","v":"-"},"-"]
[null,null,null,null,null,{"$f":"IF($C230=\"\",\"-\",IF($D230=\"\",\"-\",IF($C230=\"製材（製材・集成材・ＣＬＴ等）\",_xlfn.XLOOKUP('２－４'!$D230,プルダウンデータリスト!$AC$2:$AC$65,プルダウンデータリスト!$AD$2:$AD$65),_xlfn.XLOOKUP($C230,プルダウンデータリスト!$V$3:$V$9,プルダウンデータリスト!$W$3:$W$9,))))","v":"-"},null,"-","-",{"$f":"IF(C230=\"\",\"-\",_xlfn.XLOOKUP(C230,プルダウンデータリスト!$V$2:$V$9,プルダウンデータリスト!$X$2:$X$9,\"-\"))","v":"-"},"-"]
[null,null,null,null,null,{"$f":"IF($C231=\"\",\"-\",IF($D231=\"\",\"-\",IF($C231=\"製材（製材・集成材・ＣＬＴ等）\",_xlfn.XLOOKUP('２－４'!$D231,プルダウンデータリスト!$AC$2:$AC$65,プルダウンデータリスト!$AD$2:$AD$65),_xlfn.XLOOKUP($C231,プルダウンデータリスト!$V$3:$V$9,プルダウンデータリスト!$W$3:$W$9,))))","v":"-"},null,"-","-",{"$f":"IF(C231=\"\",\"-\",_xlfn.XLOOKUP(C231,プルダウンデータリスト!$V$2:$V$9,プルダウンデータリスト!$X$2:$X$9,\"-\"))","v":"-"},"-"]
[null,null,null,null,null,{"$f":"IF($C232=\"\",\"-\",IF($D232=\"\",\"-\",IF($C232=\"製材（製材・集成材・ＣＬＴ等）\",_xlfn.XLOOKUP('２－４'!$D232,プルダウンデータリスト!$AC$2:$AC$65,プルダウンデータリスト!$AD$2:$AD$65),_xlfn.XLOOKUP($C232,プルダウンデータリスト!$V$3:$V$9,プルダウンデータリスト!$W$3:$W$9,))))","v":"-"},null,{"$f":"IF(E232=\"\",\"-\",E232)","v":"-"},{"$f":"IF(G232=\"\",\"-\",G232)","v":"-"},{"$f":"IF(C232=\"\",\"-\",_xlfn.XLOOKUP(C232,プルダウンデータリスト!$V$2:$V$9,プルダウンデータリスト!$X$2:$X$9,\"-\"))","v":"-"},{"$f":"IFERROR(IF(LEN(E232)>0,E232*F232*J232,IF(LEN(G232)>0,G232*J232/1000,\"-\")),\"-\")","v":"-"}]
[null,null,null,null,null,{"$f":"IF($C233=\"\",\"-\",IF($D233=\"\",\"-\",IF($C233=\"製材（製材・集成材・ＣＬＴ等）\",_xlfn.XLOOKUP('２－４'!$D233,プルダウンデータリスト!$AC$2:$AC$65,プルダウンデータリスト!$AD$2:$AD$65),_xlfn.XLOOKUP($C233,プルダウンデータリスト!$V$3:$V$9,プルダウンデータリスト!$W$3:$W$9,))))","v":"-"},null,"-","-",{"$f":"IF(C233=\"\",\"-\",_xlfn.XLOOKUP(C233,プルダウンデータリスト!$V$2:$V$9,プルダウンデータリスト!$X$2:$X$9,\"-\"))","v":"-"},"-"]
[null,null,null,null,null,{"$f":"IF($C234=\"\",\"-\",IF($D234=\"\",\"-\",IF($C234=\"製材（製材・集成材・ＣＬＴ等）\",_xlfn.XLOOKUP('２－４'!$D234,プルダウンデータリスト!$AC$2:$AC$65,プルダウンデータリスト!$AD$2:$AD$65),_xlfn.XLOOKUP($C234,プルダウンデータリスト!$V$3:$V$9,プルダウンデータリスト!$W$3:$W$9,))))","v":"-"},null,"-","-",{"$f":"IF(C234=\"\",\"-\",_xlfn.XLOOKUP(C234,プルダウンデータリスト!$V$2:$V$9,プルダウンデータリスト!$X$2:$X$9,\"-\"))","v":"-"},"-"]
[null,null,null,null,null,{"$f":"IF($C235=\"\",\"-\",IF($D235=\"\",\"-\",IF($C235=\"製材（製材・集成材・ＣＬＴ等）\",_xlfn.XLOOKUP('２－４'!$D235,プルダウンデータリスト!$AC$2:$AC$65,プルダウンデータリスト!$AD$2:$AD$65),_xlfn.XLOOKUP($C235,プルダウンデータリスト!$V$3:$V$9,プルダウンデータリスト!$W$3:$W$9,))))","v":"-"},null,"-","-",{"$f":"IF(C235=\"\",\"-\",_xlfn.XLOOKUP(C235,プルダウンデータリスト!$V$2:$V$9,プルダウンデータリスト!$X$2:$X$9,\"-\"))","v":"-"},"-"]
[null,null,null,null,null,{"$f":"IF($C236=\"\",\"-\",IF($D236=\"\",\"-\",IF($C236=\"製材（製材・集成材・ＣＬＴ等）\",_xlfn.XLOOKUP('２－４'!$D236,プルダウンデータリスト!$AC$2:$AC$65,プルダウンデータリスト!$AD$2:$AD$65),_xlfn.XLOOKUP($C236,プルダウンデータリスト!$V$3:$V$9,プルダウンデータリスト!$W$3:$W$9,))))","v":"-"},null,"-","-",{"$f":"IF(C236=\"\",\"-\",_xlfn.XLOOKUP(C236,プルダウンデータリスト!$V$2:$V$9,プルダウンデータリスト!$X$2:$X$9,\"-\"))","v":"-"},"-"]
[null,null,null,null,null,{"$f":"IF($C237=\"\",\"-\",IF($D237=\"\",\"-\",IF($C237=\"製材（製材・集成材・ＣＬＴ等）\",_xlfn.XLOOKUP('２－４'!$D237,プルダウンデータリスト!$AC$2:$AC$65,プルダウンデータリスト!$AD$2:$AD$65),_xlfn.XLOOKUP($C237,プルダウンデータリスト!$V$3:$V$9,プルダウンデータリスト!$W$3:$W$9,))))","v":"-"},null,"-","-",{"$f":"IF(C237=\"\",\"-\",_xlfn.XLOOKUP(C237,プルダウンデータリスト!$V$2:$V$9,プルダウンデータリスト!$X$2:$X$9,\"-\"))","v":"-"},"-"]
[null,null,null,null,null,{"$f":"IF($C238=\"\",\"-\",IF($D238=\"\",\"-\",IF($C238=\"製材（製材・集成材・ＣＬＴ等）\",_xlfn.XLOOKUP('２－４'!$D238,プルダウンデータリスト!$AC$2:$AC$65,プルダウンデータリスト!$AD$2:$AD$65),_xlfn.XLOOKUP($C238,プルダウンデータリスト!$V$3:$V$9,プルダウンデータリスト!$W$3:$W$9,))))","v":"-"},null,"-","-",{"$f":"IF(C238=\"\",\"-\",_xlfn.XLOOKUP(C238,プルダウンデータリスト!$V$2:$V$9,プルダウンデータリスト!$X$2:$X$9,\"-\"))","v":"-"},"-"]

{"sheet":"係数表1-1","index":8,"n_rows":54,"n_cols":8,"rows_kept":54,"cut":false,"hidden":false,"merged":[[2,0,3,1],[2,2,2,3],[4,0,22,0],[23,0,43,0]]}
["係数表1-1　変化した炭素蓄積の量（森林）の算出に使用する係数（樹種及び林齢の区分ごとの係数）"]
[]
[null,null,"BEF[-]",null,"R","D","CF","備考"]
[null,null,"≦20",">20","[-]","[t-d.m./㎥]","[t-C./t-d.m]"]
["立木地\n（針葉樹）","スギ",1.57,1.23,0.25,0.31,0.51]
[null,"ヒノキ",1.55,1.24,0.26,0.41,0.51]
[null,"サワラ",1.55,1.24,0.26,0.28999999999999998,0.51]
[null,"アカマツ",1.63,1.23,0.26,0.45,0.51]
[null,"クロマツ",1.39,1.36,0.34,0.46,0.51]
[null,"ヒバ",2.38,1.41,0.2,0.41,0.51]
[null,"カラマツ",1.5,1.1499999999999999,0.28999999999999998,0.4,0.51]
[null,"モミ",1.4,1.4,0.4,0.42,0.51]
[null,"トドマツ",1.88,1.48,0.21,0.32,0.51]
[null,"ツガ",1.4,1.4,0.4,0.46,0.51]
[null,"エゾマツ",2.1800000000000002,1.48,0.23,0.36,0.51]
[null,"アカエゾマツ",2.17,1.67,0.21,0.36,0.51]
[null,"マキ",1.39,1.23,0.2,0.46,0.51]
[null,"イチイ",1.39,1.23,0.2,0.45,0.51]
[null,"イチョウ",1.5,1.1499999999999999,0.2,0.45,0.51]
[null,"外来針葉樹",1.41,1.41,0.17,0.32,0.51]
[null,"その他針葉樹１",2.5499999999999998,1.32,0.34,0.35,0.51,"北海道、青森、岩手、宮城、秋田、山形、福島、栃木、群馬、埼玉、新潟、富山、山梨、長野、岐阜、静岡に適用"]
[null,"その他針葉樹２",1.39,1.36,0.34,0.46,0.51,"沖縄に適用"]
[null,"その他針葉樹３",1.4,1.4,0.4,0.42,0.51,"上記以外に適用"]
["立木地\n（広葉樹）","ブナ",1.58,1.32,0.26,0.56999999999999995,0.48]
[null,"カシ",1.52,1.33,0.26,0.65,0.48]
[null,"クリ",1.33,1.18,0.26,0.42,0.48]
[null,"クヌギ",1.36,1.32,0.26,0.67,0.48]
[null,"ナラ",1.4,1.26,0.26,0.62,0.48]
[null,"ドロノキ",1.33,1.18,0.26,0.28999999999999998,0.48]
[null,"ハンノキ",1.33,1.25,0.26,0.45,0.48]
[null,"ニレ",1.33,1.18,0.26,0.49,0.48]
[null,"ケヤキ",1.58,1.18,0.26,0.61,0.48]
[null,"カツラ",1.33,1.18,0.26,0.45,0.48]
[null,"ホオノキ",1.33,1.18,0.26,0.39,0.48]
[null,"カエデ",1.33,1.18,0.26,0.52,0.48]
[null,"キハダ",1.33,1.18,0.26,0.34,0.48]
[null,"シナノキ",1.33,1.18,0.26,0.37,0.48]
[null,"センノキ",1.33,1.18,0.26,0.4,0.48]
[null,"キリ",1.33,1.18,0.26,0.23,0.48]
[null,"外来広葉樹",1.41,1.41,0.16,0.66,0.48]
[null,"カンバ",1.31,1.2,0.26,0.47,0.48]
[null,"その他広葉樹１",1.37,1.37,0.26,0.47,0.48,"千葉、東京、高知、福岡、長﨑、鹿児島、沖縄に適用"]
[null,"その他広葉樹２",1.52,1.33,0.26,0.65,0.48,"三重、和歌山、大分、熊本、宮崎、佐賀に適用"]
[null,"その他広葉樹３",1.4,1.26,0.26,0.62,0.48,"上記以外に適用"]
["無立木地","民有林",1.27,1.27,0.26,0.48,0.5]
[]
["（備考）"]
["BEF：バイオマス拡大係数（幹バイオマス量に対する地上部バイオマス（幹・枝・葉）量の比率、「20」は林齢）"]
["R：地上部バイオマス量に対する、地下部バイオマス量の比率"]
["D：容積密度"]
["CF：炭素含有率"]
[]
["樹種及び林齢の区分ごとの変化した炭素蓄積の量(森林、t-C)の算定式："]
["　当該樹種及び林齢の区分における変化した森林の蓄積の量(㎥)×BEF×(1+R)×D×CF"]

{"sheet":"係数表1-2","index":9,"n_rows":36,"n_cols":5,"rows_kept":36,"cut":false,"hidden":false,"merged":[[23,0,25,0],[23,1,25,1],[23,2,24,4],[6,0,8,0],[6,1,8,1],[6,2,7,4]]}
["係数表1-2　森林以外の土地の森林への用途の変更又は森林の森林以外の土地への用途の変更に伴い"]
["　　　変化した炭素蓄積の量（土地）の算定に使用する係数"]
[]
[]
["係数表1-2-1　森林以外の土地から森林への用途の変更に係る１ha当たりの土地の20年間の炭素蓄積"]
["の変化量に係る係数(t-C/ha)"]
["用途の変更内容","用途変更後20年間での１ha当たりの変化した炭素蓄積の量","参考（内訳）"]
[]
[null,null,"枯死木","リター","土壌"]
["田から森林",{"$f":"SUM(C10:E10)","v":15.385000000000002},{"$f":"6.5*20/40","v":3.25},{"$f":"6.67*20/40","v":3.335},{"$f":"0.44*20","v":8.8000000000000007}]
["普通畑、樹園地から森林",15.385000000000002,{"$f":"6.5*20/40","v":3.25},{"$f":"6.67*20/40","v":3.335},{"$f":"0.44*20","v":8.8000000000000007}]
["草地（牧草地）から森林",15.385000000000002,3.25,3.335,8.8000000000000007]
["開発地から森林",36.585000000000001,3.25,3.335,{"$f":"1.5*20","v":30}]
["その他の土地から森林",36.585000000000001,3.25,3.335,{"$f":"1.5*20","v":30}]
["（備考）"]
["日本国温室効果ガスインベントリ報告書をもとに、用途変更後20年間での１ha当たりの変化した"]
["炭素蓄積の量を設定したもの"]
["１年当たりの変化した炭素蓄積の量(土地、t-C)の算定式："]
["　当該土地の面積(ha)×１ha当たりの変化した炭素蓄積の量÷20(年)"]
[]
[]
["係数表1-2-2　森林から森林以外の土地への用途の変更に係る１ha当たりの土地の20年間の炭素蓄積"]
["の変化量に係る係数(t-C/ha)"]
["用途の変更内容","用途変更後20年間での１ha当たりの変化した炭素蓄積の量","参考（内訳）"]
[]
[null,null,"枯死木","リター","土壌"]
["森林から田",14.2,-7.5,-4.9000000000000004,{"$f":"1.33*20","v":26.6}]
["森林から普通畑、樹園地",-30,-7.5,-4.9000000000000004,{"$f":"(-0.44)*40","v":-17.600000000000001}]
["森林から草地（牧草地）",-23.2,-7.5,-4.9000000000000004,{"$f":"(-0.54)*20","v":-10.8}]
["森林から開発地",-60.3,-7.5,-4.9000000000000004,{"$f":"28.1-76","v":-47.9}]
["森林からその他の土地",-68.3,-7.5,-4.9000000000000004,{"$f":"20.1-76","v":-55.9}]
["（備考）"]
["日本国温室効果ガスインベントリ報告書をもとに、用途変更後20年間での１ha当たりの変化した"]
["炭素蓄積の量を設定したもの"]
["１年当たりの変化した炭素蓄積の量(土地、t-C)の算定式："]
["　当該土地の面積(ha)×１ha当たりの変化した炭素蓄積の量÷20(年)"]

{"sheet":"プルダウンデータリスト","index":10,"n_rows":5211,"n_cols":42,"rows_kept":2250,"cut":true,"hidden":true,"merged":[],"bounds":{"rows_first":1000,"rows_last":250,"rows_between":1000,"halvings":1}}
["樹種","BEF[-]_<=20 ","BEF[-]_>20 ","R","D","CF",null,null,null,null,null,"用途の変更内容","用途変更後20年間での１ha当たりの変化した炭素蓄積の量","炭素蓄積内訳（枯死木）","炭素蓄積内訳（リター）","炭素蓄積内訳（土壌）",null,"建築物その他の工作物/家具その他の物品の別",null,null,null,"部材、製品名等の区分","木材の密度[t/㎥]","炭素含有率",null,"構造材/非構造材の別",null,"針広","樹種","木材の密度[t/㎥]",null,"品目","国産材率",null,"当該建築物等の建築年度","住宅/非住宅","構造区分","区弁別の係数(t-C)",null,"住宅/非住宅の別",null,"構造区分"]
["スギ",1.57,1.23,0.25,0.31,0.51,null,"20年生以下",null,"森林簿",null,"田から森林",{"$f":"SUM(N2:P2)","v":15.385000000000002},{"$f":"6.5*20/40","v":3.25},{"$f":"6.67*20/40","v":3.335},{"$f":"0.44*20","v":8.8000000000000007},null,"建築物その他の工作物（構造材）",null,"建築物その他の工作物",null,"製材（製材・集成材・ＣＬＴ等）","表３－２参照",0.5,null,"構造材",null,"針","スギ",0.33,null,"木質ボード（パーティクルボード）",{"$f":"#REF!","v":{"$error":"#REF!"}},null,"～1980","住宅","木造",{"$f":"INDEX(#REF!, 9 + QUOTIENT(ROW(AL2)-2, 10), 1 + MOD(ROW(AL2)-2, 10))","v":{"$error":"#REF!"}},null,"住宅",null,"木造"]
["ヒノキ",1.55,1.24,0.26,0.41,0.51,null,"21年生以上",null,"実測",null,"普通畑、樹園地から森林",15.385000000000002,{"$f":"6.5*20/40","v":3.25},{"$f":"6.67*20/40","v":3.335},{"$f":"0.44*20","v":8.8000000000000007},null,"建築物その他の工作物（非構造材）",null,"家具その他の物品",null,"合板（合板・ＬＶＬ等）",0.54200000000000004,0.49299999999999999,null,"非構造材",null,"針","ヒノキ",0.38,null,"木質ボード（硬質繊維板）",{"$f":"#REF!","v":{"$error":"#REF!"}},null,"～1980","住宅","SRC造",{"$f":"INDEX(#REF!, 9 + QUOTIENT(ROW(AL3)-2, 10), 1 + MOD(ROW(AL3)-2, 10))","v":{"$error":"#REF!"}},null,"非住宅",null,"SRC造"]
["サワラ",1.55,1.24,0.26,0.28999999999999998,0.51,null,null,null,null,null,"草地（牧草地）から森林",15.385000000000002,3.25,3.335,8.8000000000000007,null,"家具その他の物品",null,null,null,"木質ボード（パーティクルボード）",0.59599999999999997,0.45100000000000001,null,"-",null,"針","アカマツ、メマツ",0.45,null,"木質ボード（中質繊維板）",{"$f":"#REF!","v":{"$error":"#REF!"}},null,"～1980","住宅","RC造",{"$f":"INDEX(#REF!, 9 + QUOTIENT(ROW(AL4)-2, 10), 1 + MOD(ROW(AL4)-2, 10))","v":{"$error":"#REF!"}},null,null,null,"RC造"]
["アカマツ",1.63,1.23,0.26,0.45,0.51,null,null,null,null,null,"開発地から森林",36.585000000000001,3.25,3.335,{"$f":"1.5*20","v":30},null,null,null,null,null,"木質ボード（硬質繊維板）",0.78800000000000003,0.42499999999999999,null,null,null,"針","カラマツ",0.44,null,"木質ボード（軟質繊維板）",{"$f":"#REF!","v":{"$error":"#REF!"}},null,"～1980","住宅","S造",{"$f":"INDEX(#REF!, 9 + QUOTIENT(ROW(AL5)-2, 10), 1 + MOD(ROW(AL5)-2, 10))","v":{"$error":"#REF!"}},null,null,null,"S造"]
["クロマツ",1.39,1.36,0.34,0.46,0.51,null,null,null,null,null,"その他の土地から森林",36.585000000000001,3.25,3.335,{"$f":"1.5*20","v":30},null,null,null,null,null,"木質ボード（中質繊維板）",0.69099999999999995,0.42699999999999999,null,null,null,"針","トドマツ、アカトドマツ",0.35,null,"木質ボード（配向性ストランドボード）",{"$f":"#REF!","v":{"$error":"#REF!"}},null,"～1980","住宅","その他",{"$f":"INDEX(#REF!, 9 + QUOTIENT(ROW(AL6)-2, 10), 1 + MOD(ROW(AL6)-2, 10))","v":{"$error":"#REF!"}},null,null,null,"その他"]
["ヒバ",2.38,1.41,0.2,0.41,0.51,null,null,null,null,null,"森林から田",14.2,-7.5,-4.9000000000000004,{"$f":"1.33*20","v":26.6},null,null,null,null,null,"木質ボード（軟質繊維板）",0.159,0.47399999999999998,null,null,null,"針","エゾマツ",0.37,null,null,"-",null,"～1980","非住宅","木造",{"$f":"INDEX(#REF!, 9 + QUOTIENT(ROW(AL7)-2, 10), 1 + MOD(ROW(AL7)-2, 10))","v":{"$error":"#REF!"}},null,null,null,"木造"]
["カラマツ",1.5,1.1499999999999999,0.28999999999999998,0.4,0.51,null,null,null,null,null,"森林から普通畑、樹園地",-30,-7.5,-4.9000000000000004,{"$f":"(-0.44)*40","v":-17.600000000000001},null,null,null,null,null,null,null,null,null,null,null,"針","サワラ",0.3,null,null,null,null,"～1980","非住宅","SRC造",{"$f":"INDEX(#REF!, 9 + QUOTIENT(ROW(AL8)-2, 10), 1 + MOD(ROW(AL8)-2, 10))","v":{"$error":"#REF!"}},null,null,null,"SRC造"]
["モミ",1.4,1.4,0.4,0.42,0.51,null,null,null,null,null,"森林から草地（牧草地）",-23.2,-7.5,-4.9000000000000004,{"$f":"(-0.54)*20","v":-10.8},null,null,null,null,null,null,"-","-",null,null,null,"針","ネズコ、クロベ",0.31,null,null,null,null,"～1980","非住宅","RC造",{"$f":"INDEX(#REF!, 9 + QUOTIENT(ROW(AL9)-2, 10), 1 + MOD(ROW(AL9)-2, 10))","v":{"$error":"#REF!"}},null,null,null,"RC造"]
["トドマツ",1.88,1.48,0.21,0.32,0.51,null,null,null,null,null,"森林から開発地",-60.3,-7.5,-4.9000000000000004,{"$f":"28.1-76","v":-47.9},null,null,null,null,null,null,null,null,null,null,null,"針","アスナロ",0.39,null,null,null,null,"～1980","非住宅","S造",{"$f":"INDEX(#REF!, 9 + QUOTIENT(ROW(AL10)-2, 10), 1 + MOD(ROW(AL10)-2, 10))","v":{"$error":"#REF!"}},null,null,null,"S造"]
["ツガ",1.4,1.4,0.4,0.46,0.51,null,null,null,null,null,"森林からその他の土地",-68.3,-7.5,-4.9000000000000004,{"$f":"20.1-76","v":-55.9},null,null,null,null,null,null,null,null,null,null,null,"針","イチョウ",0.41,null,"表４，５と連動",null,null,"～1980","非住宅","その他",{"$f":"INDEX(#REF!, 9 + QUOTIENT(ROW(AL11)-2, 10), 1 + MOD(ROW(AL11)-2, 10))","v":{"$error":"#REF!"}},null,null,null,"その他"]
["エゾマツ",2.1800000000000002,1.48,0.23,0.36,0.51,null,null,null,null,null,null,null,null,null,null,null,null,null,null,null,null,null,null,null,null,null,"針","モミ",0.38,null,null,null,null,1981,"住宅","木造",{"$f":"INDEX(#REF!, 9 + QUOTIENT(ROW(AL12)-2, 10), 1 + MOD(ROW(AL12)-2, 10))","v":{"$error":"#REF!"}}]
["アカエゾマツ",2.17,1.67,0.21,0.36,0.51,null,null,null,null,null,null,null,null,null,null,null,null,null,null,null,null,null,null,null,null,null,"針","ヒメコマツ",0.39,null,null,null,null,1981,"住宅","SRC造",{"$f":"INDEX(#REF!, 9 + QUOTIENT(ROW(AL13)-2, 10), 1 + MOD(ROW(AL13)-2, 10))","v":{"$error":"#REF!"}}]
["マキ",1.39,1.23,0.2,0.46,0.51,null,null,null,null,null,null,null,null,null,null,null,null,null,null,null,null,null,null,null,null,null,"針","クロマツ、オマツ",0.47,null,null,null,null,1981,"住宅","RC造",{"$f":"INDEX(#REF!, 9 + QUOTIENT(ROW(AL14)-2, 10), 1 + MOD(ROW(AL14)-2, 10))","v":{"$error":"#REF!"}}]
["イチイ",1.39,1.23,0.2,0.45,0.51,null,null,null,null,null,null,null,null,null,null,null,null,null,null,null,null,null,null,null,null,null,"針","トガサワラ",0.43,null,null,null,null,1981,"住宅","S造",{"$f":"INDEX(#REF!, 9 + QUOTIENT(ROW(AL15)-2, 10), 1 + MOD(ROW(AL15)-2, 10))","v":{"$error":"#REF!"}}]
["イチョウ",1.5,1.1499999999999999,0.2,0.45,0.51,null,null,null,null,null,"森林から田",null,null,null,null,null,null,null,null,null,null,null,null,null,null,null,"針","ツガ",0.44,null,null,null,null,1981,"住宅","その他",{"$f":"INDEX(#REF!, 9 + QUOTIENT(ROW(AL16)-2, 10), 1 + MOD(ROW(AL16)-2, 10))","v":{"$error":"#REF!"}}]
["外来針葉樹",1.41,1.41,0.17,0.32,0.51,null,null,null,null,null,"森林から普通畑、樹園地",null,null,null,null,null,null,null,null,null,null,null,null,null,null,null,"針","イヌマキ、ホンマキ、クサマキ",0.47,null,null,null,null,1981,"非住宅","木造",{"$f":"INDEX(#REF!, 9 + QUOTIENT(ROW(AL17)-2, 10), 1 + MOD(ROW(AL17)-2, 10))","v":{"$error":"#REF!"}}]
["その他針葉樹１",2.5499999999999998,1.32,0.34,0.35,0.51,null,null,null,null,null,"森林から草地（牧草地）",null,null,null,null,null,null,null,null,null,null,null,null,null,null,null,"針","コウヤマキ、ホンマキ",0.37,null,null,null,null,1981,"非住宅","SRC造",{"$f":"INDEX(#REF!, 9 + QUOTIENT(ROW(AL18)-2, 10), 1 + MOD(ROW(AL18)-2, 10))","v":{"$error":"#REF!"}}]
["その他針葉樹２",1.39,1.36,0.34,0.46,0.51,null,null,null,null,null,"森林から開発地",null,null,null,null,null,null,null,null,null,null,null,null,null,null,null,"針","イチイ、アララギ、オンコ",0.44,null,null,null,null,1981,"非住宅","RC造",{"$f":"INDEX(#REF!, 9 + QUOTIENT(ROW(AL19)-2, 10), 1 + MOD(ROW(AL19)-2, 10))","v":{"$error":"#REF!"}}]
["その他針葉樹３",1.4,1.4,0.4,0.42,0.51,null,null,null,null,null,"森林からその他の土地",null,null,null,null,null,null,null,null,null,null,null,null,null,null,null,"針","カヤ",0.46,null,null,null,null,1981,"非住宅","S造",{"$f":"INDEX(#REF!, 9 + QUOTIENT(ROW(AL20)-2, 10), 1 + MOD(ROW(AL20)-2, 10))","v":{"$error":"#REF!"}}]
["ブナ",1.58,1.32,0.26,0.56999999999999995,0.48,null,null,null,null,null,"田から森林",null,null,null,null,null,null,null,null,null,null,null,null,null,null,null,"広","イタヤカエデ",0.56999999999999995,null,null,null,null,1981,"非住宅","その他",{"$f":"INDEX(#REF!, 9 + QUOTIENT(ROW(AL21)-2, 10), 1 + MOD(ROW(AL21)-2, 10))","v":{"$error":"#REF!"}}]
["カシ",1.52,1.33,0.26,0.65,0.48,null,null,null,null,null,"普通畑、樹園地から森林",null,null,null,null,null,null,null,null,null,null,null,null,null,null,null,"広","セン、ハリギリ",0.45,null,null,null,null,1982,"住宅","木造",{"$f":"INDEX(#REF!, 9 + QUOTIENT(ROW(AL22)-2, 10), 1 + MOD(ROW(AL22)-2, 10))","v":{"$error":"#REF!"}}]
["クリ",1.33,1.18,0.26,0.42,0.48,null,null,null,null,null,"草地（牧草地）から森林",null,null,null,null,null,null,null,null,null,null,null,null,null,null,null,"広","マカンバ、ウダイカンバ",0.57999999999999996,null,null,null,null,1982,"住宅","SRC造",{"$f":"INDEX(#REF!, 9 + QUOTIENT(ROW(AL23)-2, 10), 1 + MOD(ROW(AL23)-2, 10))","v":{"$error":"#REF!"}}]
["クヌギ",1.36,1.32,0.26,0.67,0.48,null,null,null,null,null,"開発地から森林",null,null,null,null,null,null,null,null,null,null,null,null,null,null,null,"広","シラカンバ",0.5,null,null,null,null,1982,"住宅","RC造",{"$f":"INDEX(#REF!, 9 + QUOTIENT(ROW(AL24)-2, 10), 1 + MOD(ROW(AL24)-2, 10))","v":{"$error":"#REF!"}}]
["ナラ",1.4,1.26,0.26,0.62,0.48,null,null,null,null,null,"その他の土地から森林",null,null,null,null,null,null,null,null,null,null,null,null,null,null,null,"広","オノオレカンバ",0.78,null,null,null,null,1982,"住宅","S造",{"$f":"INDEX(#REF!, 9 + QUOTIENT(ROW(AL25)-2, 10), 1 + MOD(ROW(AL25)-2, 10))","v":{"$error":"#REF!"}}]
["ドロノキ",1.33,1.18,0.26,0.28999999999999998,0.48,null,null,null,null,null,null,null,null,null,null,null,null,null,null,null,null,null,null,null,null,null,"広","アサダ",0.64,null,null,null,null,1982,"住宅","その他",{"$f":"INDEX(#REF!, 9 + QUOTIENT(ROW(AL26)-2, 10), 1 + MOD(ROW(AL26)-2, 10))","v":{"$error":"#REF!"}}]
["ハンノキ",1.33,1.25,0.26,0.45,0.48,null,null,null,null,null,null,null,null,null,null,null,null,null,null,null,null,null,null,null,null,null,"広","キリ",0.26,null,null,null,null,1982,"非住宅","木造",{"$f":"INDEX(#REF!, 9 + QUOTIENT(ROW(AL27)-2, 10), 1 + MOD(ROW(AL27)-2, 10))","v":{"$error":"#REF!"}}]
["ニレ",1.33,1.18,0.26,0.49,0.48,null,null,null,null,null,null,null,null,null,null,null,null,null,null,null,null,null,null,null,null,null,"広","ツゲ",0.78,null,null,null,null,1982,"非住宅","SRC造",{"$f":"INDEX(#REF!, 9 + QUOTIENT(ROW(AL28)-2, 10), 1 + MOD(ROW(AL28)-2, 10))","v":{"$error":"#REF!"}}]
["ケヤキ",1.58,1.18,0.26,0.61,0.48,null,null,null,null,null,null,null,null,null,null,null,null,null,null,null,null,null,null,null,null,null,"広","カツラ",0.44,null,null,null,null,1982,"非住宅","RC造",{"$f":"INDEX(#REF!, 9 + QUOTIENT(ROW(AL29)-2, 10), 1 + MOD(ROW(AL29)-2, 10))","v":{"$error":"#REF!"}}]
["カツラ",1.33,1.18,0.26,0.45,0.48,null,null,null,null,null,null,null,null,null,null,null,null,null,null,null,null,null,null,null,null,null,"広","ミズキ",0.53,null,null,null,null,1982,"非住宅","S造",{"$f":"INDEX(#REF!, 9 + QUOTIENT(ROW(AL30)-2, 10), 1 + MOD(ROW(AL30)-2, 10))","v":{"$error":"#REF!"}}]
["ホオノキ",1.33,1.18,0.26,0.39,0.48,null,null,null,null,null,null,null,null,null,null,null,null,null,null,null,null,null,null,null,null,null,"広","カキ",0.6,null,null,null,null,1982,"非住宅","その他",{"$f":"INDEX(#REF!, 9 + QUOTIENT(ROW(AL31)-2, 10), 1 + MOD(ROW(AL31)-2, 10))","v":{"$error":"#REF!"}}]
["カエデ",1.33,1.18,0.26,0.52,0.48,null,null,null,null,null,null,null,null,null,null,null,null,null,null,null,null,null,null,null,null,null,"広","クリ",0.52,null,null,null,null,1983,"住宅","木造",{"$f":"INDEX(#REF!, 9 + QUOTIENT(ROW(AL32)-2, 10), 1 + MOD(ROW(AL32)-2, 10))","v":{"$error":"#REF!"}}]
["キハダ",1.33,1.18,0.26,0.34,0.48,null,null,null,null,null,null,null,null,null,null,null,null,null,null,null,null,null,null,null,null,null,"広","コジイ、ツブラジイ",0.47,null,null,null,null,1983,"住宅","SRC造",{"$f":"INDEX(#REF!, 9 + QUOTIENT(ROW(AL33)-2, 10), 1 + MOD(ROW(AL33)-2, 10))","v":{"$error":"#REF!"}}]
["シナノキ",1.33,1.18,0.26,0.37,0.48,null,null,null,null,null,null,null,null,null,null,null,null,null,null,null,null,null,null,null,null,null,"広","スダジイ、イタジイ",0.53,null,null,null,null,1983,"住宅","RC造",{"$f":"INDEX(#REF!, 9 + QUOTIENT(ROW(AL34)-2, 10), 1 + MOD(ROW(AL34)-2, 10))","v":{"$error":"#REF!"}}]
["センノキ",1.33,1.18,0.26,0.4,0.48,null,null,null,null,null,null,null,null,null,null,null,null,null,null,null,null,null,null,null,null,null,"広","ブナ",0.56999999999999995,null,null,null,null,1983,"住宅","S造",{"$f":"INDEX(#REF!, 9 + QUOTIENT(ROW(AL35)-2, 10), 1 + MOD(ROW(AL35)-2, 10))","v":{"$error":"#REF!"}}]
["キリ",1.33,1.18,0.26,0.23,0.48,null,null,null,null,null,null,null,null,null,null,null,null,null,null,null,null,null,null,null,null,null,"広","イヌブナ",0.6,null,null,null,null,1983,"住宅","その他",{"$f":"INDEX(#REF!, 9 + QUOTIENT(ROW(AL36)-2, 10), 1 + MOD(ROW(AL36)-2, 10))","v":{"$error":"#REF!"}}]
["外来広葉樹",1.41,1.41,0.16,0.66,0.48,null,null,null,null,null,null,null,null,null,null,null,null,null,null,null,null,null,null,null,null,null,"広","アカガシ",0.76,null,null,null,null,1983,"非住宅","木造",{"$f":"INDEX(#REF!, 9 + QUOTIENT(ROW(AL37)-2, 10), 1 + MOD(ROW(AL37)-2, 10))","v":{"$error":"#REF!"}}]
["カンバ",1.31,1.2,0.26,0.47,0.48,null,null,null,null,null,null,null,null,null,null,null,null,null,null,null,null,null,null,null,null,null,"広","イチイガシ",0.7,null,null,null,null,1983,"非住宅","SRC造",{"$f":"INDEX(#REF!, 9 + QUOTIENT(ROW(AL38)-2, 10), 1 + MOD(ROW(AL38)-2, 10))","v":{"$error":"#REF!"}}]
["その他広葉樹１",1.37,1.37,0.26,0.47,0.48,null,null,null,null,null,null,null,null,null,null,null,null,null,null,null,null,null,null,null,null,null,"広","アラカシ",0.84,null,null,null,null,1983,"非住宅","RC造",{"$f":"INDEX(#REF!, 9 + QUOTIENT(ROW(AL39)-2, 10), 1 + MOD(ROW(AL39)-2, 10))","v":{"$error":"#REF!"}}]
["その他広葉樹２",1.52,1.33,0.26,0.65,0.48,null,null,null,null,null,null,null,null,null,null,null,null,null,null,null,null,null,null,null,null,null,"広","シラカシ",0.72,null,null,null,null,1983,"非住宅","S造",{"$f":"INDEX(#REF!, 9 + QUOTIENT(ROW(AL40)-2, 10), 1 + MOD(ROW(AL40)-2, 10))","v":{"$error":"#REF!"}}]
["その他広葉樹３",1.4,1.26,0.26,0.62,0.48,null,null,null,null,null,null,null,null,null,null,null,null,null,null,null,null,null,null,null,null,null,"広","クヌギ",0.73,null,null,null,null,1983,"非住宅","その他",{"$f":"INDEX(#REF!, 9 + QUOTIENT(ROW(AL41)-2, 10), 1 + MOD(ROW(AL41)-2, 10))","v":{"$error":"#REF!"}}]
["無立木地(民有林)",1.27,1.27,0.26,0.48,0.5,null,null,null,null,null,null,null,null,null,null,null,null,null,null,null,null,null,null,null,null,null,"広","ミズナラ、オオナラ、ナラ",0.59,null,null,null,null,1984,"住宅","木造",{"$f":"INDEX(#REF!, 9 + QUOTIENT(ROW(AL42)-2, 10), 1 + MOD(ROW(AL42)-2, 10))","v":{"$error":"#REF!"}}]
[null,null,null,null,null,null,null,null,null,null,null,null,null,null,null,null,null,null,null,null,null,null,null,null,null,null,null,"広","コナラ",0.69,null,null,null,null,1984,"住宅","SRC造",{"$f":"INDEX(#REF!, 9 + QUOTIENT(ROW(AL43)-2, 10), 1 + MOD(ROW(AL43)-2, 10))","v":{"$error":"#REF!"}}]
[null,null,null,null,null,null,null,null,null,null,null,null,null,null,null,null,null,null,null,null,null,null,null,null,null,null,null,"広","ウバメガシ",0.93,null,null,null,null,1984,"住宅","RC造",{"$f":"INDEX(#REF!, 9 + QUOTIENT(ROW(AL44)-2, 10), 1 + MOD(ROW(AL44)-2, 10))","v":{"$error":"#REF!"}}]
[null,null,null,null,null,null,null,null,null,null,null,null,null,null,null,null,null,null,null,null,null,null,null,null,null,null,null,"広","イスノキ",0.78,null,null,null,null,1984,"住宅","S造",{"$f":"INDEX(#REF!, 9 + QUOTIENT(ROW(AL45)-2, 10), 1 + MOD(ROW(AL45)-2, 10))","v":{"$error":"#REF!"}}]
[null,null,null,null,null,null,null,null,null,null,null,null,null,null,null,null,null,null,null,null,null,null,null,null,null,null,null,"広","トチノキ",0.45,null,null,null,null,1984,"住宅","その他",{"$f":"INDEX(#REF!, 9 + QUOTIENT(ROW(AL46)-2, 10), 1 + MOD(ROW(AL46)-2, 10))","v":{"$error":"#REF!"}}]
[null,null,null,null,null,null,null,null,null,null,null,null,null,null,null,null,null,null,null,null,null,null,null,null,null,null,null,"広","オニグルミ",0.46,null,null,null,null,1984,"非住宅","木造",{"$f":"INDEX(#REF!, 9 + QUOTIENT(ROW(AL47)-2, 10), 1 + MOD(ROW(AL47)-2, 10))","v":{"$error":"#REF!"}}]
[null,null,null,null,null,null,null,null,null,null,null,null,null,null,null,null,null,null,null,null,null,null,null,null,null,null,null,"広","サワグルミ",0.39,null,null,null,null,1984,"非住宅","SRC造",{"$f":"INDEX(#REF!, 9 + QUOTIENT(ROW(AL48)-2, 10), 1 + MOD(ROW(AL48)-2, 10))","v":{"$error":"#REF!"}}]
[null,null,null,null,null,null,null,null,null,null,null,null,null,null,null,null,null,null,null,null,null,null,null,null,null,null,null,"広","クスノキ",0.45,null,null,null,null,1984,"非住宅","RC造",{"$f":"INDEX(#REF!, 9 + QUOTIENT(ROW(AL49)-2, 10), 1 + MOD(ROW(AL49)-2, 10))","v":{"$error":"#REF!"}}]
[null,null,null,null,null,null,null,null,null,null,null,null,null,null,null,null,null,null,null,null,null,null,null,null,null,null,null,"広","タブノキ",0.56999999999999995,null,null,null,null,1984,"非住宅","S造",{"$f":"INDEX(#REF!, 9 + QUOTIENT(ROW(AL50)-2, 10), 1 + MOD(ROW(AL50)-2, 10))","v":{"$error":"#REF!"}}]
[null,null,null,null,null,null,null,null,null,null,null,null,null,null,null,null,null,null,null,null,null,null,null,null,null,null,null,"広","イヌエンジュ",0.51,null,null,null,null,1984,"非住宅","その他",{"$f":"INDEX(#REF!, 9 + QUOTIENT(ROW(AL51)-2, 10), 1 + MOD(ROW(AL51)-2, 10))","v":{"$error":"#REF!"}}]
[null,null,null,null,null,null,null,null,null,null,null,null,null,null,null,null,null,null,null,null,null,null,null,null,null,null,null,"広","ホオノキ",0.43,null,null,null,null,1985,"住宅","木造",{"$f":"INDEX(#REF!, 9 + QUOTIENT(ROW(AL52)-2, 10), 1 + MOD(ROW(AL52)-2, 10))","v":{"$error":"#REF!"}}]
[null,null,null,null,null,null,null,null,null,null,null,null,null,null,null,null,null,null,null,null,null,null,null,null,null,null,null,"広","ヤマグワ、クワ",0.54,null,null,null,null,1985,"住宅","SRC造",{"$f":"INDEX(#REF!, 9 + QUOTIENT(ROW(AL53)-2, 10), 1 + MOD(ROW(AL53)-2, 10))","v":{"$error":"#REF!"}}]
[null,null,null,null,null,null,null,null,null,null,null,null,null,null,null,null,null,null,null,null,null,null,null,null,null,null,null,"広","ヤチダモ",0.48,null,null,null,null,1985,"住宅","RC造",{"$f":"INDEX(#REF!, 9 + QUOTIENT(ROW(AL54)-2, 10), 1 + MOD(ROW(AL54)-2, 10))","v":{"$error":"#REF!"}}]
[null,null,null,null,null,null,null,null,null,null,null,null,null,null,null,null,null,null,null,null,null,null,null,null,null,null,null,"広","シオジ",0.46,null,null,null,null,1985,"住宅","S造",{"$f":"INDEX(#REF!, 9 + QUOTIENT(ROW(AL55)-2, 10), 1 + MOD(ROW(AL55)-2, 10))","v":{"$error":"#REF!"}}]
[null,null,null,null,null,null,null,null,null,null,null,null,null,null,null,null,null,null,null,null,null,null,null,null,null,null,null,"広","トネリコ",0.65,null,null,null,null,1985,"住宅","その他",{"$f":"INDEX(#REF!, 9 + QUOTIENT(ROW(AL56)-2, 10), 1 + MOD(ROW(AL56)-2, 10))","v":{"$error":"#REF!"}}]
[null,null,null,null,null,null,null,null,null,null,null,null,null,null,null,null,null,null,null,null,null,null,null,null,null,null,null,"広","アオダモ",0.62,null,null,null,null,1985,"非住宅","木造",{"$f":"INDEX(#REF!, 9 + QUOTIENT(ROW(AL57)-2, 10), 1 + MOD(ROW(AL57)-2, 10))","v":{"$error":"#REF!"}}]
[null,null,null,null,null,null,null,null,null,null,null,null,null,null,null,null,null,null,null,null,null,null,null,null,null,null,null,"広","ヤマトアオダモ",0.63,null,null,null,null,1985,"非住宅","SRC造",{"$f":"INDEX(#REF!, 9 + QUOTIENT(ROW(AL58)-2, 10), 1 + MOD(ROW(AL58)-2, 10))","v":{"$error":"#REF!"}}]
[null,null,null,null,null,null,null,null,null,null,null,null,null,null,null,null,null,null,null,null,null,null,null,null,null,null,null,"広","ヤマザクラ",0.54,null,null,null,null,1985,"非住宅","RC造",{"$f":"INDEX(#REF!, 9 + QUOTIENT(ROW(AL59)-2, 10), 1 + MOD(ROW(AL59)-2, 10))","v":{"$error":"#REF!"}}]
[null,null,null,null,null,null,null,null,null,null,null,null,null,null,null,null,null,null,null,null,null,null,null,null,null,null,null,"広","キハダ",0.43,null,null,null,null,1985,"非住宅","S造",{"$f":"INDEX(#REF!, 9 + QUOTIENT(ROW(AL60)-2, 10), 1 + MOD(ROW(AL60)-2, 10))","v":{"$error":"#REF!"}}]
[null,null,null,null,null,null,null,null,null,null,null,null,null,null,null,null,null,null,null,null,null,null,null,null,null,null,null,"広","ドロノキ、ドロヤナギ",0.37,null,null,null,null,1985,"非住宅","その他",{"$f":"INDEX(#REF!, 9 + QUOTIENT(ROW(AL61)-2, 10), 1 + MOD(ROW(AL61)-2, 10))","v":{"$error":"#REF!"}}]
[null,null,null,null,null,null,null,null,null,null,null,null,null,null,null,null,null,null,null,null,null,null,null,null,null,null,null,"広","シナノキ",0.44,null,null,null,null,1986,"住宅","木造",{"$f":"INDEX(#REF!, 9 + QUOTIENT(ROW(AL62)-2, 10), 1 + MOD(ROW(AL62)-2, 10))","v":{"$error":"#REF!"}}]
[null,null,null,null,null,null,null,null,null,null,null,null,null,null,null,null,null,null,null,null,null,null,null,null,null,null,null,"広","ハルニレ、アカダモ",0.55000000000000004,null,null,null,null,1986,"住宅","SRC造",{"$f":"INDEX(#REF!, 9 + QUOTIENT(ROW(AL63)-2, 10), 1 + MOD(ROW(AL63)-2, 10))","v":{"$error":"#REF!"}}]
[null,null,null,null,null,null,null,null,null,null,null,null,null,null,null,null,null,null,null,null,null,null,null,null,null,null,null,"広","ケヤキ",0.6,null,null,null,null,1986,"住宅","RC造",{"$f":"INDEX(#REF!, 9 + QUOTIENT(ROW(AL64)-2, 10), 1 + MOD(ROW(AL64)-2, 10))","v":{"$error":"#REF!"}}]
[null,null,null,null,null,null,null,null,null,null,null,null,null,null,null,null,null,null,null,null,null,null,null,null,null,null,null,"-","樹種不明",0.33,null,null,null,null,1986,"住宅","S造",{"$f":"INDEX(#REF!, 9 + QUOTIENT(ROW(AL65)-2, 10), 1 + MOD(ROW(AL65)-2, 10))","v":{"$error":"#REF!"}}]
[null,null,null,null,null,null,null,null,null,null,null,null,null,null,null,null,null,null,null,null,null,null,null,null,null,null,null,null,null,null,null,null,null,null,1986,"住宅","その他",{"$f":"INDEX(#REF!, 9 + QUOTIENT(ROW(AL66)-2, 10), 1 + MOD(ROW(AL66)-2, 10))","v":{"$error":"#REF!"}}]
[null,null,null,null,null,null,null,null,null,null,null,null,null,null,null,null,null,null,null,null,null,null,null,null,null,null,null,null,null,null,null,null,null,null,1986,"非住宅","木造",{"$f":"INDEX(#REF!, 9 + QUOTIENT(ROW(AL67)-2, 10), 1 + MOD(ROW(AL67)-2, 10))","v":{"$error":"#REF!"}}]
[null,null,null,null,null,null,null,null,null,null,null,null,null,null,null,null,null,null,null,null,null,null,null,null,null,null,null,null,null,null,null,null,null,null,1986,"非住宅","SRC造",{"$f":"INDEX(#REF!, 9 + QUOTIENT(ROW(AL68)-2, 10), 1 + MOD(ROW(AL68)-2, 10))","v":{"$error":"#REF!"}}]
[null,null,null,null,null,null,null,null,null,null,null,null,null,null,null,null,null,null,null,null,null,null,null,null,null,null,null,null,null,null,null,null,null,null,1986,"非住宅","RC造",{"$f":"INDEX(#REF!, 9 + QUOTIENT(ROW(AL69)-2, 10), 1 + MOD(ROW(AL69)-2, 10))","v":{"$error":"#REF!"}}]
[null,null,null,null,null,null,null,null,null,null,null,null,null,null,null,null,null,null,null,null,null,null,null,null,null,null,null,null,null,null,null,null,null,null,1986,"非住宅","S造",{"$f":"INDEX(#REF!, 9 + QUOTIENT(ROW(AL70)-2, 10), 1 + MOD(ROW(AL70)-2, 10))","v":{"$error":"#REF!"}}]
[null,null,null,null,null,null,null,null,null,null,null,null,null,null,null,null,null,null,null,null,null,null,null,null,null,null,null,null,null,null,null,null,null,null,1986,"非住宅","その他",{"$f":"INDEX(#REF!, 9 + QUOTIENT(ROW(AL71)-2, 10), 1 + MOD(ROW(AL71)-2, 10))","v":{"$error":"#REF!"}}]
[null,null,null,null,null,null,null,null,null,null,null,null,null,null,null,null,null,null,null,null,null,null,null,null,null,null,null,null,null,null,null,null,null,null,1987,"住宅","木造",{"$f":"INDEX(#REF!, 9 + QUOTIENT(ROW(AL72)-2, 10), 1 + MOD(ROW(AL72)-2, 10))","v":{"$error":"#REF!"}}]
[null,null,null,null,null,null,null,null,null,null,null,null,null,null,null,null,null,null,null,null,null,null,null,null,null,null,null,null,null,null,null,null,null,null,1987,"住宅","SRC造",{"$f":"INDEX(#REF!, 9 + QUOTIENT(ROW(AL73)-2, 10), 1 + MOD(ROW(AL73)-2, 10))","v":{"$error":"#REF!"}}]
[null,null,null,null,null,null,null,null,null,null,null,null,null,null,null,null,null,null,null,null,null,null,null,null,null,null,null,null,null,null,null,null,null,null,1987,"住宅","RC造",{"$f":"INDEX(#REF!, 9 + QUOTIENT(ROW(AL74)-2, 10), 1 + MOD(ROW(AL74)-2, 10))","v":{"$error":"#REF!"}}]
[null,null,null,null,null,null,null,null,null,null,null,null,null,null,null,null,null,null,null,null,null,null,null,null,null,null,null,null,null,null,null,null,null,null,1987,"住宅","S造",{"$f":"INDEX(#REF!, 9 + QUOTIENT(ROW(AL75)-2, 10), 1 + MOD(ROW(AL75)-2, 10))","v":{"$error":"#REF!"}}]
[null,null,null,null,null,null,null,null,null,null,null,null,null,null,null,null,null,null,null,null,null,null,null,null,null,null,null,null,null,null,null,null,null,null,1987,"住宅","その他",{"$f":"INDEX(#REF!, 9 + QUOTIENT(ROW(AL76)-2, 10), 1 + MOD(ROW(AL76)-2, 10))","v":{"$error":"#REF!"}}]
[null,null,null,null,null,null,null,null,null,null,null,null,null,null,null,null,null,null,null,null,null,null,null,null,null,null,null,null,null,null,null,null,null,null,1987,"非住宅","木造",{"$f":"INDEX(#REF!, 9 + QUOTIENT(ROW(AL77)-2, 10), 1 + MOD(ROW(AL77)-2, 10))","v":{"$error":"#REF!"}}]
[null,null,null,null,null,null,null,null,null,null,null,null,null,null,null,null,null,null,null,null,null,null,null,null,null,null,null,null,null,null,null,null,null,null,1987,"非住宅","SRC造",{"$f":"INDEX(#REF!, 9 + QUOTIENT(ROW(AL78)-2, 10), 1 + MOD(ROW(AL78)-2, 10))","v":{"$error":"#REF!"}}]
[null,null,null,null,null,null,null,null,null,null,null,null,null,null,null,null,null,null,null,null,null,null,null,null,null,null,null,null,null,null,null,null,null,null,1987,"非住宅","RC造",{"$f":"INDEX(#REF!, 9 + QUOTIENT(ROW(AL79)-2, 10), 1 + MOD(ROW(AL79)-2, 10))","v":{"$error":"#REF!"}}]
[null,null,null,null,null,null,null,null,null,null,null,null,null,null,null,null,null,null,null,null,null,null,null,null,null,null,null,null,null,null,null,null,null,null,1987,"非住宅","S造",{"$f":"INDEX(#REF!, 9 + QUOTIENT(ROW(AL80)-2, 10), 1 + MOD(ROW(AL80)-2, 10))","v":{"$error":"#REF!"}}]
[null,null,null,null,null,null,null,null,null,null,null,null,null,null,null,null,null,null,null,null,null,null,null,null,null,null,null,null,null,null,null,null,null,null,1987,"非住宅","その他",{"$f":"INDEX(#REF!, 9 + QUOTIENT(ROW(AL81)-2, 10), 1 + MOD(ROW(AL81)-2, 10))","v":{"$error":"#REF!"}}]
[null,null,null,null,null,null,null,null,null,null,null,null,null,null,null,null,null,null,null,null,null,null,null,null,null,null,null,null,null,null,null,null,null,null,1988,"住宅","木造",{"$f":"INDEX(#REF!, 9 + QUOTIENT(ROW(AL82)-2, 10), 1 + MOD(ROW(AL82)-2, 10))","v":{"$error":"#REF!"}}]
[null,null,null,null,null,null,null,null,null,null,null,null,null,null,null,null,null,null,null,null,null,null,null,null,null,null,null,null,null,null,null,null,null,null,1988,"住宅","SRC造",{"$f":"INDEX(#REF!, 9 + QUOTIENT(ROW(AL83)-2, 10), 1 + MOD(ROW(AL83)-2, 10))","v":{"$error":"#REF!"}}]
[null,null,null,null,null,null,null,null,null,null,null,null,null,null,null,null,null,null,null,null,null,null,null,null,null,null,null,null,null,null,null,null,null,null,1988,"住宅","RC造",{"$f":"INDEX(#REF!, 9 + QUOTIENT(ROW(AL84)-2, 10), 1 + MOD(ROW(AL84)-2, 10))","v":{"$error":"#REF!"}}]
[null,null,null,null,null,null,null,null,null,null,null,null,null,null,null,null,null,null,null,null,null,null,null,null,null,null,null,null,null,null,null,null,null,null,1988,"住宅","S造",{"$f":"INDEX(#REF!, 9 + QUOTIENT(ROW(AL85)-2, 10), 1 + MOD(ROW(AL85)-2, 10))","v":{"$error":"#REF!"}}]
[null,null,null,null,null,null,null,null,null,null,null,null,null,null,null,null,null,null,null,null,null,null,null,null,null,null,null,null,null,null,null,null,null,null,1988,"住宅","その他",{"$f":"INDEX(#REF!, 9 + QUOTIENT(ROW(AL86)-2, 10), 1 + MOD(ROW(AL86)-2, 10))","v":{"$error":"#REF!"}}]
[null,null,null,null,null,null,null,null,null,null,null,null,null,null,null,null,null,null,null,null,null,null,null,null,null,null,null,null,null,null,null,null,null,null,1988,"非住宅","木造",{"$f":"INDEX(#REF!, 9 + QUOTIENT(ROW(AL87)-2, 10), 1 + MOD(ROW(AL87)-2, 10))","v":{"$error":"#REF!"}}]
[null,null,null,null,null,null,null,null,null,null,null,null,null,null,null,null,null,null,null,null,null,null,null,null,null,null,null,null,null,null,null,null,null,null,1988,"非住宅","SRC造",{"$f":"INDEX(#REF!, 9 + QUOTIENT(ROW(AL88)-2, 10), 1 + MOD(ROW(AL88)-2, 10))","v":{"$error":"#REF!"}}]
[null,null,null,null,null,null,null,null,null,null,null,null,null,null,null,null,null,null,null,null,null,null,null,null,null,null,null,null,null,null,null,null,null,null,1988,"非住宅","RC造",{"$f":"INDEX(#REF!, 9 + QUOTIENT(ROW(AL89)-2, 10), 1 + MOD(ROW(AL89)-2, 10))","v":{"$error":"#REF!"}}]
[null,null,null,null,null,null,null,null,null,null,null,null,null,null,null,null,null,null,null,null,null,null,null,null,null,null,null,null,null,null,null,null,null,null,1988,"非住宅","S造",{"$f":"INDEX(#REF!, 9 + QUOTIENT(ROW(AL90)-2, 10), 1 + MOD(ROW(AL90)-2, 10))","v":{"$error":"#REF!"}}]
[null,null,null,null,null,null,null,null,null,null,null,null,null,null,null,null,null,null,null,null,null,null,null,null,null,null,null,null,null,null,null,null,null,null,1988,"非住宅","その他",{"$f":"INDEX(#REF!, 9 + QUOTIENT(ROW(AL91)-2, 10), 1 + MOD(ROW(AL91)-2, 10))","v":{"$error":"#REF!"}}]
[null,null,null,null,null,null,null,null,null,null,null,null,null,null,null,null,null,null,null,null,null,null,null,null,null,null,null,null,null,null,null,null,null,null,1989,"住宅","木造",{"$f":"INDEX(#REF!, 9 + QUOTIENT(ROW(AL92)-2, 10), 1 + MOD(ROW(AL92)-2, 10))","v":{"$error":"#REF!"}}]
[null,null,null,null,null,null,null,null,null,null,null,null,null,null,null,null,null,null,null,null,null,null,null,null,null,null,null,null,null,null,null,null,null,null,1989,"住宅","SRC造",{"$f":"INDEX(#REF!, 9 + QUOTIENT(ROW(AL93)-2, 10), 1 + MOD(ROW(AL93)-2, 10))","v":{"$error":"#REF!"}}]
[null,null,null,null,null,null,null,null,null,null,null,null,null,null,null,null,null,null,null,null,null,null,null,null,null,null,null,null,null,null,null,null,null,null,1989,"住宅","RC造",{"$f":"INDEX(#REF!, 9 + QUOTIENT(ROW(AL94)-2, 10), 1 + MOD(ROW(AL94)-2, 10))","v":{"$error":"#REF!"}}]
[null,null,null,null,null,null,null,null,null,null,null,null,null,null,null,null,null,null,null,null,null,null,null,null,null,null,null,null,null,null,null,null,null,null,1989,"住宅","S造",{"$f":"INDEX(#REF!, 9 + QUOTIENT(ROW(AL95)-2, 10), 1 + MOD(ROW(AL95)-2, 10))","v":{"$error":"#REF!"}}]
[null,null,null,null,null,null,null,null,null,null,null,null,null,null,null,null,null,null,null,null,null,null,null,null,null,null,null,null,null,null,null,null,null,null,1989,"住宅","その他",{"$f":"INDEX(#REF!, 9 + QUOTIENT(ROW(AL96)-2, 10), 1 + MOD(ROW(AL96)-2, 10))","v":{"$error":"#REF!"}}]
[null,null,null,null,null,null,null,null,null,null,null,null,null,null,null,null,null,null,null,null,null,null,null,null,null,null,null,null,null,null,null,null,null,null,1989,"非住宅","木造",{"$f":"INDEX(#REF!, 9 + QUOTIENT(ROW(AL97)-2, 10), 1 + MOD(ROW(AL97)-2, 10))","v":{"$error":"#REF!"}}]
[null,null,null,null,null,null,null,null,null,null,null,null,null,null,null,null,null,null,null,null,null,null,null,null,null,null,null,null,null,null,null,null,null,null,1989,"非住宅","SRC造",{"$f":"INDEX(#REF!, 9 + QUOTIENT(ROW(AL98)-2, 10), 1 + MOD(ROW(AL98)-2, 10))","v":{"$error":"#REF!"}}]
[null,null,null,null,null,null,null,null,null,null,null,null,null,null,null,null,null,null,null,null,null,null,null,null,null,null,null,null,null,null,null,null,null,null,1989,"非住宅","RC造",{"$f":"INDEX(#REF!, 9 + QUOTIENT(ROW(AL99)-2, 10), 1 + MOD(ROW(AL99)-2, 10))","v":{"$error":"#REF!"}}]
[null,null,null,null,null,null,null,null,null,null,null,null,null,null,null,null,null,null,null,null,null,null,null,null,null,null,null,null,null,null,null,null,null,null,1989,"非住宅","S造",{"$f":"INDEX(#REF!, 9 + QUOTIENT(ROW(AL100)-2, 10), 1 + MOD(ROW(AL100)-2, 10))","v":{"$error":"#REF!"}}]
[null,null,null,null,null,null,null,null,null,null,null,null,null,null,null,null,null,null,null,null,null,null,null,null,null,null,null,null,null,null,null,null,null,null,1989,"非住宅","その他",{"$f":"INDEX(#REF!, 9 + QUOTIENT(ROW(AL101)-2, 10), 1 + MOD(ROW(AL101)-2, 10))","v":{"$error":"#REF!"}}]
[null,null,null,null,null,null,null,null,null,null,null,null,null,null,null,null,null,null,null,null,null,null,null,null,null,null,null,null,null,null,null,null,null,null,1990,"住宅","木造",{"$f":"INDEX(#REF!, 9 + QUOTIENT(ROW(AL102)-2, 10), 1 + MOD(ROW(AL102)-2, 10))","v":{"$error":"#REF!"}}]
[null,null,null,null,null,null,null,null,null,null,null,null,null,null,null,null,null,null,null,null,null,null,null,null,null,null,null,null,null,null,null,null,null,null,1990,"住宅","SRC造",{"$f":"INDEX(#REF!, 9 + QUOTIENT(ROW(AL103)-2, 10), 1 + MOD(ROW(AL103)-2, 10))","v":{"$error":"#REF!"}}]
[null,null,null,null,null,null,null,null,null,null,null,null,null,null,null,null,null,null,null,null,null,null,null,null,null,null,null,null,null,null,null,null,null,null,1990,"住宅","RC造",{"$f":"INDEX(#REF!, 9 + QUOTIENT(ROW(AL104)-2, 10), 1 + MOD(ROW(AL104)-2, 10))","v":{"$error":"#REF!"}}]
[null,null,null,null,null,null,null,null,null,null,null,null,null,null,null,null,null,null,null,null,null,null,null,null,null,null,null,null,null,null,null,null,null,null,1990,"住宅","S造",{"$f":"INDEX(#REF!, 9 + QUOTIENT(ROW(AL105)-2, 10), 1 + MOD(ROW(AL105)-2, 10))","v":{"$error":"#REF!"}}]
[null,null,null,null,null,null,null,null,null,null,null,null,null,null,null,null,null,null,null,null,null,null,null,null,null,null,null,null,null,null,null,null,null,null,1990,"住宅","その他",{"$f":"INDEX(#REF!, 9 + QUOTIENT(ROW(AL106)-2, 10), 1 + MOD(ROW(AL106)-2, 10))","v":{"$error":"#REF!"}}]
[null,null,null,null,null,null,null,null,null,null,null,null,null,null,null,null,null,null,null,null,null,null,null,null,null,null,null,null,null,null,null,null,null,null,1990,"非住宅","木造",{"$f":"INDEX(#REF!, 9 + QUOTIENT(ROW(AL107)-2, 10), 1 + MOD(ROW(AL107)-2, 10))","v":{"$error":"#REF!"}}]
[null,null,null,null,null,null,null,null,null,null,null,null,null,null,null,null,null,null,null,null,null,null,null,null,null,null,null,null,null,null,null,null,null,null,1990,"非住宅","SRC造",{"$f":"INDEX(#REF!, 9 + QUOTIENT(ROW(AL108)-2, 10), 1 + MOD(ROW(AL108)-2, 10))","v":{"$error":"#REF!"}}]
[null,null,null,null,null,null,null,null,null,null,null,null,null,null,null,null,null,null,null,null,null,null,null,null,null,null,null,null,null,null,null,null,null,null,1990,"非住宅","RC造",{"$f":"INDEX(#REF!, 9 + QUOTIENT(ROW(AL109)-2, 10), 1 + MOD(ROW(AL109)-2, 10))","v":{"$error":"#REF!"}}]
[null,null,null,null,null,null,null,null,null,null,null,null,null,null,null,null,null,null,null,null,null,null,null,null,null,null,null,null,null,null,null,null,null,null,1990,"非住宅","S造",{"$f":"INDEX(#REF!, 9 + QUOTIENT(ROW(AL110)-2, 10), 1 + MOD(ROW(AL110)-2, 10))","v":{"$error":"#REF!"}}]
[null,null,null,null,null,null,null,null,null,null,null,null,null,null,null,null,null,null,null,null,null,null,null,null,null,null,null,null,null,null,null,null,null,null,1990,"非住宅","その他",{"$f":"INDEX(#REF!, 9 + QUOTIENT(ROW(AL111)-2, 10), 1 + MOD(ROW(AL111)-2, 10))","v":{"$error":"#REF!"}}]
[null,null,null,null,null,null,null,null,null,null,null,null,null,null,null,null,null,null,null,null,null,null,null,null,null,null,null,null,null,null,null,null,null,null,1991,"住宅","木造",{"$f":"INDEX(#REF!, 9 + QUOTIENT(ROW(AL112)-2, 10), 1 + MOD(ROW(AL112)-2, 10))","v":{"$error":"#REF!"}}]
[null,null,null,null,null,null,null,null,null,null,null,null,null,null,null,null,null,null,null,null,null,null,null,null,null,null,null,null,null,null,null,null,null,null,1991,"住宅","SRC造",{"$f":"INDEX(#REF!, 9 + QUOTIENT(ROW(AL113)-2, 10), 1 + MOD(ROW(AL113)-2, 10))","v":{"$error":"#REF!"}}]
[null,null,null,null,null,null,null,null,null,null,null,null,null,null,null,null,null,null,null,null,null,null,null,null,null,null,null,null,null,null,null,null,null,null,1991,"住宅","RC造",{"$f":"INDEX(#REF!, 9 + QUOTIENT(ROW(AL114)-2, 10), 1 + MOD(ROW(AL114)-2, 10))","v":{"$error":"#REF!"}}]
[null,null,null,null,null,null,null,null,null,null,null,null,null,null,null,null,null,null,null,null,null,null,null,null,null,null,null,null,null,null,null,null,null,null,1991,"住宅","S造",{"$f":"INDEX(#REF!, 9 + QUOTIENT(ROW(AL115)-2, 10), 1 + MOD(ROW(AL115)-2, 10))","v":{"$error":"#REF!"}}]
[null,null,null,null,null,null,null,null,null,null,null,null,null,null,null,null,null,null,null,null,null,null,null,null,null,null,null,null,null,null,null,null,null,null,1991,"住宅","その他",{"$f":"INDEX(#REF!, 9 + QUOTIENT(ROW(AL116)-2, 10), 1 + MOD(ROW(AL116)-2, 10))","v":{"$error":"#REF!"}}]
[null,null,null,null,null,null,null,null,null,null,null,null,null,null,null,null,null,null,null,null,null,null,null,null,null,null,null,null,null,null,null,null,null,null,1991,"非住宅","木造",{"$f":"INDEX(#REF!, 9 + QUOTIENT(ROW(AL117)-2, 10), 1 + MOD(ROW(AL117)-2, 10))","v":{"$error":"#REF!"}}]
[null,null,null,null,null,null,null,null,null,null,null,null,null,null,null,null,null,null,null,null,null,null,null,null,null,null,null,null,null,null,null,null,null,null,1991,"非住宅","SRC造",{"$f":"INDEX(#REF!, 9 + QUOTIENT(ROW(AL118)-2, 10), 1 + MOD(ROW(AL118)-2, 10))","v":{"$error":"#REF!"}}]
[null,null,null,null,null,null,null,null,null,null,null,null,null,null,null,null,null,null,null,null,null,null,null,null,null,null,null,null,null,null,null,null,null,null,1991,"非住宅","RC造",{"$f":"INDEX(#REF!, 9 + QUOTIENT(ROW(AL119)-2, 10), 1 + MOD(ROW(AL119)-2, 10))","v":{"$error":"#REF!"}}]
[null,null,null,null,null,null,null,null,null,null,null,null,null,null,null,null,null,null,null,null,null,null,null,null,null,null,null,null,null,null,null,null,null,null,1991,"非住宅","S造",{"$f":"INDEX(#REF!, 9 + QUOTIENT(ROW(AL120)-2, 10), 1 + MOD(ROW(AL120)-2, 10))","v":{"$error":"#REF!"}}]
[null,null,null,null,null,null,null,null,null,null,null,null,null,null,null,null,null,null,null,null,null,null,null,null,null,null,null,null,null,null,null,null,null,null,1991,"非住宅","その他",{"$f":"INDEX(#REF!, 9 + QUOTIENT(ROW(AL121)-2, 10), 1 + MOD(ROW(AL121)-2, 10))","v":{"$error":"#REF!"}}]
[null,null,null,null,null,null,null,null,null,null,null,null,null,null,null,null,null,null,null,null,null,null,null,null,null,null,null,null,null,null,null,null,null,null,1992,"住宅","木造",{"$f":"INDEX(#REF!, 9 + QUOTIENT(ROW(AL122)-2, 10), 1 + MOD(ROW(AL122)-2, 10))","v":{"$error":"#REF!"}}]
[null,null,null,null,null,null,null,null,null,null,null,null,null,null,null,null,null,null,null,null,null,null,null,null,null,null,null,null,null,null,null,null,null,null,1992,"住宅","SRC造",{"$f":"INDEX(#REF!, 9 + QUOTIENT(ROW(AL123)-2, 10), 1 + MOD(ROW(AL123)-2, 10))","v":{"$error":"#REF!"}}]
[null,null,null,null,null,null,null,null,null,null,null,null,null,null,null,null,null,null,null,null,null,null,null,null,null,null,null,null,null,null,null,null,null,null,1992,"住宅","RC造",{"$f":"INDEX(#REF!, 9 + QUOTIENT(ROW(AL124)-2, 10), 1 + MOD(ROW(AL124)-2, 10))","v":{"$error":"#REF!"}}]
[null,null,null,null,null,null,null,null,null,null,null,null,null,null,null,null,null,null,null,null,null,null,null,null,null,null,null,null,null,null,null,null,null,null,1992,"住宅","S造",{"$f":"INDEX(#REF!, 9 + QUOTIENT(ROW(AL125)-2, 10), 1 + MOD(ROW(AL125)-2, 10))","v":{"$error":"#REF!"}}]
[null,null,null,null,null,null,null,null,null,null,null,null,null,null,null,null,null,null,null,null,null,null,null,null,null,null,null,null,null,null,null,null,null,null,1992,"住宅","その他",{"$f":"INDEX(#REF!, 9 + QUOTIENT(ROW(AL126)-2, 10), 1 + MOD(ROW(AL126)-2, 10))","v":{"$error":"#REF!"}}]
[null,null,null,null,null,null,null,null,null,null,null,null,null,null,null,null,null,null,null,null,null,null,null,null,null,null,null,null,null,null,null,null,null,null,1992,"非住宅","木造",{"$f":"INDEX(#REF!, 9 + QUOTIENT(ROW(AL127)-2, 10), 1 + MOD(ROW(AL127)-2, 10))","v":{"$error":"#REF!"}}]
[null,null,null,null,null,null,null,null,null,null,null,null,null,null,null,null,null,null,null,null,null,null,null,null,null,null,null,null,null,null,null,null,null,null,1992,"非住宅","SRC造",{"$f":"INDEX(#REF!, 9 + QUOTIENT(ROW(AL128)-2, 10), 1 + MOD(ROW(AL128)-2, 10))","v":{"$error":"#REF!"}}]
[null,null,null,null,null,null,null,null,null,null,null,null,null,null,null,null,null,null,null,null,null,null,null,null,null,null,null,null,null,null,null,null,null,null,1992,"非住宅","RC造",{"$f":"INDEX(#REF!, 9 + QUOTIENT(ROW(AL129)-2, 10), 1 + MOD(ROW(AL129)-2, 10))","v":{"$error":"#REF!"}}]
[null,null,null,null,null,null,null,null,null,null,null,null,null,null,null,null,null,null,null,null,null,null,null,null,null,null,null,null,null,null,null,null,null,null,1992,"非住宅","S造",{"$f":"INDEX(#REF!, 9 + QUOTIENT(ROW(AL130)-2, 10), 1 + MOD(ROW(AL130)-2, 10))","v":{"$error":"#REF!"}}]
[null,null,null,null,null,null,null,null,null,null,null,null,null,null,null,null,null,null,null,null,null,null,null,null,null,null,null,null,null,null,null,null,null,null,1992,"非住宅","その他",{"$f":"INDEX(#REF!, 9 + QUOTIENT(ROW(AL131)-2, 10), 1 + MOD(ROW(AL131)-2, 10))","v":{"$error":"#REF!"}}]
[null,null,null,null,null,null,null,null,null,null,null,null,null,null,null,null,null,null,null,null,null,null,null,null,null,null,null,null,null,null,null,null,null,null,1993,"住宅","木造",{"$f":"INDEX(#REF!, 9 + QUOTIENT(ROW(AL132)-2, 10), 1 + MOD(ROW(AL132)-2, 10))","v":{"$error":"#REF!"}}]
[null,null,null,null,null,null,null,null,null,null,null,null,null,null,null,null,null,null,null,null,null,null,null,null,null,null,null,null,null,null,null,null,null,null,1993,"住宅","SRC造",{"$f":"INDEX(#REF!, 9 + QUOTIENT(ROW(AL133)-2, 10), 1 + MOD(ROW(AL133)-2, 10))","v":{"$error":"#REF!"}}]
[null,null,null,null,null,null,null,null,null,null,null,null,null,null,null,null,null,null,null,null,null,null,null,null,null,null,null,null,null,null,null,null,null,null,1993,"住宅","RC造",{"$f":"INDEX(#REF!, 9 + QUOTIENT(ROW(AL134)-2, 10), 1 + MOD(ROW(AL134)-2, 10))","v":{"$error":"#REF!"}}]
[null,null,null,null,null,null,null,null,null,null,null,null,null,null,null,null,null,null,null,null,null,null,null,null,null,null,null,null,null,null,null,null,null,null,1993,"住宅","S造",{"$f":"INDEX(#REF!, 9 + QUOTIENT(ROW(AL135)-2, 10), 1 + MOD(ROW(AL135)-2, 10))","v":{"$error":"#REF!"}}]
[null,null,null,null,null,null,null,null,null,null,null,null,null,null,null,null,null,null,null,null,null,null,null,null,null,null,null,null,null,null,null,null,null,null,1993,"住宅","その他",{"$f":"INDEX(#REF!, 9 + QUOTIENT(ROW(AL136)-2, 10), 1 + MOD(ROW(AL136)-2, 10))","v":{"$error":"#REF!"}}]
[null,null,null,null,null,null,null,null,null,null,null,null,null,null,null,null,null,null,null,null,null,null,null,null,null,null,null,null,null,null,null,null,null,null,1993,"非住宅","木造",{"$f":"INDEX(#REF!, 9 + QUOTIENT(ROW(AL137)-2, 10), 1 + MOD(ROW(AL137)-2, 10))","v":{"$error":"#REF!"}}]
[null,null,null,null,null,null,null,null,null,null,null,null,null,null,null,null,null,null,null,null,null,null,null,null,null,null,null,null,null,null,null,null,null,null,1993,"非住宅","SRC造",{"$f":"INDEX(#REF!, 9 + QUOTIENT(ROW(AL138)-2, 10), 1 + MOD(ROW(AL138)-2, 10))","v":{"$error":"#REF!"}}]
[null,null,null,null,null,null,null,null,null,null,null,null,null,null,null,null,null,null,null,null,null,null,null,null,null,null,null,null,null,null,null,null,null,null,1993,"非住宅","RC造",{"$f":"INDEX(#REF!, 9 + QUOTIENT(ROW(AL139)-2, 10), 1 + MOD(ROW(AL139)-2, 10))","v":{"$error":"#REF!"}}]
[null,null,null,null,null,null,null,null,null,null,null,null,null,null,null,null,null,null,null,null,null,null,null,null,null,null,null,null,null,null,null,null,null,null,1993,"非住宅","S造",{"$f":"INDEX(#REF!, 9 + QUOTIENT(ROW(AL140)-2, 10), 1 + MOD(ROW(AL140)-2, 10))","v":{"$error":"#REF!"}}]
[null,null,null,null,null,null,null,null,null,null,null,null,null,null,null,null,null,null,null,null,null,null,null,null,null,null,null,null,null,null,null,null,null,null,1993,"非住宅","その他",{"$f":"INDEX(#REF!, 9 + QUOTIENT(ROW(AL141)-2, 10), 1 + MOD(ROW(AL141)-2, 10))","v":{"$error":"#REF!"}}]
[null,null,null,null,null,null,null,null,null,null,null,null,null,null,null,null,null,null,null,null,null,null,null,null,null,null,null,null,null,null,null,null,null,null,1994,"住宅","木造",{"$f":"INDEX(#REF!, 9 + QUOTIENT(ROW(AL142)-2, 10), 1 + MOD(ROW(AL142)-2, 10))","v":{"$error":"#REF!"}}]
[null,null,null,null,null,null,null,null,null,null,null,null,null,null,null,null,null,null,null,null,null,null,null,null,null,null,null,null,null,null,null,null,null,null,1994,"住宅","SRC造",{"$f":"INDEX(#REF!, 9 + QUOTIENT(ROW(AL143)-2, 10), 1 + MOD(ROW(AL143)-2, 10))","v":{"$error":"#REF!"}}]
[null,null,null,null,null,null,null,null,null,null,null,null,null,null,null,null,null,null,null,null,null,null,null,null,null,null,null,null,null,null,null,null,null,null,1994,"住宅","RC造",{"$f":"INDEX(#REF!, 9 + QUOTIENT(ROW(AL144)-2, 10), 1 + MOD(ROW(AL144)-2, 10))","v":{"$error":"#REF!"}}]
[null,null,null,null,null,null,null,null,null,null,null,null,null,null,null,null,null,null,null,null,null,null,null,null,null,null,null,null,null,null,null,null,null,null,1994,"住宅","S造",{"$f":"INDEX(#REF!, 9 + QUOTIENT(ROW(AL145)-2, 10), 1 + MOD(ROW(AL145)-2, 10))","v":{"$error":"#REF!"}}]
[null,null,null,null,null,null,null,null,null,null,null,null,null,null,null,null,null,null,null,null,null,null,null,null,null,null,null,null,null,null,null,null,null,null,1994,"住宅","その他",{"$f":"INDEX(#REF!, 9 + QUOTIENT(ROW(AL146)-2, 10), 1 + MOD(ROW(AL146)-2, 10))","v":{"$error":"#REF!"}}]
[null,null,null,null,null,null,null,null,null,null,null,null,null,null,null,null,null,null,null,null,null,null,null,null,null,null,null,null,null,null,null,null,null,null,1994,"非住宅","木造",{"$f":"INDEX(#REF!, 9 + QUOTIENT(ROW(AL147)-2, 10), 1 + MOD(ROW(AL147)-2, 10))","v":{"$error":"#REF!"}}]
[null,null,null,null,null,null,null,null,null,null,null,null,null,null,null,null,null,null,null,null,null,null,null,null,null,null,null,null,null,null,null,null,null,null,1994,"非住宅","SRC造",{"$f":"INDEX(#REF!, 9 + QUOTIENT(ROW(AL148)-2, 10), 1 + MOD(ROW(AL148)-2, 10))","v":{"$error":"#REF!"}}]
[null,null,null,null,null,null,null,null,null,null,null,null,null,null,null,null,null,null,null,null,null,null,null,null,null,null,null,null,null,null,null,null,null,null,1994,"非住宅","RC造",{"$f":"INDEX(#REF!, 9 + QUOTIENT(ROW(AL149)-2, 10), 1 + MOD(ROW(AL149)-2, 10))","v":{"$error":"#REF!"}}]
[null,null,null,null,null,null,null,null,null,null,null,null,null,null,null,null,null,null,null,null,null,null,null,null,null,null,null,null,null,null,null,null,null,null,1994,"非住宅","S造",{"$f":"INDEX(#REF!, 9 + QUOTIENT(ROW(AL150)-2, 10), 1 + MOD(ROW(AL150)-2, 10))","v":{"$error":"#REF!"}}]
[null,null,null,null,null,null,null,null,null,null,null,null,null,null,null,null,null,null,null,null,null,null,null,null,null,null,null,null,null,null,null,null,null,null,1994,"非住宅","その他",{"$f":"INDEX(#REF!, 9 + QUOTIENT(ROW(AL151)-2, 10), 1 + MOD(ROW(AL151)-2, 10))","v":{"$error":"#REF!"}}]
[null,null,null,null,null,null,null,null,null,null,null,null,null,null,null,null,null,null,null,null,null,null,null,null,null,null,null,null,null,null,null,null,null,null,1995,"住宅","木造",{"$f":"INDEX(#REF!, 9 + QUOTIENT(ROW(AL152)-2, 10), 1 + MOD(ROW(AL152)-2, 10))","v":{"$error":"#REF!"}}]
[null,null,null,null,null,null,null,null,null,null,null,null,null,null,null,null,null,null,null,null,null,null,null,null,null,null,null,null,null,null,null,null,null,null,1995,"住宅","SRC造",{"$f":"INDEX(#REF!, 9 + QUOTIENT(ROW(AL153)-2, 10), 1 + MOD(ROW(AL153)-2, 10))","v":{"$error":"#REF!"}}]
[null,null,null,null,null,null,null,null,null,null,null,null,null,null,null,null,null,null,null,null,null,null,null,null,null,null,null,null,null,null,null,null,null,null,1995,"住宅","RC造",{"$f":"INDEX(#REF!, 9 + QUOTIENT(ROW(AL154)-2, 10), 1 + MOD(ROW(AL154)-2, 10))","v":{"$error":"#REF!"}}]
[null,null,null,null,null,null,null,null,null,null,null,null,null,null,null,null,null,null,null,null,null,null,null,null,null,null,null,null,null,null,null,null,null,null,1995,"住宅","S造",{"$f":"INDEX(#REF!, 9 + QUOTIENT(ROW(AL155)-2, 10), 1 + MOD(ROW(AL155)-2, 10))","v":{"$error":"#REF!"}}]
[null,null,null,null,null,null,null,null,null,null,null,null,null,null,null,null,null,null,null,null,null,null,null,null,null,null,null,null,null,null,null,null,null,null,1995,"住宅","その他",{"$f":"INDEX(#REF!, 9 + QUOTIENT(ROW(AL156)-2, 10), 1 + MOD(ROW(AL156)-2, 10))","v":{"$error":"#REF!"}}]
[null,null,null,null,null,null,null,null,null,null,null,null,null,null,null,null,null,null,null,null,null,null,null,null,null,null,null,null,null,null,null,null,null,null,1995,"非住宅","木造",{"$f":"INDEX(#REF!, 9 + QUOTIENT(ROW(AL157)-2, 10), 1 + MOD(ROW(AL157)-2, 10))","v":{"$error":"#REF!"}}]
[null,null,null,null,null,null,null,null,null,null,null,null,null,null,null,null,null,null,null,null,null,null,null,null,null,null,null,null,null,null,null,null,null,null,1995,"非住宅","SRC造",{"$f":"INDEX(#REF!, 9 + QUOTIENT(ROW(AL158)-2, 10), 1 + MOD(ROW(AL158)-2, 10))","v":{"$error":"#REF!"}}]
[null,null,null,null,null,null,null,null,null,null,null,null,null,null,null,null,null,null,null,null,null,null,null,null,null,null,null,null,null,null,null,null,null,null,1995,"非住宅","RC造",{"$f":"INDEX(#REF!, 9 + QUOTIENT(ROW(AL159)-2, 10), 1 + MOD(ROW(AL159)-2, 10))","v":{"$error":"#REF!"}}]
[null,null,null,null,null,null,null,null,null,null,null,null,null,null,null,null,null,null,null,null,null,null,null,null,null,null,null,null,null,null,null,null,null,null,1995,"非住宅","S造",{"$f":"INDEX(#REF!, 9 + QUOTIENT(ROW(AL160)-2, 10), 1 + MOD(ROW(AL160)-2, 10))","v":{"$error":"#REF!"}}]
[null,null,null,null,null,null,null,null,null,null,null,null,null,null,null,null,null,null,null,null,null,null,null,null,null,null,null,null,null,null,null,null,null,null,1995,"非住宅","その他",{"$f":"INDEX(#REF!, 9 + QUOTIENT(ROW(AL161)-2, 10), 1 + MOD(ROW(AL161)-2, 10))","v":{"$error":"#REF!"}}]
[null,null,null,null,null,null,null,null,null,null,null,null,null,null,null,null,null,null,null,null,null,null,null,null,null,null,null,null,null,null,null,null,null,null,1996,"住宅","木造",{"$f":"INDEX(#REF!, 9 + QUOTIENT(ROW(AL162)-2, 10), 1 + MOD(ROW(AL162)-2, 10))","v":{"$error":"#REF!"}}]
[null,null,null,null,null,null,null,null,null,null,null,null,null,null,null,null,null,null,null,null,null,null,null,null,null,null,null,null,null,null,null,null,null,null,1996,"住宅","SRC造",{"$f":"INDEX(#REF!, 9 + QUOTIENT(ROW(AL163)-2, 10), 1 + MOD(ROW(AL163)-2, 10))","v":{"$error":"#REF!"}}]
[null,null,null,null,null,null,null,null,null,null,null,null,null,null,null,null,null,null,null,null,null,null,null,null,null,null,null,null,null,null,null,null,null,null,1996,"住宅","RC造",{"$f":"INDEX(#REF!, 9 + QUOTIENT(ROW(AL164)-2, 10), 1 + MOD(ROW(AL164)-2, 10))","v":{"$error":"#REF!"}}]
[null,null,null,null,null,null,null,null,null,null,null,null,null,null,null,null,null,null,null,null,null,null,null,null,null,null,null,null,null,null,null,null,null,null,1996,"住宅","S造",{"$f":"INDEX(#REF!, 9 + QUOTIENT(ROW(AL165)-2, 10), 1 + MOD(ROW(AL165)-2, 10))","v":{"$error":"#REF!"}}]
[null,null,null,null,null,null,null,null,null,null,null,null,null,null,null,null,null,null,null,null,null,null,null,null,null,null,null,null,null,null,null,null,null,null,1996,"住宅","その他",{"$f":"INDEX(#REF!, 9 + QUOTIENT(ROW(AL166)-2, 10), 1 + MOD(ROW(AL166)-2, 10))","v":{"$error":"#REF!"}}]
[null,null,null,null,null,null,null,null,null,null,null,null,null,null,null,null,null,null,null,null,null,null,null,null,null,null,null,null,null,null,null,null,null,null,1996,"非住宅","木造",{"$f":"INDEX(#REF!, 9 + QUOTIENT(ROW(AL167)-2, 10), 1 + MOD(ROW(AL167)-2, 10))","v":{"$error":"#REF!"}}]
[null,null,null,null,null,null,null,null,null,null,null,null,null,null,null,null,null,null,null,null,null,null,null,null,null,null,null,null,null,null,null,null,null,null,1996,"非住宅","SRC造",{"$f":"INDEX(#REF!, 9 + QUOTIENT(ROW(AL168)-2, 10), 1 + MOD(ROW(AL168)-2, 10))","v":{"$error":"#REF!"}}]
[null,null,null,null,null,null,null,null,null,null,null,null,null,null,null,null,null,null,null,null,null,null,null,null,null,null,null,null,null,null,null,null,null,null,1996,"非住宅","RC造",{"$f":"INDEX(#REF!, 9 + QUOTIENT(ROW(AL169)-2, 10), 1 + MOD(ROW(AL169)-2, 10))","v":{"$error":"#REF!"}}]
[null,null,null,null,null,null,null,null,null,null,null,null,null,null,null,null,null,null,null,null,null,null,null,null,null,null,null,null,null,null,null,null,null,null,1996,"非住宅","S造",{"$f":"INDEX(#REF!, 9 + QUOTIENT(ROW(AL170)-2, 10), 1 + MOD(ROW(AL170)-2, 10))","v":{"$error":"#REF!"}}]
[null,null,null,null,null,null,null,null,null,null,null,null,null,null,null,null,null,null,null,null,null,null,null,null,null,null,null,null,null,null,null,null,null,null,1996,"非住宅","その他",{"$f":"INDEX(#REF!, 9 + QUOTIENT(ROW(AL171)-2, 10), 1 + MOD(ROW(AL171)-2, 10))","v":{"$error":"#REF!"}}]
[null,null,null,null,null,null,null,null,null,null,null,null,null,null,null,null,null,null,null,null,null,null,null,null,null,null,null,null,null,null,null,null,null,null,1997,"住宅","木造",{"$f":"INDEX(#REF!, 9 + QUOTIENT(ROW(AL172)-2, 10), 1 + MOD(ROW(AL172)-2, 10))","v":{"$error":"#REF!"}}]
[null,null,null,null,null,null,null,null,null,null,null,null,null,null,null,null,null,null,null,null,null,null,null,null,null,null,null,null,null,null,null,null,null,null,1997,"住宅","SRC造",{"$f":"INDEX(#REF!, 9 + QUOTIENT(ROW(AL173)-2, 10), 1 + MOD(ROW(AL173)-2, 10))","v":{"$error":"#REF!"}}]
[null,null,null,null,null,null,null,null,null,null,null,null,null,null,null,null,null,null,null,null,null,null,null,null,null,null,null,null,null,null,null,null,null,null,1997,"住宅","RC造",{"$f":"INDEX(#REF!, 9 + QUOTIENT(ROW(AL174)-2, 10), 1 + MOD(ROW(AL174)-2, 10))","v":{"$error":"#REF!"}}]
[null,null,null,null,null,null,null,null,null,null,null,null,null,null,null,null,null,null,null,null,null,null,null,null,null,null,null,null,null,null,null,null,null,null,1997,"住宅","S造",{"$f":"INDEX(#REF!, 9 + QUOTIENT(ROW(AL175)-2, 10), 1 + MOD(ROW(AL175)-2, 10))","v":{"$error":"#REF!"}}]
[null,null,null,null,null,null,null,null,null,null,null,null,null,null,null,null,null,null,null,null,null,null,null,null,null,null,null,null,null,null,null,null,null,null,1997,"住宅","その他",{"$f":"INDEX(#REF!, 9 + QUOTIENT(ROW(AL176)-2, 10), 1 + MOD(ROW(AL176)-2, 10))","v":{"$error":"#REF!"}}]
[null,null,null,null,null,null,null,null,null,null,null,null,null,null,null,null,null,null,null,null,null,null,null,null,null,null,null,null,null,null,null,null,null,null,1997,"非住宅","木造",{"$f":"INDEX(#REF!, 9 + QUOTIENT(ROW(AL177)-2, 10), 1 + MOD(ROW(AL177)-2, 10))","v":{"$error":"#REF!"}}]
[null,null,null,null,null,null,null,null,null,null,null,null,null,null,null,null,null,null,null,null,null,null,null,null,null,null,null,null,null,null,null,null,null,null,1997,"非住宅","SRC造",{"$f":"INDEX(#REF!, 9 + QUOTIENT(ROW(AL178)-2, 10), 1 + MOD(ROW(AL178)-2, 10))","v":{"$error":"#REF!"}}]
[null,null,null,null,null,null,null,null,null,null,null,null,null,null,null,null,null,null,null,null,null,null,null,null,null,null,null,null,null,null,null,null,null,null,1997,"非住宅","RC造",{"$f":"INDEX(#REF!, 9 + QUOTIENT(ROW(AL179)-2, 10), 1 + MOD(ROW(AL179)-2, 10))","v":{"$error":"#REF!"}}]
[null,null,null,null,null,null,null,null,null,null,null,null,null,null,null,null,null,null,null,null,null,null,null,null,null,null,null,null,null,null,null,null,null,null,1997,"非住宅","S造",{"$f":"INDEX(#REF!, 9 + QUOTIENT(ROW(AL180)-2, 10), 1 + MOD(ROW(AL180)-2, 10))","v":{"$error":"#REF!"}}]
[null,null,null,null,null,null,null,null,null,null,null,null,null,null,null,null,null,null,null,null,null,null,null,null,null,null,null,null,null,null,null,null,null,null,1997,"非住宅","その他",{"$f":"INDEX(#REF!, 9 + QUOTIENT(ROW(AL181)-2, 10), 1 + MOD(ROW(AL181)-2, 10))","v":{"$error":"#REF!"}}]
[null,null,null,null,null,null,null,null,null,null,null,null,null,null,null,null,null,null,null,null,null,null,null,null,null,null,null,null,null,null,null,null,null,null,1998,"住宅","木造",{"$f":"INDEX(#REF!, 9 + QUOTIENT(ROW(AL182)-2, 10), 1 + MOD(ROW(AL182)-2, 10))","v":{"$error":"#REF!"}}]
[null,null,null,null,null,null,null,null,null,null,null,null,null,null,null,null,null,null,null,null,null,null,null,null,null,null,null,null,null,null,null,null,null,null,1998,"住宅","SRC造",{"$f":"INDEX(#REF!, 9 + QUOTIENT(ROW(AL183)-2, 10), 1 + MOD(ROW(AL183)-2, 10))","v":{"$error":"#REF!"}}]
[null,null,null,null,null,null,null,null,null,null,null,null,null,null,null,null,null,null,null,null,null,null,null,null,null,null,null,null,null,null,null,null,null,null,1998,"住宅","RC造",{"$f":"INDEX(#REF!, 9 + QUOTIENT(ROW(AL184)-2, 10), 1 + MOD(ROW(AL184)-2, 10))","v":{"$error":"#REF!"}}]
[null,null,null,null,null,null,null,null,null,null,null,null,null,null,null,null,null,null,null,null,null,null,null,null,null,null,null,null,null,null,null,null,null,null,1998,"住宅","S造",{"$f":"INDEX(#REF!, 9 + QUOTIENT(ROW(AL185)-2, 10), 1 + MOD(ROW(AL185)-2, 10))","v":{"$error":"#REF!"}}]
[null,null,null,null,null,null,null,null,null,null,null,null,null,null,null,null,null,null,null,null,null,null,null,null,null,null,null,null,null,null,null,null,null,null,1998,"住宅","その他",{"$f":"INDEX(#REF!, 9 + QUOTIENT(ROW(AL186)-2, 10), 1 + MOD(ROW(AL186)-2, 10))","v":{"$error":"#REF!"}}]
[null,null,null,null,null,null,null,null,null,null,null,null,null,null,null,null,null,null,null,null,null,null,null,null,null,null,null,null,null,null,null,null,null,null,1998,"非住宅","木造",{"$f":"INDEX(#REF!, 9 + QUOTIENT(ROW(AL187)-2, 10), 1 + MOD(ROW(AL187)-2, 10))","v":{"$error":"#REF!"}}]
[null,null,null,null,null,null,null,null,null,null,null,null,null,null,null,null,null,null,null,null,null,null,null,null,null,null,null,null,null,null,null,null,null,null,1998,"非住宅","SRC造",{"$f":"INDEX(#REF!, 9 + QUOTIENT(ROW(AL188)-2, 10), 1 + MOD(ROW(AL188)-2, 10))","v":{"$error":"#REF!"}}]
[null,null,null,null,null,null,null,null,null,null,null,null,null,null,null,null,null,null,null,null,null,null,null,null,null,null,null,null,null,null,null,null,null,null,1998,"非住宅","RC造",{"$f":"INDEX(#REF!, 9 + QUOTIENT(ROW(AL189)-2, 10), 1 + MOD(ROW(AL189)-2, 10))","v":{"$error":"#REF!"}}]
[null,null,null,null,null,null,null,null,null,null,null,null,null,null,null,null,null,null,null,null,null,null,null,null,null,null,null,null,null,null,null,null,null,null,1998,"非住宅","S造",{"$f":"INDEX(#REF!, 9 + QUOTIENT(ROW(AL190)-2, 10), 1 + MOD(ROW(AL190)-2, 10))","v":{"$error":"#REF!"}}]
[null,null,null,null,null,null,null,null,null,null,null,null,null,null,null,null,null,null,null,null,null,null,null,null,null,null,null,null,null,null,null,null,null,null,1998,"非住宅","その他",{"$f":"INDEX(#REF!, 9 + QUOTIENT(ROW(AL191)-2, 10), 1 + MOD(ROW(AL191)-2, 10))","v":{"$error":"#REF!"}}]
[null,null,null,null,null,null,null,null,null,null,null,null,null,null,null,null,null,null,null,null,null,null,null,null,null,null,null,null,null,null,null,null,null,null,1999,"住宅","木造",{"$f":"INDEX(#REF!, 9 + QUOTIENT(ROW(AL192)-2, 10), 1 + MOD(ROW(AL192)-2, 10))","v":{"$error":"#REF!"}}]
[null,null,null,null,null,null,null,null,null,null,null,null,null,null,null,null,null,null,null,null,null,null,null,null,null,null,null,null,null,null,null,null,null,null,1999,"住宅","SRC造",{"$f":"INDEX(#REF!, 9 + QUOTIENT(ROW(AL193)-2, 10), 1 + MOD(ROW(AL193)-2, 10))","v":{"$error":"#REF!"}}]
[null,null,null,null,null,null,null,null,null,null,null,null,null,null,null,null,null,null,null,null,null,null,null,null,null,null,null,null,null,null,null,null,null,null,1999,"住宅","RC造",{"$f":"INDEX(#REF!, 9 + QUOTIENT(ROW(AL194)-2, 10), 1 + MOD(ROW(AL194)-2, 10))","v":{"$error":"#REF!"}}]
[null,null,null,null,null,null,null,null,null,null,null,null,null,null,null,null,null,null,null,null,null,null,null,null,null,null,null,null,null,null,null,null,null,null,1999,"住宅","S造",{"$f":"INDEX(#REF!, 9 + QUOTIENT(ROW(AL195)-2, 10), 1 + MOD(ROW(AL195)-2, 10))","v":{"$error":"#REF!"}}]
[null,null,null,null,null,null,null,null,null,null,null,null,null,null,null,null,null,null,null,null,null,null,null,null,null,null,null,null,null,null,null,null,null,null,1999,"住宅","その他",{"$f":"INDEX(#REF!, 9 + QUOTIENT(ROW(AL196)-2, 10), 1 + MOD(ROW(AL196)-2, 10))","v":{"$error":"#REF!"}}]
[null,null,null,null,null,null,null,null,null,null,null,null,null,null,null,null,null,null,null,null,null,null,null,null,null,null,null,null,null,null,null,null,null,null,1999,"非住宅","木造",{"$f":"INDEX(#REF!, 9 + QUOTIENT(ROW(AL197)-2, 10), 1 + MOD(ROW(AL197)-2, 10))","v":{"$error":"#REF!"}}]
[null,null,null,null,null,null,null,null,null,null,null,null,null,null,null,null,null,null,null,null,null,null,null,null,null,null,null,null,null,null,null,null,null,null,1999,"非住宅","SRC造",{"$f":"INDEX(#REF!, 9 + QUOTIENT(ROW(AL198)-2, 10), 1 + MOD(ROW(AL198)-2, 10))","v":{"$error":"#REF!"}}]
[null,null,null,null,null,null,null,null,null,null,null,null,null,null,null,null,null,null,null,null,null,null,null,null,null,null,null,null,null,null,null,null,null,null,1999,"非住宅","RC造",{"$f":"INDEX(#REF!, 9 + QUOTIENT(ROW(AL199)-2, 10), 1 + MOD(ROW(AL199)-2, 10))","v":{"$error":"#REF!"}}]
[null,null,null,null,null,null,null,null,null,null,null,null,null,null,null,null,null,null,null,null,null,null,null,null,null,null,null,null,null,null,null,null,null,null,1999,"非住宅","S造",{"$f":"INDEX(#REF!, 9 + QUOTIENT(ROW(AL200)-2, 10), 1 + MOD(ROW(AL200)-2, 10))","v":{"$error":"#REF!"}}]
[null,null,null,null,null,null,null,null,null,null,null,null,null,null,null,null,null,null,null,null,null,null,null,null,null,null,null,null,null,null,null,null,null,null,1999,"非住宅","その他",{"$f":"INDEX(#REF!, 9 + QUOTIENT(ROW(AL201)-2, 10), 1 + MOD(ROW(AL201)-2, 10))","v":{"$error":"#REF!"}}]
[null,null,null,null,null,null,null,null,null,null,null,null,null,null,null,null,null,null,null,null,null,null,null,null,null,null,null,null,null,null,null,null,null,null,2000,"住宅","木造",{"$f":"INDEX(#REF!, 9 + QUOTIENT(ROW(AL202)-2, 10), 1 + MOD(ROW(AL202)-2, 10))","v":{"$error":"#REF!"}}]
[null,null,null,null,null,null,null,null,null,null,null,null,null,null,null,null,null,null,null,null,null,null,null,null,null,null,null,null,null,null,null,null,null,null,2000,"住宅","SRC造",{"$f":"INDEX(#REF!, 9 + QUOTIENT(ROW(AL203)-2, 10), 1 + MOD(ROW(AL203)-2, 10))","v":{"$error":"#REF!"}}]
[null,null,null,null,null,null,null,null,null,null,null,null,null,null,null,null,null,null,null,null,null,null,null,null,null,null,null,null,null,null,null,null,null,null,2000,"住宅","RC造",{"$f":"INDEX(#REF!, 9 + QUOTIENT(ROW(AL204)-2, 10), 1 + MOD(ROW(AL204)-2, 10))","v":{"$error":"#REF!"}}]
[null,null,null,null,null,null,null,null,null,null,null,null,null,null,null,null,null,null,null,null,null,null,null,null,null,null,null,null,null,null,null,null,null,null,2000,"住宅","S造",{"$f":"INDEX(#REF!, 9 + QUOTIENT(ROW(AL205)-2, 10), 1 + MOD(ROW(AL205)-2, 10))","v":{"$error":"#REF!"}}]
[null,null,null,null,null,null,null,null,null,null,null,null,null,null,null,null,null,null,null,null,null,null,null,null,null,null,null,null,null,null,null,null,null,null,2000,"住宅","その他",{"$f":"INDEX(#REF!, 9 + QUOTIENT(ROW(AL206)-2, 10), 1 + MOD(ROW(AL206)-2, 10))","v":{"$error":"#REF!"}}]
[null,null,null,null,null,null,null,null,null,null,null,null,null,null,null,null,null,null,null,null,null,null,null,null,null,null,null,null,null,null,null,null,null,null,2000,"非住宅","木造",{"$f":"INDEX(#REF!, 9 + QUOTIENT(ROW(AL207)-2, 10), 1 + MOD(ROW(AL207)-2, 10))","v":{"$error":"#REF!"}}]
[null,null,null,null,null,null,null,null,null,null,null,null,null,null,null,null,null,null,null,null,null,null,null,null,null,null,null,null,null,null,null,null,null,null,2000,"非住宅","SRC造",{"$f":"INDEX(#REF!, 9 + QUOTIENT(ROW(AL208)-2, 10), 1 + MOD(ROW(AL208)-2, 10))","v":{"$error":"#REF!"}}]
[null,null,null,null,null,null,null,null,null,null,null,null,null,null,null,null,null,null,null,null,null,null,null,null,null,null,null,null,null,null,null,null,null,null,2000,"非住宅","RC造",{"$f":"INDEX(#REF!, 9 + QUOTIENT(ROW(AL209)-2, 10), 1 + MOD(ROW(AL209)-2, 10))","v":{"$error":"#REF!"}}]
[null,null,null,null,null,null,null,null,null,null,null,null,null,null,null,null,null,null,null,null,null,null,null,null,null,null,null,null,null,null,null,null,null,null,2000,"非住宅","S造",{"$f":"INDEX(#REF!, 9 + QUOTIENT(ROW(AL210)-2, 10), 1 + MOD(ROW(AL210)-2, 10))","v":{"$error":"#REF!"}}]
[null,null,null,null,null,null,null,null,null,null,null,null,null,null,null,null,null,null,null,null,null,null,null,null,null,null,null,null,null,null,null,null,null,null,2000,"非住宅","その他",{"$f":"INDEX(#REF!, 9 + QUOTIENT(ROW(AL211)-2, 10), 1 + MOD(ROW(AL211)-2, 10))","v":{"$error":"#REF!"}}]
[null,null,null,null,null,null,null,null,null,null,null,null,null,null,null,null,null,null,null,null,null,null,null,null,null,null,null,null,null,null,null,null,null,null,2001,"住宅","木造",{"$f":"INDEX(#REF!, 9 + QUOTIENT(ROW(AL212)-2, 10), 1 + MOD(ROW(AL212)-2, 10))","v":{"$error":"#REF!"}}]
[null,null,null,null,null,null,null,null,null,null,null,null,null,null,null,null,null,null,null,null,null,null,null,null,null,null,null,null,null,null,null,null,null,null,2001,"住宅","SRC造",{"$f":"INDEX(#REF!, 9 + QUOTIENT(ROW(AL213)-2, 10), 1 + MOD(ROW(AL213)-2, 10))","v":{"$error":"#REF!"}}]
[null,null,null,null,null,null,null,null,null,null,null,null,null,null,null,null,null,null,null,null,null,null,null,null,null,null,null,null,null,null,null,null,null,null,2001,"住宅","RC造",{"$f":"INDEX(#REF!, 9 + QUOTIENT(ROW(AL214)-2, 10), 1 + MOD(ROW(AL214)-2, 10))","v":{"$error":"#REF!"}}]
[null,null,null,null,null,null,null,null,null,null,null,null,null,null,null,null,null,null,null,null,null,null,null,null,null,null,null,null,null,null,null,null,null,null,2001,"住宅","S造",{"$f":"INDEX(#REF!, 9 + QUOTIENT(ROW(AL215)-2, 10), 1 + MOD(ROW(AL215)-2, 10))","v":{"$error":"#REF!"}}]
[null,null,null,null,null,null,null,null,null,null,null,null,null,null,null,null,null,null,null,null,null,null,null,null,null,null,null,null,null,null,null,null,null,null,2001,"住宅","その他",{"$f":"INDEX(#REF!, 9 + QUOTIENT(ROW(AL216)-2, 10), 1 + MOD(ROW(AL216)-2, 10))","v":{"$error":"#REF!"}}]
[null,null,null,null,null,null,null,null,null,null,null,null,null,null,null,null,null,null,null,null,null,null,null,null,null,null,null,null,null,null,null,null,null,null,2001,"非住宅","木造",{"$f":"INDEX(#REF!, 9 + QUOTIENT(ROW(AL217)-2, 10), 1 + MOD(ROW(AL217)-2, 10))","v":{"$error":"#REF!"}}]
[null,null,null,null,null,null,null,null,null,null,null,null,null,null,null,null,null,null,null,null,null,null,null,null,null,null,null,null,null,null,null,null,null,null,2001,"非住宅","SRC造",{"$f":"INDEX(#REF!, 9 + QUOTIENT(ROW(AL218)-2, 10), 1 + MOD(ROW(AL218)-2, 10))","v":{"$error":"#REF!"}}]
[null,null,null,null,null,null,null,null,null,null,null,null,null,null,null,null,null,null,null,null,null,null,null,null,null,null,null,null,null,null,null,null,null,null,2001,"非住宅","RC造",{"$f":"INDEX(#REF!, 9 + QUOTIENT(ROW(AL219)-2, 10), 1 + MOD(ROW(AL219)-2, 10))","v":{"$error":"#REF!"}}]
[null,null,null,null,null,null,null,null,null,null,null,null,null,null,null,null,null,null,null,null,null,null,null,null,null,null,null,null,null,null,null,null,null,null,2001,"非住宅","S造",{"$f":"INDEX(#REF!, 9 + QUOTIENT(ROW(AL220)-2, 10), 1 + MOD(ROW(AL220)-2, 10))","v":{"$error":"#REF!"}}]
[null,null,null,null,null,null,null,null,null,null,null,null,null,null,null,null,null,null,null,null,null,null,null,null,null,null,null,null,null,null,null,null,null,null,2001,"非住宅","その他",{"$f":"INDEX(#REF!, 9 + QUOTIENT(ROW(AL221)-2, 10), 1 + MOD(ROW(AL221)-2, 10))","v":{"$error":"#REF!"}}]
[null,null,null,null,null,null,null,null,null,null,null,null,null,null,null,null,null,null,null,null,null,null,null,null,null,null,null,null,null,null,null,null,null,null,2002,"住宅","木造",{"$f":"INDEX(#REF!, 9 + QUOTIENT(ROW(AL222)-2, 10), 1 + MOD(ROW(AL222)-2, 10))","v":{"$error":"#REF!"}}]
[null,null,null,null,null,null,null,null,null,null,null,null,null,null,null,null,null,null,null,null,null,null,null,null,null,null,null,null,null,null,null,null,null,null,2002,"住宅","SRC造",{"$f":"INDEX(#REF!, 9 + QUOTIENT(ROW(AL223)-2, 10), 1 + MOD(ROW(AL223)-2, 10))","v":{"$error":"#REF!"}}]
[null,null,null,null,null,null,null,null,null,null,null,null,null,null,null,null,null,null,null,null,null,null,null,null,null,null,null,null,null,null,null,null,null,null,2002,"住宅","RC造",{"$f":"INDEX(#REF!, 9 + QUOTIENT(ROW(AL224)-2, 10), 1 + MOD(ROW(AL224)-2, 10))","v":{"$error":"#REF!"}}]
[null,null,null,null,null,null,null,null,null,null,null,null,null,null,null,null,null,null,null,null,null,null,null,null,null,null,null,null,null,null,null,null,null,null,2002,"住宅","S造",{"$f":"INDEX(#REF!, 9 + QUOTIENT(ROW(AL225)-2, 10), 1 + MOD(ROW(AL225)-2, 10))","v":{"$error":"#REF!"}}]
[null,null,null,null,null,null,null,null,null,null,null,null,null,null,null,null,null,null,null,null,null,null,null,null,null,null,null,null,null,null,null,null,null,null,2002,"住宅","その他",{"$f":"INDEX(#REF!, 9 + QUOTIENT(ROW(AL226)-2, 10), 1 + MOD(ROW(AL226)-2, 10))","v":{"$error":"#REF!"}}]
[null,null,null,null,null,null,null,null,null,null,null,null,null,null,null,null,null,null,null,null,null,null,null,null,null,null,null,null,null,null,null,null,null,null,2002,"非住宅","木造",{"$f":"INDEX(#REF!, 9 + QUOTIENT(ROW(AL227)-2, 10), 1 + MOD(ROW(AL227)-2, 10))","v":{"$error":"#REF!"}}]
[null,null,null,null,null,null,null,null,null,null,null,null,null,null,null,null,null,null,null,null,null,null,null,null,null,null,null,null,null,null,null,null,null,null,2002,"非住宅","SRC造",{"$f":"INDEX(#REF!, 9 + QUOTIENT(ROW(AL228)-2, 10), 1 + MOD(ROW(AL228)-2, 10))","v":{"$error":"#REF!"}}]
[null,null,null,null,null,null,null,null,null,null,null,null,null,null,null,null,null,null,null,null,null,null,null,null,null,null,null,null,null,null,null,null,null,null,2002,"非住宅","RC造",{"$f":"INDEX(#REF!, 9 + QUOTIENT(ROW(AL229)-2, 10), 1 + MOD(ROW(AL229)-2, 10))","v":{"$error":"#REF!"}}]
[null,null,null,null,null,null,null,null,null,null,null,null,null,null,null,null,null,null,null,null,null,null,null,null,null,null,null,null,null,null,null,null,null,null,2002,"非住宅","S造",{"$f":"INDEX(#REF!, 9 + QUOTIENT(ROW(AL230)-2, 10), 1 + MOD(ROW(AL230)-2, 10))","v":{"$error":"#REF!"}}]
[null,null,null,null,null,null,null,null,null,null,null,null,null,null,null,null,null,null,null,null,null,null,null,null,null,null,null,null,null,null,null,null,null,null,2002,"非住宅","その他",{"$f":"INDEX(#REF!, 9 + QUOTIENT(ROW(AL231)-2, 10), 1 + MOD(ROW(AL231)-2, 10))","v":{"$error":"#REF!"}}]
[null,null,null,null,null,null,null,null,null,null,null,null,null,null,null,null,null,null,null,null,null,null,null,null,null,null,null,null,null,null,null,null,null,null,2003,"住宅","木造",{"$f":"INDEX(#REF!, 9 + QUOTIENT(ROW(AL232)-2, 10), 1 + MOD(ROW(AL232)-2, 10))","v":{"$error":"#REF!"}}]
[null,null,null,null,null,null,null,null,null,null,null,null,null,null,null,null,null,null,null,null,null,null,null,null,null,null,null,null,null,null,null,null,null,null,2003,"住宅","SRC造",{"$f":"INDEX(#REF!, 9 + QUOTIENT(ROW(AL233)-2, 10), 1 + MOD(ROW(AL233)-2, 10))","v":{"$error":"#REF!"}}]
[null,null,null,null,null,null,null,null,null,null,null,null,null,null,null,null,null,null,null,null,null,null,null,null,null,null,null,null,null,null,null,null,null,null,2003,"住宅","RC造",{"$f":"INDEX(#REF!, 9 + QUOTIENT(ROW(AL234)-2, 10), 1 + MOD(ROW(AL234)-2, 10))","v":{"$error":"#REF!"}}]
[null,null,null,null,null,null,null,null,null,null,null,null,null,null,null,null,null,null,null,null,null,null,null,null,null,null,null,null,null,null,null,null,null,null,2003,"住宅","S造",{"$f":"INDEX(#REF!, 9 + QUOTIENT(ROW(AL235)-2, 10), 1 + MOD(ROW(AL235)-2, 10))","v":{"$error":"#REF!"}}]
[null,null,null,null,null,null,null,null,null,null,null,null,null,null,null,null,null,null,null,null,null,null,null,null,null,null,null,null,null,null,null,null,null,null,2003,"住宅","その他",{"$f":"INDEX(#REF!, 9 + QUOTIENT(ROW(AL236)-2, 10), 1 + MOD(ROW(AL236)-2, 10))","v":{"$error":"#REF!"}}]
[null,null,null,null,null,null,null,null,null,null,null,null,null,null,null,null,null,null,null,null,null,null,null,null,null,null,null,null,null,null,null,null,null,null,2003,"非住宅","木造",{"$f":"INDEX(#REF!, 9 + QUOTIENT(ROW(AL237)-2, 10), 1 + MOD(ROW(AL237)-2, 10))","v":{"$error":"#REF!"}}]
[null,null,null,null,null,null,null,null,null,null,null,null,null,null,null,null,null,null,null,null,null,null,null,null,null,null,null,null,null,null,null,null,null,null,2003,"非住宅","SRC造",{"$f":"INDEX(#REF!, 9 + QUOTIENT(ROW(AL238)-2, 10), 1 + MOD(ROW(AL238)-2, 10))","v":{"$error":"#REF!"}}]
[null,null,null,null,null,null,null,null,null,null,null,null,null,null,null,null,null,null,null,null,null,null,null,null,null,null,null,null,null,null,null,null,null,null,2003,"非住宅","RC造",{"$f":"INDEX(#REF!, 9 + QUOTIENT(ROW(AL239)-2, 10), 1 + MOD(ROW(AL239)-2, 10))","v":{"$error":"#REF!"}}]
[null,null,null,null,null,null,null,null,null,null,null,null,null,null,null,null,null,null,null,null,null,null,null,null,null,null,null,null,null,null,null,null,null,null,2003,"非住宅","S造",{"$f":"INDEX(#REF!, 9 + QUOTIENT(ROW(AL240)-2, 10), 1 + MOD(ROW(AL240)-2, 10))","v":{"$error":"#REF!"}}]
[null,null,null,null,null,null,null,null,null,null,null,null,null,null,null,null,null,null,null,null,null,null,null,null,null,null,null,null,null,null,null,null,null,null,2003,"非住宅","その他",{"$f":"INDEX(#REF!, 9 + QUOTIENT(ROW(AL241)-2, 10), 1 + MOD(ROW(AL241)-2, 10))","v":{"$error":"#REF!"}}]
[null,null,null,null,null,null,null,null,null,null,null,null,null,null,null,null,null,null,null,null,null,null,null,null,null,null,null,null,null,null,null,null,null,null,2004,"住宅","木造",{"$f":"INDEX(#REF!, 9 + QUOTIENT(ROW(AL242)-2, 10), 1 + MOD(ROW(AL242)-2, 10))","v":{"$error":"#REF!"}}]
[null,null,null,null,null,null,null,null,null,null,null,null,null,null,null,null,null,null,null,null,null,null,null,null,null,null,null,null,null,null,null,null,null,null,2004,"住宅","SRC造",{"$f":"INDEX(#REF!, 9 + QUOTIENT(ROW(AL243)-2, 10), 1 + MOD(ROW(AL243)-2, 10))","v":{"$error":"#REF!"}}]
[null,null,null,null,null,null,null,null,null,null,null,null,null,null,null,null,null,null,null,null,null,null,null,null,null,null,null,null,null,null,null,null,null,null,2004,"住宅","RC造",{"$f":"INDEX(#REF!, 9 + QUOTIENT(ROW(AL244)-2, 10), 1 + MOD(ROW(AL244)-2, 10))","v":{"$error":"#REF!"}}]
[null,null,null,null,null,null,null,null,null,null,null,null,null,null,null,null,null,null,null,null,null,null,null,null,null,null,null,null,null,null,null,null,null,null,2004,"住宅","S造",{"$f":"INDEX(#REF!, 9 + QUOTIENT(ROW(AL245)-2, 10), 1 + MOD(ROW(AL245)-2, 10))","v":{"$error":"#REF!"}}]
[null,null,null,null,null,null,null,null,null,null,null,null,null,null,null,null,null,null,null,null,null,null,null,null,null,null,null,null,null,null,null,null,null,null,2004,"住宅","その他",{"$f":"INDEX(#REF!, 9 + QUOTIENT(ROW(AL246)-2, 10), 1 + MOD(ROW(AL246)-2, 10))","v":{"$error":"#REF!"}}]
[null,null,null,null,null,null,null,null,null,null,null,null,null,null,null,null,null,null,null,null,null,null,null,null,null,null,null,null,null,null,null,null,null,null,2004,"非住宅","木造",{"$f":"INDEX(#REF!, 9 + QUOTIENT(ROW(AL247)-2, 10), 1 + MOD(ROW(AL247)-2, 10))","v":{"$error":"#REF!"}}]
[null,null,null,null,null,null,null,null,null,null,null,null,null,null,null,null,null,null,null,null,null,null,null,null,null,null,null,null,null,null,null,null,null,null,2004,"非住宅","SRC造",{"$f":"INDEX(#REF!, 9 + QUOTIENT(ROW(AL248)-2, 10), 1 + MOD(ROW(AL248)-2, 10))","v":{"$error":"#REF!"}}]
[null,null,null,null,null,null,null,null,null,null,null,null,null,null,null,null,null,null,null,null,null,null,null,null,null,null,null,null,null,null,null,null,null,null,2004,"非住宅","RC造",{"$f":"INDEX(#REF!, 9 + QUOTIENT(ROW(AL249)-2, 10), 1 + MOD(ROW(AL249)-2, 10))","v":{"$error":"#REF!"}}]
[null,null,null,null,null,null,null,null,null,null,null,null,null,null,null,null,null,null,null,null,null,null,null,null,null,null,null,null,null,null,null,null,null,null,2004,"非住宅","S造",{"$f":"INDEX(#REF!, 9 + QUOTIENT(ROW(AL250)-2, 10), 1 + MOD(ROW(AL250)-2, 10))","v":{"$error":"#REF!"}}]
[null,null,null,null,null,null,null,null,null,null,null,null,null,null,null,null,null,null,null,null,null,null,null,null,null,null,null,null,null,null,null,null,null,null,2004,"非住宅","その他",{"$f":"INDEX(#REF!, 9 + QUOTIENT(ROW(AL251)-2, 10), 1 + MOD(ROW(AL251)-2, 10))","v":{"$error":"#REF!"}}]
[null,null,null,null,null,null,null,null,null,null,null,null,null,null,null,null,null,null,null,null,null,null,null,null,null,null,null,null,null,null,null,null,null,null,2005,"住宅","木造",{"$f":"INDEX(#REF!, 9 + QUOTIENT(ROW(AL252)-2, 10), 1 + MOD(ROW(AL252)-2, 10))","v":{"$error":"#REF!"}}]
[null,null,null,null,null,null,null,null,null,null,null,null,null,null,null,null,null,null,null,null,null,null,null,null,null,null,null,null,null,null,null,null,null,null,2005,"住宅","SRC造",{"$f":"INDEX(#REF!, 9 + QUOTIENT(ROW(AL253)-2, 10), 1 + MOD(ROW(AL253)-2, 10))","v":{"$error":"#REF!"}}]
[null,null,null,null,null,null,null,null,null,null,null,null,null,null,null,null,null,null,null,null,null,null,null,null,null,null,null,null,null,null,null,null,null,null,2005,"住宅","RC造",{"$f":"INDEX(#REF!, 9 + QUOTIENT(ROW(AL254)-2, 10), 1 + MOD(ROW(AL254)-2, 10))","v":{"$error":"#REF!"}}]
[null,null,null,null,null,null,null,null,null,null,null,null,null,null,null,null,null,null,null,null,null,null,null,null,null,null,null,null,null,null,null,null,null,null,2005,"住宅","S造",{"$f":"INDEX(#REF!, 9 + QUOTIENT(ROW(AL255)-2, 10), 1 + MOD(ROW(AL255)-2, 10))","v":{"$error":"#REF!"}}]
[null,null,null,null,null,null,null,null,null,null,null,null,null,null,null,null,null,null,null,null,null,null,null,null,null,null,null,null,null,null,null,null,null,null,2005,"住宅","その他",{"$f":"INDEX(#REF!, 9 + QUOTIENT(ROW(AL256)-2, 10), 1 + MOD(ROW(AL256)-2, 10))","v":{"$error":"#REF!"}}]
[null,null,null,null,null,null,null,null,null,null,null,null,null,null,null,null,null,null,null,null,null,null,null,null,null,null,null,null,null,null,null,null,null,null,2005,"非住宅","木造",{"$f":"INDEX(#REF!, 9 + QUOTIENT(ROW(AL257)-2, 10), 1 + MOD(ROW(AL257)-2, 10))","v":{"$error":"#REF!"}}]
[null,null,null,null,null,null,null,null,null,null,null,null,null,null,null,null,null,null,null,null,null,null,null,null,null,null,null,null,null,null,null,null,null,null,2005,"非住宅","SRC造",{"$f":"INDEX(#REF!, 9 + QUOTIENT(ROW(AL258)-2, 10), 1 + MOD(ROW(AL258)-2, 10))","v":{"$error":"#REF!"}}]
[null,null,null,null,null,null,null,null,null,null,null,null,null,null,null,null,null,null,null,null,null,null,null,null,null,null,null,null,null,null,null,null,null,null,2005,"非住宅","RC造",{"$f":"INDEX(#REF!, 9 + QUOTIENT(ROW(AL259)-2, 10), 1 + MOD(ROW(AL259)-2, 10))","v":{"$error":"#REF!"}}]
[null,null,null,null,null,null,null,null,null,null,null,null,null,null,null,null,null,null,null,null,null,null,null,null,null,null,null,null,null,null,null,null,null,null,2005,"非住宅","S造",{"$f":"INDEX(#REF!, 9 + QUOTIENT(ROW(AL260)-2, 10), 1 + MOD(ROW(AL260)-2, 10))","v":{"$error":"#REF!"}}]
[null,null,null,null,null,null,null,null,null,null,null,null,null,null,null,null,null,null,null,null,null,null,null,null,null,null,null,null,null,null,null,null,null,null,2005,"非住宅","その他",{"$f":"INDEX(#REF!, 9 + QUOTIENT(ROW(AL261)-2, 10), 1 + MOD(ROW(AL261)-2, 10))","v":{"$error":"#REF!"}}]
[null,null,null,null,null,null,null,null,null,null,null,null,null,null,null,null,null,null,null,null,null,null,null,null,null,null,null,null,null,null,null,null,null,null,2006,"住宅","木造",{"$f":"INDEX(#REF!, 9 + QUOTIENT(ROW(AL262)-2, 10), 1 + MOD(ROW(AL262)-2, 10))","v":{"$error":"#REF!"}}]
[null,null,null,null,null,null,null,null,null,null,null,null,null,null,null,null,null,null,null,null,null,null,null,null,null,null,null,null,null,null,null,null,null,null,2006,"住宅","SRC造",{"$f":"INDEX(#REF!, 9 + QUOTIENT(ROW(AL263)-2, 10), 1 + MOD(ROW(AL263)-2, 10))","v":{"$error":"#REF!"}}]
[null,null,null,null,null,null,null,null,null,null,null,null,null,null,null,null,null,null,null,null,null,null,null,null,null,null,null,null,null,null,null,null,null,null,2006,"住宅","RC造",{"$f":"INDEX(#REF!, 9 + QUOTIENT(ROW(AL264)-2, 10), 1 + MOD(ROW(AL264)-2, 10))","v":{"$error":"#REF!"}}]
[null,null,null,null,null,null,null,null,null,null,null,null,null,null,null,null,null,null,null,null,null,null,null,null,null,null,null,null,null,null,null,null,null,null,2006,"住宅","S造",{"$f":"INDEX(#REF!, 9 + QUOTIENT(ROW(AL265)-2, 10), 1 + MOD(ROW(AL265)-2, 10))","v":{"$error":"#REF!"}}]
[null,null,null,null,null,null,null,null,null,null,null,null,null,null,null,null,null,null,null,null,null,null,null,null,null,null,null,null,null,null,null,null,null,null,2006,"住宅","その他",{"$f":"INDEX(#REF!, 9 + QUOTIENT(ROW(AL266)-2, 10), 1 + MOD(ROW(AL266)-2, 10))","v":{"$error":"#REF!"}}]
[null,null,null,null,null,null,null,null,null,null,null,null,null,null,null,null,null,null,null,null,null,null,null,null,null,null,null,null,null,null,null,null,null,null,2006,"非住宅","木造",{"$f":"INDEX(#REF!, 9 + QUOTIENT(ROW(AL267)-2, 10), 1 + MOD(ROW(AL267)-2, 10))","v":{"$error":"#REF!"}}]
[null,null,null,null,null,null,null,null,null,null,null,null,null,null,null,null,null,null,null,null,null,null,null,null,null,null,null,null,null,null,null,null,null,null,2006,"非住宅","SRC造",{"$f":"INDEX(#REF!, 9 + QUOTIENT(ROW(AL268)-2, 10), 1 + MOD(ROW(AL268)-2, 10))","v":{"$error":"#REF!"}}]
[null,null,null,null,null,null,null,null,null,null,null,null,null,null,null,null,null,null,null,null,null,null,null,null,null,null,null,null,null,null,null,null,null,null,2006,"非住宅","RC造",{"$f":"INDEX(#REF!, 9 + QUOTIENT(ROW(AL269)-2, 10), 1 + MOD(ROW(AL269)-2, 10))","v":{"$error":"#REF!"}}]
[null,null,null,null,null,null,null,null,null,null,null,null,null,null,null,null,null,null,null,null,null,null,null,null,null,null,null,null,null,null,null,null,null,null,2006,"非住宅","S造",{"$f":"INDEX(#REF!, 9 + QUOTIENT(ROW(AL270)-2, 10), 1 + MOD(ROW(AL270)-2, 10))","v":{"$error":"#REF!"}}]
[null,null,null,null,null,null,null,null,null,null,null,null,null,null,null,null,null,null,null,null,null,null,null,null,null,null,null,null,null,null,null,null,null,null,2006,"非住宅","その他",{"$f":"INDEX(#REF!, 9 + QUOTIENT(ROW(AL271)-2, 10), 1 + MOD(ROW(AL271)-2, 10))","v":{"$error":"#REF!"}}]
[null,null,null,null,null,null,null,null,null,null,null,null,null,null,null,null,null,null,null,null,null,null,null,null,null,null,null,null,null,null,null,null,null,null,2007,"住宅","木造",{"$f":"INDEX(#REF!, 9 + QUOTIENT(ROW(AL272)-2, 10), 1 + MOD(ROW(AL272)-2, 10))","v":{"$error":"#REF!"}}]
[null,null,null,null,null,null,null,null,null,null,null,null,null,null,null,null,null,null,null,null,null,null,null,null,null,null,null,null,null,null,null,null,null,null,2007,"住宅","SRC造",{"$f":"INDEX(#REF!, 9 + QUOTIENT(ROW(AL273)-2, 10), 1 + MOD(ROW(AL273)-2, 10))","v":{"$error":"#REF!"}}]
[null,null,null,null,null,null,null,null,null,null,null,null,null,null,null,null,null,null,null,null,null,null,null,null,null,null,null,null,null,null,null,null,null,null,2007,"住宅","RC造",{"$f":"INDEX(#REF!, 9 + QUOTIENT(ROW(AL274)-2, 10), 1 + MOD(ROW(AL274)-2, 10))","v":{"$error":"#REF!"}}]
[null,null,null,null,null,null,null,null,null,null,null,null,null,null,null,null,null,null,null,null,null,null,null,null,null,null,null,null,null,null,null,null,null,null,2007,"住宅","S造",{"$f":"INDEX(#REF!, 9 + QUOTIENT(ROW(AL275)-2, 10), 1 + MOD(ROW(AL275)-2, 10))","v":{"$error":"#REF!"}}]
[null,null,null,null,null,null,null,null,null,null,null,null,null,null,null,null,null,null,null,null,null,null,null,null,null,null,null,null,null,null,null,null,null,null,2007,"住宅","その他",{"$f":"INDEX(#REF!, 9 + QUOTIENT(ROW(AL276)-2, 10), 1 + MOD(ROW(AL276)-2, 10))","v":{"$error":"#REF!"}}]
[null,null,null,null,null,null,null,null,null,null,null,null,null,null,null,null,null,null,null,null,null,null,null,null,null,null,null,null,null,null,null,null,null,null,2007,"非住宅","木造",{"$f":"INDEX(#REF!, 9 + QUOTIENT(ROW(AL277)-2, 10), 1 + MOD(ROW(AL277)-2, 10))","v":{"$error":"#REF!"}}]
[null,null,null,null,null,null,null,null,null,null,null,null,null,null,null,null,null,null,null,null,null,null,null,null,null,null,null,null,null,null,null,null,null,null,2007,"非住宅","SRC造",{"$f":"INDEX(#REF!, 9 + QUOTIENT(ROW(AL278)-2, 10), 1 + MOD(ROW(AL278)-2, 10))","v":{"$error":"#REF!"}}]
[null,null,null,null,null,null,null,null,null,null,null,null,null,null,null,null,null,null,null,null,null,null,null,null,null,null,null,null,null,null,null,null,null,null,2007,"非住宅","RC造",{"$f":"INDEX(#REF!, 9 + QUOTIENT(ROW(AL279)-2, 10), 1 + MOD(ROW(AL279)-2, 10))","v":{"$error":"#REF!"}}]
[null,null,null,null,null,null,null,null,null,null,null,null,null,null,null,null,null,null,null,null,null,null,null,null,null,null,null,null,null,null,null,null,null,null,2007,"非住宅","S造",{"$f":"INDEX(#REF!, 9 + QUOTIENT(ROW(AL280)-2, 10), 1 + MOD(ROW(AL280)-2, 10))","v":{"$error":"#REF!"}}]
[null,null,null,null,null,null,null,null,null,null,null,null,null,null,null,null,null,null,null,null,null,null,null,null,null,null,null,null,null,null,null,null,null,null,2007,"非住宅","その他",{"$f":"INDEX(#REF!, 9 + QUOTIENT(ROW(AL281)-2, 10), 1 + MOD(ROW(AL281)-2, 10))","v":{"$error":"#REF!"}}]
[null,null,null,null,null,null,null,null,null,null,null,null,null,null,null,null,null,null,null,null,null,null,null,null,null,null,null,null,null,null,null,null,null,null,2008,"住宅","木造",{"$f":"INDEX(#REF!, 9 + QUOTIENT(ROW(AL282)-2, 10), 1 + MOD(ROW(AL282)-2, 10))","v":{"$error":"#REF!"}}]
[null,null,null,null,null,null,null,null,null,null,null,null,null,null,null,null,null,null,null,null,null,null,null,null,null,null,null,null,null,null,null,null,null,null,2008,"住宅","SRC造",{"$f":"INDEX(#REF!, 9 + QUOTIENT(ROW(AL283)-2, 10), 1 + MOD(ROW(AL283)-2, 10))","v":{"$error":"#REF!"}}]
[null,null,null,null,null,null,null,null,null,null,null,null,null,null,null,null,null,null,null,null,null,null,null,null,null,null,null,null,null,null,null,null,null,null,2008,"住宅","RC造",{"$f":"INDEX(#REF!, 9 + QUOTIENT(ROW(AL284)-2, 10), 1 + MOD(ROW(AL284)-2, 10))","v":{"$error":"#REF!"}}]
[null,null,null,null,null,null,null,null,null,null,null,null,null,null,null,null,null,null,null,null,null,null,null,null,null,null,null,null,null,null,null,null,null,null,2008,"住宅","S造",{"$f":"INDEX(#REF!, 9 + QUOTIENT(ROW(AL285)-2, 10), 1 + MOD(ROW(AL285)-2, 10))","v":{"$error":"#REF!"}}]
[null,null,null,null,null,null,null,null,null,null,null,null,null,null,null,null,null,null,null,null,null,null,null,null,null,null,null,null,null,null,null,null,null,null,2008,"住宅","その他",{"$f":"INDEX(#REF!, 9 + QUOTIENT(ROW(AL286)-2, 10), 1 + MOD(ROW(AL286)-2, 10))","v":{"$error":"#REF!"}}]
[null,null,null,null,null,null,null,null,null,null,null,null,null,null,null,null,null,null,null,null,null,null,null,null,null,null,null,null,null,null,null,null,null,null,2008,"非住宅","木造",{"$f":"INDEX(#REF!, 9 + QUOTIENT(ROW(AL287)-2, 10), 1 + MOD(ROW(AL287)-2, 10))","v":{"$error":"#REF!"}}]
[null,null,null,null,null,null,null,null,null,null,null,null,null,null,null,null,null,null,null,null,null,null,null,null,null,null,null,null,null,null,null,null,null,null,2008,"非住宅","SRC造",{"$f":"INDEX(#REF!, 9 + QUOTIENT(ROW(AL288)-2, 10), 1 + MOD(ROW(AL288)-2, 10))","v":{"$error":"#REF!"}}]
[null,null,null,null,null,null,null,null,null,null,null,null,null,null,null,null,null,null,null,null,null,null,null,null,null,null,null,null,null,null,null,null,null,null,2008,"非住宅","RC造",{"$f":"INDEX(#REF!, 9 + QUOTIENT(ROW(AL289)-2, 10), 1 + MOD(ROW(AL289)-2, 10))","v":{"$error":"#REF!"}}]
[null,null,null,null,null,null,null,null,null,null,null,null,null,null,null,null,null,null,null,null,null,null,null,null,null,null,null,null,null,null,null,null,null,null,2008,"非住宅","S造",{"$f":"INDEX(#REF!, 9 + QUOTIENT(ROW(AL290)-2, 10), 1 + MOD(ROW(AL290)-2, 10))","v":{"$error":"#REF!"}}]
[null,null,null,null,null,null,null,null,null,null,null,null,null,null,null,null,null,null,null,null,null,null,null,null,null,null,null,null,null,null,null,null,null,null,2008,"非住宅","その他",{"$f":"INDEX(#REF!, 9 + QUOTIENT(ROW(AL291)-2, 10), 1 + MOD(ROW(AL291)-2, 10))","v":{"$error":"#REF!"}}]
[null,null,null,null,null,null,null,null,null,null,null,null,null,null,null,null,null,null,null,null,null,null,null,null,null,null,null,null,null,null,null,null,null,null,2009,"住宅","木造",{"$f":"INDEX(#REF!, 9 + QUOTIENT(ROW(AL292)-2, 10), 1 + MOD(ROW(AL292)-2, 10))","v":{"$error":"#REF!"}}]
[null,null,null,null,null,null,null,null,null,null,null,null,null,null,null,null,null,null,null,null,null,null,null,null,null,null,null,null,null,null,null,null,null,null,2009,"住宅","SRC造",{"$f":"INDEX(#REF!, 9 + QUOTIENT(ROW(AL293)-2, 10), 1 + MOD(ROW(AL293)-2, 10))","v":{"$error":"#REF!"}}]
[null,null,null,null,null,null,null,null,null,null,null,null,null,null,null,null,null,null,null,null,null,null,null,null,null,null,null,null,null,null,null,null,null,null,2009,"住宅","RC造",{"$f":"INDEX(#REF!, 9 + QUOTIENT(ROW(AL294)-2, 10), 1 + MOD(ROW(AL294)-2, 10))","v":{"$error":"#REF!"}}]
[null,null,null,null,null,null,null,null,null,null,null,null,null,null,null,null,null,null,null,null,null,null,null,null,null,null,null,null,null,null,null,null,null,null,2009,"住宅","S造",{"$f":"INDEX(#REF!, 9 + QUOTIENT(ROW(AL295)-2, 10), 1 + MOD(ROW(AL295)-2, 10))","v":{"$error":"#REF!"}}]
[null,null,null,null,null,null,null,null,null,null,null,null,null,null,null,null,null,null,null,null,null,null,null,null,null,null,null,null,null,null,null,null,null,null,2009,"住宅","その他",{"$f":"INDEX(#REF!, 9 + QUOTIENT(ROW(AL296)-2, 10), 1 + MOD(ROW(AL296)-2, 10))","v":{"$error":"#REF!"}}]
[null,null,null,null,null,null,null,null,null,null,null,null,null,null,null,null,null,null,null,null,null,null,null,null,null,null,null,null,null,null,null,null,null,null,2009,"非住宅","木造",{"$f":"INDEX(#REF!, 9 + QUOTIENT(ROW(AL297)-2, 10), 1 + MOD(ROW(AL297)-2, 10))","v":{"$error":"#REF!"}}]
[null,null,null,null,null,null,null,null,null,null,null,null,null,null,null,null,null,null,null,null,null,null,null,null,null,null,null,null,null,null,null,null,null,null,2009,"非住宅","SRC造",{"$f":"INDEX(#REF!, 9 + QUOTIENT(ROW(AL298)-2, 10), 1 + MOD(ROW(AL298)-2, 10))","v":{"$error":"#REF!"}}]
[null,null,null,null,null,null,null,null,null,null,null,null,null,null,null,null,null,null,null,null,null,null,null,null,null,null,null,null,null,null,null,null,null,null,2009,"非住宅","RC造",{"$f":"INDEX(#REF!, 9 + QUOTIENT(ROW(AL299)-2, 10), 1 + MOD(ROW(AL299)-2, 10))","v":{"$error":"#REF!"}}]
[null,null,null,null,null,null,null,null,null,null,null,null,null,null,null,null,null,null,null,null,null,null,null,null,null,null,null,null,null,null,null,null,null,null,2009,"非住宅","S造",{"$f":"INDEX(#REF!, 9 + QUOTIENT(ROW(AL300)-2, 10), 1 + MOD(ROW(AL300)-2, 10))","v":{"$error":"#REF!"}}]
[null,null,null,null,null,null,null,null,null,null,null,null,null,null,null,null,null,null,null,null,null,null,null,null,null,null,null,null,null,null,null,null,null,null,2009,"非住宅","その他",{"$f":"INDEX(#REF!, 9 + QUOTIENT(ROW(AL301)-2, 10), 1 + MOD(ROW(AL301)-2, 10))","v":{"$error":"#REF!"}}]
[null,null,null,null,null,null,null,null,null,null,null,null,null,null,null,null,null,null,null,null,null,null,null,null,null,null,null,null,null,null,null,null,null,null,2010,"住宅","木造",{"$f":"INDEX(#REF!, 9 + QUOTIENT(ROW(AL302)-2, 10), 1 + MOD(ROW(AL302)-2, 10))","v":{"$error":"#REF!"}}]
[null,null,null,null,null,null,null,null,null,null,null,null,null,null,null,null,null,null,null,null,null,null,null,null,null,null,null,null,null,null,null,null,null,null,2010,"住宅","SRC造",{"$f":"INDEX(#REF!, 9 + QUOTIENT(ROW(AL303)-2, 10), 1 + MOD(ROW(AL303)-2, 10))","v":{"$error":"#REF!"}}]
[null,null,null,null,null,null,null,null,null,null,null,null,null,null,null,null,null,null,null,null,null,null,null,null,null,null,null,null,null,null,null,null,null,null,2010,"住宅","RC造",{"$f":"INDEX(#REF!, 9 + QUOTIENT(ROW(AL304)-2, 10), 1 + MOD(ROW(AL304)-2, 10))","v":{"$error":"#REF!"}}]
[null,null,null,null,null,null,null,null,null,null,null,null,null,null,null,null,null,null,null,null,null,null,null,null,null,null,null,null,null,null,null,null,null,null,2010,"住宅","S造",{"$f":"INDEX(#REF!, 9 + QUOTIENT(ROW(AL305)-2, 10), 1 + MOD(ROW(AL305)-2, 10))","v":{"$error":"#REF!"}}]
[null,null,null,null,null,null,null,null,null,null,null,null,null,null,null,null,null,null,null,null,null,null,null,null,null,null,null,null,null,null,null,null,null,null,2010,"住宅","その他",{"$f":"INDEX(#REF!, 9 + QUOTIENT(ROW(AL306)-2, 10), 1 + MOD(ROW(AL306)-2, 10))","v":{"$error":"#REF!"}}]
[null,null,null,null,null,null,null,null,null,null,null,null,null,null,null,null,null,null,null,null,null,null,null,null,null,null,null,null,null,null,null,null,null,null,2010,"非住宅","木造",{"$f":"INDEX(#REF!, 9 + QUOTIENT(ROW(AL307)-2, 10), 1 + MOD(ROW(AL307)-2, 10))","v":{"$error":"#REF!"}}]
[null,null,null,null,null,null,null,null,null,null,null,null,null,null,null,null,null,null,null,null,null,null,null,null,null,null,null,null,null,null,null,null,null,null,2010,"非住宅","SRC造",{"$f":"INDEX(#REF!, 9 + QUOTIENT(ROW(AL308)-2, 10), 1 + MOD(ROW(AL308)-2, 10))","v":{"$error":"#REF!"}}]
[null,null,null,null,null,null,null,null,null,null,null,null,null,null,null,null,null,null,null,null,null,null,null,null,null,null,null,null,null,null,null,null,null,null,2010,"非住宅","RC造",{"$f":"INDEX(#REF!, 9 + QUOTIENT(ROW(AL309)-2, 10), 1 + MOD(ROW(AL309)-2, 10))","v":{"$error":"#REF!"}}]
[null,null,null,null,null,null,null,null,null,null,null,null,null,null,null,null,null,null,null,null,null,null,null,null,null,null,null,null,null,null,null,null,null,null,2010,"非住宅","S造",{"$f":"INDEX(#REF!, 9 + QUOTIENT(ROW(AL310)-2, 10), 1 + MOD(ROW(AL310)-2, 10))","v":{"$error":"#REF!"}}]
[null,null,null,null,null,null,null,null,null,null,null,null,null,null,null,null,null,null,null,null,null,null,null,null,null,null,null,null,null,null,null,null,null,null,2010,"非住宅","その他",{"$f":"INDEX(#REF!, 9 + QUOTIENT(ROW(AL311)-2, 10), 1 + MOD(ROW(AL311)-2, 10))","v":{"$error":"#REF!"}}]
[null,null,null,null,null,null,null,null,null,null,null,null,null,null,null,null,null,null,null,null,null,null,null,null,null,null,null,null,null,null,null,null,null,null,2011,"住宅","木造",{"$f":"INDEX(#REF!, 9 + QUOTIENT(ROW(AL312)-2, 10), 1 + MOD(ROW(AL312)-2, 10))","v":{"$error":"#REF!"}}]
[null,null,null,null,null,null,null,null,null,null,null,null,null,null,null,null,null,null,null,null,null,null,null,null,null,null,null,null,null,null,null,null,null,null,2011,"住宅","SRC造",{"$f":"INDEX(#REF!, 9 + QUOTIENT(ROW(AL313)-2, 10), 1 + MOD(ROW(AL313)-2, 10))","v":{"$error":"#REF!"}}]
[null,null,null,null,null,null,null,null,null,null,null,null,null,null,null,null,null,null,null,null,null,null,null,null,null,null,null,null,null,null,null,null,null,null,2011,"住宅","RC造",{"$f":"INDEX(#REF!, 9 + QUOTIENT(ROW(AL314)-2, 10), 1 + MOD(ROW(AL314)-2, 10))","v":{"$error":"#REF!"}}]
[null,null,null,null,null,null,null,null,null,null,null,null,null,null,null,null,null,null,null,null,null,null,null,null,null,null,null,null,null,null,null,null,null,null,2011,"住宅","S造",{"$f":"INDEX(#REF!, 9 + QUOTIENT(ROW(AL315)-2, 10), 1 + MOD(ROW(AL315)-2, 10))","v":{"$error":"#REF!"}}]
[null,null,null,null,null,null,null,null,null,null,null,null,null,null,null,null,null,null,null,null,null,null,null,null,null,null,null,null,null,null,null,null,null,null,2011,"住宅","その他",{"$f":"INDEX(#REF!, 9 + QUOTIENT(ROW(AL316)-2, 10), 1 + MOD(ROW(AL316)-2, 10))","v":{"$error":"#REF!"}}]
[null,null,null,null,null,null,null,null,null,null,null,null,null,null,null,null,null,null,null,null,null,null,null,null,null,null,null,null,null,null,null,null,null,null,2011,"非住宅","木造",{"$f":"INDEX(#REF!, 9 + QUOTIENT(ROW(AL317)-2, 10), 1 + MOD(ROW(AL317)-2, 10))","v":{"$error":"#REF!"}}]
[null,null,null,null,null,null,null,null,null,null,null,null,null,null,null,null,null,null,null,null,null,null,null,null,null,null,null,null,null,null,null,null,null,null,2011,"非住宅","SRC造",{"$f":"INDEX(#REF!, 9 + QUOTIENT(ROW(AL318)-2, 10), 1 + MOD(ROW(AL318)-2, 10))","v":{"$error":"#REF!"}}]
[null,null,null,null,null,null,null,null,null,null,null,null,null,null,null,null,null,null,null,null,null,null,null,null,null,null,null,null,null,null,null,null,null,null,2011,"非住宅","RC造",{"$f":"INDEX(#REF!, 9 + QUOTIENT(ROW(AL319)-2, 10), 1 + MOD(ROW(AL319)-2, 10))","v":{"$error":"#REF!"}}]
[null,null,null,null,null,null,null,null,null,null,null,null,null,null,null,null,null,null,null,null,null,null,null,null,null,null,null,null,null,null,null,null,null,null,2011,"非住宅","S造",{"$f":"INDEX(#REF!, 9 + QUOTIENT(ROW(AL320)-2, 10), 1 + MOD(ROW(AL320)-2, 10))","v":{"$error":"#REF!"}}]
[null,null,null,null,null,null,null,null,null,null,null,null,null,null,null,null,null,null,null,null,null,null,null,null,null,null,null,null,null,null,null,null,null,null,2011,"非住宅","その他",{"$f":"INDEX(#REF!, 9 + QUOTIENT(ROW(AL321)-2, 10), 1 + MOD(ROW(AL321)-2, 10))","v":{"$error":"#REF!"}}]
[null,null,null,null,null,null,null,null,null,null,null,null,null,null,null,null,null,null,null,null,null,null,null,null,null,null,null,null,null,null,null,null,null,null,2012,"住宅","木造",{"$f":"INDEX(#REF!, 9 + QUOTIENT(ROW(AL322)-2, 10), 1 + MOD(ROW(AL322)-2, 10))","v":{"$error":"#REF!"}}]
[null,null,null,null,null,null,null,null,null,null,null,null,null,null,null,null,null,null,null,null,null,null,null,null,null,null,null,null,null,null,null,null,null,null,2012,"住宅","SRC造",{"$f":"INDEX(#REF!, 9 + QUOTIENT(ROW(AL323)-2, 10), 1 + MOD(ROW(AL323)-2, 10))","v":{"$error":"#REF!"}}]
[null,null,null,null,null,null,null,null,null,null,null,null,null,null,null,null,null,null,null,null,null,null,null,null,null,null,null,null,null,null,null,null,null,null,2012,"住宅","RC造",{"$f":"INDEX(#REF!, 9 + QUOTIENT(ROW(AL324)-2, 10), 1 + MOD(ROW(AL324)-2, 10))","v":{"$error":"#REF!"}}]
[null,null,null,null,null,null,null,null,null,null,null,null,null,null,null,null,null,null,null,null,null,null,null,null,null,null,null,null,null,null,null,null,null,null,2012,"住宅","S造",{"$f":"INDEX(#REF!, 9 + QUOTIENT(ROW(AL325)-2, 10), 1 + MOD(ROW(AL325)-2, 10))","v":{"$error":"#REF!"}}]
[null,null,null,null,null,null,null,null,null,null,null,null,null,null,null,null,null,null,null,null,null,null,null,null,null,null,null,null,null,null,null,null,null,null,2012,"住宅","その他",{"$f":"INDEX(#REF!, 9 + QUOTIENT(ROW(AL326)-2, 10), 1 + MOD(ROW(AL326)-2, 10))","v":{"$error":"#REF!"}}]
[null,null,null,null,null,null,null,null,null,null,null,null,null,null,null,null,null,null,null,null,null,null,null,null,null,null,null,null,null,null,null,null,null,null,2012,"非住宅","木造",{"$f":"INDEX(#REF!, 9 + QUOTIENT(ROW(AL327)-2, 10), 1 + MOD(ROW(AL327)-2, 10))","v":{"$error":"#REF!"}}]
[null,null,null,null,null,null,null,null,null,null,null,null,null,null,null,null,null,null,null,null,null,null,null,null,null,null,null,null,null,null,null,null,null,null,2012,"非住宅","SRC造",{"$f":"INDEX(#REF!, 9 + QUOTIENT(ROW(AL328)-2, 10), 1 + MOD(ROW(AL328)-2, 10))","v":{"$error":"#REF!"}}]
[null,null,null,null,null,null,null,null,null,null,null,null,null,null,null,null,null,null,null,null,null,null,null,null,null,null,null,null,null,null,null,null,null,null,2012,"非住宅","RC造",{"$f":"INDEX(#REF!, 9 + QUOTIENT(ROW(AL329)-2, 10), 1 + MOD(ROW(AL329)-2, 10))","v":{"$error":"#REF!"}}]
[null,null,null,null,null,null,null,null,null,null,null,null,null,null,null,null,null,null,null,null,null,null,null,null,null,null,null,null,null,null,null,null,null,null,2012,"非住宅","S造",{"$f":"INDEX(#REF!, 9 + QUOTIENT(ROW(AL330)-2, 10), 1 + MOD(ROW(AL330)-2, 10))","v":{"$error":"#REF!"}}]
[null,null,null,null,null,null,null,null,null,null,null,null,null,null,null,null,null,null,null,null,null,null,null,null,null,null,null,null,null,null,null,null,null,null,2012,"非住宅","その他",{"$f":"INDEX(#REF!, 9 + QUOTIENT(ROW(AL331)-2, 10), 1 + MOD(ROW(AL331)-2, 10))","v":{"$error":"#REF!"}}]
[null,null,null,null,null,null,null,null,null,null,null,null,null,null,null,null,null,null,null,null,null,null,null,null,null,null,null,null,null,null,null,null,null,null,2013,"住宅","木造",{"$f":"INDEX(#REF!, 9 + QUOTIENT(ROW(AL332)-2, 10), 1 + MOD(ROW(AL332)-2, 10))","v":{"$error":"#REF!"}}]
[null,null,null,null,null,null,null,null,null,null,null,null,null,null,null,null,null,null,null,null,null,null,null,null,null,null,null,null,null,null,null,null,null,null,2013,"住宅","SRC造",{"$f":"INDEX(#REF!, 9 + QUOTIENT(ROW(AL333)-2, 10), 1 + MOD(ROW(AL333)-2, 10))","v":{"$error":"#REF!"}}]
[null,null,null,null,null,null,null,null,null,null,null,null,null,null,null,null,null,null,null,null,null,null,null,null,null,null,null,null,null,null,null,null,null,null,2013,"住宅","RC造",{"$f":"INDEX(#REF!, 9 + QUOTIENT(ROW(AL334)-2, 10), 1 + MOD(ROW(AL334)-2, 10))","v":{"$error":"#REF!"}}]
[null,null,null,null,null,null,null,null,null,null,null,null,null,null,null,null,null,null,null,null,null,null,null,null,null,null,null,null,null,null,null,null,null,null,2013,"住宅","S造",{"$f":"INDEX(#REF!, 9 + QUOTIENT(ROW(AL335)-2, 10), 1 + MOD(ROW(AL335)-2, 10))","v":{"$error":"#REF!"}}]
[null,null,null,null,null,null,null,null,null,null,null,null,null,null,null,null,null,null,null,null,null,null,null,null,null,null,null,null,null,null,null,null,null,null,2013,"住宅","その他",{"$f":"INDEX(#REF!, 9 + QUOTIENT(ROW(AL336)-2, 10), 1 + MOD(ROW(AL336)-2, 10))","v":{"$error":"#REF!"}}]
[null,null,null,null,null,null,null,null,null,null,null,null,null,null,null,null,null,null,null,null,null,null,null,null,null,null,null,null,null,null,null,null,null,null,2013,"非住宅","木造",{"$f":"INDEX(#REF!, 9 + QUOTIENT(ROW(AL337)-2, 10), 1 + MOD(ROW(AL337)-2, 10))","v":{"$error":"#REF!"}}]
[null,null,null,null,null,null,null,null,null,null,null,null,null,null,null,null,null,null,null,null,null,null,null,null,null,null,null,null,null,null,null,null,null,null,2013,"非住宅","SRC造",{"$f":"INDEX(#REF!, 9 + QUOTIENT(ROW(AL338)-2, 10), 1 + MOD(ROW(AL338)-2, 10))","v":{"$error":"#REF!"}}]
[null,null,null,null,null,null,null,null,null,null,null,null,null,null,null,null,null,null,null,null,null,null,null,null,null,null,null,null,null,null,null,null,null,null,2013,"非住宅","RC造",{"$f":"INDEX(#REF!, 9 + QUOTIENT(ROW(AL339)-2, 10), 1 + MOD(ROW(AL339)-2, 10))","v":{"$error":"#REF!"}}]
[null,null,null,null,null,null,null,null,null,null,null,null,null,null,null,null,null,null,null,null,null,null,null,null,null,null,null,null,null,null,null,null,null,null,2013,"非住宅","S造",{"$f":"INDEX(#REF!, 9 + QUOTIENT(ROW(AL340)-2, 10), 1 + MOD(ROW(AL340)-2, 10))","v":{"$error":"#REF!"}}]
[null,null,null,null,null,null,null,null,null,null,null,null,null,null,null,null,null,null,null,null,null,null,null,null,null,null,null,null,null,null,null,null,null,null,2013,"非住宅","その他",{"$f":"INDEX(#REF!, 9 + QUOTIENT(ROW(AL341)-2, 10), 1 + MOD(ROW(AL341)-2, 10))","v":{"$error":"#REF!"}}]
[null,null,null,null,null,null,null,null,null,null,null,null,null,null,null,null,null,null,null,null,null,null,null,null,null,null,null,null,null,null,null,null,null,null,2014,"住宅","木造",{"$f":"INDEX(#REF!, 9 + QUOTIENT(ROW(AL342)-2, 10), 1 + MOD(ROW(AL342)-2, 10))","v":{"$error":"#REF!"}}]
[null,null,null,null,null,null,null,null,null,null,null,null,null,null,null,null,null,null,null,null,null,null,null,null,null,null,null,null,null,null,null,null,null,null,2014,"住宅","SRC造",{"$f":"INDEX(#REF!, 9 + QUOTIENT(ROW(AL343)-2, 10), 1 + MOD(ROW(AL343)-2, 10))","v":{"$error":"#REF!"}}]
[null,null,null,null,null,null,null,null,null,null,null,null,null,null,null,null,null,null,null,null,null,null,null,null,null,null,null,null,null,null,null,null,null,null,2014,"住宅","RC造",{"$f":"INDEX(#REF!, 9 + QUOTIENT(ROW(AL344)-2, 10), 1 + MOD(ROW(AL344)-2, 10))","v":{"$error":"#REF!"}}]
[null,null,null,null,null,null,null,null,null,null,null,null,null,null,null,null,null,null,null,null,null,null,null,null,null,null,null,null,null,null,null,null,null,null,2014,"住宅","S造",{"$f":"INDEX(#REF!, 9 + QUOTIENT(ROW(AL345)-2, 10), 1 + MOD(ROW(AL345)-2, 10))","v":{"$error":"#REF!"}}]
[null,null,null,null,null,null,null,null,null,null,null,null,null,null,null,null,null,null,null,null,null,null,null,null,null,null,null,null,null,null,null,null,null,null,2014,"住宅","その他",{"$f":"INDEX(#REF!, 9 + QUOTIENT(ROW(AL346)-2, 10), 1 + MOD(ROW(AL346)-2, 10))","v":{"$error":"#REF!"}}]
[null,null,null,null,null,null,null,null,null,null,null,null,null,null,null,null,null,null,null,null,null,null,null,null,null,null,null,null,null,null,null,null,null,null,2014,"非住宅","木造",{"$f":"INDEX(#REF!, 9 + QUOTIENT(ROW(AL347)-2, 10), 1 + MOD(ROW(AL347)-2, 10))","v":{"$error":"#REF!"}}]
[null,null,null,null,null,null,null,null,null,null,null,null,null,null,null,null,null,null,null,null,null,null,null,null,null,null,null,null,null,null,null,null,null,null,2014,"非住宅","SRC造",{"$f":"INDEX(#REF!, 9 + QUOTIENT(ROW(AL348)-2, 10), 1 + MOD(ROW(AL348)-2, 10))","v":{"$error":"#REF!"}}]
[null,null,null,null,null,null,null,null,null,null,null,null,null,null,null,null,null,null,null,null,null,null,null,null,null,null,null,null,null,null,null,null,null,null,2014,"非住宅","RC造",{"$f":"INDEX(#REF!, 9 + QUOTIENT(ROW(AL349)-2, 10), 1 + MOD(ROW(AL349)-2, 10))","v":{"$error":"#REF!"}}]
[null,null,null,null,null,null,null,null,null,null,null,null,null,null,null,null,null,null,null,null,null,null,null,null,null,null,null,null,null,null,null,null,null,null,2014,"非住宅","S造",{"$f":"INDEX(#REF!, 9 + QUOTIENT(ROW(AL350)-2, 10), 1 + MOD(ROW(AL350)-2, 10))","v":{"$error":"#REF!"}}]
[null,null,null,null,null,null,null,null,null,null,null,null,null,null,null,null,null,null,null,null,null,null,null,null,null,null,null,null,null,null,null,null,null,null,2014,"非住宅","その他",{"$f":"INDEX(#REF!, 9 + QUOTIENT(ROW(AL351)-2, 10), 1 + MOD(ROW(AL351)-2, 10))","v":{"$error":"#REF!"}}]
[null,null,null,null,null,null,null,null,null,null,null,null,null,null,null,null,null,null,null,null,null,null,null,null,null,null,null,null,null,null,null,null,null,null,2015,"住宅","木造",{"$f":"INDEX(#REF!, 9 + QUOTIENT(ROW(AL352)-2, 10), 1 + MOD(ROW(AL352)-2, 10))","v":{"$error":"#REF!"}}]
[null,null,null,null,null,null,null,null,null,null,null,null,null,null,null,null,null,null,null,null,null,null,null,null,null,null,null,null,null,null,null,null,null,null,2015,"住宅","SRC造",{"$f":"INDEX(#REF!, 9 + QUOTIENT(ROW(AL353)-2, 10), 1 + MOD(ROW(AL353)-2, 10))","v":{"$error":"#REF!"}}]
[null,null,null,null,null,null,null,null,null,null,null,null,null,null,null,null,null,null,null,null,null,null,null,null,null,null,null,null,null,null,null,null,null,null,2015,"住宅","RC造",{"$f":"INDEX(#REF!, 9 + QUOTIENT(ROW(AL354)-2, 10), 1 + MOD(ROW(AL354)-2, 10))","v":{"$error":"#REF!"}}]
[null,null,null,null,null,null,null,null,null,null,null,null,null,null,null,null,null,null,null,null,null,null,null,null,null,null,null,null,null,null,null,null,null,null,2015,"住宅","S造",{"$f":"INDEX(#REF!, 9 + QUOTIENT(ROW(AL355)-2, 10), 1 + MOD(ROW(AL355)-2, 10))","v":{"$error":"#REF!"}}]
[null,null,null,null,null,null,null,null,null,null,null,null,null,null,null,null,null,null,null,null,null,null,null,null,null,null,null,null,null,null,null,null,null,null,2015,"住宅","その他",{"$f":"INDEX(#REF!, 9 + QUOTIENT(ROW(AL356)-2, 10), 1 + MOD(ROW(AL356)-2, 10))","v":{"$error":"#REF!"}}]
[null,null,null,null,null,null,null,null,null,null,null,null,null,null,null,null,null,null,null,null,null,null,null,null,null,null,null,null,null,null,null,null,null,null,2015,"非住宅","木造",{"$f":"INDEX(#REF!, 9 + QUOTIENT(ROW(AL357)-2, 10), 1 + MOD(ROW(AL357)-2, 10))","v":{"$error":"#REF!"}}]
[null,null,null,null,null,null,null,null,null,null,null,null,null,null,null,null,null,null,null,null,null,null,null,null,null,null,null,null,null,null,null,null,null,null,2015,"非住宅","SRC造",{"$f":"INDEX(#REF!, 9 + QUOTIENT(ROW(AL358)-2, 10), 1 + MOD(ROW(AL358)-2, 10))","v":{"$error":"#REF!"}}]
[null,null,null,null,null,null,null,null,null,null,null,null,null,null,null,null,null,null,null,null,null,null,null,null,null,null,null,null,null,null,null,null,null,null,2015,"非住宅","RC造",{"$f":"INDEX(#REF!, 9 + QUOTIENT(ROW(AL359)-2, 10), 1 + MOD(ROW(AL359)-2, 10))","v":{"$error":"#REF!"}}]
[null,null,null,null,null,null,null,null,null,null,null,null,null,null,null,null,null,null,null,null,null,null,null,null,null,null,null,null,null,null,null,null,null,null,2015,"非住宅","S造",{"$f":"INDEX(#REF!, 9 + QUOTIENT(ROW(AL360)-2, 10), 1 + MOD(ROW(AL360)-2, 10))","v":{"$error":"#REF!"}}]
[null,null,null,null,null,null,null,null,null,null,null,null,null,null,null,null,null,null,null,null,null,null,null,null,null,null,null,null,null,null,null,null,null,null,2015,"非住宅","その他",{"$f":"INDEX(#REF!, 9 + QUOTIENT(ROW(AL361)-2, 10), 1 + MOD(ROW(AL361)-2, 10))","v":{"$error":"#REF!"}}]
[null,null,null,null,null,null,null,null,null,null,null,null,null,null,null,null,null,null,null,null,null,null,null,null,null,null,null,null,null,null,null,null,null,null,2016,"住宅","木造",{"$f":"INDEX(#REF!, 9 + QUOTIENT(ROW(AL362)-2, 10), 1 + MOD(ROW(AL362)-2, 10))","v":{"$error":"#REF!"}}]
[null,null,null,null,null,null,null,null,null,null,null,null,null,null,null,null,null,null,null,null,null,null,null,null,null,null,null,null,null,null,null,null,null,null,2016,"住宅","SRC造",{"$f":"INDEX(#REF!, 9 + QUOTIENT(ROW(AL363)-2, 10), 1 + MOD(ROW(AL363)-2, 10))","v":{"$error":"#REF!"}}]
[null,null,null,null,null,null,null,null,null,null,null,null,null,null,null,null,null,null,null,null,null,null,null,null,null,null,null,null,null,null,null,null,null,null,2016,"住宅","RC造",{"$f":"INDEX(#REF!, 9 + QUOTIENT(ROW(AL364)-2, 10), 1 + MOD(ROW(AL364)-2, 10))","v":{"$error":"#REF!"}}]
[null,null,null,null,null,null,null,null,null,null,null,null,null,null,null,null,null,null,null,null,null,null,null,null,null,null,null,null,null,null,null,null,null,null,2016,"住宅","S造",{"$f":"INDEX(#REF!, 9 + QUOTIENT(ROW(AL365)-2, 10), 1 + MOD(ROW(AL365)-2, 10))","v":{"$error":"#REF!"}}]
[null,null,null,null,null,null,null,null,null,null,null,null,null,null,null,null,null,null,null,null,null,null,null,null,null,null,null,null,null,null,null,null,null,null,2016,"住宅","その他",{"$f":"INDEX(#REF!, 9 + QUOTIENT(ROW(AL366)-2, 10), 1 + MOD(ROW(AL366)-2, 10))","v":{"$error":"#REF!"}}]
[null,null,null,null,null,null,null,null,null,null,null,null,null,null,null,null,null,null,null,null,null,null,null,null,null,null,null,null,null,null,null,null,null,null,2016,"非住宅","木造",{"$f":"INDEX(#REF!, 9 + QUOTIENT(ROW(AL367)-2, 10), 1 + MOD(ROW(AL367)-2, 10))","v":{"$error":"#REF!"}}]
[null,null,null,null,null,null,null,null,null,null,null,null,null,null,null,null,null,null,null,null,null,null,null,null,null,null,null,null,null,null,null,null,null,null,2016,"非住宅","SRC造",{"$f":"INDEX(#REF!, 9 + QUOTIENT(ROW(AL368)-2, 10), 1 + MOD(ROW(AL368)-2, 10))","v":{"$error":"#REF!"}}]
[null,null,null,null,null,null,null,null,null,null,null,null,null,null,null,null,null,null,null,null,null,null,null,null,null,null,null,null,null,null,null,null,null,null,2016,"非住宅","RC造",{"$f":"INDEX(#REF!, 9 + QUOTIENT(ROW(AL369)-2, 10), 1 + MOD(ROW(AL369)-2, 10))","v":{"$error":"#REF!"}}]
[null,null,null,null,null,null,null,null,null,null,null,null,null,null,null,null,null,null,null,null,null,null,null,null,null,null,null,null,null,null,null,null,null,null,2016,"非住宅","S造",{"$f":"INDEX(#REF!, 9 + QUOTIENT(ROW(AL370)-2, 10), 1 + MOD(ROW(AL370)-2, 10))","v":{"$error":"#REF!"}}]
[null,null,null,null,null,null,null,null,null,null,null,null,null,null,null,null,null,null,null,null,null,null,null,null,null,null,null,null,null,null,null,null,null,null,2016,"非住宅","その他",{"$f":"INDEX(#REF!, 9 + QUOTIENT(ROW(AL371)-2, 10), 1 + MOD(ROW(AL371)-2, 10))","v":{"$error":"#REF!"}}]
[null,null,null,null,null,null,null,null,null,null,null,null,null,null,null,null,null,null,null,null,null,null,null,null,null,null,null,null,null,null,null,null,null,null,2017,"住宅","木造",{"$f":"INDEX(#REF!, 9 + QUOTIENT(ROW(AL372)-2, 10), 1 + MOD(ROW(AL372)-2, 10))","v":{"$error":"#REF!"}}]
[null,null,null,null,null,null,null,null,null,null,null,null,null,null,null,null,null,null,null,null,null,null,null,null,null,null,null,null,null,null,null,null,null,null,2017,"住宅","SRC造",{"$f":"INDEX(#REF!, 9 + QUOTIENT(ROW(AL373)-2, 10), 1 + MOD(ROW(AL373)-2, 10))","v":{"$error":"#REF!"}}]
[null,null,null,null,null,null,null,null,null,null,null,null,null,null,null,null,null,null,null,null,null,null,null,null,null,null,null,null,null,null,null,null,null,null,2017,"住宅","RC造",{"$f":"INDEX(#REF!, 9 + QUOTIENT(ROW(AL374)-2, 10), 1 + MOD(ROW(AL374)-2, 10))","v":{"$error":"#REF!"}}]
[null,null,null,null,null,null,null,null,null,null,null,null,null,null,null,null,null,null,null,null,null,null,null,null,null,null,null,null,null,null,null,null,null,null,2017,"住宅","S造",{"$f":"INDEX(#REF!, 9 + QUOTIENT(ROW(AL375)-2, 10), 1 + MOD(ROW(AL375)-2, 10))","v":{"$error":"#REF!"}}]
[null,null,null,null,null,null,null,null,null,null,null,null,null,null,null,null,null,null,null,null,null,null,null,null,null,null,null,null,null,null,null,null,null,null,2017,"住宅","その他",{"$f":"INDEX(#REF!, 9 + QUOTIENT(ROW(AL376)-2, 10), 1 + MOD(ROW(AL376)-2, 10))","v":{"$error":"#REF!"}}]
[null,null,null,null,null,null,null,null,null,null,null,null,null,null,null,null,null,null,null,null,null,null,null,null,null,null,null,null,null,null,null,null,null,null,2017,"非住宅","木造",{"$f":"INDEX(#REF!, 9 + QUOTIENT(ROW(AL377)-2, 10), 1 + MOD(ROW(AL377)-2, 10))","v":{"$error":"#REF!"}}]
[null,null,null,null,null,null,null,null,null,null,null,null,null,null,null,null,null,null,null,null,null,null,null,null,null,null,null,null,null,null,null,null,null,null,2017,"非住宅","SRC造",{"$f":"INDEX(#REF!, 9 + QUOTIENT(ROW(AL378)-2, 10), 1 + MOD(ROW(AL378)-2, 10))","v":{"$error":"#REF!"}}]
[null,null,null,null,null,null,null,null,null,null,null,null,null,null,null,null,null,null,null,null,null,null,null,null,null,null,null,null,null,null,null,null,null,null,2017,"非住宅","RC造",{"$f":"INDEX(#REF!, 9 + QUOTIENT(ROW(AL379)-2, 10), 1 + MOD(ROW(AL379)-2, 10))","v":{"$error":"#REF!"}}]
[null,null,null,null,null,null,null,null,null,null,null,null,null,null,null,null,null,null,null,null,null,null,null,null,null,null,null,null,null,null,null,null,null,null,2017,"非住宅","S造",{"$f":"INDEX(#REF!, 9 + QUOTIENT(ROW(AL380)-2, 10), 1 + MOD(ROW(AL380)-2, 10))","v":{"$error":"#REF!"}}]
[null,null,null,null,null,null,null,null,null,null,null,null,null,null,null,null,null,null,null,null,null,null,null,null,null,null,null,null,null,null,null,null,null,null,2017,"非住宅","その他",{"$f":"INDEX(#REF!, 9 + QUOTIENT(ROW(AL381)-2, 10), 1 + MOD(ROW(AL381)-2, 10))","v":{"$error":"#REF!"}}]
[null,null,null,null,null,null,null,null,null,null,null,null,null,null,null,null,null,null,null,null,null,null,null,null,null,null,null,null,null,null,null,null,null,null,2018,"住宅","木造",{"$f":"INDEX(#REF!, 9 + QUOTIENT(ROW(AL382)-2, 10), 1 + MOD(ROW(AL382)-2, 10))","v":{"$error":"#REF!"}}]
[null,null,null,null,null,null,null,null,null,null,null,null,null,null,null,null,null,null,null,null,null,null,null,null,null,null,null,null,null,null,null,null,null,null,2018,"住宅","SRC造",{"$f":"INDEX(#REF!, 9 + QUOTIENT(ROW(AL383)-2, 10), 1 + MOD(ROW(AL383)-2, 10))","v":{"$error":"#REF!"}}]
[null,null,null,null,null,null,null,null,null,null,null,null,null,null,null,null,null,null,null,null,null,null,null,null,null,null,null,null,null,null,null,null,null,null,2018,"住宅","RC造",{"$f":"INDEX(#REF!, 9 + QUOTIENT(ROW(AL384)-2, 10), 1 + MOD(ROW(AL384)-2, 10))","v":{"$error":"#REF!"}}]
[null,null,null,null,null,null,null,null,null,null,null,null,null,null,null,null,null,null,null,null,null,null,null,null,null,null,null,null,null,null,null,null,null,null,2018,"住宅","S造",{"$f":"INDEX(#REF!, 9 + QUOTIENT(ROW(AL385)-2, 10), 1 + MOD(ROW(AL385)-2, 10))","v":{"$error":"#REF!"}}]
[null,null,null,null,null,null,null,null,null,null,null,null,null,null,null,null,null,null,null,null,null,null,null,null,null,null,null,null,null,null,null,null,null,null,2018,"住宅","その他",{"$f":"INDEX(#REF!, 9 + QUOTIENT(ROW(AL386)-2, 10), 1 + MOD(ROW(AL386)-2, 10))","v":{"$error":"#REF!"}}]
[null,null,null,null,null,null,null,null,null,null,null,null,null,null,null,null,null,null,null,null,null,null,null,null,null,null,null,null,null,null,null,null,null,null,2018,"非住宅","木造",{"$f":"INDEX(#REF!, 9 + QUOTIENT(ROW(AL387)-2, 10), 1 + MOD(ROW(AL387)-2, 10))","v":{"$error":"#REF!"}}]
[null,null,null,null,null,null,null,null,null,null,null,null,null,null,null,null,null,null,null,null,null,null,null,null,null,null,null,null,null,null,null,null,null,null,2018,"非住宅","SRC造",{"$f":"INDEX(#REF!, 9 + QUOTIENT(ROW(AL388)-2, 10), 1 + MOD(ROW(AL388)-2, 10))","v":{"$error":"#REF!"}}]
[null,null,null,null,null,null,null,null,null,null,null,null,null,null,null,null,null,null,null,null,null,null,null,null,null,null,null,null,null,null,null,null,null,null,2018,"非住宅","RC造",{"$f":"INDEX(#REF!, 9 + QUOTIENT(ROW(AL389)-2, 10), 1 + MOD(ROW(AL389)-2, 10))","v":{"$error":"#REF!"}}]
[null,null,null,null,null,null,null,null,null,null,null,null,null,null,null,null,null,null,null,null,null,null,null,null,null,null,null,null,null,null,null,null,null,null,2018,"非住宅","S造",{"$f":"INDEX(#REF!, 9 + QUOTIENT(ROW(AL390)-2, 10), 1 + MOD(ROW(AL390)-2, 10))","v":{"$error":"#REF!"}}]
[null,null,null,null,null,null,null,null,null,null,null,null,null,null,null,null,null,null,null,null,null,null,null,null,null,null,null,null,null,null,null,null,null,null,2018,"非住宅","その他",{"$f":"INDEX(#REF!, 9 + QUOTIENT(ROW(AL391)-2, 10), 1 + MOD(ROW(AL391)-2, 10))","v":{"$error":"#REF!"}}]
[null,null,null,null,null,null,null,null,null,null,null,null,null,null,null,null,null,null,null,null,null,null,null,null,null,null,null,null,null,null,null,null,null,null,2019,"住宅","木造",{"$f":"INDEX(#REF!, 9 + QUOTIENT(ROW(AL392)-2, 10), 1 + MOD(ROW(AL392)-2, 10))","v":{"$error":"#REF!"}}]
[null,null,null,null,null,null,null,null,null,null,null,null,null,null,null,null,null,null,null,null,null,null,null,null,null,null,null,null,null,null,null,null,null,null,2019,"住宅","SRC造",{"$f":"INDEX(#REF!, 9 + QUOTIENT(ROW(AL393)-2, 10), 1 + MOD(ROW(AL393)-2, 10))","v":{"$error":"#REF!"}}]
[null,null,null,null,null,null,null,null,null,null,null,null,null,null,null,null,null,null,null,null,null,null,null,null,null,null,null,null,null,null,null,null,null,null,2019,"住宅","RC造",{"$f":"INDEX(#REF!, 9 + QUOTIENT(ROW(AL394)-2, 10), 1 + MOD(ROW(AL394)-2, 10))","v":{"$error":"#REF!"}}]
[null,null,null,null,null,null,null,null,null,null,null,null,null,null,null,null,null,null,null,null,null,null,null,null,null,null,null,null,null,null,null,null,null,null,2019,"住宅","S造",{"$f":"INDEX(#REF!, 9 + QUOTIENT(ROW(AL395)-2, 10), 1 + MOD(ROW(AL395)-2, 10))","v":{"$error":"#REF!"}}]
[null,null,null,null,null,null,null,null,null,null,null,null,null,null,null,null,null,null,null,null,null,null,null,null,null,null,null,null,null,null,null,null,null,null,2019,"住宅","その他",{"$f":"INDEX(#REF!, 9 + QUOTIENT(ROW(AL396)-2, 10), 1 + MOD(ROW(AL396)-2, 10))","v":{"$error":"#REF!"}}]
[null,null,null,null,null,null,null,null,null,null,null,null,null,null,null,null,null,null,null,null,null,null,null,null,null,null,null,null,null,null,null,null,null,null,2019,"非住宅","木造",{"$f":"INDEX(#REF!, 9 + QUOTIENT(ROW(AL397)-2, 10), 1 + MOD(ROW(AL397)-2, 10))","v":{"$error":"#REF!"}}]
[null,null,null,null,null,null,null,null,null,null,null,null,null,null,null,null,null,null,null,null,null,null,null,null,null,null,null,null,null,null,null,null,null,null,2019,"非住宅","SRC造",{"$f":"INDEX(#REF!, 9 + QUOTIENT(ROW(AL398)-2, 10), 1 + MOD(ROW(AL398)-2, 10))","v":{"$error":"#REF!"}}]
[null,null,null,null,null,null,null,null,null,null,null,null,null,null,null,null,null,null,null,null,null,null,null,null,null,null,null,null,null,null,null,null,null,null,2019,"非住宅","RC造",{"$f":"INDEX(#REF!, 9 + QUOTIENT(ROW(AL399)-2, 10), 1 + MOD(ROW(AL399)-2, 10))","v":{"$error":"#REF!"}}]
[null,null,null,null,null,null,null,null,null,null,null,null,null,null,null,null,null,null,null,null,null,null,null,null,null,null,null,null,null,null,null,null,null,null,2019,"非住宅","S造",{"$f":"INDEX(#REF!, 9 + QUOTIENT(ROW(AL400)-2, 10), 1 + MOD(ROW(AL400)-2, 10))","v":{"$error":"#REF!"}}]
[null,null,null,null,null,null,null,null,null,null,null,null,null,null,null,null,null,null,null,null,null,null,null,null,null,null,null,null,null,null,null,null,null,null,2019,"非住宅","その他",{"$f":"INDEX(#REF!, 9 + QUOTIENT(ROW(AL401)-2, 10), 1 + MOD(ROW(AL401)-2, 10))","v":{"$error":"#REF!"}}]
[null,null,null,null,null,null,null,null,null,null,null,null,null,null,null,null,null,null,null,null,null,null,null,null,null,null,null,null,null,null,null,null,null,null,2020,"住宅","木造",{"$f":"INDEX(#REF!, 9 + QUOTIENT(ROW(AL402)-2, 10), 1 + MOD(ROW(AL402)-2, 10))","v":{"$error":"#REF!"}}]
[null,null,null,null,null,null,null,null,null,null,null,null,null,null,null,null,null,null,null,null,null,null,null,null,null,null,null,null,null,null,null,null,null,null,2020,"住宅","SRC造",{"$f":"INDEX(#REF!, 9 + QUOTIENT(ROW(AL403)-2, 10), 1 + MOD(ROW(AL403)-2, 10))","v":{"$error":"#REF!"}}]
[null,null,null,null,null,null,null,null,null,null,null,null,null,null,null,null,null,null,null,null,null,null,null,null,null,null,null,null,null,null,null,null,null,null,2020,"住宅","RC造",{"$f":"INDEX(#REF!, 9 + QUOTIENT(ROW(AL404)-2, 10), 1 + MOD(ROW(AL404)-2, 10))","v":{"$error":"#REF!"}}]
[null,null,null,null,null,null,null,null,null,null,null,null,null,null,null,null,null,null,null,null,null,null,null,null,null,null,null,null,null,null,null,null,null,null,2020,"住宅","S造",{"$f":"INDEX(#REF!, 9 + QUOTIENT(ROW(AL405)-2, 10), 1 + MOD(ROW(AL405)-2, 10))","v":{"$error":"#REF!"}}]
[null,null,null,null,null,null,null,null,null,null,null,null,null,null,null,null,null,null,null,null,null,null,null,null,null,null,null,null,null,null,null,null,null,null,2020,"住宅","その他",{"$f":"INDEX(#REF!, 9 + QUOTIENT(ROW(AL406)-2, 10), 1 + MOD(ROW(AL406)-2, 10))","v":{"$error":"#REF!"}}]
[null,null,null,null,null,null,null,null,null,null,null,null,null,null,null,null,null,null,null,null,null,null,null,null,null,null,null,null,null,null,null,null,null,null,2020,"非住宅","木造",{"$f":"INDEX(#REF!, 9 + QUOTIENT(ROW(AL407)-2, 10), 1 + MOD(ROW(AL407)-2, 10))","v":{"$error":"#REF!"}}]
[null,null,null,null,null,null,null,null,null,null,null,null,null,null,null,null,null,null,null,null,null,null,null,null,null,null,null,null,null,null,null,null,null,null,2020,"非住宅","SRC造",{"$f":"INDEX(#REF!, 9 + QUOTIENT(ROW(AL408)-2, 10), 1 + MOD(ROW(AL408)-2, 10))","v":{"$error":"#REF!"}}]
[null,null,null,null,null,null,null,null,null,null,null,null,null,null,null,null,null,null,null,null,null,null,null,null,null,null,null,null,null,null,null,null,null,null,2020,"非住宅","RC造",{"$f":"INDEX(#REF!, 9 + QUOTIENT(ROW(AL409)-2, 10), 1 + MOD(ROW(AL409)-2, 10))","v":{"$error":"#REF!"}}]
[null,null,null,null,null,null,null,null,null,null,null,null,null,null,null,null,null,null,null,null,null,null,null,null,null,null,null,null,null,null,null,null,null,null,2020,"非住宅","S造",{"$f":"INDEX(#REF!, 9 + QUOTIENT(ROW(AL410)-2, 10), 1 + MOD(ROW(AL410)-2, 10))","v":{"$error":"#REF!"}}]
[null,null,null,null,null,null,null,null,null,null,null,null,null,null,null,null,null,null,null,null,null,null,null,null,null,null,null,null,null,null,null,null,null,null,2020,"非住宅","その他",{"$f":"INDEX(#REF!, 9 + QUOTIENT(ROW(AL411)-2, 10), 1 + MOD(ROW(AL411)-2, 10))","v":{"$error":"#REF!"}}]
[null,null,null,null,null,null,null,null,null,null,null,null,null,null,null,null,null,null,null,null,null,null,null,null,null,null,null,null,null,null,null,null,null,null,2021,"住宅","木造",{"$f":"INDEX(#REF!, 9 + QUOTIENT(ROW(AL412)-2, 10), 1 + MOD(ROW(AL412)-2, 10))","v":{"$error":"#REF!"}}]
[null,null,null,null,null,null,null,null,null,null,null,null,null,null,null,null,null,null,null,null,null,null,null,null,null,null,null,null,null,null,null,null,null,null,2021,"住宅","SRC造",{"$f":"INDEX(#REF!, 9 + QUOTIENT(ROW(AL413)-2, 10), 1 + MOD(ROW(AL413)-2, 10))","v":{"$error":"#REF!"}}]
[null,null,null,null,null,null,null,null,null,null,null,null,null,null,null,null,null,null,null,null,null,null,null,null,null,null,null,null,null,null,null,null,null,null,2021,"住宅","RC造",{"$f":"INDEX(#REF!, 9 + QUOTIENT(ROW(AL414)-2, 10), 1 + MOD(ROW(AL414)-2, 10))","v":{"$error":"#REF!"}}]
[null,null,null,null,null,null,null,null,null,null,null,null,null,null,null,null,null,null,null,null,null,null,null,null,null,null,null,null,null,null,null,null,null,null,2021,"住宅","S造",{"$f":"INDEX(#REF!, 9 + QUOTIENT(ROW(AL415)-2, 10), 1 + MOD(ROW(AL415)-2, 10))","v":{"$error":"#REF!"}}]
[null,null,null,null,null,null,null,null,null,null,null,null,null,null,null,null,null,null,null,null,null,null,null,null,null,null,null,null,null,null,null,null,null,null,2021,"住宅","その他",{"$f":"INDEX(#REF!, 9 + QUOTIENT(ROW(AL416)-2, 10), 1 + MOD(ROW(AL416)-2, 10))","v":{"$error":"#REF!"}}]
[null,null,null,null,null,null,null,null,null,null,null,null,null,null,null,null,null,null,null,null,null,null,null,null,null,null,null,null,null,null,null,null,null,null,2021,"非住宅","木造",{"$f":"INDEX(#REF!, 9 + QUOTIENT(ROW(AL417)-2, 10), 1 + MOD(ROW(AL417)-2, 10))","v":{"$error":"#REF!"}}]
[null,null,null,null,null,null,null,null,null,null,null,null,null,null,null,null,null,null,null,null,null,null,null,null,null,null,null,null,null,null,null,null,null,null,2021,"非住宅","SRC造",{"$f":"INDEX(#REF!, 9 + QUOTIENT(ROW(AL418)-2, 10), 1 + MOD(ROW(AL418)-2, 10))","v":{"$error":"#REF!"}}]
[null,null,null,null,null,null,null,null,null,null,null,null,null,null,null,null,null,null,null,null,null,null,null,null,null,null,null,null,null,null,null,null,null,null,2021,"非住宅","RC造",{"$f":"INDEX(#REF!, 9 + QUOTIENT(ROW(AL419)-2, 10), 1 + MOD(ROW(AL419)-2, 10))","v":{"$error":"#REF!"}}]
[null,null,null,null,null,null,null,null,null,null,null,null,null,null,null,null,null,null,null,null,null,null,null,null,null,null,null,null,null,null,null,null,null,null,2021,"非住宅","S造",{"$f":"INDEX(#REF!, 9 + QUOTIENT(ROW(AL420)-2, 10), 1 + MOD(ROW(AL420)-2, 10))","v":{"$error":"#REF!"}}]
[null,null,null,null,null,null,null,null,null,null,null,null,null,null,null,null,null,null,null,null,null,null,null,null,null,null,null,null,null,null,null,null,null,null,2021,"非住宅","その他",{"$f":"INDEX(#REF!, 9 + QUOTIENT(ROW(AL421)-2, 10), 1 + MOD(ROW(AL421)-2, 10))","v":{"$error":"#REF!"}}]
[null,null,null,null,null,null,null,null,null,null,null,null,null,null,null,null,null,null,null,null,null,null,null,null,null,null,null,null,null,null,null,null,null,null,2022,"住宅","木造",{"$f":"INDEX(#REF!, 9 + QUOTIENT(ROW(AL422)-2, 10), 1 + MOD(ROW(AL422)-2, 10))","v":{"$error":"#REF!"}}]
[null,null,null,null,null,null,null,null,null,null,null,null,null,null,null,null,null,null,null,null,null,null,null,null,null,null,null,null,null,null,null,null,null,null,2022,"住宅","SRC造",{"$f":"INDEX(#REF!, 9 + QUOTIENT(ROW(AL423)-2, 10), 1 + MOD(ROW(AL423)-2, 10))","v":{"$error":"#REF!"}}]
[null,null,null,null,null,null,null,null,null,null,null,null,null,null,null,null,null,null,null,null,null,null,null,null,null,null,null,null,null,null,null,null,null,null,2022,"住宅","RC造",{"$f":"INDEX(#REF!, 9 + QUOTIENT(ROW(AL424)-2, 10), 1 + MOD(ROW(AL424)-2, 10))","v":{"$error":"#REF!"}}]
[null,null,null,null,null,null,null,null,null,null,null,null,null,null,null,null,null,null,null,null,null,null,null,null,null,null,null,null,null,null,null,null,null,null,2022,"住宅","S造",{"$f":"INDEX(#REF!, 9 + QUOTIENT(ROW(AL425)-2, 10), 1 + MOD(ROW(AL425)-2, 10))","v":{"$error":"#REF!"}}]
[null,null,null,null,null,null,null,null,null,null,null,null,null,null,null,null,null,null,null,null,null,null,null,null,null,null,null,null,null,null,null,null,null,null,2022,"住宅","その他",{"$f":"INDEX(#REF!, 9 + QUOTIENT(ROW(AL426)-2, 10), 1 + MOD(ROW(AL426)-2, 10))","v":{"$error":"#REF!"}}]
[null,null,null,null,null,null,null,null,null,null,null,null,null,null,null,null,null,null,null,null,null,null,null,null,null,null,null,null,null,null,null,null,null,null,2022,"非住宅","木造",{"$f":"INDEX(#REF!, 9 + QUOTIENT(ROW(AL427)-2, 10), 1 + MOD(ROW(AL427)-2, 10))","v":{"$error":"#REF!"}}]
[null,null,null,null,null,null,null,null,null,null,null,null,null,null,null,null,null,null,null,null,null,null,null,null,null,null,null,null,null,null,null,null,null,null,2022,"非住宅","SRC造",{"$f":"INDEX(#REF!, 9 + QUOTIENT(ROW(AL428)-2, 10), 1 + MOD(ROW(AL428)-2, 10))","v":{"$error":"#REF!"}}]
[null,null,null,null,null,null,null,null,null,null,null,null,null,null,null,null,null,null,null,null,null,null,null,null,null,null,null,null,null,null,null,null,null,null,2022,"非住宅","RC造",{"$f":"INDEX(#REF!, 9 + QUOTIENT(ROW(AL429)-2, 10), 1 + MOD(ROW(AL429)-2, 10))","v":{"$error":"#REF!"}}]
[null,null,null,null,null,null,null,null,null,null,null,null,null,null,null,null,null,null,null,null,null,null,null,null,null,null,null,null,null,null,null,null,null,null,2022,"非住宅","S造",{"$f":"INDEX(#REF!, 9 + QUOTIENT(ROW(AL430)-2, 10), 1 + MOD(ROW(AL430)-2, 10))","v":{"$error":"#REF!"}}]
[null,null,null,null,null,null,null,null,null,null,null,null,null,null,null,null,null,null,null,null,null,null,null,null,null,null,null,null,null,null,null,null,null,null,2022,"非住宅","その他",{"$f":"INDEX(#REF!, 9 + QUOTIENT(ROW(AL431)-2, 10), 1 + MOD(ROW(AL431)-2, 10))","v":{"$error":"#REF!"}}]
[null,null,null,null,null,null,null,null,null,null,null,null,null,null,null,null,null,null,null,null,null,null,null,null,null,null,null,null,null,null,null,null,null,null,2023,"住宅","木造",{"$f":"INDEX(#REF!, 9 + QUOTIENT(ROW(AL432)-2, 10), 1 + MOD(ROW(AL432)-2, 10))","v":{"$error":"#REF!"}}]
[null,null,null,null,null,null,null,null,null,null,null,null,null,null,null,null,null,null,null,null,null,null,null,null,null,null,null,null,null,null,null,null,null,null,2023,"住宅","SRC造",{"$f":"INDEX(#REF!, 9 + QUOTIENT(ROW(AL433)-2, 10), 1 + MOD(ROW(AL433)-2, 10))","v":{"$error":"#REF!"}}]
[null,null,null,null,null,null,null,null,null,null,null,null,null,null,null,null,null,null,null,null,null,null,null,null,null,null,null,null,null,null,null,null,null,null,2023,"住宅","RC造",{"$f":"INDEX(#REF!, 9 + QUOTIENT(ROW(AL434)-2, 10), 1 + MOD(ROW(AL434)-2, 10))","v":{"$error":"#REF!"}}]
[null,null,null,null,null,null,null,null,null,null,null,null,null,null,null,null,null,null,null,null,null,null,null,null,null,null,null,null,null,null,null,null,null,null,2023,"住宅","S造",{"$f":"INDEX(#REF!, 9 + QUOTIENT(ROW(AL435)-2, 10), 1 + MOD(ROW(AL435)-2, 10))","v":{"$error":"#REF!"}}]
[null,null,null,null,null,null,null,null,null,null,null,null,null,null,null,null,null,null,null,null,null,null,null,null,null,null,null,null,null,null,null,null,null,null,2023,"住宅","その他",{"$f":"INDEX(#REF!, 9 + QUOTIENT(ROW(AL436)-2, 10), 1 + MOD(ROW(AL436)-2, 10))","v":{"$error":"#REF!"}}]
[null,null,null,null,null,null,null,null,null,null,null,null,null,null,null,null,null,null,null,null,null,null,null,null,null,null,null,null,null,null,null,null,null,null,2023,"非住宅","木造",{"$f":"INDEX(#REF!, 9 + QUOTIENT(ROW(AL437)-2, 10), 1 + MOD(ROW(AL437)-2, 10))","v":{"$error":"#REF!"}}]
[null,null,null,null,null,null,null,null,null,null,null,null,null,null,null,null,null,null,null,null,null,null,null,null,null,null,null,null,null,null,null,null,null,null,2023,"非住宅","SRC造",{"$f":"INDEX(#REF!, 9 + QUOTIENT(ROW(AL438)-2, 10), 1 + MOD(ROW(AL438)-2, 10))","v":{"$error":"#REF!"}}]
[null,null,null,null,null,null,null,null,null,null,null,null,null,null,null,null,null,null,null,null,null,null,null,null,null,null,null,null,null,null,null,null,null,null,2023,"非住宅","RC造",{"$f":"INDEX(#REF!, 9 + QUOTIENT(ROW(AL439)-2, 10), 1 + MOD(ROW(AL439)-2, 10))","v":{"$error":"#REF!"}}]
[null,null,null,null,null,null,null,null,null,null,null,null,null,null,null,null,null,null,null,null,null,null,null,null,null,null,null,null,null,null,null,null,null,null,2023,"非住宅","S造",{"$f":"INDEX(#REF!, 9 + QUOTIENT(ROW(AL440)-2, 10), 1 + MOD(ROW(AL440)-2, 10))","v":{"$error":"#REF!"}}]
[null,null,null,null,null,null,null,null,null,null,null,null,null,null,null,null,null,null,null,null,null,null,null,null,null,null,null,null,null,null,null,null,null,null,2023,"非住宅","その他",{"$f":"INDEX(#REF!, 9 + QUOTIENT(ROW(AL441)-2, 10), 1 + MOD(ROW(AL441)-2, 10))","v":{"$error":"#REF!"}}]
[null,null,null,null,null,null,null,null,null,null,null,null,null,null,null,null,null,null,null,null,null,null,null,null,null,null,null,null,null,null,null,null,null,null,2024,"住宅","木造",{"$f":"INDEX(#REF!, 9 + QUOTIENT(ROW(AL442)-2, 10), 1 + MOD(ROW(AL442)-2, 10))","v":{"$error":"#REF!"}}]
[null,null,null,null,null,null,null,null,null,null,null,null,null,null,null,null,null,null,null,null,null,null,null,null,null,null,null,null,null,null,null,null,null,null,2024,"住宅","SRC造",{"$f":"INDEX(#REF!, 9 + QUOTIENT(ROW(AL443)-2, 10), 1 + MOD(ROW(AL443)-2, 10))","v":{"$error":"#REF!"}}]
[null,null,null,null,null,null,null,null,null,null,null,null,null,null,null,null,null,null,null,null,null,null,null,null,null,null,null,null,null,null,null,null,null,null,2024,"住宅","RC造",{"$f":"INDEX(#REF!, 9 + QUOTIENT(ROW(AL444)-2, 10), 1 + MOD(ROW(AL444)-2, 10))","v":{"$error":"#REF!"}}]
[null,null,null,null,null,null,null,null,null,null,null,null,null,null,null,null,null,null,null,null,null,null,null,null,null,null,null,null,null,null,null,null,null,null,2024,"住宅","S造",{"$f":"INDEX(#REF!, 9 + QUOTIENT(ROW(AL445)-2, 10), 1 + MOD(ROW(AL445)-2, 10))","v":{"$error":"#REF!"}}]
[null,null,null,null,null,null,null,null,null,null,null,null,null,null,null,null,null,null,null,null,null,null,null,null,null,null,null,null,null,null,null,null,null,null,2024,"住宅","その他",{"$f":"INDEX(#REF!, 9 + QUOTIENT(ROW(AL446)-2, 10), 1 + MOD(ROW(AL446)-2, 10))","v":{"$error":"#REF!"}}]
[null,null,null,null,null,null,null,null,null,null,null,null,null,null,null,null,null,null,null,null,null,null,null,null,null,null,null,null,null,null,null,null,null,null,2024,"非住宅","木造",{"$f":"INDEX(#REF!, 9 + QUOTIENT(ROW(AL447)-2, 10), 1 + MOD(ROW(AL447)-2, 10))","v":{"$error":"#REF!"}}]
[null,null,null,null,null,null,null,null,null,null,null,null,null,null,null,null,null,null,null,null,null,null,null,null,null,null,null,null,null,null,null,null,null,null,2024,"非住宅","SRC造",{"$f":"INDEX(#REF!, 9 + QUOTIENT(ROW(AL448)-2, 10), 1 + MOD(ROW(AL448)-2, 10))","v":{"$error":"#REF!"}}]
[null,null,null,null,null,null,null,null,null,null,null,null,null,null,null,null,null,null,null,null,null,null,null,null,null,null,null,null,null,null,null,null,null,null,2024,"非住宅","RC造",{"$f":"INDEX(#REF!, 9 + QUOTIENT(ROW(AL449)-2, 10), 1 + MOD(ROW(AL449)-2, 10))","v":{"$error":"#REF!"}}]
[null,null,null,null,null,null,null,null,null,null,null,null,null,null,null,null,null,null,null,null,null,null,null,null,null,null,null,null,null,null,null,null,null,null,2024,"非住宅","S造",{"$f":"INDEX(#REF!, 9 + QUOTIENT(ROW(AL450)-2, 10), 1 + MOD(ROW(AL450)-2, 10))","v":{"$error":"#REF!"}}]
[null,null,null,null,null,null,null,null,null,null,null,null,null,null,null,null,null,null,null,null,null,null,null,null,null,null,null,null,null,null,null,null,null,null,2024,"非住宅","その他",{"$f":"INDEX(#REF!, 9 + QUOTIENT(ROW(AL451)-2, 10), 1 + MOD(ROW(AL451)-2, 10))","v":{"$error":"#REF!"}}]
[null,null,null,null,null,null,null,null,null,null,null,null,null,null,null,null,null,null,null,null,null,null,null,null,null,null,null,null,null,null,null,null,null,null,2025,"住宅","木造",{"$f":"INDEX(#REF!, 9 + QUOTIENT(ROW(AL452)-2, 10), 1 + MOD(ROW(AL452)-2, 10))","v":{"$error":"#REF!"}}]
[null,null,null,null,null,null,null,null,null,null,null,null,null,null,null,null,null,null,null,null,null,null,null,null,null,null,null,null,null,null,null,null,null,null,2025,"住宅","SRC造",{"$f":"INDEX(#REF!, 9 + QUOTIENT(ROW(AL453)-2, 10), 1 + MOD(ROW(AL453)-2, 10))","v":{"$error":"#REF!"}}]
[null,null,null,null,null,null,null,null,null,null,null,null,null,null,null,null,null,null,null,null,null,null,null,null,null,null,null,null,null,null,null,null,null,null,2025,"住宅","RC造",{"$f":"INDEX(#REF!, 9 + QUOTIENT(ROW(AL454)-2, 10), 1 + MOD(ROW(AL454)-2, 10))","v":{"$error":"#REF!"}}]
[null,null,null,null,null,null,null,null,null,null,null,null,null,null,null,null,null,null,null,null,null,null,null,null,null,null,null,null,null,null,null,null,null,null,2025,"住宅","S造",{"$f":"INDEX(#REF!, 9 + QUOTIENT(ROW(AL455)-2, 10), 1 + MOD(ROW(AL455)-2, 10))","v":{"$error":"#REF!"}}]
[null,null,null,null,null,null,null,null,null,null,null,null,null,null,null,null,null,null,null,null,null,null,null,null,null,null,null,null,null,null,null,null,null,null,2025,"住宅","その他",{"$f":"INDEX(#REF!, 9 + QUOTIENT(ROW(AL456)-2, 10), 1 + MOD(ROW(AL456)-2, 10))","v":{"$error":"#REF!"}}]
[null,null,null,null,null,null,null,null,null,null,null,null,null,null,null,null,null,null,null,null,null,null,null,null,null,null,null,null,null,null,null,null,null,null,2025,"非住宅","木造",{"$f":"INDEX(#REF!, 9 + QUOTIENT(ROW(AL457)-2, 10), 1 + MOD(ROW(AL457)-2, 10))","v":{"$error":"#REF!"}}]
[null,null,null,null,null,null,null,null,null,null,null,null,null,null,null,null,null,null,null,null,null,null,null,null,null,null,null,null,null,null,null,null,null,null,2025,"非住宅","SRC造",{"$f":"INDEX(#REF!, 9 + QUOTIENT(ROW(AL458)-2, 10), 1 + MOD(ROW(AL458)-2, 10))","v":{"$error":"#REF!"}}]
[null,null,null,null,null,null,null,null,null,null,null,null,null,null,null,null,null,null,null,null,null,null,null,null,null,null,null,null,null,null,null,null,null,null,2025,"非住宅","RC造",{"$f":"INDEX(#REF!, 9 + QUOTIENT(ROW(AL459)-2, 10), 1 + MOD(ROW(AL459)-2, 10))","v":{"$error":"#REF!"}}]
[null,null,null,null,null,null,null,null,null,null,null,null,null,null,null,null,null,null,null,null,null,null,null,null,null,null,null,null,null,null,null,null,null,null,2025,"非住宅","S造",{"$f":"INDEX(#REF!, 9 + QUOTIENT(ROW(AL460)-2, 10), 1 + MOD(ROW(AL460)-2, 10))","v":{"$error":"#REF!"}}]
[null,null,null,null,null,null,null,null,null,null,null,null,null,null,null,null,null,null,null,null,null,null,null,null,null,null,null,null,null,null,null,null,null,null,2025,"非住宅","その他",{"$f":"INDEX(#REF!, 9 + QUOTIENT(ROW(AL461)-2, 10), 1 + MOD(ROW(AL461)-2, 10))","v":{"$error":"#REF!"}}]
[null,null,null,null,null,null,null,null,null,null,null,null,null,null,null,null,null,null,null,null,null,null,null,null,null,null,null,null,null,null,null,null,null,null,2026,"住宅","木造",{"$f":"INDEX(#REF!, 9 + QUOTIENT(ROW(AL462)-2, 10), 1 + MOD(ROW(AL462)-2, 10))","v":{"$error":"#REF!"}}]
[null,null,null,null,null,null,null,null,null,null,null,null,null,null,null,null,null,null,null,null,null,null,null,null,null,null,null,null,null,null,null,null,null,null,2026,"住宅","SRC造",{"$f":"INDEX(#REF!, 9 + QUOTIENT(ROW(AL463)-2, 10), 1 + MOD(ROW(AL463)-2, 10))","v":{"$error":"#REF!"}}]
[null,null,null,null,null,null,null,null,null,null,null,null,null,null,null,null,null,null,null,null,null,null,null,null,null,null,null,null,null,null,null,null,null,null,2026,"住宅","RC造",{"$f":"INDEX(#REF!, 9 + QUOTIENT(ROW(AL464)-2, 10), 1 + MOD(ROW(AL464)-2, 10))","v":{"$error":"#REF!"}}]
[null,null,null,null,null,null,null,null,null,null,null,null,null,null,null,null,null,null,null,null,null,null,null,null,null,null,null,null,null,null,null,null,null,null,2026,"住宅","S造",{"$f":"INDEX(#REF!, 9 + QUOTIENT(ROW(AL465)-2, 10), 1 + MOD(ROW(AL465)-2, 10))","v":{"$error":"#REF!"}}]
[null,null,null,null,null,null,null,null,null,null,null,null,null,null,null,null,null,null,null,null,null,null,null,null,null,null,null,null,null,null,null,null,null,null,2026,"住宅","その他",{"$f":"INDEX(#REF!, 9 + QUOTIENT(ROW(AL466)-2, 10), 1 + MOD(ROW(AL466)-2, 10))","v":{"$error":"#REF!"}}]
[null,null,null,null,null,null,null,null,null,null,null,null,null,null,null,null,null,null,null,null,null,null,null,null,null,null,null,null,null,null,null,null,null,null,2026,"非住宅","木造",{"$f":"INDEX(#REF!, 9 + QUOTIENT(ROW(AL467)-2, 10), 1 + MOD(ROW(AL467)-2, 10))","v":{"$error":"#REF!"}}]
[null,null,null,null,null,null,null,null,null,null,null,null,null,null,null,null,null,null,null,null,null,null,null,null,null,null,null,null,null,null,null,null,null,null,2026,"非住宅","SRC造",{"$f":"INDEX(#REF!, 9 + QUOTIENT(ROW(AL468)-2, 10), 1 + MOD(ROW(AL468)-2, 10))","v":{"$error":"#REF!"}}]
[null,null,null,null,null,null,null,null,null,null,null,null,null,null,null,null,null,null,null,null,null,null,null,null,null,null,null,null,null,null,null,null,null,null,2026,"非住宅","RC造",{"$f":"INDEX(#REF!, 9 + QUOTIENT(ROW(AL469)-2, 10), 1 + MOD(ROW(AL469)-2, 10))","v":{"$error":"#REF!"}}]
[null,null,null,null,null,null,null,null,null,null,null,null,null,null,null,null,null,null,null,null,null,null,null,null,null,null,null,null,null,null,null,null,null,null,2026,"非住宅","S造",{"$f":"INDEX(#REF!, 9 + QUOTIENT(ROW(AL470)-2, 10), 1 + MOD(ROW(AL470)-2, 10))","v":{"$error":"#REF!"}}]
[null,null,null,null,null,null,null,null,null,null,null,null,null,null,null,null,null,null,null,null,null,null,null,null,null,null,null,null,null,null,null,null,null,null,2026,"非住宅","その他",{"$f":"INDEX(#REF!, 9 + QUOTIENT(ROW(AL471)-2, 10), 1 + MOD(ROW(AL471)-2, 10))","v":{"$error":"#REF!"}}]
[null,null,null,null,null,null,null,null,null,null,null,null,null,null,null,null,null,null,null,null,null,null,null,null,null,null,null,null,null,null,null,null,null,null,2027,"住宅","木造",{"$f":"INDEX(#REF!, 9 + QUOTIENT(ROW(AL472)-2, 10), 1 + MOD(ROW(AL472)-2, 10))","v":{"$error":"#REF!"}}]
[null,null,null,null,null,null,null,null,null,null,null,null,null,null,null,null,null,null,null,null,null,null,null,null,null,null,null,null,null,null,null,null,null,null,2027,"住宅","SRC造",{"$f":"INDEX(#REF!, 9 + QUOTIENT(ROW(AL473)-2, 10), 1 + MOD(ROW(AL473)-2, 10))","v":{"$error":"#REF!"}}]
[null,null,null,null,null,null,null,null,null,null,null,null,null,null,null,null,null,null,null,null,null,null,null,null,null,null,null,null,null,null,null,null,null,null,2027,"住宅","RC造",{"$f":"INDEX(#REF!, 9 + QUOTIENT(ROW(AL474)-2, 10), 1 + MOD(ROW(AL474)-2, 10))","v":{"$error":"#REF!"}}]
[null,null,null,null,null,null,null,null,null,null,null,null,null,null,null,null,null,null,null,null,null,null,null,null,null,null,null,null,null,null,null,null,null,null,2027,"住宅","S造",{"$f":"INDEX(#REF!, 9 + QUOTIENT(ROW(AL475)-2, 10), 1 + MOD(ROW(AL475)-2, 10))","v":{"$error":"#REF!"}}]
[null,null,null,null,null,null,null,null,null,null,null,null,null,null,null,null,null,null,null,null,null,null,null,null,null,null,null,null,null,null,null,null,null,null,2027,"住宅","その他",{"$f":"INDEX(#REF!, 9 + QUOTIENT(ROW(AL476)-2, 10), 1 + MOD(ROW(AL476)-2, 10))","v":{"$error":"#REF!"}}]
[null,null,null,null,null,null,null,null,null,null,null,null,null,null,null,null,null,null,null,null,null,null,null,null,null,null,null,null,null,null,null,null,null,null,2027,"非住宅","木造",{"$f":"INDEX(#REF!, 9 + QUOTIENT(ROW(AL477)-2, 10), 1 + MOD(ROW(AL477)-2, 10))","v":{"$error":"#REF!"}}]
[null,null,null,null,null,null,null,null,null,null,null,null,null,null,null,null,null,null,null,null,null,null,null,null,null,null,null,null,null,null,null,null,null,null,2027,"非住宅","SRC造",{"$f":"INDEX(#REF!, 9 + QUOTIENT(ROW(AL478)-2, 10), 1 + MOD(ROW(AL478)-2, 10))","v":{"$error":"#REF!"}}]
[null,null,null,null,null,null,null,null,null,null,null,null,null,null,null,null,null,null,null,null,null,null,null,null,null,null,null,null,null,null,null,null,null,null,2027,"非住宅","RC造",{"$f":"INDEX(#REF!, 9 + QUOTIENT(ROW(AL479)-2, 10), 1 + MOD(ROW(AL479)-2, 10))","v":{"$error":"#REF!"}}]
[null,null,null,null,null,null,null,null,null,null,null,null,null,null,null,null,null,null,null,null,null,null,null,null,null,null,null,null,null,null,null,null,null,null,2027,"非住宅","S造",{"$f":"INDEX(#REF!, 9 + QUOTIENT(ROW(AL480)-2, 10), 1 + MOD(ROW(AL480)-2, 10))","v":{"$error":"#REF!"}}]
[null,null,null,null,null,null,null,null,null,null,null,null,null,null,null,null,null,null,null,null,null,null,null,null,null,null,null,null,null,null,null,null,null,null,2027,"非住宅","その他",{"$f":"INDEX(#REF!, 9 + QUOTIENT(ROW(AL481)-2, 10), 1 + MOD(ROW(AL481)-2, 10))","v":{"$error":"#REF!"}}]
[null,null,null,null,null,null,null,null,null,null,null,null,null,null,null,null,null,null,null,null,null,null,null,null,null,null,null,null,null,null,null,null,null,null,2028,"住宅","木造",{"$f":"INDEX(#REF!, 9 + QUOTIENT(ROW(AL482)-2, 10), 1 + MOD(ROW(AL482)-2, 10))","v":{"$error":"#REF!"}}]
[null,null,null,null,null,null,null,null,null,null,null,null,null,null,null,null,null,null,null,null,null,null,null,null,null,null,null,null,null,null,null,null,null,null,2028,"住宅","SRC造",{"$f":"INDEX(#REF!, 9 + QUOTIENT(ROW(AL483)-2, 10), 1 + MOD(ROW(AL483)-2, 10))","v":{"$error":"#REF!"}}]
[null,null,null,null,null,null,null,null,null,null,null,null,null,null,null,null,null,null,null,null,null,null,null,null,null,null,null,null,null,null,null,null,null,null,2028,"住宅","RC造",{"$f":"INDEX(#REF!, 9 + QUOTIENT(ROW(AL484)-2, 10), 1 + MOD(ROW(AL484)-2, 10))","v":{"$error":"#REF!"}}]
[null,null,null,null,null,null,null,null,null,null,null,null,null,null,null,null,null,null,null,null,null,null,null,null,null,null,null,null,null,null,null,null,null,null,2028,"住宅","S造",{"$f":"INDEX(#REF!, 9 + QUOTIENT(ROW(AL485)-2, 10), 1 + MOD(ROW(AL485)-2, 10))","v":{"$error":"#REF!"}}]
[null,null,null,null,null,null,null,null,null,null,null,null,null,null,null,null,null,null,null,null,null,null,null,null,null,null,null,null,null,null,null,null,null,null,2028,"住宅","その他",{"$f":"INDEX(#REF!, 9 + QUOTIENT(ROW(AL486)-2, 10), 1 + MOD(ROW(AL486)-2, 10))","v":{"$error":"#REF!"}}]
[null,null,null,null,null,null,null,null,null,null,null,null,null,null,null,null,null,null,null,null,null,null,null,null,null,null,null,null,null,null,null,null,null,null,2028,"非住宅","木造",{"$f":"INDEX(#REF!, 9 + QUOTIENT(ROW(AL487)-2, 10), 1 + MOD(ROW(AL487)-2, 10))","v":{"$error":"#REF!"}}]
[null,null,null,null,null,null,null,null,null,null,null,null,null,null,null,null,null,null,null,null,null,null,null,null,null,null,null,null,null,null,null,null,null,null,2028,"非住宅","SRC造",{"$f":"INDEX(#REF!, 9 + QUOTIENT(ROW(AL488)-2, 10), 1 + MOD(ROW(AL488)-2, 10))","v":{"$error":"#REF!"}}]
[null,null,null,null,null,null,null,null,null,null,null,null,null,null,null,null,null,null,null,null,null,null,null,null,null,null,null,null,null,null,null,null,null,null,2028,"非住宅","RC造",{"$f":"INDEX(#REF!, 9 + QUOTIENT(ROW(AL489)-2, 10), 1 + MOD(ROW(AL489)-2, 10))","v":{"$error":"#REF!"}}]
[null,null,null,null,null,null,null,null,null,null,null,null,null,null,null,null,null,null,null,null,null,null,null,null,null,null,null,null,null,null,null,null,null,null,2028,"非住宅","S造",{"$f":"INDEX(#REF!, 9 + QUOTIENT(ROW(AL490)-2, 10), 1 + MOD(ROW(AL490)-2, 10))","v":{"$error":"#REF!"}}]
[null,null,null,null,null,null,null,null,null,null,null,null,null,null,null,null,null,null,null,null,null,null,null,null,null,null,null,null,null,null,null,null,null,null,2028,"非住宅","その他",{"$f":"INDEX(#REF!, 9 + QUOTIENT(ROW(AL491)-2, 10), 1 + MOD(ROW(AL491)-2, 10))","v":{"$error":"#REF!"}}]
[null,null,null,null,null,null,null,null,null,null,null,null,null,null,null,null,null,null,null,null,null,null,null,null,null,null,null,null,null,null,null,null,null,null,2029,"住宅","木造",{"$f":"INDEX(#REF!, 9 + QUOTIENT(ROW(AL492)-2, 10), 1 + MOD(ROW(AL492)-2, 10))","v":{"$error":"#REF!"}}]
[null,null,null,null,null,null,null,null,null,null,null,null,null,null,null,null,null,null,null,null,null,null,null,null,null,null,null,null,null,null,null,null,null,null,2029,"住宅","SRC造",{"$f":"INDEX(#REF!, 9 + QUOTIENT(ROW(AL493)-2, 10), 1 + MOD(ROW(AL493)-2, 10))","v":{"$error":"#REF!"}}]
[null,null,null,null,null,null,null,null,null,null,null,null,null,null,null,null,null,null,null,null,null,null,null,null,null,null,null,null,null,null,null,null,null,null,2029,"住宅","RC造",{"$f":"INDEX(#REF!, 9 + QUOTIENT(ROW(AL494)-2, 10), 1 + MOD(ROW(AL494)-2, 10))","v":{"$error":"#REF!"}}]
[null,null,null,null,null,null,null,null,null,null,null,null,null,null,null,null,null,null,null,null,null,null,null,null,null,null,null,null,null,null,null,null,null,null,2029,"住宅","S造",{"$f":"INDEX(#REF!, 9 + QUOTIENT(ROW(AL495)-2, 10), 1 + MOD(ROW(AL495)-2, 10))","v":{"$error":"#REF!"}}]
[null,null,null,null,null,null,null,null,null,null,null,null,null,null,null,null,null,null,null,null,null,null,null,null,null,null,null,null,null,null,null,null,null,null,2029,"住宅","その他",{"$f":"INDEX(#REF!, 9 + QUOTIENT(ROW(AL496)-2, 10), 1 + MOD(ROW(AL496)-2, 10))","v":{"$error":"#REF!"}}]
[null,null,null,null,null,null,null,null,null,null,null,null,null,null,null,null,null,null,null,null,null,null,null,null,null,null,null,null,null,null,null,null,null,null,2029,"非住宅","木造",{"$f":"INDEX(#REF!, 9 + QUOTIENT(ROW(AL497)-2, 10), 1 + MOD(ROW(AL497)-2, 10))","v":{"$error":"#REF!"}}]
[null,null,null,null,null,null,null,null,null,null,null,null,null,null,null,null,null,null,null,null,null,null,null,null,null,null,null,null,null,null,null,null,null,null,2029,"非住宅","SRC造",{"$f":"INDEX(#REF!, 9 + QUOTIENT(ROW(AL498)-2, 10), 1 + MOD(ROW(AL498)-2, 10))","v":{"$error":"#REF!"}}]
[null,null,null,null,null,null,null,null,null,null,null,null,null,null,null,null,null,null,null,null,null,null,null,null,null,null,null,null,null,null,null,null,null,null,2029,"非住宅","RC造",{"$f":"INDEX(#REF!, 9 + QUOTIENT(ROW(AL499)-2, 10), 1 + MOD(ROW(AL499)-2, 10))","v":{"$error":"#REF!"}}]
[null,null,null,null,null,null,null,null,null,null,null,null,null,null,null,null,null,null,null,null,null,null,null,null,null,null,null,null,null,null,null,null,null,null,2029,"非住宅","S造",{"$f":"INDEX(#REF!, 9 + QUOTIENT(ROW(AL500)-2, 10), 1 + MOD(ROW(AL500)-2, 10))","v":{"$error":"#REF!"}}]
[null,null,null,null,null,null,null,null,null,null,null,null,null,null,null,null,null,null,null,null,null,null,null,null,null,null,null,null,null,null,null,null,null,null,2029,"非住宅","その他",{"$f":"INDEX(#REF!, 9 + QUOTIENT(ROW(AL501)-2, 10), 1 + MOD(ROW(AL501)-2, 10))","v":{"$error":"#REF!"}}]
[null,null,null,null,null,null,null,null,null,null,null,null,null,null,null,null,null,null,null,null,null,null,null,null,null,null,null,null,null,null,null,null,null,null,2030,"住宅","木造",{"$f":"INDEX(#REF!, 9 + QUOTIENT(ROW(AL502)-2, 10), 1 + MOD(ROW(AL502)-2, 10))","v":{"$error":"#REF!"}}]
[null,null,null,null,null,null,null,null,null,null,null,null,null,null,null,null,null,null,null,null,null,null,null,null,null,null,null,null,null,null,null,null,null,null,2030,"住宅","SRC造",{"$f":"INDEX(#REF!, 9 + QUOTIENT(ROW(AL503)-2, 10), 1 + MOD(ROW(AL503)-2, 10))","v":{"$error":"#REF!"}}]
[null,null,null,null,null,null,null,null,null,null,null,null,null,null,null,null,null,null,null,null,null,null,null,null,null,null,null,null,null,null,null,null,null,null,2030,"住宅","RC造",{"$f":"INDEX(#REF!, 9 + QUOTIENT(ROW(AL504)-2, 10), 1 + MOD(ROW(AL504)-2, 10))","v":{"$error":"#REF!"}}]
[null,null,null,null,null,null,null,null,null,null,null,null,null,null,null,null,null,null,null,null,null,null,null,null,null,null,null,null,null,null,null,null,null,null,2030,"住宅","S造",{"$f":"INDEX(#REF!, 9 + QUOTIENT(ROW(AL505)-2, 10), 1 + MOD(ROW(AL505)-2, 10))","v":{"$error":"#REF!"}}]
[null,null,null,null,null,null,null,null,null,null,null,null,null,null,null,null,null,null,null,null,null,null,null,null,null,null,null,null,null,null,null,null,null,null,2030,"住宅","その他",{"$f":"INDEX(#REF!, 9 + QUOTIENT(ROW(AL506)-2, 10), 1 + MOD(ROW(AL506)-2, 10))","v":{"$error":"#REF!"}}]
[null,null,null,null,null,null,null,null,null,null,null,null,null,null,null,null,null,null,null,null,null,null,null,null,null,null,null,null,null,null,null,null,null,null,2030,"非住宅","木造",{"$f":"INDEX(#REF!, 9 + QUOTIENT(ROW(AL507)-2, 10), 1 + MOD(ROW(AL507)-2, 10))","v":{"$error":"#REF!"}}]
[null,null,null,null,null,null,null,null,null,null,null,null,null,null,null,null,null,null,null,null,null,null,null,null,null,null,null,null,null,null,null,null,null,null,2030,"非住宅","SRC造",{"$f":"INDEX(#REF!, 9 + QUOTIENT(ROW(AL508)-2, 10), 1 + MOD(ROW(AL508)-2, 10))","v":{"$error":"#REF!"}}]
[null,null,null,null,null,null,null,null,null,null,null,null,null,null,null,null,null,null,null,null,null,null,null,null,null,null,null,null,null,null,null,null,null,null,2030,"非住宅","RC造",{"$f":"INDEX(#REF!, 9 + QUOTIENT(ROW(AL509)-2, 10), 1 + MOD(ROW(AL509)-2, 10))","v":{"$error":"#REF!"}}]
[null,null,null,null,null,null,null,null,null,null,null,null,null,null,null,null,null,null,null,null,null,null,null,null,null,null,null,null,null,null,null,null,null,null,2030,"非住宅","S造",{"$f":"INDEX(#REF!, 9 + QUOTIENT(ROW(AL510)-2, 10), 1 + MOD(ROW(AL510)-2, 10))","v":{"$error":"#REF!"}}]
[null,null,null,null,null,null,null,null,null,null,null,null,null,null,null,null,null,null,null,null,null,null,null,null,null,null,null,null,null,null,null,null,null,null,2030,"非住宅","その他",{"$f":"INDEX(#REF!, 9 + QUOTIENT(ROW(AL511)-2, 10), 1 + MOD(ROW(AL511)-2, 10))","v":{"$error":"#REF!"}}]
[null,null,null,null,null,null,null,null,null,null,null,null,null,null,null,null,null,null,null,null,null,null,null,null,null,null,null,null,null,null,null,null,null,null,2031,"住宅","木造",{"$f":"INDEX(#REF!, 9 + QUOTIENT(ROW(AL512)-2, 10), 1 + MOD(ROW(AL512)-2, 10))","v":{"$error":"#REF!"}}]
[null,null,null,null,null,null,null,null,null,null,null,null,null,null,null,null,null,null,null,null,null,null,null,null,null,null,null,null,null,null,null,null,null,null,2031,"住宅","SRC造",{"$f":"INDEX(#REF!, 9 + QUOTIENT(ROW(AL513)-2, 10), 1 + MOD(ROW(AL513)-2, 10))","v":{"$error":"#REF!"}}]
[null,null,null,null,null,null,null,null,null,null,null,null,null,null,null,null,null,null,null,null,null,null,null,null,null,null,null,null,null,null,null,null,null,null,2031,"住宅","RC造",{"$f":"INDEX(#REF!, 9 + QUOTIENT(ROW(AL514)-2, 10), 1 + MOD(ROW(AL514)-2, 10))","v":{"$error":"#REF!"}}]
[null,null,null,null,null,null,null,null,null,null,null,null,null,null,null,null,null,null,null,null,null,null,null,null,null,null,null,null,null,null,null,null,null,null,2031,"住宅","S造",{"$f":"INDEX(#REF!, 9 + QUOTIENT(ROW(AL515)-2, 10), 1 + MOD(ROW(AL515)-2, 10))","v":{"$error":"#REF!"}}]
[null,null,null,null,null,null,null,null,null,null,null,null,null,null,null,null,null,null,null,null,null,null,null,null,null,null,null,null,null,null,null,null,null,null,2031,"住宅","その他",{"$f":"INDEX(#REF!, 9 + QUOTIENT(ROW(AL516)-2, 10), 1 + MOD(ROW(AL516)-2, 10))","v":{"$error":"#REF!"}}]
[null,null,null,null,null,null,null,null,null,null,null,null,null,null,null,null,null,null,null,null,null,null,null,null,null,null,null,null,null,null,null,null,null,null,2031,"非住宅","木造",{"$f":"INDEX(#REF!, 9 + QUOTIENT(ROW(AL517)-2, 10), 1 + MOD(ROW(AL517)-2, 10))","v":{"$error":"#REF!"}}]
[null,null,null,null,null,null,null,null,null,null,null,null,null,null,null,null,null,null,null,null,null,null,null,null,null,null,null,null,null,null,null,null,null,null,2031,"非住宅","SRC造",{"$f":"INDEX(#REF!, 9 + QUOTIENT(ROW(AL518)-2, 10), 1 + MOD(ROW(AL518)-2, 10))","v":{"$error":"#REF!"}}]
[null,null,null,null,null,null,null,null,null,null,null,null,null,null,null,null,null,null,null,null,null,null,null,null,null,null,null,null,null,null,null,null,null,null,2031,"非住宅","RC造",{"$f":"INDEX(#REF!, 9 + QUOTIENT(ROW(AL519)-2, 10), 1 + MOD(ROW(AL519)-2, 10))","v":{"$error":"#REF!"}}]
[null,null,null,null,null,null,null,null,null,null,null,null,null,null,null,null,null,null,null,null,null,null,null,null,null,null,null,null,null,null,null,null,null,null,2031,"非住宅","S造",{"$f":"INDEX(#REF!, 9 + QUOTIENT(ROW(AL520)-2, 10), 1 + MOD(ROW(AL520)-2, 10))","v":{"$error":"#REF!"}}]
[null,null,null,null,null,null,null,null,null,null,null,null,null,null,null,null,null,null,null,null,null,null,null,null,null,null,null,null,null,null,null,null,null,null,2031,"非住宅","その他",{"$f":"INDEX(#REF!, 9 + QUOTIENT(ROW(AL521)-2, 10), 1 + MOD(ROW(AL521)-2, 10))","v":{"$error":"#REF!"}}]
[null,null,null,null,null,null,null,null,null,null,null,null,null,null,null,null,null,null,null,null,null,null,null,null,null,null,null,null,null,null,null,null,null,null,2032,"住宅","木造",{"$f":"INDEX(#REF!, 9 + QUOTIENT(ROW(AL522)-2, 10), 1 + MOD(ROW(AL522)-2, 10))","v":{"$error":"#REF!"}}]
[null,null,null,null,null,null,null,null,null,null,null,null,null,null,null,null,null,null,null,null,null,null,null,null,null,null,null,null,null,null,null,null,null,null,2032,"住宅","SRC造",{"$f":"INDEX(#REF!, 9 + QUOTIENT(ROW(AL523)-2, 10), 1 + MOD(ROW(AL523)-2, 10))","v":{"$error":"#REF!"}}]
[null,null,null,null,null,null,null,null,null,null,null,null,null,null,null,null,null,null,null,null,null,null,null,null,null,null,null,null,null,null,null,null,null,null,2032,"住宅","RC造",{"$f":"INDEX(#REF!, 9 + QUOTIENT(ROW(AL524)-2, 10), 1 + MOD(ROW(AL524)-2, 10))","v":{"$error":"#REF!"}}]
[null,null,null,null,null,null,null,null,null,null,null,null,null,null,null,null,null,null,null,null,null,null,null,null,null,null,null,null,null,null,null,null,null,null,2032,"住宅","S造",{"$f":"INDEX(#REF!, 9 + QUOTIENT(ROW(AL525)-2, 10), 1 + MOD(ROW(AL525)-2, 10))","v":{"$error":"#REF!"}}]
[null,null,null,null,null,null,null,null,null,null,null,null,null,null,null,null,null,null,null,null,null,null,null,null,null,null,null,null,null,null,null,null,null,null,2032,"住宅","その他",{"$f":"INDEX(#REF!, 9 + QUOTIENT(ROW(AL526)-2, 10), 1 + MOD(ROW(AL526)-2, 10))","v":{"$error":"#REF!"}}]
[null,null,null,null,null,null,null,null,null,null,null,null,null,null,null,null,null,null,null,null,null,null,null,null,null,null,null,null,null,null,null,null,null,null,2032,"非住宅","木造",{"$f":"INDEX(#REF!, 9 + QUOTIENT(ROW(AL527)-2, 10), 1 + MOD(ROW(AL527)-2, 10))","v":{"$error":"#REF!"}}]
[null,null,null,null,null,null,null,null,null,null,null,null,null,null,null,null,null,null,null,null,null,null,null,null,null,null,null,null,null,null,null,null,null,null,2032,"非住宅","SRC造",{"$f":"INDEX(#REF!, 9 + QUOTIENT(ROW(AL528)-2, 10), 1 + MOD(ROW(AL528)-2, 10))","v":{"$error":"#REF!"}}]
[null,null,null,null,null,null,null,null,null,null,null,null,null,null,null,null,null,null,null,null,null,null,null,null,null,null,null,null,null,null,null,null,null,null,2032,"非住宅","RC造",{"$f":"INDEX(#REF!, 9 + QUOTIENT(ROW(AL529)-2, 10), 1 + MOD(ROW(AL529)-2, 10))","v":{"$error":"#REF!"}}]
[null,null,null,null,null,null,null,null,null,null,null,null,null,null,null,null,null,null,null,null,null,null,null,null,null,null,null,null,null,null,null,null,null,null,2032,"非住宅","S造",{"$f":"INDEX(#REF!, 9 + QUOTIENT(ROW(AL530)-2, 10), 1 + MOD(ROW(AL530)-2, 10))","v":{"$error":"#REF!"}}]
[null,null,null,null,null,null,null,null,null,null,null,null,null,null,null,null,null,null,null,null,null,null,null,null,null,null,null,null,null,null,null,null,null,null,2032,"非住宅","その他",{"$f":"INDEX(#REF!, 9 + QUOTIENT(ROW(AL531)-2, 10), 1 + MOD(ROW(AL531)-2, 10))","v":{"$error":"#REF!"}}]
[null,null,null,null,null,null,null,null,null,null,null,null,null,null,null,null,null,null,null,null,null,null,null,null,null,null,null,null,null,null,null,null,null,null,2033,"住宅","木造",{"$f":"INDEX(#REF!, 9 + QUOTIENT(ROW(AL532)-2, 10), 1 + MOD(ROW(AL532)-2, 10))","v":{"$error":"#REF!"}}]
[null,null,null,null,null,null,null,null,null,null,null,null,null,null,null,null,null,null,null,null,null,null,null,null,null,null,null,null,null,null,null,null,null,null,2033,"住宅","SRC造",{"$f":"INDEX(#REF!, 9 + QUOTIENT(ROW(AL533)-2, 10), 1 + MOD(ROW(AL533)-2, 10))","v":{"$error":"#REF!"}}]
[null,null,null,null,null,null,null,null,null,null,null,null,null,null,null,null,null,null,null,null,null,null,null,null,null,null,null,null,null,null,null,null,null,null,2033,"住宅","RC造",{"$f":"INDEX(#REF!, 9 + QUOTIENT(ROW(AL534)-2, 10), 1 + MOD(ROW(AL534)-2, 10))","v":{"$error":"#REF!"}}]
[null,null,null,null,null,null,null,null,null,null,null,null,null,null,null,null,null,null,null,null,null,null,null,null,null,null,null,null,null,null,null,null,null,null,2033,"住宅","S造",{"$f":"INDEX(#REF!, 9 + QUOTIENT(ROW(AL535)-2, 10), 1 + MOD(ROW(AL535)-2, 10))","v":{"$error":"#REF!"}}]
[null,null,null,null,null,null,null,null,null,null,null,null,null,null,null,null,null,null,null,null,null,null,null,null,null,null,null,null,null,null,null,null,null,null,2033,"住宅","その他",{"$f":"INDEX(#REF!, 9 + QUOTIENT(ROW(AL536)-2, 10), 1 + MOD(ROW(AL536)-2, 10))","v":{"$error":"#REF!"}}]
[null,null,null,null,null,null,null,null,null,null,null,null,null,null,null,null,null,null,null,null,null,null,null,null,null,null,null,null,null,null,null,null,null,null,2033,"非住宅","木造",{"$f":"INDEX(#REF!, 9 + QUOTIENT(ROW(AL537)-2, 10), 1 + MOD(ROW(AL537)-2, 10))","v":{"$error":"#REF!"}}]
[null,null,null,null,null,null,null,null,null,null,null,null,null,null,null,null,null,null,null,null,null,null,null,null,null,null,null,null,null,null,null,null,null,null,2033,"非住宅","SRC造",{"$f":"INDEX(#REF!, 9 + QUOTIENT(ROW(AL538)-2, 10), 1 + MOD(ROW(AL538)-2, 10))","v":{"$error":"#REF!"}}]
[null,null,null,null,null,null,null,null,null,null,null,null,null,null,null,null,null,null,null,null,null,null,null,null,null,null,null,null,null,null,null,null,null,null,2033,"非住宅","RC造",{"$f":"INDEX(#REF!, 9 + QUOTIENT(ROW(AL539)-2, 10), 1 + MOD(ROW(AL539)-2, 10))","v":{"$error":"#REF!"}}]
[null,null,null,null,null,null,null,null,null,null,null,null,null,null,null,null,null,null,null,null,null,null,null,null,null,null,null,null,null,null,null,null,null,null,2033,"非住宅","S造",{"$f":"INDEX(#REF!, 9 + QUOTIENT(ROW(AL540)-2, 10), 1 + MOD(ROW(AL540)-2, 10))","v":{"$error":"#REF!"}}]
[null,null,null,null,null,null,null,null,null,null,null,null,null,null,null,null,null,null,null,null,null,null,null,null,null,null,null,null,null,null,null,null,null,null,2033,"非住宅","その他",{"$f":"INDEX(#REF!, 9 + QUOTIENT(ROW(AL541)-2, 10), 1 + MOD(ROW(AL541)-2, 10))","v":{"$error":"#REF!"}}]
[null,null,null,null,null,null,null,null,null,null,null,null,null,null,null,null,null,null,null,null,null,null,null,null,null,null,null,null,null,null,null,null,null,null,2034,"住宅","木造",{"$f":"INDEX(#REF!, 9 + QUOTIENT(ROW(AL542)-2, 10), 1 + MOD(ROW(AL542)-2, 10))","v":{"$error":"#REF!"}}]
[null,null,null,null,null,null,null,null,null,null,null,null,null,null,null,null,null,null,null,null,null,null,null,null,null,null,null,null,null,null,null,null,null,null,2034,"住宅","SRC造",{"$f":"INDEX(#REF!, 9 + QUOTIENT(ROW(AL543)-2, 10), 1 + MOD(ROW(AL543)-2, 10))","v":{"$error":"#REF!"}}]
[null,null,null,null,null,null,null,null,null,null,null,null,null,null,null,null,null,null,null,null,null,null,null,null,null,null,null,null,null,null,null,null,null,null,2034,"住宅","RC造",{"$f":"INDEX(#REF!, 9 + QUOTIENT(ROW(AL544)-2, 10), 1 + MOD(ROW(AL544)-2, 10))","v":{"$error":"#REF!"}}]
[null,null,null,null,null,null,null,null,null,null,null,null,null,null,null,null,null,null,null,null,null,null,null,null,null,null,null,null,null,null,null,null,null,null,2034,"住宅","S造",{"$f":"INDEX(#REF!, 9 + QUOTIENT(ROW(AL545)-2, 10), 1 + MOD(ROW(AL545)-2, 10))","v":{"$error":"#REF!"}}]
[null,null,null,null,null,null,null,null,null,null,null,null,null,null,null,null,null,null,null,null,null,null,null,null,null,null,null,null,null,null,null,null,null,null,2034,"住宅","その他",{"$f":"INDEX(#REF!, 9 + QUOTIENT(ROW(AL546)-2, 10), 1 + MOD(ROW(AL546)-2, 10))","v":{"$error":"#REF!"}}]
[null,null,null,null,null,null,null,null,null,null,null,null,null,null,null,null,null,null,null,null,null,null,null,null,null,null,null,null,null,null,null,null,null,null,2034,"非住宅","木造",{"$f":"INDEX(#REF!, 9 + QUOTIENT(ROW(AL547)-2, 10), 1 + MOD(ROW(AL547)-2, 10))","v":{"$error":"#REF!"}}]
[null,null,null,null,null,null,null,null,null,null,null,null,null,null,null,null,null,null,null,null,null,null,null,null,null,null,null,null,null,null,null,null,null,null,2034,"非住宅","SRC造",{"$f":"INDEX(#REF!, 9 + QUOTIENT(ROW(AL548)-2, 10), 1 + MOD(ROW(AL548)-2, 10))","v":{"$error":"#REF!"}}]
[null,null,null,null,null,null,null,null,null,null,null,null,null,null,null,null,null,null,null,null,null,null,null,null,null,null,null,null,null,null,null,null,null,null,2034,"非住宅","RC造",{"$f":"INDEX(#REF!, 9 + QUOTIENT(ROW(AL549)-2, 10), 1 + MOD(ROW(AL549)-2, 10))","v":{"$error":"#REF!"}}]
[null,null,null,null,null,null,null,null,null,null,null,null,null,null,null,null,null,null,null,null,null,null,null,null,null,null,null,null,null,null,null,null,null,null,2034,"非住宅","S造",{"$f":"INDEX(#REF!, 9 + QUOTIENT(ROW(AL550)-2, 10), 1 + MOD(ROW(AL550)-2, 10))","v":{"$error":"#REF!"}}]
[null,null,null,null,null,null,null,null,null,null,null,null,null,null,null,null,null,null,null,null,null,null,null,null,null,null,null,null,null,null,null,null,null,null,2034,"非住宅","その他",{"$f":"INDEX(#REF!, 9 + QUOTIENT(ROW(AL551)-2, 10), 1 + MOD(ROW(AL551)-2, 10))","v":{"$error":"#REF!"}}]
[null,null,null,null,null,null,null,null,null,null,null,null,null,null,null,null,null,null,null,null,null,null,null,null,null,null,null,null,null,null,null,null,null,null,2035,"住宅","木造",{"$f":"INDEX(#REF!, 9 + QUOTIENT(ROW(AL552)-2, 10), 1 + MOD(ROW(AL552)-2, 10))","v":{"$error":"#REF!"}}]
[null,null,null,null,null,null,null,null,null,null,null,null,null,null,null,null,null,null,null,null,null,null,null,null,null,null,null,null,null,null,null,null,null,null,2035,"住宅","SRC造",{"$f":"INDEX(#REF!, 9 + QUOTIENT(ROW(AL553)-2, 10), 1 + MOD(ROW(AL553)-2, 10))","v":{"$error":"#REF!"}}]
[null,null,null,null,null,null,null,null,null,null,null,null,null,null,null,null,null,null,null,null,null,null,null,null,null,null,null,null,null,null,null,null,null,null,2035,"住宅","RC造",{"$f":"INDEX(#REF!, 9 + QUOTIENT(ROW(AL554)-2, 10), 1 + MOD(ROW(AL554)-2, 10))","v":{"$error":"#REF!"}}]
[null,null,null,null,null,null,null,null,null,null,null,null,null,null,null,null,null,null,null,null,null,null,null,null,null,null,null,null,null,null,null,null,null,null,2035,"住宅","S造",{"$f":"INDEX(#REF!, 9 + QUOTIENT(ROW(AL555)-2, 10), 1 + MOD(ROW(AL555)-2, 10))","v":{"$error":"#REF!"}}]
[null,null,null,null,null,null,null,null,null,null,null,null,null,null,null,null,null,null,null,null,null,null,null,null,null,null,null,null,null,null,null,null,null,null,2035,"住宅","その他",{"$f":"INDEX(#REF!, 9 + QUOTIENT(ROW(AL556)-2, 10), 1 + MOD(ROW(AL556)-2, 10))","v":{"$error":"#REF!"}}]
[null,null,null,null,null,null,null,null,null,null,null,null,null,null,null,null,null,null,null,null,null,null,null,null,null,null,null,null,null,null,null,null,null,null,2035,"非住宅","木造",{"$f":"INDEX(#REF!, 9 + QUOTIENT(ROW(AL557)-2, 10), 1 + MOD(ROW(AL557)-2, 10))","v":{"$error":"#REF!"}}]
[null,null,null,null,null,null,null,null,null,null,null,null,null,null,null,null,null,null,null,null,null,null,null,null,null,null,null,null,null,null,null,null,null,null,2035,"非住宅","SRC造",{"$f":"INDEX(#REF!, 9 + QUOTIENT(ROW(AL558)-2, 10), 1 + MOD(ROW(AL558)-2, 10))","v":{"$error":"#REF!"}}]
[null,null,null,null,null,null,null,null,null,null,null,null,null,null,null,null,null,null,null,null,null,null,null,null,null,null,null,null,null,null,null,null,null,null,2035,"非住宅","RC造",{"$f":"INDEX(#REF!, 9 + QUOTIENT(ROW(AL559)-2, 10), 1 + MOD(ROW(AL559)-2, 10))","v":{"$error":"#REF!"}}]
[null,null,null,null,null,null,null,null,null,null,null,null,null,null,null,null,null,null,null,null,null,null,null,null,null,null,null,null,null,null,null,null,null,null,2035,"非住宅","S造",{"$f":"INDEX(#REF!, 9 + QUOTIENT(ROW(AL560)-2, 10), 1 + MOD(ROW(AL560)-2, 10))","v":{"$error":"#REF!"}}]
[null,null,null,null,null,null,null,null,null,null,null,null,null,null,null,null,null,null,null,null,null,null,null,null,null,null,null,null,null,null,null,null,null,null,2035,"非住宅","その他",{"$f":"INDEX(#REF!, 9 + QUOTIENT(ROW(AL561)-2, 10), 1 + MOD(ROW(AL561)-2, 10))","v":{"$error":"#REF!"}}]
[null,null,null,null,null,null,null,null,null,null,null,null,null,null,null,null,null,null,null,null,null,null,null,null,null,null,null,null,null,null,null,null,null,null,2036,"住宅","木造",{"$f":"INDEX(#REF!, 9 + QUOTIENT(ROW(AL562)-2, 10), 1 + MOD(ROW(AL562)-2, 10))","v":{"$error":"#REF!"}}]
[null,null,null,null,null,null,null,null,null,null,null,null,null,null,null,null,null,null,null,null,null,null,null,null,null,null,null,null,null,null,null,null,null,null,2036,"住宅","SRC造",{"$f":"INDEX(#REF!, 9 + QUOTIENT(ROW(AL563)-2, 10), 1 + MOD(ROW(AL563)-2, 10))","v":{"$error":"#REF!"}}]
[null,null,null,null,null,null,null,null,null,null,null,null,null,null,null,null,null,null,null,null,null,null,null,null,null,null,null,null,null,null,null,null,null,null,2036,"住宅","RC造",{"$f":"INDEX(#REF!, 9 + QUOTIENT(ROW(AL564)-2, 10), 1 + MOD(ROW(AL564)-2, 10))","v":{"$error":"#REF!"}}]
[null,null,null,null,null,null,null,null,null,null,null,null,null,null,null,null,null,null,null,null,null,null,null,null,null,null,null,null,null,null,null,null,null,null,2036,"住宅","S造",{"$f":"INDEX(#REF!, 9 + QUOTIENT(ROW(AL565)-2, 10), 1 + MOD(ROW(AL565)-2, 10))","v":{"$error":"#REF!"}}]
[null,null,null,null,null,null,null,null,null,null,null,null,null,null,null,null,null,null,null,null,null,null,null,null,null,null,null,null,null,null,null,null,null,null,2036,"住宅","その他",{"$f":"INDEX(#REF!, 9 + QUOTIENT(ROW(AL566)-2, 10), 1 + MOD(ROW(AL566)-2, 10))","v":{"$error":"#REF!"}}]
[null,null,null,null,null,null,null,null,null,null,null,null,null,null,null,null,null,null,null,null,null,null,null,null,null,null,null,null,null,null,null,null,null,null,2036,"非住宅","木造",{"$f":"INDEX(#REF!, 9 + QUOTIENT(ROW(AL567)-2, 10), 1 + MOD(ROW(AL567)-2, 10))","v":{"$error":"#REF!"}}]
[null,null,null,null,null,null,null,null,null,null,null,null,null,null,null,null,null,null,null,null,null,null,null,null,null,null,null,null,null,null,null,null,null,null,2036,"非住宅","SRC造",{"$f":"INDEX(#REF!, 9 + QUOTIENT(ROW(AL568)-2, 10), 1 + MOD(ROW(AL568)-2, 10))","v":{"$error":"#REF!"}}]
[null,null,null,null,null,null,null,null,null,null,null,null,null,null,null,null,null,null,null,null,null,null,null,null,null,null,null,null,null,null,null,null,null,null,2036,"非住宅","RC造",{"$f":"INDEX(#REF!, 9 + QUOTIENT(ROW(AL569)-2, 10), 1 + MOD(ROW(AL569)-2, 10))","v":{"$error":"#REF!"}}]
[null,null,null,null,null,null,null,null,null,null,null,null,null,null,null,null,null,null,null,null,null,null,null,null,null,null,null,null,null,null,null,null,null,null,2036,"非住宅","S造",{"$f":"INDEX(#REF!, 9 + QUOTIENT(ROW(AL570)-2, 10), 1 + MOD(ROW(AL570)-2, 10))","v":{"$error":"#REF!"}}]
[null,null,null,null,null,null,null,null,null,null,null,null,null,null,null,null,null,null,null,null,null,null,null,null,null,null,null,null,null,null,null,null,null,null,2036,"非住宅","その他",{"$f":"INDEX(#REF!, 9 + QUOTIENT(ROW(AL571)-2, 10), 1 + MOD(ROW(AL571)-2, 10))","v":{"$error":"#REF!"}}]
[null,null,null,null,null,null,null,null,null,null,null,null,null,null,null,null,null,null,null,null,null,null,null,null,null,null,null,null,null,null,null,null,null,null,2037,"住宅","木造",{"$f":"INDEX(#REF!, 9 + QUOTIENT(ROW(AL572)-2, 10), 1 + MOD(ROW(AL572)-2, 10))","v":{"$error":"#REF!"}}]
[null,null,null,null,null,null,null,null,null,null,null,null,null,null,null,null,null,null,null,null,null,null,null,null,null,null,null,null,null,null,null,null,null,null,2037,"住宅","SRC造",{"$f":"INDEX(#REF!, 9 + QUOTIENT(ROW(AL573)-2, 10), 1 + MOD(ROW(AL573)-2, 10))","v":{"$error":"#REF!"}}]
[null,null,null,null,null,null,null,null,null,null,null,null,null,null,null,null,null,null,null,null,null,null,null,null,null,null,null,null,null,null,null,null,null,null,2037,"住宅","RC造",{"$f":"INDEX(#REF!, 9 + QUOTIENT(ROW(AL574)-2, 10), 1 + MOD(ROW(AL574)-2, 10))","v":{"$error":"#REF!"}}]
[null,null,null,null,null,null,null,null,null,null,null,null,null,null,null,null,null,null,null,null,null,null,null,null,null,null,null,null,null,null,null,null,null,null,2037,"住宅","S造",{"$f":"INDEX(#REF!, 9 + QUOTIENT(ROW(AL575)-2, 10), 1 + MOD(ROW(AL575)-2, 10))","v":{"$error":"#REF!"}}]
[null,null,null,null,null,null,null,null,null,null,null,null,null,null,null,null,null,null,null,null,null,null,null,null,null,null,null,null,null,null,null,null,null,null,2037,"住宅","その他",{"$f":"INDEX(#REF!, 9 + QUOTIENT(ROW(AL576)-2, 10), 1 + MOD(ROW(AL576)-2, 10))","v":{"$error":"#REF!"}}]
[null,null,null,null,null,null,null,null,null,null,null,null,null,null,null,null,null,null,null,null,null,null,null,null,null,null,null,null,null,null,null,null,null,null,2037,"非住宅","木造",{"$f":"INDEX(#REF!, 9 + QUOTIENT(ROW(AL577)-2, 10), 1 + MOD(ROW(AL577)-2, 10))","v":{"$error":"#REF!"}}]
[null,null,null,null,null,null,null,null,null,null,null,null,null,null,null,null,null,null,null,null,null,null,null,null,null,null,null,null,null,null,null,null,null,null,2037,"非住宅","SRC造",{"$f":"INDEX(#REF!, 9 + QUOTIENT(ROW(AL578)-2, 10), 1 + MOD(ROW(AL578)-2, 10))","v":{"$error":"#REF!"}}]
[null,null,null,null,null,null,null,null,null,null,null,null,null,null,null,null,null,null,null,null,null,null,null,null,null,null,null,null,null,null,null,null,null,null,2037,"非住宅","RC造",{"$f":"INDEX(#REF!, 9 + QUOTIENT(ROW(AL579)-2, 10), 1 + MOD(ROW(AL579)-2, 10))","v":{"$error":"#REF!"}}]
[null,null,null,null,null,null,null,null,null,null,null,null,null,null,null,null,null,null,null,null,null,null,null,null,null,null,null,null,null,null,null,null,null,null,2037,"非住宅","S造",{"$f":"INDEX(#REF!, 9 + QUOTIENT(ROW(AL580)-2, 10), 1 + MOD(ROW(AL580)-2, 10))","v":{"$error":"#REF!"}}]
[null,null,null,null,null,null,null,null,null,null,null,null,null,null,null,null,null,null,null,null,null,null,null,null,null,null,null,null,null,null,null,null,null,null,2037,"非住宅","その他",{"$f":"INDEX(#REF!, 9 + QUOTIENT(ROW(AL581)-2, 10), 1 + MOD(ROW(AL581)-2, 10))","v":{"$error":"#REF!"}}]
[null,null,null,null,null,null,null,null,null,null,null,null,null,null,null,null,null,null,null,null,null,null,null,null,null,null,null,null,null,null,null,null,null,null,2038,"住宅","木造",{"$f":"INDEX(#REF!, 9 + QUOTIENT(ROW(AL582)-2, 10), 1 + MOD(ROW(AL582)-2, 10))","v":{"$error":"#REF!"}}]
[null,null,null,null,null,null,null,null,null,null,null,null,null,null,null,null,null,null,null,null,null,null,null,null,null,null,null,null,null,null,null,null,null,null,2038,"住宅","SRC造",{"$f":"INDEX(#REF!, 9 + QUOTIENT(ROW(AL583)-2, 10), 1 + MOD(ROW(AL583)-2, 10))","v":{"$error":"#REF!"}}]
[null,null,null,null,null,null,null,null,null,null,null,null,null,null,null,null,null,null,null,null,null,null,null,null,null,null,null,null,null,null,null,null,null,null,2038,"住宅","RC造",{"$f":"INDEX(#REF!, 9 + QUOTIENT(ROW(AL584)-2, 10), 1 + MOD(ROW(AL584)-2, 10))","v":{"$error":"#REF!"}}]
[null,null,null,null,null,null,null,null,null,null,null,null,null,null,null,null,null,null,null,null,null,null,null,null,null,null,null,null,null,null,null,null,null,null,2038,"住宅","S造",{"$f":"INDEX(#REF!, 9 + QUOTIENT(ROW(AL585)-2, 10), 1 + MOD(ROW(AL585)-2, 10))","v":{"$error":"#REF!"}}]
[null,null,null,null,null,null,null,null,null,null,null,null,null,null,null,null,null,null,null,null,null,null,null,null,null,null,null,null,null,null,null,null,null,null,2038,"住宅","その他",{"$f":"INDEX(#REF!, 9 + QUOTIENT(ROW(AL586)-2, 10), 1 + MOD(ROW(AL586)-2, 10))","v":{"$error":"#REF!"}}]
[null,null,null,null,null,null,null,null,null,null,null,null,null,null,null,null,null,null,null,null,null,null,null,null,null,null,null,null,null,null,null,null,null,null,2038,"非住宅","木造",{"$f":"INDEX(#REF!, 9 + QUOTIENT(ROW(AL587)-2, 10), 1 + MOD(ROW(AL587)-2, 10))","v":{"$error":"#REF!"}}]
[null,null,null,null,null,null,null,null,null,null,null,null,null,null,null,null,null,null,null,null,null,null,null,null,null,null,null,null,null,null,null,null,null,null,2038,"非住宅","SRC造",{"$f":"INDEX(#REF!, 9 + QUOTIENT(ROW(AL588)-2, 10), 1 + MOD(ROW(AL588)-2, 10))","v":{"$error":"#REF!"}}]
[null,null,null,null,null,null,null,null,null,null,null,null,null,null,null,null,null,null,null,null,null,null,null,null,null,null,null,null,null,null,null,null,null,null,2038,"非住宅","RC造",{"$f":"INDEX(#REF!, 9 + QUOTIENT(ROW(AL589)-2, 10), 1 + MOD(ROW(AL589)-2, 10))","v":{"$error":"#REF!"}}]
[null,null,null,null,null,null,null,null,null,null,null,null,null,null,null,null,null,null,null,null,null,null,null,null,null,null,null,null,null,null,null,null,null,null,2038,"非住宅","S造",{"$f":"INDEX(#REF!, 9 + QUOTIENT(ROW(AL590)-2, 10), 1 + MOD(ROW(AL590)-2, 10))","v":{"$error":"#REF!"}}]
[null,null,null,null,null,null,null,null,null,null,null,null,null,null,null,null,null,null,null,null,null,null,null,null,null,null,null,null,null,null,null,null,null,null,2038,"非住宅","その他",{"$f":"INDEX(#REF!, 9 + QUOTIENT(ROW(AL591)-2, 10), 1 + MOD(ROW(AL591)-2, 10))","v":{"$error":"#REF!"}}]
[null,null,null,null,null,null,null,null,null,null,null,null,null,null,null,null,null,null,null,null,null,null,null,null,null,null,null,null,null,null,null,null,null,null,2039,"住宅","木造",{"$f":"INDEX(#REF!, 9 + QUOTIENT(ROW(AL592)-2, 10), 1 + MOD(ROW(AL592)-2, 10))","v":{"$error":"#REF!"}}]
[null,null,null,null,null,null,null,null,null,null,null,null,null,null,null,null,null,null,null,null,null,null,null,null,null,null,null,null,null,null,null,null,null,null,2039,"住宅","SRC造",{"$f":"INDEX(#REF!, 9 + QUOTIENT(ROW(AL593)-2, 10), 1 + MOD(ROW(AL593)-2, 10))","v":{"$error":"#REF!"}}]
[null,null,null,null,null,null,null,null,null,null,null,null,null,null,null,null,null,null,null,null,null,null,null,null,null,null,null,null,null,null,null,null,null,null,2039,"住宅","RC造",{"$f":"INDEX(#REF!, 9 + QUOTIENT(ROW(AL594)-2, 10), 1 + MOD(ROW(AL594)-2, 10))","v":{"$error":"#REF!"}}]
[null,null,null,null,null,null,null,null,null,null,null,null,null,null,null,null,null,null,null,null,null,null,null,null,null,null,null,null,null,null,null,null,null,null,2039,"住宅","S造",{"$f":"INDEX(#REF!, 9 + QUOTIENT(ROW(AL595)-2, 10), 1 + MOD(ROW(AL595)-2, 10))","v":{"$error":"#REF!"}}]
[null,null,null,null,null,null,null,null,null,null,null,null,null,null,null,null,null,null,null,null,null,null,null,null,null,null,null,null,null,null,null,null,null,null,2039,"住宅","その他",{"$f":"INDEX(#REF!, 9 + QUOTIENT(ROW(AL596)-2, 10), 1 + MOD(ROW(AL596)-2, 10))","v":{"$error":"#REF!"}}]
[null,null,null,null,null,null,null,null,null,null,null,null,null,null,null,null,null,null,null,null,null,null,null,null,null,null,null,null,null,null,null,null,null,null,2039,"非住宅","木造",{"$f":"INDEX(#REF!, 9 + QUOTIENT(ROW(AL597)-2, 10), 1 + MOD(ROW(AL597)-2, 10))","v":{"$error":"#REF!"}}]
[null,null,null,null,null,null,null,null,null,null,null,null,null,null,null,null,null,null,null,null,null,null,null,null,null,null,null,null,null,null,null,null,null,null,2039,"非住宅","SRC造",{"$f":"INDEX(#REF!, 9 + QUOTIENT(ROW(AL598)-2, 10), 1 + MOD(ROW(AL598)-2, 10))","v":{"$error":"#REF!"}}]
[null,null,null,null,null,null,null,null,null,null,null,null,null,null,null,null,null,null,null,null,null,null,null,null,null,null,null,null,null,null,null,null,null,null,2039,"非住宅","RC造",{"$f":"INDEX(#REF!, 9 + QUOTIENT(ROW(AL599)-2, 10), 1 + MOD(ROW(AL599)-2, 10))","v":{"$error":"#REF!"}}]
[null,null,null,null,null,null,null,null,null,null,null,null,null,null,null,null,null,null,null,null,null,null,null,null,null,null,null,null,null,null,null,null,null,null,2039,"非住宅","S造",{"$f":"INDEX(#REF!, 9 + QUOTIENT(ROW(AL600)-2, 10), 1 + MOD(ROW(AL600)-2, 10))","v":{"$error":"#REF!"}}]
[null,null,null,null,null,null,null,null,null,null,null,null,null,null,null,null,null,null,null,null,null,null,null,null,null,null,null,null,null,null,null,null,null,null,2039,"非住宅","その他",{"$f":"INDEX(#REF!, 9 + QUOTIENT(ROW(AL601)-2, 10), 1 + MOD(ROW(AL601)-2, 10))","v":{"$error":"#REF!"}}]
[null,null,null,null,null,null,null,null,null,null,null,null,null,null,null,null,null,null,null,null,null,null,null,null,null,null,null,null,null,null,null,null,null,null,2040,"住宅","木造",{"$f":"INDEX(#REF!, 9 + QUOTIENT(ROW(AL602)-2, 10), 1 + MOD(ROW(AL602)-2, 10))","v":{"$error":"#REF!"}}]
[null,null,null,null,null,null,null,null,null,null,null,null,null,null,null,null,null,null,null,null,null,null,null,null,null,null,null,null,null,null,null,null,null,null,2040,"住宅","SRC造",{"$f":"INDEX(#REF!, 9 + QUOTIENT(ROW(AL603)-2, 10), 1 + MOD(ROW(AL603)-2, 10))","v":{"$error":"#REF!"}}]
[null,null,null,null,null,null,null,null,null,null,null,null,null,null,null,null,null,null,null,null,null,null,null,null,null,null,null,null,null,null,null,null,null,null,2040,"住宅","RC造",{"$f":"INDEX(#REF!, 9 + QUOTIENT(ROW(AL604)-2, 10), 1 + MOD(ROW(AL604)-2, 10))","v":{"$error":"#REF!"}}]
[null,null,null,null,null,null,null,null,null,null,null,null,null,null,null,null,null,null,null,null,null,null,null,null,null,null,null,null,null,null,null,null,null,null,2040,"住宅","S造",{"$f":"INDEX(#REF!, 9 + QUOTIENT(ROW(AL605)-2, 10), 1 + MOD(ROW(AL605)-2, 10))","v":{"$error":"#REF!"}}]
[null,null,null,null,null,null,null,null,null,null,null,null,null,null,null,null,null,null,null,null,null,null,null,null,null,null,null,null,null,null,null,null,null,null,2040,"住宅","その他",{"$f":"INDEX(#REF!, 9 + QUOTIENT(ROW(AL606)-2, 10), 1 + MOD(ROW(AL606)-2, 10))","v":{"$error":"#REF!"}}]
[null,null,null,null,null,null,null,null,null,null,null,null,null,null,null,null,null,null,null,null,null,null,null,null,null,null,null,null,null,null,null,null,null,null,2040,"非住宅","木造",{"$f":"INDEX(#REF!, 9 + QUOTIENT(ROW(AL607)-2, 10), 1 + MOD(ROW(AL607)-2, 10))","v":{"$error":"#REF!"}}]
[null,null,null,null,null,null,null,null,null,null,null,null,null,null,null,null,null,null,null,null,null,null,null,null,null,null,null,null,null,null,null,null,null,null,2040,"非住宅","SRC造",{"$f":"INDEX(#REF!, 9 + QUOTIENT(ROW(AL608)-2, 10), 1 + MOD(ROW(AL608)-2, 10))","v":{"$error":"#REF!"}}]
[null,null,null,null,null,null,null,null,null,null,null,null,null,null,null,null,null,null,null,null,null,null,null,null,null,null,null,null,null,null,null,null,null,null,2040,"非住宅","RC造",{"$f":"INDEX(#REF!, 9 + QUOTIENT(ROW(AL609)-2, 10), 1 + MOD(ROW(AL609)-2, 10))","v":{"$error":"#REF!"}}]
[null,null,null,null,null,null,null,null,null,null,null,null,null,null,null,null,null,null,null,null,null,null,null,null,null,null,null,null,null,null,null,null,null,null,2040,"非住宅","S造",{"$f":"INDEX(#REF!, 9 + QUOTIENT(ROW(AL610)-2, 10), 1 + MOD(ROW(AL610)-2, 10))","v":{"$error":"#REF!"}}]
[null,null,null,null,null,null,null,null,null,null,null,null,null,null,null,null,null,null,null,null,null,null,null,null,null,null,null,null,null,null,null,null,null,null,2040,"非住宅","その他",{"$f":"INDEX(#REF!, 9 + QUOTIENT(ROW(AL611)-2, 10), 1 + MOD(ROW(AL611)-2, 10))","v":{"$error":"#REF!"}}]
[null,null,null,null,null,null,null,null,null,null,null,null,null,null,null,null,null,null,null,null,null,null,null,null,null,null,null,null,null,null,null,null,null,null,2041,"住宅","木造",{"$f":"INDEX(#REF!, 9 + QUOTIENT(ROW(AL612)-2, 10), 1 + MOD(ROW(AL612)-2, 10))","v":{"$error":"#REF!"}}]
[null,null,null,null,null,null,null,null,null,null,null,null,null,null,null,null,null,null,null,null,null,null,null,null,null,null,null,null,null,null,null,null,null,null,2041,"住宅","SRC造",{"$f":"INDEX(#REF!, 9 + QUOTIENT(ROW(AL613)-2, 10), 1 + MOD(ROW(AL613)-2, 10))","v":{"$error":"#REF!"}}]
[null,null,null,null,null,null,null,null,null,null,null,null,null,null,null,null,null,null,null,null,null,null,null,null,null,null,null,null,null,null,null,null,null,null,2041,"住宅","RC造",{"$f":"INDEX(#REF!, 9 + QUOTIENT(ROW(AL614)-2, 10), 1 + MOD(ROW(AL614)-2, 10))","v":{"$error":"#REF!"}}]
[null,null,null,null,null,null,null,null,null,null,null,null,null,null,null,null,null,null,null,null,null,null,null,null,null,null,null,null,null,null,null,null,null,null,2041,"住宅","S造",{"$f":"INDEX(#REF!, 9 + QUOTIENT(ROW(AL615)-2, 10), 1 + MOD(ROW(AL615)-2, 10))","v":{"$error":"#REF!"}}]
[null,null,null,null,null,null,null,null,null,null,null,null,null,null,null,null,null,null,null,null,null,null,null,null,null,null,null,null,null,null,null,null,null,null,2041,"住宅","その他",{"$f":"INDEX(#REF!, 9 + QUOTIENT(ROW(AL616)-2, 10), 1 + MOD(ROW(AL616)-2, 10))","v":{"$error":"#REF!"}}]
[null,null,null,null,null,null,null,null,null,null,null,null,null,null,null,null,null,null,null,null,null,null,null,null,null,null,null,null,null,null,null,null,null,null,2041,"非住宅","木造",{"$f":"INDEX(#REF!, 9 + QUOTIENT(ROW(AL617)-2, 10), 1 + MOD(ROW(AL617)-2, 10))","v":{"$error":"#REF!"}}]
[null,null,null,null,null,null,null,null,null,null,null,null,null,null,null,null,null,null,null,null,null,null,null,null,null,null,null,null,null,null,null,null,null,null,2041,"非住宅","SRC造",{"$f":"INDEX(#REF!, 9 + QUOTIENT(ROW(AL618)-2, 10), 1 + MOD(ROW(AL618)-2, 10))","v":{"$error":"#REF!"}}]
[null,null,null,null,null,null,null,null,null,null,null,null,null,null,null,null,null,null,null,null,null,null,null,null,null,null,null,null,null,null,null,null,null,null,2041,"非住宅","RC造",{"$f":"INDEX(#REF!, 9 + QUOTIENT(ROW(AL619)-2, 10), 1 + MOD(ROW(AL619)-2, 10))","v":{"$error":"#REF!"}}]
[null,null,null,null,null,null,null,null,null,null,null,null,null,null,null,null,null,null,null,null,null,null,null,null,null,null,null,null,null,null,null,null,null,null,2041,"非住宅","S造",{"$f":"INDEX(#REF!, 9 + QUOTIENT(ROW(AL620)-2, 10), 1 + MOD(ROW(AL620)-2, 10))","v":{"$error":"#REF!"}}]
[null,null,null,null,null,null,null,null,null,null,null,null,null,null,null,null,null,null,null,null,null,null,null,null,null,null,null,null,null,null,null,null,null,null,2041,"非住宅","その他",{"$f":"INDEX(#REF!, 9 + QUOTIENT(ROW(AL621)-2, 10), 1 + MOD(ROW(AL621)-2, 10))","v":{"$error":"#REF!"}}]
[null,null,null,null,null,null,null,null,null,null,null,null,null,null,null,null,null,null,null,null,null,null,null,null,null,null,null,null,null,null,null,null,null,null,2042,"住宅","木造",{"$f":"INDEX(#REF!, 9 + QUOTIENT(ROW(AL622)-2, 10), 1 + MOD(ROW(AL622)-2, 10))","v":{"$error":"#REF!"}}]
[null,null,null,null,null,null,null,null,null,null,null,null,null,null,null,null,null,null,null,null,null,null,null,null,null,null,null,null,null,null,null,null,null,null,2042,"住宅","SRC造",{"$f":"INDEX(#REF!, 9 + QUOTIENT(ROW(AL623)-2, 10), 1 + MOD(ROW(AL623)-2, 10))","v":{"$error":"#REF!"}}]
[null,null,null,null,null,null,null,null,null,null,null,null,null,null,null,null,null,null,null,null,null,null,null,null,null,null,null,null,null,null,null,null,null,null,2042,"住宅","RC造",{"$f":"INDEX(#REF!, 9 + QUOTIENT(ROW(AL624)-2, 10), 1 + MOD(ROW(AL624)-2, 10))","v":{"$error":"#REF!"}}]
[null,null,null,null,null,null,null,null,null,null,null,null,null,null,null,null,null,null,null,null,null,null,null,null,null,null,null,null,null,null,null,null,null,null,2042,"住宅","S造",{"$f":"INDEX(#REF!, 9 + QUOTIENT(ROW(AL625)-2, 10), 1 + MOD(ROW(AL625)-2, 10))","v":{"$error":"#REF!"}}]
[null,null,null,null,null,null,null,null,null,null,null,null,null,null,null,null,null,null,null,null,null,null,null,null,null,null,null,null,null,null,null,null,null,null,2042,"住宅","その他",{"$f":"INDEX(#REF!, 9 + QUOTIENT(ROW(AL626)-2, 10), 1 + MOD(ROW(AL626)-2, 10))","v":{"$error":"#REF!"}}]
[null,null,null,null,null,null,null,null,null,null,null,null,null,null,null,null,null,null,null,null,null,null,null,null,null,null,null,null,null,null,null,null,null,null,2042,"非住宅","木造",{"$f":"INDEX(#REF!, 9 + QUOTIENT(ROW(AL627)-2, 10), 1 + MOD(ROW(AL627)-2, 10))","v":{"$error":"#REF!"}}]
[null,null,null,null,null,null,null,null,null,null,null,null,null,null,null,null,null,null,null,null,null,null,null,null,null,null,null,null,null,null,null,null,null,null,2042,"非住宅","SRC造",{"$f":"INDEX(#REF!, 9 + QUOTIENT(ROW(AL628)-2, 10), 1 + MOD(ROW(AL628)-2, 10))","v":{"$error":"#REF!"}}]
[null,null,null,null,null,null,null,null,null,null,null,null,null,null,null,null,null,null,null,null,null,null,null,null,null,null,null,null,null,null,null,null,null,null,2042,"非住宅","RC造",{"$f":"INDEX(#REF!, 9 + QUOTIENT(ROW(AL629)-2, 10), 1 + MOD(ROW(AL629)-2, 10))","v":{"$error":"#REF!"}}]
[null,null,null,null,null,null,null,null,null,null,null,null,null,null,null,null,null,null,null,null,null,null,null,null,null,null,null,null,null,null,null,null,null,null,2042,"非住宅","S造",{"$f":"INDEX(#REF!, 9 + QUOTIENT(ROW(AL630)-2, 10), 1 + MOD(ROW(AL630)-2, 10))","v":{"$error":"#REF!"}}]
[null,null,null,null,null,null,null,null,null,null,null,null,null,null,null,null,null,null,null,null,null,null,null,null,null,null,null,null,null,null,null,null,null,null,2042,"非住宅","その他",{"$f":"INDEX(#REF!, 9 + QUOTIENT(ROW(AL631)-2, 10), 1 + MOD(ROW(AL631)-2, 10))","v":{"$error":"#REF!"}}]
[null,null,null,null,null,null,null,null,null,null,null,null,null,null,null,null,null,null,null,null,null,null,null,null,null,null,null,null,null,null,null,null,null,null,2043,"住宅","木造",{"$f":"INDEX(#REF!, 9 + QUOTIENT(ROW(AL632)-2, 10), 1 + MOD(ROW(AL632)-2, 10))","v":{"$error":"#REF!"}}]
[null,null,null,null,null,null,null,null,null,null,null,null,null,null,null,null,null,null,null,null,null,null,null,null,null,null,null,null,null,null,null,null,null,null,2043,"住宅","SRC造",{"$f":"INDEX(#REF!, 9 + QUOTIENT(ROW(AL633)-2, 10), 1 + MOD(ROW(AL633)-2, 10))","v":{"$error":"#REF!"}}]
[null,null,null,null,null,null,null,null,null,null,null,null,null,null,null,null,null,null,null,null,null,null,null,null,null,null,null,null,null,null,null,null,null,null,2043,"住宅","RC造",{"$f":"INDEX(#REF!, 9 + QUOTIENT(ROW(AL634)-2, 10), 1 + MOD(ROW(AL634)-2, 10))","v":{"$error":"#REF!"}}]
[null,null,null,null,null,null,null,null,null,null,null,null,null,null,null,null,null,null,null,null,null,null,null,null,null,null,null,null,null,null,null,null,null,null,2043,"住宅","S造",{"$f":"INDEX(#REF!, 9 + QUOTIENT(ROW(AL635)-2, 10), 1 + MOD(ROW(AL635)-2, 10))","v":{"$error":"#REF!"}}]
[null,null,null,null,null,null,null,null,null,null,null,null,null,null,null,null,null,null,null,null,null,null,null,null,null,null,null,null,null,null,null,null,null,null,2043,"住宅","その他",{"$f":"INDEX(#REF!, 9 + QUOTIENT(ROW(AL636)-2, 10), 1 + MOD(ROW(AL636)-2, 10))","v":{"$error":"#REF!"}}]
[null,null,null,null,null,null,null,null,null,null,null,null,null,null,null,null,null,null,null,null,null,null,null,null,null,null,null,null,null,null,null,null,null,null,2043,"非住宅","木造",{"$f":"INDEX(#REF!, 9 + QUOTIENT(ROW(AL637)-2, 10), 1 + MOD(ROW(AL637)-2, 10))","v":{"$error":"#REF!"}}]
[null,null,null,null,null,null,null,null,null,null,null,null,null,null,null,null,null,null,null,null,null,null,null,null,null,null,null,null,null,null,null,null,null,null,2043,"非住宅","SRC造",{"$f":"INDEX(#REF!, 9 + QUOTIENT(ROW(AL638)-2, 10), 1 + MOD(ROW(AL638)-2, 10))","v":{"$error":"#REF!"}}]
[null,null,null,null,null,null,null,null,null,null,null,null,null,null,null,null,null,null,null,null,null,null,null,null,null,null,null,null,null,null,null,null,null,null,2043,"非住宅","RC造",{"$f":"INDEX(#REF!, 9 + QUOTIENT(ROW(AL639)-2, 10), 1 + MOD(ROW(AL639)-2, 10))","v":{"$error":"#REF!"}}]
[null,null,null,null,null,null,null,null,null,null,null,null,null,null,null,null,null,null,null,null,null,null,null,null,null,null,null,null,null,null,null,null,null,null,2043,"非住宅","S造",{"$f":"INDEX(#REF!, 9 + QUOTIENT(ROW(AL640)-2, 10), 1 + MOD(ROW(AL640)-2, 10))","v":{"$error":"#REF!"}}]
[null,null,null,null,null,null,null,null,null,null,null,null,null,null,null,null,null,null,null,null,null,null,null,null,null,null,null,null,null,null,null,null,null,null,2043,"非住宅","その他",{"$f":"INDEX(#REF!, 9 + QUOTIENT(ROW(AL641)-2, 10), 1 + MOD(ROW(AL641)-2, 10))","v":{"$error":"#REF!"}}]
[null,null,null,null,null,null,null,null,null,null,null,null,null,null,null,null,null,null,null,null,null,null,null,null,null,null,null,null,null,null,null,null,null,null,2044,"住宅","木造",{"$f":"INDEX(#REF!, 9 + QUOTIENT(ROW(AL642)-2, 10), 1 + MOD(ROW(AL642)-2, 10))","v":{"$error":"#REF!"}}]
[null,null,null,null,null,null,null,null,null,null,null,null,null,null,null,null,null,null,null,null,null,null,null,null,null,null,null,null,null,null,null,null,null,null,2044,"住宅","SRC造",{"$f":"INDEX(#REF!, 9 + QUOTIENT(ROW(AL643)-2, 10), 1 + MOD(ROW(AL643)-2, 10))","v":{"$error":"#REF!"}}]
[null,null,null,null,null,null,null,null,null,null,null,null,null,null,null,null,null,null,null,null,null,null,null,null,null,null,null,null,null,null,null,null,null,null,2044,"住宅","RC造",{"$f":"INDEX(#REF!, 9 + QUOTIENT(ROW(AL644)-2, 10), 1 + MOD(ROW(AL644)-2, 10))","v":{"$error":"#REF!"}}]
[null,null,null,null,null,null,null,null,null,null,null,null,null,null,null,null,null,null,null,null,null,null,null,null,null,null,null,null,null,null,null,null,null,null,2044,"住宅","S造",{"$f":"INDEX(#REF!, 9 + QUOTIENT(ROW(AL645)-2, 10), 1 + MOD(ROW(AL645)-2, 10))","v":{"$error":"#REF!"}}]
[null,null,null,null,null,null,null,null,null,null,null,null,null,null,null,null,null,null,null,null,null,null,null,null,null,null,null,null,null,null,null,null,null,null,2044,"住宅","その他",{"$f":"INDEX(#REF!, 9 + QUOTIENT(ROW(AL646)-2, 10), 1 + MOD(ROW(AL646)-2, 10))","v":{"$error":"#REF!"}}]
[null,null,null,null,null,null,null,null,null,null,null,null,null,null,null,null,null,null,null,null,null,null,null,null,null,null,null,null,null,null,null,null,null,null,2044,"非住宅","木造",{"$f":"INDEX(#REF!, 9 + QUOTIENT(ROW(AL647)-2, 10), 1 + MOD(ROW(AL647)-2, 10))","v":{"$error":"#REF!"}}]
[null,null,null,null,null,null,null,null,null,null,null,null,null,null,null,null,null,null,null,null,null,null,null,null,null,null,null,null,null,null,null,null,null,null,2044,"非住宅","SRC造",{"$f":"INDEX(#REF!, 9 + QUOTIENT(ROW(AL648)-2, 10), 1 + MOD(ROW(AL648)-2, 10))","v":{"$error":"#REF!"}}]
[null,null,null,null,null,null,null,null,null,null,null,null,null,null,null,null,null,null,null,null,null,null,null,null,null,null,null,null,null,null,null,null,null,null,2044,"非住宅","RC造",{"$f":"INDEX(#REF!, 9 + QUOTIENT(ROW(AL649)-2, 10), 1 + MOD(ROW(AL649)-2, 10))","v":{"$error":"#REF!"}}]
[null,null,null,null,null,null,null,null,null,null,null,null,null,null,null,null,null,null,null,null,null,null,null,null,null,null,null,null,null,null,null,null,null,null,2044,"非住宅","S造",{"$f":"INDEX(#REF!, 9 + QUOTIENT(ROW(AL650)-2, 10), 1 + MOD(ROW(AL650)-2, 10))","v":{"$error":"#REF!"}}]
[null,null,null,null,null,null,null,null,null,null,null,null,null,null,null,null,null,null,null,null,null,null,null,null,null,null,null,null,null,null,null,null,null,null,2044,"非住宅","その他",{"$f":"INDEX(#REF!, 9 + QUOTIENT(ROW(AL651)-2, 10), 1 + MOD(ROW(AL651)-2, 10))","v":{"$error":"#REF!"}}]
[null,null,null,null,null,null,null,null,null,null,null,null,null,null,null,null,null,null,null,null,null,null,null,null,null,null,null,null,null,null,null,null,null,null,2045,"住宅","木造",{"$f":"INDEX(#REF!, 9 + QUOTIENT(ROW(AL652)-2, 10), 1 + MOD(ROW(AL652)-2, 10))","v":{"$error":"#REF!"}}]
[null,null,null,null,null,null,null,null,null,null,null,null,null,null,null,null,null,null,null,null,null,null,null,null,null,null,null,null,null,null,null,null,null,null,2045,"住宅","SRC造",{"$f":"INDEX(#REF!, 9 + QUOTIENT(ROW(AL653)-2, 10), 1 + MOD(ROW(AL653)-2, 10))","v":{"$error":"#REF!"}}]
[null,null,null,null,null,null,null,null,null,null,null,null,null,null,null,null,null,null,null,null,null,null,null,null,null,null,null,null,null,null,null,null,null,null,2045,"住宅","RC造",{"$f":"INDEX(#REF!, 9 + QUOTIENT(ROW(AL654)-2, 10), 1 + MOD(ROW(AL654)-2, 10))","v":{"$error":"#REF!"}}]
[null,null,null,null,null,null,null,null,null,null,null,null,null,null,null,null,null,null,null,null,null,null,null,null,null,null,null,null,null,null,null,null,null,null,2045,"住宅","S造",{"$f":"INDEX(#REF!, 9 + QUOTIENT(ROW(AL655)-2, 10), 1 + MOD(ROW(AL655)-2, 10))","v":{"$error":"#REF!"}}]
[null,null,null,null,null,null,null,null,null,null,null,null,null,null,null,null,null,null,null,null,null,null,null,null,null,null,null,null,null,null,null,null,null,null,2045,"住宅","その他",{"$f":"INDEX(#REF!, 9 + QUOTIENT(ROW(AL656)-2, 10), 1 + MOD(ROW(AL656)-2, 10))","v":{"$error":"#REF!"}}]
[null,null,null,null,null,null,null,null,null,null,null,null,null,null,null,null,null,null,null,null,null,null,null,null,null,null,null,null,null,null,null,null,null,null,2045,"非住宅","木造",{"$f":"INDEX(#REF!, 9 + QUOTIENT(ROW(AL657)-2, 10), 1 + MOD(ROW(AL657)-2, 10))","v":{"$error":"#REF!"}}]
[null,null,null,null,null,null,null,null,null,null,null,null,null,null,null,null,null,null,null,null,null,null,null,null,null,null,null,null,null,null,null,null,null,null,2045,"非住宅","SRC造",{"$f":"INDEX(#REF!, 9 + QUOTIENT(ROW(AL658)-2, 10), 1 + MOD(ROW(AL658)-2, 10))","v":{"$error":"#REF!"}}]
[null,null,null,null,null,null,null,null,null,null,null,null,null,null,null,null,null,null,null,null,null,null,null,null,null,null,null,null,null,null,null,null,null,null,2045,"非住宅","RC造",{"$f":"INDEX(#REF!, 9 + QUOTIENT(ROW(AL659)-2, 10), 1 + MOD(ROW(AL659)-2, 10))","v":{"$error":"#REF!"}}]
[null,null,null,null,null,null,null,null,null,null,null,null,null,null,null,null,null,null,null,null,null,null,null,null,null,null,null,null,null,null,null,null,null,null,2045,"非住宅","S造",{"$f":"INDEX(#REF!, 9 + QUOTIENT(ROW(AL660)-2, 10), 1 + MOD(ROW(AL660)-2, 10))","v":{"$error":"#REF!"}}]
[null,null,null,null,null,null,null,null,null,null,null,null,null,null,null,null,null,null,null,null,null,null,null,null,null,null,null,null,null,null,null,null,null,null,2045,"非住宅","その他",{"$f":"INDEX(#REF!, 9 + QUOTIENT(ROW(AL661)-2, 10), 1 + MOD(ROW(AL661)-2, 10))","v":{"$error":"#REF!"}}]
[null,null,null,null,null,null,null,null,null,null,null,null,null,null,null,null,null,null,null,null,null,null,null,null,null,null,null,null,null,null,null,null,null,null,2046,"住宅","木造",{"$f":"INDEX(#REF!, 9 + QUOTIENT(ROW(AL662)-2, 10), 1 + MOD(ROW(AL662)-2, 10))","v":{"$error":"#REF!"}}]
[null,null,null,null,null,null,null,null,null,null,null,null,null,null,null,null,null,null,null,null,null,null,null,null,null,null,null,null,null,null,null,null,null,null,2046,"住宅","SRC造",{"$f":"INDEX(#REF!, 9 + QUOTIENT(ROW(AL663)-2, 10), 1 + MOD(ROW(AL663)-2, 10))","v":{"$error":"#REF!"}}]
[null,null,null,null,null,null,null,null,null,null,null,null,null,null,null,null,null,null,null,null,null,null,null,null,null,null,null,null,null,null,null,null,null,null,2046,"住宅","RC造",{"$f":"INDEX(#REF!, 9 + QUOTIENT(ROW(AL664)-2, 10), 1 + MOD(ROW(AL664)-2, 10))","v":{"$error":"#REF!"}}]
[null,null,null,null,null,null,null,null,null,null,null,null,null,null,null,null,null,null,null,null,null,null,null,null,null,null,null,null,null,null,null,null,null,null,2046,"住宅","S造",{"$f":"INDEX(#REF!, 9 + QUOTIENT(ROW(AL665)-2, 10), 1 + MOD(ROW(AL665)-2, 10))","v":{"$error":"#REF!"}}]
[null,null,null,null,null,null,null,null,null,null,null,null,null,null,null,null,null,null,null,null,null,null,null,null,null,null,null,null,null,null,null,null,null,null,2046,"住宅","その他",{"$f":"INDEX(#REF!, 9 + QUOTIENT(ROW(AL666)-2, 10), 1 + MOD(ROW(AL666)-2, 10))","v":{"$error":"#REF!"}}]
[null,null,null,null,null,null,null,null,null,null,null,null,null,null,null,null,null,null,null,null,null,null,null,null,null,null,null,null,null,null,null,null,null,null,2046,"非住宅","木造",{"$f":"INDEX(#REF!, 9 + QUOTIENT(ROW(AL667)-2, 10), 1 + MOD(ROW(AL667)-2, 10))","v":{"$error":"#REF!"}}]
[null,null,null,null,null,null,null,null,null,null,null,null,null,null,null,null,null,null,null,null,null,null,null,null,null,null,null,null,null,null,null,null,null,null,2046,"非住宅","SRC造",{"$f":"INDEX(#REF!, 9 + QUOTIENT(ROW(AL668)-2, 10), 1 + MOD(ROW(AL668)-2, 10))","v":{"$error":"#REF!"}}]
[null,null,null,null,null,null,null,null,null,null,null,null,null,null,null,null,null,null,null,null,null,null,null,null,null,null,null,null,null,null,null,null,null,null,2046,"非住宅","RC造",{"$f":"INDEX(#REF!, 9 + QUOTIENT(ROW(AL669)-2, 10), 1 + MOD(ROW(AL669)-2, 10))","v":{"$error":"#REF!"}}]
[null,null,null,null,null,null,null,null,null,null,null,null,null,null,null,null,null,null,null,null,null,null,null,null,null,null,null,null,null,null,null,null,null,null,2046,"非住宅","S造",{"$f":"INDEX(#REF!, 9 + QUOTIENT(ROW(AL670)-2, 10), 1 + MOD(ROW(AL670)-2, 10))","v":{"$error":"#REF!"}}]
[null,null,null,null,null,null,null,null,null,null,null,null,null,null,null,null,null,null,null,null,null,null,null,null,null,null,null,null,null,null,null,null,null,null,2046,"非住宅","その他",{"$f":"INDEX(#REF!, 9 + QUOTIENT(ROW(AL671)-2, 10), 1 + MOD(ROW(AL671)-2, 10))","v":{"$error":"#REF!"}}]
[null,null,null,null,null,null,null,null,null,null,null,null,null,null,null,null,null,null,null,null,null,null,null,null,null,null,null,null,null,null,null,null,null,null,2047,"住宅","木造",{"$f":"INDEX(#REF!, 9 + QUOTIENT(ROW(AL672)-2, 10), 1 + MOD(ROW(AL672)-2, 10))","v":{"$error":"#REF!"}}]
[null,null,null,null,null,null,null,null,null,null,null,null,null,null,null,null,null,null,null,null,null,null,null,null,null,null,null,null,null,null,null,null,null,null,2047,"住宅","SRC造",{"$f":"INDEX(#REF!, 9 + QUOTIENT(ROW(AL673)-2, 10), 1 + MOD(ROW(AL673)-2, 10))","v":{"$error":"#REF!"}}]
[null,null,null,null,null,null,null,null,null,null,null,null,null,null,null,null,null,null,null,null,null,null,null,null,null,null,null,null,null,null,null,null,null,null,2047,"住宅","RC造",{"$f":"INDEX(#REF!, 9 + QUOTIENT(ROW(AL674)-2, 10), 1 + MOD(ROW(AL674)-2, 10))","v":{"$error":"#REF!"}}]
[null,null,null,null,null,null,null,null,null,null,null,null,null,null,null,null,null,null,null,null,null,null,null,null,null,null,null,null,null,null,null,null,null,null,2047,"住宅","S造",{"$f":"INDEX(#REF!, 9 + QUOTIENT(ROW(AL675)-2, 10), 1 + MOD(ROW(AL675)-2, 10))","v":{"$error":"#REF!"}}]
[null,null,null,null,null,null,null,null,null,null,null,null,null,null,null,null,null,null,null,null,null,null,null,null,null,null,null,null,null,null,null,null,null,null,2047,"住宅","その他",{"$f":"INDEX(#REF!, 9 + QUOTIENT(ROW(AL676)-2, 10), 1 + MOD(ROW(AL676)-2, 10))","v":{"$error":"#REF!"}}]
[null,null,null,null,null,null,null,null,null,null,null,null,null,null,null,null,null,null,null,null,null,null,null,null,null,null,null,null,null,null,null,null,null,null,2047,"非住宅","木造",{"$f":"INDEX(#REF!, 9 + QUOTIENT(ROW(AL677)-2, 10), 1 + MOD(ROW(AL677)-2, 10))","v":{"$error":"#REF!"}}]
[null,null,null,null,null,null,null,null,null,null,null,null,null,null,null,null,null,null,null,null,null,null,null,null,null,null,null,null,null,null,null,null,null,null,2047,"非住宅","SRC造",{"$f":"INDEX(#REF!, 9 + QUOTIENT(ROW(AL678)-2, 10), 1 + MOD(ROW(AL678)-2, 10))","v":{"$error":"#REF!"}}]
[null,null,null,null,null,null,null,null,null,null,null,null,null,null,null,null,null,null,null,null,null,null,null,null,null,null,null,null,null,null,null,null,null,null,2047,"非住宅","RC造",{"$f":"INDEX(#REF!, 9 + QUOTIENT(ROW(AL679)-2, 10), 1 + MOD(ROW(AL679)-2, 10))","v":{"$error":"#REF!"}}]
[null,null,null,null,null,null,null,null,null,null,null,null,null,null,null,null,null,null,null,null,null,null,null,null,null,null,null,null,null,null,null,null,null,null,2047,"非住宅","S造",{"$f":"INDEX(#REF!, 9 + QUOTIENT(ROW(AL680)-2, 10), 1 + MOD(ROW(AL680)-2, 10))","v":{"$error":"#REF!"}}]
[null,null,null,null,null,null,null,null,null,null,null,null,null,null,null,null,null,null,null,null,null,null,null,null,null,null,null,null,null,null,null,null,null,null,2047,"非住宅","その他",{"$f":"INDEX(#REF!, 9 + QUOTIENT(ROW(AL681)-2, 10), 1 + MOD(ROW(AL681)-2, 10))","v":{"$error":"#REF!"}}]
[null,null,null,null,null,null,null,null,null,null,null,null,null,null,null,null,null,null,null,null,null,null,null,null,null,null,null,null,null,null,null,null,null,null,2048,"住宅","木造",{"$f":"INDEX(#REF!, 9 + QUOTIENT(ROW(AL682)-2, 10), 1 + MOD(ROW(AL682)-2, 10))","v":{"$error":"#REF!"}}]
[null,null,null,null,null,null,null,null,null,null,null,null,null,null,null,null,null,null,null,null,null,null,null,null,null,null,null,null,null,null,null,null,null,null,2048,"住宅","SRC造",{"$f":"INDEX(#REF!, 9 + QUOTIENT(ROW(AL683)-2, 10), 1 + MOD(ROW(AL683)-2, 10))","v":{"$error":"#REF!"}}]
[null,null,null,null,null,null,null,null,null,null,null,null,null,null,null,null,null,null,null,null,null,null,null,null,null,null,null,null,null,null,null,null,null,null,2048,"住宅","RC造",{"$f":"INDEX(#REF!, 9 + QUOTIENT(ROW(AL684)-2, 10), 1 + MOD(ROW(AL684)-2, 10))","v":{"$error":"#REF!"}}]
[null,null,null,null,null,null,null,null,null,null,null,null,null,null,null,null,null,null,null,null,null,null,null,null,null,null,null,null,null,null,null,null,null,null,2048,"住宅","S造",{"$f":"INDEX(#REF!, 9 + QUOTIENT(ROW(AL685)-2, 10), 1 + MOD(ROW(AL685)-2, 10))","v":{"$error":"#REF!"}}]
[null,null,null,null,null,null,null,null,null,null,null,null,null,null,null,null,null,null,null,null,null,null,null,null,null,null,null,null,null,null,null,null,null,null,2048,"住宅","その他",{"$f":"INDEX(#REF!, 9 + QUOTIENT(ROW(AL686)-2, 10), 1 + MOD(ROW(AL686)-2, 10))","v":{"$error":"#REF!"}}]
[null,null,null,null,null,null,null,null,null,null,null,null,null,null,null,null,null,null,null,null,null,null,null,null,null,null,null,null,null,null,null,null,null,null,2048,"非住宅","木造",{"$f":"INDEX(#REF!, 9 + QUOTIENT(ROW(AL687)-2, 10), 1 + MOD(ROW(AL687)-2, 10))","v":{"$error":"#REF!"}}]
[null,null,null,null,null,null,null,null,null,null,null,null,null,null,null,null,null,null,null,null,null,null,null,null,null,null,null,null,null,null,null,null,null,null,2048,"非住宅","SRC造",{"$f":"INDEX(#REF!, 9 + QUOTIENT(ROW(AL688)-2, 10), 1 + MOD(ROW(AL688)-2, 10))","v":{"$error":"#REF!"}}]
[null,null,null,null,null,null,null,null,null,null,null,null,null,null,null,null,null,null,null,null,null,null,null,null,null,null,null,null,null,null,null,null,null,null,2048,"非住宅","RC造",{"$f":"INDEX(#REF!, 9 + QUOTIENT(ROW(AL689)-2, 10), 1 + MOD(ROW(AL689)-2, 10))","v":{"$error":"#REF!"}}]
[null,null,null,null,null,null,null,null,null,null,null,null,null,null,null,null,null,null,null,null,null,null,null,null,null,null,null,null,null,null,null,null,null,null,2048,"非住宅","S造",{"$f":"INDEX(#REF!, 9 + QUOTIENT(ROW(AL690)-2, 10), 1 + MOD(ROW(AL690)-2, 10))","v":{"$error":"#REF!"}}]
[null,null,null,null,null,null,null,null,null,null,null,null,null,null,null,null,null,null,null,null,null,null,null,null,null,null,null,null,null,null,null,null,null,null,2048,"非住宅","その他",{"$f":"INDEX(#REF!, 9 + QUOTIENT(ROW(AL691)-2, 10), 1 + MOD(ROW(AL691)-2, 10))","v":{"$error":"#REF!"}}]
[null,null,null,null,null,null,null,null,null,null,null,null,null,null,null,null,null,null,null,null,null,null,null,null,null,null,null,null,null,null,null,null,null,null,2049,"住宅","木造",{"$f":"INDEX(#REF!, 9 + QUOTIENT(ROW(AL692)-2, 10), 1 + MOD(ROW(AL692)-2, 10))","v":{"$error":"#REF!"}}]
[null,null,null,null,null,null,null,null,null,null,null,null,null,null,null,null,null,null,null,null,null,null,null,null,null,null,null,null,null,null,null,null,null,null,2049,"住宅","SRC造",{"$f":"INDEX(#REF!, 9 + QUOTIENT(ROW(AL693)-2, 10), 1 + MOD(ROW(AL693)-2, 10))","v":{"$error":"#REF!"}}]
[null,null,null,null,null,null,null,null,null,null,null,null,null,null,null,null,null,null,null,null,null,null,null,null,null,null,null,null,null,null,null,null,null,null,2049,"住宅","RC造",{"$f":"INDEX(#REF!, 9 + QUOTIENT(ROW(AL694)-2, 10), 1 + MOD(ROW(AL694)-2, 10))","v":{"$error":"#REF!"}}]
[null,null,null,null,null,null,null,null,null,null,null,null,null,null,null,null,null,null,null,null,null,null,null,null,null,null,null,null,null,null,null,null,null,null,2049,"住宅","S造",{"$f":"INDEX(#REF!, 9 + QUOTIENT(ROW(AL695)-2, 10), 1 + MOD(ROW(AL695)-2, 10))","v":{"$error":"#REF!"}}]
[null,null,null,null,null,null,null,null,null,null,null,null,null,null,null,null,null,null,null,null,null,null,null,null,null,null,null,null,null,null,null,null,null,null,2049,"住宅","その他",{"$f":"INDEX(#REF!, 9 + QUOTIENT(ROW(AL696)-2, 10), 1 + MOD(ROW(AL696)-2, 10))","v":{"$error":"#REF!"}}]
[null,null,null,null,null,null,null,null,null,null,null,null,null,null,null,null,null,null,null,null,null,null,null,null,null,null,null,null,null,null,null,null,null,null,2049,"非住宅","木造",{"$f":"INDEX(#REF!, 9 + QUOTIENT(ROW(AL697)-2, 10), 1 + MOD(ROW(AL697)-2, 10))","v":{"$error":"#REF!"}}]
[null,null,null,null,null,null,null,null,null,null,null,null,null,null,null,null,null,null,null,null,null,null,null,null,null,null,null,null,null,null,null,null,null,null,2049,"非住宅","SRC造",{"$f":"INDEX(#REF!, 9 + QUOTIENT(ROW(AL698)-2, 10), 1 + MOD(ROW(AL698)-2, 10))","v":{"$error":"#REF!"}}]
[null,null,null,null,null,null,null,null,null,null,null,null,null,null,null,null,null,null,null,null,null,null,null,null,null,null,null,null,null,null,null,null,null,null,2049,"非住宅","RC造",{"$f":"INDEX(#REF!, 9 + QUOTIENT(ROW(AL699)-2, 10), 1 + MOD(ROW(AL699)-2, 10))","v":{"$error":"#REF!"}}]
[null,null,null,null,null,null,null,null,null,null,null,null,null,null,null,null,null,null,null,null,null,null,null,null,null,null,null,null,null,null,null,null,null,null,2049,"非住宅","S造",{"$f":"INDEX(#REF!, 9 + QUOTIENT(ROW(AL700)-2, 10), 1 + MOD(ROW(AL700)-2, 10))","v":{"$error":"#REF!"}}]
[null,null,null,null,null,null,null,null,null,null,null,null,null,null,null,null,null,null,null,null,null,null,null,null,null,null,null,null,null,null,null,null,null,null,2049,"非住宅","その他",{"$f":"INDEX(#REF!, 9 + QUOTIENT(ROW(AL701)-2, 10), 1 + MOD(ROW(AL701)-2, 10))","v":{"$error":"#REF!"}}]
[null,null,null,null,null,null,null,null,null,null,null,null,null,null,null,null,null,null,null,null,null,null,null,null,null,null,null,null,null,null,null,null,null,null,2050,"住宅","木造",{"$f":"INDEX(#REF!, 9 + QUOTIENT(ROW(AL702)-2, 10), 1 + MOD(ROW(AL702)-2, 10))","v":{"$error":"#REF!"}}]
[null,null,null,null,null,null,null,null,null,null,null,null,null,null,null,null,null,null,null,null,null,null,null,null,null,null,null,null,null,null,null,null,null,null,2050,"住宅","SRC造",{"$f":"INDEX(#REF!, 9 + QUOTIENT(ROW(AL703)-2, 10), 1 + MOD(ROW(AL703)-2, 10))","v":{"$error":"#REF!"}}]
[null,null,null,null,null,null,null,null,null,null,null,null,null,null,null,null,null,null,null,null,null,null,null,null,null,null,null,null,null,null,null,null,null,null,2050,"住宅","RC造",{"$f":"INDEX(#REF!, 9 + QUOTIENT(ROW(AL704)-2, 10), 1 + MOD(ROW(AL704)-2, 10))","v":{"$error":"#REF!"}}]
[null,null,null,null,null,null,null,null,null,null,null,null,null,null,null,null,null,null,null,null,null,null,null,null,null,null,null,null,null,null,null,null,null,null,2050,"住宅","S造",{"$f":"INDEX(#REF!, 9 + QUOTIENT(ROW(AL705)-2, 10), 1 + MOD(ROW(AL705)-2, 10))","v":{"$error":"#REF!"}}]
[null,null,null,null,null,null,null,null,null,null,null,null,null,null,null,null,null,null,null,null,null,null,null,null,null,null,null,null,null,null,null,null,null,null,2050,"住宅","その他",{"$f":"INDEX(#REF!, 9 + QUOTIENT(ROW(AL706)-2, 10), 1 + MOD(ROW(AL706)-2, 10))","v":{"$error":"#REF!"}}]
[null,null,null,null,null,null,null,null,null,null,null,null,null,null,null,null,null,null,null,null,null,null,null,null,null,null,null,null,null,null,null,null,null,null,2050,"非住宅","木造",{"$f":"INDEX(#REF!, 9 + QUOTIENT(ROW(AL707)-2, 10), 1 + MOD(ROW(AL707)-2, 10))","v":{"$error":"#REF!"}}]
[null,null,null,null,null,null,null,null,null,null,null,null,null,null,null,null,null,null,null,null,null,null,null,null,null,null,null,null,null,null,null,null,null,null,2050,"非住宅","SRC造",{"$f":"INDEX(#REF!, 9 + QUOTIENT(ROW(AL708)-2, 10), 1 + MOD(ROW(AL708)-2, 10))","v":{"$error":"#REF!"}}]
[null,null,null,null,null,null,null,null,null,null,null,null,null,null,null,null,null,null,null,null,null,null,null,null,null,null,null,null,null,null,null,null,null,null,2050,"非住宅","RC造",{"$f":"INDEX(#REF!, 9 + QUOTIENT(ROW(AL709)-2, 10), 1 + MOD(ROW(AL709)-2, 10))","v":{"$error":"#REF!"}}]
[null,null,null,null,null,null,null,null,null,null,null,null,null,null,null,null,null,null,null,null,null,null,null,null,null,null,null,null,null,null,null,null,null,null,2050,"非住宅","S造",{"$f":"INDEX(#REF!, 9 + QUOTIENT(ROW(AL710)-2, 10), 1 + MOD(ROW(AL710)-2, 10))","v":{"$error":"#REF!"}}]
[null,null,null,null,null,null,null,null,null,null,null,null,null,null,null,null,null,null,null,null,null,null,null,null,null,null,null,null,null,null,null,null,null,null,2050,"非住宅","その他",{"$f":"INDEX(#REF!, 9 + QUOTIENT(ROW(AL711)-2, 10), 1 + MOD(ROW(AL711)-2, 10))","v":{"$error":"#REF!"}}]
[null,null,null,null,null,null,null,null,null,null,null,null,null,null,null,null,null,null,null,null,null,null,null,null,null,null,null,null,null,null,null,null,null,null,2051,"住宅","木造",{"$f":"INDEX(#REF!, 9 + QUOTIENT(ROW(AL712)-2, 10), 1 + MOD(ROW(AL712)-2, 10))","v":{"$error":"#REF!"}}]
[null,null,null,null,null,null,null,null,null,null,null,null,null,null,null,null,null,null,null,null,null,null,null,null,null,null,null,null,null,null,null,null,null,null,2051,"住宅","SRC造",{"$f":"INDEX(#REF!, 9 + QUOTIENT(ROW(AL713)-2, 10), 1 + MOD(ROW(AL713)-2, 10))","v":{"$error":"#REF!"}}]
[null,null,null,null,null,null,null,null,null,null,null,null,null,null,null,null,null,null,null,null,null,null,null,null,null,null,null,null,null,null,null,null,null,null,2051,"住宅","RC造",{"$f":"INDEX(#REF!, 9 + QUOTIENT(ROW(AL714)-2, 10), 1 + MOD(ROW(AL714)-2, 10))","v":{"$error":"#REF!"}}]
[null,null,null,null,null,null,null,null,null,null,null,null,null,null,null,null,null,null,null,null,null,null,null,null,null,null,null,null,null,null,null,null,null,null,2051,"住宅","S造",{"$f":"INDEX(#REF!, 9 + QUOTIENT(ROW(AL715)-2, 10), 1 + MOD(ROW(AL715)-2, 10))","v":{"$error":"#REF!"}}]
[null,null,null,null,null,null,null,null,null,null,null,null,null,null,null,null,null,null,null,null,null,null,null,null,null,null,null,null,null,null,null,null,null,null,2051,"住宅","その他",{"$f":"INDEX(#REF!, 9 + QUOTIENT(ROW(AL716)-2, 10), 1 + MOD(ROW(AL716)-2, 10))","v":{"$error":"#REF!"}}]
[null,null,null,null,null,null,null,null,null,null,null,null,null,null,null,null,null,null,null,null,null,null,null,null,null,null,null,null,null,null,null,null,null,null,2051,"非住宅","木造",{"$f":"INDEX(#REF!, 9 + QUOTIENT(ROW(AL717)-2, 10), 1 + MOD(ROW(AL717)-2, 10))","v":{"$error":"#REF!"}}]
[null,null,null,null,null,null,null,null,null,null,null,null,null,null,null,null,null,null,null,null,null,null,null,null,null,null,null,null,null,null,null,null,null,null,2051,"非住宅","SRC造",{"$f":"INDEX(#REF!, 9 + QUOTIENT(ROW(AL718)-2, 10), 1 + MOD(ROW(AL718)-2, 10))","v":{"$error":"#REF!"}}]
[null,null,null,null,null,null,null,null,null,null,null,null,null,null,null,null,null,null,null,null,null,null,null,null,null,null,null,null,null,null,null,null,null,null,2051,"非住宅","RC造",{"$f":"INDEX(#REF!, 9 + QUOTIENT(ROW(AL719)-2, 10), 1 + MOD(ROW(AL719)-2, 10))","v":{"$error":"#REF!"}}]
[null,null,null,null,null,null,null,null,null,null,null,null,null,null,null,null,null,null,null,null,null,null,null,null,null,null,null,null,null,null,null,null,null,null,2051,"非住宅","S造",{"$f":"INDEX(#REF!, 9 + QUOTIENT(ROW(AL720)-2, 10), 1 + MOD(ROW(AL720)-2, 10))","v":{"$error":"#REF!"}}]
[null,null,null,null,null,null,null,null,null,null,null,null,null,null,null,null,null,null,null,null,null,null,null,null,null,null,null,null,null,null,null,null,null,null,2051,"非住宅","その他",{"$f":"INDEX(#REF!, 9 + QUOTIENT(ROW(AL721)-2, 10), 1 + MOD(ROW(AL721)-2, 10))","v":{"$error":"#REF!"}}]
[null,null,null,null,null,null,null,null,null,null,null,null,null,null,null,null,null,null,null,null,null,null,null,null,null,null,null,null,null,null,null,null,null,null,2052,"住宅","木造",{"$f":"INDEX(#REF!, 9 + QUOTIENT(ROW(AL722)-2, 10), 1 + MOD(ROW(AL722)-2, 10))","v":{"$error":"#REF!"}}]
[null,null,null,null,null,null,null,null,null,null,null,null,null,null,null,null,null,null,null,null,null,null,null,null,null,null,null,null,null,null,null,null,null,null,2052,"住宅","SRC造",{"$f":"INDEX(#REF!, 9 + QUOTIENT(ROW(AL723)-2, 10), 1 + MOD(ROW(AL723)-2, 10))","v":{"$error":"#REF!"}}]
[null,null,null,null,null,null,null,null,null,null,null,null,null,null,null,null,null,null,null,null,null,null,null,null,null,null,null,null,null,null,null,null,null,null,2052,"住宅","RC造",{"$f":"INDEX(#REF!, 9 + QUOTIENT(ROW(AL724)-2, 10), 1 + MOD(ROW(AL724)-2, 10))","v":{"$error":"#REF!"}}]
[null,null,null,null,null,null,null,null,null,null,null,null,null,null,null,null,null,null,null,null,null,null,null,null,null,null,null,null,null,null,null,null,null,null,2052,"住宅","S造",{"$f":"INDEX(#REF!, 9 + QUOTIENT(ROW(AL725)-2, 10), 1 + MOD(ROW(AL725)-2, 10))","v":{"$error":"#REF!"}}]
[null,null,null,null,null,null,null,null,null,null,null,null,null,null,null,null,null,null,null,null,null,null,null,null,null,null,null,null,null,null,null,null,null,null,2052,"住宅","その他",{"$f":"INDEX(#REF!, 9 + QUOTIENT(ROW(AL726)-2, 10), 1 + MOD(ROW(AL726)-2, 10))","v":{"$error":"#REF!"}}]
[null,null,null,null,null,null,null,null,null,null,null,null,null,null,null,null,null,null,null,null,null,null,null,null,null,null,null,null,null,null,null,null,null,null,2052,"非住宅","木造",{"$f":"INDEX(#REF!, 9 + QUOTIENT(ROW(AL727)-2, 10), 1 + MOD(ROW(AL727)-2, 10))","v":{"$error":"#REF!"}}]
[null,null,null,null,null,null,null,null,null,null,null,null,null,null,null,null,null,null,null,null,null,null,null,null,null,null,null,null,null,null,null,null,null,null,2052,"非住宅","SRC造",{"$f":"INDEX(#REF!, 9 + QUOTIENT(ROW(AL728)-2, 10), 1 + MOD(ROW(AL728)-2, 10))","v":{"$error":"#REF!"}}]
[null,null,null,null,null,null,null,null,null,null,null,null,null,null,null,null,null,null,null,null,null,null,null,null,null,null,null,null,null,null,null,null,null,null,2052,"非住宅","RC造",{"$f":"INDEX(#REF!, 9 + QUOTIENT(ROW(AL729)-2, 10), 1 + MOD(ROW(AL729)-2, 10))","v":{"$error":"#REF!"}}]
[null,null,null,null,null,null,null,null,null,null,null,null,null,null,null,null,null,null,null,null,null,null,null,null,null,null,null,null,null,null,null,null,null,null,2052,"非住宅","S造",{"$f":"INDEX(#REF!, 9 + QUOTIENT(ROW(AL730)-2, 10), 1 + MOD(ROW(AL730)-2, 10))","v":{"$error":"#REF!"}}]
[null,null,null,null,null,null,null,null,null,null,null,null,null,null,null,null,null,null,null,null,null,null,null,null,null,null,null,null,null,null,null,null,null,null,2052,"非住宅","その他",{"$f":"INDEX(#REF!, 9 + QUOTIENT(ROW(AL731)-2, 10), 1 + MOD(ROW(AL731)-2, 10))","v":{"$error":"#REF!"}}]
[null,null,null,null,null,null,null,null,null,null,null,null,null,null,null,null,null,null,null,null,null,null,null,null,null,null,null,null,null,null,null,null,null,null,2053,"住宅","木造",{"$f":"INDEX(#REF!, 9 + QUOTIENT(ROW(AL732)-2, 10), 1 + MOD(ROW(AL732)-2, 10))","v":{"$error":"#REF!"}}]
[null,null,null,null,null,null,null,null,null,null,null,null,null,null,null,null,null,null,null,null,null,null,null,null,null,null,null,null,null,null,null,null,null,null,2053,"住宅","SRC造",{"$f":"INDEX(#REF!, 9 + QUOTIENT(ROW(AL733)-2, 10), 1 + MOD(ROW(AL733)-2, 10))","v":{"$error":"#REF!"}}]
[null,null,null,null,null,null,null,null,null,null,null,null,null,null,null,null,null,null,null,null,null,null,null,null,null,null,null,null,null,null,null,null,null,null,2053,"住宅","RC造",{"$f":"INDEX(#REF!, 9 + QUOTIENT(ROW(AL734)-2, 10), 1 + MOD(ROW(AL734)-2, 10))","v":{"$error":"#REF!"}}]
[null,null,null,null,null,null,null,null,null,null,null,null,null,null,null,null,null,null,null,null,null,null,null,null,null,null,null,null,null,null,null,null,null,null,2053,"住宅","S造",{"$f":"INDEX(#REF!, 9 + QUOTIENT(ROW(AL735)-2, 10), 1 + MOD(ROW(AL735)-2, 10))","v":{"$error":"#REF!"}}]
[null,null,null,null,null,null,null,null,null,null,null,null,null,null,null,null,null,null,null,null,null,null,null,null,null,null,null,null,null,null,null,null,null,null,2053,"住宅","その他",{"$f":"INDEX(#REF!, 9 + QUOTIENT(ROW(AL736)-2, 10), 1 + MOD(ROW(AL736)-2, 10))","v":{"$error":"#REF!"}}]
[null,null,null,null,null,null,null,null,null,null,null,null,null,null,null,null,null,null,null,null,null,null,null,null,null,null,null,null,null,null,null,null,null,null,2053,"非住宅","木造",{"$f":"INDEX(#REF!, 9 + QUOTIENT(ROW(AL737)-2, 10), 1 + MOD(ROW(AL737)-2, 10))","v":{"$error":"#REF!"}}]
[null,null,null,null,null,null,null,null,null,null,null,null,null,null,null,null,null,null,null,null,null,null,null,null,null,null,null,null,null,null,null,null,null,null,2053,"非住宅","SRC造",{"$f":"INDEX(#REF!, 9 + QUOTIENT(ROW(AL738)-2, 10), 1 + MOD(ROW(AL738)-2, 10))","v":{"$error":"#REF!"}}]
[null,null,null,null,null,null,null,null,null,null,null,null,null,null,null,null,null,null,null,null,null,null,null,null,null,null,null,null,null,null,null,null,null,null,2053,"非住宅","RC造",{"$f":"INDEX(#REF!, 9 + QUOTIENT(ROW(AL739)-2, 10), 1 + MOD(ROW(AL739)-2, 10))","v":{"$error":"#REF!"}}]
[null,null,null,null,null,null,null,null,null,null,null,null,null,null,null,null,null,null,null,null,null,null,null,null,null,null,null,null,null,null,null,null,null,null,2053,"非住宅","S造",{"$f":"INDEX(#REF!, 9 + QUOTIENT(ROW(AL740)-2, 10), 1 + MOD(ROW(AL740)-2, 10))","v":{"$error":"#REF!"}}]
[null,null,null,null,null,null,null,null,null,null,null,null,null,null,null,null,null,null,null,null,null,null,null,null,null,null,null,null,null,null,null,null,null,null,2053,"非住宅","その他",{"$f":"INDEX(#REF!, 9 + QUOTIENT(ROW(AL741)-2, 10), 1 + MOD(ROW(AL741)-2, 10))","v":{"$error":"#REF!"}}]
[null,null,null,null,null,null,null,null,null,null,null,null,null,null,null,null,null,null,null,null,null,null,null,null,null,null,null,null,null,null,null,null,null,null,2054,"住宅","木造",{"$f":"INDEX(#REF!, 9 + QUOTIENT(ROW(AL742)-2, 10), 1 + MOD(ROW(AL742)-2, 10))","v":{"$error":"#REF!"}}]
[null,null,null,null,null,null,null,null,null,null,null,null,null,null,null,null,null,null,null,null,null,null,null,null,null,null,null,null,null,null,null,null,null,null,2054,"住宅","SRC造",{"$f":"INDEX(#REF!, 9 + QUOTIENT(ROW(AL743)-2, 10), 1 + MOD(ROW(AL743)-2, 10))","v":{"$error":"#REF!"}}]
[null,null,null,null,null,null,null,null,null,null,null,null,null,null,null,null,null,null,null,null,null,null,null,null,null,null,null,null,null,null,null,null,null,null,2054,"住宅","RC造",{"$f":"INDEX(#REF!, 9 + QUOTIENT(ROW(AL744)-2, 10), 1 + MOD(ROW(AL744)-2, 10))","v":{"$error":"#REF!"}}]
[null,null,null,null,null,null,null,null,null,null,null,null,null,null,null,null,null,null,null,null,null,null,null,null,null,null,null,null,null,null,null,null,null,null,2054,"住宅","S造",{"$f":"INDEX(#REF!, 9 + QUOTIENT(ROW(AL745)-2, 10), 1 + MOD(ROW(AL745)-2, 10))","v":{"$error":"#REF!"}}]
[null,null,null,null,null,null,null,null,null,null,null,null,null,null,null,null,null,null,null,null,null,null,null,null,null,null,null,null,null,null,null,null,null,null,2054,"住宅","その他",{"$f":"INDEX(#REF!, 9 + QUOTIENT(ROW(AL746)-2, 10), 1 + MOD(ROW(AL746)-2, 10))","v":{"$error":"#REF!"}}]
[null,null,null,null,null,null,null,null,null,null,null,null,null,null,null,null,null,null,null,null,null,null,null,null,null,null,null,null,null,null,null,null,null,null,2054,"非住宅","木造",{"$f":"INDEX(#REF!, 9 + QUOTIENT(ROW(AL747)-2, 10), 1 + MOD(ROW(AL747)-2, 10))","v":{"$error":"#REF!"}}]
[null,null,null,null,null,null,null,null,null,null,null,null,null,null,null,null,null,null,null,null,null,null,null,null,null,null,null,null,null,null,null,null,null,null,2054,"非住宅","SRC造",{"$f":"INDEX(#REF!, 9 + QUOTIENT(ROW(AL748)-2, 10), 1 + MOD(ROW(AL748)-2, 10))","v":{"$error":"#REF!"}}]
[null,null,null,null,null,null,null,null,null,null,null,null,null,null,null,null,null,null,null,null,null,null,null,null,null,null,null,null,null,null,null,null,null,null,2054,"非住宅","RC造",{"$f":"INDEX(#REF!, 9 + QUOTIENT(ROW(AL749)-2, 10), 1 + MOD(ROW(AL749)-2, 10))","v":{"$error":"#REF!"}}]
[null,null,null,null,null,null,null,null,null,null,null,null,null,null,null,null,null,null,null,null,null,null,null,null,null,null,null,null,null,null,null,null,null,null,2054,"非住宅","S造",{"$f":"INDEX(#REF!, 9 + QUOTIENT(ROW(AL750)-2, 10), 1 + MOD(ROW(AL750)-2, 10))","v":{"$error":"#REF!"}}]
[null,null,null,null,null,null,null,null,null,null,null,null,null,null,null,null,null,null,null,null,null,null,null,null,null,null,null,null,null,null,null,null,null,null,2054,"非住宅","その他",{"$f":"INDEX(#REF!, 9 + QUOTIENT(ROW(AL751)-2, 10), 1 + MOD(ROW(AL751)-2, 10))","v":{"$error":"#REF!"}}]
[null,null,null,null,null,null,null,null,null,null,null,null,null,null,null,null,null,null,null,null,null,null,null,null,null,null,null,null,null,null,null,null,null,null,2055,"住宅","木造",{"$f":"INDEX(#REF!, 9 + QUOTIENT(ROW(AL752)-2, 10), 1 + MOD(ROW(AL752)-2, 10))","v":{"$error":"#REF!"}}]
[null,null,null,null,null,null,null,null,null,null,null,null,null,null,null,null,null,null,null,null,null,null,null,null,null,null,null,null,null,null,null,null,null,null,2055,"住宅","SRC造",{"$f":"INDEX(#REF!, 9 + QUOTIENT(ROW(AL753)-2, 10), 1 + MOD(ROW(AL753)-2, 10))","v":{"$error":"#REF!"}}]
[null,null,null,null,null,null,null,null,null,null,null,null,null,null,null,null,null,null,null,null,null,null,null,null,null,null,null,null,null,null,null,null,null,null,2055,"住宅","RC造",{"$f":"INDEX(#REF!, 9 + QUOTIENT(ROW(AL754)-2, 10), 1 + MOD(ROW(AL754)-2, 10))","v":{"$error":"#REF!"}}]
[null,null,null,null,null,null,null,null,null,null,null,null,null,null,null,null,null,null,null,null,null,null,null,null,null,null,null,null,null,null,null,null,null,null,2055,"住宅","S造",{"$f":"INDEX(#REF!, 9 + QUOTIENT(ROW(AL755)-2, 10), 1 + MOD(ROW(AL755)-2, 10))","v":{"$error":"#REF!"}}]
[null,null,null,null,null,null,null,null,null,null,null,null,null,null,null,null,null,null,null,null,null,null,null,null,null,null,null,null,null,null,null,null,null,null,2055,"住宅","その他",{"$f":"INDEX(#REF!, 9 + QUOTIENT(ROW(AL756)-2, 10), 1 + MOD(ROW(AL756)-2, 10))","v":{"$error":"#REF!"}}]
[null,null,null,null,null,null,null,null,null,null,null,null,null,null,null,null,null,null,null,null,null,null,null,null,null,null,null,null,null,null,null,null,null,null,2055,"非住宅","木造",{"$f":"INDEX(#REF!, 9 + QUOTIENT(ROW(AL757)-2, 10), 1 + MOD(ROW(AL757)-2, 10))","v":{"$error":"#REF!"}}]
[null,null,null,null,null,null,null,null,null,null,null,null,null,null,null,null,null,null,null,null,null,null,null,null,null,null,null,null,null,null,null,null,null,null,2055,"非住宅","SRC造",{"$f":"INDEX(#REF!, 9 + QUOTIENT(ROW(AL758)-2, 10), 1 + MOD(ROW(AL758)-2, 10))","v":{"$error":"#REF!"}}]
[null,null,null,null,null,null,null,null,null,null,null,null,null,null,null,null,null,null,null,null,null,null,null,null,null,null,null,null,null,null,null,null,null,null,2055,"非住宅","RC造",{"$f":"INDEX(#REF!, 9 + QUOTIENT(ROW(AL759)-2, 10), 1 + MOD(ROW(AL759)-2, 10))","v":{"$error":"#REF!"}}]
[null,null,null,null,null,null,null,null,null,null,null,null,null,null,null,null,null,null,null,null,null,null,null,null,null,null,null,null,null,null,null,null,null,null,2055,"非住宅","S造",{"$f":"INDEX(#REF!, 9 + QUOTIENT(ROW(AL760)-2, 10), 1 + MOD(ROW(AL760)-2, 10))","v":{"$error":"#REF!"}}]
[null,null,null,null,null,null,null,null,null,null,null,null,null,null,null,null,null,null,null,null,null,null,null,null,null,null,null,null,null,null,null,null,null,null,2055,"非住宅","その他",{"$f":"INDEX(#REF!, 9 + QUOTIENT(ROW(AL761)-2, 10), 1 + MOD(ROW(AL761)-2, 10))","v":{"$error":"#REF!"}}]
[null,null,null,null,null,null,null,null,null,null,null,null,null,null,null,null,null,null,null,null,null,null,null,null,null,null,null,null,null,null,null,null,null,null,2056,"住宅","木造",{"$f":"INDEX(#REF!, 9 + QUOTIENT(ROW(AL762)-2, 10), 1 + MOD(ROW(AL762)-2, 10))","v":{"$error":"#REF!"}}]
[null,null,null,null,null,null,null,null,null,null,null,null,null,null,null,null,null,null,null,null,null,null,null,null,null,null,null,null,null,null,null,null,null,null,2056,"住宅","SRC造",{"$f":"INDEX(#REF!, 9 + QUOTIENT(ROW(AL763)-2, 10), 1 + MOD(ROW(AL763)-2, 10))","v":{"$error":"#REF!"}}]
[null,null,null,null,null,null,null,null,null,null,null,null,null,null,null,null,null,null,null,null,null,null,null,null,null,null,null,null,null,null,null,null,null,null,2056,"住宅","RC造",{"$f":"INDEX(#REF!, 9 + QUOTIENT(ROW(AL764)-2, 10), 1 + MOD(ROW(AL764)-2, 10))","v":{"$error":"#REF!"}}]
[null,null,null,null,null,null,null,null,null,null,null,null,null,null,null,null,null,null,null,null,null,null,null,null,null,null,null,null,null,null,null,null,null,null,2056,"住宅","S造",{"$f":"INDEX(#REF!, 9 + QUOTIENT(ROW(AL765)-2, 10), 1 + MOD(ROW(AL765)-2, 10))","v":{"$error":"#REF!"}}]
[null,null,null,null,null,null,null,null,null,null,null,null,null,null,null,null,null,null,null,null,null,null,null,null,null,null,null,null,null,null,null,null,null,null,2056,"住宅","その他",{"$f":"INDEX(#REF!, 9 + QUOTIENT(ROW(AL766)-2, 10), 1 + MOD(ROW(AL766)-2, 10))","v":{"$error":"#REF!"}}]
[null,null,null,null,null,null,null,null,null,null,null,null,null,null,null,null,null,null,null,null,null,null,null,null,null,null,null,null,null,null,null,null,null,null,2056,"非住宅","木造",{"$f":"INDEX(#REF!, 9 + QUOTIENT(ROW(AL767)-2, 10), 1 + MOD(ROW(AL767)-2, 10))","v":{"$error":"#REF!"}}]
[null,null,null,null,null,null,null,null,null,null,null,null,null,null,null,null,null,null,null,null,null,null,null,null,null,null,null,null,null,null,null,null,null,null,2056,"非住宅","SRC造",{"$f":"INDEX(#REF!, 9 + QUOTIENT(ROW(AL768)-2, 10), 1 + MOD(ROW(AL768)-2, 10))","v":{"$error":"#REF!"}}]
[null,null,null,null,null,null,null,null,null,null,null,null,null,null,null,null,null,null,null,null,null,null,null,null,null,null,null,null,null,null,null,null,null,null,2056,"非住宅","RC造",{"$f":"INDEX(#REF!, 9 + QUOTIENT(ROW(AL769)-2, 10), 1 + MOD(ROW(AL769)-2, 10))","v":{"$error":"#REF!"}}]
[null,null,null,null,null,null,null,null,null,null,null,null,null,null,null,null,null,null,null,null,null,null,null,null,null,null,null,null,null,null,null,null,null,null,2056,"非住宅","S造",{"$f":"INDEX(#REF!, 9 + QUOTIENT(ROW(AL770)-2, 10), 1 + MOD(ROW(AL770)-2, 10))","v":{"$error":"#REF!"}}]
[null,null,null,null,null,null,null,null,null,null,null,null,null,null,null,null,null,null,null,null,null,null,null,null,null,null,null,null,null,null,null,null,null,null,2056,"非住宅","その他",{"$f":"INDEX(#REF!, 9 + QUOTIENT(ROW(AL771)-2, 10), 1 + MOD(ROW(AL771)-2, 10))","v":{"$error":"#REF!"}}]
[null,null,null,null,null,null,null,null,null,null,null,null,null,null,null,null,null,null,null,null,null,null,null,null,null,null,null,null,null,null,null,null,null,null,2057,"住宅","木造",{"$f":"INDEX(#REF!, 9 + QUOTIENT(ROW(AL772)-2, 10), 1 + MOD(ROW(AL772)-2, 10))","v":{"$error":"#REF!"}}]
[null,null,null,null,null,null,null,null,null,null,null,null,null,null,null,null,null,null,null,null,null,null,null,null,null,null,null,null,null,null,null,null,null,null,2057,"住宅","SRC造",{"$f":"INDEX(#REF!, 9 + QUOTIENT(ROW(AL773)-2, 10), 1 + MOD(ROW(AL773)-2, 10))","v":{"$error":"#REF!"}}]
[null,null,null,null,null,null,null,null,null,null,null,null,null,null,null,null,null,null,null,null,null,null,null,null,null,null,null,null,null,null,null,null,null,null,2057,"住宅","RC造",{"$f":"INDEX(#REF!, 9 + QUOTIENT(ROW(AL774)-2, 10), 1 + MOD(ROW(AL774)-2, 10))","v":{"$error":"#REF!"}}]
[null,null,null,null,null,null,null,null,null,null,null,null,null,null,null,null,null,null,null,null,null,null,null,null,null,null,null,null,null,null,null,null,null,null,2057,"住宅","S造",{"$f":"INDEX(#REF!, 9 + QUOTIENT(ROW(AL775)-2, 10), 1 + MOD(ROW(AL775)-2, 10))","v":{"$error":"#REF!"}}]
[null,null,null,null,null,null,null,null,null,null,null,null,null,null,null,null,null,null,null,null,null,null,null,null,null,null,null,null,null,null,null,null,null,null,2057,"住宅","その他",{"$f":"INDEX(#REF!, 9 + QUOTIENT(ROW(AL776)-2, 10), 1 + MOD(ROW(AL776)-2, 10))","v":{"$error":"#REF!"}}]
[null,null,null,null,null,null,null,null,null,null,null,null,null,null,null,null,null,null,null,null,null,null,null,null,null,null,null,null,null,null,null,null,null,null,2057,"非住宅","木造",{"$f":"INDEX(#REF!, 9 + QUOTIENT(ROW(AL777)-2, 10), 1 + MOD(ROW(AL777)-2, 10))","v":{"$error":"#REF!"}}]
[null,null,null,null,null,null,null,null,null,null,null,null,null,null,null,null,null,null,null,null,null,null,null,null,null,null,null,null,null,null,null,null,null,null,2057,"非住宅","SRC造",{"$f":"INDEX(#REF!, 9 + QUOTIENT(ROW(AL778)-2, 10), 1 + MOD(ROW(AL778)-2, 10))","v":{"$error":"#REF!"}}]
[null,null,null,null,null,null,null,null,null,null,null,null,null,null,null,null,null,null,null,null,null,null,null,null,null,null,null,null,null,null,null,null,null,null,2057,"非住宅","RC造",{"$f":"INDEX(#REF!, 9 + QUOTIENT(ROW(AL779)-2, 10), 1 + MOD(ROW(AL779)-2, 10))","v":{"$error":"#REF!"}}]
[null,null,null,null,null,null,null,null,null,null,null,null,null,null,null,null,null,null,null,null,null,null,null,null,null,null,null,null,null,null,null,null,null,null,2057,"非住宅","S造",{"$f":"INDEX(#REF!, 9 + QUOTIENT(ROW(AL780)-2, 10), 1 + MOD(ROW(AL780)-2, 10))","v":{"$error":"#REF!"}}]
[null,null,null,null,null,null,null,null,null,null,null,null,null,null,null,null,null,null,null,null,null,null,null,null,null,null,null,null,null,null,null,null,null,null,2057,"非住宅","その他",{"$f":"INDEX(#REF!, 9 + QUOTIENT(ROW(AL781)-2, 10), 1 + MOD(ROW(AL781)-2, 10))","v":{"$error":"#REF!"}}]
[null,null,null,null,null,null,null,null,null,null,null,null,null,null,null,null,null,null,null,null,null,null,null,null,null,null,null,null,null,null,null,null,null,null,2058,"住宅","木造",{"$f":"INDEX(#REF!, 9 + QUOTIENT(ROW(AL782)-2, 10), 1 + MOD(ROW(AL782)-2, 10))","v":{"$error":"#REF!"}}]
[null,null,null,null,null,null,null,null,null,null,null,null,null,null,null,null,null,null,null,null,null,null,null,null,null,null,null,null,null,null,null,null,null,null,2058,"住宅","SRC造",{"$f":"INDEX(#REF!, 9 + QUOTIENT(ROW(AL783)-2, 10), 1 + MOD(ROW(AL783)-2, 10))","v":{"$error":"#REF!"}}]
[null,null,null,null,null,null,null,null,null,null,null,null,null,null,null,null,null,null,null,null,null,null,null,null,null,null,null,null,null,null,null,null,null,null,2058,"住宅","RC造",{"$f":"INDEX(#REF!, 9 + QUOTIENT(ROW(AL784)-2, 10), 1 + MOD(ROW(AL784)-2, 10))","v":{"$error":"#REF!"}}]
[null,null,null,null,null,null,null,null,null,null,null,null,null,null,null,null,null,null,null,null,null,null,null,null,null,null,null,null,null,null,null,null,null,null,2058,"住宅","S造",{"$f":"INDEX(#REF!, 9 + QUOTIENT(ROW(AL785)-2, 10), 1 + MOD(ROW(AL785)-2, 10))","v":{"$error":"#REF!"}}]
[null,null,null,null,null,null,null,null,null,null,null,null,null,null,null,null,null,null,null,null,null,null,null,null,null,null,null,null,null,null,null,null,null,null,2058,"住宅","その他",{"$f":"INDEX(#REF!, 9 + QUOTIENT(ROW(AL786)-2, 10), 1 + MOD(ROW(AL786)-2, 10))","v":{"$error":"#REF!"}}]
[null,null,null,null,null,null,null,null,null,null,null,null,null,null,null,null,null,null,null,null,null,null,null,null,null,null,null,null,null,null,null,null,null,null,2058,"非住宅","木造",{"$f":"INDEX(#REF!, 9 + QUOTIENT(ROW(AL787)-2, 10), 1 + MOD(ROW(AL787)-2, 10))","v":{"$error":"#REF!"}}]
[null,null,null,null,null,null,null,null,null,null,null,null,null,null,null,null,null,null,null,null,null,null,null,null,null,null,null,null,null,null,null,null,null,null,2058,"非住宅","SRC造",{"$f":"INDEX(#REF!, 9 + QUOTIENT(ROW(AL788)-2, 10), 1 + MOD(ROW(AL788)-2, 10))","v":{"$error":"#REF!"}}]
[null,null,null,null,null,null,null,null,null,null,null,null,null,null,null,null,null,null,null,null,null,null,null,null,null,null,null,null,null,null,null,null,null,null,2058,"非住宅","RC造",{"$f":"INDEX(#REF!, 9 + QUOTIENT(ROW(AL789)-2, 10), 1 + MOD(ROW(AL789)-2, 10))","v":{"$error":"#REF!"}}]
[null,null,null,null,null,null,null,null,null,null,null,null,null,null,null,null,null,null,null,null,null,null,null,null,null,null,null,null,null,null,null,null,null,null,2058,"非住宅","S造",{"$f":"INDEX(#REF!, 9 + QUOTIENT(ROW(AL790)-2, 10), 1 + MOD(ROW(AL790)-2, 10))","v":{"$error":"#REF!"}}]
[null,null,null,null,null,null,null,null,null,null,null,null,null,null,null,null,null,null,null,null,null,null,null,null,null,null,null,null,null,null,null,null,null,null,2058,"非住宅","その他",{"$f":"INDEX(#REF!, 9 + QUOTIENT(ROW(AL791)-2, 10), 1 + MOD(ROW(AL791)-2, 10))","v":{"$error":"#REF!"}}]
[null,null,null,null,null,null,null,null,null,null,null,null,null,null,null,null,null,null,null,null,null,null,null,null,null,null,null,null,null,null,null,null,null,null,2059,"住宅","木造",{"$f":"INDEX(#REF!, 9 + QUOTIENT(ROW(AL792)-2, 10), 1 + MOD(ROW(AL792)-2, 10))","v":{"$error":"#REF!"}}]
[null,null,null,null,null,null,null,null,null,null,null,null,null,null,null,null,null,null,null,null,null,null,null,null,null,null,null,null,null,null,null,null,null,null,2059,"住宅","SRC造",{"$f":"INDEX(#REF!, 9 + QUOTIENT(ROW(AL793)-2, 10), 1 + MOD(ROW(AL793)-2, 10))","v":{"$error":"#REF!"}}]
[null,null,null,null,null,null,null,null,null,null,null,null,null,null,null,null,null,null,null,null,null,null,null,null,null,null,null,null,null,null,null,null,null,null,2059,"住宅","RC造",{"$f":"INDEX(#REF!, 9 + QUOTIENT(ROW(AL794)-2, 10), 1 + MOD(ROW(AL794)-2, 10))","v":{"$error":"#REF!"}}]
[null,null,null,null,null,null,null,null,null,null,null,null,null,null,null,null,null,null,null,null,null,null,null,null,null,null,null,null,null,null,null,null,null,null,2059,"住宅","S造",{"$f":"INDEX(#REF!, 9 + QUOTIENT(ROW(AL795)-2, 10), 1 + MOD(ROW(AL795)-2, 10))","v":{"$error":"#REF!"}}]
[null,null,null,null,null,null,null,null,null,null,null,null,null,null,null,null,null,null,null,null,null,null,null,null,null,null,null,null,null,null,null,null,null,null,2059,"住宅","その他",{"$f":"INDEX(#REF!, 9 + QUOTIENT(ROW(AL796)-2, 10), 1 + MOD(ROW(AL796)-2, 10))","v":{"$error":"#REF!"}}]
[null,null,null,null,null,null,null,null,null,null,null,null,null,null,null,null,null,null,null,null,null,null,null,null,null,null,null,null,null,null,null,null,null,null,2059,"非住宅","木造",{"$f":"INDEX(#REF!, 9 + QUOTIENT(ROW(AL797)-2, 10), 1 + MOD(ROW(AL797)-2, 10))","v":{"$error":"#REF!"}}]
[null,null,null,null,null,null,null,null,null,null,null,null,null,null,null,null,null,null,null,null,null,null,null,null,null,null,null,null,null,null,null,null,null,null,2059,"非住宅","SRC造",{"$f":"INDEX(#REF!, 9 + QUOTIENT(ROW(AL798)-2, 10), 1 + MOD(ROW(AL798)-2, 10))","v":{"$error":"#REF!"}}]
[null,null,null,null,null,null,null,null,null,null,null,null,null,null,null,null,null,null,null,null,null,null,null,null,null,null,null,null,null,null,null,null,null,null,2059,"非住宅","RC造",{"$f":"INDEX(#REF!, 9 + QUOTIENT(ROW(AL799)-2, 10), 1 + MOD(ROW(AL799)-2, 10))","v":{"$error":"#REF!"}}]
[null,null,null,null,null,null,null,null,null,null,null,null,null,null,null,null,null,null,null,null,null,null,null,null,null,null,null,null,null,null,null,null,null,null,2059,"非住宅","S造",{"$f":"INDEX(#REF!, 9 + QUOTIENT(ROW(AL800)-2, 10), 1 + MOD(ROW(AL800)-2, 10))","v":{"$error":"#REF!"}}]
[null,null,null,null,null,null,null,null,null,null,null,null,null,null,null,null,null,null,null,null,null,null,null,null,null,null,null,null,null,null,null,null,null,null,2059,"非住宅","その他",{"$f":"INDEX(#REF!, 9 + QUOTIENT(ROW(AL801)-2, 10), 1 + MOD(ROW(AL801)-2, 10))","v":{"$error":"#REF!"}}]
[null,null,null,null,null,null,null,null,null,null,null,null,null,null,null,null,null,null,null,null,null,null,null,null,null,null,null,null,null,null,null,null,null,null,2060,"住宅","木造",{"$f":"INDEX(#REF!, 9 + QUOTIENT(ROW(AL802)-2, 10), 1 + MOD(ROW(AL802)-2, 10))","v":{"$error":"#REF!"}}]
[null,null,null,null,null,null,null,null,null,null,null,null,null,null,null,null,null,null,null,null,null,null,null,null,null,null,null,null,null,null,null,null,null,null,2060,"住宅","SRC造",{"$f":"INDEX(#REF!, 9 + QUOTIENT(ROW(AL803)-2, 10), 1 + MOD(ROW(AL803)-2, 10))","v":{"$error":"#REF!"}}]
[null,null,null,null,null,null,null,null,null,null,null,null,null,null,null,null,null,null,null,null,null,null,null,null,null,null,null,null,null,null,null,null,null,null,2060,"住宅","RC造",{"$f":"INDEX(#REF!, 9 + QUOTIENT(ROW(AL804)-2, 10), 1 + MOD(ROW(AL804)-2, 10))","v":{"$error":"#REF!"}}]
[null,null,null,null,null,null,null,null,null,null,null,null,null,null,null,null,null,null,null,null,null,null,null,null,null,null,null,null,null,null,null,null,null,null,2060,"住宅","S造",{"$f":"INDEX(#REF!, 9 + QUOTIENT(ROW(AL805)-2, 10), 1 + MOD(ROW(AL805)-2, 10))","v":{"$error":"#REF!"}}]
[null,null,null,null,null,null,null,null,null,null,null,null,null,null,null,null,null,null,null,null,null,null,null,null,null,null,null,null,null,null,null,null,null,null,2060,"住宅","その他",{"$f":"INDEX(#REF!, 9 + QUOTIENT(ROW(AL806)-2, 10), 1 + MOD(ROW(AL806)-2, 10))","v":{"$error":"#REF!"}}]
[null,null,null,null,null,null,null,null,null,null,null,null,null,null,null,null,null,null,null,null,null,null,null,null,null,null,null,null,null,null,null,null,null,null,2060,"非住宅","木造",{"$f":"INDEX(#REF!, 9 + QUOTIENT(ROW(AL807)-2, 10), 1 + MOD(ROW(AL807)-2, 10))","v":{"$error":"#REF!"}}]
[null,null,null,null,null,null,null,null,null,null,null,null,null,null,null,null,null,null,null,null,null,null,null,null,null,null,null,null,null,null,null,null,null,null,2060,"非住宅","SRC造",{"$f":"INDEX(#REF!, 9 + QUOTIENT(ROW(AL808)-2, 10), 1 + MOD(ROW(AL808)-2, 10))","v":{"$error":"#REF!"}}]
[null,null,null,null,null,null,null,null,null,null,null,null,null,null,null,null,null,null,null,null,null,null,null,null,null,null,null,null,null,null,null,null,null,null,2060,"非住宅","RC造",{"$f":"INDEX(#REF!, 9 + QUOTIENT(ROW(AL809)-2, 10), 1 + MOD(ROW(AL809)-2, 10))","v":{"$error":"#REF!"}}]
[null,null,null,null,null,null,null,null,null,null,null,null,null,null,null,null,null,null,null,null,null,null,null,null,null,null,null,null,null,null,null,null,null,null,2060,"非住宅","S造",{"$f":"INDEX(#REF!, 9 + QUOTIENT(ROW(AL810)-2, 10), 1 + MOD(ROW(AL810)-2, 10))","v":{"$error":"#REF!"}}]
[null,null,null,null,null,null,null,null,null,null,null,null,null,null,null,null,null,null,null,null,null,null,null,null,null,null,null,null,null,null,null,null,null,null,2060,"非住宅","その他",{"$f":"INDEX(#REF!, 9 + QUOTIENT(ROW(AL811)-2, 10), 1 + MOD(ROW(AL811)-2, 10))","v":{"$error":"#REF!"}}]
[null,null,null,null,null,null,null,null,null,null,null,null,null,null,null,null,null,null,null,null,null,null,null,null,null,null,null,null,null,null,null,null,null,null,2061,"住宅","木造",{"$f":"INDEX(#REF!, 9 + QUOTIENT(ROW(AL812)-2, 10), 1 + MOD(ROW(AL812)-2, 10))","v":{"$error":"#REF!"}}]
[null,null,null,null,null,null,null,null,null,null,null,null,null,null,null,null,null,null,null,null,null,null,null,null,null,null,null,null,null,null,null,null,null,null,2061,"住宅","SRC造",{"$f":"INDEX(#REF!, 9 + QUOTIENT(ROW(AL813)-2, 10), 1 + MOD(ROW(AL813)-2, 10))","v":{"$error":"#REF!"}}]
[null,null,null,null,null,null,null,null,null,null,null,null,null,null,null,null,null,null,null,null,null,null,null,null,null,null,null,null,null,null,null,null,null,null,2061,"住宅","RC造",{"$f":"INDEX(#REF!, 9 + QUOTIENT(ROW(AL814)-2, 10), 1 + MOD(ROW(AL814)-2, 10))","v":{"$error":"#REF!"}}]
[null,null,null,null,null,null,null,null,null,null,null,null,null,null,null,null,null,null,null,null,null,null,null,null,null,null,null,null,null,null,null,null,null,null,2061,"住宅","S造",{"$f":"INDEX(#REF!, 9 + QUOTIENT(ROW(AL815)-2, 10), 1 + MOD(ROW(AL815)-2, 10))","v":{"$error":"#REF!"}}]
[null,null,null,null,null,null,null,null,null,null,null,null,null,null,null,null,null,null,null,null,null,null,null,null,null,null,null,null,null,null,null,null,null,null,2061,"住宅","その他",{"$f":"INDEX(#REF!, 9 + QUOTIENT(ROW(AL816)-2, 10), 1 + MOD(ROW(AL816)-2, 10))","v":{"$error":"#REF!"}}]
[null,null,null,null,null,null,null,null,null,null,null,null,null,null,null,null,null,null,null,null,null,null,null,null,null,null,null,null,null,null,null,null,null,null,2061,"非住宅","木造",{"$f":"INDEX(#REF!, 9 + QUOTIENT(ROW(AL817)-2, 10), 1 + MOD(ROW(AL817)-2, 10))","v":{"$error":"#REF!"}}]
[null,null,null,null,null,null,null,null,null,null,null,null,null,null,null,null,null,null,null,null,null,null,null,null,null,null,null,null,null,null,null,null,null,null,2061,"非住宅","SRC造",{"$f":"INDEX(#REF!, 9 + QUOTIENT(ROW(AL818)-2, 10), 1 + MOD(ROW(AL818)-2, 10))","v":{"$error":"#REF!"}}]
[null,null,null,null,null,null,null,null,null,null,null,null,null,null,null,null,null,null,null,null,null,null,null,null,null,null,null,null,null,null,null,null,null,null,2061,"非住宅","RC造",{"$f":"INDEX(#REF!, 9 + QUOTIENT(ROW(AL819)-2, 10), 1 + MOD(ROW(AL819)-2, 10))","v":{"$error":"#REF!"}}]
[null,null,null,null,null,null,null,null,null,null,null,null,null,null,null,null,null,null,null,null,null,null,null,null,null,null,null,null,null,null,null,null,null,null,2061,"非住宅","S造",{"$f":"INDEX(#REF!, 9 + QUOTIENT(ROW(AL820)-2, 10), 1 + MOD(ROW(AL820)-2, 10))","v":{"$error":"#REF!"}}]
[null,null,null,null,null,null,null,null,null,null,null,null,null,null,null,null,null,null,null,null,null,null,null,null,null,null,null,null,null,null,null,null,null,null,2061,"非住宅","その他",{"$f":"INDEX(#REF!, 9 + QUOTIENT(ROW(AL821)-2, 10), 1 + MOD(ROW(AL821)-2, 10))","v":{"$error":"#REF!"}}]
[null,null,null,null,null,null,null,null,null,null,null,null,null,null,null,null,null,null,null,null,null,null,null,null,null,null,null,null,null,null,null,null,null,null,2062,"住宅","木造",{"$f":"INDEX(#REF!, 9 + QUOTIENT(ROW(AL822)-2, 10), 1 + MOD(ROW(AL822)-2, 10))","v":{"$error":"#REF!"}}]
[null,null,null,null,null,null,null,null,null,null,null,null,null,null,null,null,null,null,null,null,null,null,null,null,null,null,null,null,null,null,null,null,null,null,2062,"住宅","SRC造",{"$f":"INDEX(#REF!, 9 + QUOTIENT(ROW(AL823)-2, 10), 1 + MOD(ROW(AL823)-2, 10))","v":{"$error":"#REF!"}}]
[null,null,null,null,null,null,null,null,null,null,null,null,null,null,null,null,null,null,null,null,null,null,null,null,null,null,null,null,null,null,null,null,null,null,2062,"住宅","RC造",{"$f":"INDEX(#REF!, 9 + QUOTIENT(ROW(AL824)-2, 10), 1 + MOD(ROW(AL824)-2, 10))","v":{"$error":"#REF!"}}]
[null,null,null,null,null,null,null,null,null,null,null,null,null,null,null,null,null,null,null,null,null,null,null,null,null,null,null,null,null,null,null,null,null,null,2062,"住宅","S造",{"$f":"INDEX(#REF!, 9 + QUOTIENT(ROW(AL825)-2, 10), 1 + MOD(ROW(AL825)-2, 10))","v":{"$error":"#REF!"}}]
[null,null,null,null,null,null,null,null,null,null,null,null,null,null,null,null,null,null,null,null,null,null,null,null,null,null,null,null,null,null,null,null,null,null,2062,"住宅","その他",{"$f":"INDEX(#REF!, 9 + QUOTIENT(ROW(AL826)-2, 10), 1 + MOD(ROW(AL826)-2, 10))","v":{"$error":"#REF!"}}]
[null,null,null,null,null,null,null,null,null,null,null,null,null,null,null,null,null,null,null,null,null,null,null,null,null,null,null,null,null,null,null,null,null,null,2062,"非住宅","木造",{"$f":"INDEX(#REF!, 9 + QUOTIENT(ROW(AL827)-2, 10), 1 + MOD(ROW(AL827)-2, 10))","v":{"$error":"#REF!"}}]
[null,null,null,null,null,null,null,null,null,null,null,null,null,null,null,null,null,null,null,null,null,null,null,null,null,null,null,null,null,null,null,null,null,null,2062,"非住宅","SRC造",{"$f":"INDEX(#REF!, 9 + QUOTIENT(ROW(AL828)-2, 10), 1 + MOD(ROW(AL828)-2, 10))","v":{"$error":"#REF!"}}]
[null,null,null,null,null,null,null,null,null,null,null,null,null,null,null,null,null,null,null,null,null,null,null,null,null,null,null,null,null,null,null,null,null,null,2062,"非住宅","RC造",{"$f":"INDEX(#REF!, 9 + QUOTIENT(ROW(AL829)-2, 10), 1 + MOD(ROW(AL829)-2, 10))","v":{"$error":"#REF!"}}]
[null,null,null,null,null,null,null,null,null,null,null,null,null,null,null,null,null,null,null,null,null,null,null,null,null,null,null,null,null,null,null,null,null,null,2062,"非住宅","S造",{"$f":"INDEX(#REF!, 9 + QUOTIENT(ROW(AL830)-2, 10), 1 + MOD(ROW(AL830)-2, 10))","v":{"$error":"#REF!"}}]
[null,null,null,null,null,null,null,null,null,null,null,null,null,null,null,null,null,null,null,null,null,null,null,null,null,null,null,null,null,null,null,null,null,null,2062,"非住宅","その他",{"$f":"INDEX(#REF!, 9 + QUOTIENT(ROW(AL831)-2, 10), 1 + MOD(ROW(AL831)-2, 10))","v":{"$error":"#REF!"}}]
[null,null,null,null,null,null,null,null,null,null,null,null,null,null,null,null,null,null,null,null,null,null,null,null,null,null,null,null,null,null,null,null,null,null,2063,"住宅","木造",{"$f":"INDEX(#REF!, 9 + QUOTIENT(ROW(AL832)-2, 10), 1 + MOD(ROW(AL832)-2, 10))","v":{"$error":"#REF!"}}]
[null,null,null,null,null,null,null,null,null,null,null,null,null,null,null,null,null,null,null,null,null,null,null,null,null,null,null,null,null,null,null,null,null,null,2063,"住宅","SRC造",{"$f":"INDEX(#REF!, 9 + QUOTIENT(ROW(AL833)-2, 10), 1 + MOD(ROW(AL833)-2, 10))","v":{"$error":"#REF!"}}]
[null,null,null,null,null,null,null,null,null,null,null,null,null,null,null,null,null,null,null,null,null,null,null,null,null,null,null,null,null,null,null,null,null,null,2063,"住宅","RC造",{"$f":"INDEX(#REF!, 9 + QUOTIENT(ROW(AL834)-2, 10), 1 + MOD(ROW(AL834)-2, 10))","v":{"$error":"#REF!"}}]
[null,null,null,null,null,null,null,null,null,null,null,null,null,null,null,null,null,null,null,null,null,null,null,null,null,null,null,null,null,null,null,null,null,null,2063,"住宅","S造",{"$f":"INDEX(#REF!, 9 + QUOTIENT(ROW(AL835)-2, 10), 1 + MOD(ROW(AL835)-2, 10))","v":{"$error":"#REF!"}}]
[null,null,null,null,null,null,null,null,null,null,null,null,null,null,null,null,null,null,null,null,null,null,null,null,null,null,null,null,null,null,null,null,null,null,2063,"住宅","その他",{"$f":"INDEX(#REF!, 9 + QUOTIENT(ROW(AL836)-2, 10), 1 + MOD(ROW(AL836)-2, 10))","v":{"$error":"#REF!"}}]
[null,null,null,null,null,null,null,null,null,null,null,null,null,null,null,null,null,null,null,null,null,null,null,null,null,null,null,null,null,null,null,null,null,null,2063,"非住宅","木造",{"$f":"INDEX(#REF!, 9 + QUOTIENT(ROW(AL837)-2, 10), 1 + MOD(ROW(AL837)-2, 10))","v":{"$error":"#REF!"}}]
[null,null,null,null,null,null,null,null,null,null,null,null,null,null,null,null,null,null,null,null,null,null,null,null,null,null,null,null,null,null,null,null,null,null,2063,"非住宅","SRC造",{"$f":"INDEX(#REF!, 9 + QUOTIENT(ROW(AL838)-2, 10), 1 + MOD(ROW(AL838)-2, 10))","v":{"$error":"#REF!"}}]
[null,null,null,null,null,null,null,null,null,null,null,null,null,null,null,null,null,null,null,null,null,null,null,null,null,null,null,null,null,null,null,null,null,null,2063,"非住宅","RC造",{"$f":"INDEX(#REF!, 9 + QUOTIENT(ROW(AL839)-2, 10), 1 + MOD(ROW(AL839)-2, 10))","v":{"$error":"#REF!"}}]
[null,null,null,null,null,null,null,null,null,null,null,null,null,null,null,null,null,null,null,null,null,null,null,null,null,null,null,null,null,null,null,null,null,null,2063,"非住宅","S造",{"$f":"INDEX(#REF!, 9 + QUOTIENT(ROW(AL840)-2, 10), 1 + MOD(ROW(AL840)-2, 10))","v":{"$error":"#REF!"}}]
[null,null,null,null,null,null,null,null,null,null,null,null,null,null,null,null,null,null,null,null,null,null,null,null,null,null,null,null,null,null,null,null,null,null,2063,"非住宅","その他",{"$f":"INDEX(#REF!, 9 + QUOTIENT(ROW(AL841)-2, 10), 1 + MOD(ROW(AL841)-2, 10))","v":{"$error":"#REF!"}}]
[null,null,null,null,null,null,null,null,null,null,null,null,null,null,null,null,null,null,null,null,null,null,null,null,null,null,null,null,null,null,null,null,null,null,2064,"住宅","木造",{"$f":"INDEX(#REF!, 9 + QUOTIENT(ROW(AL842)-2, 10), 1 + MOD(ROW(AL842)-2, 10))","v":{"$error":"#REF!"}}]
[null,null,null,null,null,null,null,null,null,null,null,null,null,null,null,null,null,null,null,null,null,null,null,null,null,null,null,null,null,null,null,null,null,null,2064,"住宅","SRC造",{"$f":"INDEX(#REF!, 9 + QUOTIENT(ROW(AL843)-2, 10), 1 + MOD(ROW(AL843)-2, 10))","v":{"$error":"#REF!"}}]
[null,null,null,null,null,null,null,null,null,null,null,null,null,null,null,null,null,null,null,null,null,null,null,null,null,null,null,null,null,null,null,null,null,null,2064,"住宅","RC造",{"$f":"INDEX(#REF!, 9 + QUOTIENT(ROW(AL844)-2, 10), 1 + MOD(ROW(AL844)-2, 10))","v":{"$error":"#REF!"}}]
[null,null,null,null,null,null,null,null,null,null,null,null,null,null,null,null,null,null,null,null,null,null,null,null,null,null,null,null,null,null,null,null,null,null,2064,"住宅","S造",{"$f":"INDEX(#REF!, 9 + QUOTIENT(ROW(AL845)-2, 10), 1 + MOD(ROW(AL845)-2, 10))","v":{"$error":"#REF!"}}]
[null,null,null,null,null,null,null,null,null,null,null,null,null,null,null,null,null,null,null,null,null,null,null,null,null,null,null,null,null,null,null,null,null,null,2064,"住宅","その他",{"$f":"INDEX(#REF!, 9 + QUOTIENT(ROW(AL846)-2, 10), 1 + MOD(ROW(AL846)-2, 10))","v":{"$error":"#REF!"}}]
[null,null,null,null,null,null,null,null,null,null,null,null,null,null,null,null,null,null,null,null,null,null,null,null,null,null,null,null,null,null,null,null,null,null,2064,"非住宅","木造",{"$f":"INDEX(#REF!, 9 + QUOTIENT(ROW(AL847)-2, 10), 1 + MOD(ROW(AL847)-2, 10))","v":{"$error":"#REF!"}}]
[null,null,null,null,null,null,null,null,null,null,null,null,null,null,null,null,null,null,null,null,null,null,null,null,null,null,null,null,null,null,null,null,null,null,2064,"非住宅","SRC造",{"$f":"INDEX(#REF!, 9 + QUOTIENT(ROW(AL848)-2, 10), 1 + MOD(ROW(AL848)-2, 10))","v":{"$error":"#REF!"}}]
[null,null,null,null,null,null,null,null,null,null,null,null,null,null,null,null,null,null,null,null,null,null,null,null,null,null,null,null,null,null,null,null,null,null,2064,"非住宅","RC造",{"$f":"INDEX(#REF!, 9 + QUOTIENT(ROW(AL849)-2, 10), 1 + MOD(ROW(AL849)-2, 10))","v":{"$error":"#REF!"}}]
[null,null,null,null,null,null,null,null,null,null,null,null,null,null,null,null,null,null,null,null,null,null,null,null,null,null,null,null,null,null,null,null,null,null,2064,"非住宅","S造",{"$f":"INDEX(#REF!, 9 + QUOTIENT(ROW(AL850)-2, 10), 1 + MOD(ROW(AL850)-2, 10))","v":{"$error":"#REF!"}}]
[null,null,null,null,null,null,null,null,null,null,null,null,null,null,null,null,null,null,null,null,null,null,null,null,null,null,null,null,null,null,null,null,null,null,2064,"非住宅","その他",{"$f":"INDEX(#REF!, 9 + QUOTIENT(ROW(AL851)-2, 10), 1 + MOD(ROW(AL851)-2, 10))","v":{"$error":"#REF!"}}]
[null,null,null,null,null,null,null,null,null,null,null,null,null,null,null,null,null,null,null,null,null,null,null,null,null,null,null,null,null,null,null,null,null,null,2065,"住宅","木造",{"$f":"INDEX(#REF!, 9 + QUOTIENT(ROW(AL852)-2, 10), 1 + MOD(ROW(AL852)-2, 10))","v":{"$error":"#REF!"}}]
[null,null,null,null,null,null,null,null,null,null,null,null,null,null,null,null,null,null,null,null,null,null,null,null,null,null,null,null,null,null,null,null,null,null,2065,"住宅","SRC造",{"$f":"INDEX(#REF!, 9 + QUOTIENT(ROW(AL853)-2, 10), 1 + MOD(ROW(AL853)-2, 10))","v":{"$error":"#REF!"}}]
[null,null,null,null,null,null,null,null,null,null,null,null,null,null,null,null,null,null,null,null,null,null,null,null,null,null,null,null,null,null,null,null,null,null,2065,"住宅","RC造",{"$f":"INDEX(#REF!, 9 + QUOTIENT(ROW(AL854)-2, 10), 1 + MOD(ROW(AL854)-2, 10))","v":{"$error":"#REF!"}}]
[null,null,null,null,null,null,null,null,null,null,null,null,null,null,null,null,null,null,null,null,null,null,null,null,null,null,null,null,null,null,null,null,null,null,2065,"住宅","S造",{"$f":"INDEX(#REF!, 9 + QUOTIENT(ROW(AL855)-2, 10), 1 + MOD(ROW(AL855)-2, 10))","v":{"$error":"#REF!"}}]
[null,null,null,null,null,null,null,null,null,null,null,null,null,null,null,null,null,null,null,null,null,null,null,null,null,null,null,null,null,null,null,null,null,null,2065,"住宅","その他",{"$f":"INDEX(#REF!, 9 + QUOTIENT(ROW(AL856)-2, 10), 1 + MOD(ROW(AL856)-2, 10))","v":{"$error":"#REF!"}}]
[null,null,null,null,null,null,null,null,null,null,null,null,null,null,null,null,null,null,null,null,null,null,null,null,null,null,null,null,null,null,null,null,null,null,2065,"非住宅","木造",{"$f":"INDEX(#REF!, 9 + QUOTIENT(ROW(AL857)-2, 10), 1 + MOD(ROW(AL857)-2, 10))","v":{"$error":"#REF!"}}]
[null,null,null,null,null,null,null,null,null,null,null,null,null,null,null,null,null,null,null,null,null,null,null,null,null,null,null,null,null,null,null,null,null,null,2065,"非住宅","SRC造",{"$f":"INDEX(#REF!, 9 + QUOTIENT(ROW(AL858)-2, 10), 1 + MOD(ROW(AL858)-2, 10))","v":{"$error":"#REF!"}}]
[null,null,null,null,null,null,null,null,null,null,null,null,null,null,null,null,null,null,null,null,null,null,null,null,null,null,null,null,null,null,null,null,null,null,2065,"非住宅","RC造",{"$f":"INDEX(#REF!, 9 + QUOTIENT(ROW(AL859)-2, 10), 1 + MOD(ROW(AL859)-2, 10))","v":{"$error":"#REF!"}}]
[null,null,null,null,null,null,null,null,null,null,null,null,null,null,null,null,null,null,null,null,null,null,null,null,null,null,null,null,null,null,null,null,null,null,2065,"非住宅","S造",{"$f":"INDEX(#REF!, 9 + QUOTIENT(ROW(AL860)-2, 10), 1 + MOD(ROW(AL860)-2, 10))","v":{"$error":"#REF!"}}]
[null,null,null,null,null,null,null,null,null,null,null,null,null,null,null,null,null,null,null,null,null,null,null,null,null,null,null,null,null,null,null,null,null,null,2065,"非住宅","その他",{"$f":"INDEX(#REF!, 9 + QUOTIENT(ROW(AL861)-2, 10), 1 + MOD(ROW(AL861)-2, 10))","v":{"$error":"#REF!"}}]
[null,null,null,null,null,null,null,null,null,null,null,null,null,null,null,null,null,null,null,null,null,null,null,null,null,null,null,null,null,null,null,null,null,null,2066,"住宅","木造",{"$f":"INDEX(#REF!, 9 + QUOTIENT(ROW(AL862)-2, 10), 1 + MOD(ROW(AL862)-2, 10))","v":{"$error":"#REF!"}}]
[null,null,null,null,null,null,null,null,null,null,null,null,null,null,null,null,null,null,null,null,null,null,null,null,null,null,null,null,null,null,null,null,null,null,2066,"住宅","SRC造",{"$f":"INDEX(#REF!, 9 + QUOTIENT(ROW(AL863)-2, 10), 1 + MOD(ROW(AL863)-2, 10))","v":{"$error":"#REF!"}}]
[null,null,null,null,null,null,null,null,null,null,null,null,null,null,null,null,null,null,null,null,null,null,null,null,null,null,null,null,null,null,null,null,null,null,2066,"住宅","RC造",{"$f":"INDEX(#REF!, 9 + QUOTIENT(ROW(AL864)-2, 10), 1 + MOD(ROW(AL864)-2, 10))","v":{"$error":"#REF!"}}]
[null,null,null,null,null,null,null,null,null,null,null,null,null,null,null,null,null,null,null,null,null,null,null,null,null,null,null,null,null,null,null,null,null,null,2066,"住宅","S造",{"$f":"INDEX(#REF!, 9 + QUOTIENT(ROW(AL865)-2, 10), 1 + MOD(ROW(AL865)-2, 10))","v":{"$error":"#REF!"}}]
[null,null,null,null,null,null,null,null,null,null,null,null,null,null,null,null,null,null,null,null,null,null,null,null,null,null,null,null,null,null,null,null,null,null,2066,"住宅","その他",{"$f":"INDEX(#REF!, 9 + QUOTIENT(ROW(AL866)-2, 10), 1 + MOD(ROW(AL866)-2, 10))","v":{"$error":"#REF!"}}]
[null,null,null,null,null,null,null,null,null,null,null,null,null,null,null,null,null,null,null,null,null,null,null,null,null,null,null,null,null,null,null,null,null,null,2066,"非住宅","木造",{"$f":"INDEX(#REF!, 9 + QUOTIENT(ROW(AL867)-2, 10), 1 + MOD(ROW(AL867)-2, 10))","v":{"$error":"#REF!"}}]
[null,null,null,null,null,null,null,null,null,null,null,null,null,null,null,null,null,null,null,null,null,null,null,null,null,null,null,null,null,null,null,null,null,null,2066,"非住宅","SRC造",{"$f":"INDEX(#REF!, 9 + QUOTIENT(ROW(AL868)-2, 10), 1 + MOD(ROW(AL868)-2, 10))","v":{"$error":"#REF!"}}]
[null,null,null,null,null,null,null,null,null,null,null,null,null,null,null,null,null,null,null,null,null,null,null,null,null,null,null,null,null,null,null,null,null,null,2066,"非住宅","RC造",{"$f":"INDEX(#REF!, 9 + QUOTIENT(ROW(AL869)-2, 10), 1 + MOD(ROW(AL869)-2, 10))","v":{"$error":"#REF!"}}]
[null,null,null,null,null,null,null,null,null,null,null,null,null,null,null,null,null,null,null,null,null,null,null,null,null,null,null,null,null,null,null,null,null,null,2066,"非住宅","S造",{"$f":"INDEX(#REF!, 9 + QUOTIENT(ROW(AL870)-2, 10), 1 + MOD(ROW(AL870)-2, 10))","v":{"$error":"#REF!"}}]
[null,null,null,null,null,null,null,null,null,null,null,null,null,null,null,null,null,null,null,null,null,null,null,null,null,null,null,null,null,null,null,null,null,null,2066,"非住宅","その他",{"$f":"INDEX(#REF!, 9 + QUOTIENT(ROW(AL871)-2, 10), 1 + MOD(ROW(AL871)-2, 10))","v":{"$error":"#REF!"}}]
[null,null,null,null,null,null,null,null,null,null,null,null,null,null,null,null,null,null,null,null,null,null,null,null,null,null,null,null,null,null,null,null,null,null,2067,"住宅","木造",{"$f":"INDEX(#REF!, 9 + QUOTIENT(ROW(AL872)-2, 10), 1 + MOD(ROW(AL872)-2, 10))","v":{"$error":"#REF!"}}]
[null,null,null,null,null,null,null,null,null,null,null,null,null,null,null,null,null,null,null,null,null,null,null,null,null,null,null,null,null,null,null,null,null,null,2067,"住宅","SRC造",{"$f":"INDEX(#REF!, 9 + QUOTIENT(ROW(AL873)-2, 10), 1 + MOD(ROW(AL873)-2, 10))","v":{"$error":"#REF!"}}]
[null,null,null,null,null,null,null,null,null,null,null,null,null,null,null,null,null,null,null,null,null,null,null,null,null,null,null,null,null,null,null,null,null,null,2067,"住宅","RC造",{"$f":"INDEX(#REF!, 9 + QUOTIENT(ROW(AL874)-2, 10), 1 + MOD(ROW(AL874)-2, 10))","v":{"$error":"#REF!"}}]
[null,null,null,null,null,null,null,null,null,null,null,null,null,null,null,null,null,null,null,null,null,null,null,null,null,null,null,null,null,null,null,null,null,null,2067,"住宅","S造",{"$f":"INDEX(#REF!, 9 + QUOTIENT(ROW(AL875)-2, 10), 1 + MOD(ROW(AL875)-2, 10))","v":{"$error":"#REF!"}}]
[null,null,null,null,null,null,null,null,null,null,null,null,null,null,null,null,null,null,null,null,null,null,null,null,null,null,null,null,null,null,null,null,null,null,2067,"住宅","その他",{"$f":"INDEX(#REF!, 9 + QUOTIENT(ROW(AL876)-2, 10), 1 + MOD(ROW(AL876)-2, 10))","v":{"$error":"#REF!"}}]
[null,null,null,null,null,null,null,null,null,null,null,null,null,null,null,null,null,null,null,null,null,null,null,null,null,null,null,null,null,null,null,null,null,null,2067,"非住宅","木造",{"$f":"INDEX(#REF!, 9 + QUOTIENT(ROW(AL877)-2, 10), 1 + MOD(ROW(AL877)-2, 10))","v":{"$error":"#REF!"}}]
[null,null,null,null,null,null,null,null,null,null,null,null,null,null,null,null,null,null,null,null,null,null,null,null,null,null,null,null,null,null,null,null,null,null,2067,"非住宅","SRC造",{"$f":"INDEX(#REF!, 9 + QUOTIENT(ROW(AL878)-2, 10), 1 + MOD(ROW(AL878)-2, 10))","v":{"$error":"#REF!"}}]
[null,null,null,null,null,null,null,null,null,null,null,null,null,null,null,null,null,null,null,null,null,null,null,null,null,null,null,null,null,null,null,null,null,null,2067,"非住宅","RC造",{"$f":"INDEX(#REF!, 9 + QUOTIENT(ROW(AL879)-2, 10), 1 + MOD(ROW(AL879)-2, 10))","v":{"$error":"#REF!"}}]
[null,null,null,null,null,null,null,null,null,null,null,null,null,null,null,null,null,null,null,null,null,null,null,null,null,null,null,null,null,null,null,null,null,null,2067,"非住宅","S造",{"$f":"INDEX(#REF!, 9 + QUOTIENT(ROW(AL880)-2, 10), 1 + MOD(ROW(AL880)-2, 10))","v":{"$error":"#REF!"}}]
[null,null,null,null,null,null,null,null,null,null,null,null,null,null,null,null,null,null,null,null,null,null,null,null,null,null,null,null,null,null,null,null,null,null,2067,"非住宅","その他",{"$f":"INDEX(#REF!, 9 + QUOTIENT(ROW(AL881)-2, 10), 1 + MOD(ROW(AL881)-2, 10))","v":{"$error":"#REF!"}}]
[null,null,null,null,null,null,null,null,null,null,null,null,null,null,null,null,null,null,null,null,null,null,null,null,null,null,null,null,null,null,null,null,null,null,2068,"住宅","木造",{"$f":"INDEX(#REF!, 9 + QUOTIENT(ROW(AL882)-2, 10), 1 + MOD(ROW(AL882)-2, 10))","v":{"$error":"#REF!"}}]
[null,null,null,null,null,null,null,null,null,null,null,null,null,null,null,null,null,null,null,null,null,null,null,null,null,null,null,null,null,null,null,null,null,null,2068,"住宅","SRC造",{"$f":"INDEX(#REF!, 9 + QUOTIENT(ROW(AL883)-2, 10), 1 + MOD(ROW(AL883)-2, 10))","v":{"$error":"#REF!"}}]
[null,null,null,null,null,null,null,null,null,null,null,null,null,null,null,null,null,null,null,null,null,null,null,null,null,null,null,null,null,null,null,null,null,null,2068,"住宅","RC造",{"$f":"INDEX(#REF!, 9 + QUOTIENT(ROW(AL884)-2, 10), 1 + MOD(ROW(AL884)-2, 10))","v":{"$error":"#REF!"}}]
[null,null,null,null,null,null,null,null,null,null,null,null,null,null,null,null,null,null,null,null,null,null,null,null,null,null,null,null,null,null,null,null,null,null,2068,"住宅","S造",{"$f":"INDEX(#REF!, 9 + QUOTIENT(ROW(AL885)-2, 10), 1 + MOD(ROW(AL885)-2, 10))","v":{"$error":"#REF!"}}]
[null,null,null,null,null,null,null,null,null,null,null,null,null,null,null,null,null,null,null,null,null,null,null,null,null,null,null,null,null,null,null,null,null,null,2068,"住宅","その他",{"$f":"INDEX(#REF!, 9 + QUOTIENT(ROW(AL886)-2, 10), 1 + MOD(ROW(AL886)-2, 10))","v":{"$error":"#REF!"}}]
[null,null,null,null,null,null,null,null,null,null,null,null,null,null,null,null,null,null,null,null,null,null,null,null,null,null,null,null,null,null,null,null,null,null,2068,"非住宅","木造",{"$f":"INDEX(#REF!, 9 + QUOTIENT(ROW(AL887)-2, 10), 1 + MOD(ROW(AL887)-2, 10))","v":{"$error":"#REF!"}}]
[null,null,null,null,null,null,null,null,null,null,null,null,null,null,null,null,null,null,null,null,null,null,null,null,null,null,null,null,null,null,null,null,null,null,2068,"非住宅","SRC造",{"$f":"INDEX(#REF!, 9 + QUOTIENT(ROW(AL888)-2, 10), 1 + MOD(ROW(AL888)-2, 10))","v":{"$error":"#REF!"}}]
[null,null,null,null,null,null,null,null,null,null,null,null,null,null,null,null,null,null,null,null,null,null,null,null,null,null,null,null,null,null,null,null,null,null,2068,"非住宅","RC造",{"$f":"INDEX(#REF!, 9 + QUOTIENT(ROW(AL889)-2, 10), 1 + MOD(ROW(AL889)-2, 10))","v":{"$error":"#REF!"}}]
[null,null,null,null,null,null,null,null,null,null,null,null,null,null,null,null,null,null,null,null,null,null,null,null,null,null,null,null,null,null,null,null,null,null,2068,"非住宅","S造",{"$f":"INDEX(#REF!, 9 + QUOTIENT(ROW(AL890)-2, 10), 1 + MOD(ROW(AL890)-2, 10))","v":{"$error":"#REF!"}}]
[null,null,null,null,null,null,null,null,null,null,null,null,null,null,null,null,null,null,null,null,null,null,null,null,null,null,null,null,null,null,null,null,null,null,2068,"非住宅","その他",{"$f":"INDEX(#REF!, 9 + QUOTIENT(ROW(AL891)-2, 10), 1 + MOD(ROW(AL891)-2, 10))","v":{"$error":"#REF!"}}]
[null,null,null,null,null,null,null,null,null,null,null,null,null,null,null,null,null,null,null,null,null,null,null,null,null,null,null,null,null,null,null,null,null,null,2069,"住宅","木造",{"$f":"INDEX(#REF!, 9 + QUOTIENT(ROW(AL892)-2, 10), 1 + MOD(ROW(AL892)-2, 10))","v":{"$error":"#REF!"}}]
[null,null,null,null,null,null,null,null,null,null,null,null,null,null,null,null,null,null,null,null,null,null,null,null,null,null,null,null,null,null,null,null,null,null,2069,"住宅","SRC造",{"$f":"INDEX(#REF!, 9 + QUOTIENT(ROW(AL893)-2, 10), 1 + MOD(ROW(AL893)-2, 10))","v":{"$error":"#REF!"}}]
[null,null,null,null,null,null,null,null,null,null,null,null,null,null,null,null,null,null,null,null,null,null,null,null,null,null,null,null,null,null,null,null,null,null,2069,"住宅","RC造",{"$f":"INDEX(#REF!, 9 + QUOTIENT(ROW(AL894)-2, 10), 1 + MOD(ROW(AL894)-2, 10))","v":{"$error":"#REF!"}}]
[null,null,null,null,null,null,null,null,null,null,null,null,null,null,null,null,null,null,null,null,null,null,null,null,null,null,null,null,null,null,null,null,null,null,2069,"住宅","S造",{"$f":"INDEX(#REF!, 9 + QUOTIENT(ROW(AL895)-2, 10), 1 + MOD(ROW(AL895)-2, 10))","v":{"$error":"#REF!"}}]
[null,null,null,null,null,null,null,null,null,null,null,null,null,null,null,null,null,null,null,null,null,null,null,null,null,null,null,null,null,null,null,null,null,null,2069,"住宅","その他",{"$f":"INDEX(#REF!, 9 + QUOTIENT(ROW(AL896)-2, 10), 1 + MOD(ROW(AL896)-2, 10))","v":{"$error":"#REF!"}}]
[null,null,null,null,null,null,null,null,null,null,null,null,null,null,null,null,null,null,null,null,null,null,null,null,null,null,null,null,null,null,null,null,null,null,2069,"非住宅","木造",{"$f":"INDEX(#REF!, 9 + QUOTIENT(ROW(AL897)-2, 10), 1 + MOD(ROW(AL897)-2, 10))","v":{"$error":"#REF!"}}]
[null,null,null,null,null,null,null,null,null,null,null,null,null,null,null,null,null,null,null,null,null,null,null,null,null,null,null,null,null,null,null,null,null,null,2069,"非住宅","SRC造",{"$f":"INDEX(#REF!, 9 + QUOTIENT(ROW(AL898)-2, 10), 1 + MOD(ROW(AL898)-2, 10))","v":{"$error":"#REF!"}}]
[null,null,null,null,null,null,null,null,null,null,null,null,null,null,null,null,null,null,null,null,null,null,null,null,null,null,null,null,null,null,null,null,null,null,2069,"非住宅","RC造",{"$f":"INDEX(#REF!, 9 + QUOTIENT(ROW(AL899)-2, 10), 1 + MOD(ROW(AL899)-2, 10))","v":{"$error":"#REF!"}}]
[null,null,null,null,null,null,null,null,null,null,null,null,null,null,null,null,null,null,null,null,null,null,null,null,null,null,null,null,null,null,null,null,null,null,2069,"非住宅","S造",{"$f":"INDEX(#REF!, 9 + QUOTIENT(ROW(AL900)-2, 10), 1 + MOD(ROW(AL900)-2, 10))","v":{"$error":"#REF!"}}]
[null,null,null,null,null,null,null,null,null,null,null,null,null,null,null,null,null,null,null,null,null,null,null,null,null,null,null,null,null,null,null,null,null,null,2069,"非住宅","その他",{"$f":"INDEX(#REF!, 9 + QUOTIENT(ROW(AL901)-2, 10), 1 + MOD(ROW(AL901)-2, 10))","v":{"$error":"#REF!"}}]
[null,null,null,null,null,null,null,null,null,null,null,null,null,null,null,null,null,null,null,null,null,null,null,null,null,null,null,null,null,null,null,null,null,null,2070,"住宅","木造",{"$f":"INDEX(#REF!, 9 + QUOTIENT(ROW(AL902)-2, 10), 1 + MOD(ROW(AL902)-2, 10))","v":{"$error":"#REF!"}}]
[null,null,null,null,null,null,null,null,null,null,null,null,null,null,null,null,null,null,null,null,null,null,null,null,null,null,null,null,null,null,null,null,null,null,2070,"住宅","SRC造",{"$f":"INDEX(#REF!, 9 + QUOTIENT(ROW(AL903)-2, 10), 1 + MOD(ROW(AL903)-2, 10))","v":{"$error":"#REF!"}}]
[null,null,null,null,null,null,null,null,null,null,null,null,null,null,null,null,null,null,null,null,null,null,null,null,null,null,null,null,null,null,null,null,null,null,2070,"住宅","RC造",{"$f":"INDEX(#REF!, 9 + QUOTIENT(ROW(AL904)-2, 10), 1 + MOD(ROW(AL904)-2, 10))","v":{"$error":"#REF!"}}]
[null,null,null,null,null,null,null,null,null,null,null,null,null,null,null,null,null,null,null,null,null,null,null,null,null,null,null,null,null,null,null,null,null,null,2070,"住宅","S造",{"$f":"INDEX(#REF!, 9 + QUOTIENT(ROW(AL905)-2, 10), 1 + MOD(ROW(AL905)-2, 10))","v":{"$error":"#REF!"}}]
[null,null,null,null,null,null,null,null,null,null,null,null,null,null,null,null,null,null,null,null,null,null,null,null,null,null,null,null,null,null,null,null,null,null,2070,"住宅","その他",{"$f":"INDEX(#REF!, 9 + QUOTIENT(ROW(AL906)-2, 10), 1 + MOD(ROW(AL906)-2, 10))","v":{"$error":"#REF!"}}]
[null,null,null,null,null,null,null,null,null,null,null,null,null,null,null,null,null,null,null,null,null,null,null,null,null,null,null,null,null,null,null,null,null,null,2070,"非住宅","木造",{"$f":"INDEX(#REF!, 9 + QUOTIENT(ROW(AL907)-2, 10), 1 + MOD(ROW(AL907)-2, 10))","v":{"$error":"#REF!"}}]
[null,null,null,null,null,null,null,null,null,null,null,null,null,null,null,null,null,null,null,null,null,null,null,null,null,null,null,null,null,null,null,null,null,null,2070,"非住宅","SRC造",{"$f":"INDEX(#REF!, 9 + QUOTIENT(ROW(AL908)-2, 10), 1 + MOD(ROW(AL908)-2, 10))","v":{"$error":"#REF!"}}]
[null,null,null,null,null,null,null,null,null,null,null,null,null,null,null,null,null,null,null,null,null,null,null,null,null,null,null,null,null,null,null,null,null,null,2070,"非住宅","RC造",{"$f":"INDEX(#REF!, 9 + QUOTIENT(ROW(AL909)-2, 10), 1 + MOD(ROW(AL909)-2, 10))","v":{"$error":"#REF!"}}]
[null,null,null,null,null,null,null,null,null,null,null,null,null,null,null,null,null,null,null,null,null,null,null,null,null,null,null,null,null,null,null,null,null,null,2070,"非住宅","S造",{"$f":"INDEX(#REF!, 9 + QUOTIENT(ROW(AL910)-2, 10), 1 + MOD(ROW(AL910)-2, 10))","v":{"$error":"#REF!"}}]
[null,null,null,null,null,null,null,null,null,null,null,null,null,null,null,null,null,null,null,null,null,null,null,null,null,null,null,null,null,null,null,null,null,null,2070,"非住宅","その他",{"$f":"INDEX(#REF!, 9 + QUOTIENT(ROW(AL911)-2, 10), 1 + MOD(ROW(AL911)-2, 10))","v":{"$error":"#REF!"}}]
[null,null,null,null,null,null,null,null,null,null,null,null,null,null,null,null,null,null,null,null,null,null,null,null,null,null,null,null,null,null,null,null,null,null,2071,"住宅","木造",{"$f":"INDEX(#REF!, 9 + QUOTIENT(ROW(AL912)-2, 10), 1 + MOD(ROW(AL912)-2, 10))","v":{"$error":"#REF!"}}]
[null,null,null,null,null,null,null,null,null,null,null,null,null,null,null,null,null,null,null,null,null,null,null,null,null,null,null,null,null,null,null,null,null,null,2071,"住宅","SRC造",{"$f":"INDEX(#REF!, 9 + QUOTIENT(ROW(AL913)-2, 10), 1 + MOD(ROW(AL913)-2, 10))","v":{"$error":"#REF!"}}]
[null,null,null,null,null,null,null,null,null,null,null,null,null,null,null,null,null,null,null,null,null,null,null,null,null,null,null,null,null,null,null,null,null,null,2071,"住宅","RC造",{"$f":"INDEX(#REF!, 9 + QUOTIENT(ROW(AL914)-2, 10), 1 + MOD(ROW(AL914)-2, 10))","v":{"$error":"#REF!"}}]
[null,null,null,null,null,null,null,null,null,null,null,null,null,null,null,null,null,null,null,null,null,null,null,null,null,null,null,null,null,null,null,null,null,null,2071,"住宅","S造",{"$f":"INDEX(#REF!, 9 + QUOTIENT(ROW(AL915)-2, 10), 1 + MOD(ROW(AL915)-2, 10))","v":{"$error":"#REF!"}}]
[null,null,null,null,null,null,null,null,null,null,null,null,null,null,null,null,null,null,null,null,null,null,null,null,null,null,null,null,null,null,null,null,null,null,2071,"住宅","その他",{"$f":"INDEX(#REF!, 9 + QUOTIENT(ROW(AL916)-2, 10), 1 + MOD(ROW(AL916)-2, 10))","v":{"$error":"#REF!"}}]
[null,null,null,null,null,null,null,null,null,null,null,null,null,null,null,null,null,null,null,null,null,null,null,null,null,null,null,null,null,null,null,null,null,null,2071,"非住宅","木造",{"$f":"INDEX(#REF!, 9 + QUOTIENT(ROW(AL917)-2, 10), 1 + MOD(ROW(AL917)-2, 10))","v":{"$error":"#REF!"}}]
[null,null,null,null,null,null,null,null,null,null,null,null,null,null,null,null,null,null,null,null,null,null,null,null,null,null,null,null,null,null,null,null,null,null,2071,"非住宅","SRC造",{"$f":"INDEX(#REF!, 9 + QUOTIENT(ROW(AL918)-2, 10), 1 + MOD(ROW(AL918)-2, 10))","v":{"$error":"#REF!"}}]
[null,null,null,null,null,null,null,null,null,null,null,null,null,null,null,null,null,null,null,null,null,null,null,null,null,null,null,null,null,null,null,null,null,null,2071,"非住宅","RC造",{"$f":"INDEX(#REF!, 9 + QUOTIENT(ROW(AL919)-2, 10), 1 + MOD(ROW(AL919)-2, 10))","v":{"$error":"#REF!"}}]
[null,null,null,null,null,null,null,null,null,null,null,null,null,null,null,null,null,null,null,null,null,null,null,null,null,null,null,null,null,null,null,null,null,null,2071,"非住宅","S造",{"$f":"INDEX(#REF!, 9 + QUOTIENT(ROW(AL920)-2, 10), 1 + MOD(ROW(AL920)-2, 10))","v":{"$error":"#REF!"}}]
[null,null,null,null,null,null,null,null,null,null,null,null,null,null,null,null,null,null,null,null,null,null,null,null,null,null,null,null,null,null,null,null,null,null,2071,"非住宅","その他",{"$f":"INDEX(#REF!, 9 + QUOTIENT(ROW(AL921)-2, 10), 1 + MOD(ROW(AL921)-2, 10))","v":{"$error":"#REF!"}}]
[null,null,null,null,null,null,null,null,null,null,null,null,null,null,null,null,null,null,null,null,null,null,null,null,null,null,null,null,null,null,null,null,null,null,2072,"住宅","木造",{"$f":"INDEX(#REF!, 9 + QUOTIENT(ROW(AL922)-2, 10), 1 + MOD(ROW(AL922)-2, 10))","v":{"$error":"#REF!"}}]
[null,null,null,null,null,null,null,null,null,null,null,null,null,null,null,null,null,null,null,null,null,null,null,null,null,null,null,null,null,null,null,null,null,null,2072,"住宅","SRC造",{"$f":"INDEX(#REF!, 9 + QUOTIENT(ROW(AL923)-2, 10), 1 + MOD(ROW(AL923)-2, 10))","v":{"$error":"#REF!"}}]
[null,null,null,null,null,null,null,null,null,null,null,null,null,null,null,null,null,null,null,null,null,null,null,null,null,null,null,null,null,null,null,null,null,null,2072,"住宅","RC造",{"$f":"INDEX(#REF!, 9 + QUOTIENT(ROW(AL924)-2, 10), 1 + MOD(ROW(AL924)-2, 10))","v":{"$error":"#REF!"}}]
[null,null,null,null,null,null,null,null,null,null,null,null,null,null,null,null,null,null,null,null,null,null,null,null,null,null,null,null,null,null,null,null,null,null,2072,"住宅","S造",{"$f":"INDEX(#REF!, 9 + QUOTIENT(ROW(AL925)-2, 10), 1 + MOD(ROW(AL925)-2, 10))","v":{"$error":"#REF!"}}]
[null,null,null,null,null,null,null,null,null,null,null,null,null,null,null,null,null,null,null,null,null,null,null,null,null,null,null,null,null,null,null,null,null,null,2072,"住宅","その他",{"$f":"INDEX(#REF!, 9 + QUOTIENT(ROW(AL926)-2, 10), 1 + MOD(ROW(AL926)-2, 10))","v":{"$error":"#REF!"}}]
[null,null,null,null,null,null,null,null,null,null,null,null,null,null,null,null,null,null,null,null,null,null,null,null,null,null,null,null,null,null,null,null,null,null,2072,"非住宅","木造",{"$f":"INDEX(#REF!, 9 + QUOTIENT(ROW(AL927)-2, 10), 1 + MOD(ROW(AL927)-2, 10))","v":{"$error":"#REF!"}}]
[null,null,null,null,null,null,null,null,null,null,null,null,null,null,null,null,null,null,null,null,null,null,null,null,null,null,null,null,null,null,null,null,null,null,2072,"非住宅","SRC造",{"$f":"INDEX(#REF!, 9 + QUOTIENT(ROW(AL928)-2, 10), 1 + MOD(ROW(AL928)-2, 10))","v":{"$error":"#REF!"}}]
[null,null,null,null,null,null,null,null,null,null,null,null,null,null,null,null,null,null,null,null,null,null,null,null,null,null,null,null,null,null,null,null,null,null,2072,"非住宅","RC造",{"$f":"INDEX(#REF!, 9 + QUOTIENT(ROW(AL929)-2, 10), 1 + MOD(ROW(AL929)-2, 10))","v":{"$error":"#REF!"}}]
[null,null,null,null,null,null,null,null,null,null,null,null,null,null,null,null,null,null,null,null,null,null,null,null,null,null,null,null,null,null,null,null,null,null,2072,"非住宅","S造",{"$f":"INDEX(#REF!, 9 + QUOTIENT(ROW(AL930)-2, 10), 1 + MOD(ROW(AL930)-2, 10))","v":{"$error":"#REF!"}}]
[null,null,null,null,null,null,null,null,null,null,null,null,null,null,null,null,null,null,null,null,null,null,null,null,null,null,null,null,null,null,null,null,null,null,2072,"非住宅","その他",{"$f":"INDEX(#REF!, 9 + QUOTIENT(ROW(AL931)-2, 10), 1 + MOD(ROW(AL931)-2, 10))","v":{"$error":"#REF!"}}]
[null,null,null,null,null,null,null,null,null,null,null,null,null,null,null,null,null,null,null,null,null,null,null,null,null,null,null,null,null,null,null,null,null,null,2073,"住宅","木造",{"$f":"INDEX(#REF!, 9 + QUOTIENT(ROW(AL932)-2, 10), 1 + MOD(ROW(AL932)-2, 10))","v":{"$error":"#REF!"}}]
[null,null,null,null,null,null,null,null,null,null,null,null,null,null,null,null,null,null,null,null,null,null,null,null,null,null,null,null,null,null,null,null,null,null,2073,"住宅","SRC造",{"$f":"INDEX(#REF!, 9 + QUOTIENT(ROW(AL933)-2, 10), 1 + MOD(ROW(AL933)-2, 10))","v":{"$error":"#REF!"}}]
[null,null,null,null,null,null,null,null,null,null,null,null,null,null,null,null,null,null,null,null,null,null,null,null,null,null,null,null,null,null,null,null,null,null,2073,"住宅","RC造",{"$f":"INDEX(#REF!, 9 + QUOTIENT(ROW(AL934)-2, 10), 1 + MOD(ROW(AL934)-2, 10))","v":{"$error":"#REF!"}}]
[null,null,null,null,null,null,null,null,null,null,null,null,null,null,null,null,null,null,null,null,null,null,null,null,null,null,null,null,null,null,null,null,null,null,2073,"住宅","S造",{"$f":"INDEX(#REF!, 9 + QUOTIENT(ROW(AL935)-2, 10), 1 + MOD(ROW(AL935)-2, 10))","v":{"$error":"#REF!"}}]
[null,null,null,null,null,null,null,null,null,null,null,null,null,null,null,null,null,null,null,null,null,null,null,null,null,null,null,null,null,null,null,null,null,null,2073,"住宅","その他",{"$f":"INDEX(#REF!, 9 + QUOTIENT(ROW(AL936)-2, 10), 1 + MOD(ROW(AL936)-2, 10))","v":{"$error":"#REF!"}}]
[null,null,null,null,null,null,null,null,null,null,null,null,null,null,null,null,null,null,null,null,null,null,null,null,null,null,null,null,null,null,null,null,null,null,2073,"非住宅","木造",{"$f":"INDEX(#REF!, 9 + QUOTIENT(ROW(AL937)-2, 10), 1 + MOD(ROW(AL937)-2, 10))","v":{"$error":"#REF!"}}]
[null,null,null,null,null,null,null,null,null,null,null,null,null,null,null,null,null,null,null,null,null,null,null,null,null,null,null,null,null,null,null,null,null,null,2073,"非住宅","SRC造",{"$f":"INDEX(#REF!, 9 + QUOTIENT(ROW(AL938)-2, 10), 1 + MOD(ROW(AL938)-2, 10))","v":{"$error":"#REF!"}}]
[null,null,null,null,null,null,null,null,null,null,null,null,null,null,null,null,null,null,null,null,null,null,null,null,null,null,null,null,null,null,null,null,null,null,2073,"非住宅","RC造",{"$f":"INDEX(#REF!, 9 + QUOTIENT(ROW(AL939)-2, 10), 1 + MOD(ROW(AL939)-2, 10))","v":{"$error":"#REF!"}}]
[null,null,null,null,null,null,null,null,null,null,null,null,null,null,null,null,null,null,null,null,null,null,null,null,null,null,null,null,null,null,null,null,null,null,2073,"非住宅","S造",{"$f":"INDEX(#REF!, 9 + QUOTIENT(ROW(AL940)-2, 10), 1 + MOD(ROW(AL940)-2, 10))","v":{"$error":"#REF!"}}]
[null,null,null,null,null,null,null,null,null,null,null,null,null,null,null,null,null,null,null,null,null,null,null,null,null,null,null,null,null,null,null,null,null,null,2073,"非住宅","その他",{"$f":"INDEX(#REF!, 9 + QUOTIENT(ROW(AL941)-2, 10), 1 + MOD(ROW(AL941)-2, 10))","v":{"$error":"#REF!"}}]
[null,null,null,null,null,null,null,null,null,null,null,null,null,null,null,null,null,null,null,null,null,null,null,null,null,null,null,null,null,null,null,null,null,null,2074,"住宅","木造",{"$f":"INDEX(#REF!, 9 + QUOTIENT(ROW(AL942)-2, 10), 1 + MOD(ROW(AL942)-2, 10))","v":{"$error":"#REF!"}}]
[null,null,null,null,null,null,null,null,null,null,null,null,null,null,null,null,null,null,null,null,null,null,null,null,null,null,null,null,null,null,null,null,null,null,2074,"住宅","SRC造",{"$f":"INDEX(#REF!, 9 + QUOTIENT(ROW(AL943)-2, 10), 1 + MOD(ROW(AL943)-2, 10))","v":{"$error":"#REF!"}}]
[null,null,null,null,null,null,null,null,null,null,null,null,null,null,null,null,null,null,null,null,null,null,null,null,null,null,null,null,null,null,null,null,null,null,2074,"住宅","RC造",{"$f":"INDEX(#REF!, 9 + QUOTIENT(ROW(AL944)-2, 10), 1 + MOD(ROW(AL944)-2, 10))","v":{"$error":"#REF!"}}]
[null,null,null,null,null,null,null,null,null,null,null,null,null,null,null,null,null,null,null,null,null,null,null,null,null,null,null,null,null,null,null,null,null,null,2074,"住宅","S造",{"$f":"INDEX(#REF!, 9 + QUOTIENT(ROW(AL945)-2, 10), 1 + MOD(ROW(AL945)-2, 10))","v":{"$error":"#REF!"}}]
[null,null,null,null,null,null,null,null,null,null,null,null,null,null,null,null,null,null,null,null,null,null,null,null,null,null,null,null,null,null,null,null,null,null,2074,"住宅","その他",{"$f":"INDEX(#REF!, 9 + QUOTIENT(ROW(AL946)-2, 10), 1 + MOD(ROW(AL946)-2, 10))","v":{"$error":"#REF!"}}]
[null,null,null,null,null,null,null,null,null,null,null,null,null,null,null,null,null,null,null,null,null,null,null,null,null,null,null,null,null,null,null,null,null,null,2074,"非住宅","木造",{"$f":"INDEX(#REF!, 9 + QUOTIENT(ROW(AL947)-2, 10), 1 + MOD(ROW(AL947)-2, 10))","v":{"$error":"#REF!"}}]
[null,null,null,null,null,null,null,null,null,null,null,null,null,null,null,null,null,null,null,null,null,null,null,null,null,null,null,null,null,null,null,null,null,null,2074,"非住宅","SRC造",{"$f":"INDEX(#REF!, 9 + QUOTIENT(ROW(AL948)-2, 10), 1 + MOD(ROW(AL948)-2, 10))","v":{"$error":"#REF!"}}]
[null,null,null,null,null,null,null,null,null,null,null,null,null,null,null,null,null,null,null,null,null,null,null,null,null,null,null,null,null,null,null,null,null,null,2074,"非住宅","RC造",{"$f":"INDEX(#REF!, 9 + QUOTIENT(ROW(AL949)-2, 10), 1 + MOD(ROW(AL949)-2, 10))","v":{"$error":"#REF!"}}]
[null,null,null,null,null,null,null,null,null,null,null,null,null,null,null,null,null,null,null,null,null,null,null,null,null,null,null,null,null,null,null,null,null,null,2074,"非住宅","S造",{"$f":"INDEX(#REF!, 9 + QUOTIENT(ROW(AL950)-2, 10), 1 + MOD(ROW(AL950)-2, 10))","v":{"$error":"#REF!"}}]
[null,null,null,null,null,null,null,null,null,null,null,null,null,null,null,null,null,null,null,null,null,null,null,null,null,null,null,null,null,null,null,null,null,null,2074,"非住宅","その他",{"$f":"INDEX(#REF!, 9 + QUOTIENT(ROW(AL951)-2, 10), 1 + MOD(ROW(AL951)-2, 10))","v":{"$error":"#REF!"}}]
[null,null,null,null,null,null,null,null,null,null,null,null,null,null,null,null,null,null,null,null,null,null,null,null,null,null,null,null,null,null,null,null,null,null,2075,"住宅","木造",{"$f":"INDEX(#REF!, 9 + QUOTIENT(ROW(AL952)-2, 10), 1 + MOD(ROW(AL952)-2, 10))","v":{"$error":"#REF!"}}]
[null,null,null,null,null,null,null,null,null,null,null,null,null,null,null,null,null,null,null,null,null,null,null,null,null,null,null,null,null,null,null,null,null,null,2075,"住宅","SRC造",{"$f":"INDEX(#REF!, 9 + QUOTIENT(ROW(AL953)-2, 10), 1 + MOD(ROW(AL953)-2, 10))","v":{"$error":"#REF!"}}]
[null,null,null,null,null,null,null,null,null,null,null,null,null,null,null,null,null,null,null,null,null,null,null,null,null,null,null,null,null,null,null,null,null,null,2075,"住宅","RC造",{"$f":"INDEX(#REF!, 9 + QUOTIENT(ROW(AL954)-2, 10), 1 + MOD(ROW(AL954)-2, 10))","v":{"$error":"#REF!"}}]
[null,null,null,null,null,null,null,null,null,null,null,null,null,null,null,null,null,null,null,null,null,null,null,null,null,null,null,null,null,null,null,null,null,null,2075,"住宅","S造",{"$f":"INDEX(#REF!, 9 + QUOTIENT(ROW(AL955)-2, 10), 1 + MOD(ROW(AL955)-2, 10))","v":{"$error":"#REF!"}}]
[null,null,null,null,null,null,null,null,null,null,null,null,null,null,null,null,null,null,null,null,null,null,null,null,null,null,null,null,null,null,null,null,null,null,2075,"住宅","その他",{"$f":"INDEX(#REF!, 9 + QUOTIENT(ROW(AL956)-2, 10), 1 + MOD(ROW(AL956)-2, 10))","v":{"$error":"#REF!"}}]
[null,null,null,null,null,null,null,null,null,null,null,null,null,null,null,null,null,null,null,null,null,null,null,null,null,null,null,null,null,null,null,null,null,null,2075,"非住宅","木造",{"$f":"INDEX(#REF!, 9 + QUOTIENT(ROW(AL957)-2, 10), 1 + MOD(ROW(AL957)-2, 10))","v":{"$error":"#REF!"}}]
[null,null,null,null,null,null,null,null,null,null,null,null,null,null,null,null,null,null,null,null,null,null,null,null,null,null,null,null,null,null,null,null,null,null,2075,"非住宅","SRC造",{"$f":"INDEX(#REF!, 9 + QUOTIENT(ROW(AL958)-2, 10), 1 + MOD(ROW(AL958)-2, 10))","v":{"$error":"#REF!"}}]
[null,null,null,null,null,null,null,null,null,null,null,null,null,null,null,null,null,null,null,null,null,null,null,null,null,null,null,null,null,null,null,null,null,null,2075,"非住宅","RC造",{"$f":"INDEX(#REF!, 9 + QUOTIENT(ROW(AL959)-2, 10), 1 + MOD(ROW(AL959)-2, 10))","v":{"$error":"#REF!"}}]
[null,null,null,null,null,null,null,null,null,null,null,null,null,null,null,null,null,null,null,null,null,null,null,null,null,null,null,null,null,null,null,null,null,null,2075,"非住宅","S造",{"$f":"INDEX(#REF!, 9 + QUOTIENT(ROW(AL960)-2, 10), 1 + MOD(ROW(AL960)-2, 10))","v":{"$error":"#REF!"}}]
[null,null,null,null,null,null,null,null,null,null,null,null,null,null,null,null,null,null,null,null,null,null,null,null,null,null,null,null,null,null,null,null,null,null,2075,"非住宅","その他",{"$f":"INDEX(#REF!, 9 + QUOTIENT(ROW(AL961)-2, 10), 1 + MOD(ROW(AL961)-2, 10))","v":{"$error":"#REF!"}}]
[null,null,null,null,null,null,null,null,null,null,null,null,null,null,null,null,null,null,null,null,null,null,null,null,null,null,null,null,null,null,null,null,null,null,2076,"住宅","木造",{"$f":"INDEX(#REF!, 9 + QUOTIENT(ROW(AL962)-2, 10), 1 + MOD(ROW(AL962)-2, 10))","v":{"$error":"#REF!"}}]
[null,null,null,null,null,null,null,null,null,null,null,null,null,null,null,null,null,null,null,null,null,null,null,null,null,null,null,null,null,null,null,null,null,null,2076,"住宅","SRC造",{"$f":"INDEX(#REF!, 9 + QUOTIENT(ROW(AL963)-2, 10), 1 + MOD(ROW(AL963)-2, 10))","v":{"$error":"#REF!"}}]
[null,null,null,null,null,null,null,null,null,null,null,null,null,null,null,null,null,null,null,null,null,null,null,null,null,null,null,null,null,null,null,null,null,null,2076,"住宅","RC造",{"$f":"INDEX(#REF!, 9 + QUOTIENT(ROW(AL964)-2, 10), 1 + MOD(ROW(AL964)-2, 10))","v":{"$error":"#REF!"}}]
[null,null,null,null,null,null,null,null,null,null,null,null,null,null,null,null,null,null,null,null,null,null,null,null,null,null,null,null,null,null,null,null,null,null,2076,"住宅","S造",{"$f":"INDEX(#REF!, 9 + QUOTIENT(ROW(AL965)-2, 10), 1 + MOD(ROW(AL965)-2, 10))","v":{"$error":"#REF!"}}]
[null,null,null,null,null,null,null,null,null,null,null,null,null,null,null,null,null,null,null,null,null,null,null,null,null,null,null,null,null,null,null,null,null,null,2076,"住宅","その他",{"$f":"INDEX(#REF!, 9 + QUOTIENT(ROW(AL966)-2, 10), 1 + MOD(ROW(AL966)-2, 10))","v":{"$error":"#REF!"}}]
[null,null,null,null,null,null,null,null,null,null,null,null,null,null,null,null,null,null,null,null,null,null,null,null,null,null,null,null,null,null,null,null,null,null,2076,"非住宅","木造",{"$f":"INDEX(#REF!, 9 + QUOTIENT(ROW(AL967)-2, 10), 1 + MOD(ROW(AL967)-2, 10))","v":{"$error":"#REF!"}}]
[null,null,null,null,null,null,null,null,null,null,null,null,null,null,null,null,null,null,null,null,null,null,null,null,null,null,null,null,null,null,null,null,null,null,2076,"非住宅","SRC造",{"$f":"INDEX(#REF!, 9 + QUOTIENT(ROW(AL968)-2, 10), 1 + MOD(ROW(AL968)-2, 10))","v":{"$error":"#REF!"}}]
[null,null,null,null,null,null,null,null,null,null,null,null,null,null,null,null,null,null,null,null,null,null,null,null,null,null,null,null,null,null,null,null,null,null,2076,"非住宅","RC造",{"$f":"INDEX(#REF!, 9 + QUOTIENT(ROW(AL969)-2, 10), 1 + MOD(ROW(AL969)-2, 10))","v":{"$error":"#REF!"}}]
[null,null,null,null,null,null,null,null,null,null,null,null,null,null,null,null,null,null,null,null,null,null,null,null,null,null,null,null,null,null,null,null,null,null,2076,"非住宅","S造",{"$f":"INDEX(#REF!, 9 + QUOTIENT(ROW(AL970)-2, 10), 1 + MOD(ROW(AL970)-2, 10))","v":{"$error":"#REF!"}}]
[null,null,null,null,null,null,null,null,null,null,null,null,null,null,null,null,null,null,null,null,null,null,null,null,null,null,null,null,null,null,null,null,null,null,2076,"非住宅","その他",{"$f":"INDEX(#REF!, 9 + QUOTIENT(ROW(AL971)-2, 10), 1 + MOD(ROW(AL971)-2, 10))","v":{"$error":"#REF!"}}]
[null,null,null,null,null,null,null,null,null,null,null,null,null,null,null,null,null,null,null,null,null,null,null,null,null,null,null,null,null,null,null,null,null,null,2077,"住宅","木造",{"$f":"INDEX(#REF!, 9 + QUOTIENT(ROW(AL972)-2, 10), 1 + MOD(ROW(AL972)-2, 10))","v":{"$error":"#REF!"}}]
[null,null,null,null,null,null,null,null,null,null,null,null,null,null,null,null,null,null,null,null,null,null,null,null,null,null,null,null,null,null,null,null,null,null,2077,"住宅","SRC造",{"$f":"INDEX(#REF!, 9 + QUOTIENT(ROW(AL973)-2, 10), 1 + MOD(ROW(AL973)-2, 10))","v":{"$error":"#REF!"}}]
[null,null,null,null,null,null,null,null,null,null,null,null,null,null,null,null,null,null,null,null,null,null,null,null,null,null,null,null,null,null,null,null,null,null,2077,"住宅","RC造",{"$f":"INDEX(#REF!, 9 + QUOTIENT(ROW(AL974)-2, 10), 1 + MOD(ROW(AL974)-2, 10))","v":{"$error":"#REF!"}}]
[null,null,null,null,null,null,null,null,null,null,null,null,null,null,null,null,null,null,null,null,null,null,null,null,null,null,null,null,null,null,null,null,null,null,2077,"住宅","S造",{"$f":"INDEX(#REF!, 9 + QUOTIENT(ROW(AL975)-2, 10), 1 + MOD(ROW(AL975)-2, 10))","v":{"$error":"#REF!"}}]
[null,null,null,null,null,null,null,null,null,null,null,null,null,null,null,null,null,null,null,null,null,null,null,null,null,null,null,null,null,null,null,null,null,null,2077,"住宅","その他",{"$f":"INDEX(#REF!, 9 + QUOTIENT(ROW(AL976)-2, 10), 1 + MOD(ROW(AL976)-2, 10))","v":{"$error":"#REF!"}}]
[null,null,null,null,null,null,null,null,null,null,null,null,null,null,null,null,null,null,null,null,null,null,null,null,null,null,null,null,null,null,null,null,null,null,2077,"非住宅","木造",{"$f":"INDEX(#REF!, 9 + QUOTIENT(ROW(AL977)-2, 10), 1 + MOD(ROW(AL977)-2, 10))","v":{"$error":"#REF!"}}]
[null,null,null,null,null,null,null,null,null,null,null,null,null,null,null,null,null,null,null,null,null,null,null,null,null,null,null,null,null,null,null,null,null,null,2077,"非住宅","SRC造",{"$f":"INDEX(#REF!, 9 + QUOTIENT(ROW(AL978)-2, 10), 1 + MOD(ROW(AL978)-2, 10))","v":{"$error":"#REF!"}}]
[null,null,null,null,null,null,null,null,null,null,null,null,null,null,null,null,null,null,null,null,null,null,null,null,null,null,null,null,null,null,null,null,null,null,2077,"非住宅","RC造",{"$f":"INDEX(#REF!, 9 + QUOTIENT(ROW(AL979)-2, 10), 1 + MOD(ROW(AL979)-2, 10))","v":{"$error":"#REF!"}}]
[null,null,null,null,null,null,null,null,null,null,null,null,null,null,null,null,null,null,null,null,null,null,null,null,null,null,null,null,null,null,null,null,null,null,2077,"非住宅","S造",{"$f":"INDEX(#REF!, 9 + QUOTIENT(ROW(AL980)-2, 10), 1 + MOD(ROW(AL980)-2, 10))","v":{"$error":"#REF!"}}]
[null,null,null,null,null,null,null,null,null,null,null,null,null,null,null,null,null,null,null,null,null,null,null,null,null,null,null,null,null,null,null,null,null,null,2077,"非住宅","その他",{"$f":"INDEX(#REF!, 9 + QUOTIENT(ROW(AL981)-2, 10), 1 + MOD(ROW(AL981)-2, 10))","v":{"$error":"#REF!"}}]
[null,null,null,null,null,null,null,null,null,null,null,null,null,null,null,null,null,null,null,null,null,null,null,null,null,null,null,null,null,null,null,null,null,null,2078,"住宅","木造",{"$f":"INDEX(#REF!, 9 + QUOTIENT(ROW(AL982)-2, 10), 1 + MOD(ROW(AL982)-2, 10))","v":{"$error":"#REF!"}}]
[null,null,null,null,null,null,null,null,null,null,null,null,null,null,null,null,null,null,null,null,null,null,null,null,null,null,null,null,null,null,null,null,null,null,2078,"住宅","SRC造",{"$f":"INDEX(#REF!, 9 + QUOTIENT(ROW(AL983)-2, 10), 1 + MOD(ROW(AL983)-2, 10))","v":{"$error":"#REF!"}}]
[null,null,null,null,null,null,null,null,null,null,null,null,null,null,null,null,null,null,null,null,null,null,null,null,null,null,null,null,null,null,null,null,null,null,2078,"住宅","RC造",{"$f":"INDEX(#REF!, 9 + QUOTIENT(ROW(AL984)-2, 10), 1 + MOD(ROW(AL984)-2, 10))","v":{"$error":"#REF!"}}]
[null,null,null,null,null,null,null,null,null,null,null,null,null,null,null,null,null,null,null,null,null,null,null,null,null,null,null,null,null,null,null,null,null,null,2078,"住宅","S造",{"$f":"INDEX(#REF!, 9 + QUOTIENT(ROW(AL985)-2, 10), 1 + MOD(ROW(AL985)-2, 10))","v":{"$error":"#REF!"}}]
[null,null,null,null,null,null,null,null,null,null,null,null,null,null,null,null,null,null,null,null,null,null,null,null,null,null,null,null,null,null,null,null,null,null,2078,"住宅","その他",{"$f":"INDEX(#REF!, 9 + QUOTIENT(ROW(AL986)-2, 10), 1 + MOD(ROW(AL986)-2, 10))","v":{"$error":"#REF!"}}]
[null,null,null,null,null,null,null,null,null,null,null,null,null,null,null,null,null,null,null,null,null,null,null,null,null,null,null,null,null,null,null,null,null,null,2078,"非住宅","木造",{"$f":"INDEX(#REF!, 9 + QUOTIENT(ROW(AL987)-2, 10), 1 + MOD(ROW(AL987)-2, 10))","v":{"$error":"#REF!"}}]
[null,null,null,null,null,null,null,null,null,null,null,null,null,null,null,null,null,null,null,null,null,null,null,null,null,null,null,null,null,null,null,null,null,null,2078,"非住宅","SRC造",{"$f":"INDEX(#REF!, 9 + QUOTIENT(ROW(AL988)-2, 10), 1 + MOD(ROW(AL988)-2, 10))","v":{"$error":"#REF!"}}]
[null,null,null,null,null,null,null,null,null,null,null,null,null,null,null,null,null,null,null,null,null,null,null,null,null,null,null,null,null,null,null,null,null,null,2078,"非住宅","RC造",{"$f":"INDEX(#REF!, 9 + QUOTIENT(ROW(AL989)-2, 10), 1 + MOD(ROW(AL989)-2, 10))","v":{"$error":"#REF!"}}]
[null,null,null,null,null,null,null,null,null,null,null,null,null,null,null,null,null,null,null,null,null,null,null,null,null,null,null,null,null,null,null,null,null,null,2078,"非住宅","S造",{"$f":"INDEX(#REF!, 9 + QUOTIENT(ROW(AL990)-2, 10), 1 + MOD(ROW(AL990)-2, 10))","v":{"$error":"#REF!"}}]
[null,null,null,null,null,null,null,null,null,null,null,null,null,null,null,null,null,null,null,null,null,null,null,null,null,null,null,null,null,null,null,null,null,null,2078,"非住宅","その他",{"$f":"INDEX(#REF!, 9 + QUOTIENT(ROW(AL991)-2, 10), 1 + MOD(ROW(AL991)-2, 10))","v":{"$error":"#REF!"}}]
[null,null,null,null,null,null,null,null,null,null,null,null,null,null,null,null,null,null,null,null,null,null,null,null,null,null,null,null,null,null,null,null,null,null,2079,"住宅","木造",{"$f":"INDEX(#REF!, 9 + QUOTIENT(ROW(AL992)-2, 10), 1 + MOD(ROW(AL992)-2, 10))","v":{"$error":"#REF!"}}]
[null,null,null,null,null,null,null,null,null,null,null,null,null,null,null,null,null,null,null,null,null,null,null,null,null,null,null,null,null,null,null,null,null,null,2079,"住宅","SRC造",{"$f":"INDEX(#REF!, 9 + QUOTIENT(ROW(AL993)-2, 10), 1 + MOD(ROW(AL993)-2, 10))","v":{"$error":"#REF!"}}]
[null,null,null,null,null,null,null,null,null,null,null,null,null,null,null,null,null,null,null,null,null,null,null,null,null,null,null,null,null,null,null,null,null,null,2079,"住宅","RC造",{"$f":"INDEX(#REF!, 9 + QUOTIENT(ROW(AL994)-2, 10), 1 + MOD(ROW(AL994)-2, 10))","v":{"$error":"#REF!"}}]
[null,null,null,null,null,null,null,null,null,null,null,null,null,null,null,null,null,null,null,null,null,null,null,null,null,null,null,null,null,null,null,null,null,null,2079,"住宅","S造",{"$f":"INDEX(#REF!, 9 + QUOTIENT(ROW(AL995)-2, 10), 1 + MOD(ROW(AL995)-2, 10))","v":{"$error":"#REF!"}}]
[null,null,null,null,null,null,null,null,null,null,null,null,null,null,null,null,null,null,null,null,null,null,null,null,null,null,null,null,null,null,null,null,null,null,2079,"住宅","その他",{"$f":"INDEX(#REF!, 9 + QUOTIENT(ROW(AL996)-2, 10), 1 + MOD(ROW(AL996)-2, 10))","v":{"$error":"#REF!"}}]
[null,null,null,null,null,null,null,null,null,null,null,null,null,null,null,null,null,null,null,null,null,null,null,null,null,null,null,null,null,null,null,null,null,null,2079,"非住宅","木造",{"$f":"INDEX(#REF!, 9 + QUOTIENT(ROW(AL997)-2, 10), 1 + MOD(ROW(AL997)-2, 10))","v":{"$error":"#REF!"}}]
[null,null,null,null,null,null,null,null,null,null,null,null,null,null,null,null,null,null,null,null,null,null,null,null,null,null,null,null,null,null,null,null,null,null,2079,"非住宅","SRC造",{"$f":"INDEX(#REF!, 9 + QUOTIENT(ROW(AL998)-2, 10), 1 + MOD(ROW(AL998)-2, 10))","v":{"$error":"#REF!"}}]
[null,null,null,null,null,null,null,null,null,null,null,null,null,null,null,null,null,null,null,null,null,null,null,null,null,null,null,null,null,null,null,null,null,null,2079,"非住宅","RC造",{"$f":"INDEX(#REF!, 9 + QUOTIENT(ROW(AL999)-2, 10), 1 + MOD(ROW(AL999)-2, 10))","v":{"$error":"#REF!"}}]
[null,null,null,null,null,null,null,null,null,null,null,null,null,null,null,null,null,null,null,null,null,null,null,null,null,null,null,null,null,null,null,null,null,null,2079,"非住宅","S造",{"$f":"INDEX(#REF!, 9 + QUOTIENT(ROW(AL1000)-2, 10), 1 + MOD(ROW(AL1000)-2, 10))","v":{"$error":"#REF!"}}]
[null,null,null,null,null,null,null,null,null,null,null,null,null,null,null,null,null,null,null,null,null,null,null,null,null,null,null,null,null,null,null,null,null,null,2079,"非住宅","その他",{"$f":"INDEX(#REF!, 9 + QUOTIENT(ROW(AL1001)-2, 10), 1 + MOD(ROW(AL1001)-2, 10))","v":{"$error":"#REF!"}}]
[null,null,null,null,null,null,null,null,null,null,null,null,null,null,null,null,null,null,null,null,null,null,null,null,null,null,null,null,null,null,null,null,null,null,2080,"住宅","その他",{"$f":"INDEX(#REF!, 9 + QUOTIENT(ROW(AL1006)-2, 10), 1 + MOD(ROW(AL1006)-2, 10))","v":{"$error":"#REF!"}}]
[null,null,null,null,null,null,null,null,null,null,null,null,null,null,null,null,null,null,null,null,null,null,null,null,null,null,null,null,null,null,null,null,null,null,2080,"非住宅","その他",{"$f":"INDEX(#REF!, 9 + QUOTIENT(ROW(AL1011)-2, 10), 1 + MOD(ROW(AL1011)-2, 10))","v":{"$error":"#REF!"}}]
[null,null,null,null,null,null,null,null,null,null,null,null,null,null,null,null,null,null,null,null,null,null,null,null,null,null,null,null,null,null,null,null,null,null,2081,"住宅","木造",{"$f":"INDEX(#REF!, 9 + QUOTIENT(ROW(AL1012)-2, 10), 1 + MOD(ROW(AL1012)-2, 10))","v":{"$error":"#REF!"}}]
[null,null,null,null,null,null,null,null,null,null,null,null,null,null,null,null,null,null,null,null,null,null,null,null,null,null,null,null,null,null,null,null,null,null,2081,"非住宅","木造",{"$f":"INDEX(#REF!, 9 + QUOTIENT(ROW(AL1017)-2, 10), 1 + MOD(ROW(AL1017)-2, 10))","v":{"$error":"#REF!"}}]
[null,null,null,null,null,null,null,null,null,null,null,null,null,null,null,null,null,null,null,null,null,null,null,null,null,null,null,null,null,null,null,null,null,null,2082,"住宅","木造",{"$f":"INDEX(#REF!, 9 + QUOTIENT(ROW(AL1022)-2, 10), 1 + MOD(ROW(AL1022)-2, 10))","v":{"$error":"#REF!"}}]
[null,null,null,null,null,null,null,null,null,null,null,null,null,null,null,null,null,null,null,null,null,null,null,null,null,null,null,null,null,null,null,null,null,null,2082,"非住宅","木造",{"$f":"INDEX(#REF!, 9 + QUOTIENT(ROW(AL1027)-2, 10), 1 + MOD(ROW(AL1027)-2, 10))","v":{"$error":"#REF!"}}]
[null,null,null,null,null,null,null,null,null,null,null,null,null,null,null,null,null,null,null,null,null,null,null,null,null,null,null,null,null,null,null,null,null,null,2082,"非住宅","SRC造",{"$f":"INDEX(#REF!, 9 + QUOTIENT(ROW(AL1028)-2, 10), 1 + MOD(ROW(AL1028)-2, 10))","v":{"$error":"#REF!"}}]
[null,null,null,null,null,null,null,null,null,null,null,null,null,null,null,null,null,null,null,null,null,null,null,null,null,null,null,null,null,null,null,null,null,null,2083,"住宅","SRC造",{"$f":"INDEX(#REF!, 9 + QUOTIENT(ROW(AL1033)-2, 10), 1 + MOD(ROW(AL1033)-2, 10))","v":{"$error":"#REF!"}}]
[null,null,null,null,null,null,null,null,null,null,null,null,null,null,null,null,null,null,null,null,null,null,null,null,null,null,null,null,null,null,null,null,null,null,2083,"非住宅","SRC造",{"$f":"INDEX(#REF!, 9 + QUOTIENT(ROW(AL1038)-2, 10), 1 + MOD(ROW(AL1038)-2, 10))","v":{"$error":"#REF!"}}]
[null,null,null,null,null,null,null,null,null,null,null,null,null,null,null,null,null,null,null,null,null,null,null,null,null,null,null,null,null,null,null,null,null,null,2084,"住宅","SRC造",{"$f":"INDEX(#REF!, 9 + QUOTIENT(ROW(AL1043)-2, 10), 1 + MOD(ROW(AL1043)-2, 10))","v":{"$error":"#REF!"}}]
[null,null,null,null,null,null,null,null,null,null,null,null,null,null,null,null,null,null,null,null,null,null,null,null,null,null,null,null,null,null,null,null,null,null,2084,"住宅","RC造",{"$f":"INDEX(#REF!, 9 + QUOTIENT(ROW(AL1044)-2, 10), 1 + MOD(ROW(AL1044)-2, 10))","v":{"$error":"#REF!"}}]
[null,null,null,null,null,null,null,null,null,null,null,null,null,null,null,null,null,null,null,null,null,null,null,null,null,null,null,null,null,null,null,null,null,null,2084,"非住宅","RC造",{"$f":"INDEX(#REF!, 9 + QUOTIENT(ROW(AL1049)-2, 10), 1 + MOD(ROW(AL1049)-2, 10))","v":{"$error":"#REF!"}}]
[null,null,null,null,null,null,null,null,null,null,null,null,null,null,null,null,null,null,null,null,null,null,null,null,null,null,null,null,null,null,null,null,null,null,2085,"住宅","RC造",{"$f":"INDEX(#REF!, 9 + QUOTIENT(ROW(AL1054)-2, 10), 1 + MOD(ROW(AL1054)-2, 10))","v":{"$error":"#REF!"}}]
[null,null,null,null,null,null,null,null,null,null,null,null,null,null,null,null,null,null,null,null,null,null,null,null,null,null,null,null,null,null,null,null,null,null,2085,"非住宅","RC造",{"$f":"INDEX(#REF!, 9 + QUOTIENT(ROW(AL1059)-2, 10), 1 + MOD(ROW(AL1059)-2, 10))","v":{"$error":"#REF!"}}]
[null,null,null,null,null,null,null,null,null,null,null,null,null,null,null,null,null,null,null,null,null,null,null,null,null,null,null,null,null,null,null,null,null,null,2085,"非住宅","S造",{"$f":"INDEX(#REF!, 9 + QUOTIENT(ROW(AL1060)-2, 10), 1 + MOD(ROW(AL1060)-2, 10))","v":{"$error":"#REF!"}}]
[null,null,null,null,null,null,null,null,null,null,null,null,null,null,null,null,null,null,null,null,null,null,null,null,null,null,null,null,null,null,null,null,null,null,2086,"住宅","S造",{"$f":"INDEX(#REF!, 9 + QUOTIENT(ROW(AL1065)-2, 10), 1 + MOD(ROW(AL1065)-2, 10))","v":{"$error":"#REF!"}}]
[null,null,null,null,null,null,null,null,null,null,null,null,null,null,null,null,null,null,null,null,null,null,null,null,null,null,null,null,null,null,null,null,null,null,2086,"非住宅","S造",{"$f":"INDEX(#REF!, 9 + QUOTIENT(ROW(AL1070)-2, 10), 1 + MOD(ROW(AL1070)-2, 10))","v":{"$error":"#REF!"}}]
[null,null,null,null,null,null,null,null,null,null,null,null,null,null,null,null,null,null,null,null,null,null,null,null,null,null,null,null,null,null,null,null,null,null,2087,"住宅","S造",{"$f":"INDEX(#REF!, 9 + QUOTIENT(ROW(AL1075)-2, 10), 1 + MOD(ROW(AL1075)-2, 10))","v":{"$error":"#REF!"}}]
[null,null,null,null,null,null,null,null,null,null,null,null,null,null,null,null,null,null,null,null,null,null,null,null,null,null,null,null,null,null,null,null,null,null,2087,"住宅","その他",{"$f":"INDEX(#REF!, 9 + QUOTIENT(ROW(AL1076)-2, 10), 1 + MOD(ROW(AL1076)-2, 10))","v":{"$error":"#REF!"}}]
[null,null,null,null,null,null,null,null,null,null,null,null,null,null,null,null,null,null,null,null,null,null,null,null,null,null,null,null,null,null,null,null,null,null,2087,"非住宅","その他",{"$f":"INDEX(#REF!, 9 + QUOTIENT(ROW(AL1081)-2, 10), 1 + MOD(ROW(AL1081)-2, 10))","v":{"$error":"#REF!"}}]
[null,null,null,null,null,null,null,null,null,null,null,null,null,null,null,null,null,null,null,null,null,null,null,null,null,null,null,null,null,null,null,null,null,null,2088,"住宅","その他",{"$f":"INDEX(#REF!, 9 + QUOTIENT(ROW(AL1086)-2, 10), 1 + MOD(ROW(AL1086)-2, 10))","v":{"$error":"#REF!"}}]
[null,null,null,null,null,null,null,null,null,null,null,null,null,null,null,null,null,null,null,null,null,null,null,null,null,null,null,null,null,null,null,null,null,null,2088,"非住宅","その他",{"$f":"INDEX(#REF!, 9 + QUOTIENT(ROW(AL1091)-2, 10), 1 + MOD(ROW(AL1091)-2, 10))","v":{"$error":"#REF!"}}]
[null,null,null,null,null,null,null,null,null,null,null,null,null,null,null,null,null,null,null,null,null,null,null,null,null,null,null,null,null,null,null,null,null,null,2089,"住宅","木造",{"$f":"INDEX(#REF!, 9 + QUOTIENT(ROW(AL1092)-2, 10), 1 + MOD(ROW(AL1092)-2, 10))","v":{"$error":"#REF!"}}]
[null,null,null,null,null,null,null,null,null,null,null,null,null,null,null,null,null,null,null,null,null,null,null,null,null,null,null,null,null,null,null,null,null,null,2089,"非住宅","木造",{"$f":"INDEX(#REF!, 9 + QUOTIENT(ROW(AL1097)-2, 10), 1 + MOD(ROW(AL1097)-2, 10))","v":{"$error":"#REF!"}}]
[null,null,null,null,null,null,null,null,null,null,null,null,null,null,null,null,null,null,null,null,null,null,null,null,null,null,null,null,null,null,null,null,null,null,2089,"非住宅","その他",{"$f":"INDEX(#REF!, 9 + QUOTIENT(ROW(AL1101)-2, 10), 1 + MOD(ROW(AL1101)-2, 10))","v":{"$error":"#REF!"}}]
[null,null,null,null,null,null,null,null,null,null,null,null,null,null,null,null,null,null,null,null,null,null,null,null,null,null,null,null,null,null,null,null,null,null,2090,"住宅","その他",{"$f":"INDEX(#REF!, 9 + QUOTIENT(ROW(AL1106)-2, 10), 1 + MOD(ROW(AL1106)-2, 10))","v":{"$error":"#REF!"}}]
[null,null,null,null,null,null,null,null,null,null,null,null,null,null,null,null,null,null,null,null,null,null,null,null,null,null,null,null,null,null,null,null,null,null,2090,"非住宅","木造",{"$f":"INDEX(#REF!, 9 + QUOTIENT(ROW(AL1107)-2, 10), 1 + MOD(ROW(AL1107)-2, 10))","v":{"$error":"#REF!"}}]
[null,null,null,null,null,null,null,null,null,null,null,null,null,null,null,null,null,null,null,null,null,null,null,null,null,null,null,null,null,null,null,null,null,null,2091,"住宅","木造",{"$f":"INDEX(#REF!, 9 + QUOTIENT(ROW(AL1112)-2, 10), 1 + MOD(ROW(AL1112)-2, 10))","v":{"$error":"#REF!"}}]
[null,null,null,null,null,null,null,null,null,null,null,null,null,null,null,null,null,null,null,null,null,null,null,null,null,null,null,null,null,null,null,null,null,null,2091,"非住宅","木造",{"$f":"INDEX(#REF!, 9 + QUOTIENT(ROW(AL1117)-2, 10), 1 + MOD(ROW(AL1117)-2, 10))","v":{"$error":"#REF!"}}]
[null,null,null,null,null,null,null,null,null,null,null,null,null,null,null,null,null,null,null,null,null,null,null,null,null,null,null,null,null,null,null,null,null,null,2092,"住宅","木造",{"$f":"INDEX(#REF!, 9 + QUOTIENT(ROW(AL1122)-2, 10), 1 + MOD(ROW(AL1122)-2, 10))","v":{"$error":"#REF!"}}]
[null,null,null,null,null,null,null,null,null,null,null,null,null,null,null,null,null,null,null,null,null,null,null,null,null,null,null,null,null,null,null,null,null,null,2092,"住宅","SRC造",{"$f":"INDEX(#REF!, 9 + QUOTIENT(ROW(AL1123)-2, 10), 1 + MOD(ROW(AL1123)-2, 10))","v":{"$error":"#REF!"}}]
[null,null,null,null,null,null,null,null,null,null,null,null,null,null,null,null,null,null,null,null,null,null,null,null,null,null,null,null,null,null,null,null,null,null,2092,"非住宅","SRC造",{"$f":"INDEX(#REF!, 9 + QUOTIENT(ROW(AL1128)-2, 10), 1 + MOD(ROW(AL1128)-2, 10))","v":{"$error":"#REF!"}}]
[null,null,null,null,null,null,null,null,null,null,null,null,null,null,null,null,null,null,null,null,null,null,null,null,null,null,null,null,null,null,null,null,null,null,2093,"住宅","SRC造",{"$f":"INDEX(#REF!, 9 + QUOTIENT(ROW(AL1133)-2, 10), 1 + MOD(ROW(AL1133)-2, 10))","v":{"$error":"#REF!"}}]
[null,null,null,null,null,null,null,null,null,null,null,null,null,null,null,null,null,null,null,null,null,null,null,null,null,null,null,null,null,null,null,null,null,null,2093,"非住宅","SRC造",{"$f":"INDEX(#REF!, 9 + QUOTIENT(ROW(AL1138)-2, 10), 1 + MOD(ROW(AL1138)-2, 10))","v":{"$error":"#REF!"}}]
[null,null,null,null,null,null,null,null,null,null,null,null,null,null,null,null,null,null,null,null,null,null,null,null,null,null,null,null,null,null,null,null,null,null,2093,"非住宅","RC造",{"$f":"INDEX(#REF!, 9 + QUOTIENT(ROW(AL1139)-2, 10), 1 + MOD(ROW(AL1139)-2, 10))","v":{"$error":"#REF!"}}]
[null,null,null,null,null,null,null,null,null,null,null,null,null,null,null,null,null,null,null,null,null,null,null,null,null,null,null,null,null,null,null,null,null,null,2094,"住宅","RC造",{"$f":"INDEX(#REF!, 9 + QUOTIENT(ROW(AL1144)-2, 10), 1 + MOD(ROW(AL1144)-2, 10))","v":{"$error":"#REF!"}}]
[null,null,null,null,null,null,null,null,null,null,null,null,null,null,null,null,null,null,null,null,null,null,null,null,null,null,null,null,null,null,null,null,null,null,2094,"非住宅","RC造",{"$f":"INDEX(#REF!, 9 + QUOTIENT(ROW(AL1149)-2, 10), 1 + MOD(ROW(AL1149)-2, 10))","v":{"$error":"#REF!"}}]
[null,null,null,null,null,null,null,null,null,null,null,null,null,null,null,null,null,null,null,null,null,null,null,null,null,null,null,null,null,null,null,null,null,null,2095,"住宅","RC造",{"$f":"INDEX(#REF!, 9 + QUOTIENT(ROW(AL1154)-2, 10), 1 + MOD(ROW(AL1154)-2, 10))","v":{"$error":"#REF!"}}]
[null,null,null,null,null,null,null,null,null,null,null,null,null,null,null,null,null,null,null,null,null,null,null,null,null,null,null,null,null,null,null,null,null,null,2095,"住宅","S造",{"$f":"INDEX(#REF!, 9 + QUOTIENT(ROW(AL1155)-2, 10), 1 + MOD(ROW(AL1155)-2, 10))","v":{"$error":"#REF!"}}]
[null,null,null,null,null,null,null,null,null,null,null,null,null,null,null,null,null,null,null,null,null,null,null,null,null,null,null,null,null,null,null,null,null,null,2095,"非住宅","S造",{"$f":"INDEX(#REF!, 9 + QUOTIENT(ROW(AL1160)-2, 10), 1 + MOD(ROW(AL1160)-2, 10))","v":{"$error":"#REF!"}}]
[null,null,null,null,null,null,null,null,null,null,null,null,null,null,null,null,null,null,null,null,null,null,null,null,null,null,null,null,null,null,null,null,null,null,2096,"住宅","S造",{"$f":"INDEX(#REF!, 9 + QUOTIENT(ROW(AL1165)-2, 10), 1 + MOD(ROW(AL1165)-2, 10))","v":{"$error":"#REF!"}}]
[null,null,null,null,null,null,null,null,null,null,null,null,null,null,null,null,null,null,null,null,null,null,null,null,null,null,null,null,null,null,null,null,null,null,2096,"非住宅","S造",{"$f":"INDEX(#REF!, 9 + QUOTIENT(ROW(AL1170)-2, 10), 1 + MOD(ROW(AL1170)-2, 10))","v":{"$error":"#REF!"}}]
[null,null,null,null,null,null,null,null,null,null,null,null,null,null,null,null,null,null,null,null,null,null,null,null,null,null,null,null,null,null,null,null,null,null,2096,"非住宅","その他",{"$f":"INDEX(#REF!, 9 + QUOTIENT(ROW(AL1171)-2, 10), 1 + MOD(ROW(AL1171)-2, 10))","v":{"$error":"#REF!"}}]
[null,null,null,null,null,null,null,null,null,null,null,null,null,null,null,null,null,null,null,null,null,null,null,null,null,null,null,null,null,null,null,null,null,null,2097,"住宅","その他",{"$f":"INDEX(#REF!, 9 + QUOTIENT(ROW(AL1176)-2, 10), 1 + MOD(ROW(AL1176)-2, 10))","v":{"$error":"#REF!"}}]
[null,null,null,null,null,null,null,null,null,null,null,null,null,null,null,null,null,null,null,null,null,null,null,null,null,null,null,null,null,null,null,null,null,null,2097,"非住宅","その他",{"$f":"INDEX(#REF!, 9 + QUOTIENT(ROW(AL1181)-2, 10), 1 + MOD(ROW(AL1181)-2, 10))","v":{"$error":"#REF!"}}]
[null,null,null,null,null,null,null,null,null,null,null,null,null,null,null,null,null,null,null,null,null,null,null,null,null,null,null,null,null,null,null,null,null,null,2098,"住宅","その他",{"$f":"INDEX(#REF!, 9 + QUOTIENT(ROW(AL1186)-2, 10), 1 + MOD(ROW(AL1186)-2, 10))","v":{"$error":"#REF!"}}]
[null,null,null,null,null,null,null,null,null,null,null,null,null,null,null,null,null,null,null,null,null,null,null,null,null,null,null,null,null,null,null,null,null,null,2098,"非住宅","木造",{"$f":"INDEX(#REF!, 9 + QUOTIENT(ROW(AL1187)-2, 10), 1 + MOD(ROW(AL1187)-2, 10))","v":{"$error":"#REF!"}}]
[null,null,null,null,null,null,null,null,null,null,null,null,null,null,null,null,null,null,null,null,null,null,null,null,null,null,null,null,null,null,null,null,null,null,2099,"住宅","木造",{"$f":"INDEX(#REF!, 9 + QUOTIENT(ROW(AL1192)-2, 10), 1 + MOD(ROW(AL1192)-2, 10))","v":{"$error":"#REF!"}}]
[null,null,null,null,null,null,null,null,null,null,null,null,null,null,null,null,null,null,null,null,null,null,null,null,null,null,null,null,null,null,null,null,null,null,2099,"非住宅","木造",{"$f":"INDEX(#REF!, 9 + QUOTIENT(ROW(AL1197)-2, 10), 1 + MOD(ROW(AL1197)-2, 10))","v":{"$error":"#REF!"}}]
[null,null,null,null,null,null,null,null,null,null,null,null,null,null,null,null,null,null,null,null,null,null,null,null,null,null,null,null,null,null,null,null,null,null,2100,"住宅","木造",{"$f":"INDEX(#REF!, 9 + QUOTIENT(ROW(AL1202)-2, 10), 1 + MOD(ROW(AL1202)-2, 10))","v":{"$error":"#REF!"}}]
[null,null,null,null,null,null,null,null,null,null,null,null,null,null,null,null,null,null,null,null,null,null,null,null,null,null,null,null,null,null,null,null,null,null,2100,"住宅","S造",{"$f":"INDEX(#REF!, 9 + QUOTIENT(ROW(AL1205)-2, 10), 1 + MOD(ROW(AL1205)-2, 10))","v":{"$error":"#REF!"}}]
[null,null,null,null,null,null,null,null,null,null,null,null,null,null,null,null,null,null,null,null,null,null,null,null,null,null,null,null,null,null,null,null,null,null,2100,"非住宅","木造",{"$f":"INDEX(#REF!, 9 + QUOTIENT(ROW(AL1207)-2, 10), 1 + MOD(ROW(AL1207)-2, 10))","v":{"$error":"#REF!"}}]
[null,null,null,null,null,null,null,null,null,null,null,null,null,null,null,null,null,null,null,null,null,null,null,null,null,null,null,null,null,null,null,null,null,null,2101,"住宅","木造",{"$f":"INDEX(#REF!, 9 + QUOTIENT(ROW(AL1212)-2, 10), 1 + MOD(ROW(AL1212)-2, 10))","v":{"$error":"#REF!"}}]
[null,null,null,null,null,null,null,null,null,null,null,null,null,null,null,null,null,null,null,null,null,null,null,null,null,null,null,null,null,null,null,null,null,null,2101,"非住宅","木造",{"$f":"INDEX(#REF!, 9 + QUOTIENT(ROW(AL1217)-2, 10), 1 + MOD(ROW(AL1217)-2, 10))","v":{"$error":"#REF!"}}]
[null,null,null,null,null,null,null,null,null,null,null,null,null,null,null,null,null,null,null,null,null,null,null,null,null,null,null,null,null,null,null,null,null,null,2101,"非住宅","SRC造",{"$f":"INDEX(#REF!, 9 + QUOTIENT(ROW(AL1218)-2, 10), 1 + MOD(ROW(AL1218)-2, 10))","v":{"$error":"#REF!"}}]
[null,null,null,null,null,null,null,null,null,null,null,null,null,null,null,null,null,null,null,null,null,null,null,null,null,null,null,null,null,null,null,null,null,null,2102,"住宅","SRC造",{"$f":"INDEX(#REF!, 9 + QUOTIENT(ROW(AL1223)-2, 10), 1 + MOD(ROW(AL1223)-2, 10))","v":{"$error":"#REF!"}}]
[null,null,null,null,null,null,null,null,null,null,null,null,null,null,null,null,null,null,null,null,null,null,null,null,null,null,null,null,null,null,null,null,null,null,2102,"非住宅","SRC造",{"$f":"INDEX(#REF!, 9 + QUOTIENT(ROW(AL1228)-2, 10), 1 + MOD(ROW(AL1228)-2, 10))","v":{"$error":"#REF!"}}]
[null,null,null,null,null,null,null,null,null,null,null,null,null,null,null,null,null,null,null,null,null,null,null,null,null,null,null,null,null,null,null,null,null,null,2103,"住宅","SRC造",{"$f":"INDEX(#REF!, 9 + QUOTIENT(ROW(AL1233)-2, 10), 1 + MOD(ROW(AL1233)-2, 10))","v":{"$error":"#REF!"}}]
[null,null,null,null,null,null,null,null,null,null,null,null,null,null,null,null,null,null,null,null,null,null,null,null,null,null,null,null,null,null,null,null,null,null,2103,"住宅","RC造",{"$f":"INDEX(#REF!, 9 + QUOTIENT(ROW(AL1234)-2, 10), 1 + MOD(ROW(AL1234)-2, 10))","v":{"$error":"#REF!"}}]
[null,null,null,null,null,null,null,null,null,null,null,null,null,null,null,null,null,null,null,null,null,null,null,null,null,null,null,null,null,null,null,null,null,null,2103,"非住宅","RC造",{"$f":"INDEX(#REF!, 9 + QUOTIENT(ROW(AL1239)-2, 10), 1 + MOD(ROW(AL1239)-2, 10))","v":{"$error":"#REF!"}}]
[null,null,null,null,null,null,null,null,null,null,null,null,null,null,null,null,null,null,null,null,null,null,null,null,null,null,null,null,null,null,null,null,null,null,2104,"住宅","RC造",{"$f":"INDEX(#REF!, 9 + QUOTIENT(ROW(AL1244)-2, 10), 1 + MOD(ROW(AL1244)-2, 10))","v":{"$error":"#REF!"}}]
[null,null,null,null,null,null,null,null,null,null,null,null,null,null,null,null,null,null,null,null,null,null,null,null,null,null,null,null,null,null,null,null,null,null,2104,"非住宅","RC造",{"$f":"INDEX(#REF!, 9 + QUOTIENT(ROW(AL1249)-2, 10), 1 + MOD(ROW(AL1249)-2, 10))","v":{"$error":"#REF!"}}]
[null,null,null,null,null,null,null,null,null,null,null,null,null,null,null,null,null,null,null,null,null,null,null,null,null,null,null,null,null,null,null,null,null,null,2104,"非住宅","S造",{"$f":"INDEX(#REF!, 9 + QUOTIENT(ROW(AL1250)-2, 10), 1 + MOD(ROW(AL1250)-2, 10))","v":{"$error":"#REF!"}}]
[null,null,null,null,null,null,null,null,null,null,null,null,null,null,null,null,null,null,null,null,null,null,null,null,null,null,null,null,null,null,null,null,null,null,2105,"住宅","S造",{"$f":"INDEX(#REF!, 9 + QUOTIENT(ROW(AL1255)-2, 10), 1 + MOD(ROW(AL1255)-2, 10))","v":{"$error":"#REF!"}}]
[null,null,null,null,null,null,null,null,null,null,null,null,null,null,null,null,null,null,null,null,null,null,null,null,null,null,null,null,null,null,null,null,null,null,2105,"非住宅","S造",{"$f":"INDEX(#REF!, 9 + QUOTIENT(ROW(AL1260)-2, 10), 1 + MOD(ROW(AL1260)-2, 10))","v":{"$error":"#REF!"}}]
[null,null,null,null,null,null,null,null,null,null,null,null,null,null,null,null,null,null,null,null,null,null,null,null,null,null,null,null,null,null,null,null,null,null,2106,"住宅","S造",{"$f":"INDEX(#REF!, 9 + QUOTIENT(ROW(AL1265)-2, 10), 1 + MOD(ROW(AL1265)-2, 10))","v":{"$error":"#REF!"}}]
[null,null,null,null,null,null,null,null,null,null,null,null,null,null,null,null,null,null,null,null,null,null,null,null,null,null,null,null,null,null,null,null,null,null,2106,"住宅","その他",{"$f":"INDEX(#REF!, 9 + QUOTIENT(ROW(AL1266)-2, 10), 1 + MOD(ROW(AL1266)-2, 10))","v":{"$error":"#REF!"}}]
[null,null,null,null,null,null,null,null,null,null,null,null,null,null,null,null,null,null,null,null,null,null,null,null,null,null,null,null,null,null,null,null,null,null,2106,"非住宅","その他",{"$f":"INDEX(#REF!, 9 + QUOTIENT(ROW(AL1271)-2, 10), 1 + MOD(ROW(AL1271)-2, 10))","v":{"$error":"#REF!"}}]
[null,null,null,null,null,null,null,null,null,null,null,null,null,null,null,null,null,null,null,null,null,null,null,null,null,null,null,null,null,null,null,null,null,null,2107,"住宅","その他",{"$f":"INDEX(#REF!, 9 + QUOTIENT(ROW(AL1276)-2, 10), 1 + MOD(ROW(AL1276)-2, 10))","v":{"$error":"#REF!"}}]
[null,null,null,null,null,null,null,null,null,null,null,null,null,null,null,null,null,null,null,null,null,null,null,null,null,null,null,null,null,null,null,null,null,null,2107,"非住宅","その他",{"$f":"INDEX(#REF!, 9 + QUOTIENT(ROW(AL1281)-2, 10), 1 + MOD(ROW(AL1281)-2, 10))","v":{"$error":"#REF!"}}]
[null,null,null,null,null,null,null,null,null,null,null,null,null,null,null,null,null,null,null,null,null,null,null,null,null,null,null,null,null,null,null,null,null,null,2108,"住宅","木造",{"$f":"INDEX(#REF!, 9 + QUOTIENT(ROW(AL1282)-2, 10), 1 + MOD(ROW(AL1282)-2, 10))","v":{"$error":"#REF!"}}]
[null,null,null,null,null,null,null,null,null,null,null,null,null,null,null,null,null,null,null,null,null,null,null,null,null,null,null,null,null,null,null,null,null,null,2108,"非住宅","木造",{"$f":"INDEX(#REF!, 9 + QUOTIENT(ROW(AL1287)-2, 10), 1 + MOD(ROW(AL1287)-2, 10))","v":{"$error":"#REF!"}}]
[null,null,null,null,null,null,null,null,null,null,null,null,null,null,null,null,null,null,null,null,null,null,null,null,null,null,null,null,null,null,null,null,null,null,2109,"住宅","木造",{"$f":"INDEX(#REF!, 9 + QUOTIENT(ROW(AL1292)-2, 10), 1 + MOD(ROW(AL1292)-2, 10))","v":{"$error":"#REF!"}}]
[null,null,null,null,null,null,null,null,null,null,null,null,null,null,null,null,null,null,null,null,null,null,null,null,null,null,null,null,null,null,null,null,null,null,2109,"非住宅","木造",{"$f":"INDEX(#REF!, 9 + QUOTIENT(ROW(AL1297)-2, 10), 1 + MOD(ROW(AL1297)-2, 10))","v":{"$error":"#REF!"}}]
[null,null,null,null,null,null,null,null,null,null,null,null,null,null,null,null,null,null,null,null,null,null,null,null,null,null,null,null,null,null,null,null,null,null,2109,"非住宅","SRC造",{"$f":"INDEX(#REF!, 9 + QUOTIENT(ROW(AL1298)-2, 10), 1 + MOD(ROW(AL1298)-2, 10))","v":{"$error":"#REF!"}}]
[null,null,null,null,null,null,null,null,null,null,null,null,null,null,null,null,null,null,null,null,null,null,null,null,null,null,null,null,null,null,null,null,null,null,2110,"住宅","木造",{"$f":"INDEX(#REF!, 9 + QUOTIENT(ROW(AL1302)-2, 10), 1 + MOD(ROW(AL1302)-2, 10))","v":{"$error":"#REF!"}}]
[null,null,null,null,null,null,null,null,null,null,null,null,null,null,null,null,null,null,null,null,null,null,null,null,null,null,null,null,null,null,null,null,null,null,2110,"非住宅","木造",{"$f":"INDEX(#REF!, 9 + QUOTIENT(ROW(AL1307)-2, 10), 1 + MOD(ROW(AL1307)-2, 10))","v":{"$error":"#REF!"}}]
[null,null,null,null,null,null,null,null,null,null,null,null,null,null,null,null,null,null,null,null,null,null,null,null,null,null,null,null,null,null,null,null,null,null,2111,"住宅","木造",{"$f":"INDEX(#REF!, 9 + QUOTIENT(ROW(AL1312)-2, 10), 1 + MOD(ROW(AL1312)-2, 10))","v":{"$error":"#REF!"}}]
[null,null,null,null,null,null,null,null,null,null,null,null,null,null,null,null,null,null,null,null,null,null,null,null,null,null,null,null,null,null,null,null,null,null,2111,"住宅","SRC造",{"$f":"INDEX(#REF!, 9 + QUOTIENT(ROW(AL1313)-2, 10), 1 + MOD(ROW(AL1313)-2, 10))","v":{"$error":"#REF!"}}]
[null,null,null,null,null,null,null,null,null,null,null,null,null,null,null,null,null,null,null,null,null,null,null,null,null,null,null,null,null,null,null,null,null,null,2111,"非住宅","SRC造",{"$f":"INDEX(#REF!, 9 + QUOTIENT(ROW(AL1318)-2, 10), 1 + MOD(ROW(AL1318)-2, 10))","v":{"$error":"#REF!"}}]
[null,null,null,null,null,null,null,null,null,null,null,null,null,null,null,null,null,null,null,null,null,null,null,null,null,null,null,null,null,null,null,null,null,null,2112,"住宅","SRC造",{"$f":"INDEX(#REF!, 9 + QUOTIENT(ROW(AL1323)-2, 10), 1 + MOD(ROW(AL1323)-2, 10))","v":{"$error":"#REF!"}}]
[null,null,null,null,null,null,null,null,null,null,null,null,null,null,null,null,null,null,null,null,null,null,null,null,null,null,null,null,null,null,null,null,null,null,2112,"非住宅","SRC造",{"$f":"INDEX(#REF!, 9 + QUOTIENT(ROW(AL1328)-2, 10), 1 + MOD(ROW(AL1328)-2, 10))","v":{"$error":"#REF!"}}]
[null,null,null,null,null,null,null,null,null,null,null,null,null,null,null,null,null,null,null,null,null,null,null,null,null,null,null,null,null,null,null,null,null,null,2112,"非住宅","RC造",{"$f":"INDEX(#REF!, 9 + QUOTIENT(ROW(AL1329)-2, 10), 1 + MOD(ROW(AL1329)-2, 10))","v":{"$error":"#REF!"}}]
[null,null,null,null,null,null,null,null,null,null,null,null,null,null,null,null,null,null,null,null,null,null,null,null,null,null,null,null,null,null,null,null,null,null,2113,"住宅","RC造",{"$f":"INDEX(#REF!, 9 + QUOTIENT(ROW(AL1334)-2, 10), 1 + MOD(ROW(AL1334)-2, 10))","v":{"$error":"#REF!"}}]
[null,null,null,null,null,null,null,null,null,null,null,null,null,null,null,null,null,null,null,null,null,null,null,null,null,null,null,null,null,null,null,null,null,null,2113,"非住宅","RC造",{"$f":"INDEX(#REF!, 9 + QUOTIENT(ROW(AL1339)-2, 10), 1 + MOD(ROW(AL1339)-2, 10))","v":{"$error":"#REF!"}}]
[null,null,null,null,null,null,null,null,null,null,null,null,null,null,null,null,null,null,null,null,null,null,null,null,null,null,null,null,null,null,null,null,null,null,2114,"住宅","RC造",{"$f":"INDEX(#REF!, 9 + QUOTIENT(ROW(AL1344)-2, 10), 1 + MOD(ROW(AL1344)-2, 10))","v":{"$error":"#REF!"}}]
[null,null,null,null,null,null,null,null,null,null,null,null,null,null,null,null,null,null,null,null,null,null,null,null,null,null,null,null,null,null,null,null,null,null,2114,"住宅","S造",{"$f":"INDEX(#REF!, 9 + QUOTIENT(ROW(AL1345)-2, 10), 1 + MOD(ROW(AL1345)-2, 10))","v":{"$error":"#REF!"}}]
[null,null,null,null,null,null,null,null,null,null,null,null,null,null,null,null,null,null,null,null,null,null,null,null,null,null,null,null,null,null,null,null,null,null,2114,"非住宅","S造",{"$f":"INDEX(#REF!, 9 + QUOTIENT(ROW(AL1350)-2, 10), 1 + MOD(ROW(AL1350)-2, 10))","v":{"$error":"#REF!"}}]
[null,null,null,null,null,null,null,null,null,null,null,null,null,null,null,null,null,null,null,null,null,null,null,null,null,null,null,null,null,null,null,null,null,null,2115,"住宅","S造",{"$f":"INDEX(#REF!, 9 + QUOTIENT(ROW(AL1355)-2, 10), 1 + MOD(ROW(AL1355)-2, 10))","v":{"$error":"#REF!"}}]
[null,null,null,null,null,null,null,null,null,null,null,null,null,null,null,null,null,null,null,null,null,null,null,null,null,null,null,null,null,null,null,null,null,null,2115,"非住宅","S造",{"$f":"INDEX(#REF!, 9 + QUOTIENT(ROW(AL1360)-2, 10), 1 + MOD(ROW(AL1360)-2, 10))","v":{"$error":"#REF!"}}]
[null,null,null,null,null,null,null,null,null,null,null,null,null,null,null,null,null,null,null,null,null,null,null,null,null,null,null,null,null,null,null,null,null,null,2115,"非住宅","その他",{"$f":"INDEX(#REF!, 9 + QUOTIENT(ROW(AL1361)-2, 10), 1 + MOD(ROW(AL1361)-2, 10))","v":{"$error":"#REF!"}}]
[null,null,null,null,null,null,null,null,null,null,null,null,null,null,null,null,null,null,null,null,null,null,null,null,null,null,null,null,null,null,null,null,null,null,2116,"住宅","その他",{"$f":"INDEX(#REF!, 9 + QUOTIENT(ROW(AL1366)-2, 10), 1 + MOD(ROW(AL1366)-2, 10))","v":{"$error":"#REF!"}}]
[null,null,null,null,null,null,null,null,null,null,null,null,null,null,null,null,null,null,null,null,null,null,null,null,null,null,null,null,null,null,null,null,null,null,2116,"非住宅","その他",{"$f":"INDEX(#REF!, 9 + QUOTIENT(ROW(AL1371)-2, 10), 1 + MOD(ROW(AL1371)-2, 10))","v":{"$error":"#REF!"}}]
[null,null,null,null,null,null,null,null,null,null,null,null,null,null,null,null,null,null,null,null,null,null,null,null,null,null,null,null,null,null,null,null,null,null,2117,"住宅","その他",{"$f":"INDEX(#REF!, 9 + QUOTIENT(ROW(AL1376)-2, 10), 1 + MOD(ROW(AL1376)-2, 10))","v":{"$error":"#REF!"}}]
[null,null,null,null,null,null,null,null,null,null,null,null,null,null,null,null,null,null,null,null,null,null,null,null,null,null,null,null,null,null,null,null,null,null,2117,"非住宅","木造",{"$f":"INDEX(#REF!, 9 + QUOTIENT(ROW(AL1377)-2, 10), 1 + MOD(ROW(AL1377)-2, 10))","v":{"$error":"#REF!"}}]
[null,null,null,null,null,null,null,null,null,null,null,null,null,null,null,null,null,null,null,null,null,null,null,null,null,null,null,null,null,null,null,null,null,null,2118,"住宅","木造",{"$f":"INDEX(#REF!, 9 + QUOTIENT(ROW(AL1382)-2, 10), 1 + MOD(ROW(AL1382)-2, 10))","v":{"$error":"#REF!"}}]
[null,null,null,null,null,null,null,null,null,null,null,null,null,null,null,null,null,null,null,null,null,null,null,null,null,null,null,null,null,null,null,null,null,null,2118,"非住宅","木造",{"$f":"INDEX(#REF!, 9 + QUOTIENT(ROW(AL1387)-2, 10), 1 + MOD(ROW(AL1387)-2, 10))","v":{"$error":"#REF!"}}]
[null,null,null,null,null,null,null,null,null,null,null,null,null,null,null,null,null,null,null,null,null,null,null,null,null,null,null,null,null,null,null,null,null,null,2119,"住宅","木造",{"$f":"INDEX(#REF!, 9 + QUOTIENT(ROW(AL1392)-2, 10), 1 + MOD(ROW(AL1392)-2, 10))","v":{"$error":"#REF!"}}]
[null,null,null,null,null,null,null,null,null,null,null,null,null,null,null,null,null,null,null,null,null,null,null,null,null,null,null,null,null,null,null,null,null,null,2119,"住宅","SRC造",{"$f":"INDEX(#REF!, 9 + QUOTIENT(ROW(AL1393)-2, 10), 1 + MOD(ROW(AL1393)-2, 10))","v":{"$error":"#REF!"}}]
[null,null,null,null,null,null,null,null,null,null,null,null,null,null,null,null,null,null,null,null,null,null,null,null,null,null,null,null,null,null,null,null,null,null,2119,"非住宅","SRC造",{"$f":"INDEX(#REF!, 9 + QUOTIENT(ROW(AL1398)-2, 10), 1 + MOD(ROW(AL1398)-2, 10))","v":{"$error":"#REF!"}}]
[null,null,null,null,null,null,null,null,null,null,null,null,null,null,null,null,null,null,null,null,null,null,null,null,null,null,null,null,null,null,null,null,null,null,2120,"住宅","SRC造",{"$f":"INDEX(#REF!, 9 + QUOTIENT(ROW(AL1403)-2, 10), 1 + MOD(ROW(AL1403)-2, 10))","v":{"$error":"#REF!"}}]
[null,null,null,null,null,null,null,null,null,null,null,null,null,null,null,null,null,null,null,null,null,null,null,null,null,null,null,null,null,null,null,null,null,null,2120,"住宅","S造",{"$f":"INDEX(#REF!, 9 + QUOTIENT(ROW(AL1405)-2, 10), 1 + MOD(ROW(AL1405)-2, 10))","v":{"$error":"#REF!"}}]
[null,null,null,null,null,null,null,null,null,null,null,null,null,null,null,null,null,null,null,null,null,null,null,null,null,null,null,null,null,null,null,null,null,null,2120,"非住宅","SRC造",{"$f":"INDEX(#REF!, 9 + QUOTIENT(ROW(AL1408)-2, 10), 1 + MOD(ROW(AL1408)-2, 10))","v":{"$error":"#REF!"}}]
[null,null,null,null,null,null,null,null,null,null,null,null,null,null,null,null,null,null,null,null,null,null,null,null,null,null,null,null,null,null,null,null,null,null,2121,"住宅","SRC造",{"$f":"INDEX(#REF!, 9 + QUOTIENT(ROW(AL1413)-2, 10), 1 + MOD(ROW(AL1413)-2, 10))","v":{"$error":"#REF!"}}]
[null,null,null,null,null,null,null,null,null,null,null,null,null,null,null,null,null,null,null,null,null,null,null,null,null,null,null,null,null,null,null,null,null,null,2121,"非住宅","SRC造",{"$f":"INDEX(#REF!, 9 + QUOTIENT(ROW(AL1418)-2, 10), 1 + MOD(ROW(AL1418)-2, 10))","v":{"$error":"#REF!"}}]
[null,null,null,null,null,null,null,null,null,null,null,null,null,null,null,null,null,null,null,null,null,null,null,null,null,null,null,null,null,null,null,null,null,null,2122,"住宅","SRC造",{"$f":"INDEX(#REF!, 9 + QUOTIENT(ROW(AL1423)-2, 10), 1 + MOD(ROW(AL1423)-2, 10))","v":{"$error":"#REF!"}}]
[null,null,null,null,null,null,null,null,null,null,null,null,null,null,null,null,null,null,null,null,null,null,null,null,null,null,null,null,null,null,null,null,null,null,2122,"住宅","RC造",{"$f":"INDEX(#REF!, 9 + QUOTIENT(ROW(AL1424)-2, 10), 1 + MOD(ROW(AL1424)-2, 10))","v":{"$error":"#REF!"}}]
[null,null,null,null,null,null,null,null,null,null,null,null,null,null,null,null,null,null,null,null,null,null,null,null,null,null,null,null,null,null,null,null,null,null,2122,"非住宅","RC造",{"$f":"INDEX(#REF!, 9 + QUOTIENT(ROW(AL1429)-2, 10), 1 + MOD(ROW(AL1429)-2, 10))","v":{"$error":"#REF!"}}]
[null,null,null,null,null,null,null,null,null,null,null,null,null,null,null,null,null,null,null,null,null,null,null,null,null,null,null,null,null,null,null,null,null,null,2123,"住宅","RC造",{"$f":"INDEX(#REF!, 9 + QUOTIENT(ROW(AL1434)-2, 10), 1 + MOD(ROW(AL1434)-2, 10))","v":{"$error":"#REF!"}}]
[null,null,null,null,null,null,null,null,null,null,null,null,null,null,null,null,null,null,null,null,null,null,null,null,null,null,null,null,null,null,null,null,null,null,2123,"非住宅","RC造",{"$f":"INDEX(#REF!, 9 + QUOTIENT(ROW(AL1439)-2, 10), 1 + MOD(ROW(AL1439)-2, 10))","v":{"$error":"#REF!"}}]
[null,null,null,null,null,null,null,null,null,null,null,null,null,null,null,null,null,null,null,null,null,null,null,null,null,null,null,null,null,null,null,null,null,null,2123,"非住宅","S造",{"$f":"INDEX(#REF!, 9 + QUOTIENT(ROW(AL1440)-2, 10), 1 + MOD(ROW(AL1440)-2, 10))","v":{"$error":"#REF!"}}]
[null,null,null,null,null,null,null,null,null,null,null,null,null,null,null,null,null,null,null,null,null,null,null,null,null,null,null,null,null,null,null,null,null,null,2124,"住宅","S造",{"$f":"INDEX(#REF!, 9 + QUOTIENT(ROW(AL1445)-2, 10), 1 + MOD(ROW(AL1445)-2, 10))","v":{"$error":"#REF!"}}]
[null,null,null,null,null,null,null,null,null,null,null,null,null,null,null,null,null,null,null,null,null,null,null,null,null,null,null,null,null,null,null,null,null,null,2124,"非住宅","S造",{"$f":"INDEX(#REF!, 9 + QUOTIENT(ROW(AL1450)-2, 10), 1 + MOD(ROW(AL1450)-2, 10))","v":{"$error":"#REF!"}}]
[null,null,null,null,null,null,null,null,null,null,null,null,null,null,null,null,null,null,null,null,null,null,null,null,null,null,null,null,null,null,null,null,null,null,2125,"住宅","S造",{"$f":"INDEX(#REF!, 9 + QUOTIENT(ROW(AL1455)-2, 10), 1 + MOD(ROW(AL1455)-2, 10))","v":{"$error":"#REF!"}}]
[null,null,null,null,null,null,null,null,null,null,null,null,null,null,null,null,null,null,null,null,null,null,null,null,null,null,null,null,null,null,null,null,null,null,2125,"住宅","その他",{"$f":"INDEX(#REF!, 9 + QUOTIENT(ROW(AL1456)-2, 10), 1 + MOD(ROW(AL1456)-2, 10))","v":{"$error":"#REF!"}}]
[null,null,null,null,null,null,null,null,null,null,null,null,null,null,null,null,null,null,null,null,null,null,null,null,null,null,null,null,null,null,null,null,null,null,2125,"非住宅","その他",{"$f":"INDEX(#REF!, 9 + QUOTIENT(ROW(AL1461)-2, 10), 1 + MOD(ROW(AL1461)-2, 10))","v":{"$error":"#REF!"}}]
[null,null,null,null,null,null,null,null,null,null,null,null,null,null,null,null,null,null,null,null,null,null,null,null,null,null,null,null,null,null,null,null,null,null,2126,"住宅","その他",{"$f":"INDEX(#REF!, 9 + QUOTIENT(ROW(AL1466)-2, 10), 1 + MOD(ROW(AL1466)-2, 10))","v":{"$error":"#REF!"}}]
[null,null,null,null,null,null,null,null,null,null,null,null,null,null,null,null,null,null,null,null,null,null,null,null,null,null,null,null,null,null,null,null,null,null,2126,"非住宅","その他",{"$f":"INDEX(#REF!, 9 + QUOTIENT(ROW(AL1471)-2, 10), 1 + MOD(ROW(AL1471)-2, 10))","v":{"$error":"#REF!"}}]
[null,null,null,null,null,null,null,null,null,null,null,null,null,null,null,null,null,null,null,null,null,null,null,null,null,null,null,null,null,null,null,null,null,null,2127,"住宅","木造",{"$f":"INDEX(#REF!, 9 + QUOTIENT(ROW(AL1472)-2, 10), 1 + MOD(ROW(AL1472)-2, 10))","v":{"$error":"#REF!"}}]
[null,null,null,null,null,null,null,null,null,null,null,null,null,null,null,null,null,null,null,null,null,null,null,null,null,null,null,null,null,null,null,null,null,null,2127,"非住宅","木造",{"$f":"INDEX(#REF!, 9 + QUOTIENT(ROW(AL1477)-2, 10), 1 + MOD(ROW(AL1477)-2, 10))","v":{"$error":"#REF!"}}]
[null,null,null,null,null,null,null,null,null,null,null,null,null,null,null,null,null,null,null,null,null,null,null,null,null,null,null,null,null,null,null,null,null,null,2128,"住宅","木造",{"$f":"INDEX(#REF!, 9 + QUOTIENT(ROW(AL1482)-2, 10), 1 + MOD(ROW(AL1482)-2, 10))","v":{"$error":"#REF!"}}]
[null,null,null,null,null,null,null,null,null,null,null,null,null,null,null,null,null,null,null,null,null,null,null,null,null,null,null,null,null,null,null,null,null,null,2128,"非住宅","木造",{"$f":"INDEX(#REF!, 9 + QUOTIENT(ROW(AL1487)-2, 10), 1 + MOD(ROW(AL1487)-2, 10))","v":{"$error":"#REF!"}}]
[null,null,null,null,null,null,null,null,null,null,null,null,null,null,null,null,null,null,null,null,null,null,null,null,null,null,null,null,null,null,null,null,null,null,2128,"非住宅","SRC造",{"$f":"INDEX(#REF!, 9 + QUOTIENT(ROW(AL1488)-2, 10), 1 + MOD(ROW(AL1488)-2, 10))","v":{"$error":"#REF!"}}]
[null,null,null,null,null,null,null,null,null,null,null,null,null,null,null,null,null,null,null,null,null,null,null,null,null,null,null,null,null,null,null,null,null,null,2129,"住宅","SRC造",{"$f":"INDEX(#REF!, 9 + QUOTIENT(ROW(AL1493)-2, 10), 1 + MOD(ROW(AL1493)-2, 10))","v":{"$error":"#REF!"}}]
[null,null,null,null,null,null,null,null,null,null,null,null,null,null,null,null,null,null,null,null,null,null,null,null,null,null,null,null,null,null,null,null,null,null,2129,"非住宅","SRC造",{"$f":"INDEX(#REF!, 9 + QUOTIENT(ROW(AL1498)-2, 10), 1 + MOD(ROW(AL1498)-2, 10))","v":{"$error":"#REF!"}}]
[null,null,null,null,null,null,null,null,null,null,null,null,null,null,null,null,null,null,null,null,null,null,null,null,null,null,null,null,null,null,null,null,null,null,2130,"住宅","SRC造",{"$f":"INDEX(#REF!, 9 + QUOTIENT(ROW(AL1503)-2, 10), 1 + MOD(ROW(AL1503)-2, 10))","v":{"$error":"#REF!"}}]
[null,null,null,null,null,null,null,null,null,null,null,null,null,null,null,null,null,null,null,null,null,null,null,null,null,null,null,null,null,null,null,null,null,null,2130,"住宅","RC造",{"$f":"INDEX(#REF!, 9 + QUOTIENT(ROW(AL1504)-2, 10), 1 + MOD(ROW(AL1504)-2, 10))","v":{"$error":"#REF!"}}]
[null,null,null,null,null,null,null,null,null,null,null,null,null,null,null,null,null,null,null,null,null,null,null,null,null,null,null,null,null,null,null,null,null,null,2130,"非住宅","RC造",{"$f":"INDEX(#REF!, 9 + QUOTIENT(ROW(AL1509)-2, 10), 1 + MOD(ROW(AL1509)-2, 10))","v":{"$error":"#REF!"}}]
[null,null,null,null,null,null,null,null,null,null,null,null,null,null,null,null,null,null,null,null,null,null,null,null,null,null,null,null,null,null,null,null,null,null,2131,"住宅","SRC造",{"$f":"INDEX(#REF!, 9 + QUOTIENT(ROW(AL1513)-2, 10), 1 + MOD(ROW(AL1513)-2, 10))","v":{"$error":"#REF!"}}]
[null,null,null,null,null,null,null,null,null,null,null,null,null,null,null,null,null,null,null,null,null,null,null,null,null,null,null,null,null,null,null,null,null,null,2131,"非住宅","SRC造",{"$f":"INDEX(#REF!, 9 + QUOTIENT(ROW(AL1518)-2, 10), 1 + MOD(ROW(AL1518)-2, 10))","v":{"$error":"#REF!"}}]
[null,null,null,null,null,null,null,null,null,null,null,null,null,null,null,null,null,null,null,null,null,null,null,null,null,null,null,null,null,null,null,null,null,null,2131,"非住宅","RC造",{"$f":"INDEX(#REF!, 9 + QUOTIENT(ROW(AL1519)-2, 10), 1 + MOD(ROW(AL1519)-2, 10))","v":{"$error":"#REF!"}}]
[null,null,null,null,null,null,null,null,null,null,null,null,null,null,null,null,null,null,null,null,null,null,null,null,null,null,null,null,null,null,null,null,null,null,2132,"住宅","RC造",{"$f":"INDEX(#REF!, 9 + QUOTIENT(ROW(AL1524)-2, 10), 1 + MOD(ROW(AL1524)-2, 10))","v":{"$error":"#REF!"}}]
[null,null,null,null,null,null,null,null,null,null,null,null,null,null,null,null,null,null,null,null,null,null,null,null,null,null,null,null,null,null,null,null,null,null,2132,"非住宅","RC造",{"$f":"INDEX(#REF!, 9 + QUOTIENT(ROW(AL1529)-2, 10), 1 + MOD(ROW(AL1529)-2, 10))","v":{"$error":"#REF!"}}]
[null,null,null,null,null,null,null,null,null,null,null,null,null,null,null,null,null,null,null,null,null,null,null,null,null,null,null,null,null,null,null,null,null,null,2133,"住宅","RC造",{"$f":"INDEX(#REF!, 9 + QUOTIENT(ROW(AL1534)-2, 10), 1 + MOD(ROW(AL1534)-2, 10))","v":{"$error":"#REF!"}}]
[null,null,null,null,null,null,null,null,null,null,null,null,null,null,null,null,null,null,null,null,null,null,null,null,null,null,null,null,null,null,null,null,null,null,2133,"住宅","S造",{"$f":"INDEX(#REF!, 9 + QUOTIENT(ROW(AL1535)-2, 10), 1 + MOD(ROW(AL1535)-2, 10))","v":{"$error":"#REF!"}}]
[null,null,null,null,null,null,null,null,null,null,null,null,null,null,null,null,null,null,null,null,null,null,null,null,null,null,null,null,null,null,null,null,null,null,2133,"非住宅","S造",{"$f":"INDEX(#REF!, 9 + QUOTIENT(ROW(AL1540)-2, 10), 1 + MOD(ROW(AL1540)-2, 10))","v":{"$error":"#REF!"}}]
[null,null,null,null,null,null,null,null,null,null,null,null,null,null,null,null,null,null,null,null,null,null,null,null,null,null,null,null,null,null,null,null,null,null,2134,"住宅","S造",{"$f":"INDEX(#REF!, 9 + QUOTIENT(ROW(AL1545)-2, 10), 1 + MOD(ROW(AL1545)-2, 10))","v":{"$error":"#REF!"}}]
[null,null,null,null,null,null,null,null,null,null,null,null,null,null,null,null,null,null,null,null,null,null,null,null,null,null,null,null,null,null,null,null,null,null,2134,"非住宅","S造",{"$f":"INDEX(#REF!, 9 + QUOTIENT(ROW(AL1550)-2, 10), 1 + MOD(ROW(AL1550)-2, 10))","v":{"$error":"#REF!"}}]
[null,null,null,null,null,null,null,null,null,null,null,null,null,null,null,null,null,null,null,null,null,null,null,null,null,null,null,null,null,null,null,null,null,null,2134,"非住宅","その他",{"$f":"INDEX(#REF!, 9 + QUOTIENT(ROW(AL1551)-2, 10), 1 + MOD(ROW(AL1551)-2, 10))","v":{"$error":"#REF!"}}]
[null,null,null,null,null,null,null,null,null,null,null,null,null,null,null,null,null,null,null,null,null,null,null,null,null,null,null,null,null,null,null,null,null,null,2135,"住宅","その他",{"$f":"INDEX(#REF!, 9 + QUOTIENT(ROW(AL1556)-2, 10), 1 + MOD(ROW(AL1556)-2, 10))","v":{"$error":"#REF!"}}]
[null,null,null,null,null,null,null,null,null,null,null,null,null,null,null,null,null,null,null,null,null,null,null,null,null,null,null,null,null,null,null,null,null,null,2135,"非住宅","その他",{"$f":"INDEX(#REF!, 9 + QUOTIENT(ROW(AL1561)-2, 10), 1 + MOD(ROW(AL1561)-2, 10))","v":{"$error":"#REF!"}}]
[null,null,null,null,null,null,null,null,null,null,null,null,null,null,null,null,null,null,null,null,null,null,null,null,null,null,null,null,null,null,null,null,null,null,2136,"住宅","その他",{"$f":"INDEX(#REF!, 9 + QUOTIENT(ROW(AL1566)-2, 10), 1 + MOD(ROW(AL1566)-2, 10))","v":{"$error":"#REF!"}}]
[null,null,null,null,null,null,null,null,null,null,null,null,null,null,null,null,null,null,null,null,null,null,null,null,null,null,null,null,null,null,null,null,null,null,2136,"非住宅","木造",{"$f":"INDEX(#REF!, 9 + QUOTIENT(ROW(AL1567)-2, 10), 1 + MOD(ROW(AL1567)-2, 10))","v":{"$error":"#REF!"}}]
[null,null,null,null,null,null,null,null,null,null,null,null,null,null,null,null,null,null,null,null,null,null,null,null,null,null,null,null,null,null,null,null,null,null,2137,"住宅","木造",{"$f":"INDEX(#REF!, 9 + QUOTIENT(ROW(AL1572)-2, 10), 1 + MOD(ROW(AL1572)-2, 10))","v":{"$error":"#REF!"}}]
[null,null,null,null,null,null,null,null,null,null,null,null,null,null,null,null,null,null,null,null,null,null,null,null,null,null,null,null,null,null,null,null,null,null,2137,"非住宅","木造",{"$f":"INDEX(#REF!, 9 + QUOTIENT(ROW(AL1577)-2, 10), 1 + MOD(ROW(AL1577)-2, 10))","v":{"$error":"#REF!"}}]
[null,null,null,null,null,null,null,null,null,null,null,null,null,null,null,null,null,null,null,null,null,null,null,null,null,null,null,null,null,null,null,null,null,null,2138,"住宅","木造",{"$f":"INDEX(#REF!, 9 + QUOTIENT(ROW(AL1582)-2, 10), 1 + MOD(ROW(AL1582)-2, 10))","v":{"$error":"#REF!"}}]
[null,null,null,null,null,null,null,null,null,null,null,null,null,null,null,null,null,null,null,null,null,null,null,null,null,null,null,null,null,null,null,null,null,null,2138,"住宅","SRC造",{"$f":"INDEX(#REF!, 9 + QUOTIENT(ROW(AL1583)-2, 10), 1 + MOD(ROW(AL1583)-2, 10))","v":{"$error":"#REF!"}}]
[null,null,null,null,null,null,null,null,null,null,null,null,null,null,null,null,null,null,null,null,null,null,null,null,null,null,null,null,null,null,null,null,null,null,2138,"非住宅","SRC造",{"$f":"INDEX(#REF!, 9 + QUOTIENT(ROW(AL1588)-2, 10), 1 + MOD(ROW(AL1588)-2, 10))","v":{"$error":"#REF!"}}]
[null,null,null,null,null,null,null,null,null,null,null,null,null,null,null,null,null,null,null,null,null,null,null,null,null,null,null,null,null,null,null,null,null,null,2139,"住宅","SRC造",{"$f":"INDEX(#REF!, 9 + QUOTIENT(ROW(AL1593)-2, 10), 1 + MOD(ROW(AL1593)-2, 10))","v":{"$error":"#REF!"}}]
[null,null,null,null,null,null,null,null,null,null,null,null,null,null,null,null,null,null,null,null,null,null,null,null,null,null,null,null,null,null,null,null,null,null,2139,"非住宅","SRC造",{"$f":"INDEX(#REF!, 9 + QUOTIENT(ROW(AL1598)-2, 10), 1 + MOD(ROW(AL1598)-2, 10))","v":{"$error":"#REF!"}}]
[null,null,null,null,null,null,null,null,null,null,null,null,null,null,null,null,null,null,null,null,null,null,null,null,null,null,null,null,null,null,null,null,null,null,2139,"非住宅","RC造",{"$f":"INDEX(#REF!, 9 + QUOTIENT(ROW(AL1599)-2, 10), 1 + MOD(ROW(AL1599)-2, 10))","v":{"$error":"#REF!"}}]
[null,null,null,null,null,null,null,null,null,null,null,null,null,null,null,null,null,null,null,null,null,null,null,null,null,null,null,null,null,null,null,null,null,null,2140,"住宅","RC造",{"$f":"INDEX(#REF!, 9 + QUOTIENT(ROW(AL1604)-2, 10), 1 + MOD(ROW(AL1604)-2, 10))","v":{"$error":"#REF!"}}]
[null,null,null,null,null,null,null,null,null,null,null,null,null,null,null,null,null,null,null,null,null,null,null,null,null,null,null,null,null,null,null,null,null,null,2140,"非住宅","RC造",{"$f":"INDEX(#REF!, 9 + QUOTIENT(ROW(AL1609)-2, 10), 1 + MOD(ROW(AL1609)-2, 10))","v":{"$error":"#REF!"}}]
[null,null,null,null,null,null,null,null,null,null,null,null,null,null,null,null,null,null,null,null,null,null,null,null,null,null,null,null,null,null,null,null,null,null,2141,"住宅","SRC造",{"$f":"INDEX(#REF!, 9 + QUOTIENT(ROW(AL1613)-2, 10), 1 + MOD(ROW(AL1613)-2, 10))","v":{"$error":"#REF!"}}]
[null,null,null,null,null,null,null,null,null,null,null,null,null,null,null,null,null,null,null,null,null,null,null,null,null,null,null,null,null,null,null,null,null,null,2141,"住宅","RC造",{"$f":"INDEX(#REF!, 9 + QUOTIENT(ROW(AL1614)-2, 10), 1 + MOD(ROW(AL1614)-2, 10))","v":{"$error":"#REF!"}}]
[null,null,null,null,null,null,null,null,null,null,null,null,null,null,null,null,null,null,null,null,null,null,null,null,null,null,null,null,null,null,null,null,null,null,2141,"非住宅","RC造",{"$f":"INDEX(#REF!, 9 + QUOTIENT(ROW(AL1619)-2, 10), 1 + MOD(ROW(AL1619)-2, 10))","v":{"$error":"#REF!"}}]
[null,null,null,null,null,null,null,null,null,null,null,null,null,null,null,null,null,null,null,null,null,null,null,null,null,null,null,null,null,null,null,null,null,null,2142,"住宅","RC造",{"$f":"INDEX(#REF!, 9 + QUOTIENT(ROW(AL1624)-2, 10), 1 + MOD(ROW(AL1624)-2, 10))","v":{"$error":"#REF!"}}]
[null,null,null,null,null,null,null,null,null,null,null,null,null,null,null,null,null,null,null,null,null,null,null,null,null,null,null,null,null,null,null,null,null,null,2142,"非住宅","RC造",{"$f":"INDEX(#REF!, 9 + QUOTIENT(ROW(AL1629)-2, 10), 1 + MOD(ROW(AL1629)-2, 10))","v":{"$error":"#REF!"}}]
[null,null,null,null,null,null,null,null,null,null,null,null,null,null,null,null,null,null,null,null,null,null,null,null,null,null,null,null,null,null,null,null,null,null,2142,"非住宅","S造",{"$f":"INDEX(#REF!, 9 + QUOTIENT(ROW(AL1630)-2, 10), 1 + MOD(ROW(AL1630)-2, 10))","v":{"$error":"#REF!"}}]
[null,null,null,null,null,null,null,null,null,null,null,null,null,null,null,null,null,null,null,null,null,null,null,null,null,null,null,null,null,null,null,null,null,null,2143,"住宅","S造",{"$f":"INDEX(#REF!, 9 + QUOTIENT(ROW(AL1635)-2, 10), 1 + MOD(ROW(AL1635)-2, 10))","v":{"$error":"#REF!"}}]
[null,null,null,null,null,null,null,null,null,null,null,null,null,null,null,null,null,null,null,null,null,null,null,null,null,null,null,null,null,null,null,null,null,null,2143,"非住宅","S造",{"$f":"INDEX(#REF!, 9 + QUOTIENT(ROW(AL1640)-2, 10), 1 + MOD(ROW(AL1640)-2, 10))","v":{"$error":"#REF!"}}]
[null,null,null,null,null,null,null,null,null,null,null,null,null,null,null,null,null,null,null,null,null,null,null,null,null,null,null,null,null,null,null,null,null,null,2144,"住宅","S造",{"$f":"INDEX(#REF!, 9 + QUOTIENT(ROW(AL1645)-2, 10), 1 + MOD(ROW(AL1645)-2, 10))","v":{"$error":"#REF!"}}]
[null,null,null,null,null,null,null,null,null,null,null,null,null,null,null,null,null,null,null,null,null,null,null,null,null,null,null,null,null,null,null,null,null,null,2144,"住宅","その他",{"$f":"INDEX(#REF!, 9 + QUOTIENT(ROW(AL1646)-2, 10), 1 + MOD(ROW(AL1646)-2, 10))","v":{"$error":"#REF!"}}]
[null,null,null,null,null,null,null,null,null,null,null,null,null,null,null,null,null,null,null,null,null,null,null,null,null,null,null,null,null,null,null,null,null,null,2144,"非住宅","その他",{"$f":"INDEX(#REF!, 9 + QUOTIENT(ROW(AL1651)-2, 10), 1 + MOD(ROW(AL1651)-2, 10))","v":{"$error":"#REF!"}}]
[null,null,null,null,null,null,null,null,null,null,null,null,null,null,null,null,null,null,null,null,null,null,null,null,null,null,null,null,null,null,null,null,null,null,2145,"住宅","その他",{"$f":"INDEX(#REF!, 9 + QUOTIENT(ROW(AL1656)-2, 10), 1 + MOD(ROW(AL1656)-2, 10))","v":{"$error":"#REF!"}}]
[null,null,null,null,null,null,null,null,null,null,null,null,null,null,null,null,null,null,null,null,null,null,null,null,null,null,null,null,null,null,null,null,null,null,2145,"非住宅","その他",{"$f":"INDEX(#REF!, 9 + QUOTIENT(ROW(AL1661)-2, 10), 1 + MOD(ROW(AL1661)-2, 10))","v":{"$error":"#REF!"}}]
[null,null,null,null,null,null,null,null,null,null,null,null,null,null,null,null,null,null,null,null,null,null,null,null,null,null,null,null,null,null,null,null,null,null,2146,"住宅","木造",{"$f":"INDEX(#REF!, 9 + QUOTIENT(ROW(AL1662)-2, 10), 1 + MOD(ROW(AL1662)-2, 10))","v":{"$error":"#REF!"}}]
[null,null,null,null,null,null,null,null,null,null,null,null,null,null,null,null,null,null,null,null,null,null,null,null,null,null,null,null,null,null,null,null,null,null,2146,"非住宅","木造",{"$f":"INDEX(#REF!, 9 + QUOTIENT(ROW(AL1667)-2, 10), 1 + MOD(ROW(AL1667)-2, 10))","v":{"$error":"#REF!"}}]
[null,null,null,null,null,null,null,null,null,null,null,null,null,null,null,null,null,null,null,null,null,null,null,null,null,null,null,null,null,null,null,null,null,null,2147,"住宅","木造",{"$f":"INDEX(#REF!, 9 + QUOTIENT(ROW(AL1672)-2, 10), 1 + MOD(ROW(AL1672)-2, 10))","v":{"$error":"#REF!"}}]
[null,null,null,null,null,null,null,null,null,null,null,null,null,null,null,null,null,null,null,null,null,null,null,null,null,null,null,null,null,null,null,null,null,null,2147,"非住宅","木造",{"$f":"INDEX(#REF!, 9 + QUOTIENT(ROW(AL1677)-2, 10), 1 + MOD(ROW(AL1677)-2, 10))","v":{"$error":"#REF!"}}]
[null,null,null,null,null,null,null,null,null,null,null,null,null,null,null,null,null,null,null,null,null,null,null,null,null,null,null,null,null,null,null,null,null,null,2147,"非住宅","SRC造",{"$f":"INDEX(#REF!, 9 + QUOTIENT(ROW(AL1678)-2, 10), 1 + MOD(ROW(AL1678)-2, 10))","v":{"$error":"#REF!"}}]
[null,null,null,null,null,null,null,null,null,null,null,null,null,null,null,null,null,null,null,null,null,null,null,null,null,null,null,null,null,null,null,null,null,null,2148,"住宅","SRC造",{"$f":"INDEX(#REF!, 9 + QUOTIENT(ROW(AL1683)-2, 10), 1 + MOD(ROW(AL1683)-2, 10))","v":{"$error":"#REF!"}}]
[null,null,null,null,null,null,null,null,null,null,null,null,null,null,null,null,null,null,null,null,null,null,null,null,null,null,null,null,null,null,null,null,null,null,2148,"非住宅","SRC造",{"$f":"INDEX(#REF!, 9 + QUOTIENT(ROW(AL1688)-2, 10), 1 + MOD(ROW(AL1688)-2, 10))","v":{"$error":"#REF!"}}]
[null,null,null,null,null,null,null,null,null,null,null,null,null,null,null,null,null,null,null,null,null,null,null,null,null,null,null,null,null,null,null,null,null,null,2149,"住宅","SRC造",{"$f":"INDEX(#REF!, 9 + QUOTIENT(ROW(AL1693)-2, 10), 1 + MOD(ROW(AL1693)-2, 10))","v":{"$error":"#REF!"}}]
[null,null,null,null,null,null,null,null,null,null,null,null,null,null,null,null,null,null,null,null,null,null,null,null,null,null,null,null,null,null,null,null,null,null,2149,"住宅","RC造",{"$f":"INDEX(#REF!, 9 + QUOTIENT(ROW(AL1694)-2, 10), 1 + MOD(ROW(AL1694)-2, 10))","v":{"$error":"#REF!"}}]
[null,null,null,null,null,null,null,null,null,null,null,null,null,null,null,null,null,null,null,null,null,null,null,null,null,null,null,null,null,null,null,null,null,null,2149,"非住宅","RC造",{"$f":"INDEX(#REF!, 9 + QUOTIENT(ROW(AL1699)-2, 10), 1 + MOD(ROW(AL1699)-2, 10))","v":{"$error":"#REF!"}}]
[null,null,null,null,null,null,null,null,null,null,null,null,null,null,null,null,null,null,null,null,null,null,null,null,null,null,null,null,null,null,null,null,null,null,2150,"住宅","RC造",{"$f":"INDEX(#REF!, 9 + QUOTIENT(ROW(AL1704)-2, 10), 1 + MOD(ROW(AL1704)-2, 10))","v":{"$error":"#REF!"}}]
[null,null,null,null,null,null,null,null,null,null,null,null,null,null,null,null,null,null,null,null,null,null,null,null,null,null,null,null,null,null,null,null,null,null,2150,"非住宅","RC造",{"$f":"INDEX(#REF!, 9 + QUOTIENT(ROW(AL1709)-2, 10), 1 + MOD(ROW(AL1709)-2, 10))","v":{"$error":"#REF!"}}]
[null,null,null,null,null,null,null,null,null,null,null,null,null,null,null,null,null,null,null,null,null,null,null,null,null,null,null,null,null,null,null,null,null,null,2150,"非住宅","S造",{"$f":"INDEX(#REF!, 9 + QUOTIENT(ROW(AL1710)-2, 10), 1 + MOD(ROW(AL1710)-2, 10))","v":{"$error":"#REF!"}}]
[null,null,null,null,null,null,null,null,null,null,null,null,null,null,null,null,null,null,null,null,null,null,null,null,null,null,null,null,null,null,null,null,null,null,2151,"住宅","RC造",{"$f":"INDEX(#REF!, 9 + QUOTIENT(ROW(AL1714)-2, 10), 1 + MOD(ROW(AL1714)-2, 10))","v":{"$error":"#REF!"}}]
[null,null,null,null,null,null,null,null,null,null,null,null,null,null,null,null,null,null,null,null,null,null,null,null,null,null,null,null,null,null,null,null,null,null,2151,"非住宅","RC造",{"$f":"INDEX(#REF!, 9 + QUOTIENT(ROW(AL1719)-2, 10), 1 + MOD(ROW(AL1719)-2, 10))","v":{"$error":"#REF!"}}]
[null,null,null,null,null,null,null,null,null,null,null,null,null,null,null,null,null,null,null,null,null,null,null,null,null,null,null,null,null,null,null,null,null,null,2152,"住宅","RC造",{"$f":"INDEX(#REF!, 9 + QUOTIENT(ROW(AL1724)-2, 10), 1 + MOD(ROW(AL1724)-2, 10))","v":{"$error":"#REF!"}}]
[null,null,null,null,null,null,null,null,null,null,null,null,null,null,null,null,null,null,null,null,null,null,null,null,null,null,null,null,null,null,null,null,null,null,2152,"住宅","S造",{"$f":"INDEX(#REF!, 9 + QUOTIENT(ROW(AL1725)-2, 10), 1 + MOD(ROW(AL1725)-2, 10))","v":{"$error":"#REF!"}}]
[null,null,null,null,null,null,null,null,null,null,null,null,null,null,null,null,null,null,null,null,null,null,null,null,null,null,null,null,null,null,null,null,null,null,2152,"非住宅","S造",{"$f":"INDEX(#REF!, 9 + QUOTIENT(ROW(AL1730)-2, 10), 1 + MOD(ROW(AL1730)-2, 10))","v":{"$error":"#REF!"}}]
[null,null,null,null,null,null,null,null,null,null,null,null,null,null,null,null,null,null,null,null,null,null,null,null,null,null,null,null,null,null,null,null,null,null,2153,"住宅","S造",{"$f":"INDEX(#REF!, 9 + QUOTIENT(ROW(AL1735)-2, 10), 1 + MOD(ROW(AL1735)-2, 10))","v":{"$error":"#REF!"}}]
[null,null,null,null,null,null,null,null,null,null,null,null,null,null,null,null,null,null,null,null,null,null,null,null,null,null,null,null,null,null,null,null,null,null,2153,"非住宅","S造",{"$f":"INDEX(#REF!, 9 + QUOTIENT(ROW(AL1740)-2, 10), 1 + MOD(ROW(AL1740)-2, 10))","v":{"$error":"#REF!"}}]
[null,null,null,null,null,null,null,null,null,null,null,null,null,null,null,null,null,null,null,null,null,null,null,null,null,null,null,null,null,null,null,null,null,null,2153,"非住宅","その他",{"$f":"INDEX(#REF!, 9 + QUOTIENT(ROW(AL1741)-2, 10), 1 + MOD(ROW(AL1741)-2, 10))","v":{"$error":"#REF!"}}]
[null,null,null,null,null,null,null,null,null,null,null,null,null,null,null,null,null,null,null,null,null,null,null,null,null,null,null,null,null,null,null,null,null,null,2154,"住宅","その他",{"$f":"INDEX(#REF!, 9 + QUOTIENT(ROW(AL1746)-2, 10), 1 + MOD(ROW(AL1746)-2, 10))","v":{"$error":"#REF!"}}]
[null,null,null,null,null,null,null,null,null,null,null,null,null,null,null,null,null,null,null,null,null,null,null,null,null,null,null,null,null,null,null,null,null,null,2154,"非住宅","その他",{"$f":"INDEX(#REF!, 9 + QUOTIENT(ROW(AL1751)-2, 10), 1 + MOD(ROW(AL1751)-2, 10))","v":{"$error":"#REF!"}}]
[null,null,null,null,null,null,null,null,null,null,null,null,null,null,null,null,null,null,null,null,null,null,null,null,null,null,null,null,null,null,null,null,null,null,2155,"住宅","その他",{"$f":"INDEX(#REF!, 9 + QUOTIENT(ROW(AL1756)-2, 10), 1 + MOD(ROW(AL1756)-2, 10))","v":{"$error":"#REF!"}}]
[null,null,null,null,null,null,null,null,null,null,null,null,null,null,null,null,null,null,null,null,null,null,null,null,null,null,null,null,null,null,null,null,null,null,2155,"非住宅","木造",{"$f":"INDEX(#REF!, 9 + QUOTIENT(ROW(AL1757)-2, 10), 1 + MOD(ROW(AL1757)-2, 10))","v":{"$error":"#REF!"}}]
[null,null,null,null,null,null,null,null,null,null,null,null,null,null,null,null,null,null,null,null,null,null,null,null,null,null,null,null,null,null,null,null,null,null,2156,"住宅","木造",{"$f":"INDEX(#REF!, 9 + QUOTIENT(ROW(AL1762)-2, 10), 1 + MOD(ROW(AL1762)-2, 10))","v":{"$error":"#REF!"}}]
[null,null,null,null,null,null,null,null,null,null,null,null,null,null,null,null,null,null,null,null,null,null,null,null,null,null,null,null,null,null,null,null,null,null,2156,"非住宅","木造",{"$f":"INDEX(#REF!, 9 + QUOTIENT(ROW(AL1767)-2, 10), 1 + MOD(ROW(AL1767)-2, 10))","v":{"$error":"#REF!"}}]
[null,null,null,null,null,null,null,null,null,null,null,null,null,null,null,null,null,null,null,null,null,null,null,null,null,null,null,null,null,null,null,null,null,null,2157,"住宅","木造",{"$f":"INDEX(#REF!, 9 + QUOTIENT(ROW(AL1772)-2, 10), 1 + MOD(ROW(AL1772)-2, 10))","v":{"$error":"#REF!"}}]
[null,null,null,null,null,null,null,null,null,null,null,null,null,null,null,null,null,null,null,null,null,null,null,null,null,null,null,null,null,null,null,null,null,null,2157,"住宅","SRC造",{"$f":"INDEX(#REF!, 9 + QUOTIENT(ROW(AL1773)-2, 10), 1 + MOD(ROW(AL1773)-2, 10))","v":{"$error":"#REF!"}}]
[null,null,null,null,null,null,null,null,null,null,null,null,null,null,null,null,null,null,null,null,null,null,null,null,null,null,null,null,null,null,null,null,null,null,2157,"非住宅","SRC造",{"$f":"INDEX(#REF!, 9 + QUOTIENT(ROW(AL1778)-2, 10), 1 + MOD(ROW(AL1778)-2, 10))","v":{"$error":"#REF!"}}]
[null,null,null,null,null,null,null,null,null,null,null,null,null,null,null,null,null,null,null,null,null,null,null,null,null,null,null,null,null,null,null,null,null,null,2158,"住宅","SRC造",{"$f":"INDEX(#REF!, 9 + QUOTIENT(ROW(AL1783)-2, 10), 1 + MOD(ROW(AL1783)-2, 10))","v":{"$error":"#REF!"}}]
[null,null,null,null,null,null,null,null,null,null,null,null,null,null,null,null,null,null,null,null,null,null,null,null,null,null,null,null,null,null,null,null,null,null,2158,"非住宅","SRC造",{"$f":"INDEX(#REF!, 9 + QUOTIENT(ROW(AL1788)-2, 10), 1 + MOD(ROW(AL1788)-2, 10))","v":{"$error":"#REF!"}}]
[null,null,null,null,null,null,null,null,null,null,null,null,null,null,null,null,null,null,null,null,null,null,null,null,null,null,null,null,null,null,null,null,null,null,2158,"非住宅","RC造",{"$f":"INDEX(#REF!, 9 + QUOTIENT(ROW(AL1789)-2, 10), 1 + MOD(ROW(AL1789)-2, 10))","v":{"$error":"#REF!"}}]
[null,null,null,null,null,null,null,null,null,null,null,null,null,null,null,null,null,null,null,null,null,null,null,null,null,null,null,null,null,null,null,null,null,null,2159,"住宅","RC造",{"$f":"INDEX(#REF!, 9 + QUOTIENT(ROW(AL1794)-2, 10), 1 + MOD(ROW(AL1794)-2, 10))","v":{"$error":"#REF!"}}]
[null,null,null,null,null,null,null,null,null,null,null,null,null,null,null,null,null,null,null,null,null,null,null,null,null,null,null,null,null,null,null,null,null,null,2159,"非住宅","RC造",{"$f":"INDEX(#REF!, 9 + QUOTIENT(ROW(AL1799)-2, 10), 1 + MOD(ROW(AL1799)-2, 10))","v":{"$error":"#REF!"}}]
[null,null,null,null,null,null,null,null,null,null,null,null,null,null,null,null,null,null,null,null,null,null,null,null,null,null,null,null,null,null,null,null,null,null,2160,"住宅","RC造",{"$f":"INDEX(#REF!, 9 + QUOTIENT(ROW(AL1804)-2, 10), 1 + MOD(ROW(AL1804)-2, 10))","v":{"$error":"#REF!"}}]
[null,null,null,null,null,null,null,null,null,null,null,null,null,null,null,null,null,null,null,null,null,null,null,null,null,null,null,null,null,null,null,null,null,null,2160,"住宅","S造",{"$f":"INDEX(#REF!, 9 + QUOTIENT(ROW(AL1805)-2, 10), 1 + MOD(ROW(AL1805)-2, 10))","v":{"$error":"#REF!"}}]
[null,null,null,null,null,null,null,null,null,null,null,null,null,null,null,null,null,null,null,null,null,null,null,null,null,null,null,null,null,null,null,null,null,null,2160,"非住宅","S造",{"$f":"INDEX(#REF!, 9 + QUOTIENT(ROW(AL1810)-2, 10), 1 + MOD(ROW(AL1810)-2, 10))","v":{"$error":"#REF!"}}]
[null,null,null,null,null,null,null,null,null,null,null,null,null,null,null,null,null,null,null,null,null,null,null,null,null,null,null,null,null,null,null,null,null,null,2161,"住宅","RC造",{"$f":"INDEX(#REF!, 9 + QUOTIENT(ROW(AL1814)-2, 10), 1 + MOD(ROW(AL1814)-2, 10))","v":{"$error":"#REF!"}}]
[null,null,null,null,null,null,null,null,null,null,null,null,null,null,null,null,null,null,null,null,null,null,null,null,null,null,null,null,null,null,null,null,null,null,2161,"非住宅","RC造",{"$f":"INDEX(#REF!, 9 + QUOTIENT(ROW(AL1819)-2, 10), 1 + MOD(ROW(AL1819)-2, 10))","v":{"$error":"#REF!"}}]
[null,null,null,null,null,null,null,null,null,null,null,null,null,null,null,null,null,null,null,null,null,null,null,null,null,null,null,null,null,null,null,null,null,null,2161,"非住宅","S造",{"$f":"INDEX(#REF!, 9 + QUOTIENT(ROW(AL1820)-2, 10), 1 + MOD(ROW(AL1820)-2, 10))","v":{"$error":"#REF!"}}]
[null,null,null,null,null,null,null,null,null,null,null,null,null,null,null,null,null,null,null,null,null,null,null,null,null,null,null,null,null,null,null,null,null,null,2162,"住宅","S造",{"$f":"INDEX(#REF!, 9 + QUOTIENT(ROW(AL1825)-2, 10), 1 + MOD(ROW(AL1825)-2, 10))","v":{"$error":"#REF!"}}]
[null,null,null,null,null,null,null,null,null,null,null,null,null,null,null,null,null,null,null,null,null,null,null,null,null,null,null,null,null,null,null,null,null,null,2162,"非住宅","S造",{"$f":"INDEX(#REF!, 9 + QUOTIENT(ROW(AL1830)-2, 10), 1 + MOD(ROW(AL1830)-2, 10))","v":{"$error":"#REF!"}}]
[null,null,null,null,null,null,null,null,null,null,null,null,null,null,null,null,null,null,null,null,null,null,null,null,null,null,null,null,null,null,null,null,null,null,2163,"住宅","S造",{"$f":"INDEX(#REF!, 9 + QUOTIENT(ROW(AL1835)-2, 10), 1 + MOD(ROW(AL1835)-2, 10))","v":{"$error":"#REF!"}}]
[null,null,null,null,null,null,null,null,null,null,null,null,null,null,null,null,null,null,null,null,null,null,null,null,null,null,null,null,null,null,null,null,null,null,2163,"住宅","その他",{"$f":"INDEX(#REF!, 9 + QUOTIENT(ROW(AL1836)-2, 10), 1 + MOD(ROW(AL1836)-2, 10))","v":{"$error":"#REF!"}}]
[null,null,null,null,null,null,null,null,null,null,null,null,null,null,null,null,null,null,null,null,null,null,null,null,null,null,null,null,null,null,null,null,null,null,2163,"非住宅","その他",{"$f":"INDEX(#REF!, 9 + QUOTIENT(ROW(AL1841)-2, 10), 1 + MOD(ROW(AL1841)-2, 10))","v":{"$error":"#REF!"}}]
[null,null,null,null,null,null,null,null,null,null,null,null,null,null,null,null,null,null,null,null,null,null,null,null,null,null,null,null,null,null,null,null,null,null,2164,"住宅","その他",{"$f":"INDEX(#REF!, 9 + QUOTIENT(ROW(AL1846)-2, 10), 1 + MOD(ROW(AL1846)-2, 10))","v":{"$error":"#REF!"}}]
[null,null,null,null,null,null,null,null,null,null,null,null,null,null,null,null,null,null,null,null,null,null,null,null,null,null,null,null,null,null,null,null,null,null,2164,"非住宅","その他",{"$f":"INDEX(#REF!, 9 + QUOTIENT(ROW(AL1851)-2, 10), 1 + MOD(ROW(AL1851)-2, 10))","v":{"$error":"#REF!"}}]
[null,null,null,null,null,null,null,null,null,null,null,null,null,null,null,null,null,null,null,null,null,null,null,null,null,null,null,null,null,null,null,null,null,null,2165,"住宅","木造",{"$f":"INDEX(#REF!, 9 + QUOTIENT(ROW(AL1852)-2, 10), 1 + MOD(ROW(AL1852)-2, 10))","v":{"$error":"#REF!"}}]
[null,null,null,null,null,null,null,null,null,null,null,null,null,null,null,null,null,null,null,null,null,null,null,null,null,null,null,null,null,null,null,null,null,null,2165,"非住宅","木造",{"$f":"INDEX(#REF!, 9 + QUOTIENT(ROW(AL1857)-2, 10), 1 + MOD(ROW(AL1857)-2, 10))","v":{"$error":"#REF!"}}]
[null,null,null,null,null,null,null,null,null,null,null,null,null,null,null,null,null,null,null,null,null,null,null,null,null,null,null,null,null,null,null,null,null,null,2166,"住宅","木造",{"$f":"INDEX(#REF!, 9 + QUOTIENT(ROW(AL1862)-2, 10), 1 + MOD(ROW(AL1862)-2, 10))","v":{"$error":"#REF!"}}]
[null,null,null,null,null,null,null,null,null,null,null,null,null,null,null,null,null,null,null,null,null,null,null,null,null,null,null,null,null,null,null,null,null,null,2166,"非住宅","木造",{"$f":"INDEX(#REF!, 9 + QUOTIENT(ROW(AL1867)-2, 10), 1 + MOD(ROW(AL1867)-2, 10))","v":{"$error":"#REF!"}}]
[null,null,null,null,null,null,null,null,null,null,null,null,null,null,null,null,null,null,null,null,null,null,null,null,null,null,null,null,null,null,null,null,null,null,2166,"非住宅","SRC造",{"$f":"INDEX(#REF!, 9 + QUOTIENT(ROW(AL1868)-2, 10), 1 + MOD(ROW(AL1868)-2, 10))","v":{"$error":"#REF!"}}]
[null,null,null,null,null,null,null,null,null,null,null,null,null,null,null,null,null,null,null,null,null,null,null,null,null,null,null,null,null,null,null,null,null,null,2167,"住宅","SRC造",{"$f":"INDEX(#REF!, 9 + QUOTIENT(ROW(AL1873)-2, 10), 1 + MOD(ROW(AL1873)-2, 10))","v":{"$error":"#REF!"}}]
[null,null,null,null,null,null,null,null,null,null,null,null,null,null,null,null,null,null,null,null,null,null,null,null,null,null,null,null,null,null,null,null,null,null,2167,"非住宅","SRC造",{"$f":"INDEX(#REF!, 9 + QUOTIENT(ROW(AL1878)-2, 10), 1 + MOD(ROW(AL1878)-2, 10))","v":{"$error":"#REF!"}}]
[null,null,null,null,null,null,null,null,null,null,null,null,null,null,null,null,null,null,null,null,null,null,null,null,null,null,null,null,null,null,null,null,null,null,2168,"住宅","SRC造",{"$f":"INDEX(#REF!, 9 + QUOTIENT(ROW(AL1883)-2, 10), 1 + MOD(ROW(AL1883)-2, 10))","v":{"$error":"#REF!"}}]
[null,null,null,null,null,null,null,null,null,null,null,null,null,null,null,null,null,null,null,null,null,null,null,null,null,null,null,null,null,null,null,null,null,null,2168,"住宅","RC造",{"$f":"INDEX(#REF!, 9 + QUOTIENT(ROW(AL1884)-2, 10), 1 + MOD(ROW(AL1884)-2, 10))","v":{"$error":"#REF!"}}]
[null,null,null,null,null,null,null,null,null,null,null,null,null,null,null,null,null,null,null,null,null,null,null,null,null,null,null,null,null,null,null,null,null,null,2168,"非住宅","RC造",{"$f":"INDEX(#REF!, 9 + QUOTIENT(ROW(AL1889)-2, 10), 1 + MOD(ROW(AL1889)-2, 10))","v":{"$error":"#REF!"}}]
[null,null,null,null,null,null,null,null,null,null,null,null,null,null,null,null,null,null,null,null,null,null,null,null,null,null,null,null,null,null,null,null,null,null,2169,"住宅","RC造",{"$f":"INDEX(#REF!, 9 + QUOTIENT(ROW(AL1894)-2, 10), 1 + MOD(ROW(AL1894)-2, 10))","v":{"$error":"#REF!"}}]
[null,null,null,null,null,null,null,null,null,null,null,null,null,null,null,null,null,null,null,null,null,null,null,null,null,null,null,null,null,null,null,null,null,null,2169,"非住宅","RC造",{"$f":"INDEX(#REF!, 9 + QUOTIENT(ROW(AL1899)-2, 10), 1 + MOD(ROW(AL1899)-2, 10))","v":{"$error":"#REF!"}}]
[null,null,null,null,null,null,null,null,null,null,null,null,null,null,null,null,null,null,null,null,null,null,null,null,null,null,null,null,null,null,null,null,null,null,2169,"非住宅","S造",{"$f":"INDEX(#REF!, 9 + QUOTIENT(ROW(AL1900)-2, 10), 1 + MOD(ROW(AL1900)-2, 10))","v":{"$error":"#REF!"}}]
[null,null,null,null,null,null,null,null,null,null,null,null,null,null,null,null,null,null,null,null,null,null,null,null,null,null,null,null,null,null,null,null,null,null,2170,"住宅","S造",{"$f":"INDEX(#REF!, 9 + QUOTIENT(ROW(AL1905)-2, 10), 1 + MOD(ROW(AL1905)-2, 10))","v":{"$error":"#REF!"}}]
[null,null,null,null,null,null,null,null,null,null,null,null,null,null,null,null,null,null,null,null,null,null,null,null,null,null,null,null,null,null,null,null,null,null,2170,"非住宅","S造",{"$f":"INDEX(#REF!, 9 + QUOTIENT(ROW(AL1910)-2, 10), 1 + MOD(ROW(AL1910)-2, 10))","v":{"$error":"#REF!"}}]
[null,null,null,null,null,null,null,null,null,null,null,null,null,null,null,null,null,null,null,null,null,null,null,null,null,null,null,null,null,null,null,null,null,null,2171,"住宅","SRC造",{"$f":"INDEX(#REF!, 9 + QUOTIENT(ROW(AL1913)-2, 10), 1 + MOD(ROW(AL1913)-2, 10))","v":{"$error":"#REF!"}}]
[null,null,null,null,null,null,null,null,null,null,null,null,null,null,null,null,null,null,null,null,null,null,null,null,null,null,null,null,null,null,null,null,null,null,2171,"住宅","S造",{"$f":"INDEX(#REF!, 9 + QUOTIENT(ROW(AL1915)-2, 10), 1 + MOD(ROW(AL1915)-2, 10))","v":{"$error":"#REF!"}}]
[null,null,null,null,null,null,null,null,null,null,null,null,null,null,null,null,null,null,null,null,null,null,null,null,null,null,null,null,null,null,null,null,null,null,2171,"非住宅","S造",{"$f":"INDEX(#REF!, 9 + QUOTIENT(ROW(AL1920)-2, 10), 1 + MOD(ROW(AL1920)-2, 10))","v":{"$error":"#REF!"}}]
[null,null,null,null,null,null,null,null,null,null,null,null,null,null,null,null,null,null,null,null,null,null,null,null,null,null,null,null,null,null,null,null,null,null,2172,"住宅","S造",{"$f":"INDEX(#REF!, 9 + QUOTIENT(ROW(AL1925)-2, 10), 1 + MOD(ROW(AL1925)-2, 10))","v":{"$error":"#REF!"}}]
[null,null,null,null,null,null,null,null,null,null,null,null,null,null,null,null,null,null,null,null,null,null,null,null,null,null,null,null,null,null,null,null,null,null,2172,"非住宅","S造",{"$f":"INDEX(#REF!, 9 + QUOTIENT(ROW(AL1930)-2, 10), 1 + MOD(ROW(AL1930)-2, 10))","v":{"$error":"#REF!"}}]
[null,null,null,null,null,null,null,null,null,null,null,null,null,null,null,null,null,null,null,null,null,null,null,null,null,null,null,null,null,null,null,null,null,null,2172,"非住宅","その他",{"$f":"INDEX(#REF!, 9 + QUOTIENT(ROW(AL1931)-2, 10), 1 + MOD(ROW(AL1931)-2, 10))","v":{"$error":"#REF!"}}]
[null,null,null,null,null,null,null,null,null,null,null,null,null,null,null,null,null,null,null,null,null,null,null,null,null,null,null,null,null,null,null,null,null,null,2173,"住宅","その他",{"$f":"INDEX(#REF!, 9 + QUOTIENT(ROW(AL1936)-2, 10), 1 + MOD(ROW(AL1936)-2, 10))","v":{"$error":"#REF!"}}]
[null,null,null,null,null,null,null,null,null,null,null,null,null,null,null,null,null,null,null,null,null,null,null,null,null,null,null,null,null,null,null,null,null,null,2173,"非住宅","その他",{"$f":"INDEX(#REF!, 9 + QUOTIENT(ROW(AL1941)-2, 10), 1 + MOD(ROW(AL1941)-2, 10))","v":{"$error":"#REF!"}}]
[null,null,null,null,null,null,null,null,null,null,null,null,null,null,null,null,null,null,null,null,null,null,null,null,null,null,null,null,null,null,null,null,null,null,2174,"住宅","その他",{"$f":"INDEX(#REF!, 9 + QUOTIENT(ROW(AL1946)-2, 10), 1 + MOD(ROW(AL1946)-2, 10))","v":{"$error":"#REF!"}}]
[null,null,null,null,null,null,null,null,null,null,null,null,null,null,null,null,null,null,null,null,null,null,null,null,null,null,null,null,null,null,null,null,null,null,2174,"非住宅","木造",{"$f":"INDEX(#REF!, 9 + QUOTIENT(ROW(AL1947)-2, 10), 1 + MOD(ROW(AL1947)-2, 10))","v":{"$error":"#REF!"}}]
[null,null,null,null,null,null,null,null,null,null,null,null,null,null,null,null,null,null,null,null,null,null,null,null,null,null,null,null,null,null,null,null,null,null,2175,"住宅","木造",{"$f":"INDEX(#REF!, 9 + QUOTIENT(ROW(AL1952)-2, 10), 1 + MOD(ROW(AL1952)-2, 10))","v":{"$error":"#REF!"}}]
[null,null,null,null,null,null,null,null,null,null,null,null,null,null,null,null,null,null,null,null,null,null,null,null,null,null,null,null,null,null,null,null,null,null,2175,"非住宅","木造",{"$f":"INDEX(#REF!, 9 + QUOTIENT(ROW(AL1957)-2, 10), 1 + MOD(ROW(AL1957)-2, 10))","v":{"$error":"#REF!"}}]
[null,null,null,null,null,null,null,null,null,null,null,null,null,null,null,null,null,null,null,null,null,null,null,null,null,null,null,null,null,null,null,null,null,null,2176,"住宅","木造",{"$f":"INDEX(#REF!, 9 + QUOTIENT(ROW(AL1962)-2, 10), 1 + MOD(ROW(AL1962)-2, 10))","v":{"$error":"#REF!"}}]
[null,null,null,null,null,null,null,null,null,null,null,null,null,null,null,null,null,null,null,null,null,null,null,null,null,null,null,null,null,null,null,null,null,null,2176,"住宅","SRC造",{"$f":"INDEX(#REF!, 9 + QUOTIENT(ROW(AL1963)-2, 10), 1 + MOD(ROW(AL1963)-2, 10))","v":{"$error":"#REF!"}}]
[null,null,null,null,null,null,null,null,null,null,null,null,null,null,null,null,null,null,null,null,null,null,null,null,null,null,null,null,null,null,null,null,null,null,2176,"非住宅","SRC造",{"$f":"INDEX(#REF!, 9 + QUOTIENT(ROW(AL1968)-2, 10), 1 + MOD(ROW(AL1968)-2, 10))","v":{"$error":"#REF!"}}]
[null,null,null,null,null,null,null,null,null,null,null,null,null,null,null,null,null,null,null,null,null,null,null,null,null,null,null,null,null,null,null,null,null,null,2177,"住宅","SRC造",{"$f":"INDEX(#REF!, 9 + QUOTIENT(ROW(AL1973)-2, 10), 1 + MOD(ROW(AL1973)-2, 10))","v":{"$error":"#REF!"}}]
[null,null,null,null,null,null,null,null,null,null,null,null,null,null,null,null,null,null,null,null,null,null,null,null,null,null,null,null,null,null,null,null,null,null,2177,"非住宅","SRC造",{"$f":"INDEX(#REF!, 9 + QUOTIENT(ROW(AL1978)-2, 10), 1 + MOD(ROW(AL1978)-2, 10))","v":{"$error":"#REF!"}}]
[null,null,null,null,null,null,null,null,null,null,null,null,null,null,null,null,null,null,null,null,null,null,null,null,null,null,null,null,null,null,null,null,null,null,2177,"非住宅","RC造",{"$f":"INDEX(#REF!, 9 + QUOTIENT(ROW(AL1979)-2, 10), 1 + MOD(ROW(AL1979)-2, 10))","v":{"$error":"#REF!"}}]
[null,null,null,null,null,null,null,null,null,null,null,null,null,null,null,null,null,null,null,null,null,null,null,null,null,null,null,null,null,null,null,null,null,null,2178,"住宅","RC造",{"$f":"INDEX(#REF!, 9 + QUOTIENT(ROW(AL1984)-2, 10), 1 + MOD(ROW(AL1984)-2, 10))","v":{"$error":"#REF!"}}]
[null,null,null,null,null,null,null,null,null,null,null,null,null,null,null,null,null,null,null,null,null,null,null,null,null,null,null,null,null,null,null,null,null,null,2178,"非住宅","RC造",{"$f":"INDEX(#REF!, 9 + QUOTIENT(ROW(AL1989)-2, 10), 1 + MOD(ROW(AL1989)-2, 10))","v":{"$error":"#REF!"}}]
[null,null,null,null,null,null,null,null,null,null,null,null,null,null,null,null,null,null,null,null,null,null,null,null,null,null,null,null,null,null,null,null,null,null,2179,"住宅","RC造",{"$f":"INDEX(#REF!, 9 + QUOTIENT(ROW(AL1994)-2, 10), 1 + MOD(ROW(AL1994)-2, 10))","v":{"$error":"#REF!"}}]
[null,null,null,null,null,null,null,null,null,null,null,null,null,null,null,null,null,null,null,null,null,null,null,null,null,null,null,null,null,null,null,null,null,null,2179,"住宅","S造",{"$f":"INDEX(#REF!, 9 + QUOTIENT(ROW(AL1995)-2, 10), 1 + MOD(ROW(AL1995)-2, 10))","v":{"$error":"#REF!"}}]
[null,null,null,null,null,null,null,null,null,null,null,null,null,null,null,null,null,null,null,null,null,null,null,null,null,null,null,null,null,null,null,null,null,null,2179,"非住宅","S造",{"$f":"INDEX(#REF!, 9 + QUOTIENT(ROW(AL2000)-2, 10), 1 + MOD(ROW(AL2000)-2, 10))","v":{"$error":"#REF!"}}]
[null,null,null,null,null,null,null,null,null,null,null,null,null,null,null,null,null,null,null,null,null,null,null,null,null,null,null,null,null,null,null,null,null,null,2180,"住宅","S造",{"$f":"INDEX(#REF!, 9 + QUOTIENT(ROW(AL2005)-2, 10), 1 + MOD(ROW(AL2005)-2, 10))","v":{"$error":"#REF!"}}]
[null,null,null,null,null,null,null,null,null,null,null,null,null,null,null,null,null,null,null,null,null,null,null,null,null,null,null,null,null,null,null,null,null,null,2180,"非住宅","S造",{"$f":"INDEX(#REF!, 9 + QUOTIENT(ROW(AL2010)-2, 10), 1 + MOD(ROW(AL2010)-2, 10))","v":{"$error":"#REF!"}}]
[null,null,null,null,null,null,null,null,null,null,null,null,null,null,null,null,null,null,null,null,null,null,null,null,null,null,null,null,null,null,null,null,null,null,2180,"非住宅","その他",{"$f":"INDEX(#REF!, 9 + QUOTIENT(ROW(AL2011)-2, 10), 1 + MOD(ROW(AL2011)-2, 10))","v":{"$error":"#REF!"}}]
[null,null,null,null,null,null,null,null,null,null,null,null,null,null,null,null,null,null,null,null,null,null,null,null,null,null,null,null,null,null,null,null,null,null,2181,"非住宅","木造",{"$f":"INDEX(#REF!, 9 + QUOTIENT(ROW(AL2017)-2, 10), 1 + MOD(ROW(AL2017)-2, 10))","v":{"$error":"#REF!"}}]
[null,null,null,null,null,null,null,null,null,null,null,null,null,null,null,null,null,null,null,null,null,null,null,null,null,null,null,null,null,null,null,null,null,null,2181,"非住宅","S造",{"$f":"INDEX(#REF!, 9 + QUOTIENT(ROW(AL2020)-2, 10), 1 + MOD(ROW(AL2020)-2, 10))","v":{"$error":"#REF!"}}]
[null,null,null,null,null,null,null,null,null,null,null,null,null,null,null,null,null,null,null,null,null,null,null,null,null,null,null,null,null,null,null,null,null,null,2182,"住宅","S造",{"$f":"INDEX(#REF!, 9 + QUOTIENT(ROW(AL2025)-2, 10), 1 + MOD(ROW(AL2025)-2, 10))","v":{"$error":"#REF!"}}]
[null,null,null,null,null,null,null,null,null,null,null,null,null,null,null,null,null,null,null,null,null,null,null,null,null,null,null,null,null,null,null,null,null,null,2182,"住宅","その他",{"$f":"INDEX(#REF!, 9 + QUOTIENT(ROW(AL2026)-2, 10), 1 + MOD(ROW(AL2026)-2, 10))","v":{"$error":"#REF!"}}]
[null,null,null,null,null,null,null,null,null,null,null,null,null,null,null,null,null,null,null,null,null,null,null,null,null,null,null,null,null,null,null,null,null,null,2182,"非住宅","その他",{"$f":"INDEX(#REF!, 9 + QUOTIENT(ROW(AL2031)-2, 10), 1 + MOD(ROW(AL2031)-2, 10))","v":{"$error":"#REF!"}}]
[null,null,null,null,null,null,null,null,null,null,null,null,null,null,null,null,null,null,null,null,null,null,null,null,null,null,null,null,null,null,null,null,null,null,2183,"住宅","その他",{"$f":"INDEX(#REF!, 9 + QUOTIENT(ROW(AL2036)-2, 10), 1 + MOD(ROW(AL2036)-2, 10))","v":{"$error":"#REF!"}}]
[null,null,null,null,null,null,null,null,null,null,null,null,null,null,null,null,null,null,null,null,null,null,null,null,null,null,null,null,null,null,null,null,null,null,2183,"非住宅","その他",{"$f":"INDEX(#REF!, 9 + QUOTIENT(ROW(AL2041)-2, 10), 1 + MOD(ROW(AL2041)-2, 10))","v":{"$error":"#REF!"}}]
[null,null,null,null,null,null,null,null,null,null,null,null,null,null,null,null,null,null,null,null,null,null,null,null,null,null,null,null,null,null,null,null,null,null,2184,"住宅","木造",{"$f":"INDEX(#REF!, 9 + QUOTIENT(ROW(AL2042)-2, 10), 1 + MOD(ROW(AL2042)-2, 10))","v":{"$error":"#REF!"}}]
[null,null,null,null,null,null,null,null,null,null,null,null,null,null,null,null,null,null,null,null,null,null,null,null,null,null,null,null,null,null,null,null,null,null,2184,"非住宅","木造",{"$f":"INDEX(#REF!, 9 + QUOTIENT(ROW(AL2047)-2, 10), 1 + MOD(ROW(AL2047)-2, 10))","v":{"$error":"#REF!"}}]
[null,null,null,null,null,null,null,null,null,null,null,null,null,null,null,null,null,null,null,null,null,null,null,null,null,null,null,null,null,null,null,null,null,null,2185,"住宅","木造",{"$f":"INDEX(#REF!, 9 + QUOTIENT(ROW(AL2052)-2, 10), 1 + MOD(ROW(AL2052)-2, 10))","v":{"$error":"#REF!"}}]
[null,null,null,null,null,null,null,null,null,null,null,null,null,null,null,null,null,null,null,null,null,null,null,null,null,null,null,null,null,null,null,null,null,null,2185,"非住宅","木造",{"$f":"INDEX(#REF!, 9 + QUOTIENT(ROW(AL2057)-2, 10), 1 + MOD(ROW(AL2057)-2, 10))","v":{"$error":"#REF!"}}]
[null,null,null,null,null,null,null,null,null,null,null,null,null,null,null,null,null,null,null,null,null,null,null,null,null,null,null,null,null,null,null,null,null,null,2185,"非住宅","SRC造",{"$f":"INDEX(#REF!, 9 + QUOTIENT(ROW(AL2058)-2, 10), 1 + MOD(ROW(AL2058)-2, 10))","v":{"$error":"#REF!"}}]
[null,null,null,null,null,null,null,null,null,null,null,null,null,null,null,null,null,null,null,null,null,null,null,null,null,null,null,null,null,null,null,null,null,null,2186,"住宅","SRC造",{"$f":"INDEX(#REF!, 9 + QUOTIENT(ROW(AL2063)-2, 10), 1 + MOD(ROW(AL2063)-2, 10))","v":{"$error":"#REF!"}}]
[null,null,null,null,null,null,null,null,null,null,null,null,null,null,null,null,null,null,null,null,null,null,null,null,null,null,null,null,null,null,null,null,null,null,2186,"非住宅","SRC造",{"$f":"INDEX(#REF!, 9 + QUOTIENT(ROW(AL2068)-2, 10), 1 + MOD(ROW(AL2068)-2, 10))","v":{"$error":"#REF!"}}]
[null,null,null,null,null,null,null,null,null,null,null,null,null,null,null,null,null,null,null,null,null,null,null,null,null,null,null,null,null,null,null,null,null,null,2187,"住宅","SRC造",{"$f":"INDEX(#REF!, 9 + QUOTIENT(ROW(AL2073)-2, 10), 1 + MOD(ROW(AL2073)-2, 10))","v":{"$error":"#REF!"}}]
[null,null,null,null,null,null,null,null,null,null,null,null,null,null,null,null,null,null,null,null,null,null,null,null,null,null,null,null,null,null,null,null,null,null,2187,"住宅","RC造",{"$f":"INDEX(#REF!, 9 + QUOTIENT(ROW(AL2074)-2, 10), 1 + MOD(ROW(AL2074)-2, 10))","v":{"$error":"#REF!"}}]
[null,null,null,null,null,null,null,null,null,null,null,null,null,null,null,null,null,null,null,null,null,null,null,null,null,null,null,null,null,null,null,null,null,null,2187,"非住宅","RC造",{"$f":"INDEX(#REF!, 9 + QUOTIENT(ROW(AL2079)-2, 10), 1 + MOD(ROW(AL2079)-2, 10))","v":{"$error":"#REF!"}}]
[null,null,null,null,null,null,null,null,null,null,null,null,null,null,null,null,null,null,null,null,null,null,null,null,null,null,null,null,null,null,null,null,null,null,2188,"住宅","RC造",{"$f":"INDEX(#REF!, 9 + QUOTIENT(ROW(AL2084)-2, 10), 1 + MOD(ROW(AL2084)-2, 10))","v":{"$error":"#REF!"}}]
[null,null,null,null,null,null,null,null,null,null,null,null,null,null,null,null,null,null,null,null,null,null,null,null,null,null,null,null,null,null,null,null,null,null,2188,"非住宅","RC造",{"$f":"INDEX(#REF!, 9 + QUOTIENT(ROW(AL2089)-2, 10), 1 + MOD(ROW(AL2089)-2, 10))","v":{"$error":"#REF!"}}]
[null,null,null,null,null,null,null,null,null,null,null,null,null,null,null,null,null,null,null,null,null,null,null,null,null,null,null,null,null,null,null,null,null,null,2188,"非住宅","S造",{"$f":"INDEX(#REF!, 9 + QUOTIENT(ROW(AL2090)-2, 10), 1 + MOD(ROW(AL2090)-2, 10))","v":{"$error":"#REF!"}}]
[null,null,null,null,null,null,null,null,null,null,null,null,null,null,null,null,null,null,null,null,null,null,null,null,null,null,null,null,null,null,null,null,null,null,2189,"住宅","S造",{"$f":"INDEX(#REF!, 9 + QUOTIENT(ROW(AL2095)-2, 10), 1 + MOD(ROW(AL2095)-2, 10))","v":{"$error":"#REF!"}}]
[null,null,null,null,null,null,null,null,null,null,null,null,null,null,null,null,null,null,null,null,null,null,null,null,null,null,null,null,null,null,null,null,null,null,2189,"非住宅","S造",{"$f":"INDEX(#REF!, 9 + QUOTIENT(ROW(AL2100)-2, 10), 1 + MOD(ROW(AL2100)-2, 10))","v":{"$error":"#REF!"}}]
[null,null,null,null,null,null,null,null,null,null,null,null,null,null,null,null,null,null,null,null,null,null,null,null,null,null,null,null,null,null,null,null,null,null,2190,"住宅","S造",{"$f":"INDEX(#REF!, 9 + QUOTIENT(ROW(AL2105)-2, 10), 1 + MOD(ROW(AL2105)-2, 10))","v":{"$error":"#REF!"}}]
[null,null,null,null,null,null,null,null,null,null,null,null,null,null,null,null,null,null,null,null,null,null,null,null,null,null,null,null,null,null,null,null,null,null,2190,"住宅","その他",{"$f":"INDEX(#REF!, 9 + QUOTIENT(ROW(AL2106)-2, 10), 1 + MOD(ROW(AL2106)-2, 10))","v":{"$error":"#REF!"}}]
[null,null,null,null,null,null,null,null,null,null,null,null,null,null,null,null,null,null,null,null,null,null,null,null,null,null,null,null,null,null,null,null,null,null,2190,"非住宅","その他",{"$f":"INDEX(#REF!, 9 + QUOTIENT(ROW(AL2111)-2, 10), 1 + MOD(ROW(AL2111)-2, 10))","v":{"$error":"#REF!"}}]
[null,null,null,null,null,null,null,null,null,null,null,null,null,null,null,null,null,null,null,null,null,null,null,null,null,null,null,null,null,null,null,null,null,null,2191,"住宅","その他",{"$f":"INDEX(#REF!, 9 + QUOTIENT(ROW(AL2116)-2, 10), 1 + MOD(ROW(AL2116)-2, 10))","v":{"$error":"#REF!"}}]
[null,null,null,null,null,null,null,null,null,null,null,null,null,null,null,null,null,null,null,null,null,null,null,null,null,null,null,null,null,null,null,null,null,null,2191,"非住宅","SRC造",{"$f":"INDEX(#REF!, 9 + QUOTIENT(ROW(AL2118)-2, 10), 1 + MOD(ROW(AL2118)-2, 10))","v":{"$error":"#REF!"}}]
[null,null,null,null,null,null,null,null,null,null,null,null,null,null,null,null,null,null,null,null,null,null,null,null,null,null,null,null,null,null,null,null,null,null,2191,"非住宅","その他",{"$f":"INDEX(#REF!, 9 + QUOTIENT(ROW(AL2121)-2, 10), 1 + MOD(ROW(AL2121)-2, 10))","v":{"$error":"#REF!"}}]
[null,null,null,null,null,null,null,null,null,null,null,null,null,null,null,null,null,null,null,null,null,null,null,null,null,null,null,null,null,null,null,null,null,null,2192,"住宅","その他",{"$f":"INDEX(#REF!, 9 + QUOTIENT(ROW(AL2126)-2, 10), 1 + MOD(ROW(AL2126)-2, 10))","v":{"$error":"#REF!"}}]
[null,null,null,null,null,null,null,null,null,null,null,null,null,null,null,null,null,null,null,null,null,null,null,null,null,null,null,null,null,null,null,null,null,null,2192,"非住宅","その他",{"$f":"INDEX(#REF!, 9 + QUOTIENT(ROW(AL2131)-2, 10), 1 + MOD(ROW(AL2131)-2, 10))","v":{"$error":"#REF!"}}]
[null,null,null,null,null,null,null,null,null,null,null,null,null,null,null,null,null,null,null,null,null,null,null,null,null,null,null,null,null,null,null,null,null,null,2193,"住宅","その他",{"$f":"INDEX(#REF!, 9 + QUOTIENT(ROW(AL2136)-2, 10), 1 + MOD(ROW(AL2136)-2, 10))","v":{"$error":"#REF!"}}]
[null,null,null,null,null,null,null,null,null,null,null,null,null,null,null,null,null,null,null,null,null,null,null,null,null,null,null,null,null,null,null,null,null,null,2193,"非住宅","木造",{"$f":"INDEX(#REF!, 9 + QUOTIENT(ROW(AL2137)-2, 10), 1 + MOD(ROW(AL2137)-2, 10))","v":{"$error":"#REF!"}}]
[null,null,null,null,null,null,null,null,null,null,null,null,null,null,null,null,null,null,null,null,null,null,null,null,null,null,null,null,null,null,null,null,null,null,2194,"住宅","木造",{"$f":"INDEX(#REF!, 9 + QUOTIENT(ROW(AL2142)-2, 10), 1 + MOD(ROW(AL2142)-2, 10))","v":{"$error":"#REF!"}}]
[null,null,null,null,null,null,null,null,null,null,null,null,null,null,null,null,null,null,null,null,null,null,null,null,null,null,null,null,null,null,null,null,null,null,2194,"非住宅","木造",{"$f":"INDEX(#REF!, 9 + QUOTIENT(ROW(AL2147)-2, 10), 1 + MOD(ROW(AL2147)-2, 10))","v":{"$error":"#REF!"}}]
[null,null,null,null,null,null,null,null,null,null,null,null,null,null,null,null,null,null,null,null,null,null,null,null,null,null,null,null,null,null,null,null,null,null,2195,"住宅","木造",{"$f":"INDEX(#REF!, 9 + QUOTIENT(ROW(AL2152)-2, 10), 1 + MOD(ROW(AL2152)-2, 10))","v":{"$error":"#REF!"}}]
[null,null,null,null,null,null,null,null,null,null,null,null,null,null,null,null,null,null,null,null,null,null,null,null,null,null,null,null,null,null,null,null,null,null,2195,"住宅","SRC造",{"$f":"INDEX(#REF!, 9 + QUOTIENT(ROW(AL2153)-2, 10), 1 + MOD(ROW(AL2153)-2, 10))","v":{"$error":"#REF!"}}]
[null,null,null,null,null,null,null,null,null,null,null,null,null,null,null,null,null,null,null,null,null,null,null,null,null,null,null,null,null,null,null,null,null,null,2195,"非住宅","SRC造",{"$f":"INDEX(#REF!, 9 + QUOTIENT(ROW(AL2158)-2, 10), 1 + MOD(ROW(AL2158)-2, 10))","v":{"$error":"#REF!"}}]
[null,null,null,null,null,null,null,null,null,null,null,null,null,null,null,null,null,null,null,null,null,null,null,null,null,null,null,null,null,null,null,null,null,null,2196,"住宅","SRC造",{"$f":"INDEX(#REF!, 9 + QUOTIENT(ROW(AL2163)-2, 10), 1 + MOD(ROW(AL2163)-2, 10))","v":{"$error":"#REF!"}}]
[null,null,null,null,null,null,null,null,null,null,null,null,null,null,null,null,null,null,null,null,null,null,null,null,null,null,null,null,null,null,null,null,null,null,2196,"非住宅","SRC造",{"$f":"INDEX(#REF!, 9 + QUOTIENT(ROW(AL2168)-2, 10), 1 + MOD(ROW(AL2168)-2, 10))","v":{"$error":"#REF!"}}]
[null,null,null,null,null,null,null,null,null,null,null,null,null,null,null,null,null,null,null,null,null,null,null,null,null,null,null,null,null,null,null,null,null,null,2196,"非住宅","RC造",{"$f":"INDEX(#REF!, 9 + QUOTIENT(ROW(AL2169)-2, 10), 1 + MOD(ROW(AL2169)-2, 10))","v":{"$error":"#REF!"}}]
[null,null,null,null,null,null,null,null,null,null,null,null,null,null,null,null,null,null,null,null,null,null,null,null,null,null,null,null,null,null,null,null,null,null,2197,"住宅","RC造",{"$f":"INDEX(#REF!, 9 + QUOTIENT(ROW(AL2174)-2, 10), 1 + MOD(ROW(AL2174)-2, 10))","v":{"$error":"#REF!"}}]
[null,null,null,null,null,null,null,null,null,null,null,null,null,null,null,null,null,null,null,null,null,null,null,null,null,null,null,null,null,null,null,null,null,null,2197,"非住宅","RC造",{"$f":"INDEX(#REF!, 9 + QUOTIENT(ROW(AL2179)-2, 10), 1 + MOD(ROW(AL2179)-2, 10))","v":{"$error":"#REF!"}}]
[null,null,null,null,null,null,null,null,null,null,null,null,null,null,null,null,null,null,null,null,null,null,null,null,null,null,null,null,null,null,null,null,null,null,2198,"住宅","RC造",{"$f":"INDEX(#REF!, 9 + QUOTIENT(ROW(AL2184)-2, 10), 1 + MOD(ROW(AL2184)-2, 10))","v":{"$error":"#REF!"}}]
[null,null,null,null,null,null,null,null,null,null,null,null,null,null,null,null,null,null,null,null,null,null,null,null,null,null,null,null,null,null,null,null,null,null,2198,"住宅","S造",{"$f":"INDEX(#REF!, 9 + QUOTIENT(ROW(AL2185)-2, 10), 1 + MOD(ROW(AL2185)-2, 10))","v":{"$error":"#REF!"}}]
[null,null,null,null,null,null,null,null,null,null,null,null,null,null,null,null,null,null,null,null,null,null,null,null,null,null,null,null,null,null,null,null,null,null,2198,"非住宅","S造",{"$f":"INDEX(#REF!, 9 + QUOTIENT(ROW(AL2190)-2, 10), 1 + MOD(ROW(AL2190)-2, 10))","v":{"$error":"#REF!"}}]
[null,null,null,null,null,null,null,null,null,null,null,null,null,null,null,null,null,null,null,null,null,null,null,null,null,null,null,null,null,null,null,null,null,null,2199,"住宅","S造",{"$f":"INDEX(#REF!, 9 + QUOTIENT(ROW(AL2195)-2, 10), 1 + MOD(ROW(AL2195)-2, 10))","v":{"$error":"#REF!"}}]
[null,null,null,null,null,null,null,null,null,null,null,null,null,null,null,null,null,null,null,null,null,null,null,null,null,null,null,null,null,null,null,null,null,null,2199,"非住宅","S造",{"$f":"INDEX(#REF!, 9 + QUOTIENT(ROW(AL2200)-2, 10), 1 + MOD(ROW(AL2200)-2, 10))","v":{"$error":"#REF!"}}]
[null,null,null,null,null,null,null,null,null,null,null,null,null,null,null,null,null,null,null,null,null,null,null,null,null,null,null,null,null,null,null,null,null,null,2199,"非住宅","その他",{"$f":"INDEX(#REF!, 9 + QUOTIENT(ROW(AL2201)-2, 10), 1 + MOD(ROW(AL2201)-2, 10))","v":{"$error":"#REF!"}}]
[null,null,null,null,null,null,null,null,null,null,null,null,null,null,null,null,null,null,null,null,null,null,null,null,null,null,null,null,null,null,null,null,null,null,2200,"住宅","その他",{"$f":"INDEX(#REF!, 9 + QUOTIENT(ROW(AL2206)-2, 10), 1 + MOD(ROW(AL2206)-2, 10))","v":{"$error":"#REF!"}}]
[null,null,null,null,null,null,null,null,null,null,null,null,null,null,null,null,null,null,null,null,null,null,null,null,null,null,null,null,null,null,null,null,null,null,2200,"非住宅","その他",{"$f":"INDEX(#REF!, 9 + QUOTIENT(ROW(AL2211)-2, 10), 1 + MOD(ROW(AL2211)-2, 10))","v":{"$error":"#REF!"}}]
[null,null,null,null,null,null,null,null,null,null,null,null,null,null,null,null,null,null,null,null,null,null,null,null,null,null,null,null,null,null,null,null,null,null,2201,"住宅","その他",{"$f":"INDEX(#REF!, 9 + QUOTIENT(ROW(AL2216)-2, 10), 1 + MOD(ROW(AL2216)-2, 10))","v":{"$error":"#REF!"}}]
[null,null,null,null,null,null,null,null,null,null,null,null,null,null,null,null,null,null,null,null,null,null,null,null,null,null,null,null,null,null,null,null,null,null,2201,"非住宅","SRC造",{"$f":"INDEX(#REF!, 9 + QUOTIENT(ROW(AL2218)-2, 10), 1 + MOD(ROW(AL2218)-2, 10))","v":{"$error":"#REF!"}}]
[null,null,null,null,null,null,null,null,null,null,null,null,null,null,null,null,null,null,null,null,null,null,null,null,null,null,null,null,null,null,null,null,null,null,2201,"非住宅","その他",{"$f":"INDEX(#REF!, 9 + QUOTIENT(ROW(AL2221)-2, 10), 1 + MOD(ROW(AL2221)-2, 10))","v":{"$error":"#REF!"}}]
[null,null,null,null,null,null,null,null,null,null,null,null,null,null,null,null,null,null,null,null,null,null,null,null,null,null,null,null,null,null,null,null,null,null,2202,"住宅","その他",{"$f":"INDEX(#REF!, 9 + QUOTIENT(ROW(AL2226)-2, 10), 1 + MOD(ROW(AL2226)-2, 10))","v":{"$error":"#REF!"}}]
[null,null,null,null,null,null,null,null,null,null,null,null,null,null,null,null,null,null,null,null,null,null,null,null,null,null,null,null,null,null,null,null,null,null,2202,"非住宅","その他",{"$f":"INDEX(#REF!, 9 + QUOTIENT(ROW(AL2231)-2, 10), 1 + MOD(ROW(AL2231)-2, 10))","v":{"$error":"#REF!"}}]
[null,null,null,null,null,null,null,null,null,null,null,null,null,null,null,null,null,null,null,null,null,null,null,null,null,null,null,null,null,null,null,null,null,null,2203,"住宅","木造",{"$f":"INDEX(#REF!, 9 + QUOTIENT(ROW(AL2232)-2, 10), 1 + MOD(ROW(AL2232)-2, 10))","v":{"$error":"#REF!"}}]
[null,null,null,null,null,null,null,null,null,null,null,null,null,null,null,null,null,null,null,null,null,null,null,null,null,null,null,null,null,null,null,null,null,null,2203,"非住宅","木造",{"$f":"INDEX(#REF!, 9 + QUOTIENT(ROW(AL2237)-2, 10), 1 + MOD(ROW(AL2237)-2, 10))","v":{"$error":"#REF!"}}]
[null,null,null,null,null,null,null,null,null,null,null,null,null,null,null,null,null,null,null,null,null,null,null,null,null,null,null,null,null,null,null,null,null,null,2204,"住宅","木造",{"$f":"INDEX(#REF!, 9 + QUOTIENT(ROW(AL2242)-2, 10), 1 + MOD(ROW(AL2242)-2, 10))","v":{"$error":"#REF!"}}]
[null,null,null,null,null,null,null,null,null,null,null,null,null,null,null,null,null,null,null,null,null,null,null,null,null,null,null,null,null,null,null,null,null,null,2204,"非住宅","木造",{"$f":"INDEX(#REF!, 9 + QUOTIENT(ROW(AL2247)-2, 10), 1 + MOD(ROW(AL2247)-2, 10))","v":{"$error":"#REF!"}}]
[null,null,null,null,null,null,null,null,null,null,null,null,null,null,null,null,null,null,null,null,null,null,null,null,null,null,null,null,null,null,null,null,null,null,2204,"非住宅","SRC造",{"$f":"INDEX(#REF!, 9 + QUOTIENT(ROW(AL2248)-2, 10), 1 + MOD(ROW(AL2248)-2, 10))","v":{"$error":"#REF!"}}]
[null,null,null,null,null,null,null,null,null,null,null,null,null,null,null,null,null,null,null,null,null,null,null,null,null,null,null,null,null,null,null,null,null,null,2205,"住宅","SRC造",{"$f":"INDEX(#REF!, 9 + QUOTIENT(ROW(AL2253)-2, 10), 1 + MOD(ROW(AL2253)-2, 10))","v":{"$error":"#REF!"}}]
[null,null,null,null,null,null,null,null,null,null,null,null,null,null,null,null,null,null,null,null,null,null,null,null,null,null,null,null,null,null,null,null,null,null,2205,"非住宅","SRC造",{"$f":"INDEX(#REF!, 9 + QUOTIENT(ROW(AL2258)-2, 10), 1 + MOD(ROW(AL2258)-2, 10))","v":{"$error":"#REF!"}}]
[null,null,null,null,null,null,null,null,null,null,null,null,null,null,null,null,null,null,null,null,null,null,null,null,null,null,null,null,null,null,null,null,null,null,2206,"住宅","SRC造",{"$f":"INDEX(#REF!, 9 + QUOTIENT(ROW(AL2263)-2, 10), 1 + MOD(ROW(AL2263)-2, 10))","v":{"$error":"#REF!"}}]
[null,null,null,null,null,null,null,null,null,null,null,null,null,null,null,null,null,null,null,null,null,null,null,null,null,null,null,null,null,null,null,null,null,null,2206,"住宅","RC造",{"$f":"INDEX(#REF!, 9 + QUOTIENT(ROW(AL2264)-2, 10), 1 + MOD(ROW(AL2264)-2, 10))","v":{"$error":"#REF!"}}]
[null,null,null,null,null,null,null,null,null,null,null,null,null,null,null,null,null,null,null,null,null,null,null,null,null,null,null,null,null,null,null,null,null,null,2206,"非住宅","RC造",{"$f":"INDEX(#REF!, 9 + QUOTIENT(ROW(AL2269)-2, 10), 1 + MOD(ROW(AL2269)-2, 10))","v":{"$error":"#REF!"}}]
[null,null,null,null,null,null,null,null,null,null,null,null,null,null,null,null,null,null,null,null,null,null,null,null,null,null,null,null,null,null,null,null,null,null,2207,"住宅","RC造",{"$f":"INDEX(#REF!, 9 + QUOTIENT(ROW(AL2274)-2, 10), 1 + MOD(ROW(AL2274)-2, 10))","v":{"$error":"#REF!"}}]
[null,null,null,null,null,null,null,null,null,null,null,null,null,null,null,null,null,null,null,null,null,null,null,null,null,null,null,null,null,null,null,null,null,null,2207,"非住宅","RC造",{"$f":"INDEX(#REF!, 9 + QUOTIENT(ROW(AL2279)-2, 10), 1 + MOD(ROW(AL2279)-2, 10))","v":{"$error":"#REF!"}}]
[null,null,null,null,null,null,null,null,null,null,null,null,null,null,null,null,null,null,null,null,null,null,null,null,null,null,null,null,null,null,null,null,null,null,2207,"非住宅","S造",{"$f":"INDEX(#REF!, 9 + QUOTIENT(ROW(AL2280)-2, 10), 1 + MOD(ROW(AL2280)-2, 10))","v":{"$error":"#REF!"}}]
[null,null,null,null,null,null,null,null,null,null,null,null,null,null,null,null,null,null,null,null,null,null,null,null,null,null,null,null,null,null,null,null,null,null,2208,"住宅","S造",{"$f":"INDEX(#REF!, 9 + QUOTIENT(ROW(AL2285)-2, 10), 1 + MOD(ROW(AL2285)-2, 10))","v":{"$error":"#REF!"}}]
[null,null,null,null,null,null,null,null,null,null,null,null,null,null,null,null,null,null,null,null,null,null,null,null,null,null,null,null,null,null,null,null,null,null,2208,"非住宅","S造",{"$f":"INDEX(#REF!, 9 + QUOTIENT(ROW(AL2290)-2, 10), 1 + MOD(ROW(AL2290)-2, 10))","v":{"$error":"#REF!"}}]
[null,null,null,null,null,null,null,null,null,null,null,null,null,null,null,null,null,null,null,null,null,null,null,null,null,null,null,null,null,null,null,null,null,null,2209,"住宅","S造",{"$f":"INDEX(#REF!, 9 + QUOTIENT(ROW(AL2295)-2, 10), 1 + MOD(ROW(AL2295)-2, 10))","v":{"$error":"#REF!"}}]
[null,null,null,null,null,null,null,null,null,null,null,null,null,null,null,null,null,null,null,null,null,null,null,null,null,null,null,null,null,null,null,null,null,null,2209,"住宅","その他",{"$f":"INDEX(#REF!, 9 + QUOTIENT(ROW(AL2296)-2, 10), 1 + MOD(ROW(AL2296)-2, 10))","v":{"$error":"#REF!"}}]
[null,null,null,null,null,null,null,null,null,null,null,null,null,null,null,null,null,null,null,null,null,null,null,null,null,null,null,null,null,null,null,null,null,null,2209,"非住宅","その他",{"$f":"INDEX(#REF!, 9 + QUOTIENT(ROW(AL2301)-2, 10), 1 + MOD(ROW(AL2301)-2, 10))","v":{"$error":"#REF!"}}]
[null,null,null,null,null,null,null,null,null,null,null,null,null,null,null,null,null,null,null,null,null,null,null,null,null,null,null,null,null,null,null,null,null,null,2210,"住宅","その他",{"$f":"INDEX(#REF!, 9 + QUOTIENT(ROW(AL2306)-2, 10), 1 + MOD(ROW(AL2306)-2, 10))","v":{"$error":"#REF!"}}]
[null,null,null,null,null,null,null,null,null,null,null,null,null,null,null,null,null,null,null,null,null,null,null,null,null,null,null,null,null,null,null,null,null,null,2210,"非住宅","その他",{"$f":"INDEX(#REF!, 9 + QUOTIENT(ROW(AL2311)-2, 10), 1 + MOD(ROW(AL2311)-2, 10))","v":{"$error":"#REF!"}}]
[null,null,null,null,null,null,null,null,null,null,null,null,null,null,null,null,null,null,null,null,null,null,null,null,null,null,null,null,null,null,null,null,null,null,2211,"住宅","木造",{"$f":"INDEX(#REF!, 9 + QUOTIENT(ROW(AL2312)-2, 10), 1 + MOD(ROW(AL2312)-2, 10))","v":{"$error":"#REF!"}}]
[null,null,null,null,null,null,null,null,null,null,null,null,null,null,null,null,null,null,null,null,null,null,null,null,null,null,null,null,null,null,null,null,null,null,2211,"非住宅","木造",{"$f":"INDEX(#REF!, 9 + QUOTIENT(ROW(AL2317)-2, 10), 1 + MOD(ROW(AL2317)-2, 10))","v":{"$error":"#REF!"}}]
[null,null,null,null,null,null,null,null,null,null,null,null,null,null,null,null,null,null,null,null,null,null,null,null,null,null,null,null,null,null,null,null,null,null,2212,"住宅","木造",{"$f":"INDEX(#REF!, 9 + QUOTIENT(ROW(AL2322)-2, 10), 1 + MOD(ROW(AL2322)-2, 10))","v":{"$error":"#REF!"}}]
[null,null,null,null,null,null,null,null,null,null,null,null,null,null,null,null,null,null,null,null,null,null,null,null,null,null,null,null,null,null,null,null,null,null,2212,"住宅","その他",{"$f":"INDEX(#REF!, 9 + QUOTIENT(ROW(AL2326)-2, 10), 1 + MOD(ROW(AL2326)-2, 10))","v":{"$error":"#REF!"}}]
[null,null,null,null,null,null,null,null,null,null,null,null,null,null,null,null,null,null,null,null,null,null,null,null,null,null,null,null,null,null,null,null,null,null,2212,"非住宅","木造",{"$f":"INDEX(#REF!, 9 + QUOTIENT(ROW(AL2327)-2, 10), 1 + MOD(ROW(AL2327)-2, 10))","v":{"$error":"#REF!"}}]
[null,null,null,null,null,null,null,null,null,null,null,null,null,null,null,null,null,null,null,null,null,null,null,null,null,null,null,null,null,null,null,null,null,null,2213,"住宅","木造",{"$f":"INDEX(#REF!, 9 + QUOTIENT(ROW(AL2332)-2, 10), 1 + MOD(ROW(AL2332)-2, 10))","v":{"$error":"#REF!"}}]
[null,null,null,null,null,null,null,null,null,null,null,null,null,null,null,null,null,null,null,null,null,null,null,null,null,null,null,null,null,null,null,null,null,null,2213,"非住宅","木造",{"$f":"INDEX(#REF!, 9 + QUOTIENT(ROW(AL2337)-2, 10), 1 + MOD(ROW(AL2337)-2, 10))","v":{"$error":"#REF!"}}]
[null,null,null,null,null,null,null,null,null,null,null,null,null,null,null,null,null,null,null,null,null,null,null,null,null,null,null,null,null,null,null,null,null,null,2214,"住宅","木造",{"$f":"INDEX(#REF!, 9 + QUOTIENT(ROW(AL2342)-2, 10), 1 + MOD(ROW(AL2342)-2, 10))","v":{"$error":"#REF!"}}]
[null,null,null,null,null,null,null,null,null,null,null,null,null,null,null,null,null,null,null,null,null,null,null,null,null,null,null,null,null,null,null,null,null,null,2214,"住宅","SRC造",{"$f":"INDEX(#REF!, 9 + QUOTIENT(ROW(AL2343)-2, 10), 1 + MOD(ROW(AL2343)-2, 10))","v":{"$error":"#REF!"}}]
[null,null,null,null,null,null,null,null,null,null,null,null,null,null,null,null,null,null,null,null,null,null,null,null,null,null,null,null,null,null,null,null,null,null,2214,"非住宅","SRC造",{"$f":"INDEX(#REF!, 9 + QUOTIENT(ROW(AL2348)-2, 10), 1 + MOD(ROW(AL2348)-2, 10))","v":{"$error":"#REF!"}}]
[null,null,null,null,null,null,null,null,null,null,null,null,null,null,null,null,null,null,null,null,null,null,null,null,null,null,null,null,null,null,null,null,null,null,2215,"住宅","SRC造",{"$f":"INDEX(#REF!, 9 + QUOTIENT(ROW(AL2353)-2, 10), 1 + MOD(ROW(AL2353)-2, 10))","v":{"$error":"#REF!"}}]
[null,null,null,null,null,null,null,null,null,null,null,null,null,null,null,null,null,null,null,null,null,null,null,null,null,null,null,null,null,null,null,null,null,null,2215,"非住宅","SRC造",{"$f":"INDEX(#REF!, 9 + QUOTIENT(ROW(AL2358)-2, 10), 1 + MOD(ROW(AL2358)-2, 10))","v":{"$error":"#REF!"}}]
[null,null,null,null,null,null,null,null,null,null,null,null,null,null,null,null,null,null,null,null,null,null,null,null,null,null,null,null,null,null,null,null,null,null,2215,"非住宅","RC造",{"$f":"INDEX(#REF!, 9 + QUOTIENT(ROW(AL2359)-2, 10), 1 + MOD(ROW(AL2359)-2, 10))","v":{"$error":"#REF!"}}]
[null,null,null,null,null,null,null,null,null,null,null,null,null,null,null,null,null,null,null,null,null,null,null,null,null,null,null,null,null,null,null,null,null,null,2216,"住宅","RC造",{"$f":"INDEX(#REF!, 9 + QUOTIENT(ROW(AL2364)-2, 10), 1 + MOD(ROW(AL2364)-2, 10))","v":{"$error":"#REF!"}}]
[null,null,null,null,null,null,null,null,null,null,null,null,null,null,null,null,null,null,null,null,null,null,null,null,null,null,null,null,null,null,null,null,null,null,2216,"非住宅","RC造",{"$f":"INDEX(#REF!, 9 + QUOTIENT(ROW(AL2369)-2, 10), 1 + MOD(ROW(AL2369)-2, 10))","v":{"$error":"#REF!"}}]
[null,null,null,null,null,null,null,null,null,null,null,null,null,null,null,null,null,null,null,null,null,null,null,null,null,null,null,null,null,null,null,null,null,null,2217,"住宅","RC造",{"$f":"INDEX(#REF!, 9 + QUOTIENT(ROW(AL2374)-2, 10), 1 + MOD(ROW(AL2374)-2, 10))","v":{"$error":"#REF!"}}]
[null,null,null,null,null,null,null,null,null,null,null,null,null,null,null,null,null,null,null,null,null,null,null,null,null,null,null,null,null,null,null,null,null,null,2217,"住宅","S造",{"$f":"INDEX(#REF!, 9 + QUOTIENT(ROW(AL2375)-2, 10), 1 + MOD(ROW(AL2375)-2, 10))","v":{"$error":"#REF!"}}]
[null,null,null,null,null,null,null,null,null,null,null,null,null,null,null,null,null,null,null,null,null,null,null,null,null,null,null,null,null,null,null,null,null,null,2217,"非住宅","S造",{"$f":"INDEX(#REF!, 9 + QUOTIENT(ROW(AL2380)-2, 10), 1 + MOD(ROW(AL2380)-2, 10))","v":{"$error":"#REF!"}}]
[null,null,null,null,null,null,null,null,null,null,null,null,null,null,null,null,null,null,null,null,null,null,null,null,null,null,null,null,null,null,null,null,null,null,2218,"住宅","S造",{"$f":"INDEX(#REF!, 9 + QUOTIENT(ROW(AL2385)-2, 10), 1 + MOD(ROW(AL2385)-2, 10))","v":{"$error":"#REF!"}}]
[null,null,null,null,null,null,null,null,null,null,null,null,null,null,null,null,null,null,null,null,null,null,null,null,null,null,null,null,null,null,null,null,null,null,2218,"非住宅","S造",{"$f":"INDEX(#REF!, 9 + QUOTIENT(ROW(AL2390)-2, 10), 1 + MOD(ROW(AL2390)-2, 10))","v":{"$error":"#REF!"}}]
[null,null,null,null,null,null,null,null,null,null,null,null,null,null,null,null,null,null,null,null,null,null,null,null,null,null,null,null,null,null,null,null,null,null,2218,"非住宅","その他",{"$f":"INDEX(#REF!, 9 + QUOTIENT(ROW(AL2391)-2, 10), 1 + MOD(ROW(AL2391)-2, 10))","v":{"$error":"#REF!"}}]
[null,null,null,null,null,null,null,null,null,null,null,null,null,null,null,null,null,null,null,null,null,null,null,null,null,null,null,null,null,null,null,null,null,null,2219,"住宅","その他",{"$f":"INDEX(#REF!, 9 + QUOTIENT(ROW(AL2396)-2, 10), 1 + MOD(ROW(AL2396)-2, 10))","v":{"$error":"#REF!"}}]
[null,null,null,null,null,null,null,null,null,null,null,null,null,null,null,null,null,null,null,null,null,null,null,null,null,null,null,null,null,null,null,null,null,null,2219,"非住宅","その他",{"$f":"INDEX(#REF!, 9 + QUOTIENT(ROW(AL2401)-2, 10), 1 + MOD(ROW(AL2401)-2, 10))","v":{"$error":"#REF!"}}]
[null,null,null,null,null,null,null,null,null,null,null,null,null,null,null,null,null,null,null,null,null,null,null,null,null,null,null,null,null,null,null,null,null,null,2220,"住宅","その他",{"$f":"INDEX(#REF!, 9 + QUOTIENT(ROW(AL2406)-2, 10), 1 + MOD(ROW(AL2406)-2, 10))","v":{"$error":"#REF!"}}]
[null,null,null,null,null,null,null,null,null,null,null,null,null,null,null,null,null,null,null,null,null,null,null,null,null,null,null,null,null,null,null,null,null,null,2220,"非住宅","木造",{"$f":"INDEX(#REF!, 9 + QUOTIENT(ROW(AL2407)-2, 10), 1 + MOD(ROW(AL2407)-2, 10))","v":{"$error":"#REF!"}}]
[null,null,null,null,null,null,null,null,null,null,null,null,null,null,null,null,null,null,null,null,null,null,null,null,null,null,null,null,null,null,null,null,null,null,2221,"住宅","木造",{"$f":"INDEX(#REF!, 9 + QUOTIENT(ROW(AL2412)-2, 10), 1 + MOD(ROW(AL2412)-2, 10))","v":{"$error":"#REF!"}}]
[null,null,null,null,null,null,null,null,null,null,null,null,null,null,null,null,null,null,null,null,null,null,null,null,null,null,null,null,null,null,null,null,null,null,2221,"非住宅","木造",{"$f":"INDEX(#REF!, 9 + QUOTIENT(ROW(AL2417)-2, 10), 1 + MOD(ROW(AL2417)-2, 10))","v":{"$error":"#REF!"}}]
[null,null,null,null,null,null,null,null,null,null,null,null,null,null,null,null,null,null,null,null,null,null,null,null,null,null,null,null,null,null,null,null,null,null,2221,"非住宅","その他",{"$f":"INDEX(#REF!, 9 + QUOTIENT(ROW(AL2421)-2, 10), 1 + MOD(ROW(AL2421)-2, 10))","v":{"$error":"#REF!"}}]
[null,null,null,null,null,null,null,null,null,null,null,null,null,null,null,null,null,null,null,null,null,null,null,null,null,null,null,null,null,null,null,null,null,null,2222,"住宅","木造",{"$f":"INDEX(#REF!, 9 + QUOTIENT(ROW(AL2422)-2, 10), 1 + MOD(ROW(AL2422)-2, 10))","v":{"$error":"#REF!"}}]
[null,null,null,null,null,null,null,null,null,null,null,null,null,null,null,null,null,null,null,null,null,null,null,null,null,null,null,null,null,null,null,null,null,null,2222,"非住宅","木造",{"$f":"INDEX(#REF!, 9 + QUOTIENT(ROW(AL2427)-2, 10), 1 + MOD(ROW(AL2427)-2, 10))","v":{"$error":"#REF!"}}]
[null,null,null,null,null,null,null,null,null,null,null,null,null,null,null,null,null,null,null,null,null,null,null,null,null,null,null,null,null,null,null,null,null,null,2223,"住宅","木造",{"$f":"INDEX(#REF!, 9 + QUOTIENT(ROW(AL2432)-2, 10), 1 + MOD(ROW(AL2432)-2, 10))","v":{"$error":"#REF!"}}]
[null,null,null,null,null,null,null,null,null,null,null,null,null,null,null,null,null,null,null,null,null,null,null,null,null,null,null,null,null,null,null,null,null,null,2223,"非住宅","木造",{"$f":"INDEX(#REF!, 9 + QUOTIENT(ROW(AL2437)-2, 10), 1 + MOD(ROW(AL2437)-2, 10))","v":{"$error":"#REF!"}}]
[null,null,null,null,null,null,null,null,null,null,null,null,null,null,null,null,null,null,null,null,null,null,null,null,null,null,null,null,null,null,null,null,null,null,2223,"非住宅","SRC造",{"$f":"INDEX(#REF!, 9 + QUOTIENT(ROW(AL2438)-2, 10), 1 + MOD(ROW(AL2438)-2, 10))","v":{"$error":"#REF!"}}]
[null,null,null,null,null,null,null,null,null,null,null,null,null,null,null,null,null,null,null,null,null,null,null,null,null,null,null,null,null,null,null,null,null,null,2224,"住宅","SRC造",{"$f":"INDEX(#REF!, 9 + QUOTIENT(ROW(AL2443)-2, 10), 1 + MOD(ROW(AL2443)-2, 10))","v":{"$error":"#REF!"}}]
[null,null,null,null,null,null,null,null,null,null,null,null,null,null,null,null,null,null,null,null,null,null,null,null,null,null,null,null,null,null,null,null,null,null,2224,"非住宅","SRC造",{"$f":"INDEX(#REF!, 9 + QUOTIENT(ROW(AL2448)-2, 10), 1 + MOD(ROW(AL2448)-2, 10))","v":{"$error":"#REF!"}}]
[null,null,null,null,null,null,null,null,null,null,null,null,null,null,null,null,null,null,null,null,null,null,null,null,null,null,null,null,null,null,null,null,null,null,2225,"住宅","SRC造",{"$f":"INDEX(#REF!, 9 + QUOTIENT(ROW(AL2453)-2, 10), 1 + MOD(ROW(AL2453)-2, 10))","v":{"$error":"#REF!"}}]
[null,null,null,null,null,null,null,null,null,null,null,null,null,null,null,null,null,null,null,null,null,null,null,null,null,null,null,null,null,null,null,null,null,null,2225,"住宅","RC造",{"$f":"INDEX(#REF!, 9 + QUOTIENT(ROW(AL2454)-2, 10), 1 + MOD(ROW(AL2454)-2, 10))","v":{"$error":"#REF!"}}]
[null,null,null,null,null,null,null,null,null,null,null,null,null,null,null,null,null,null,null,null,null,null,null,null,null,null,null,null,null,null,null,null,null,null,2225,"非住宅","RC造",{"$f":"INDEX(#REF!, 9 + QUOTIENT(ROW(AL2459)-2, 10), 1 + MOD(ROW(AL2459)-2, 10))","v":{"$error":"#REF!"}}]
[null,null,null,null,null,null,null,null,null,null,null,null,null,null,null,null,null,null,null,null,null,null,null,null,null,null,null,null,null,null,null,null,null,null,2226,"住宅","RC造",{"$f":"INDEX(#REF!, 9 + QUOTIENT(ROW(AL2464)-2, 10), 1 + MOD(ROW(AL2464)-2, 10))","v":{"$error":"#REF!"}}]
[null,null,null,null,null,null,null,null,null,null,null,null,null,null,null,null,null,null,null,null,null,null,null,null,null,null,null,null,null,null,null,null,null,null,2226,"非住宅","RC造",{"$f":"INDEX(#REF!, 9 + QUOTIENT(ROW(AL2469)-2, 10), 1 + MOD(ROW(AL2469)-2, 10))","v":{"$error":"#REF!"}}]
[null,null,null,null,null,null,null,null,null,null,null,null,null,null,null,null,null,null,null,null,null,null,null,null,null,null,null,null,null,null,null,null,null,null,2226,"非住宅","S造",{"$f":"INDEX(#REF!, 9 + QUOTIENT(ROW(AL2470)-2, 10), 1 + MOD(ROW(AL2470)-2, 10))","v":{"$error":"#REF!"}}]
[null,null,null,null,null,null,null,null,null,null,null,null,null,null,null,null,null,null,null,null,null,null,null,null,null,null,null,null,null,null,null,null,null,null,2227,"住宅","S造",{"$f":"INDEX(#REF!, 9 + QUOTIENT(ROW(AL2475)-2, 10), 1 + MOD(ROW(AL2475)-2, 10))","v":{"$error":"#REF!"}}]
[null,null,null,null,null,null,null,null,null,null,null,null,null,null,null,null,null,null,null,null,null,null,null,null,null,null,null,null,null,null,null,null,null,null,2227,"非住宅","S造",{"$f":"INDEX(#REF!, 9 + QUOTIENT(ROW(AL2480)-2, 10), 1 + MOD(ROW(AL2480)-2, 10))","v":{"$error":"#REF!"}}]
[null,null,null,null,null,null,null,null,null,null,null,null,null,null,null,null,null,null,null,null,null,null,null,null,null,null,null,null,null,null,null,null,null,null,2228,"住宅","S造",{"$f":"INDEX(#REF!, 9 + QUOTIENT(ROW(AL2485)-2, 10), 1 + MOD(ROW(AL2485)-2, 10))","v":{"$error":"#REF!"}}]
[null,null,null,null,null,null,null,null,null,null,null,null,null,null,null,null,null,null,null,null,null,null,null,null,null,null,null,null,null,null,null,null,null,null,2228,"住宅","その他",{"$f":"INDEX(#REF!, 9 + QUOTIENT(ROW(AL2486)-2, 10), 1 + MOD(ROW(AL2486)-2, 10))","v":{"$error":"#REF!"}}]
[null,null,null,null,null,null,null,null,null,null,null,null,null,null,null,null,null,null,null,null,null,null,null,null,null,null,null,null,null,null,null,null,null,null,2228,"非住宅","その他",{"$f":"INDEX(#REF!, 9 + QUOTIENT(ROW(AL2491)-2, 10), 1 + MOD(ROW(AL2491)-2, 10))","v":{"$error":"#REF!"}}]
[null,null,null,null,null,null,null,null,null,null,null,null,null,null,null,null,null,null,null,null,null,null,null,null,null,null,null,null,null,null,null,null,null,null,2229,"住宅","その他",{"$f":"INDEX(#REF!, 9 + QUOTIENT(ROW(AL2496)-2, 10), 1 + MOD(ROW(AL2496)-2, 10))","v":{"$error":"#REF!"}}]
[null,null,null,null,null,null,null,null,null,null,null,null,null,null,null,null,null,null,null,null,null,null,null,null,null,null,null,null,null,null,null,null,null,null,2229,"非住宅","その他",{"$f":"INDEX(#REF!, 9 + QUOTIENT(ROW(AL2501)-2, 10), 1 + MOD(ROW(AL2501)-2, 10))","v":{"$error":"#REF!"}}]
[null,null,null,null,null,null,null,null,null,null,null,null,null,null,null,null,null,null,null,null,null,null,null,null,null,null,null,null,null,null,null,null,null,null,2230,"住宅","木造",{"$f":"INDEX(#REF!, 9 + QUOTIENT(ROW(AL2502)-2, 10), 1 + MOD(ROW(AL2502)-2, 10))","v":{"$error":"#REF!"}}]
[null,null,null,null,null,null,null,null,null,null,null,null,null,null,null,null,null,null,null,null,null,null,null,null,null,null,null,null,null,null,null,null,null,null,2230,"非住宅","木造",{"$f":"INDEX(#REF!, 9 + QUOTIENT(ROW(AL2507)-2, 10), 1 + MOD(ROW(AL2507)-2, 10))","v":{"$error":"#REF!"}}]
[null,null,null,null,null,null,null,null,null,null,null,null,null,null,null,null,null,null,null,null,null,null,null,null,null,null,null,null,null,null,null,null,null,null,2231,"住宅","木造",{"$f":"INDEX(#REF!, 9 + QUOTIENT(ROW(AL2512)-2, 10), 1 + MOD(ROW(AL2512)-2, 10))","v":{"$error":"#REF!"}}]
[null,null,null,null,null,null,null,null,null,null,null,null,null,null,null,null,null,null,null,null,null,null,null,null,null,null,null,null,null,null,null,null,null,null,2231,"非住宅","木造",{"$f":"INDEX(#REF!, 9 + QUOTIENT(ROW(AL2517)-2, 10), 1 + MOD(ROW(AL2517)-2, 10))","v":{"$error":"#REF!"}}]
[null,null,null,null,null,null,null,null,null,null,null,null,null,null,null,null,null,null,null,null,null,null,null,null,null,null,null,null,null,null,null,null,null,null,2231,"非住宅","SRC造",{"$f":"INDEX(#REF!, 9 + QUOTIENT(ROW(AL2518)-2, 10), 1 + MOD(ROW(AL2518)-2, 10))","v":{"$error":"#REF!"}}]
[null,null,null,null,null,null,null,null,null,null,null,null,null,null,null,null,null,null,null,null,null,null,null,null,null,null,null,null,null,null,null,null,null,null,2232,"住宅","木造",{"$f":"INDEX(#REF!, 9 + QUOTIENT(ROW(AL2522)-2, 10), 1 + MOD(ROW(AL2522)-2, 10))","v":{"$error":"#REF!"}}]
[null,null,null,null,null,null,null,null,null,null,null,null,null,null,null,null,null,null,null,null,null,null,null,null,null,null,null,null,null,null,null,null,null,null,2232,"非住宅","木造",{"$f":"INDEX(#REF!, 9 + QUOTIENT(ROW(AL2527)-2, 10), 1 + MOD(ROW(AL2527)-2, 10))","v":{"$error":"#REF!"}}]
[null,null,null,null,null,null,null,null,null,null,null,null,null,null,null,null,null,null,null,null,null,null,null,null,null,null,null,null,null,null,null,null,null,null,2233,"住宅","木造",{"$f":"INDEX(#REF!, 9 + QUOTIENT(ROW(AL2532)-2, 10), 1 + MOD(ROW(AL2532)-2, 10))","v":{"$error":"#REF!"}}]
[null,null,null,null,null,null,null,null,null,null,null,null,null,null,null,null,null,null,null,null,null,null,null,null,null,null,null,null,null,null,null,null,null,null,2233,"住宅","SRC造",{"$f":"INDEX(#REF!, 9 + QUOTIENT(ROW(AL2533)-2, 10), 1 + MOD(ROW(AL2533)-2, 10))","v":{"$error":"#REF!"}}]
[null,null,null,null,null,null,null,null,null,null,null,null,null,null,null,null,null,null,null,null,null,null,null,null,null,null,null,null,null,null,null,null,null,null,2233,"非住宅","SRC造",{"$f":"INDEX(#REF!, 9 + QUOTIENT(ROW(AL2538)-2, 10), 1 + MOD(ROW(AL2538)-2, 10))","v":{"$error":"#REF!"}}]
[null,null,null,null,null,null,null,null,null,null,null,null,null,null,null,null,null,null,null,null,null,null,null,null,null,null,null,null,null,null,null,null,null,null,2234,"住宅","SRC造",{"$f":"INDEX(#REF!, 9 + QUOTIENT(ROW(AL2543)-2, 10), 1 + MOD(ROW(AL2543)-2, 10))","v":{"$error":"#REF!"}}]
[null,null,null,null,null,null,null,null,null,null,null,null,null,null,null,null,null,null,null,null,null,null,null,null,null,null,null,null,null,null,null,null,null,null,2234,"非住宅","SRC造",{"$f":"INDEX(#REF!, 9 + QUOTIENT(ROW(AL2548)-2, 10), 1 + MOD(ROW(AL2548)-2, 10))","v":{"$error":"#REF!"}}]
[null,null,null,null,null,null,null,null,null,null,null,null,null,null,null,null,null,null,null,null,null,null,null,null,null,null,null,null,null,null,null,null,null,null,2234,"非住宅","RC造",{"$f":"INDEX(#REF!, 9 + QUOTIENT(ROW(AL2549)-2, 10), 1 + MOD(ROW(AL2549)-2, 10))","v":{"$error":"#REF!"}}]
[null,null,null,null,null,null,null,null,null,null,null,null,null,null,null,null,null,null,null,null,null,null,null,null,null,null,null,null,null,null,null,null,null,null,2235,"住宅","RC造",{"$f":"INDEX(#REF!, 9 + QUOTIENT(ROW(AL2554)-2, 10), 1 + MOD(ROW(AL2554)-2, 10))","v":{"$error":"#REF!"}}]
[null,null,null,null,null,null,null,null,null,null,null,null,null,null,null,null,null,null,null,null,null,null,null,null,null,null,null,null,null,null,null,null,null,null,2235,"非住宅","RC造",{"$f":"INDEX(#REF!, 9 + QUOTIENT(ROW(AL2559)-2, 10), 1 + MOD(ROW(AL2559)-2, 10))","v":{"$error":"#REF!"}}]
[null,null,null,null,null,null,null,null,null,null,null,null,null,null,null,null,null,null,null,null,null,null,null,null,null,null,null,null,null,null,null,null,null,null,2236,"住宅","RC造",{"$f":"INDEX(#REF!, 9 + QUOTIENT(ROW(AL2564)-2, 10), 1 + MOD(ROW(AL2564)-2, 10))","v":{"$error":"#REF!"}}]
[null,null,null,null,null,null,null,null,null,null,null,null,null,null,null,null,null,null,null,null,null,null,null,null,null,null,null,null,null,null,null,null,null,null,2236,"住宅","S造",{"$f":"INDEX(#REF!, 9 + QUOTIENT(ROW(AL2565)-2, 10), 1 + MOD(ROW(AL2565)-2, 10))","v":{"$error":"#REF!"}}]
[null,null,null,null,null,null,null,null,null,null,null,null,null,null,null,null,null,null,null,null,null,null,null,null,null,null,null,null,null,null,null,null,null,null,2236,"非住宅","S造",{"$f":"INDEX(#REF!, 9 + QUOTIENT(ROW(AL2570)-2, 10), 1 + MOD(ROW(AL2570)-2, 10))","v":{"$error":"#REF!"}}]
[null,null,null,null,null,null,null,null,null,null,null,null,null,null,null,null,null,null,null,null,null,null,null,null,null,null,null,null,null,null,null,null,null,null,2237,"住宅","S造",{"$f":"INDEX(#REF!, 9 + QUOTIENT(ROW(AL2575)-2, 10), 1 + MOD(ROW(AL2575)-2, 10))","v":{"$error":"#REF!"}}]
[null,null,null,null,null,null,null,null,null,null,null,null,null,null,null,null,null,null,null,null,null,null,null,null,null,null,null,null,null,null,null,null,null,null,2237,"非住宅","S造",{"$f":"INDEX(#REF!, 9 + QUOTIENT(ROW(AL2580)-2, 10), 1 + MOD(ROW(AL2580)-2, 10))","v":{"$error":"#REF!"}}]
[null,null,null,null,null,null,null,null,null,null,null,null,null,null,null,null,null,null,null,null,null,null,null,null,null,null,null,null,null,null,null,null,null,null,2237,"非住宅","その他",{"$f":"INDEX(#REF!, 9 + QUOTIENT(ROW(AL2581)-2, 10), 1 + MOD(ROW(AL2581)-2, 10))","v":{"$error":"#REF!"}}]
[null,null,null,null,null,null,null,null,null,null,null,null,null,null,null,null,null,null,null,null,null,null,null,null,null,null,null,null,null,null,null,null,null,null,2238,"住宅","その他",{"$f":"INDEX(#REF!, 9 + QUOTIENT(ROW(AL2586)-2, 10), 1 + MOD(ROW(AL2586)-2, 10))","v":{"$error":"#REF!"}}]
[null,null,null,null,null,null,null,null,null,null,null,null,null,null,null,null,null,null,null,null,null,null,null,null,null,null,null,null,null,null,null,null,null,null,2238,"非住宅","その他",{"$f":"INDEX(#REF!, 9 + QUOTIENT(ROW(AL2591)-2, 10), 1 + MOD(ROW(AL2591)-2, 10))","v":{"$error":"#REF!"}}]
[null,null,null,null,null,null,null,null,null,null,null,null,null,null,null,null,null,null,null,null,null,null,null,null,null,null,null,null,null,null,null,null,null,null,2239,"住宅","その他",{"$f":"INDEX(#REF!, 9 + QUOTIENT(ROW(AL2596)-2, 10), 1 + MOD(ROW(AL2596)-2, 10))","v":{"$error":"#REF!"}}]
[null,null,null,null,null,null,null,null,null,null,null,null,null,null,null,null,null,null,null,null,null,null,null,null,null,null,null,null,null,null,null,null,null,null,2239,"非住宅","木造",{"$f":"INDEX(#REF!, 9 + QUOTIENT(ROW(AL2597)-2, 10), 1 + MOD(ROW(AL2597)-2, 10))","v":{"$error":"#REF!"}}]
[null,null,null,null,null,null,null,null,null,null,null,null,null,null,null,null,null,null,null,null,null,null,null,null,null,null,null,null,null,null,null,null,null,null,2240,"住宅","木造",{"$f":"INDEX(#REF!, 9 + QUOTIENT(ROW(AL2602)-2, 10), 1 + MOD(ROW(AL2602)-2, 10))","v":{"$error":"#REF!"}}]
[null,null,null,null,null,null,null,null,null,null,null,null,null,null,null,null,null,null,null,null,null,null,null,null,null,null,null,null,null,null,null,null,null,null,2240,"非住宅","木造",{"$f":"INDEX(#REF!, 9 + QUOTIENT(ROW(AL2607)-2, 10), 1 + MOD(ROW(AL2607)-2, 10))","v":{"$error":"#REF!"}}]
[null,null,null,null,null,null,null,null,null,null,null,null,null,null,null,null,null,null,null,null,null,null,null,null,null,null,null,null,null,null,null,null,null,null,2241,"住宅","木造",{"$f":"INDEX(#REF!, 9 + QUOTIENT(ROW(AL2612)-2, 10), 1 + MOD(ROW(AL2612)-2, 10))","v":{"$error":"#REF!"}}]
[null,null,null,null,null,null,null,null,null,null,null,null,null,null,null,null,null,null,null,null,null,null,null,null,null,null,null,null,null,null,null,null,null,null,2241,"住宅","SRC造",{"$f":"INDEX(#REF!, 9 + QUOTIENT(ROW(AL2613)-2, 10), 1 + MOD(ROW(AL2613)-2, 10))","v":{"$error":"#REF!"}}]
[null,null,null,null,null,null,null,null,null,null,null,null,null,null,null,null,null,null,null,null,null,null,null,null,null,null,null,null,null,null,null,null,null,null,2241,"非住宅","SRC造",{"$f":"INDEX(#REF!, 9 + QUOTIENT(ROW(AL2618)-2, 10), 1 + MOD(ROW(AL2618)-2, 10))","v":{"$error":"#REF!"}}]
[null,null,null,null,null,null,null,null,null,null,null,null,null,null,null,null,null,null,null,null,null,null,null,null,null,null,null,null,null,null,null,null,null,null,2242,"住宅","SRC造",{"$f":"INDEX(#REF!, 9 + QUOTIENT(ROW(AL2623)-2, 10), 1 + MOD(ROW(AL2623)-2, 10))","v":{"$error":"#REF!"}}]
[null,null,null,null,null,null,null,null,null,null,null,null,null,null,null,null,null,null,null,null,null,null,null,null,null,null,null,null,null,null,null,null,null,null,2242,"住宅","その他",{"$f":"INDEX(#REF!, 9 + QUOTIENT(ROW(AL2626)-2, 10), 1 + MOD(ROW(AL2626)-2, 10))","v":{"$error":"#REF!"}}]
[null,null,null,null,null,null,null,null,null,null,null,null,null,null,null,null,null,null,null,null,null,null,null,null,null,null,null,null,null,null,null,null,null,null,2242,"非住宅","SRC造",{"$f":"INDEX(#REF!, 9 + QUOTIENT(ROW(AL2628)-2, 10), 1 + MOD(ROW(AL2628)-2, 10))","v":{"$error":"#REF!"}}]
[null,null,null,null,null,null,null,null,null,null,null,null,null,null,null,null,null,null,null,null,null,null,null,null,null,null,null,null,null,null,null,null,null,null,2243,"住宅","SRC造",{"$f":"INDEX(#REF!, 9 + QUOTIENT(ROW(AL2633)-2, 10), 1 + MOD(ROW(AL2633)-2, 10))","v":{"$error":"#REF!"}}]
[null,null,null,null,null,null,null,null,null,null,null,null,null,null,null,null,null,null,null,null,null,null,null,null,null,null,null,null,null,null,null,null,null,null,2243,"非住宅","SRC造",{"$f":"INDEX(#REF!, 9 + QUOTIENT(ROW(AL2638)-2, 10), 1 + MOD(ROW(AL2638)-2, 10))","v":{"$error":"#REF!"}}]
[null,null,null,null,null,null,null,null,null,null,null,null,null,null,null,null,null,null,null,null,null,null,null,null,null,null,null,null,null,null,null,null,null,null,2244,"住宅","SRC造",{"$f":"INDEX(#REF!, 9 + QUOTIENT(ROW(AL2643)-2, 10), 1 + MOD(ROW(AL2643)-2, 10))","v":{"$error":"#REF!"}}]
[null,null,null,null,null,null,null,null,null,null,null,null,null,null,null,null,null,null,null,null,null,null,null,null,null,null,null,null,null,null,null,null,null,null,2244,"住宅","RC造",{"$f":"INDEX(#REF!, 9 + QUOTIENT(ROW(AL2644)-2, 10), 1 + MOD(ROW(AL2644)-2, 10))","v":{"$error":"#REF!"}}]
[null,null,null,null,null,null,null,null,null,null,null,null,null,null,null,null,null,null,null,null,null,null,null,null,null,null,null,null,null,null,null,null,null,null,2244,"非住宅","RC造",{"$f":"INDEX(#REF!, 9 + QUOTIENT(ROW(AL2649)-2, 10), 1 + MOD(ROW(AL2649)-2, 10))","v":{"$error":"#REF!"}}]
[null,null,null,null,null,null,null,null,null,null,null,null,null,null,null,null,null,null,null,null,null,null,null,null,null,null,null,null,null,null,null,null,null,null,2245,"住宅","RC造",{"$f":"INDEX(#REF!, 9 + QUOTIENT(ROW(AL2654)-2, 10), 1 + MOD(ROW(AL2654)-2, 10))","v":{"$error":"#REF!"}}]
[null,null,null,null,null,null,null,null,null,null,null,null,null,null,null,null,null,null,null,null,null,null,null,null,null,null,null,null,null,null,null,null,null,null,2245,"非住宅","RC造",{"$f":"INDEX(#REF!, 9 + QUOTIENT(ROW(AL2659)-2, 10), 1 + MOD(ROW(AL2659)-2, 10))","v":{"$error":"#REF!"}}]
[null,null,null,null,null,null,null,null,null,null,null,null,null,null,null,null,null,null,null,null,null,null,null,null,null,null,null,null,null,null,null,null,null,null,2245,"非住宅","S造",{"$f":"INDEX(#REF!, 9 + QUOTIENT(ROW(AL2660)-2, 10), 1 + MOD(ROW(AL2660)-2, 10))","v":{"$error":"#REF!"}}]
[null,null,null,null,null,null,null,null,null,null,null,null,null,null,null,null,null,null,null,null,null,null,null,null,null,null,null,null,null,null,null,null,null,null,2246,"住宅","S造",{"$f":"INDEX(#REF!, 9 + QUOTIENT(ROW(AL2665)-2, 10), 1 + MOD(ROW(AL2665)-2, 10))","v":{"$error":"#REF!"}}]
[null,null,null,null,null,null,null,null,null,null,null,null,null,null,null,null,null,null,null,null,null,null,null,null,null,null,null,null,null,null,null,null,null,null,2246,"非住宅","S造",{"$f":"INDEX(#REF!, 9 + QUOTIENT(ROW(AL2670)-2, 10), 1 + MOD(ROW(AL2670)-2, 10))","v":{"$error":"#REF!"}}]
[null,null,null,null,null,null,null,null,null,null,null,null,null,null,null,null,null,null,null,null,null,null,null,null,null,null,null,null,null,null,null,null,null,null,2247,"住宅","S造",{"$f":"INDEX(#REF!, 9 + QUOTIENT(ROW(AL2675)-2, 10), 1 + MOD(ROW(AL2675)-2, 10))","v":{"$error":"#REF!"}}]
[null,null,null,null,null,null,null,null,null,null,null,null,null,null,null,null,null,null,null,null,null,null,null,null,null,null,null,null,null,null,null,null,null,null,2247,"住宅","その他",{"$f":"INDEX(#REF!, 9 + QUOTIENT(ROW(AL2676)-2, 10), 1 + MOD(ROW(AL2676)-2, 10))","v":{"$error":"#REF!"}}]
[null,null,null,null,null,null,null,null,null,null,null,null,null,null,null,null,null,null,null,null,null,null,null,null,null,null,null,null,null,null,null,null,null,null,2247,"非住宅","その他",{"$f":"INDEX(#REF!, 9 + QUOTIENT(ROW(AL2681)-2, 10), 1 + MOD(ROW(AL2681)-2, 10))","v":{"$error":"#REF!"}}]
[null,null,null,null,null,null,null,null,null,null,null,null,null,null,null,null,null,null,null,null,null,null,null,null,null,null,null,null,null,null,null,null,null,null,2248,"住宅","その他",{"$f":"INDEX(#REF!, 9 + QUOTIENT(ROW(AL2686)-2, 10), 1 + MOD(ROW(AL2686)-2, 10))","v":{"$error":"#REF!"}}]
[null,null,null,null,null,null,null,null,null,null,null,null,null,null,null,null,null,null,null,null,null,null,null,null,null,null,null,null,null,null,null,null,null,null,2248,"非住宅","その他",{"$f":"INDEX(#REF!, 9 + QUOTIENT(ROW(AL2691)-2, 10), 1 + MOD(ROW(AL2691)-2, 10))","v":{"$error":"#REF!"}}]
[null,null,null,null,null,null,null,null,null,null,null,null,null,null,null,null,null,null,null,null,null,null,null,null,null,null,null,null,null,null,null,null,null,null,2249,"住宅","木造",{"$f":"INDEX(#REF!, 9 + QUOTIENT(ROW(AL2692)-2, 10), 1 + MOD(ROW(AL2692)-2, 10))","v":{"$error":"#REF!"}}]
[null,null,null,null,null,null,null,null,null,null,null,null,null,null,null,null,null,null,null,null,null,null,null,null,null,null,null,null,null,null,null,null,null,null,2249,"非住宅","木造",{"$f":"INDEX(#REF!, 9 + QUOTIENT(ROW(AL2697)-2, 10), 1 + MOD(ROW(AL2697)-2, 10))","v":{"$error":"#REF!"}}]
[null,null,null,null,null,null,null,null,null,null,null,null,null,null,null,null,null,null,null,null,null,null,null,null,null,null,null,null,null,null,null,null,null,null,2250,"住宅","木造",{"$f":"INDEX(#REF!, 9 + QUOTIENT(ROW(AL2702)-2, 10), 1 + MOD(ROW(AL2702)-2, 10))","v":{"$error":"#REF!"}}]
[null,null,null,null,null,null,null,null,null,null,null,null,null,null,null,null,null,null,null,null,null,null,null,null,null,null,null,null,null,null,null,null,null,null,2250,"非住宅","木造",{"$f":"INDEX(#REF!, 9 + QUOTIENT(ROW(AL2707)-2, 10), 1 + MOD(ROW(AL2707)-2, 10))","v":{"$error":"#REF!"}}]
[null,null,null,null,null,null,null,null,null,null,null,null,null,null,null,null,null,null,null,null,null,null,null,null,null,null,null,null,null,null,null,null,null,null,2250,"非住宅","SRC造",{"$f":"INDEX(#REF!, 9 + QUOTIENT(ROW(AL2708)-2, 10), 1 + MOD(ROW(AL2708)-2, 10))","v":{"$error":"#REF!"}}]
[null,null,null,null,null,null,null,null,null,null,null,null,null,null,null,null,null,null,null,null,null,null,null,null,null,null,null,null,null,null,null,null,null,null,2251,"住宅","SRC造",{"$f":"INDEX(#REF!, 9 + QUOTIENT(ROW(AL2713)-2, 10), 1 + MOD(ROW(AL2713)-2, 10))","v":{"$error":"#REF!"}}]
[null,null,null,null,null,null,null,null,null,null,null,null,null,null,null,null,null,null,null,null,null,null,null,null,null,null,null,null,null,null,null,null,null,null,2251,"非住宅","SRC造",{"$f":"INDEX(#REF!, 9 + QUOTIENT(ROW(AL2718)-2, 10), 1 + MOD(ROW(AL2718)-2, 10))","v":{"$error":"#REF!"}}]
[null,null,null,null,null,null,null,null,null,null,null,null,null,null,null,null,null,null,null,null,null,null,null,null,null,null,null,null,null,null,null,null,null,null,2252,"住宅","SRC造",{"$f":"INDEX(#REF!, 9 + QUOTIENT(ROW(AL2723)-2, 10), 1 + MOD(ROW(AL2723)-2, 10))","v":{"$error":"#REF!"}}]
[null,null,null,null,null,null,null,null,null,null,null,null,null,null,null,null,null,null,null,null,null,null,null,null,null,null,null,null,null,null,null,null,null,null,2252,"住宅","その他",{"$f":"INDEX(#REF!, 9 + QUOTIENT(ROW(AL2726)-2, 10), 1 + MOD(ROW(AL2726)-2, 10))","v":{"$error":"#REF!"}}]
[null,null,null,null,null,null,null,null,null,null,null,null,null,null,null,null,null,null,null,null,null,null,null,null,null,null,null,null,null,null,null,null,null,null,2252,"非住宅","SRC造",{"$f":"INDEX(#REF!, 9 + QUOTIENT(ROW(AL2728)-2, 10), 1 + MOD(ROW(AL2728)-2, 10))","v":{"$error":"#REF!"}}]
[null,null,null,null,null,null,null,null,null,null,null,null,null,null,null,null,null,null,null,null,null,null,null,null,null,null,null,null,null,null,null,null,null,null,2253,"住宅","SRC造",{"$f":"INDEX(#REF!, 9 + QUOTIENT(ROW(AL2733)-2, 10), 1 + MOD(ROW(AL2733)-2, 10))","v":{"$error":"#REF!"}}]
[null,null,null,null,null,null,null,null,null,null,null,null,null,null,null,null,null,null,null,null,null,null,null,null,null,null,null,null,null,null,null,null,null,null,2253,"非住宅","SRC造",{"$f":"INDEX(#REF!, 9 + QUOTIENT(ROW(AL2738)-2, 10), 1 + MOD(ROW(AL2738)-2, 10))","v":{"$error":"#REF!"}}]
[null,null,null,null,null,null,null,null,null,null,null,null,null,null,null,null,null,null,null,null,null,null,null,null,null,null,null,null,null,null,null,null,null,null,2253,"非住宅","RC造",{"$f":"INDEX(#REF!, 9 + QUOTIENT(ROW(AL2739)-2, 10), 1 + MOD(ROW(AL2739)-2, 10))","v":{"$error":"#REF!"}}]
[null,null,null,null,null,null,null,null,null,null,null,null,null,null,null,null,null,null,null,null,null,null,null,null,null,null,null,null,null,null,null,null,null,null,2254,"住宅","RC造",{"$f":"INDEX(#REF!, 9 + QUOTIENT(ROW(AL2744)-2, 10), 1 + MOD(ROW(AL2744)-2, 10))","v":{"$error":"#REF!"}}]
[null,null,null,null,null,null,null,null,null,null,null,null,null,null,null,null,null,null,null,null,null,null,null,null,null,null,null,null,null,null,null,null,null,null,2254,"非住宅","RC造",{"$f":"INDEX(#REF!, 9 + QUOTIENT(ROW(AL2749)-2, 10), 1 + MOD(ROW(AL2749)-2, 10))","v":{"$error":"#REF!"}}]
[null,null,null,null,null,null,null,null,null,null,null,null,null,null,null,null,null,null,null,null,null,null,null,null,null,null,null,null,null,null,null,null,null,null,2255,"住宅","RC造",{"$f":"INDEX(#REF!, 9 + QUOTIENT(ROW(AL2754)-2, 10), 1 + MOD(ROW(AL2754)-2, 10))","v":{"$error":"#REF!"}}]
[null,null,null,null,null,null,null,null,null,null,null,null,null,null,null,null,null,null,null,null,null,null,null,null,null,null,null,null,null,null,null,null,null,null,2255,"住宅","S造",{"$f":"INDEX(#REF!, 9 + QUOTIENT(ROW(AL2755)-2, 10), 1 + MOD(ROW(AL2755)-2, 10))","v":{"$error":"#REF!"}}]
[null,null,null,null,null,null,null,null,null,null,null,null,null,null,null,null,null,null,null,null,null,null,null,null,null,null,null,null,null,null,null,null,null,null,2255,"非住宅","S造",{"$f":"INDEX(#REF!, 9 + QUOTIENT(ROW(AL2760)-2, 10), 1 + MOD(ROW(AL2760)-2, 10))","v":{"$error":"#REF!"}}]
[null,null,null,null,null,null,null,null,null,null,null,null,null,null,null,null,null,null,null,null,null,null,null,null,null,null,null,null,null,null,null,null,null,null,2256,"住宅","S造",{"$f":"INDEX(#REF!, 9 + QUOTIENT(ROW(AL2765)-2, 10), 1 + MOD(ROW(AL2765)-2, 10))","v":{"$error":"#REF!"}}]
[null,null,null,null,null,null,null,null,null,null,null,null,null,null,null,null,null,null,null,null,null,null,null,null,null,null,null,null,null,null,null,null,null,null,2256,"非住宅","S造",{"$f":"INDEX(#REF!, 9 + QUOTIENT(ROW(AL2770)-2, 10), 1 + MOD(ROW(AL2770)-2, 10))","v":{"$error":"#REF!"}}]
[null,null,null,null,null,null,null,null,null,null,null,null,null,null,null,null,null,null,null,null,null,null,null,null,null,null,null,null,null,null,null,null,null,null,2256,"非住宅","その他",{"$f":"INDEX(#REF!, 9 + QUOTIENT(ROW(AL2771)-2, 10), 1 + MOD(ROW(AL2771)-2, 10))","v":{"$error":"#REF!"}}]
[null,null,null,null,null,null,null,null,null,null,null,null,null,null,null,null,null,null,null,null,null,null,null,null,null,null,null,null,null,null,null,null,null,null,2257,"住宅","その他",{"$f":"INDEX(#REF!, 9 + QUOTIENT(ROW(AL2776)-2, 10), 1 + MOD(ROW(AL2776)-2, 10))","v":{"$error":"#REF!"}}]
[null,null,null,null,null,null,null,null,null,null,null,null,null,null,null,null,null,null,null,null,null,null,null,null,null,null,null,null,null,null,null,null,null,null,2257,"非住宅","その他",{"$f":"INDEX(#REF!, 9 + QUOTIENT(ROW(AL2781)-2, 10), 1 + MOD(ROW(AL2781)-2, 10))","v":{"$error":"#REF!"}}]
[null,null,null,null,null,null,null,null,null,null,null,null,null,null,null,null,null,null,null,null,null,null,null,null,null,null,null,null,null,null,null,null,null,null,2258,"住宅","その他",{"$f":"INDEX(#REF!, 9 + QUOTIENT(ROW(AL2786)-2, 10), 1 + MOD(ROW(AL2786)-2, 10))","v":{"$error":"#REF!"}}]
[null,null,null,null,null,null,null,null,null,null,null,null,null,null,null,null,null,null,null,null,null,null,null,null,null,null,null,null,null,null,null,null,null,null,2258,"非住宅","木造",{"$f":"INDEX(#REF!, 9 + QUOTIENT(ROW(AL2787)-2, 10), 1 + MOD(ROW(AL2787)-2, 10))","v":{"$error":"#REF!"}}]
[null,null,null,null,null,null,null,null,null,null,null,null,null,null,null,null,null,null,null,null,null,null,null,null,null,null,null,null,null,null,null,null,null,null,2259,"住宅","木造",{"$f":"INDEX(#REF!, 9 + QUOTIENT(ROW(AL2792)-2, 10), 1 + MOD(ROW(AL2792)-2, 10))","v":{"$error":"#REF!"}}]
[null,null,null,null,null,null,null,null,null,null,null,null,null,null,null,null,null,null,null,null,null,null,null,null,null,null,null,null,null,null,null,null,null,null,2259,"非住宅","木造",{"$f":"INDEX(#REF!, 9 + QUOTIENT(ROW(AL2797)-2, 10), 1 + MOD(ROW(AL2797)-2, 10))","v":{"$error":"#REF!"}}]
[null,null,null,null,null,null,null,null,null,null,null,null,null,null,null,null,null,null,null,null,null,null,null,null,null,null,null,null,null,null,null,null,null,null,2260,"住宅","木造",{"$f":"INDEX(#REF!, 9 + QUOTIENT(ROW(AL2802)-2, 10), 1 + MOD(ROW(AL2802)-2, 10))","v":{"$error":"#REF!"}}]
[null,null,null,null,null,null,null,null,null,null,null,null,null,null,null,null,null,null,null,null,null,null,null,null,null,null,null,null,null,null,null,null,null,null,2260,"住宅","SRC造",{"$f":"INDEX(#REF!, 9 + QUOTIENT(ROW(AL2803)-2, 10), 1 + MOD(ROW(AL2803)-2, 10))","v":{"$error":"#REF!"}}]
[null,null,null,null,null,null,null,null,null,null,null,null,null,null,null,null,null,null,null,null,null,null,null,null,null,null,null,null,null,null,null,null,null,null,2260,"非住宅","SRC造",{"$f":"INDEX(#REF!, 9 + QUOTIENT(ROW(AL2808)-2, 10), 1 + MOD(ROW(AL2808)-2, 10))","v":{"$error":"#REF!"}}]
[null,null,null,null,null,null,null,null,null,null,null,null,null,null,null,null,null,null,null,null,null,null,null,null,null,null,null,null,null,null,null,null,null,null,2261,"住宅","SRC造",{"$f":"INDEX(#REF!, 9 + QUOTIENT(ROW(AL2813)-2, 10), 1 + MOD(ROW(AL2813)-2, 10))","v":{"$error":"#REF!"}}]
[null,null,null,null,null,null,null,null,null,null,null,null,null,null,null,null,null,null,null,null,null,null,null,null,null,null,null,null,null,null,null,null,null,null,2261,"非住宅","SRC造",{"$f":"INDEX(#REF!, 9 + QUOTIENT(ROW(AL2818)-2, 10), 1 + MOD(ROW(AL2818)-2, 10))","v":{"$error":"#REF!"}}]
[null,null,null,null,null,null,null,null,null,null,null,null,null,null,null,null,null,null,null,null,null,null,null,null,null,null,null,null,null,null,null,null,null,null,2261,"非住宅","RC造",{"$f":"INDEX(#REF!, 9 + QUOTIENT(ROW(AL2819)-2, 10), 1 + MOD(ROW(AL2819)-2, 10))","v":{"$error":"#REF!"}}]
[null,null,null,null,null,null,null,null,null,null,null,null,null,null,null,null,null,null,null,null,null,null,null,null,null,null,null,null,null,null,null,null,null,null,2262,"住宅","RC造",{"$f":"INDEX(#REF!, 9 + QUOTIENT(ROW(AL2824)-2, 10), 1 + MOD(ROW(AL2824)-2, 10))","v":{"$error":"#REF!"}}]
[null,null,null,null,null,null,null,null,null,null,null,null,null,null,null,null,null,null,null,null,null,null,null,null,null,null,null,null,null,null,null,null,null,null,2262,"非住宅","木造",{"$f":"INDEX(#REF!, 9 + QUOTIENT(ROW(AL2827)-2, 10), 1 + MOD(ROW(AL2827)-2, 10))","v":{"$error":"#REF!"}}]
[null,null,null,null,null,null,null,null,null,null,null,null,null,null,null,null,null,null,null,null,null,null,null,null,null,null,null,null,null,null,null,null,null,null,2263,"住宅","SRC造",{"$f":"INDEX(#REF!, 9 + QUOTIENT(ROW(AL2833)-2, 10), 1 + MOD(ROW(AL2833)-2, 10))","v":{"$error":"#REF!"}}]
[null,null,null,null,null,null,null,null,null,null,null,null,null,null,null,null,null,null,null,null,null,null,null,null,null,null,null,null,null,null,null,null,null,null,2263,"住宅","RC造",{"$f":"INDEX(#REF!, 9 + QUOTIENT(ROW(AL2834)-2, 10), 1 + MOD(ROW(AL2834)-2, 10))","v":{"$error":"#REF!"}}]
[null,null,null,null,null,null,null,null,null,null,null,null,null,null,null,null,null,null,null,null,null,null,null,null,null,null,null,null,null,null,null,null,null,null,2263,"非住宅","RC造",{"$f":"INDEX(#REF!, 9 + QUOTIENT(ROW(AL2839)-2, 10), 1 + MOD(ROW(AL2839)-2, 10))","v":{"$error":"#REF!"}}]
[null,null,null,null,null,null,null,null,null,null,null,null,null,null,null,null,null,null,null,null,null,null,null,null,null,null,null,null,null,null,null,null,null,null,2264,"住宅","RC造",{"$f":"INDEX(#REF!, 9 + QUOTIENT(ROW(AL2844)-2, 10), 1 + MOD(ROW(AL2844)-2, 10))","v":{"$error":"#REF!"}}]
[null,null,null,null,null,null,null,null,null,null,null,null,null,null,null,null,null,null,null,null,null,null,null,null,null,null,null,null,null,null,null,null,null,null,2264,"非住宅","RC造",{"$f":"INDEX(#REF!, 9 + QUOTIENT(ROW(AL2849)-2, 10), 1 + MOD(ROW(AL2849)-2, 10))","v":{"$error":"#REF!"}}]
[null,null,null,null,null,null,null,null,null,null,null,null,null,null,null,null,null,null,null,null,null,null,null,null,null,null,null,null,null,null,null,null,null,null,2264,"非住宅","S造",{"$f":"INDEX(#REF!, 9 + QUOTIENT(ROW(AL2850)-2, 10), 1 + MOD(ROW(AL2850)-2, 10))","v":{"$error":"#REF!"}}]
[null,null,null,null,null,null,null,null,null,null,null,null,null,null,null,null,null,null,null,null,null,null,null,null,null,null,null,null,null,null,null,null,null,null,2265,"住宅","S造",{"$f":"INDEX(#REF!, 9 + QUOTIENT(ROW(AL2855)-2, 10), 1 + MOD(ROW(AL2855)-2, 10))","v":{"$error":"#REF!"}}]
[null,null,null,null,null,null,null,null,null,null,null,null,null,null,null,null,null,null,null,null,null,null,null,null,null,null,null,null,null,null,null,null,null,null,2265,"非住宅","S造",{"$f":"INDEX(#REF!, 9 + QUOTIENT(ROW(AL2860)-2, 10), 1 + MOD(ROW(AL2860)-2, 10))","v":{"$error":"#REF!"}}]
[null,null,null,null,null,null,null,null,null,null,null,null,null,null,null,null,null,null,null,null,null,null,null,null,null,null,null,null,null,null,null,null,null,null,2266,"住宅","S造",{"$f":"INDEX(#REF!, 9 + QUOTIENT(ROW(AL2865)-2, 10), 1 + MOD(ROW(AL2865)-2, 10))","v":{"$error":"#REF!"}}]
[null,null,null,null,null,null,null,null,null,null,null,null,null,null,null,null,null,null,null,null,null,null,null,null,null,null,null,null,null,null,null,null,null,null,2266,"住宅","その他",{"$f":"INDEX(#REF!, 9 + QUOTIENT(ROW(AL2866)-2, 10), 1 + MOD(ROW(AL2866)-2, 10))","v":{"$error":"#REF!"}}]
[null,null,null,null,null,null,null,null,null,null,null,null,null,null,null,null,null,null,null,null,null,null,null,null,null,null,null,null,null,null,null,null,null,null,2266,"非住宅","その他",{"$f":"INDEX(#REF!, 9 + QUOTIENT(ROW(AL2871)-2, 10), 1 + MOD(ROW(AL2871)-2, 10))","v":{"$error":"#REF!"}}]
[null,null,null,null,null,null,null,null,null,null,null,null,null,null,null,null,null,null,null,null,null,null,null,null,null,null,null,null,null,null,null,null,null,null,2267,"住宅","その他",{"$f":"INDEX(#REF!, 9 + QUOTIENT(ROW(AL2876)-2, 10), 1 + MOD(ROW(AL2876)-2, 10))","v":{"$error":"#REF!"}}]
[null,null,null,null,null,null,null,null,null,null,null,null,null,null,null,null,null,null,null,null,null,null,null,null,null,null,null,null,null,null,null,null,null,null,2267,"非住宅","その他",{"$f":"INDEX(#REF!, 9 + QUOTIENT(ROW(AL2881)-2, 10), 1 + MOD(ROW(AL2881)-2, 10))","v":{"$error":"#REF!"}}]
[null,null,null,null,null,null,null,null,null,null,null,null,null,null,null,null,null,null,null,null,null,null,null,null,null,null,null,null,null,null,null,null,null,null,2268,"住宅","木造",{"$f":"INDEX(#REF!, 9 + QUOTIENT(ROW(AL2882)-2, 10), 1 + MOD(ROW(AL2882)-2, 10))","v":{"$error":"#REF!"}}]
[null,null,null,null,null,null,null,null,null,null,null,null,null,null,null,null,null,null,null,null,null,null,null,null,null,null,null,null,null,null,null,null,null,null,2268,"非住宅","木造",{"$f":"INDEX(#REF!, 9 + QUOTIENT(ROW(AL2887)-2, 10), 1 + MOD(ROW(AL2887)-2, 10))","v":{"$error":"#REF!"}}]
[null,null,null,null,null,null,null,null,null,null,null,null,null,null,null,null,null,null,null,null,null,null,null,null,null,null,null,null,null,null,null,null,null,null,2269,"住宅","木造",{"$f":"INDEX(#REF!, 9 + QUOTIENT(ROW(AL2892)-2, 10), 1 + MOD(ROW(AL2892)-2, 10))","v":{"$error":"#REF!"}}]
[null,null,null,null,null,null,null,null,null,null,null,null,null,null,null,null,null,null,null,null,null,null,null,null,null,null,null,null,null,null,null,null,null,null,2269,"非住宅","木造",{"$f":"INDEX(#REF!, 9 + QUOTIENT(ROW(AL2897)-2, 10), 1 + MOD(ROW(AL2897)-2, 10))","v":{"$error":"#REF!"}}]
[null,null,null,null,null,null,null,null,null,null,null,null,null,null,null,null,null,null,null,null,null,null,null,null,null,null,null,null,null,null,null,null,null,null,2269,"非住宅","SRC造",{"$f":"INDEX(#REF!, 9 + QUOTIENT(ROW(AL2898)-2, 10), 1 + MOD(ROW(AL2898)-2, 10))","v":{"$error":"#REF!"}}]
[null,null,null,null,null,null,null,null,null,null,null,null,null,null,null,null,null,null,null,null,null,null,null,null,null,null,null,null,null,null,null,null,null,null,2270,"住宅","SRC造",{"$f":"INDEX(#REF!, 9 + QUOTIENT(ROW(AL2903)-2, 10), 1 + MOD(ROW(AL2903)-2, 10))","v":{"$error":"#REF!"}}]
[null,null,null,null,null,null,null,null,null,null,null,null,null,null,null,null,null,null,null,null,null,null,null,null,null,null,null,null,null,null,null,null,null,null,2270,"非住宅","SRC造",{"$f":"INDEX(#REF!, 9 + QUOTIENT(ROW(AL2908)-2, 10), 1 + MOD(ROW(AL2908)-2, 10))","v":{"$error":"#REF!"}}]
[null,null,null,null,null,null,null,null,null,null,null,null,null,null,null,null,null,null,null,null,null,null,null,null,null,null,null,null,null,null,null,null,null,null,2271,"住宅","SRC造",{"$f":"INDEX(#REF!, 9 + QUOTIENT(ROW(AL2913)-2, 10), 1 + MOD(ROW(AL2913)-2, 10))","v":{"$error":"#REF!"}}]
[null,null,null,null,null,null,null,null,null,null,null,null,null,null,null,null,null,null,null,null,null,null,null,null,null,null,null,null,null,null,null,null,null,null,2271,"住宅","RC造",{"$f":"INDEX(#REF!, 9 + QUOTIENT(ROW(AL2914)-2, 10), 1 + MOD(ROW(AL2914)-2, 10))","v":{"$error":"#REF!"}}]
[null,null,null,null,null,null,null,null,null,null,null,null,null,null,null,null,null,null,null,null,null,null,null,null,null,null,null,null,null,null,null,null,null,null,2271,"非住宅","RC造",{"$f":"INDEX(#REF!, 9 + QUOTIENT(ROW(AL2919)-2, 10), 1 + MOD(ROW(AL2919)-2, 10))","v":{"$error":"#REF!"}}]
[null,null,null,null,null,null,null,null,null,null,null,null,null,null,null,null,null,null,null,null,null,null,null,null,null,null,null,null,null,null,null,null,null,null,2272,"住宅","RC造",{"$f":"INDEX(#REF!, 9 + QUOTIENT(ROW(AL2924)-2, 10), 1 + MOD(ROW(AL2924)-2, 10))","v":{"$error":"#REF!"}}]
[null,null,null,null,null,null,null,null,null,null,null,null,null,null,null,null,null,null,null,null,null,null,null,null,null,null,null,null,null,null,null,null,null,null,2272,"非住宅","RC造",{"$f":"INDEX(#REF!, 9 + QUOTIENT(ROW(AL2929)-2, 10), 1 + MOD(ROW(AL2929)-2, 10))","v":{"$error":"#REF!"}}]
[null,null,null,null,null,null,null,null,null,null,null,null,null,null,null,null,null,null,null,null,null,null,null,null,null,null,null,null,null,null,null,null,null,null,2272,"非住宅","その他",{"$f":"INDEX(#REF!, 9 + QUOTIENT(ROW(AL2931)-2, 10), 1 + MOD(ROW(AL2931)-2, 10))","v":{"$error":"#REF!"}}]
[null,null,null,null,null,null,null,null,null,null,null,null,null,null,null,null,null,null,null,null,null,null,null,null,null,null,null,null,null,null,null,null,null,null,2273,"住宅","RC造",{"$f":"INDEX(#REF!, 9 + QUOTIENT(ROW(AL2934)-2, 10), 1 + MOD(ROW(AL2934)-2, 10))","v":{"$error":"#REF!"}}]
[null,null,null,null,null,null,null,null,null,null,null,null,null,null,null,null,null,null,null,null,null,null,null,null,null,null,null,null,null,null,null,null,null,null,2273,"非住宅","RC造",{"$f":"INDEX(#REF!, 9 + QUOTIENT(ROW(AL2939)-2, 10), 1 + MOD(ROW(AL2939)-2, 10))","v":{"$error":"#REF!"}}]
[null,null,null,null,null,null,null,null,null,null,null,null,null,null,null,null,null,null,null,null,null,null,null,null,null,null,null,null,null,null,null,null,null,null,2274,"住宅","RC造",{"$f":"INDEX(#REF!, 9 + QUOTIENT(ROW(AL2944)-2, 10), 1 + MOD(ROW(AL2944)-2, 10))","v":{"$error":"#REF!"}}]
[null,null,null,null,null,null,null,null,null,null,null,null,null,null,null,null,null,null,null,null,null,null,null,null,null,null,null,null,null,null,null,null,null,null,2274,"住宅","S造",{"$f":"INDEX(#REF!, 9 + QUOTIENT(ROW(AL2945)-2, 10), 1 + MOD(ROW(AL2945)-2, 10))","v":{"$error":"#REF!"}}]
[null,null,null,null,null,null,null,null,null,null,null,null,null,null,null,null,null,null,null,null,null,null,null,null,null,null,null,null,null,null,null,null,null,null,2274,"非住宅","S造",{"$f":"INDEX(#REF!, 9 + QUOTIENT(ROW(AL2950)-2, 10), 1 + MOD(ROW(AL2950)-2, 10))","v":{"$error":"#REF!"}}]
[null,null,null,null,null,null,null,null,null,null,null,null,null,null,null,null,null,null,null,null,null,null,null,null,null,null,null,null,null,null,null,null,null,null,2275,"住宅","S造",{"$f":"INDEX(#REF!, 9 + QUOTIENT(ROW(AL2955)-2, 10), 1 + MOD(ROW(AL2955)-2, 10))","v":{"$error":"#REF!"}}]
[null,null,null,null,null,null,null,null,null,null,null,null,null,null,null,null,null,null,null,null,null,null,null,null,null,null,null,null,null,null,null,null,null,null,2275,"非住宅","S造",{"$f":"INDEX(#REF!, 9 + QUOTIENT(ROW(AL2960)-2, 10), 1 + MOD(ROW(AL2960)-2, 10))","v":{"$error":"#REF!"}}]
[null,null,null,null,null,null,null,null,null,null,null,null,null,null,null,null,null,null,null,null,null,null,null,null,null,null,null,null,null,null,null,null,null,null,2275,"非住宅","その他",{"$f":"INDEX(#REF!, 9 + QUOTIENT(ROW(AL2961)-2, 10), 1 + MOD(ROW(AL2961)-2, 10))","v":{"$error":"#REF!"}}]
[null,null,null,null,null,null,null,null,null,null,null,null,null,null,null,null,null,null,null,null,null,null,null,null,null,null,null,null,null,null,null,null,null,null,2276,"住宅","その他",{"$f":"INDEX(#REF!, 9 + QUOTIENT(ROW(AL2966)-2, 10), 1 + MOD(ROW(AL2966)-2, 10))","v":{"$error":"#REF!"}}]
[null,null,null,null,null,null,null,null,null,null,null,null,null,null,null,null,null,null,null,null,null,null,null,null,null,null,null,null,null,null,null,null,null,null,2276,"非住宅","その他",{"$f":"INDEX(#REF!, 9 + QUOTIENT(ROW(AL2971)-2, 10), 1 + MOD(ROW(AL2971)-2, 10))","v":{"$error":"#REF!"}}]
[null,null,null,null,null,null,null,null,null,null,null,null,null,null,null,null,null,null,null,null,null,null,null,null,null,null,null,null,null,null,null,null,null,null,2277,"住宅","その他",{"$f":"INDEX(#REF!, 9 + QUOTIENT(ROW(AL2976)-2, 10), 1 + MOD(ROW(AL2976)-2, 10))","v":{"$error":"#REF!"}}]
[null,null,null,null,null,null,null,null,null,null,null,null,null,null,null,null,null,null,null,null,null,null,null,null,null,null,null,null,null,null,null,null,null,null,2277,"非住宅","木造",{"$f":"INDEX(#REF!, 9 + QUOTIENT(ROW(AL2977)-2, 10), 1 + MOD(ROW(AL2977)-2, 10))","v":{"$error":"#REF!"}}]
[null,null,null,null,null,null,null,null,null,null,null,null,null,null,null,null,null,null,null,null,null,null,null,null,null,null,null,null,null,null,null,null,null,null,2278,"住宅","木造",{"$f":"INDEX(#REF!, 9 + QUOTIENT(ROW(AL2982)-2, 10), 1 + MOD(ROW(AL2982)-2, 10))","v":{"$error":"#REF!"}}]
[null,null,null,null,null,null,null,null,null,null,null,null,null,null,null,null,null,null,null,null,null,null,null,null,null,null,null,null,null,null,null,null,null,null,2278,"非住宅","木造",{"$f":"INDEX(#REF!, 9 + QUOTIENT(ROW(AL2987)-2, 10), 1 + MOD(ROW(AL2987)-2, 10))","v":{"$error":"#REF!"}}]
[null,null,null,null,null,null,null,null,null,null,null,null,null,null,null,null,null,null,null,null,null,null,null,null,null,null,null,null,null,null,null,null,null,null,2279,"住宅","木造",{"$f":"INDEX(#REF!, 9 + QUOTIENT(ROW(AL2992)-2, 10), 1 + MOD(ROW(AL2992)-2, 10))","v":{"$error":"#REF!"}}]
[null,null,null,null,null,null,null,null,null,null,null,null,null,null,null,null,null,null,null,null,null,null,null,null,null,null,null,null,null,null,null,null,null,null,2279,"住宅","SRC造",{"$f":"INDEX(#REF!, 9 + QUOTIENT(ROW(AL2993)-2, 10), 1 + MOD(ROW(AL2993)-2, 10))","v":{"$error":"#REF!"}}]
[null,null,null,null,null,null,null,null,null,null,null,null,null,null,null,null,null,null,null,null,null,null,null,null,null,null,null,null,null,null,null,null,null,null,2279,"非住宅","SRC造",{"$f":"INDEX(#REF!, 9 + QUOTIENT(ROW(AL2998)-2, 10), 1 + MOD(ROW(AL2998)-2, 10))","v":{"$error":"#REF!"}}]
[null,null,null,null,null,null,null,null,null,null,null,null,null,null,null,null,null,null,null,null,null,null,null,null,null,null,null,null,null,null,null,null,null,null,2280,"住宅","SRC造",{"$f":"INDEX(#REF!, 9 + QUOTIENT(ROW(AL3003)-2, 10), 1 + MOD(ROW(AL3003)-2, 10))","v":{"$error":"#REF!"}}]
[null,null,null,null,null,null,null,null,null,null,null,null,null,null,null,null,null,null,null,null,null,null,null,null,null,null,null,null,null,null,null,null,null,null,2280,"非住宅","SRC造",{"$f":"INDEX(#REF!, 9 + QUOTIENT(ROW(AL3008)-2, 10), 1 + MOD(ROW(AL3008)-2, 10))","v":{"$error":"#REF!"}}]
[null,null,null,null,null,null,null,null,null,null,null,null,null,null,null,null,null,null,null,null,null,null,null,null,null,null,null,null,null,null,null,null,null,null,2280,"非住宅","RC造",{"$f":"INDEX(#REF!, 9 + QUOTIENT(ROW(AL3009)-2, 10), 1 + MOD(ROW(AL3009)-2, 10))","v":{"$error":"#REF!"}}]
[null,null,null,null,null,null,null,null,null,null,null,null,null,null,null,null,null,null,null,null,null,null,null,null,null,null,null,null,null,null,null,null,null,null,2281,"住宅","RC造",{"$f":"INDEX(#REF!, 9 + QUOTIENT(ROW(AL3014)-2, 10), 1 + MOD(ROW(AL3014)-2, 10))","v":{"$error":"#REF!"}}]
[null,null,null,null,null,null,null,null,null,null,null,null,null,null,null,null,null,null,null,null,null,null,null,null,null,null,null,null,null,null,null,null,null,null,2281,"非住宅","RC造",{"$f":"INDEX(#REF!, 9 + QUOTIENT(ROW(AL3019)-2, 10), 1 + MOD(ROW(AL3019)-2, 10))","v":{"$error":"#REF!"}}]
[null,null,null,null,null,null,null,null,null,null,null,null,null,null,null,null,null,null,null,null,null,null,null,null,null,null,null,null,null,null,null,null,null,null,2282,"住宅","RC造",{"$f":"INDEX(#REF!, 9 + QUOTIENT(ROW(AL3024)-2, 10), 1 + MOD(ROW(AL3024)-2, 10))","v":{"$error":"#REF!"}}]
[null,null,null,null,null,null,null,null,null,null,null,null,null,null,null,null,null,null,null,null,null,null,null,null,null,null,null,null,null,null,null,null,null,null,2282,"住宅","S造",{"$f":"INDEX(#REF!, 9 + QUOTIENT(ROW(AL3025)-2, 10), 1 + MOD(ROW(AL3025)-2, 10))","v":{"$error":"#REF!"}}]
[null,null,null,null,null,null,null,null,null,null,null,null,null,null,null,null,null,null,null,null,null,null,null,null,null,null,null,null,null,null,null,null,null,null,2282,"非住宅","S造",{"$f":"INDEX(#REF!, 9 + QUOTIENT(ROW(AL3030)-2, 10), 1 + MOD(ROW(AL3030)-2, 10))","v":{"$error":"#REF!"}}]
[null,null,null,null,null,null,null,null,null,null,null,null,null,null,null,null,null,null,null,null,null,null,null,null,null,null,null,null,null,null,null,null,null,null,2283,"住宅","RC造",{"$f":"INDEX(#REF!, 9 + QUOTIENT(ROW(AL3034)-2, 10), 1 + MOD(ROW(AL3034)-2, 10))","v":{"$error":"#REF!"}}]
[null,null,null,null,null,null,null,null,null,null,null,null,null,null,null,null,null,null,null,null,null,null,null,null,null,null,null,null,null,null,null,null,null,null,2283,"非住宅","RC造",{"$f":"INDEX(#REF!, 9 + QUOTIENT(ROW(AL3039)-2, 10), 1 + MOD(ROW(AL3039)-2, 10))","v":{"$error":"#REF!"}}]
[null,null,null,null,null,null,null,null,null,null,null,null,null,null,null,null,null,null,null,null,null,null,null,null,null,null,null,null,null,null,null,null,null,null,2283,"非住宅","S造",{"$f":"INDEX(#REF!, 9 + QUOTIENT(ROW(AL3040)-2, 10), 1 + MOD(ROW(AL3040)-2, 10))","v":{"$error":"#REF!"}}]
[null,null,null,null,null,null,null,null,null,null,null,null,null,null,null,null,null,null,null,null,null,null,null,null,null,null,null,null,null,null,null,null,null,null,2284,"住宅","S造",{"$f":"INDEX(#REF!, 9 + QUOTIENT(ROW(AL3045)-2, 10), 1 + MOD(ROW(AL3045)-2, 10))","v":{"$error":"#REF!"}}]
[null,null,null,null,null,null,null,null,null,null,null,null,null,null,null,null,null,null,null,null,null,null,null,null,null,null,null,null,null,null,null,null,null,null,2284,"非住宅","S造",{"$f":"INDEX(#REF!, 9 + QUOTIENT(ROW(AL3050)-2, 10), 1 + MOD(ROW(AL3050)-2, 10))","v":{"$error":"#REF!"}}]
[null,null,null,null,null,null,null,null,null,null,null,null,null,null,null,null,null,null,null,null,null,null,null,null,null,null,null,null,null,null,null,null,null,null,2285,"住宅","S造",{"$f":"INDEX(#REF!, 9 + QUOTIENT(ROW(AL3055)-2, 10), 1 + MOD(ROW(AL3055)-2, 10))","v":{"$error":"#REF!"}}]
[null,null,null,null,null,null,null,null,null,null,null,null,null,null,null,null,null,null,null,null,null,null,null,null,null,null,null,null,null,null,null,null,null,null,2285,"住宅","その他",{"$f":"INDEX(#REF!, 9 + QUOTIENT(ROW(AL3056)-2, 10), 1 + MOD(ROW(AL3056)-2, 10))","v":{"$error":"#REF!"}}]
[null,null,null,null,null,null,null,null,null,null,null,null,null,null,null,null,null,null,null,null,null,null,null,null,null,null,null,null,null,null,null,null,null,null,2285,"非住宅","その他",{"$f":"INDEX(#REF!, 9 + QUOTIENT(ROW(AL3061)-2, 10), 1 + MOD(ROW(AL3061)-2, 10))","v":{"$error":"#REF!"}}]
[null,null,null,null,null,null,null,null,null,null,null,null,null,null,null,null,null,null,null,null,null,null,null,null,null,null,null,null,null,null,null,null,null,null,2286,"住宅","その他",{"$f":"INDEX(#REF!, 9 + QUOTIENT(ROW(AL3066)-2, 10), 1 + MOD(ROW(AL3066)-2, 10))","v":{"$error":"#REF!"}}]
[null,null,null,null,null,null,null,null,null,null,null,null,null,null,null,null,null,null,null,null,null,null,null,null,null,null,null,null,null,null,null,null,null,null,2286,"非住宅","その他",{"$f":"INDEX(#REF!, 9 + QUOTIENT(ROW(AL3071)-2, 10), 1 + MOD(ROW(AL3071)-2, 10))","v":{"$error":"#REF!"}}]
[null,null,null,null,null,null,null,null,null,null,null,null,null,null,null,null,null,null,null,null,null,null,null,null,null,null,null,null,null,null,null,null,null,null,2287,"住宅","木造",{"$f":"INDEX(#REF!, 9 + QUOTIENT(ROW(AL3072)-2, 10), 1 + MOD(ROW(AL3072)-2, 10))","v":{"$error":"#REF!"}}]
[null,null,null,null,null,null,null,null,null,null,null,null,null,null,null,null,null,null,null,null,null,null,null,null,null,null,null,null,null,null,null,null,null,null,2287,"非住宅","木造",{"$f":"INDEX(#REF!, 9 + QUOTIENT(ROW(AL3077)-2, 10), 1 + MOD(ROW(AL3077)-2, 10))","v":{"$error":"#REF!"}}]
[null,null,null,null,null,null,null,null,null,null,null,null,null,null,null,null,null,null,null,null,null,null,null,null,null,null,null,null,null,null,null,null,null,null,2288,"住宅","木造",{"$f":"INDEX(#REF!, 9 + QUOTIENT(ROW(AL3082)-2, 10), 1 + MOD(ROW(AL3082)-2, 10))","v":{"$error":"#REF!"}}]
[null,null,null,null,null,null,null,null,null,null,null,null,null,null,null,null,null,null,null,null,null,null,null,null,null,null,null,null,null,null,null,null,null,null,2288,"非住宅","木造",{"$f":"INDEX(#REF!, 9 + QUOTIENT(ROW(AL3087)-2, 10), 1 + MOD(ROW(AL3087)-2, 10))","v":{"$error":"#REF!"}}]
[null,null,null,null,null,null,null,null,null,null,null,null,null,null,null,null,null,null,null,null,null,null,null,null,null,null,null,null,null,null,null,null,null,null,2288,"非住宅","SRC造",{"$f":"INDEX(#REF!, 9 + QUOTIENT(ROW(AL3088)-2, 10), 1 + MOD(ROW(AL3088)-2, 10))","v":{"$error":"#REF!"}}]
[null,null,null,null,null,null,null,null,null,null,null,null,null,null,null,null,null,null,null,null,null,null,null,null,null,null,null,null,null,null,null,null,null,null,2289,"住宅","SRC造",{"$f":"INDEX(#REF!, 9 + QUOTIENT(ROW(AL3093)-2, 10), 1 + MOD(ROW(AL3093)-2, 10))","v":{"$error":"#REF!"}}]
[null,null,null,null,null,null,null,null,null,null,null,null,null,null,null,null,null,null,null,null,null,null,null,null,null,null,null,null,null,null,null,null,null,null,2289,"非住宅","SRC造",{"$f":"INDEX(#REF!, 9 + QUOTIENT(ROW(AL3098)-2, 10), 1 + MOD(ROW(AL3098)-2, 10))","v":{"$error":"#REF!"}}]
[null,null,null,null,null,null,null,null,null,null,null,null,null,null,null,null,null,null,null,null,null,null,null,null,null,null,null,null,null,null,null,null,null,null,2290,"住宅","SRC造",{"$f":"INDEX(#REF!, 9 + QUOTIENT(ROW(AL3103)-2, 10), 1 + MOD(ROW(AL3103)-2, 10))","v":{"$error":"#REF!"}}]
[null,null,null,null,null,null,null,null,null,null,null,null,null,null,null,null,null,null,null,null,null,null,null,null,null,null,null,null,null,null,null,null,null,null,2290,"住宅","RC造",{"$f":"INDEX(#REF!, 9 + QUOTIENT(ROW(AL3104)-2, 10), 1 + MOD(ROW(AL3104)-2, 10))","v":{"$error":"#REF!"}}]
[null,null,null,null,null,null,null,null,null,null,null,null,null,null,null,null,null,null,null,null,null,null,null,null,null,null,null,null,null,null,null,null,null,null,2290,"非住宅","RC造",{"$f":"INDEX(#REF!, 9 + QUOTIENT(ROW(AL3109)-2, 10), 1 + MOD(ROW(AL3109)-2, 10))","v":{"$error":"#REF!"}}]
[null,null,null,null,null,null,null,null,null,null,null,null,null,null,null,null,null,null,null,null,null,null,null,null,null,null,null,null,null,null,null,null,null,null,2291,"住宅","RC造",{"$f":"INDEX(#REF!, 9 + QUOTIENT(ROW(AL3114)-2, 10), 1 + MOD(ROW(AL3114)-2, 10))","v":{"$error":"#REF!"}}]
[null,null,null,null,null,null,null,null,null,null,null,null,null,null,null,null,null,null,null,null,null,null,null,null,null,null,null,null,null,null,null,null,null,null,2291,"非住宅","RC造",{"$f":"INDEX(#REF!, 9 + QUOTIENT(ROW(AL3119)-2, 10), 1 + MOD(ROW(AL3119)-2, 10))","v":{"$error":"#REF!"}}]
[null,null,null,null,null,null,null,null,null,null,null,null,null,null,null,null,null,null,null,null,null,null,null,null,null,null,null,null,null,null,null,null,null,null,2291,"非住宅","S造",{"$f":"INDEX(#REF!, 9 + QUOTIENT(ROW(AL3120)-2, 10), 1 + MOD(ROW(AL3120)-2, 10))","v":{"$error":"#REF!"}}]
[null,null,null,null,null,null,null,null,null,null,null,null,null,null,null,null,null,null,null,null,null,null,null,null,null,null,null,null,null,null,null,null,null,null,2292,"住宅","S造",{"$f":"INDEX(#REF!, 9 + QUOTIENT(ROW(AL3125)-2, 10), 1 + MOD(ROW(AL3125)-2, 10))","v":{"$error":"#REF!"}}]
[null,null,null,null,null,null,null,null,null,null,null,null,null,null,null,null,null,null,null,null,null,null,null,null,null,null,null,null,null,null,null,null,null,null,2292,"非住宅","S造",{"$f":"INDEX(#REF!, 9 + QUOTIENT(ROW(AL3130)-2, 10), 1 + MOD(ROW(AL3130)-2, 10))","v":{"$error":"#REF!"}}]
[null,null,null,null,null,null,null,null,null,null,null,null,null,null,null,null,null,null,null,null,null,null,null,null,null,null,null,null,null,null,null,null,null,null,2293,"住宅","RC造",{"$f":"INDEX(#REF!, 9 + QUOTIENT(ROW(AL3134)-2, 10), 1 + MOD(ROW(AL3134)-2, 10))","v":{"$error":"#REF!"}}]
[null,null,null,null,null,null,null,null,null,null,null,null,null,null,null,null,null,null,null,null,null,null,null,null,null,null,null,null,null,null,null,null,null,null,2293,"住宅","S造",{"$f":"INDEX(#REF!, 9 + QUOTIENT(ROW(AL3135)-2, 10), 1 + MOD(ROW(AL3135)-2, 10))","v":{"$error":"#REF!"}}]
[null,null,null,null,null,null,null,null,null,null,null,null,null,null,null,null,null,null,null,null,null,null,null,null,null,null,null,null,null,null,null,null,null,null,2293,"非住宅","S造",{"$f":"INDEX(#REF!, 9 + QUOTIENT(ROW(AL3140)-2, 10), 1 + MOD(ROW(AL3140)-2, 10))","v":{"$error":"#REF!"}}]
[null,null,null,null,null,null,null,null,null,null,null,null,null,null,null,null,null,null,null,null,null,null,null,null,null,null,null,null,null,null,null,null,null,null,2294,"住宅","S造",{"$f":"INDEX(#REF!, 9 + QUOTIENT(ROW(AL3145)-2, 10), 1 + MOD(ROW(AL3145)-2, 10))","v":{"$error":"#REF!"}}]
[null,null,null,null,null,null,null,null,null,null,null,null,null,null,null,null,null,null,null,null,null,null,null,null,null,null,null,null,null,null,null,null,null,null,2294,"非住宅","S造",{"$f":"INDEX(#REF!, 9 + QUOTIENT(ROW(AL3150)-2, 10), 1 + MOD(ROW(AL3150)-2, 10))","v":{"$error":"#REF!"}}]
[null,null,null,null,null,null,null,null,null,null,null,null,null,null,null,null,null,null,null,null,null,null,null,null,null,null,null,null,null,null,null,null,null,null,2294,"非住宅","その他",{"$f":"INDEX(#REF!, 9 + QUOTIENT(ROW(AL3151)-2, 10), 1 + MOD(ROW(AL3151)-2, 10))","v":{"$error":"#REF!"}}]
[null,null,null,null,null,null,null,null,null,null,null,null,null,null,null,null,null,null,null,null,null,null,null,null,null,null,null,null,null,null,null,null,null,null,2295,"住宅","その他",{"$f":"INDEX(#REF!, 9 + QUOTIENT(ROW(AL3156)-2, 10), 1 + MOD(ROW(AL3156)-2, 10))","v":{"$error":"#REF!"}}]
[null,null,null,null,null,null,null,null,null,null,null,null,null,null,null,null,null,null,null,null,null,null,null,null,null,null,null,null,null,null,null,null,null,null,2295,"非住宅","その他",{"$f":"INDEX(#REF!, 9 + QUOTIENT(ROW(AL3161)-2, 10), 1 + MOD(ROW(AL3161)-2, 10))","v":{"$error":"#REF!"}}]
[null,null,null,null,null,null,null,null,null,null,null,null,null,null,null,null,null,null,null,null,null,null,null,null,null,null,null,null,null,null,null,null,null,null,2296,"住宅","その他",{"$f":"INDEX(#REF!, 9 + QUOTIENT(ROW(AL3166)-2, 10), 1 + MOD(ROW(AL3166)-2, 10))","v":{"$error":"#REF!"}}]
[null,null,null,null,null,null,null,null,null,null,null,null,null,null,null,null,null,null,null,null,null,null,null,null,null,null,null,null,null,null,null,null,null,null,2296,"非住宅","木造",{"$f":"INDEX(#REF!, 9 + QUOTIENT(ROW(AL3167)-2, 10), 1 + MOD(ROW(AL3167)-2, 10))","v":{"$error":"#REF!"}}]
[null,null,null,null,null,null,null,null,null,null,null,null,null,null,null,null,null,null,null,null,null,null,null,null,null,null,null,null,null,null,null,null,null,null,2297,"住宅","木造",{"$f":"INDEX(#REF!, 9 + QUOTIENT(ROW(AL3172)-2, 10), 1 + MOD(ROW(AL3172)-2, 10))","v":{"$error":"#REF!"}}]
[null,null,null,null,null,null,null,null,null,null,null,null,null,null,null,null,null,null,null,null,null,null,null,null,null,null,null,null,null,null,null,null,null,null,2297,"非住宅","木造",{"$f":"INDEX(#REF!, 9 + QUOTIENT(ROW(AL3177)-2, 10), 1 + MOD(ROW(AL3177)-2, 10))","v":{"$error":"#REF!"}}]
[null,null,null,null,null,null,null,null,null,null,null,null,null,null,null,null,null,null,null,null,null,null,null,null,null,null,null,null,null,null,null,null,null,null,2298,"住宅","木造",{"$f":"INDEX(#REF!, 9 + QUOTIENT(ROW(AL3182)-2, 10), 1 + MOD(ROW(AL3182)-2, 10))","v":{"$error":"#REF!"}}]
[null,null,null,null,null,null,null,null,null,null,null,null,null,null,null,null,null,null,null,null,null,null,null,null,null,null,null,null,null,null,null,null,null,null,2298,"住宅","SRC造",{"$f":"INDEX(#REF!, 9 + QUOTIENT(ROW(AL3183)-2, 10), 1 + MOD(ROW(AL3183)-2, 10))","v":{"$error":"#REF!"}}]
[null,null,null,null,null,null,null,null,null,null,null,null,null,null,null,null,null,null,null,null,null,null,null,null,null,null,null,null,null,null,null,null,null,null,2298,"非住宅","SRC造",{"$f":"INDEX(#REF!, 9 + QUOTIENT(ROW(AL3188)-2, 10), 1 + MOD(ROW(AL3188)-2, 10))","v":{"$error":"#REF!"}}]
[null,null,null,null,null,null,null,null,null,null,null,null,null,null,null,null,null,null,null,null,null,null,null,null,null,null,null,null,null,null,null,null,null,null,2299,"住宅","SRC造",{"$f":"INDEX(#REF!, 9 + QUOTIENT(ROW(AL3193)-2, 10), 1 + MOD(ROW(AL3193)-2, 10))","v":{"$error":"#REF!"}}]
[null,null,null,null,null,null,null,null,null,null,null,null,null,null,null,null,null,null,null,null,null,null,null,null,null,null,null,null,null,null,null,null,null,null,2299,"非住宅","SRC造",{"$f":"INDEX(#REF!, 9 + QUOTIENT(ROW(AL3198)-2, 10), 1 + MOD(ROW(AL3198)-2, 10))","v":{"$error":"#REF!"}}]
[null,null,null,null,null,null,null,null,null,null,null,null,null,null,null,null,null,null,null,null,null,null,null,null,null,null,null,null,null,null,null,null,null,null,2299,"非住宅","RC造",{"$f":"INDEX(#REF!, 9 + QUOTIENT(ROW(AL3199)-2, 10), 1 + MOD(ROW(AL3199)-2, 10))","v":{"$error":"#REF!"}}]
[null,null,null,null,null,null,null,null,null,null,null,null,null,null,null,null,null,null,null,null,null,null,null,null,null,null,null,null,null,null,null,null,null,null,2300,"住宅","RC造",{"$f":"INDEX(#REF!, 9 + QUOTIENT(ROW(AL3204)-2, 10), 1 + MOD(ROW(AL3204)-2, 10))","v":{"$error":"#REF!"}}]
[null,null,null,null,null,null,null,null,null,null,null,null,null,null,null,null,null,null,null,null,null,null,null,null,null,null,null,null,null,null,null,null,null,null,2300,"非住宅","RC造",{"$f":"INDEX(#REF!, 9 + QUOTIENT(ROW(AL3209)-2, 10), 1 + MOD(ROW(AL3209)-2, 10))","v":{"$error":"#REF!"}}]
[null,null,null,null,null,null,null,null,null,null,null,null,null,null,null,null,null,null,null,null,null,null,null,null,null,null,null,null,null,null,null,null,null,null,2301,"住宅","RC造",{"$f":"INDEX(#REF!, 9 + QUOTIENT(ROW(AL3214)-2, 10), 1 + MOD(ROW(AL3214)-2, 10))","v":{"$error":"#REF!"}}]
[null,null,null,null,null,null,null,null,null,null,null,null,null,null,null,null,null,null,null,null,null,null,null,null,null,null,null,null,null,null,null,null,null,null,2301,"住宅","S造",{"$f":"INDEX(#REF!, 9 + QUOTIENT(ROW(AL3215)-2, 10), 1 + MOD(ROW(AL3215)-2, 10))","v":{"$error":"#REF!"}}]
[null,null,null,null,null,null,null,null,null,null,null,null,null,null,null,null,null,null,null,null,null,null,null,null,null,null,null,null,null,null,null,null,null,null,2301,"非住宅","S造",{"$f":"INDEX(#REF!, 9 + QUOTIENT(ROW(AL3220)-2, 10), 1 + MOD(ROW(AL3220)-2, 10))","v":{"$error":"#REF!"}}]
[null,null,null,null,null,null,null,null,null,null,null,null,null,null,null,null,null,null,null,null,null,null,null,null,null,null,null,null,null,null,null,null,null,null,2302,"住宅","S造",{"$f":"INDEX(#REF!, 9 + QUOTIENT(ROW(AL3225)-2, 10), 1 + MOD(ROW(AL3225)-2, 10))","v":{"$error":"#REF!"}}]
[null,null,null,null,null,null,null,null,null,null,null,null,null,null,null,null,null,null,null,null,null,null,null,null,null,null,null,null,null,null,null,null,null,null,2302,"非住宅","S造",{"$f":"INDEX(#REF!, 9 + QUOTIENT(ROW(AL3230)-2, 10), 1 + MOD(ROW(AL3230)-2, 10))","v":{"$error":"#REF!"}}]
[null,null,null,null,null,null,null,null,null,null,null,null,null,null,null,null,null,null,null,null,null,null,null,null,null,null,null,null,null,null,null,null,null,null,2302,"非住宅","その他",{"$f":"INDEX(#REF!, 9 + QUOTIENT(ROW(AL3231)-2, 10), 1 + MOD(ROW(AL3231)-2, 10))","v":{"$error":"#REF!"}}]
[null,null,null,null,null,null,null,null,null,null,null,null,null,null,null,null,null,null,null,null,null,null,null,null,null,null,null,null,null,null,null,null,null,null,2303,"住宅","S造",{"$f":"INDEX(#REF!, 9 + QUOTIENT(ROW(AL3235)-2, 10), 1 + MOD(ROW(AL3235)-2, 10))","v":{"$error":"#REF!"}}]
[null,null,null,null,null,null,null,null,null,null,null,null,null,null,null,null,null,null,null,null,null,null,null,null,null,null,null,null,null,null,null,null,null,null,2303,"非住宅","S造",{"$f":"INDEX(#REF!, 9 + QUOTIENT(ROW(AL3240)-2, 10), 1 + MOD(ROW(AL3240)-2, 10))","v":{"$error":"#REF!"}}]
[null,null,null,null,null,null,null,null,null,null,null,null,null,null,null,null,null,null,null,null,null,null,null,null,null,null,null,null,null,null,null,null,null,null,2304,"住宅","S造",{"$f":"INDEX(#REF!, 9 + QUOTIENT(ROW(AL3245)-2, 10), 1 + MOD(ROW(AL3245)-2, 10))","v":{"$error":"#REF!"}}]
[null,null,null,null,null,null,null,null,null,null,null,null,null,null,null,null,null,null,null,null,null,null,null,null,null,null,null,null,null,null,null,null,null,null,2304,"住宅","その他",{"$f":"INDEX(#REF!, 9 + QUOTIENT(ROW(AL3246)-2, 10), 1 + MOD(ROW(AL3246)-2, 10))","v":{"$error":"#REF!"}}]
[null,null,null,null,null,null,null,null,null,null,null,null,null,null,null,null,null,null,null,null,null,null,null,null,null,null,null,null,null,null,null,null,null,null,2304,"非住宅","その他",{"$f":"INDEX(#REF!, 9 + QUOTIENT(ROW(AL3251)-2, 10), 1 + MOD(ROW(AL3251)-2, 10))","v":{"$error":"#REF!"}}]
[null,null,null,null,null,null,null,null,null,null,null,null,null,null,null,null,null,null,null,null,null,null,null,null,null,null,null,null,null,null,null,null,null,null,2305,"住宅","その他",{"$f":"INDEX(#REF!, 9 + QUOTIENT(ROW(AL3256)-2, 10), 1 + MOD(ROW(AL3256)-2, 10))","v":{"$error":"#REF!"}}]
[null,null,null,null,null,null,null,null,null,null,null,null,null,null,null,null,null,null,null,null,null,null,null,null,null,null,null,null,null,null,null,null,null,null,2305,"非住宅","その他",{"$f":"INDEX(#REF!, 9 + QUOTIENT(ROW(AL3261)-2, 10), 1 + MOD(ROW(AL3261)-2, 10))","v":{"$error":"#REF!"}}]
[null,null,null,null,null,null,null,null,null,null,null,null,null,null,null,null,null,null,null,null,null,null,null,null,null,null,null,null,null,null,null,null,null,null,2306,"住宅","木造",{"$f":"INDEX(#REF!, 9 + QUOTIENT(ROW(AL3262)-2, 10), 1 + MOD(ROW(AL3262)-2, 10))","v":{"$error":"#REF!"}}]
[null,null,null,null,null,null,null,null,null,null,null,null,null,null,null,null,null,null,null,null,null,null,null,null,null,null,null,null,null,null,null,null,null,null,2306,"非住宅","木造",{"$f":"INDEX(#REF!, 9 + QUOTIENT(ROW(AL3267)-2, 10), 1 + MOD(ROW(AL3267)-2, 10))","v":{"$error":"#REF!"}}]
[null,null,null,null,null,null,null,null,null,null,null,null,null,null,null,null,null,null,null,null,null,null,null,null,null,null,null,null,null,null,null,null,null,null,2307,"住宅","木造",{"$f":"INDEX(#REF!, 9 + QUOTIENT(ROW(AL3272)-2, 10), 1 + MOD(ROW(AL3272)-2, 10))","v":{"$error":"#REF!"}}]
[null,null,null,null,null,null,null,null,null,null,null,null,null,null,null,null,null,null,null,null,null,null,null,null,null,null,null,null,null,null,null,null,null,null,2307,"非住宅","木造",{"$f":"INDEX(#REF!, 9 + QUOTIENT(ROW(AL3277)-2, 10), 1 + MOD(ROW(AL3277)-2, 10))","v":{"$error":"#REF!"}}]
[null,null,null,null,null,null,null,null,null,null,null,null,null,null,null,null,null,null,null,null,null,null,null,null,null,null,null,null,null,null,null,null,null,null,2307,"非住宅","SRC造",{"$f":"INDEX(#REF!, 9 + QUOTIENT(ROW(AL3278)-2, 10), 1 + MOD(ROW(AL3278)-2, 10))","v":{"$error":"#REF!"}}]
[null,null,null,null,null,null,null,null,null,null,null,null,null,null,null,null,null,null,null,null,null,null,null,null,null,null,null,null,null,null,null,null,null,null,2308,"住宅","SRC造",{"$f":"INDEX(#REF!, 9 + QUOTIENT(ROW(AL3283)-2, 10), 1 + MOD(ROW(AL3283)-2, 10))","v":{"$error":"#REF!"}}]
[null,null,null,null,null,null,null,null,null,null,null,null,null,null,null,null,null,null,null,null,null,null,null,null,null,null,null,null,null,null,null,null,null,null,2308,"非住宅","SRC造",{"$f":"INDEX(#REF!, 9 + QUOTIENT(ROW(AL3288)-2, 10), 1 + MOD(ROW(AL3288)-2, 10))","v":{"$error":"#REF!"}}]
[null,null,null,null,null,null,null,null,null,null,null,null,null,null,null,null,null,null,null,null,null,null,null,null,null,null,null,null,null,null,null,null,null,null,2309,"住宅","SRC造",{"$f":"INDEX(#REF!, 9 + QUOTIENT(ROW(AL3293)-2, 10), 1 + MOD(ROW(AL3293)-2, 10))","v":{"$error":"#REF!"}}]
[null,null,null,null,null,null,null,null,null,null,null,null,null,null,null,null,null,null,null,null,null,null,null,null,null,null,null,null,null,null,null,null,null,null,2309,"住宅","RC造",{"$f":"INDEX(#REF!, 9 + QUOTIENT(ROW(AL3294)-2, 10), 1 + MOD(ROW(AL3294)-2, 10))","v":{"$error":"#REF!"}}]
[null,null,null,null,null,null,null,null,null,null,null,null,null,null,null,null,null,null,null,null,null,null,null,null,null,null,null,null,null,null,null,null,null,null,2309,"非住宅","RC造",{"$f":"INDEX(#REF!, 9 + QUOTIENT(ROW(AL3299)-2, 10), 1 + MOD(ROW(AL3299)-2, 10))","v":{"$error":"#REF!"}}]
[null,null,null,null,null,null,null,null,null,null,null,null,null,null,null,null,null,null,null,null,null,null,null,null,null,null,null,null,null,null,null,null,null,null,2310,"住宅","RC造",{"$f":"INDEX(#REF!, 9 + QUOTIENT(ROW(AL3304)-2, 10), 1 + MOD(ROW(AL3304)-2, 10))","v":{"$error":"#REF!"}}]
[null,null,null,null,null,null,null,null,null,null,null,null,null,null,null,null,null,null,null,null,null,null,null,null,null,null,null,null,null,null,null,null,null,null,2310,"非住宅","RC造",{"$f":"INDEX(#REF!, 9 + QUOTIENT(ROW(AL3309)-2, 10), 1 + MOD(ROW(AL3309)-2, 10))","v":{"$error":"#REF!"}}]
[null,null,null,null,null,null,null,null,null,null,null,null,null,null,null,null,null,null,null,null,null,null,null,null,null,null,null,null,null,null,null,null,null,null,2310,"非住宅","S造",{"$f":"INDEX(#REF!, 9 + QUOTIENT(ROW(AL3310)-2, 10), 1 + MOD(ROW(AL3310)-2, 10))","v":{"$error":"#REF!"}}]
[null,null,null,null,null,null,null,null,null,null,null,null,null,null,null,null,null,null,null,null,null,null,null,null,null,null,null,null,null,null,null,null,null,null,2311,"住宅","S造",{"$f":"INDEX(#REF!, 9 + QUOTIENT(ROW(AL3315)-2, 10), 1 + MOD(ROW(AL3315)-2, 10))","v":{"$error":"#REF!"}}]
[null,null,null,null,null,null,null,null,null,null,null,null,null,null,null,null,null,null,null,null,null,null,null,null,null,null,null,null,null,null,null,null,null,null,2311,"非住宅","S造",{"$f":"INDEX(#REF!, 9 + QUOTIENT(ROW(AL3320)-2, 10), 1 + MOD(ROW(AL3320)-2, 10))","v":{"$error":"#REF!"}}]
[null,null,null,null,null,null,null,null,null,null,null,null,null,null,null,null,null,null,null,null,null,null,null,null,null,null,null,null,null,null,null,null,null,null,2312,"住宅","S造",{"$f":"INDEX(#REF!, 9 + QUOTIENT(ROW(AL3325)-2, 10), 1 + MOD(ROW(AL3325)-2, 10))","v":{"$error":"#REF!"}}]
[null,null,null,null,null,null,null,null,null,null,null,null,null,null,null,null,null,null,null,null,null,null,null,null,null,null,null,null,null,null,null,null,null,null,2312,"住宅","その他",{"$f":"INDEX(#REF!, 9 + QUOTIENT(ROW(AL3326)-2, 10), 1 + MOD(ROW(AL3326)-2, 10))","v":{"$error":"#REF!"}}]
[null,null,null,null,null,null,null,null,null,null,null,null,null,null,null,null,null,null,null,null,null,null,null,null,null,null,null,null,null,null,null,null,null,null,2312,"非住宅","その他",{"$f":"INDEX(#REF!, 9 + QUOTIENT(ROW(AL3331)-2, 10), 1 + MOD(ROW(AL3331)-2, 10))","v":{"$error":"#REF!"}}]
[null,null,null,null,null,null,null,null,null,null,null,null,null,null,null,null,null,null,null,null,null,null,null,null,null,null,null,null,null,null,null,null,null,null,2313,"住宅","RC造",{"$f":"INDEX(#REF!, 9 + QUOTIENT(ROW(AL3334)-2, 10), 1 + MOD(ROW(AL3334)-2, 10))","v":{"$error":"#REF!"}}]
[null,null,null,null,null,null,null,null,null,null,null,null,null,null,null,null,null,null,null,null,null,null,null,null,null,null,null,null,null,null,null,null,null,null,2313,"非住宅","S造",{"$f":"INDEX(#REF!, 9 + QUOTIENT(ROW(AL3340)-2, 10), 1 + MOD(ROW(AL3340)-2, 10))","v":{"$error":"#REF!"}}]
[null,null,null,null,null,null,null,null,null,null,null,null,null,null,null,null,null,null,null,null,null,null,null,null,null,null,null,null,null,null,null,null,null,null,2313,"非住宅","その他",{"$f":"INDEX(#REF!, 9 + QUOTIENT(ROW(AL3341)-2, 10), 1 + MOD(ROW(AL3341)-2, 10))","v":{"$error":"#REF!"}}]
[null,null,null,null,null,null,null,null,null,null,null,null,null,null,null,null,null,null,null,null,null,null,null,null,null,null,null,null,null,null,null,null,null,null,2314,"住宅","その他",{"$f":"INDEX(#REF!, 9 + QUOTIENT(ROW(AL3346)-2, 10), 1 + MOD(ROW(AL3346)-2, 10))","v":{"$error":"#REF!"}}]
[null,null,null,null,null,null,null,null,null,null,null,null,null,null,null,null,null,null,null,null,null,null,null,null,null,null,null,null,null,null,null,null,null,null,2314,"非住宅","その他",{"$f":"INDEX(#REF!, 9 + QUOTIENT(ROW(AL3351)-2, 10), 1 + MOD(ROW(AL3351)-2, 10))","v":{"$error":"#REF!"}}]
[null,null,null,null,null,null,null,null,null,null,null,null,null,null,null,null,null,null,null,null,null,null,null,null,null,null,null,null,null,null,null,null,null,null,2315,"住宅","その他",{"$f":"INDEX(#REF!, 9 + QUOTIENT(ROW(AL3356)-2, 10), 1 + MOD(ROW(AL3356)-2, 10))","v":{"$error":"#REF!"}}]
[null,null,null,null,null,null,null,null,null,null,null,null,null,null,null,null,null,null,null,null,null,null,null,null,null,null,null,null,null,null,null,null,null,null,2315,"非住宅","木造",{"$f":"INDEX(#REF!, 9 + QUOTIENT(ROW(AL3357)-2, 10), 1 + MOD(ROW(AL3357)-2, 10))","v":{"$error":"#REF!"}}]
[null,null,null,null,null,null,null,null,null,null,null,null,null,null,null,null,null,null,null,null,null,null,null,null,null,null,null,null,null,null,null,null,null,null,2316,"住宅","木造",{"$f":"INDEX(#REF!, 9 + QUOTIENT(ROW(AL3362)-2, 10), 1 + MOD(ROW(AL3362)-2, 10))","v":{"$error":"#REF!"}}]
[null,null,null,null,null,null,null,null,null,null,null,null,null,null,null,null,null,null,null,null,null,null,null,null,null,null,null,null,null,null,null,null,null,null,2316,"非住宅","木造",{"$f":"INDEX(#REF!, 9 + QUOTIENT(ROW(AL3367)-2, 10), 1 + MOD(ROW(AL3367)-2, 10))","v":{"$error":"#REF!"}}]
[null,null,null,null,null,null,null,null,null,null,null,null,null,null,null,null,null,null,null,null,null,null,null,null,null,null,null,null,null,null,null,null,null,null,2317,"住宅","木造",{"$f":"INDEX(#REF!, 9 + QUOTIENT(ROW(AL3372)-2, 10), 1 + MOD(ROW(AL3372)-2, 10))","v":{"$error":"#REF!"}}]
[null,null,null,null,null,null,null,null,null,null,null,null,null,null,null,null,null,null,null,null,null,null,null,null,null,null,null,null,null,null,null,null,null,null,2317,"住宅","SRC造",{"$f":"INDEX(#REF!, 9 + QUOTIENT(ROW(AL3373)-2, 10), 1 + MOD(ROW(AL3373)-2, 10))","v":{"$error":"#REF!"}}]
[null,null,null,null,null,null,null,null,null,null,null,null,null,null,null,null,null,null,null,null,null,null,null,null,null,null,null,null,null,null,null,null,null,null,2317,"非住宅","SRC造",{"$f":"INDEX(#REF!, 9 + QUOTIENT(ROW(AL3378)-2, 10), 1 + MOD(ROW(AL3378)-2, 10))","v":{"$error":"#REF!"}}]
[null,null,null,null,null,null,null,null,null,null,null,null,null,null,null,null,null,null,null,null,null,null,null,null,null,null,null,null,null,null,null,null,null,null,2318,"住宅","SRC造",{"$f":"INDEX(#REF!, 9 + QUOTIENT(ROW(AL3383)-2, 10), 1 + MOD(ROW(AL3383)-2, 10))","v":{"$error":"#REF!"}}]
[null,null,null,null,null,null,null,null,null,null,null,null,null,null,null,null,null,null,null,null,null,null,null,null,null,null,null,null,null,null,null,null,null,null,2318,"非住宅","SRC造",{"$f":"INDEX(#REF!, 9 + QUOTIENT(ROW(AL3388)-2, 10), 1 + MOD(ROW(AL3388)-2, 10))","v":{"$error":"#REF!"}}]
[null,null,null,null,null,null,null,null,null,null,null,null,null,null,null,null,null,null,null,null,null,null,null,null,null,null,null,null,null,null,null,null,null,null,2318,"非住宅","RC造",{"$f":"INDEX(#REF!, 9 + QUOTIENT(ROW(AL3389)-2, 10), 1 + MOD(ROW(AL3389)-2, 10))","v":{"$error":"#REF!"}}]
[null,null,null,null,null,null,null,null,null,null,null,null,null,null,null,null,null,null,null,null,null,null,null,null,null,null,null,null,null,null,null,null,null,null,2319,"住宅","RC造",{"$f":"INDEX(#REF!, 9 + QUOTIENT(ROW(AL3394)-2, 10), 1 + MOD(ROW(AL3394)-2, 10))","v":{"$error":"#REF!"}}]
[null,null,null,null,null,null,null,null,null,null,null,null,null,null,null,null,null,null,null,null,null,null,null,null,null,null,null,null,null,null,null,null,null,null,2319,"非住宅","RC造",{"$f":"INDEX(#REF!, 9 + QUOTIENT(ROW(AL3399)-2, 10), 1 + MOD(ROW(AL3399)-2, 10))","v":{"$error":"#REF!"}}]
[null,null,null,null,null,null,null,null,null,null,null,null,null,null,null,null,null,null,null,null,null,null,null,null,null,null,null,null,null,null,null,null,null,null,2320,"住宅","RC造",{"$f":"INDEX(#REF!, 9 + QUOTIENT(ROW(AL3404)-2, 10), 1 + MOD(ROW(AL3404)-2, 10))","v":{"$error":"#REF!"}}]
[null,null,null,null,null,null,null,null,null,null,null,null,null,null,null,null,null,null,null,null,null,null,null,null,null,null,null,null,null,null,null,null,null,null,2320,"住宅","S造",{"$f":"INDEX(#REF!, 9 + QUOTIENT(ROW(AL3405)-2, 10), 1 + MOD(ROW(AL3405)-2, 10))","v":{"$error":"#REF!"}}]
[null,null,null,null,null,null,null,null,null,null,null,null,null,null,null,null,null,null,null,null,null,null,null,null,null,null,null,null,null,null,null,null,null,null,2320,"非住宅","S造",{"$f":"INDEX(#REF!, 9 + QUOTIENT(ROW(AL3410)-2, 10), 1 + MOD(ROW(AL3410)-2, 10))","v":{"$error":"#REF!"}}]
[null,null,null,null,null,null,null,null,null,null,null,null,null,null,null,null,null,null,null,null,null,null,null,null,null,null,null,null,null,null,null,null,null,null,2321,"住宅","S造",{"$f":"INDEX(#REF!, 9 + QUOTIENT(ROW(AL3415)-2, 10), 1 + MOD(ROW(AL3415)-2, 10))","v":{"$error":"#REF!"}}]
[null,null,null,null,null,null,null,null,null,null,null,null,null,null,null,null,null,null,null,null,null,null,null,null,null,null,null,null,null,null,null,null,null,null,2321,"非住宅","S造",{"$f":"INDEX(#REF!, 9 + QUOTIENT(ROW(AL3420)-2, 10), 1 + MOD(ROW(AL3420)-2, 10))","v":{"$error":"#REF!"}}]
[null,null,null,null,null,null,null,null,null,null,null,null,null,null,null,null,null,null,null,null,null,null,null,null,null,null,null,null,null,null,null,null,null,null,2321,"非住宅","その他",{"$f":"INDEX(#REF!, 9 + QUOTIENT(ROW(AL3421)-2, 10), 1 + MOD(ROW(AL3421)-2, 10))","v":{"$error":"#REF!"}}]
[null,null,null,null,null,null,null,null,null,null,null,null,null,null,null,null,null,null,null,null,null,null,null,null,null,null,null,null,null,null,null,null,null,null,2322,"住宅","その他",{"$f":"INDEX(#REF!, 9 + QUOTIENT(ROW(AL3426)-2, 10), 1 + MOD(ROW(AL3426)-2, 10))","v":{"$error":"#REF!"}}]
[null,null,null,null,null,null,null,null,null,null,null,null,null,null,null,null,null,null,null,null,null,null,null,null,null,null,null,null,null,null,null,null,null,null,2322,"非住宅","その他",{"$f":"INDEX(#REF!, 9 + QUOTIENT(ROW(AL3431)-2, 10), 1 + MOD(ROW(AL3431)-2, 10))","v":{"$error":"#REF!"}}]
[null,null,null,null,null,null,null,null,null,null,null,null,null,null,null,null,null,null,null,null,null,null,null,null,null,null,null,null,null,null,null,null,null,null,2323,"住宅","その他",{"$f":"INDEX(#REF!, 9 + QUOTIENT(ROW(AL3436)-2, 10), 1 + MOD(ROW(AL3436)-2, 10))","v":{"$error":"#REF!"}}]
[null,null,null,null,null,null,null,null,null,null,null,null,null,null,null,null,null,null,null,null,null,null,null,null,null,null,null,null,null,null,null,null,null,null,2323,"非住宅","SRC造",{"$f":"INDEX(#REF!, 9 + QUOTIENT(ROW(AL3438)-2, 10), 1 + MOD(ROW(AL3438)-2, 10))","v":{"$error":"#REF!"}}]
[null,null,null,null,null,null,null,null,null,null,null,null,null,null,null,null,null,null,null,null,null,null,null,null,null,null,null,null,null,null,null,null,null,null,2323,"非住宅","その他",{"$f":"INDEX(#REF!, 9 + QUOTIENT(ROW(AL3441)-2, 10), 1 + MOD(ROW(AL3441)-2, 10))","v":{"$error":"#REF!"}}]
[null,null,null,null,null,null,null,null,null,null,null,null,null,null,null,null,null,null,null,null,null,null,null,null,null,null,null,null,null,null,null,null,null,null,2324,"住宅","その他",{"$f":"INDEX(#REF!, 9 + QUOTIENT(ROW(AL3446)-2, 10), 1 + MOD(ROW(AL3446)-2, 10))","v":{"$error":"#REF!"}}]
[null,null,null,null,null,null,null,null,null,null,null,null,null,null,null,null,null,null,null,null,null,null,null,null,null,null,null,null,null,null,null,null,null,null,2324,"非住宅","その他",{"$f":"INDEX(#REF!, 9 + QUOTIENT(ROW(AL3451)-2, 10), 1 + MOD(ROW(AL3451)-2, 10))","v":{"$error":"#REF!"}}]
[null,null,null,null,null,null,null,null,null,null,null,null,null,null,null,null,null,null,null,null,null,null,null,null,null,null,null,null,null,null,null,null,null,null,2325,"住宅","木造",{"$f":"INDEX(#REF!, 9 + QUOTIENT(ROW(AL3452)-2, 10), 1 + MOD(ROW(AL3452)-2, 10))","v":{"$error":"#REF!"}}]
[null,null,null,null,null,null,null,null,null,null,null,null,null,null,null,null,null,null,null,null,null,null,null,null,null,null,null,null,null,null,null,null,null,null,2325,"非住宅","木造",{"$f":"INDEX(#REF!, 9 + QUOTIENT(ROW(AL3457)-2, 10), 1 + MOD(ROW(AL3457)-2, 10))","v":{"$error":"#REF!"}}]
[null,null,null,null,null,null,null,null,null,null,null,null,null,null,null,null,null,null,null,null,null,null,null,null,null,null,null,null,null,null,null,null,null,null,2326,"住宅","木造",{"$f":"INDEX(#REF!, 9 + QUOTIENT(ROW(AL3462)-2, 10), 1 + MOD(ROW(AL3462)-2, 10))","v":{"$error":"#REF!"}}]
[null,null,null,null,null,null,null,null,null,null,null,null,null,null,null,null,null,null,null,null,null,null,null,null,null,null,null,null,null,null,null,null,null,null,2326,"非住宅","木造",{"$f":"INDEX(#REF!, 9 + QUOTIENT(ROW(AL3467)-2, 10), 1 + MOD(ROW(AL3467)-2, 10))","v":{"$error":"#REF!"}}]
[null,null,null,null,null,null,null,null,null,null,null,null,null,null,null,null,null,null,null,null,null,null,null,null,null,null,null,null,null,null,null,null,null,null,2326,"非住宅","SRC造",{"$f":"INDEX(#REF!, 9 + QUOTIENT(ROW(AL3468)-2, 10), 1 + MOD(ROW(AL3468)-2, 10))","v":{"$error":"#REF!"}}]
[null,null,null,null,null,null,null,null,null,null,null,null,null,null,null,null,null,null,null,null,null,null,null,null,null,null,null,null,null,null,null,null,null,null,2327,"住宅","SRC造",{"$f":"INDEX(#REF!, 9 + QUOTIENT(ROW(AL3473)-2, 10), 1 + MOD(ROW(AL3473)-2, 10))","v":{"$error":"#REF!"}}]
[null,null,null,null,null,null,null,null,null,null,null,null,null,null,null,null,null,null,null,null,null,null,null,null,null,null,null,null,null,null,null,null,null,null,2327,"非住宅","SRC造",{"$f":"INDEX(#REF!, 9 + QUOTIENT(ROW(AL3478)-2, 10), 1 + MOD(ROW(AL3478)-2, 10))","v":{"$error":"#REF!"}}]
[null,null,null,null,null,null,null,null,null,null,null,null,null,null,null,null,null,null,null,null,null,null,null,null,null,null,null,null,null,null,null,null,null,null,2328,"住宅","SRC造",{"$f":"INDEX(#REF!, 9 + QUOTIENT(ROW(AL3483)-2, 10), 1 + MOD(ROW(AL3483)-2, 10))","v":{"$error":"#REF!"}}]
[null,null,null,null,null,null,null,null,null,null,null,null,null,null,null,null,null,null,null,null,null,null,null,null,null,null,null,null,null,null,null,null,null,null,2328,"住宅","RC造",{"$f":"INDEX(#REF!, 9 + QUOTIENT(ROW(AL3484)-2, 10), 1 + MOD(ROW(AL3484)-2, 10))","v":{"$error":"#REF!"}}]
[null,null,null,null,null,null,null,null,null,null,null,null,null,null,null,null,null,null,null,null,null,null,null,null,null,null,null,null,null,null,null,null,null,null,2328,"非住宅","RC造",{"$f":"INDEX(#REF!, 9 + QUOTIENT(ROW(AL3489)-2, 10), 1 + MOD(ROW(AL3489)-2, 10))","v":{"$error":"#REF!"}}]
[null,null,null,null,null,null,null,null,null,null,null,null,null,null,null,null,null,null,null,null,null,null,null,null,null,null,null,null,null,null,null,null,null,null,2329,"住宅","RC造",{"$f":"INDEX(#REF!, 9 + QUOTIENT(ROW(AL3494)-2, 10), 1 + MOD(ROW(AL3494)-2, 10))","v":{"$error":"#REF!"}}]
[null,null,null,null,null,null,null,null,null,null,null,null,null,null,null,null,null,null,null,null,null,null,null,null,null,null,null,null,null,null,null,null,null,null,2329,"非住宅","RC造",{"$f":"INDEX(#REF!, 9 + QUOTIENT(ROW(AL3499)-2, 10), 1 + MOD(ROW(AL3499)-2, 10))","v":{"$error":"#REF!"}}]
[null,null,null,null,null,null,null,null,null,null,null,null,null,null,null,null,null,null,null,null,null,null,null,null,null,null,null,null,null,null,null,null,null,null,2329,"非住宅","S造",{"$f":"INDEX(#REF!, 9 + QUOTIENT(ROW(AL3500)-2, 10), 1 + MOD(ROW(AL3500)-2, 10))","v":{"$error":"#REF!"}}]
[null,null,null,null,null,null,null,null,null,null,null,null,null,null,null,null,null,null,null,null,null,null,null,null,null,null,null,null,null,null,null,null,null,null,2330,"住宅","S造",{"$f":"INDEX(#REF!, 9 + QUOTIENT(ROW(AL3505)-2, 10), 1 + MOD(ROW(AL3505)-2, 10))","v":{"$error":"#REF!"}}]
[null,null,null,null,null,null,null,null,null,null,null,null,null,null,null,null,null,null,null,null,null,null,null,null,null,null,null,null,null,null,null,null,null,null,2330,"非住宅","S造",{"$f":"INDEX(#REF!, 9 + QUOTIENT(ROW(AL3510)-2, 10), 1 + MOD(ROW(AL3510)-2, 10))","v":{"$error":"#REF!"}}]
[null,null,null,null,null,null,null,null,null,null,null,null,null,null,null,null,null,null,null,null,null,null,null,null,null,null,null,null,null,null,null,null,null,null,2331,"住宅","S造",{"$f":"INDEX(#REF!, 9 + QUOTIENT(ROW(AL3515)-2, 10), 1 + MOD(ROW(AL3515)-2, 10))","v":{"$error":"#REF!"}}]
[null,null,null,null,null,null,null,null,null,null,null,null,null,null,null,null,null,null,null,null,null,null,null,null,null,null,null,null,null,null,null,null,null,null,2331,"住宅","その他",{"$f":"INDEX(#REF!, 9 + QUOTIENT(ROW(AL3516)-2, 10), 1 + MOD(ROW(AL3516)-2, 10))","v":{"$error":"#REF!"}}]
[null,null,null,null,null,null,null,null,null,null,null,null,null,null,null,null,null,null,null,null,null,null,null,null,null,null,null,null,null,null,null,null,null,null,2331,"非住宅","その他",{"$f":"INDEX(#REF!, 9 + QUOTIENT(ROW(AL3521)-2, 10), 1 + MOD(ROW(AL3521)-2, 10))","v":{"$error":"#REF!"}}]
[null,null,null,null,null,null,null,null,null,null,null,null,null,null,null,null,null,null,null,null,null,null,null,null,null,null,null,null,null,null,null,null,null,null,2332,"住宅","その他",{"$f":"INDEX(#REF!, 9 + QUOTIENT(ROW(AL3526)-2, 10), 1 + MOD(ROW(AL3526)-2, 10))","v":{"$error":"#REF!"}}]
[null,null,null,null,null,null,null,null,null,null,null,null,null,null,null,null,null,null,null,null,null,null,null,null,null,null,null,null,null,null,null,null,null,null,2332,"非住宅","その他",{"$f":"INDEX(#REF!, 9 + QUOTIENT(ROW(AL3531)-2, 10), 1 + MOD(ROW(AL3531)-2, 10))","v":{"$error":"#REF!"}}]
[null,null,null,null,null,null,null,null,null,null,null,null,null,null,null,null,null,null,null,null,null,null,null,null,null,null,null,null,null,null,null,null,null,null,2333,"住宅","木造",{"$f":"INDEX(#REF!, 9 + QUOTIENT(ROW(AL3532)-2, 10), 1 + MOD(ROW(AL3532)-2, 10))","v":{"$error":"#REF!"}}]
[null,null,null,null,null,null,null,null,null,null,null,null,null,null,null,null,null,null,null,null,null,null,null,null,null,null,null,null,null,null,null,null,null,null,2333,"非住宅","木造",{"$f":"INDEX(#REF!, 9 + QUOTIENT(ROW(AL3537)-2, 10), 1 + MOD(ROW(AL3537)-2, 10))","v":{"$error":"#REF!"}}]
[null,null,null,null,null,null,null,null,null,null,null,null,null,null,null,null,null,null,null,null,null,null,null,null,null,null,null,null,null,null,null,null,null,null,2334,"住宅","木造",{"$f":"INDEX(#REF!, 9 + QUOTIENT(ROW(AL3542)-2, 10), 1 + MOD(ROW(AL3542)-2, 10))","v":{"$error":"#REF!"}}]
[null,null,null,null,null,null,null,null,null,null,null,null,null,null,null,null,null,null,null,null,null,null,null,null,null,null,null,null,null,null,null,null,null,null,2334,"住宅","その他",{"$f":"INDEX(#REF!, 9 + QUOTIENT(ROW(AL3546)-2, 10), 1 + MOD(ROW(AL3546)-2, 10))","v":{"$error":"#REF!"}}]
[null,null,null,null,null,null,null,null,null,null,null,null,null,null,null,null,null,null,null,null,null,null,null,null,null,null,null,null,null,null,null,null,null,null,2334,"非住宅","木造",{"$f":"INDEX(#REF!, 9 + QUOTIENT(ROW(AL3547)-2, 10), 1 + MOD(ROW(AL3547)-2, 10))","v":{"$error":"#REF!"}}]
[null,null,null,null,null,null,null,null,null,null,null,null,null,null,null,null,null,null,null,null,null,null,null,null,null,null,null,null,null,null,null,null,null,null,2335,"住宅","木造",{"$f":"INDEX(#REF!, 9 + QUOTIENT(ROW(AL3552)-2, 10), 1 + MOD(ROW(AL3552)-2, 10))","v":{"$error":"#REF!"}}]
[null,null,null,null,null,null,null,null,null,null,null,null,null,null,null,null,null,null,null,null,null,null,null,null,null,null,null,null,null,null,null,null,null,null,2335,"非住宅","木造",{"$f":"INDEX(#REF!, 9 + QUOTIENT(ROW(AL3557)-2, 10), 1 + MOD(ROW(AL3557)-2, 10))","v":{"$error":"#REF!"}}]
[null,null,null,null,null,null,null,null,null,null,null,null,null,null,null,null,null,null,null,null,null,null,null,null,null,null,null,null,null,null,null,null,null,null,2336,"住宅","木造",{"$f":"INDEX(#REF!, 9 + QUOTIENT(ROW(AL3562)-2, 10), 1 + MOD(ROW(AL3562)-2, 10))","v":{"$error":"#REF!"}}]
[null,null,null,null,null,null,null,null,null,null,null,null,null,null,null,null,null,null,null,null,null,null,null,null,null,null,null,null,null,null,null,null,null,null,2336,"住宅","SRC造",{"$f":"INDEX(#REF!, 9 + QUOTIENT(ROW(AL3563)-2, 10), 1 + MOD(ROW(AL3563)-2, 10))","v":{"$error":"#REF!"}}]
[null,null,null,null,null,null,null,null,null,null,null,null,null,null,null,null,null,null,null,null,null,null,null,null,null,null,null,null,null,null,null,null,null,null,2336,"非住宅","SRC造",{"$f":"INDEX(#REF!, 9 + QUOTIENT(ROW(AL3568)-2, 10), 1 + MOD(ROW(AL3568)-2, 10))","v":{"$error":"#REF!"}}]
[null,null,null,null,null,null,null,null,null,null,null,null,null,null,null,null,null,null,null,null,null,null,null,null,null,null,null,null,null,null,null,null,null,null,2337,"住宅","SRC造",{"$f":"INDEX(#REF!, 9 + QUOTIENT(ROW(AL3573)-2, 10), 1 + MOD(ROW(AL3573)-2, 10))","v":{"$error":"#REF!"}}]
[null,null,null,null,null,null,null,null,null,null,null,null,null,null,null,null,null,null,null,null,null,null,null,null,null,null,null,null,null,null,null,null,null,null,2337,"非住宅","SRC造",{"$f":"INDEX(#REF!, 9 + QUOTIENT(ROW(AL3578)-2, 10), 1 + MOD(ROW(AL3578)-2, 10))","v":{"$error":"#REF!"}}]
[null,null,null,null,null,null,null,null,null,null,null,null,null,null,null,null,null,null,null,null,null,null,null,null,null,null,null,null,null,null,null,null,null,null,2337,"非住宅","RC造",{"$f":"INDEX(#REF!, 9 + QUOTIENT(ROW(AL3579)-2, 10), 1 + MOD(ROW(AL3579)-2, 10))","v":{"$error":"#REF!"}}]
[null,null,null,null,null,null,null,null,null,null,null,null,null,null,null,null,null,null,null,null,null,null,null,null,null,null,null,null,null,null,null,null,null,null,2338,"住宅","RC造",{"$f":"INDEX(#REF!, 9 + QUOTIENT(ROW(AL3584)-2, 10), 1 + MOD(ROW(AL3584)-2, 10))","v":{"$error":"#REF!"}}]
[null,null,null,null,null,null,null,null,null,null,null,null,null,null,null,null,null,null,null,null,null,null,null,null,null,null,null,null,null,null,null,null,null,null,2338,"非住宅","RC造",{"$f":"INDEX(#REF!, 9 + QUOTIENT(ROW(AL3589)-2, 10), 1 + MOD(ROW(AL3589)-2, 10))","v":{"$error":"#REF!"}}]
[null,null,null,null,null,null,null,null,null,null,null,null,null,null,null,null,null,null,null,null,null,null,null,null,null,null,null,null,null,null,null,null,null,null,2339,"住宅","RC造",{"$f":"INDEX(#REF!, 9 + QUOTIENT(ROW(AL3594)-2, 10), 1 + MOD(ROW(AL3594)-2, 10))","v":{"$error":"#REF!"}}]
[null,null,null,null,null,null,null,null,null,null,null,null,null,null,null,null,null,null,null,null,null,null,null,null,null,null,null,null,null,null,null,null,null,null,2339,"住宅","S造",{"$f":"INDEX(#REF!, 9 + QUOTIENT(ROW(AL3595)-2, 10), 1 + MOD(ROW(AL3595)-2, 10))","v":{"$error":"#REF!"}}]
[null,null,null,null,null,null,null,null,null,null,null,null,null,null,null,null,null,null,null,null,null,null,null,null,null,null,null,null,null,null,null,null,null,null,2339,"非住宅","S造",{"$f":"INDEX(#REF!, 9 + QUOTIENT(ROW(AL3600)-2, 10), 1 + MOD(ROW(AL3600)-2, 10))","v":{"$error":"#REF!"}}]
[null,null,null,null,null,null,null,null,null,null,null,null,null,null,null,null,null,null,null,null,null,null,null,null,null,null,null,null,null,null,null,null,null,null,2340,"住宅","S造",{"$f":"INDEX(#REF!, 9 + QUOTIENT(ROW(AL3605)-2, 10), 1 + MOD(ROW(AL3605)-2, 10))","v":{"$error":"#REF!"}}]
[null,null,null,null,null,null,null,null,null,null,null,null,null,null,null,null,null,null,null,null,null,null,null,null,null,null,null,null,null,null,null,null,null,null,2340,"非住宅","S造",{"$f":"INDEX(#REF!, 9 + QUOTIENT(ROW(AL3610)-2, 10), 1 + MOD(ROW(AL3610)-2, 10))","v":{"$error":"#REF!"}}]
[null,null,null,null,null,null,null,null,null,null,null,null,null,null,null,null,null,null,null,null,null,null,null,null,null,null,null,null,null,null,null,null,null,null,2340,"非住宅","その他",{"$f":"INDEX(#REF!, 9 + QUOTIENT(ROW(AL3611)-2, 10), 1 + MOD(ROW(AL3611)-2, 10))","v":{"$error":"#REF!"}}]
[null,null,null,null,null,null,null,null,null,null,null,null,null,null,null,null,null,null,null,null,null,null,null,null,null,null,null,null,null,null,null,null,null,null,2341,"住宅","その他",{"$f":"INDEX(#REF!, 9 + QUOTIENT(ROW(AL3616)-2, 10), 1 + MOD(ROW(AL3616)-2, 10))","v":{"$error":"#REF!"}}]
[null,null,null,null,null,null,null,null,null,null,null,null,null,null,null,null,null,null,null,null,null,null,null,null,null,null,null,null,null,null,null,null,null,null,2341,"非住宅","その他",{"$f":"INDEX(#REF!, 9 + QUOTIENT(ROW(AL3621)-2, 10), 1 + MOD(ROW(AL3621)-2, 10))","v":{"$error":"#REF!"}}]
[null,null,null,null,null,null,null,null,null,null,null,null,null,null,null,null,null,null,null,null,null,null,null,null,null,null,null,null,null,null,null,null,null,null,2342,"住宅","その他",{"$f":"INDEX(#REF!, 9 + QUOTIENT(ROW(AL3626)-2, 10), 1 + MOD(ROW(AL3626)-2, 10))","v":{"$error":"#REF!"}}]
[null,null,null,null,null,null,null,null,null,null,null,null,null,null,null,null,null,null,null,null,null,null,null,null,null,null,null,null,null,null,null,null,null,null,2342,"非住宅","木造",{"$f":"INDEX(#REF!, 9 + QUOTIENT(ROW(AL3627)-2, 10), 1 + MOD(ROW(AL3627)-2, 10))","v":{"$error":"#REF!"}}]
[null,null,null,null,null,null,null,null,null,null,null,null,null,null,null,null,null,null,null,null,null,null,null,null,null,null,null,null,null,null,null,null,null,null,2343,"住宅","木造",{"$f":"INDEX(#REF!, 9 + QUOTIENT(ROW(AL3632)-2, 10), 1 + MOD(ROW(AL3632)-2, 10))","v":{"$error":"#REF!"}}]
[null,null,null,null,null,null,null,null,null,null,null,null,null,null,null,null,null,null,null,null,null,null,null,null,null,null,null,null,null,null,null,null,null,null,2343,"非住宅","木造",{"$f":"INDEX(#REF!, 9 + QUOTIENT(ROW(AL3637)-2, 10), 1 + MOD(ROW(AL3637)-2, 10))","v":{"$error":"#REF!"}}]
[null,null,null,null,null,null,null,null,null,null,null,null,null,null,null,null,null,null,null,null,null,null,null,null,null,null,null,null,null,null,null,null,null,null,2343,"非住宅","RC造",{"$f":"INDEX(#REF!, 9 + QUOTIENT(ROW(AL3639)-2, 10), 1 + MOD(ROW(AL3639)-2, 10))","v":{"$error":"#REF!"}}]
[null,null,null,null,null,null,null,null,null,null,null,null,null,null,null,null,null,null,null,null,null,null,null,null,null,null,null,null,null,null,null,null,null,null,2344,"住宅","木造",{"$f":"INDEX(#REF!, 9 + QUOTIENT(ROW(AL3642)-2, 10), 1 + MOD(ROW(AL3642)-2, 10))","v":{"$error":"#REF!"}}]
[null,null,null,null,null,null,null,null,null,null,null,null,null,null,null,null,null,null,null,null,null,null,null,null,null,null,null,null,null,null,null,null,null,null,2344,"非住宅","木造",{"$f":"INDEX(#REF!, 9 + QUOTIENT(ROW(AL3647)-2, 10), 1 + MOD(ROW(AL3647)-2, 10))","v":{"$error":"#REF!"}}]
[null,null,null,null,null,null,null,null,null,null,null,null,null,null,null,null,null,null,null,null,null,null,null,null,null,null,null,null,null,null,null,null,null,null,2345,"住宅","木造",{"$f":"INDEX(#REF!, 9 + QUOTIENT(ROW(AL3652)-2, 10), 1 + MOD(ROW(AL3652)-2, 10))","v":{"$error":"#REF!"}}]
[null,null,null,null,null,null,null,null,null,null,null,null,null,null,null,null,null,null,null,null,null,null,null,null,null,null,null,null,null,null,null,null,null,null,2345,"非住宅","木造",{"$f":"INDEX(#REF!, 9 + QUOTIENT(ROW(AL3657)-2, 10), 1 + MOD(ROW(AL3657)-2, 10))","v":{"$error":"#REF!"}}]
[null,null,null,null,null,null,null,null,null,null,null,null,null,null,null,null,null,null,null,null,null,null,null,null,null,null,null,null,null,null,null,null,null,null,2345,"非住宅","SRC造",{"$f":"INDEX(#REF!, 9 + QUOTIENT(ROW(AL3658)-2, 10), 1 + MOD(ROW(AL3658)-2, 10))","v":{"$error":"#REF!"}}]
[null,null,null,null,null,null,null,null,null,null,null,null,null,null,null,null,null,null,null,null,null,null,null,null,null,null,null,null,null,null,null,null,null,null,2346,"住宅","SRC造",{"$f":"INDEX(#REF!, 9 + QUOTIENT(ROW(AL3663)-2, 10), 1 + MOD(ROW(AL3663)-2, 10))","v":{"$error":"#REF!"}}]
[null,null,null,null,null,null,null,null,null,null,null,null,null,null,null,null,null,null,null,null,null,null,null,null,null,null,null,null,null,null,null,null,null,null,2346,"非住宅","SRC造",{"$f":"INDEX(#REF!, 9 + QUOTIENT(ROW(AL3668)-2, 10), 1 + MOD(ROW(AL3668)-2, 10))","v":{"$error":"#REF!"}}]
[null,null,null,null,null,null,null,null,null,null,null,null,null,null,null,null,null,null,null,null,null,null,null,null,null,null,null,null,null,null,null,null,null,null,2347,"住宅","SRC造",{"$f":"INDEX(#REF!, 9 + QUOTIENT(ROW(AL3673)-2, 10), 1 + MOD(ROW(AL3673)-2, 10))","v":{"$error":"#REF!"}}]
[null,null,null,null,null,null,null,null,null,null,null,null,null,null,null,null,null,null,null,null,null,null,null,null,null,null,null,null,null,null,null,null,null,null,2347,"住宅","RC造",{"$f":"INDEX(#REF!, 9 + QUOTIENT(ROW(AL3674)-2, 10), 1 + MOD(ROW(AL3674)-2, 10))","v":{"$error":"#REF!"}}]
[null,null,null,null,null,null,null,null,null,null,null,null,null,null,null,null,null,null,null,null,null,null,null,null,null,null,null,null,null,null,null,null,null,null,2347,"非住宅","RC造",{"$f":"INDEX(#REF!, 9 + QUOTIENT(ROW(AL3679)-2, 10), 1 + MOD(ROW(AL3679)-2, 10))","v":{"$error":"#REF!"}}]
[null,null,null,null,null,null,null,null,null,null,null,null,null,null,null,null,null,null,null,null,null,null,null,null,null,null,null,null,null,null,null,null,null,null,2348,"住宅","RC造",{"$f":"INDEX(#REF!, 9 + QUOTIENT(ROW(AL3684)-2, 10), 1 + MOD(ROW(AL3684)-2, 10))","v":{"$error":"#REF!"}}]
[null,null,null,null,null,null,null,null,null,null,null,null,null,null,null,null,null,null,null,null,null,null,null,null,null,null,null,null,null,null,null,null,null,null,2348,"非住宅","RC造",{"$f":"INDEX(#REF!, 9 + QUOTIENT(ROW(AL3689)-2, 10), 1 + MOD(ROW(AL3689)-2, 10))","v":{"$error":"#REF!"}}]
[null,null,null,null,null,null,null,null,null,null,null,null,null,null,null,null,null,null,null,null,null,null,null,null,null,null,null,null,null,null,null,null,null,null,2348,"非住宅","S造",{"$f":"INDEX(#REF!, 9 + QUOTIENT(ROW(AL3690)-2, 10), 1 + MOD(ROW(AL3690)-2, 10))","v":{"$error":"#REF!"}}]
[null,null,null,null,null,null,null,null,null,null,null,null,null,null,null,null,null,null,null,null,null,null,null,null,null,null,null,null,null,null,null,null,null,null,2349,"住宅","S造",{"$f":"INDEX(#REF!, 9 + QUOTIENT(ROW(AL3695)-2, 10), 1 + MOD(ROW(AL3695)-2, 10))","v":{"$error":"#REF!"}}]
[null,null,null,null,null,null,null,null,null,null,null,null,null,null,null,null,null,null,null,null,null,null,null,null,null,null,null,null,null,null,null,null,null,null,2349,"非住宅","S造",{"$f":"INDEX(#REF!, 9 + QUOTIENT(ROW(AL3700)-2, 10), 1 + MOD(ROW(AL3700)-2, 10))","v":{"$error":"#REF!"}}]
[null,null,null,null,null,null,null,null,null,null,null,null,null,null,null,null,null,null,null,null,null,null,null,null,null,null,null,null,null,null,null,null,null,null,2350,"住宅","S造",{"$f":"INDEX(#REF!, 9 + QUOTIENT(ROW(AL3705)-2, 10), 1 + MOD(ROW(AL3705)-2, 10))","v":{"$error":"#REF!"}}]
[null,null,null,null,null,null,null,null,null,null,null,null,null,null,null,null,null,null,null,null,null,null,null,null,null,null,null,null,null,null,null,null,null,null,2350,"住宅","その他",{"$f":"INDEX(#REF!, 9 + QUOTIENT(ROW(AL3706)-2, 10), 1 + MOD(ROW(AL3706)-2, 10))","v":{"$error":"#REF!"}}]
[null,null,null,null,null,null,null,null,null,null,null,null,null,null,null,null,null,null,null,null,null,null,null,null,null,null,null,null,null,null,null,null,null,null,2350,"非住宅","その他",{"$f":"INDEX(#REF!, 9 + QUOTIENT(ROW(AL3711)-2, 10), 1 + MOD(ROW(AL3711)-2, 10))","v":{"$error":"#REF!"}}]
[null,null,null,null,null,null,null,null,null,null,null,null,null,null,null,null,null,null,null,null,null,null,null,null,null,null,null,null,null,null,null,null,null,null,2351,"住宅","その他",{"$f":"INDEX(#REF!, 9 + QUOTIENT(ROW(AL3716)-2, 10), 1 + MOD(ROW(AL3716)-2, 10))","v":{"$error":"#REF!"}}]
[null,null,null,null,null,null,null,null,null,null,null,null,null,null,null,null,null,null,null,null,null,null,null,null,null,null,null,null,null,null,null,null,null,null,2351,"非住宅","その他",{"$f":"INDEX(#REF!, 9 + QUOTIENT(ROW(AL3721)-2, 10), 1 + MOD(ROW(AL3721)-2, 10))","v":{"$error":"#REF!"}}]
[null,null,null,null,null,null,null,null,null,null,null,null,null,null,null,null,null,null,null,null,null,null,null,null,null,null,null,null,null,null,null,null,null,null,2352,"住宅","木造",{"$f":"INDEX(#REF!, 9 + QUOTIENT(ROW(AL3722)-2, 10), 1 + MOD(ROW(AL3722)-2, 10))","v":{"$error":"#REF!"}}]
[null,null,null,null,null,null,null,null,null,null,null,null,null,null,null,null,null,null,null,null,null,null,null,null,null,null,null,null,null,null,null,null,null,null,2352,"非住宅","木造",{"$f":"INDEX(#REF!, 9 + QUOTIENT(ROW(AL3727)-2, 10), 1 + MOD(ROW(AL3727)-2, 10))","v":{"$error":"#REF!"}}]
[null,null,null,null,null,null,null,null,null,null,null,null,null,null,null,null,null,null,null,null,null,null,null,null,null,null,null,null,null,null,null,null,null,null,2353,"住宅","木造",{"$f":"INDEX(#REF!, 9 + QUOTIENT(ROW(AL3732)-2, 10), 1 + MOD(ROW(AL3732)-2, 10))","v":{"$error":"#REF!"}}]
[null,null,null,null,null,null,null,null,null,null,null,null,null,null,null,null,null,null,null,null,null,null,null,null,null,null,null,null,null,null,null,null,null,null,2353,"非住宅","木造",{"$f":"INDEX(#REF!, 9 + QUOTIENT(ROW(AL3737)-2, 10), 1 + MOD(ROW(AL3737)-2, 10))","v":{"$error":"#REF!"}}]
[null,null,null,null,null,null,null,null,null,null,null,null,null,null,null,null,null,null,null,null,null,null,null,null,null,null,null,null,null,null,null,null,null,null,2353,"非住宅","SRC造",{"$f":"INDEX(#REF!, 9 + QUOTIENT(ROW(AL3738)-2, 10), 1 + MOD(ROW(AL3738)-2, 10))","v":{"$error":"#REF!"}}]
[null,null,null,null,null,null,null,null,null,null,null,null,null,null,null,null,null,null,null,null,null,null,null,null,null,null,null,null,null,null,null,null,null,null,2354,"住宅","SRC造",{"$f":"INDEX(#REF!, 9 + QUOTIENT(ROW(AL3743)-2, 10), 1 + MOD(ROW(AL3743)-2, 10))","v":{"$error":"#REF!"}}]
[null,null,null,null,null,null,null,null,null,null,null,null,null,null,null,null,null,null,null,null,null,null,null,null,null,null,null,null,null,null,null,null,null,null,2354,"非住宅","木造",{"$f":"INDEX(#REF!, 9 + QUOTIENT(ROW(AL3747)-2, 10), 1 + MOD(ROW(AL3747)-2, 10))","v":{"$error":"#REF!"}}]
[null,null,null,null,null,null,null,null,null,null,null,null,null,null,null,null,null,null,null,null,null,null,null,null,null,null,null,null,null,null,null,null,null,null,2355,"住宅","木造",{"$f":"INDEX(#REF!, 9 + QUOTIENT(ROW(AL3752)-2, 10), 1 + MOD(ROW(AL3752)-2, 10))","v":{"$error":"#REF!"}}]
[null,null,null,null,null,null,null,null,null,null,null,null,null,null,null,null,null,null,null,null,null,null,null,null,null,null,null,null,null,null,null,null,null,null,2355,"住宅","SRC造",{"$f":"INDEX(#REF!, 9 + QUOTIENT(ROW(AL3753)-2, 10), 1 + MOD(ROW(AL3753)-2, 10))","v":{"$error":"#REF!"}}]
[null,null,null,null,null,null,null,null,null,null,null,null,null,null,null,null,null,null,null,null,null,null,null,null,null,null,null,null,null,null,null,null,null,null,2355,"非住宅","SRC造",{"$f":"INDEX(#REF!, 9 + QUOTIENT(ROW(AL3758)-2, 10), 1 + MOD(ROW(AL3758)-2, 10))","v":{"$error":"#REF!"}}]
[null,null,null,null,null,null,null,null,null,null,null,null,null,null,null,null,null,null,null,null,null,null,null,null,null,null,null,null,null,null,null,null,null,null,2356,"住宅","SRC造",{"$f":"INDEX(#REF!, 9 + QUOTIENT(ROW(AL3763)-2, 10), 1 + MOD(ROW(AL3763)-2, 10))","v":{"$error":"#REF!"}}]
[null,null,null,null,null,null,null,null,null,null,null,null,null,null,null,null,null,null,null,null,null,null,null,null,null,null,null,null,null,null,null,null,null,null,2356,"非住宅","SRC造",{"$f":"INDEX(#REF!, 9 + QUOTIENT(ROW(AL3768)-2, 10), 1 + MOD(ROW(AL3768)-2, 10))","v":{"$error":"#REF!"}}]
[null,null,null,null,null,null,null,null,null,null,null,null,null,null,null,null,null,null,null,null,null,null,null,null,null,null,null,null,null,null,null,null,null,null,2356,"非住宅","RC造",{"$f":"INDEX(#REF!, 9 + QUOTIENT(ROW(AL3769)-2, 10), 1 + MOD(ROW(AL3769)-2, 10))","v":{"$error":"#REF!"}}]
[null,null,null,null,null,null,null,null,null,null,null,null,null,null,null,null,null,null,null,null,null,null,null,null,null,null,null,null,null,null,null,null,null,null,2357,"住宅","RC造",{"$f":"INDEX(#REF!, 9 + QUOTIENT(ROW(AL3774)-2, 10), 1 + MOD(ROW(AL3774)-2, 10))","v":{"$error":"#REF!"}}]
[null,null,null,null,null,null,null,null,null,null,null,null,null,null,null,null,null,null,null,null,null,null,null,null,null,null,null,null,null,null,null,null,null,null,2357,"非住宅","RC造",{"$f":"INDEX(#REF!, 9 + QUOTIENT(ROW(AL3779)-2, 10), 1 + MOD(ROW(AL3779)-2, 10))","v":{"$error":"#REF!"}}]
[null,null,null,null,null,null,null,null,null,null,null,null,null,null,null,null,null,null,null,null,null,null,null,null,null,null,null,null,null,null,null,null,null,null,2358,"住宅","RC造",{"$f":"INDEX(#REF!, 9 + QUOTIENT(ROW(AL3784)-2, 10), 1 + MOD(ROW(AL3784)-2, 10))","v":{"$error":"#REF!"}}]
[null,null,null,null,null,null,null,null,null,null,null,null,null,null,null,null,null,null,null,null,null,null,null,null,null,null,null,null,null,null,null,null,null,null,2358,"住宅","S造",{"$f":"INDEX(#REF!, 9 + QUOTIENT(ROW(AL3785)-2, 10), 1 + MOD(ROW(AL3785)-2, 10))","v":{"$error":"#REF!"}}]
[null,null,null,null,null,null,null,null,null,null,null,null,null,null,null,null,null,null,null,null,null,null,null,null,null,null,null,null,null,null,null,null,null,null,2358,"非住宅","S造",{"$f":"INDEX(#REF!, 9 + QUOTIENT(ROW(AL3790)-2, 10), 1 + MOD(ROW(AL3790)-2, 10))","v":{"$error":"#REF!"}}]
[null,null,null,null,null,null,null,null,null,null,null,null,null,null,null,null,null,null,null,null,null,null,null,null,null,null,null,null,null,null,null,null,null,null,2359,"住宅","S造",{"$f":"INDEX(#REF!, 9 + QUOTIENT(ROW(AL3795)-2, 10), 1 + MOD(ROW(AL3795)-2, 10))","v":{"$error":"#REF!"}}]
[null,null,null,null,null,null,null,null,null,null,null,null,null,null,null,null,null,null,null,null,null,null,null,null,null,null,null,null,null,null,null,null,null,null,2359,"非住宅","S造",{"$f":"INDEX(#REF!, 9 + QUOTIENT(ROW(AL3800)-2, 10), 1 + MOD(ROW(AL3800)-2, 10))","v":{"$error":"#REF!"}}]
[null,null,null,null,null,null,null,null,null,null,null,null,null,null,null,null,null,null,null,null,null,null,null,null,null,null,null,null,null,null,null,null,null,null,2359,"非住宅","その他",{"$f":"INDEX(#REF!, 9 + QUOTIENT(ROW(AL3801)-2, 10), 1 + MOD(ROW(AL3801)-2, 10))","v":{"$error":"#REF!"}}]
[null,null,null,null,null,null,null,null,null,null,null,null,null,null,null,null,null,null,null,null,null,null,null,null,null,null,null,null,null,null,null,null,null,null,2360,"住宅","その他",{"$f":"INDEX(#REF!, 9 + QUOTIENT(ROW(AL3806)-2, 10), 1 + MOD(ROW(AL3806)-2, 10))","v":{"$error":"#REF!"}}]
[null,null,null,null,null,null,null,null,null,null,null,null,null,null,null,null,null,null,null,null,null,null,null,null,null,null,null,null,null,null,null,null,null,null,2360,"非住宅","その他",{"$f":"INDEX(#REF!, 9 + QUOTIENT(ROW(AL3811)-2, 10), 1 + MOD(ROW(AL3811)-2, 10))","v":{"$error":"#REF!"}}]
[null,null,null,null,null,null,null,null,null,null,null,null,null,null,null,null,null,null,null,null,null,null,null,null,null,null,null,null,null,null,null,null,null,null,2361,"住宅","その他",{"$f":"INDEX(#REF!, 9 + QUOTIENT(ROW(AL3816)-2, 10), 1 + MOD(ROW(AL3816)-2, 10))","v":{"$error":"#REF!"}}]
[null,null,null,null,null,null,null,null,null,null,null,null,null,null,null,null,null,null,null,null,null,null,null,null,null,null,null,null,null,null,null,null,null,null,2361,"非住宅","木造",{"$f":"INDEX(#REF!, 9 + QUOTIENT(ROW(AL3817)-2, 10), 1 + MOD(ROW(AL3817)-2, 10))","v":{"$error":"#REF!"}}]
[null,null,null,null,null,null,null,null,null,null,null,null,null,null,null,null,null,null,null,null,null,null,null,null,null,null,null,null,null,null,null,null,null,null,2362,"住宅","木造",{"$f":"INDEX(#REF!, 9 + QUOTIENT(ROW(AL3822)-2, 10), 1 + MOD(ROW(AL3822)-2, 10))","v":{"$error":"#REF!"}}]
[null,null,null,null,null,null,null,null,null,null,null,null,null,null,null,null,null,null,null,null,null,null,null,null,null,null,null,null,null,null,null,null,null,null,2362,"非住宅","木造",{"$f":"INDEX(#REF!, 9 + QUOTIENT(ROW(AL3827)-2, 10), 1 + MOD(ROW(AL3827)-2, 10))","v":{"$error":"#REF!"}}]
[null,null,null,null,null,null,null,null,null,null,null,null,null,null,null,null,null,null,null,null,null,null,null,null,null,null,null,null,null,null,null,null,null,null,2363,"住宅","木造",{"$f":"INDEX(#REF!, 9 + QUOTIENT(ROW(AL3832)-2, 10), 1 + MOD(ROW(AL3832)-2, 10))","v":{"$error":"#REF!"}}]
[null,null,null,null,null,null,null,null,null,null,null,null,null,null,null,null,null,null,null,null,null,null,null,null,null,null,null,null,null,null,null,null,null,null,2363,"住宅","SRC造",{"$f":"INDEX(#REF!, 9 + QUOTIENT(ROW(AL3833)-2, 10), 1 + MOD(ROW(AL3833)-2, 10))","v":{"$error":"#REF!"}}]
[null,null,null,null,null,null,null,null,null,null,null,null,null,null,null,null,null,null,null,null,null,null,null,null,null,null,null,null,null,null,null,null,null,null,2363,"非住宅","SRC造",{"$f":"INDEX(#REF!, 9 + QUOTIENT(ROW(AL3838)-2, 10), 1 + MOD(ROW(AL3838)-2, 10))","v":{"$error":"#REF!"}}]
[null,null,null,null,null,null,null,null,null,null,null,null,null,null,null,null,null,null,null,null,null,null,null,null,null,null,null,null,null,null,null,null,null,null,2364,"住宅","木造",{"$f":"INDEX(#REF!, 9 + QUOTIENT(ROW(AL3842)-2, 10), 1 + MOD(ROW(AL3842)-2, 10))","v":{"$error":"#REF!"}}]
[null,null,null,null,null,null,null,null,null,null,null,null,null,null,null,null,null,null,null,null,null,null,null,null,null,null,null,null,null,null,null,null,null,null,2364,"非住宅","木造",{"$f":"INDEX(#REF!, 9 + QUOTIENT(ROW(AL3847)-2, 10), 1 + MOD(ROW(AL3847)-2, 10))","v":{"$error":"#REF!"}}]
[null,null,null,null,null,null,null,null,null,null,null,null,null,null,null,null,null,null,null,null,null,null,null,null,null,null,null,null,null,null,null,null,null,null,2364,"非住宅","SRC造",{"$f":"INDEX(#REF!, 9 + QUOTIENT(ROW(AL3848)-2, 10), 1 + MOD(ROW(AL3848)-2, 10))","v":{"$error":"#REF!"}}]
[null,null,null,null,null,null,null,null,null,null,null,null,null,null,null,null,null,null,null,null,null,null,null,null,null,null,null,null,null,null,null,null,null,null,2365,"住宅","SRC造",{"$f":"INDEX(#REF!, 9 + QUOTIENT(ROW(AL3853)-2, 10), 1 + MOD(ROW(AL3853)-2, 10))","v":{"$error":"#REF!"}}]
[null,null,null,null,null,null,null,null,null,null,null,null,null,null,null,null,null,null,null,null,null,null,null,null,null,null,null,null,null,null,null,null,null,null,2365,"非住宅","SRC造",{"$f":"INDEX(#REF!, 9 + QUOTIENT(ROW(AL3858)-2, 10), 1 + MOD(ROW(AL3858)-2, 10))","v":{"$error":"#REF!"}}]
[null,null,null,null,null,null,null,null,null,null,null,null,null,null,null,null,null,null,null,null,null,null,null,null,null,null,null,null,null,null,null,null,null,null,2366,"住宅","SRC造",{"$f":"INDEX(#REF!, 9 + QUOTIENT(ROW(AL3863)-2, 10), 1 + MOD(ROW(AL3863)-2, 10))","v":{"$error":"#REF!"}}]
[null,null,null,null,null,null,null,null,null,null,null,null,null,null,null,null,null,null,null,null,null,null,null,null,null,null,null,null,null,null,null,null,null,null,2366,"住宅","RC造",{"$f":"INDEX(#REF!, 9 + QUOTIENT(ROW(AL3864)-2, 10), 1 + MOD(ROW(AL3864)-2, 10))","v":{"$error":"#REF!"}}]
[null,null,null,null,null,null,null,null,null,null,null,null,null,null,null,null,null,null,null,null,null,null,null,null,null,null,null,null,null,null,null,null,null,null,2366,"非住宅","RC造",{"$f":"INDEX(#REF!, 9 + QUOTIENT(ROW(AL3869)-2, 10), 1 + MOD(ROW(AL3869)-2, 10))","v":{"$error":"#REF!"}}]
[null,null,null,null,null,null,null,null,null,null,null,null,null,null,null,null,null,null,null,null,null,null,null,null,null,null,null,null,null,null,null,null,null,null,2367,"住宅","RC造",{"$f":"INDEX(#REF!, 9 + QUOTIENT(ROW(AL3874)-2, 10), 1 + MOD(ROW(AL3874)-2, 10))","v":{"$error":"#REF!"}}]
[null,null,null,null,null,null,null,null,null,null,null,null,null,null,null,null,null,null,null,null,null,null,null,null,null,null,null,null,null,null,null,null,null,null,2367,"非住宅","RC造",{"$f":"INDEX(#REF!, 9 + QUOTIENT(ROW(AL3879)-2, 10), 1 + MOD(ROW(AL3879)-2, 10))","v":{"$error":"#REF!"}}]
[null,null,null,null,null,null,null,null,null,null,null,null,null,null,null,null,null,null,null,null,null,null,null,null,null,null,null,null,null,null,null,null,null,null,2367,"非住宅","S造",{"$f":"INDEX(#REF!, 9 + QUOTIENT(ROW(AL3880)-2, 10), 1 + MOD(ROW(AL3880)-2, 10))","v":{"$error":"#REF!"}}]
[null,null,null,null,null,null,null,null,null,null,null,null,null,null,null,null,null,null,null,null,null,null,null,null,null,null,null,null,null,null,null,null,null,null,2368,"住宅","S造",{"$f":"INDEX(#REF!, 9 + QUOTIENT(ROW(AL3885)-2, 10), 1 + MOD(ROW(AL3885)-2, 10))","v":{"$error":"#REF!"}}]
[null,null,null,null,null,null,null,null,null,null,null,null,null,null,null,null,null,null,null,null,null,null,null,null,null,null,null,null,null,null,null,null,null,null,2368,"非住宅","S造",{"$f":"INDEX(#REF!, 9 + QUOTIENT(ROW(AL3890)-2, 10), 1 + MOD(ROW(AL3890)-2, 10))","v":{"$error":"#REF!"}}]
[null,null,null,null,null,null,null,null,null,null,null,null,null,null,null,null,null,null,null,null,null,null,null,null,null,null,null,null,null,null,null,null,null,null,2369,"住宅","S造",{"$f":"INDEX(#REF!, 9 + QUOTIENT(ROW(AL3895)-2, 10), 1 + MOD(ROW(AL3895)-2, 10))","v":{"$error":"#REF!"}}]
[null,null,null,null,null,null,null,null,null,null,null,null,null,null,null,null,null,null,null,null,null,null,null,null,null,null,null,null,null,null,null,null,null,null,2369,"住宅","その他",{"$f":"INDEX(#REF!, 9 + QUOTIENT(ROW(AL3896)-2, 10), 1 + MOD(ROW(AL3896)-2, 10))","v":{"$error":"#REF!"}}]
[null,null,null,null,null,null,null,null,null,null,null,null,null,null,null,null,null,null,null,null,null,null,null,null,null,null,null,null,null,null,null,null,null,null,2369,"非住宅","その他",{"$f":"INDEX(#REF!, 9 + QUOTIENT(ROW(AL3901)-2, 10), 1 + MOD(ROW(AL3901)-2, 10))","v":{"$error":"#REF!"}}]
[null,null,null,null,null,null,null,null,null,null,null,null,null,null,null,null,null,null,null,null,null,null,null,null,null,null,null,null,null,null,null,null,null,null,2370,"住宅","その他",{"$f":"INDEX(#REF!, 9 + QUOTIENT(ROW(AL3906)-2, 10), 1 + MOD(ROW(AL3906)-2, 10))","v":{"$error":"#REF!"}}]
[null,null,null,null,null,null,null,null,null,null,null,null,null,null,null,null,null,null,null,null,null,null,null,null,null,null,null,null,null,null,null,null,null,null,2370,"非住宅","その他",{"$f":"INDEX(#REF!, 9 + QUOTIENT(ROW(AL3911)-2, 10), 1 + MOD(ROW(AL3911)-2, 10))","v":{"$error":"#REF!"}}]
[null,null,null,null,null,null,null,null,null,null,null,null,null,null,null,null,null,null,null,null,null,null,null,null,null,null,null,null,null,null,null,null,null,null,2371,"住宅","木造",{"$f":"INDEX(#REF!, 9 + QUOTIENT(ROW(AL3912)-2, 10), 1 + MOD(ROW(AL3912)-2, 10))","v":{"$error":"#REF!"}}]
[null,null,null,null,null,null,null,null,null,null,null,null,null,null,null,null,null,null,null,null,null,null,null,null,null,null,null,null,null,null,null,null,null,null,2371,"非住宅","木造",{"$f":"INDEX(#REF!, 9 + QUOTIENT(ROW(AL3917)-2, 10), 1 + MOD(ROW(AL3917)-2, 10))","v":{"$error":"#REF!"}}]
[null,null,null,null,null,null,null,null,null,null,null,null,null,null,null,null,null,null,null,null,null,null,null,null,null,null,null,null,null,null,null,null,null,null,2372,"住宅","木造",{"$f":"INDEX(#REF!, 9 + QUOTIENT(ROW(AL3922)-2, 10), 1 + MOD(ROW(AL3922)-2, 10))","v":{"$error":"#REF!"}}]
[null,null,null,null,null,null,null,null,null,null,null,null,null,null,null,null,null,null,null,null,null,null,null,null,null,null,null,null,null,null,null,null,null,null,2372,"非住宅","木造",{"$f":"INDEX(#REF!, 9 + QUOTIENT(ROW(AL3927)-2, 10), 1 + MOD(ROW(AL3927)-2, 10))","v":{"$error":"#REF!"}}]
[null,null,null,null,null,null,null,null,null,null,null,null,null,null,null,null,null,null,null,null,null,null,null,null,null,null,null,null,null,null,null,null,null,null,2372,"非住宅","SRC造",{"$f":"INDEX(#REF!, 9 + QUOTIENT(ROW(AL3928)-2, 10), 1 + MOD(ROW(AL3928)-2, 10))","v":{"$error":"#REF!"}}]
[null,null,null,null,null,null,null,null,null,null,null,null,null,null,null,null,null,null,null,null,null,null,null,null,null,null,null,null,null,null,null,null,null,null,2373,"住宅","SRC造",{"$f":"INDEX(#REF!, 9 + QUOTIENT(ROW(AL3933)-2, 10), 1 + MOD(ROW(AL3933)-2, 10))","v":{"$error":"#REF!"}}]
[null,null,null,null,null,null,null,null,null,null,null,null,null,null,null,null,null,null,null,null,null,null,null,null,null,null,null,null,null,null,null,null,null,null,2373,"非住宅","SRC造",{"$f":"INDEX(#REF!, 9 + QUOTIENT(ROW(AL3938)-2, 10), 1 + MOD(ROW(AL3938)-2, 10))","v":{"$error":"#REF!"}}]
[null,null,null,null,null,null,null,null,null,null,null,null,null,null,null,null,null,null,null,null,null,null,null,null,null,null,null,null,null,null,null,null,null,null,2374,"住宅","SRC造",{"$f":"INDEX(#REF!, 9 + QUOTIENT(ROW(AL3943)-2, 10), 1 + MOD(ROW(AL3943)-2, 10))","v":{"$error":"#REF!"}}]
[null,null,null,null,null,null,null,null,null,null,null,null,null,null,null,null,null,null,null,null,null,null,null,null,null,null,null,null,null,null,null,null,null,null,2374,"住宅","その他",{"$f":"INDEX(#REF!, 9 + QUOTIENT(ROW(AL3946)-2, 10), 1 + MOD(ROW(AL3946)-2, 10))","v":{"$error":"#REF!"}}]
[null,null,null,null,null,null,null,null,null,null,null,null,null,null,null,null,null,null,null,null,null,null,null,null,null,null,null,null,null,null,null,null,null,null,2374,"非住宅","SRC造",{"$f":"INDEX(#REF!, 9 + QUOTIENT(ROW(AL3948)-2, 10), 1 + MOD(ROW(AL3948)-2, 10))","v":{"$error":"#REF!"}}]
[null,null,null,null,null,null,null,null,null,null,null,null,null,null,null,null,null,null,null,null,null,null,null,null,null,null,null,null,null,null,null,null,null,null,2375,"住宅","SRC造",{"$f":"INDEX(#REF!, 9 + QUOTIENT(ROW(AL3953)-2, 10), 1 + MOD(ROW(AL3953)-2, 10))","v":{"$error":"#REF!"}}]
[null,null,null,null,null,null,null,null,null,null,null,null,null,null,null,null,null,null,null,null,null,null,null,null,null,null,null,null,null,null,null,null,null,null,2375,"非住宅","SRC造",{"$f":"INDEX(#REF!, 9 + QUOTIENT(ROW(AL3958)-2, 10), 1 + MOD(ROW(AL3958)-2, 10))","v":{"$error":"#REF!"}}]
[null,null,null,null,null,null,null,null,null,null,null,null,null,null,null,null,null,null,null,null,null,null,null,null,null,null,null,null,null,null,null,null,null,null,2375,"非住宅","RC造",{"$f":"INDEX(#REF!, 9 + QUOTIENT(ROW(AL3959)-2, 10), 1 + MOD(ROW(AL3959)-2, 10))","v":{"$error":"#REF!"}}]
[null,null,null,null,null,null,null,null,null,null,null,null,null,null,null,null,null,null,null,null,null,null,null,null,null,null,null,null,null,null,null,null,null,null,2376,"住宅","RC造",{"$f":"INDEX(#REF!, 9 + QUOTIENT(ROW(AL3964)-2, 10), 1 + MOD(ROW(AL3964)-2, 10))","v":{"$error":"#REF!"}}]
[null,null,null,null,null,null,null,null,null,null,null,null,null,null,null,null,null,null,null,null,null,null,null,null,null,null,null,null,null,null,null,null,null,null,2376,"非住宅","RC造",{"$f":"INDEX(#REF!, 9 + QUOTIENT(ROW(AL3969)-2, 10), 1 + MOD(ROW(AL3969)-2, 10))","v":{"$error":"#REF!"}}]
[null,null,null,null,null,null,null,null,null,null,null,null,null,null,null,null,null,null,null,null,null,null,null,null,null,null,null,null,null,null,null,null,null,null,2377,"住宅","RC造",{"$f":"INDEX(#REF!, 9 + QUOTIENT(ROW(AL3974)-2, 10), 1 + MOD(ROW(AL3974)-2, 10))","v":{"$error":"#REF!"}}]
[null,null,null,null,null,null,null,null,null,null,null,null,null,null,null,null,null,null,null,null,null,null,null,null,null,null,null,null,null,null,null,null,null,null,2377,"住宅","S造",{"$f":"INDEX(#REF!, 9 + QUOTIENT(ROW(AL3975)-2, 10), 1 + MOD(ROW(AL3975)-2, 10))","v":{"$error":"#REF!"}}]
[null,null,null,null,null,null,null,null,null,null,null,null,null,null,null,null,null,null,null,null,null,null,null,null,null,null,null,null,null,null,null,null,null,null,2377,"非住宅","S造",{"$f":"INDEX(#REF!, 9 + QUOTIENT(ROW(AL3980)-2, 10), 1 + MOD(ROW(AL3980)-2, 10))","v":{"$error":"#REF!"}}]
[null,null,null,null,null,null,null,null,null,null,null,null,null,null,null,null,null,null,null,null,null,null,null,null,null,null,null,null,null,null,null,null,null,null,2378,"住宅","S造",{"$f":"INDEX(#REF!, 9 + QUOTIENT(ROW(AL3985)-2, 10), 1 + MOD(ROW(AL3985)-2, 10))","v":{"$error":"#REF!"}}]
[null,null,null,null,null,null,null,null,null,null,null,null,null,null,null,null,null,null,null,null,null,null,null,null,null,null,null,null,null,null,null,null,null,null,2378,"非住宅","S造",{"$f":"INDEX(#REF!, 9 + QUOTIENT(ROW(AL3990)-2, 10), 1 + MOD(ROW(AL3990)-2, 10))","v":{"$error":"#REF!"}}]
[null,null,null,null,null,null,null,null,null,null,null,null,null,null,null,null,null,null,null,null,null,null,null,null,null,null,null,null,null,null,null,null,null,null,2378,"非住宅","その他",{"$f":"INDEX(#REF!, 9 + QUOTIENT(ROW(AL3991)-2, 10), 1 + MOD(ROW(AL3991)-2, 10))","v":{"$error":"#REF!"}}]
[null,null,null,null,null,null,null,null,null,null,null,null,null,null,null,null,null,null,null,null,null,null,null,null,null,null,null,null,null,null,null,null,null,null,2379,"住宅","その他",{"$f":"INDEX(#REF!, 9 + QUOTIENT(ROW(AL3996)-2, 10), 1 + MOD(ROW(AL3996)-2, 10))","v":{"$error":"#REF!"}}]
[null,null,null,null,null,null,null,null,null,null,null,null,null,null,null,null,null,null,null,null,null,null,null,null,null,null,null,null,null,null,null,null,null,null,2379,"非住宅","その他",{"$f":"INDEX(#REF!, 9 + QUOTIENT(ROW(AL4001)-2, 10), 1 + MOD(ROW(AL4001)-2, 10))","v":{"$error":"#REF!"}}]
[null,null,null,null,null,null,null,null,null,null,null,null,null,null,null,null,null,null,null,null,null,null,null,null,null,null,null,null,null,null,null,null,null,null,2380,"住宅","その他",{"$f":"INDEX(#REF!, 9 + QUOTIENT(ROW(AL4006)-2, 10), 1 + MOD(ROW(AL4006)-2, 10))","v":{"$error":"#REF!"}}]
[null,null,null,null,null,null,null,null,null,null,null,null,null,null,null,null,null,null,null,null,null,null,null,null,null,null,null,null,null,null,null,null,null,null,2380,"非住宅","木造",{"$f":"INDEX(#REF!, 9 + QUOTIENT(ROW(AL4007)-2, 10), 1 + MOD(ROW(AL4007)-2, 10))","v":{"$error":"#REF!"}}]
[null,null,null,null,null,null,null,null,null,null,null,null,null,null,null,null,null,null,null,null,null,null,null,null,null,null,null,null,null,null,null,null,null,null,2381,"住宅","木造",{"$f":"INDEX(#REF!, 9 + QUOTIENT(ROW(AL4012)-2, 10), 1 + MOD(ROW(AL4012)-2, 10))","v":{"$error":"#REF!"}}]
[null,null,null,null,null,null,null,null,null,null,null,null,null,null,null,null,null,null,null,null,null,null,null,null,null,null,null,null,null,null,null,null,null,null,2381,"非住宅","木造",{"$f":"INDEX(#REF!, 9 + QUOTIENT(ROW(AL4017)-2, 10), 1 + MOD(ROW(AL4017)-2, 10))","v":{"$error":"#REF!"}}]
[null,null,null,null,null,null,null,null,null,null,null,null,null,null,null,null,null,null,null,null,null,null,null,null,null,null,null,null,null,null,null,null,null,null,2382,"住宅","木造",{"$f":"INDEX(#REF!, 9 + QUOTIENT(ROW(AL4022)-2, 10), 1 + MOD(ROW(AL4022)-2, 10))","v":{"$error":"#REF!"}}]
[null,null,null,null,null,null,null,null,null,null,null,null,null,null,null,null,null,null,null,null,null,null,null,null,null,null,null,null,null,null,null,null,null,null,2382,"住宅","SRC造",{"$f":"INDEX(#REF!, 9 + QUOTIENT(ROW(AL4023)-2, 10), 1 + MOD(ROW(AL4023)-2, 10))","v":{"$error":"#REF!"}}]
[null,null,null,null,null,null,null,null,null,null,null,null,null,null,null,null,null,null,null,null,null,null,null,null,null,null,null,null,null,null,null,null,null,null,2382,"非住宅","SRC造",{"$f":"INDEX(#REF!, 9 + QUOTIENT(ROW(AL4028)-2, 10), 1 + MOD(ROW(AL4028)-2, 10))","v":{"$error":"#REF!"}}]
[null,null,null,null,null,null,null,null,null,null,null,null,null,null,null,null,null,null,null,null,null,null,null,null,null,null,null,null,null,null,null,null,null,null,2383,"住宅","SRC造",{"$f":"INDEX(#REF!, 9 + QUOTIENT(ROW(AL4033)-2, 10), 1 + MOD(ROW(AL4033)-2, 10))","v":{"$error":"#REF!"}}]
[null,null,null,null,null,null,null,null,null,null,null,null,null,null,null,null,null,null,null,null,null,null,null,null,null,null,null,null,null,null,null,null,null,null,2383,"非住宅","SRC造",{"$f":"INDEX(#REF!, 9 + QUOTIENT(ROW(AL4038)-2, 10), 1 + MOD(ROW(AL4038)-2, 10))","v":{"$error":"#REF!"}}]
[null,null,null,null,null,null,null,null,null,null,null,null,null,null,null,null,null,null,null,null,null,null,null,null,null,null,null,null,null,null,null,null,null,null,2383,"非住宅","RC造",{"$f":"INDEX(#REF!, 9 + QUOTIENT(ROW(AL4039)-2, 10), 1 + MOD(ROW(AL4039)-2, 10))","v":{"$error":"#REF!"}}]
[null,null,null,null,null,null,null,null,null,null,null,null,null,null,null,null,null,null,null,null,null,null,null,null,null,null,null,null,null,null,null,null,null,null,2384,"住宅","RC造",{"$f":"INDEX(#REF!, 9 + QUOTIENT(ROW(AL4044)-2, 10), 1 + MOD(ROW(AL4044)-2, 10))","v":{"$error":"#REF!"}}]
[null,null,null,null,null,null,null,null,null,null,null,null,null,null,null,null,null,null,null,null,null,null,null,null,null,null,null,null,null,null,null,null,null,null,2384,"非住宅","木造",{"$f":"INDEX(#REF!, 9 + QUOTIENT(ROW(AL4047)-2, 10), 1 + MOD(ROW(AL4047)-2, 10))","v":{"$error":"#REF!"}}]
[null,null,null,null,null,null,null,null,null,null,null,null,null,null,null,null,null,null,null,null,null,null,null,null,null,null,null,null,null,null,null,null,null,null,2385,"住宅","SRC造",{"$f":"INDEX(#REF!, 9 + QUOTIENT(ROW(AL4053)-2, 10), 1 + MOD(ROW(AL4053)-2, 10))","v":{"$error":"#REF!"}}]
[null,null,null,null,null,null,null,null,null,null,null,null,null,null,null,null,null,null,null,null,null,null,null,null,null,null,null,null,null,null,null,null,null,null,2385,"住宅","RC造",{"$f":"INDEX(#REF!, 9 + QUOTIENT(ROW(AL4054)-2, 10), 1 + MOD(ROW(AL4054)-2, 10))","v":{"$error":"#REF!"}}]
[null,null,null,null,null,null,null,null,null,null,null,null,null,null,null,null,null,null,null,null,null,null,null,null,null,null,null,null,null,null,null,null,null,null,2385,"非住宅","RC造",{"$f":"INDEX(#REF!, 9 + QUOTIENT(ROW(AL4059)-2, 10), 1 + MOD(ROW(AL4059)-2, 10))","v":{"$error":"#REF!"}}]
[null,null,null,null,null,null,null,null,null,null,null,null,null,null,null,null,null,null,null,null,null,null,null,null,null,null,null,null,null,null,null,null,null,null,2386,"住宅","RC造",{"$f":"INDEX(#REF!, 9 + QUOTIENT(ROW(AL4064)-2, 10), 1 + MOD(ROW(AL4064)-2, 10))","v":{"$error":"#REF!"}}]
[null,null,null,null,null,null,null,null,null,null,null,null,null,null,null,null,null,null,null,null,null,null,null,null,null,null,null,null,null,null,null,null,null,null,2386,"非住宅","RC造",{"$f":"INDEX(#REF!, 9 + QUOTIENT(ROW(AL4069)-2, 10), 1 + MOD(ROW(AL4069)-2, 10))","v":{"$error":"#REF!"}}]
[null,null,null,null,null,null,null,null,null,null,null,null,null,null,null,null,null,null,null,null,null,null,null,null,null,null,null,null,null,null,null,null,null,null,2386,"非住宅","S造",{"$f":"INDEX(#REF!, 9 + QUOTIENT(ROW(AL4070)-2, 10), 1 + MOD(ROW(AL4070)-2, 10))","v":{"$error":"#REF!"}}]
[null,null,null,null,null,null,null,null,null,null,null,null,null,null,null,null,null,null,null,null,null,null,null,null,null,null,null,null,null,null,null,null,null,null,2387,"住宅","S造",{"$f":"INDEX(#REF!, 9 + QUOTIENT(ROW(AL4075)-2, 10), 1 + MOD(ROW(AL4075)-2, 10))","v":{"$error":"#REF!"}}]
[null,null,null,null,null,null,null,null,null,null,null,null,null,null,null,null,null,null,null,null,null,null,null,null,null,null,null,null,null,null,null,null,null,null,2387,"非住宅","S造",{"$f":"INDEX(#REF!, 9 + QUOTIENT(ROW(AL4080)-2, 10), 1 + MOD(ROW(AL4080)-2, 10))","v":{"$error":"#REF!"}}]
[null,null,null,null,null,null,null,null,null,null,null,null,null,null,null,null,null,null,null,null,null,null,null,null,null,null,null,null,null,null,null,null,null,null,2388,"住宅","S造",{"$f":"INDEX(#REF!, 9 + QUOTIENT(ROW(AL4085)-2, 10), 1 + MOD(ROW(AL4085)-2, 10))","v":{"$error":"#REF!"}}]
[null,null,null,null,null,null,null,null,null,null,null,null,null,null,null,null,null,null,null,null,null,null,null,null,null,null,null,null,null,null,null,null,null,null,2388,"住宅","その他",{"$f":"INDEX(#REF!, 9 + QUOTIENT(ROW(AL4086)-2, 10), 1 + MOD(ROW(AL4086)-2, 10))","v":{"$error":"#REF!"}}]
[null,null,null,null,null,null,null,null,null,null,null,null,null,null,null,null,null,null,null,null,null,null,null,null,null,null,null,null,null,null,null,null,null,null,2388,"非住宅","その他",{"$f":"INDEX(#REF!, 9 + QUOTIENT(ROW(AL4091)-2, 10), 1 + MOD(ROW(AL4091)-2, 10))","v":{"$error":"#REF!"}}]
[null,null,null,null,null,null,null,null,null,null,null,null,null,null,null,null,null,null,null,null,null,null,null,null,null,null,null,null,null,null,null,null,null,null,2389,"住宅","その他",{"$f":"INDEX(#REF!, 9 + QUOTIENT(ROW(AL4096)-2, 10), 1 + MOD(ROW(AL4096)-2, 10))","v":{"$error":"#REF!"}}]
[null,null,null,null,null,null,null,null,null,null,null,null,null,null,null,null,null,null,null,null,null,null,null,null,null,null,null,null,null,null,null,null,null,null,2389,"非住宅","その他",{"$f":"INDEX(#REF!, 9 + QUOTIENT(ROW(AL4101)-2, 10), 1 + MOD(ROW(AL4101)-2, 10))","v":{"$error":"#REF!"}}]
[null,null,null,null,null,null,null,null,null,null,null,null,null,null,null,null,null,null,null,null,null,null,null,null,null,null,null,null,null,null,null,null,null,null,2390,"住宅","木造",{"$f":"INDEX(#REF!, 9 + QUOTIENT(ROW(AL4102)-2, 10), 1 + MOD(ROW(AL4102)-2, 10))","v":{"$error":"#REF!"}}]
[null,null,null,null,null,null,null,null,null,null,null,null,null,null,null,null,null,null,null,null,null,null,null,null,null,null,null,null,null,null,null,null,null,null,2390,"非住宅","木造",{"$f":"INDEX(#REF!, 9 + QUOTIENT(ROW(AL4107)-2, 10), 1 + MOD(ROW(AL4107)-2, 10))","v":{"$error":"#REF!"}}]
[null,null,null,null,null,null,null,null,null,null,null,null,null,null,null,null,null,null,null,null,null,null,null,null,null,null,null,null,null,null,null,null,null,null,2391,"住宅","木造",{"$f":"INDEX(#REF!, 9 + QUOTIENT(ROW(AL4112)-2, 10), 1 + MOD(ROW(AL4112)-2, 10))","v":{"$error":"#REF!"}}]
[null,null,null,null,null,null,null,null,null,null,null,null,null,null,null,null,null,null,null,null,null,null,null,null,null,null,null,null,null,null,null,null,null,null,2391,"非住宅","木造",{"$f":"INDEX(#REF!, 9 + QUOTIENT(ROW(AL4117)-2, 10), 1 + MOD(ROW(AL4117)-2, 10))","v":{"$error":"#REF!"}}]
[null,null,null,null,null,null,null,null,null,null,null,null,null,null,null,null,null,null,null,null,null,null,null,null,null,null,null,null,null,null,null,null,null,null,2391,"非住宅","SRC造",{"$f":"INDEX(#REF!, 9 + QUOTIENT(ROW(AL4118)-2, 10), 1 + MOD(ROW(AL4118)-2, 10))","v":{"$error":"#REF!"}}]
[null,null,null,null,null,null,null,null,null,null,null,null,null,null,null,null,null,null,null,null,null,null,null,null,null,null,null,null,null,null,null,null,null,null,2392,"住宅","SRC造",{"$f":"INDEX(#REF!, 9 + QUOTIENT(ROW(AL4123)-2, 10), 1 + MOD(ROW(AL4123)-2, 10))","v":{"$error":"#REF!"}}]
[null,null,null,null,null,null,null,null,null,null,null,null,null,null,null,null,null,null,null,null,null,null,null,null,null,null,null,null,null,null,null,null,null,null,2392,"非住宅","SRC造",{"$f":"INDEX(#REF!, 9 + QUOTIENT(ROW(AL4128)-2, 10), 1 + MOD(ROW(AL4128)-2, 10))","v":{"$error":"#REF!"}}]
[null,null,null,null,null,null,null,null,null,null,null,null,null,null,null,null,null,null,null,null,null,null,null,null,null,null,null,null,null,null,null,null,null,null,2393,"住宅","SRC造",{"$f":"INDEX(#REF!, 9 + QUOTIENT(ROW(AL4133)-2, 10), 1 + MOD(ROW(AL4133)-2, 10))","v":{"$error":"#REF!"}}]
[null,null,null,null,null,null,null,null,null,null,null,null,null,null,null,null,null,null,null,null,null,null,null,null,null,null,null,null,null,null,null,null,null,null,2393,"住宅","RC造",{"$f":"INDEX(#REF!, 9 + QUOTIENT(ROW(AL4134)-2, 10), 1 + MOD(ROW(AL4134)-2, 10))","v":{"$error":"#REF!"}}]
[null,null,null,null,null,null,null,null,null,null,null,null,null,null,null,null,null,null,null,null,null,null,null,null,null,null,null,null,null,null,null,null,null,null,2393,"非住宅","RC造",{"$f":"INDEX(#REF!, 9 + QUOTIENT(ROW(AL4139)-2, 10), 1 + MOD(ROW(AL4139)-2, 10))","v":{"$error":"#REF!"}}]
[null,null,null,null,null,null,null,null,null,null,null,null,null,null,null,null,null,null,null,null,null,null,null,null,null,null,null,null,null,null,null,null,null,null,2394,"住宅","RC造",{"$f":"INDEX(#REF!, 9 + QUOTIENT(ROW(AL4144)-2, 10), 1 + MOD(ROW(AL4144)-2, 10))","v":{"$error":"#REF!"}}]
[null,null,null,null,null,null,null,null,null,null,null,null,null,null,null,null,null,null,null,null,null,null,null,null,null,null,null,null,null,null,null,null,null,null,2394,"非住宅","木造",{"$f":"INDEX(#REF!, 9 + QUOTIENT(ROW(AL4147)-2, 10), 1 + MOD(ROW(AL4147)-2, 10))","v":{"$error":"#REF!"}}]
[null,null,null,null,null,null,null,null,null,null,null,null,null,null,null,null,null,null,null,null,null,null,null,null,null,null,null,null,null,null,null,null,null,null,2394,"非住宅","RC造",{"$f":"INDEX(#REF!, 9 + QUOTIENT(ROW(AL4149)-2, 10), 1 + MOD(ROW(AL4149)-2, 10))","v":{"$error":"#REF!"}}]
[null,null,null,null,null,null,null,null,null,null,null,null,null,null,null,null,null,null,null,null,null,null,null,null,null,null,null,null,null,null,null,null,null,null,2395,"住宅","RC造",{"$f":"INDEX(#REF!, 9 + QUOTIENT(ROW(AL4154)-2, 10), 1 + MOD(ROW(AL4154)-2, 10))","v":{"$error":"#REF!"}}]
[null,null,null,null,null,null,null,null,null,null,null,null,null,null,null,null,null,null,null,null,null,null,null,null,null,null,null,null,null,null,null,null,null,null,2395,"非住宅","RC造",{"$f":"INDEX(#REF!, 9 + QUOTIENT(ROW(AL4159)-2, 10), 1 + MOD(ROW(AL4159)-2, 10))","v":{"$error":"#REF!"}}]
[null,null,null,null,null,null,null,null,null,null,null,null,null,null,null,null,null,null,null,null,null,null,null,null,null,null,null,null,null,null,null,null,null,null,2396,"住宅","RC造",{"$f":"INDEX(#REF!, 9 + QUOTIENT(ROW(AL4164)-2, 10), 1 + MOD(ROW(AL4164)-2, 10))","v":{"$error":"#REF!"}}]
[null,null,null,null,null,null,null,null,null,null,null,null,null,null,null,null,null,null,null,null,null,null,null,null,null,null,null,null,null,null,null,null,null,null,2396,"住宅","S造",{"$f":"INDEX(#REF!, 9 + QUOTIENT(ROW(AL4165)-2, 10), 1 + MOD(ROW(AL4165)-2, 10))","v":{"$error":"#REF!"}}]
[null,null,null,null,null,null,null,null,null,null,null,null,null,null,null,null,null,null,null,null,null,null,null,null,null,null,null,null,null,null,null,null,null,null,2396,"非住宅","S造",{"$f":"INDEX(#REF!, 9 + QUOTIENT(ROW(AL4170)-2, 10), 1 + MOD(ROW(AL4170)-2, 10))","v":{"$error":"#REF!"}}]
[null,null,null,null,null,null,null,null,null,null,null,null,null,null,null,null,null,null,null,null,null,null,null,null,null,null,null,null,null,null,null,null,null,null,2397,"住宅","S造",{"$f":"INDEX(#REF!, 9 + QUOTIENT(ROW(AL4175)-2, 10), 1 + MOD(ROW(AL4175)-2, 10))","v":{"$error":"#REF!"}}]
[null,null,null,null,null,null,null,null,null,null,null,null,null,null,null,null,null,null,null,null,null,null,null,null,null,null,null,null,null,null,null,null,null,null,2397,"非住宅","S造",{"$f":"INDEX(#REF!, 9 + QUOTIENT(ROW(AL4180)-2, 10), 1 + MOD(ROW(AL4180)-2, 10))","v":{"$error":"#REF!"}}]
[null,null,null,null,null,null,null,null,null,null,null,null,null,null,null,null,null,null,null,null,null,null,null,null,null,null,null,null,null,null,null,null,null,null,2397,"非住宅","その他",{"$f":"INDEX(#REF!, 9 + QUOTIENT(ROW(AL4181)-2, 10), 1 + MOD(ROW(AL4181)-2, 10))","v":{"$error":"#REF!"}}]
[null,null,null,null,null,null,null,null,null,null,null,null,null,null,null,null,null,null,null,null,null,null,null,null,null,null,null,null,null,null,null,null,null,null,2398,"住宅","その他",{"$f":"INDEX(#REF!, 9 + QUOTIENT(ROW(AL4186)-2, 10), 1 + MOD(ROW(AL4186)-2, 10))","v":{"$error":"#REF!"}}]
[null,null,null,null,null,null,null,null,null,null,null,null,null,null,null,null,null,null,null,null,null,null,null,null,null,null,null,null,null,null,null,null,null,null,2398,"非住宅","その他",{"$f":"INDEX(#REF!, 9 + QUOTIENT(ROW(AL4191)-2, 10), 1 + MOD(ROW(AL4191)-2, 10))","v":{"$error":"#REF!"}}]
[null,null,null,null,null,null,null,null,null,null,null,null,null,null,null,null,null,null,null,null,null,null,null,null,null,null,null,null,null,null,null,null,null,null,2399,"住宅","その他",{"$f":"INDEX(#REF!, 9 + QUOTIENT(ROW(AL4196)-2, 10), 1 + MOD(ROW(AL4196)-2, 10))","v":{"$error":"#REF!"}}]
[null,null,null,null,null,null,null,null,null,null,null,null,null,null,null,null,null,null,null,null,null,null,null,null,null,null,null,null,null,null,null,null,null,null,2399,"非住宅","木造",{"$f":"INDEX(#REF!, 9 + QUOTIENT(ROW(AL4197)-2, 10), 1 + MOD(ROW(AL4197)-2, 10))","v":{"$error":"#REF!"}}]
[null,null,null,null,null,null,null,null,null,null,null,null,null,null,null,null,null,null,null,null,null,null,null,null,null,null,null,null,null,null,null,null,null,null,2400,"住宅","木造",{"$f":"INDEX(#REF!, 9 + QUOTIENT(ROW(AL4202)-2, 10), 1 + MOD(ROW(AL4202)-2, 10))","v":{"$error":"#REF!"}}]
[null,null,null,null,null,null,null,null,null,null,null,null,null,null,null,null,null,null,null,null,null,null,null,null,null,null,null,null,null,null,null,null,null,null,2400,"非住宅","木造",{"$f":"INDEX(#REF!, 9 + QUOTIENT(ROW(AL4207)-2, 10), 1 + MOD(ROW(AL4207)-2, 10))","v":{"$error":"#REF!"}}]
[null,null,null,null,null,null,null,null,null,null,null,null,null,null,null,null,null,null,null,null,null,null,null,null,null,null,null,null,null,null,null,null,null,null,2401,"住宅","木造",{"$f":"INDEX(#REF!, 9 + QUOTIENT(ROW(AL4212)-2, 10), 1 + MOD(ROW(AL4212)-2, 10))","v":{"$error":"#REF!"}}]
[null,null,null,null,null,null,null,null,null,null,null,null,null,null,null,null,null,null,null,null,null,null,null,null,null,null,null,null,null,null,null,null,null,null,2401,"住宅","SRC造",{"$f":"INDEX(#REF!, 9 + QUOTIENT(ROW(AL4213)-2, 10), 1 + MOD(ROW(AL4213)-2, 10))","v":{"$error":"#REF!"}}]
[null,null,null,null,null,null,null,null,null,null,null,null,null,null,null,null,null,null,null,null,null,null,null,null,null,null,null,null,null,null,null,null,null,null,2401,"非住宅","SRC造",{"$f":"INDEX(#REF!, 9 + QUOTIENT(ROW(AL4218)-2, 10), 1 + MOD(ROW(AL4218)-2, 10))","v":{"$error":"#REF!"}}]
[null,null,null,null,null,null,null,null,null,null,null,null,null,null,null,null,null,null,null,null,null,null,null,null,null,null,null,null,null,null,null,null,null,null,2402,"住宅","SRC造",{"$f":"INDEX(#REF!, 9 + QUOTIENT(ROW(AL4223)-2, 10), 1 + MOD(ROW(AL4223)-2, 10))","v":{"$error":"#REF!"}}]
[null,null,null,null,null,null,null,null,null,null,null,null,null,null,null,null,null,null,null,null,null,null,null,null,null,null,null,null,null,null,null,null,null,null,2402,"非住宅","SRC造",{"$f":"INDEX(#REF!, 9 + QUOTIENT(ROW(AL4228)-2, 10), 1 + MOD(ROW(AL4228)-2, 10))","v":{"$error":"#REF!"}}]
[null,null,null,null,null,null,null,null,null,null,null,null,null,null,null,null,null,null,null,null,null,null,null,null,null,null,null,null,null,null,null,null,null,null,2402,"非住宅","RC造",{"$f":"INDEX(#REF!, 9 + QUOTIENT(ROW(AL4229)-2, 10), 1 + MOD(ROW(AL4229)-2, 10))","v":{"$error":"#REF!"}}]
[null,null,null,null,null,null,null,null,null,null,null,null,null,null,null,null,null,null,null,null,null,null,null,null,null,null,null,null,null,null,null,null,null,null,2403,"住宅","RC造",{"$f":"INDEX(#REF!, 9 + QUOTIENT(ROW(AL4234)-2, 10), 1 + MOD(ROW(AL4234)-2, 10))","v":{"$error":"#REF!"}}]
[null,null,null,null,null,null,null,null,null,null,null,null,null,null,null,null,null,null,null,null,null,null,null,null,null,null,null,null,null,null,null,null,null,null,2403,"非住宅","RC造",{"$f":"INDEX(#REF!, 9 + QUOTIENT(ROW(AL4239)-2, 10), 1 + MOD(ROW(AL4239)-2, 10))","v":{"$error":"#REF!"}}]
[null,null,null,null,null,null,null,null,null,null,null,null,null,null,null,null,null,null,null,null,null,null,null,null,null,null,null,null,null,null,null,null,null,null,2404,"住宅","RC造",{"$f":"INDEX(#REF!, 9 + QUOTIENT(ROW(AL4244)-2, 10), 1 + MOD(ROW(AL4244)-2, 10))","v":{"$error":"#REF!"}}]
[null,null,null,null,null,null,null,null,null,null,null,null,null,null,null,null,null,null,null,null,null,null,null,null,null,null,null,null,null,null,null,null,null,null,2404,"住宅","S造",{"$f":"INDEX(#REF!, 9 + QUOTIENT(ROW(AL4245)-2, 10), 1 + MOD(ROW(AL4245)-2, 10))","v":{"$error":"#REF!"}}]
[null,null,null,null,null,null,null,null,null,null,null,null,null,null,null,null,null,null,null,null,null,null,null,null,null,null,null,null,null,null,null,null,null,null,2404,"非住宅","その他",{"$f":"INDEX(#REF!, 9 + QUOTIENT(ROW(AL4251)-2, 10), 1 + MOD(ROW(AL4251)-2, 10))","v":{"$error":"#REF!"}}]
[null,null,null,null,null,null,null,null,null,null,null,null,null,null,null,null,null,null,null,null,null,null,null,null,null,null,null,null,null,null,null,null,null,null,2405,"住宅","RC造",{"$f":"INDEX(#REF!, 9 + QUOTIENT(ROW(AL4254)-2, 10), 1 + MOD(ROW(AL4254)-2, 10))","v":{"$error":"#REF!"}}]
[null,null,null,null,null,null,null,null,null,null,null,null,null,null,null,null,null,null,null,null,null,null,null,null,null,null,null,null,null,null,null,null,null,null,2405,"非住宅","RC造",{"$f":"INDEX(#REF!, 9 + QUOTIENT(ROW(AL4259)-2, 10), 1 + MOD(ROW(AL4259)-2, 10))","v":{"$error":"#REF!"}}]
[null,null,null,null,null,null,null,null,null,null,null,null,null,null,null,null,null,null,null,null,null,null,null,null,null,null,null,null,null,null,null,null,null,null,2405,"非住宅","S造",{"$f":"INDEX(#REF!, 9 + QUOTIENT(ROW(AL4260)-2, 10), 1 + MOD(ROW(AL4260)-2, 10))","v":{"$error":"#REF!"}}]
[null,null,null,null,null,null,null,null,null,null,null,null,null,null,null,null,null,null,null,null,null,null,null,null,null,null,null,null,null,null,null,null,null,null,2406,"住宅","S造",{"$f":"INDEX(#REF!, 9 + QUOTIENT(ROW(AL4265)-2, 10), 1 + MOD(ROW(AL4265)-2, 10))","v":{"$error":"#REF!"}}]
[null,null,null,null,null,null,null,null,null,null,null,null,null,null,null,null,null,null,null,null,null,null,null,null,null,null,null,null,null,null,null,null,null,null,2406,"非住宅","S造",{"$f":"INDEX(#REF!, 9 + QUOTIENT(ROW(AL4270)-2, 10), 1 + MOD(ROW(AL4270)-2, 10))","v":{"$error":"#REF!"}}]
[null,null,null,null,null,null,null,null,null,null,null,null,null,null,null,null,null,null,null,null,null,null,null,null,null,null,null,null,null,null,null,null,null,null,2407,"住宅","S造",{"$f":"INDEX(#REF!, 9 + QUOTIENT(ROW(AL4275)-2, 10), 1 + MOD(ROW(AL4275)-2, 10))","v":{"$error":"#REF!"}}]
[null,null,null,null,null,null,null,null,null,null,null,null,null,null,null,null,null,null,null,null,null,null,null,null,null,null,null,null,null,null,null,null,null,null,2407,"住宅","その他",{"$f":"INDEX(#REF!, 9 + QUOTIENT(ROW(AL4276)-2, 10), 1 + MOD(ROW(AL4276)-2, 10))","v":{"$error":"#REF!"}}]
[null,null,null,null,null,null,null,null,null,null,null,null,null,null,null,null,null,null,null,null,null,null,null,null,null,null,null,null,null,null,null,null,null,null,2407,"非住宅","その他",{"$f":"INDEX(#REF!, 9 + QUOTIENT(ROW(AL4281)-2, 10), 1 + MOD(ROW(AL4281)-2, 10))","v":{"$error":"#REF!"}}]
[null,null,null,null,null,null,null,null,null,null,null,null,null,null,null,null,null,null,null,null,null,null,null,null,null,null,null,null,null,null,null,null,null,null,2408,"住宅","その他",{"$f":"INDEX(#REF!, 9 + QUOTIENT(ROW(AL4286)-2, 10), 1 + MOD(ROW(AL4286)-2, 10))","v":{"$error":"#REF!"}}]
[null,null,null,null,null,null,null,null,null,null,null,null,null,null,null,null,null,null,null,null,null,null,null,null,null,null,null,null,null,null,null,null,null,null,2408,"非住宅","その他",{"$f":"INDEX(#REF!, 9 + QUOTIENT(ROW(AL4291)-2, 10), 1 + MOD(ROW(AL4291)-2, 10))","v":{"$error":"#REF!"}}]
[null,null,null,null,null,null,null,null,null,null,null,null,null,null,null,null,null,null,null,null,null,null,null,null,null,null,null,null,null,null,null,null,null,null,2409,"住宅","木造",{"$f":"INDEX(#REF!, 9 + QUOTIENT(ROW(AL4292)-2, 10), 1 + MOD(ROW(AL4292)-2, 10))","v":{"$error":"#REF!"}}]
[null,null,null,null,null,null,null,null,null,null,null,null,null,null,null,null,null,null,null,null,null,null,null,null,null,null,null,null,null,null,null,null,null,null,2409,"非住宅","木造",{"$f":"INDEX(#REF!, 9 + QUOTIENT(ROW(AL4297)-2, 10), 1 + MOD(ROW(AL4297)-2, 10))","v":{"$error":"#REF!"}}]
[null,null,null,null,null,null,null,null,null,null,null,null,null,null,null,null,null,null,null,null,null,null,null,null,null,null,null,null,null,null,null,null,null,null,2410,"住宅","木造",{"$f":"INDEX(#REF!, 9 + QUOTIENT(ROW(AL4302)-2, 10), 1 + MOD(ROW(AL4302)-2, 10))","v":{"$error":"#REF!"}}]
[null,null,null,null,null,null,null,null,null,null,null,null,null,null,null,null,null,null,null,null,null,null,null,null,null,null,null,null,null,null,null,null,null,null,2410,"非住宅","木造",{"$f":"INDEX(#REF!, 9 + QUOTIENT(ROW(AL4307)-2, 10), 1 + MOD(ROW(AL4307)-2, 10))","v":{"$error":"#REF!"}}]
[null,null,null,null,null,null,null,null,null,null,null,null,null,null,null,null,null,null,null,null,null,null,null,null,null,null,null,null,null,null,null,null,null,null,2410,"非住宅","SRC造",{"$f":"INDEX(#REF!, 9 + QUOTIENT(ROW(AL4308)-2, 10), 1 + MOD(ROW(AL4308)-2, 10))","v":{"$error":"#REF!"}}]
[null,null,null,null,null,null,null,null,null,null,null,null,null,null,null,null,null,null,null,null,null,null,null,null,null,null,null,null,null,null,null,null,null,null,2411,"住宅","SRC造",{"$f":"INDEX(#REF!, 9 + QUOTIENT(ROW(AL4313)-2, 10), 1 + MOD(ROW(AL4313)-2, 10))","v":{"$error":"#REF!"}}]
[null,null,null,null,null,null,null,null,null,null,null,null,null,null,null,null,null,null,null,null,null,null,null,null,null,null,null,null,null,null,null,null,null,null,2411,"非住宅","SRC造",{"$f":"INDEX(#REF!, 9 + QUOTIENT(ROW(AL4318)-2, 10), 1 + MOD(ROW(AL4318)-2, 10))","v":{"$error":"#REF!"}}]
[null,null,null,null,null,null,null,null,null,null,null,null,null,null,null,null,null,null,null,null,null,null,null,null,null,null,null,null,null,null,null,null,null,null,2412,"住宅","SRC造",{"$f":"INDEX(#REF!, 9 + QUOTIENT(ROW(AL4323)-2, 10), 1 + MOD(ROW(AL4323)-2, 10))","v":{"$error":"#REF!"}}]
[null,null,null,null,null,null,null,null,null,null,null,null,null,null,null,null,null,null,null,null,null,null,null,null,null,null,null,null,null,null,null,null,null,null,2412,"住宅","RC造",{"$f":"INDEX(#REF!, 9 + QUOTIENT(ROW(AL4324)-2, 10), 1 + MOD(ROW(AL4324)-2, 10))","v":{"$error":"#REF!"}}]
[null,null,null,null,null,null,null,null,null,null,null,null,null,null,null,null,null,null,null,null,null,null,null,null,null,null,null,null,null,null,null,null,null,null,2412,"非住宅","RC造",{"$f":"INDEX(#REF!, 9 + QUOTIENT(ROW(AL4329)-2, 10), 1 + MOD(ROW(AL4329)-2, 10))","v":{"$error":"#REF!"}}]
[null,null,null,null,null,null,null,null,null,null,null,null,null,null,null,null,null,null,null,null,null,null,null,null,null,null,null,null,null,null,null,null,null,null,2413,"住宅","RC造",{"$f":"INDEX(#REF!, 9 + QUOTIENT(ROW(AL4334)-2, 10), 1 + MOD(ROW(AL4334)-2, 10))","v":{"$error":"#REF!"}}]
[null,null,null,null,null,null,null,null,null,null,null,null,null,null,null,null,null,null,null,null,null,null,null,null,null,null,null,null,null,null,null,null,null,null,2413,"非住宅","RC造",{"$f":"INDEX(#REF!, 9 + QUOTIENT(ROW(AL4339)-2, 10), 1 + MOD(ROW(AL4339)-2, 10))","v":{"$error":"#REF!"}}]
[null,null,null,null,null,null,null,null,null,null,null,null,null,null,null,null,null,null,null,null,null,null,null,null,null,null,null,null,null,null,null,null,null,null,2413,"非住宅","S造",{"$f":"INDEX(#REF!, 9 + QUOTIENT(ROW(AL4340)-2, 10), 1 + MOD(ROW(AL4340)-2, 10))","v":{"$error":"#REF!"}}]
[null,null,null,null,null,null,null,null,null,null,null,null,null,null,null,null,null,null,null,null,null,null,null,null,null,null,null,null,null,null,null,null,null,null,2414,"住宅","S造",{"$f":"INDEX(#REF!, 9 + QUOTIENT(ROW(AL4345)-2, 10), 1 + MOD(ROW(AL4345)-2, 10))","v":{"$error":"#REF!"}}]
[null,null,null,null,null,null,null,null,null,null,null,null,null,null,null,null,null,null,null,null,null,null,null,null,null,null,null,null,null,null,null,null,null,null,2414,"非住宅","S造",{"$f":"INDEX(#REF!, 9 + QUOTIENT(ROW(AL4350)-2, 10), 1 + MOD(ROW(AL4350)-2, 10))","v":{"$error":"#REF!"}}]
[null,null,null,null,null,null,null,null,null,null,null,null,null,null,null,null,null,null,null,null,null,null,null,null,null,null,null,null,null,null,null,null,null,null,2415,"住宅","木造",{"$f":"INDEX(#REF!, 9 + QUOTIENT(ROW(AL4352)-2, 10), 1 + MOD(ROW(AL4352)-2, 10))","v":{"$error":"#REF!"}}]
[null,null,null,null,null,null,null,null,null,null,null,null,null,null,null,null,null,null,null,null,null,null,null,null,null,null,null,null,null,null,null,null,null,null,2415,"住宅","S造",{"$f":"INDEX(#REF!, 9 + QUOTIENT(ROW(AL4355)-2, 10), 1 + MOD(ROW(AL4355)-2, 10))","v":{"$error":"#REF!"}}]
[null,null,null,null,null,null,null,null,null,null,null,null,null,null,null,null,null,null,null,null,null,null,null,null,null,null,null,null,null,null,null,null,null,null,2415,"非住宅","S造",{"$f":"INDEX(#REF!, 9 + QUOTIENT(ROW(AL4360)-2, 10), 1 + MOD(ROW(AL4360)-2, 10))","v":{"$error":"#REF!"}}]
[null,null,null,null,null,null,null,null,null,null,null,null,null,null,null,null,null,null,null,null,null,null,null,null,null,null,null,null,null,null,null,null,null,null,2416,"住宅","S造",{"$f":"INDEX(#REF!, 9 + QUOTIENT(ROW(AL4365)-2, 10), 1 + MOD(ROW(AL4365)-2, 10))","v":{"$error":"#REF!"}}]
[null,null,null,null,null,null,null,null,null,null,null,null,null,null,null,null,null,null,null,null,null,null,null,null,null,null,null,null,null,null,null,null,null,null,2416,"非住宅","S造",{"$f":"INDEX(#REF!, 9 + QUOTIENT(ROW(AL4370)-2, 10), 1 + MOD(ROW(AL4370)-2, 10))","v":{"$error":"#REF!"}}]
[null,null,null,null,null,null,null,null,null,null,null,null,null,null,null,null,null,null,null,null,null,null,null,null,null,null,null,null,null,null,null,null,null,null,2416,"非住宅","その他",{"$f":"INDEX(#REF!, 9 + QUOTIENT(ROW(AL4371)-2, 10), 1 + MOD(ROW(AL4371)-2, 10))","v":{"$error":"#REF!"}}]
[null,null,null,null,null,null,null,null,null,null,null,null,null,null,null,null,null,null,null,null,null,null,null,null,null,null,null,null,null,null,null,null,null,null,2417,"住宅","その他",{"$f":"INDEX(#REF!, 9 + QUOTIENT(ROW(AL4376)-2, 10), 1 + MOD(ROW(AL4376)-2, 10))","v":{"$error":"#REF!"}}]
[null,null,null,null,null,null,null,null,null,null,null,null,null,null,null,null,null,null,null,null,null,null,null,null,null,null,null,null,null,null,null,null,null,null,2417,"非住宅","その他",{"$f":"INDEX(#REF!, 9 + QUOTIENT(ROW(AL4381)-2, 10), 1 + MOD(ROW(AL4381)-2, 10))","v":{"$error":"#REF!"}}]
[null,null,null,null,null,null,null,null,null,null,null,null,null,null,null,null,null,null,null,null,null,null,null,null,null,null,null,null,null,null,null,null,null,null,2418,"住宅","その他",{"$f":"INDEX(#REF!, 9 + QUOTIENT(ROW(AL4386)-2, 10), 1 + MOD(ROW(AL4386)-2, 10))","v":{"$error":"#REF!"}}]
[null,null,null,null,null,null,null,null,null,null,null,null,null,null,null,null,null,null,null,null,null,null,null,null,null,null,null,null,null,null,null,null,null,null,2418,"非住宅","木造",{"$f":"INDEX(#REF!, 9 + QUOTIENT(ROW(AL4387)-2, 10), 1 + MOD(ROW(AL4387)-2, 10))","v":{"$error":"#REF!"}}]
[null,null,null,null,null,null,null,null,null,null,null,null,null,null,null,null,null,null,null,null,null,null,null,null,null,null,null,null,null,null,null,null,null,null,2419,"住宅","木造",{"$f":"INDEX(#REF!, 9 + QUOTIENT(ROW(AL4392)-2, 10), 1 + MOD(ROW(AL4392)-2, 10))","v":{"$error":"#REF!"}}]
[null,null,null,null,null,null,null,null,null,null,null,null,null,null,null,null,null,null,null,null,null,null,null,null,null,null,null,null,null,null,null,null,null,null,2419,"非住宅","木造",{"$f":"INDEX(#REF!, 9 + QUOTIENT(ROW(AL4397)-2, 10), 1 + MOD(ROW(AL4397)-2, 10))","v":{"$error":"#REF!"}}]
[null,null,null,null,null,null,null,null,null,null,null,null,null,null,null,null,null,null,null,null,null,null,null,null,null,null,null,null,null,null,null,null,null,null,2420,"住宅","木造",{"$f":"INDEX(#REF!, 9 + QUOTIENT(ROW(AL4402)-2, 10), 1 + MOD(ROW(AL4402)-2, 10))","v":{"$error":"#REF!"}}]
[null,null,null,null,null,null,null,null,null,null,null,null,null,null,null,null,null,null,null,null,null,null,null,null,null,null,null,null,null,null,null,null,null,null,2420,"住宅","SRC造",{"$f":"INDEX(#REF!, 9 + QUOTIENT(ROW(AL4403)-2, 10), 1 + MOD(ROW(AL4403)-2, 10))","v":{"$error":"#REF!"}}]
[null,null,null,null,null,null,null,null,null,null,null,null,null,null,null,null,null,null,null,null,null,null,null,null,null,null,null,null,null,null,null,null,null,null,2420,"非住宅","SRC造",{"$f":"INDEX(#REF!, 9 + QUOTIENT(ROW(AL4408)-2, 10), 1 + MOD(ROW(AL4408)-2, 10))","v":{"$error":"#REF!"}}]
[null,null,null,null,null,null,null,null,null,null,null,null,null,null,null,null,null,null,null,null,null,null,null,null,null,null,null,null,null,null,null,null,null,null,2421,"住宅","SRC造",{"$f":"INDEX(#REF!, 9 + QUOTIENT(ROW(AL4413)-2, 10), 1 + MOD(ROW(AL4413)-2, 10))","v":{"$error":"#REF!"}}]
[null,null,null,null,null,null,null,null,null,null,null,null,null,null,null,null,null,null,null,null,null,null,null,null,null,null,null,null,null,null,null,null,null,null,2421,"非住宅","SRC造",{"$f":"INDEX(#REF!, 9 + QUOTIENT(ROW(AL4418)-2, 10), 1 + MOD(ROW(AL4418)-2, 10))","v":{"$error":"#REF!"}}]
[null,null,null,null,null,null,null,null,null,null,null,null,null,null,null,null,null,null,null,null,null,null,null,null,null,null,null,null,null,null,null,null,null,null,2421,"非住宅","RC造",{"$f":"INDEX(#REF!, 9 + QUOTIENT(ROW(AL4419)-2, 10), 1 + MOD(ROW(AL4419)-2, 10))","v":{"$error":"#REF!"}}]
[null,null,null,null,null,null,null,null,null,null,null,null,null,null,null,null,null,null,null,null,null,null,null,null,null,null,null,null,null,null,null,null,null,null,2422,"住宅","RC造",{"$f":"INDEX(#REF!, 9 + QUOTIENT(ROW(AL4424)-2, 10), 1 + MOD(ROW(AL4424)-2, 10))","v":{"$error":"#REF!"}}]
[null,null,null,null,null,null,null,null,null,null,null,null,null,null,null,null,null,null,null,null,null,null,null,null,null,null,null,null,null,null,null,null,null,null,2422,"非住宅","RC造",{"$f":"INDEX(#REF!, 9 + QUOTIENT(ROW(AL4429)-2, 10), 1 + MOD(ROW(AL4429)-2, 10))","v":{"$error":"#REF!"}}]
[null,null,null,null,null,null,null,null,null,null,null,null,null,null,null,null,null,null,null,null,null,null,null,null,null,null,null,null,null,null,null,null,null,null,2423,"住宅","RC造",{"$f":"INDEX(#REF!, 9 + QUOTIENT(ROW(AL4434)-2, 10), 1 + MOD(ROW(AL4434)-2, 10))","v":{"$error":"#REF!"}}]
[null,null,null,null,null,null,null,null,null,null,null,null,null,null,null,null,null,null,null,null,null,null,null,null,null,null,null,null,null,null,null,null,null,null,2423,"住宅","S造",{"$f":"INDEX(#REF!, 9 + QUOTIENT(ROW(AL4435)-2, 10), 1 + MOD(ROW(AL4435)-2, 10))","v":{"$error":"#REF!"}}]
[null,null,null,null,null,null,null,null,null,null,null,null,null,null,null,null,null,null,null,null,null,null,null,null,null,null,null,null,null,null,null,null,null,null,2423,"非住宅","S造",{"$f":"INDEX(#REF!, 9 + QUOTIENT(ROW(AL4440)-2, 10), 1 + MOD(ROW(AL4440)-2, 10))","v":{"$error":"#REF!"}}]
[null,null,null,null,null,null,null,null,null,null,null,null,null,null,null,null,null,null,null,null,null,null,null,null,null,null,null,null,null,null,null,null,null,null,2424,"住宅","S造",{"$f":"INDEX(#REF!, 9 + QUOTIENT(ROW(AL4445)-2, 10), 1 + MOD(ROW(AL4445)-2, 10))","v":{"$error":"#REF!"}}]
[null,null,null,null,null,null,null,null,null,null,null,null,null,null,null,null,null,null,null,null,null,null,null,null,null,null,null,null,null,null,null,null,null,null,2424,"非住宅","S造",{"$f":"INDEX(#REF!, 9 + QUOTIENT(ROW(AL4450)-2, 10), 1 + MOD(ROW(AL4450)-2, 10))","v":{"$error":"#REF!"}}]
[null,null,null,null,null,null,null,null,null,null,null,null,null,null,null,null,null,null,null,null,null,null,null,null,null,null,null,null,null,null,null,null,null,null,2424,"非住宅","その他",{"$f":"INDEX(#REF!, 9 + QUOTIENT(ROW(AL4451)-2, 10), 1 + MOD(ROW(AL4451)-2, 10))","v":{"$error":"#REF!"}}]
[null,null,null,null,null,null,null,null,null,null,null,null,null,null,null,null,null,null,null,null,null,null,null,null,null,null,null,null,null,null,null,null,null,null,2425,"住宅","S造",{"$f":"INDEX(#REF!, 9 + QUOTIENT(ROW(AL4455)-2, 10), 1 + MOD(ROW(AL4455)-2, 10))","v":{"$error":"#REF!"}}]
[null,null,null,null,null,null,null,null,null,null,null,null,null,null,null,null,null,null,null,null,null,null,null,null,null,null,null,null,null,null,null,null,null,null,2425,"非住宅","S造",{"$f":"INDEX(#REF!, 9 + QUOTIENT(ROW(AL4460)-2, 10), 1 + MOD(ROW(AL4460)-2, 10))","v":{"$error":"#REF!"}}]
[null,null,null,null,null,null,null,null,null,null,null,null,null,null,null,null,null,null,null,null,null,null,null,null,null,null,null,null,null,null,null,null,null,null,2426,"住宅","S造",{"$f":"INDEX(#REF!, 9 + QUOTIENT(ROW(AL4465)-2, 10), 1 + MOD(ROW(AL4465)-2, 10))","v":{"$error":"#REF!"}}]
[null,null,null,null,null,null,null,null,null,null,null,null,null,null,null,null,null,null,null,null,null,null,null,null,null,null,null,null,null,null,null,null,null,null,2426,"住宅","その他",{"$f":"INDEX(#REF!, 9 + QUOTIENT(ROW(AL4466)-2, 10), 1 + MOD(ROW(AL4466)-2, 10))","v":{"$error":"#REF!"}}]
[null,null,null,null,null,null,null,null,null,null,null,null,null,null,null,null,null,null,null,null,null,null,null,null,null,null,null,null,null,null,null,null,null,null,2426,"非住宅","その他",{"$f":"INDEX(#REF!, 9 + QUOTIENT(ROW(AL4471)-2, 10), 1 + MOD(ROW(AL4471)-2, 10))","v":{"$error":"#REF!"}}]
[null,null,null,null,null,null,null,null,null,null,null,null,null,null,null,null,null,null,null,null,null,null,null,null,null,null,null,null,null,null,null,null,null,null,2427,"住宅","その他",{"$f":"INDEX(#REF!, 9 + QUOTIENT(ROW(AL4476)-2, 10), 1 + MOD(ROW(AL4476)-2, 10))","v":{"$error":"#REF!"}}]
[null,null,null,null,null,null,null,null,null,null,null,null,null,null,null,null,null,null,null,null,null,null,null,null,null,null,null,null,null,null,null,null,null,null,2427,"非住宅","その他",{"$f":"INDEX(#REF!, 9 + QUOTIENT(ROW(AL4481)-2, 10), 1 + MOD(ROW(AL4481)-2, 10))","v":{"$error":"#REF!"}}]
[null,null,null,null,null,null,null,null,null,null,null,null,null,null,null,null,null,null,null,null,null,null,null,null,null,null,null,null,null,null,null,null,null,null,2428,"住宅","木造",{"$f":"INDEX(#REF!, 9 + QUOTIENT(ROW(AL4482)-2, 10), 1 + MOD(ROW(AL4482)-2, 10))","v":{"$error":"#REF!"}}]
[null,null,null,null,null,null,null,null,null,null,null,null,null,null,null,null,null,null,null,null,null,null,null,null,null,null,null,null,null,null,null,null,null,null,2428,"非住宅","木造",{"$f":"INDEX(#REF!, 9 + QUOTIENT(ROW(AL4487)-2, 10), 1 + MOD(ROW(AL4487)-2, 10))","v":{"$error":"#REF!"}}]
[null,null,null,null,null,null,null,null,null,null,null,null,null,null,null,null,null,null,null,null,null,null,null,null,null,null,null,null,null,null,null,null,null,null,2429,"住宅","木造",{"$f":"INDEX(#REF!, 9 + QUOTIENT(ROW(AL4492)-2, 10), 1 + MOD(ROW(AL4492)-2, 10))","v":{"$error":"#REF!"}}]
[null,null,null,null,null,null,null,null,null,null,null,null,null,null,null,null,null,null,null,null,null,null,null,null,null,null,null,null,null,null,null,null,null,null,2429,"非住宅","木造",{"$f":"INDEX(#REF!, 9 + QUOTIENT(ROW(AL4497)-2, 10), 1 + MOD(ROW(AL4497)-2, 10))","v":{"$error":"#REF!"}}]
[null,null,null,null,null,null,null,null,null,null,null,null,null,null,null,null,null,null,null,null,null,null,null,null,null,null,null,null,null,null,null,null,null,null,2429,"非住宅","SRC造",{"$f":"INDEX(#REF!, 9 + QUOTIENT(ROW(AL4498)-2, 10), 1 + MOD(ROW(AL4498)-2, 10))","v":{"$error":"#REF!"}}]
[null,null,null,null,null,null,null,null,null,null,null,null,null,null,null,null,null,null,null,null,null,null,null,null,null,null,null,null,null,null,null,null,null,null,2430,"住宅","SRC造",{"$f":"INDEX(#REF!, 9 + QUOTIENT(ROW(AL4503)-2, 10), 1 + MOD(ROW(AL4503)-2, 10))","v":{"$error":"#REF!"}}]
[null,null,null,null,null,null,null,null,null,null,null,null,null,null,null,null,null,null,null,null,null,null,null,null,null,null,null,null,null,null,null,null,null,null,2430,"非住宅","SRC造",{"$f":"INDEX(#REF!, 9 + QUOTIENT(ROW(AL4508)-2, 10), 1 + MOD(ROW(AL4508)-2, 10))","v":{"$error":"#REF!"}}]
[null,null,null,null,null,null,null,null,null,null,null,null,null,null,null,null,null,null,null,null,null,null,null,null,null,null,null,null,null,null,null,null,null,null,2431,"住宅","SRC造",{"$f":"INDEX(#REF!, 9 + QUOTIENT(ROW(AL4513)-2, 10), 1 + MOD(ROW(AL4513)-2, 10))","v":{"$error":"#REF!"}}]
[null,null,null,null,null,null,null,null,null,null,null,null,null,null,null,null,null,null,null,null,null,null,null,null,null,null,null,null,null,null,null,null,null,null,2431,"住宅","RC造",{"$f":"INDEX(#REF!, 9 + QUOTIENT(ROW(AL4514)-2, 10), 1 + MOD(ROW(AL4514)-2, 10))","v":{"$error":"#REF!"}}]
[null,null,null,null,null,null,null,null,null,null,null,null,null,null,null,null,null,null,null,null,null,null,null,null,null,null,null,null,null,null,null,null,null,null,2431,"非住宅","RC造",{"$f":"INDEX(#REF!, 9 + QUOTIENT(ROW(AL4519)-2, 10), 1 + MOD(ROW(AL4519)-2, 10))","v":{"$error":"#REF!"}}]
[null,null,null,null,null,null,null,null,null,null,null,null,null,null,null,null,null,null,null,null,null,null,null,null,null,null,null,null,null,null,null,null,null,null,2432,"住宅","RC造",{"$f":"INDEX(#REF!, 9 + QUOTIENT(ROW(AL4524)-2, 10), 1 + MOD(ROW(AL4524)-2, 10))","v":{"$error":"#REF!"}}]
[null,null,null,null,null,null,null,null,null,null,null,null,null,null,null,null,null,null,null,null,null,null,null,null,null,null,null,null,null,null,null,null,null,null,2432,"非住宅","RC造",{"$f":"INDEX(#REF!, 9 + QUOTIENT(ROW(AL4529)-2, 10), 1 + MOD(ROW(AL4529)-2, 10))","v":{"$error":"#REF!"}}]
[null,null,null,null,null,null,null,null,null,null,null,null,null,null,null,null,null,null,null,null,null,null,null,null,null,null,null,null,null,null,null,null,null,null,2432,"非住宅","S造",{"$f":"INDEX(#REF!, 9 + QUOTIENT(ROW(AL4530)-2, 10), 1 + MOD(ROW(AL4530)-2, 10))","v":{"$error":"#REF!"}}]
[null,null,null,null,null,null,null,null,null,null,null,null,null,null,null,null,null,null,null,null,null,null,null,null,null,null,null,null,null,null,null,null,null,null,2433,"住宅","S造",{"$f":"INDEX(#REF!, 9 + QUOTIENT(ROW(AL4535)-2, 10), 1 + MOD(ROW(AL4535)-2, 10))","v":{"$error":"#REF!"}}]
[null,null,null,null,null,null,null,null,null,null,null,null,null,null,null,null,null,null,null,null,null,null,null,null,null,null,null,null,null,null,null,null,null,null,2433,"非住宅","S造",{"$f":"INDEX(#REF!, 9 + QUOTIENT(ROW(AL4540)-2, 10), 1 + MOD(ROW(AL4540)-2, 10))","v":{"$error":"#REF!"}}]
[null,null,null,null,null,null,null,null,null,null,null,null,null,null,null,null,null,null,null,null,null,null,null,null,null,null,null,null,null,null,null,null,null,null,2434,"住宅","S造",{"$f":"INDEX(#REF!, 9 + QUOTIENT(ROW(AL4545)-2, 10), 1 + MOD(ROW(AL4545)-2, 10))","v":{"$error":"#REF!"}}]
[null,null,null,null,null,null,null,null,null,null,null,null,null,null,null,null,null,null,null,null,null,null,null,null,null,null,null,null,null,null,null,null,null,null,2434,"住宅","その他",{"$f":"INDEX(#REF!, 9 + QUOTIENT(ROW(AL4546)-2, 10), 1 + MOD(ROW(AL4546)-2, 10))","v":{"$error":"#REF!"}}]
[null,null,null,null,null,null,null,null,null,null,null,null,null,null,null,null,null,null,null,null,null,null,null,null,null,null,null,null,null,null,null,null,null,null,2434,"非住宅","その他",{"$f":"INDEX(#REF!, 9 + QUOTIENT(ROW(AL4551)-2, 10), 1 + MOD(ROW(AL4551)-2, 10))","v":{"$error":"#REF!"}}]
[null,null,null,null,null,null,null,null,null,null,null,null,null,null,null,null,null,null,null,null,null,null,null,null,null,null,null,null,null,null,null,null,null,null,2435,"住宅","S造",{"$f":"INDEX(#REF!, 9 + QUOTIENT(ROW(AL4555)-2, 10), 1 + MOD(ROW(AL4555)-2, 10))","v":{"$error":"#REF!"}}]
[null,null,null,null,null,null,null,null,null,null,null,null,null,null,null,null,null,null,null,null,null,null,null,null,null,null,null,null,null,null,null,null,null,null,2435,"非住宅","S造",{"$f":"INDEX(#REF!, 9 + QUOTIENT(ROW(AL4560)-2, 10), 1 + MOD(ROW(AL4560)-2, 10))","v":{"$error":"#REF!"}}]
[null,null,null,null,null,null,null,null,null,null,null,null,null,null,null,null,null,null,null,null,null,null,null,null,null,null,null,null,null,null,null,null,null,null,2435,"非住宅","その他",{"$f":"INDEX(#REF!, 9 + QUOTIENT(ROW(AL4561)-2, 10), 1 + MOD(ROW(AL4561)-2, 10))","v":{"$error":"#REF!"}}]
[null,null,null,null,null,null,null,null,null,null,null,null,null,null,null,null,null,null,null,null,null,null,null,null,null,null,null,null,null,null,null,null,null,null,2436,"住宅","その他",{"$f":"INDEX(#REF!, 9 + QUOTIENT(ROW(AL4566)-2, 10), 1 + MOD(ROW(AL4566)-2, 10))","v":{"$error":"#REF!"}}]
[null,null,null,null,null,null,null,null,null,null,null,null,null,null,null,null,null,null,null,null,null,null,null,null,null,null,null,null,null,null,null,null,null,null,2436,"非住宅","その他",{"$f":"INDEX(#REF!, 9 + QUOTIENT(ROW(AL4571)-2, 10), 1 + MOD(ROW(AL4571)-2, 10))","v":{"$error":"#REF!"}}]
[null,null,null,null,null,null,null,null,null,null,null,null,null,null,null,null,null,null,null,null,null,null,null,null,null,null,null,null,null,null,null,null,null,null,2437,"住宅","その他",{"$f":"INDEX(#REF!, 9 + QUOTIENT(ROW(AL4576)-2, 10), 1 + MOD(ROW(AL4576)-2, 10))","v":{"$error":"#REF!"}}]
[null,null,null,null,null,null,null,null,null,null,null,null,null,null,null,null,null,null,null,null,null,null,null,null,null,null,null,null,null,null,null,null,null,null,2437,"非住宅","木造",{"$f":"INDEX(#REF!, 9 + QUOTIENT(ROW(AL4577)-2, 10), 1 + MOD(ROW(AL4577)-2, 10))","v":{"$error":"#REF!"}}]
[null,null,null,null,null,null,null,null,null,null,null,null,null,null,null,null,null,null,null,null,null,null,null,null,null,null,null,null,null,null,null,null,null,null,2438,"住宅","木造",{"$f":"INDEX(#REF!, 9 + QUOTIENT(ROW(AL4582)-2, 10), 1 + MOD(ROW(AL4582)-2, 10))","v":{"$error":"#REF!"}}]
[null,null,null,null,null,null,null,null,null,null,null,null,null,null,null,null,null,null,null,null,null,null,null,null,null,null,null,null,null,null,null,null,null,null,2438,"非住宅","木造",{"$f":"INDEX(#REF!, 9 + QUOTIENT(ROW(AL4587)-2, 10), 1 + MOD(ROW(AL4587)-2, 10))","v":{"$error":"#REF!"}}]
[null,null,null,null,null,null,null,null,null,null,null,null,null,null,null,null,null,null,null,null,null,null,null,null,null,null,null,null,null,null,null,null,null,null,2439,"住宅","木造",{"$f":"INDEX(#REF!, 9 + QUOTIENT(ROW(AL4592)-2, 10), 1 + MOD(ROW(AL4592)-2, 10))","v":{"$error":"#REF!"}}]
[null,null,null,null,null,null,null,null,null,null,null,null,null,null,null,null,null,null,null,null,null,null,null,null,null,null,null,null,null,null,null,null,null,null,2439,"住宅","SRC造",{"$f":"INDEX(#REF!, 9 + QUOTIENT(ROW(AL4593)-2, 10), 1 + MOD(ROW(AL4593)-2, 10))","v":{"$error":"#REF!"}}]
[null,null,null,null,null,null,null,null,null,null,null,null,null,null,null,null,null,null,null,null,null,null,null,null,null,null,null,null,null,null,null,null,null,null,2439,"非住宅","SRC造",{"$f":"INDEX(#REF!, 9 + QUOTIENT(ROW(AL4598)-2, 10), 1 + MOD(ROW(AL4598)-2, 10))","v":{"$error":"#REF!"}}]
[null,null,null,null,null,null,null,null,null,null,null,null,null,null,null,null,null,null,null,null,null,null,null,null,null,null,null,null,null,null,null,null,null,null,2440,"住宅","SRC造",{"$f":"INDEX(#REF!, 9 + QUOTIENT(ROW(AL4603)-2, 10), 1 + MOD(ROW(AL4603)-2, 10))","v":{"$error":"#REF!"}}]
[null,null,null,null,null,null,null,null,null,null,null,null,null,null,null,null,null,null,null,null,null,null,null,null,null,null,null,null,null,null,null,null,null,null,2440,"非住宅","SRC造",{"$f":"INDEX(#REF!, 9 + QUOTIENT(ROW(AL4608)-2, 10), 1 + MOD(ROW(AL4608)-2, 10))","v":{"$error":"#REF!"}}]
[null,null,null,null,null,null,null,null,null,null,null,null,null,null,null,null,null,null,null,null,null,null,null,null,null,null,null,null,null,null,null,null,null,null,2440,"非住宅","RC造",{"$f":"INDEX(#REF!, 9 + QUOTIENT(ROW(AL4609)-2, 10), 1 + MOD(ROW(AL4609)-2, 10))","v":{"$error":"#REF!"}}]
[null,null,null,null,null,null,null,null,null,null,null,null,null,null,null,null,null,null,null,null,null,null,null,null,null,null,null,null,null,null,null,null,null,null,2441,"住宅","RC造",{"$f":"INDEX(#REF!, 9 + QUOTIENT(ROW(AL4614)-2, 10), 1 + MOD(ROW(AL4614)-2, 10))","v":{"$error":"#REF!"}}]
[null,null,null,null,null,null,null,null,null,null,null,null,null,null,null,null,null,null,null,null,null,null,null,null,null,null,null,null,null,null,null,null,null,null,2441,"非住宅","RC造",{"$f":"INDEX(#REF!, 9 + QUOTIENT(ROW(AL4619)-2, 10), 1 + MOD(ROW(AL4619)-2, 10))","v":{"$error":"#REF!"}}]
[null,null,null,null,null,null,null,null,null,null,null,null,null,null,null,null,null,null,null,null,null,null,null,null,null,null,null,null,null,null,null,null,null,null,2442,"住宅","RC造",{"$f":"INDEX(#REF!, 9 + QUOTIENT(ROW(AL4624)-2, 10), 1 + MOD(ROW(AL4624)-2, 10))","v":{"$error":"#REF!"}}]
[null,null,null,null,null,null,null,null,null,null,null,null,null,null,null,null,null,null,null,null,null,null,null,null,null,null,null,null,null,null,null,null,null,null,2442,"住宅","S造",{"$f":"INDEX(#REF!, 9 + QUOTIENT(ROW(AL4625)-2, 10), 1 + MOD(ROW(AL4625)-2, 10))","v":{"$error":"#REF!"}}]
[null,null,null,null,null,null,null,null,null,null,null,null,null,null,null,null,null,null,null,null,null,null,null,null,null,null,null,null,null,null,null,null,null,null,2442,"非住宅","S造",{"$f":"INDEX(#REF!, 9 + QUOTIENT(ROW(AL4630)-2, 10), 1 + MOD(ROW(AL4630)-2, 10))","v":{"$error":"#REF!"}}]
[null,null,null,null,null,null,null,null,null,null,null,null,null,null,null,null,null,null,null,null,null,null,null,null,null,null,null,null,null,null,null,null,null,null,2443,"住宅","S造",{"$f":"INDEX(#REF!, 9 + QUOTIENT(ROW(AL4635)-2, 10), 1 + MOD(ROW(AL4635)-2, 10))","v":{"$error":"#REF!"}}]
[null,null,null,null,null,null,null,null,null,null,null,null,null,null,null,null,null,null,null,null,null,null,null,null,null,null,null,null,null,null,null,null,null,null,2443,"非住宅","S造",{"$f":"INDEX(#REF!, 9 + QUOTIENT(ROW(AL4640)-2, 10), 1 + MOD(ROW(AL4640)-2, 10))","v":{"$error":"#REF!"}}]
[null,null,null,null,null,null,null,null,null,null,null,null,null,null,null,null,null,null,null,null,null,null,null,null,null,null,null,null,null,null,null,null,null,null,2443,"非住宅","その他",{"$f":"INDEX(#REF!, 9 + QUOTIENT(ROW(AL4641)-2, 10), 1 + MOD(ROW(AL4641)-2, 10))","v":{"$error":"#REF!"}}]
[null,null,null,null,null,null,null,null,null,null,null,null,null,null,null,null,null,null,null,null,null,null,null,null,null,null,null,null,null,null,null,null,null,null,2444,"住宅","その他",{"$f":"INDEX(#REF!, 9 + QUOTIENT(ROW(AL4646)-2, 10), 1 + MOD(ROW(AL4646)-2, 10))","v":{"$error":"#REF!"}}]
[null,null,null,null,null,null,null,null,null,null,null,null,null,null,null,null,null,null,null,null,null,null,null,null,null,null,null,null,null,null,null,null,null,null,2444,"非住宅","その他",{"$f":"INDEX(#REF!, 9 + QUOTIENT(ROW(AL4651)-2, 10), 1 + MOD(ROW(AL4651)-2, 10))","v":{"$error":"#REF!"}}]
[null,null,null,null,null,null,null,null,null,null,null,null,null,null,null,null,null,null,null,null,null,null,null,null,null,null,null,null,null,null,null,null,null,null,2445,"住宅","その他",{"$f":"INDEX(#REF!, 9 + QUOTIENT(ROW(AL4656)-2, 10), 1 + MOD(ROW(AL4656)-2, 10))","v":{"$error":"#REF!"}}]
[null,null,null,null,null,null,null,null,null,null,null,null,null,null,null,null,null,null,null,null,null,null,null,null,null,null,null,null,null,null,null,null,null,null,2445,"非住宅","RC造",{"$f":"INDEX(#REF!, 9 + QUOTIENT(ROW(AL4659)-2, 10), 1 + MOD(ROW(AL4659)-2, 10))","v":{"$error":"#REF!"}}]
[null,null,null,null,null,null,null,null,null,null,null,null,null,null,null,null,null,null,null,null,null,null,null,null,null,null,null,null,null,null,null,null,null,null,2445,"非住宅","その他",{"$f":"INDEX(#REF!, 9 + QUOTIENT(ROW(AL4661)-2, 10), 1 + MOD(ROW(AL4661)-2, 10))","v":{"$error":"#REF!"}}]
[null,null,null,null,null,null,null,null,null,null,null,null,null,null,null,null,null,null,null,null,null,null,null,null,null,null,null,null,null,null,null,null,null,null,2446,"住宅","その他",{"$f":"INDEX(#REF!, 9 + QUOTIENT(ROW(AL4666)-2, 10), 1 + MOD(ROW(AL4666)-2, 10))","v":{"$error":"#REF!"}}]
[null,null,null,null,null,null,null,null,null,null,null,null,null,null,null,null,null,null,null,null,null,null,null,null,null,null,null,null,null,null,null,null,null,null,2446,"非住宅","その他",{"$f":"INDEX(#REF!, 9 + QUOTIENT(ROW(AL4671)-2, 10), 1 + MOD(ROW(AL4671)-2, 10))","v":{"$error":"#REF!"}}]
[null,null,null,null,null,null,null,null,null,null,null,null,null,null,null,null,null,null,null,null,null,null,null,null,null,null,null,null,null,null,null,null,null,null,2447,"住宅","木造",{"$f":"INDEX(#REF!, 9 + QUOTIENT(ROW(AL4672)-2, 10), 1 + MOD(ROW(AL4672)-2, 10))","v":{"$error":"#REF!"}}]
[null,null,null,null,null,null,null,null,null,null,null,null,null,null,null,null,null,null,null,null,null,null,null,null,null,null,null,null,null,null,null,null,null,null,2447,"非住宅","木造",{"$f":"INDEX(#REF!, 9 + QUOTIENT(ROW(AL4677)-2, 10), 1 + MOD(ROW(AL4677)-2, 10))","v":{"$error":"#REF!"}}]
[null,null,null,null,null,null,null,null,null,null,null,null,null,null,null,null,null,null,null,null,null,null,null,null,null,null,null,null,null,null,null,null,null,null,2448,"住宅","木造",{"$f":"INDEX(#REF!, 9 + QUOTIENT(ROW(AL4682)-2, 10), 1 + MOD(ROW(AL4682)-2, 10))","v":{"$error":"#REF!"}}]
[null,null,null,null,null,null,null,null,null,null,null,null,null,null,null,null,null,null,null,null,null,null,null,null,null,null,null,null,null,null,null,null,null,null,2448,"非住宅","木造",{"$f":"INDEX(#REF!, 9 + QUOTIENT(ROW(AL4687)-2, 10), 1 + MOD(ROW(AL4687)-2, 10))","v":{"$error":"#REF!"}}]
[null,null,null,null,null,null,null,null,null,null,null,null,null,null,null,null,null,null,null,null,null,null,null,null,null,null,null,null,null,null,null,null,null,null,2448,"非住宅","SRC造",{"$f":"INDEX(#REF!, 9 + QUOTIENT(ROW(AL4688)-2, 10), 1 + MOD(ROW(AL4688)-2, 10))","v":{"$error":"#REF!"}}]
[null,null,null,null,null,null,null,null,null,null,null,null,null,null,null,null,null,null,null,null,null,null,null,null,null,null,null,null,null,null,null,null,null,null,2449,"住宅","SRC造",{"$f":"INDEX(#REF!, 9 + QUOTIENT(ROW(AL4693)-2, 10), 1 + MOD(ROW(AL4693)-2, 10))","v":{"$error":"#REF!"}}]
[null,null,null,null,null,null,null,null,null,null,null,null,null,null,null,null,null,null,null,null,null,null,null,null,null,null,null,null,null,null,null,null,null,null,2449,"非住宅","SRC造",{"$f":"INDEX(#REF!, 9 + QUOTIENT(ROW(AL4698)-2, 10), 1 + MOD(ROW(AL4698)-2, 10))","v":{"$error":"#REF!"}}]
[null,null,null,null,null,null,null,null,null,null,null,null,null,null,null,null,null,null,null,null,null,null,null,null,null,null,null,null,null,null,null,null,null,null,2450,"住宅","SRC造",{"$f":"INDEX(#REF!, 9 + QUOTIENT(ROW(AL4703)-2, 10), 1 + MOD(ROW(AL4703)-2, 10))","v":{"$error":"#REF!"}}]
[null,null,null,null,null,null,null,null,null,null,null,null,null,null,null,null,null,null,null,null,null,null,null,null,null,null,null,null,null,null,null,null,null,null,2450,"住宅","RC造",{"$f":"INDEX(#REF!, 9 + QUOTIENT(ROW(AL4704)-2, 10), 1 + MOD(ROW(AL4704)-2, 10))","v":{"$error":"#REF!"}}]
[null,null,null,null,null,null,null,null,null,null,null,null,null,null,null,null,null,null,null,null,null,null,null,null,null,null,null,null,null,null,null,null,null,null,2450,"非住宅","RC造",{"$f":"INDEX(#REF!, 9 + QUOTIENT(ROW(AL4709)-2, 10), 1 + MOD(ROW(AL4709)-2, 10))","v":{"$error":"#REF!"}}]
[null,null,null,null,null,null,null,null,null,null,null,null,null,null,null,null,null,null,null,null,null,null,null,null,null,null,null,null,null,null,null,null,null,null,2451,"住宅","RC造",{"$f":"INDEX(#REF!, 9 + QUOTIENT(ROW(AL4714)-2, 10), 1 + MOD(ROW(AL4714)-2, 10))","v":{"$error":"#REF!"}}]
[null,null,null,null,null,null,null,null,null,null,null,null,null,null,null,null,null,null,null,null,null,null,null,null,null,null,null,null,null,null,null,null,null,null,2451,"非住宅","RC造",{"$f":"INDEX(#REF!, 9 + QUOTIENT(ROW(AL4719)-2, 10), 1 + MOD(ROW(AL4719)-2, 10))","v":{"$error":"#REF!"}}]
[null,null,null,null,null,null,null,null,null,null,null,null,null,null,null,null,null,null,null,null,null,null,null,null,null,null,null,null,null,null,null,null,null,null,2451,"非住宅","S造",{"$f":"INDEX(#REF!, 9 + QUOTIENT(ROW(AL4720)-2, 10), 1 + MOD(ROW(AL4720)-2, 10))","v":{"$error":"#REF!"}}]
[null,null,null,null,null,null,null,null,null,null,null,null,null,null,null,null,null,null,null,null,null,null,null,null,null,null,null,null,null,null,null,null,null,null,2452,"住宅","S造",{"$f":"INDEX(#REF!, 9 + QUOTIENT(ROW(AL4725)-2, 10), 1 + MOD(ROW(AL4725)-2, 10))","v":{"$error":"#REF!"}}]
[null,null,null,null,null,null,null,null,null,null,null,null,null,null,null,null,null,null,null,null,null,null,null,null,null,null,null,null,null,null,null,null,null,null,2452,"非住宅","S造",{"$f":"INDEX(#REF!, 9 + QUOTIENT(ROW(AL4730)-2, 10), 1 + MOD(ROW(AL4730)-2, 10))","v":{"$error":"#REF!"}}]
[null,null,null,null,null,null,null,null,null,null,null,null,null,null,null,null,null,null,null,null,null,null,null,null,null,null,null,null,null,null,null,null,null,null,2453,"住宅","S造",{"$f":"INDEX(#REF!, 9 + QUOTIENT(ROW(AL4735)-2, 10), 1 + MOD(ROW(AL4735)-2, 10))","v":{"$error":"#REF!"}}]
[null,null,null,null,null,null,null,null,null,null,null,null,null,null,null,null,null,null,null,null,null,null,null,null,null,null,null,null,null,null,null,null,null,null,2453,"住宅","その他",{"$f":"INDEX(#REF!, 9 + QUOTIENT(ROW(AL4736)-2, 10), 1 + MOD(ROW(AL4736)-2, 10))","v":{"$error":"#REF!"}}]
[null,null,null,null,null,null,null,null,null,null,null,null,null,null,null,null,null,null,null,null,null,null,null,null,null,null,null,null,null,null,null,null,null,null,2453,"非住宅","その他",{"$f":"INDEX(#REF!, 9 + QUOTIENT(ROW(AL4741)-2, 10), 1 + MOD(ROW(AL4741)-2, 10))","v":{"$error":"#REF!"}}]
[null,null,null,null,null,null,null,null,null,null,null,null,null,null,null,null,null,null,null,null,null,null,null,null,null,null,null,null,null,null,null,null,null,null,2454,"住宅","その他",{"$f":"INDEX(#REF!, 9 + QUOTIENT(ROW(AL4746)-2, 10), 1 + MOD(ROW(AL4746)-2, 10))","v":{"$error":"#REF!"}}]
[null,null,null,null,null,null,null,null,null,null,null,null,null,null,null,null,null,null,null,null,null,null,null,null,null,null,null,null,null,null,null,null,null,null,2454,"非住宅","その他",{"$f":"INDEX(#REF!, 9 + QUOTIENT(ROW(AL4751)-2, 10), 1 + MOD(ROW(AL4751)-2, 10))","v":{"$error":"#REF!"}}]
[null,null,null,null,null,null,null,null,null,null,null,null,null,null,null,null,null,null,null,null,null,null,null,null,null,null,null,null,null,null,null,null,null,null,2455,"住宅","木造",{"$f":"INDEX(#REF!, 9 + QUOTIENT(ROW(AL4752)-2, 10), 1 + MOD(ROW(AL4752)-2, 10))","v":{"$error":"#REF!"}}]
[null,null,null,null,null,null,null,null,null,null,null,null,null,null,null,null,null,null,null,null,null,null,null,null,null,null,null,null,null,null,null,null,null,null,2455,"住宅","その他",{"$f":"INDEX(#REF!, 9 + QUOTIENT(ROW(AL4756)-2, 10), 1 + MOD(ROW(AL4756)-2, 10))","v":{"$error":"#REF!"}}]
[null,null,null,null,null,null,null,null,null,null,null,null,null,null,null,null,null,null,null,null,null,null,null,null,null,null,null,null,null,null,null,null,null,null,2455,"非住宅","その他",{"$f":"INDEX(#REF!, 9 + QUOTIENT(ROW(AL4761)-2, 10), 1 + MOD(ROW(AL4761)-2, 10))","v":{"$error":"#REF!"}}]
[null,null,null,null,null,null,null,null,null,null,null,null,null,null,null,null,null,null,null,null,null,null,null,null,null,null,null,null,null,null,null,null,null,null,2456,"住宅","その他",{"$f":"INDEX(#REF!, 9 + QUOTIENT(ROW(AL4766)-2, 10), 1 + MOD(ROW(AL4766)-2, 10))","v":{"$error":"#REF!"}}]
[null,null,null,null,null,null,null,null,null,null,null,null,null,null,null,null,null,null,null,null,null,null,null,null,null,null,null,null,null,null,null,null,null,null,2456,"非住宅","木造",{"$f":"INDEX(#REF!, 9 + QUOTIENT(ROW(AL4767)-2, 10), 1 + MOD(ROW(AL4767)-2, 10))","v":{"$error":"#REF!"}}]
[null,null,null,null,null,null,null,null,null,null,null,null,null,null,null,null,null,null,null,null,null,null,null,null,null,null,null,null,null,null,null,null,null,null,2457,"住宅","木造",{"$f":"INDEX(#REF!, 9 + QUOTIENT(ROW(AL4772)-2, 10), 1 + MOD(ROW(AL4772)-2, 10))","v":{"$error":"#REF!"}}]
[null,null,null,null,null,null,null,null,null,null,null,null,null,null,null,null,null,null,null,null,null,null,null,null,null,null,null,null,null,null,null,null,null,null,2457,"非住宅","木造",{"$f":"INDEX(#REF!, 9 + QUOTIENT(ROW(AL4777)-2, 10), 1 + MOD(ROW(AL4777)-2, 10))","v":{"$error":"#REF!"}}]
[null,null,null,null,null,null,null,null,null,null,null,null,null,null,null,null,null,null,null,null,null,null,null,null,null,null,null,null,null,null,null,null,null,null,2458,"住宅","木造",{"$f":"INDEX(#REF!, 9 + QUOTIENT(ROW(AL4782)-2, 10), 1 + MOD(ROW(AL4782)-2, 10))","v":{"$error":"#REF!"}}]
[null,null,null,null,null,null,null,null,null,null,null,null,null,null,null,null,null,null,null,null,null,null,null,null,null,null,null,null,null,null,null,null,null,null,2458,"住宅","SRC造",{"$f":"INDEX(#REF!, 9 + QUOTIENT(ROW(AL4783)-2, 10), 1 + MOD(ROW(AL4783)-2, 10))","v":{"$error":"#REF!"}}]
[null,null,null,null,null,null,null,null,null,null,null,null,null,null,null,null,null,null,null,null,null,null,null,null,null,null,null,null,null,null,null,null,null,null,2458,"非住宅","SRC造",{"$f":"INDEX(#REF!, 9 + QUOTIENT(ROW(AL4788)-2, 10), 1 + MOD(ROW(AL4788)-2, 10))","v":{"$error":"#REF!"}}]
[null,null,null,null,null,null,null,null,null,null,null,null,null,null,null,null,null,null,null,null,null,null,null,null,null,null,null,null,null,null,null,null,null,null,2459,"住宅","SRC造",{"$f":"INDEX(#REF!, 9 + QUOTIENT(ROW(AL4793)-2, 10), 1 + MOD(ROW(AL4793)-2, 10))","v":{"$error":"#REF!"}}]
[null,null,null,null,null,null,null,null,null,null,null,null,null,null,null,null,null,null,null,null,null,null,null,null,null,null,null,null,null,null,null,null,null,null,2459,"非住宅","SRC造",{"$f":"INDEX(#REF!, 9 + QUOTIENT(ROW(AL4798)-2, 10), 1 + MOD(ROW(AL4798)-2, 10))","v":{"$error":"#REF!"}}]
[null,null,null,null,null,null,null,null,null,null,null,null,null,null,null,null,null,null,null,null,null,null,null,null,null,null,null,null,null,null,null,null,null,null,2459,"非住宅","RC造",{"$f":"INDEX(#REF!, 9 + QUOTIENT(ROW(AL4799)-2, 10), 1 + MOD(ROW(AL4799)-2, 10))","v":{"$error":"#REF!"}}]
[null,null,null,null,null,null,null,null,null,null,null,null,null,null,null,null,null,null,null,null,null,null,null,null,null,null,null,null,null,null,null,null,null,null,2460,"住宅","RC造",{"$f":"INDEX(#REF!, 9 + QUOTIENT(ROW(AL4804)-2, 10), 1 + MOD(ROW(AL4804)-2, 10))","v":{"$error":"#REF!"}}]
[null,null,null,null,null,null,null,null,null,null,null,null,null,null,null,null,null,null,null,null,null,null,null,null,null,null,null,null,null,null,null,null,null,null,2460,"非住宅","RC造",{"$f":"INDEX(#REF!, 9 + QUOTIENT(ROW(AL4809)-2, 10), 1 + MOD(ROW(AL4809)-2, 10))","v":{"$error":"#REF!"}}]
[null,null,null,null,null,null,null,null,null,null,null,null,null,null,null,null,null,null,null,null,null,null,null,null,null,null,null,null,null,null,null,null,null,null,2461,"住宅","RC造",{"$f":"INDEX(#REF!, 9 + QUOTIENT(ROW(AL4814)-2, 10), 1 + MOD(ROW(AL4814)-2, 10))","v":{"$error":"#REF!"}}]
[null,null,null,null,null,null,null,null,null,null,null,null,null,null,null,null,null,null,null,null,null,null,null,null,null,null,null,null,null,null,null,null,null,null,2461,"住宅","S造",{"$f":"INDEX(#REF!, 9 + QUOTIENT(ROW(AL4815)-2, 10), 1 + MOD(ROW(AL4815)-2, 10))","v":{"$error":"#REF!"}}]
[null,null,null,null,null,null,null,null,null,null,null,null,null,null,null,null,null,null,null,null,null,null,null,null,null,null,null,null,null,null,null,null,null,null,2461,"非住宅","S造",{"$f":"INDEX(#REF!, 9 + QUOTIENT(ROW(AL4820)-2, 10), 1 + MOD(ROW(AL4820)-2, 10))","v":{"$error":"#REF!"}}]
[null,null,null,null,null,null,null,null,null,null,null,null,null,null,null,null,null,null,null,null,null,null,null,null,null,null,null,null,null,null,null,null,null,null,2462,"住宅","S造",{"$f":"INDEX(#REF!, 9 + QUOTIENT(ROW(AL4825)-2, 10), 1 + MOD(ROW(AL4825)-2, 10))","v":{"$error":"#REF!"}}]
[null,null,null,null,null,null,null,null,null,null,null,null,null,null,null,null,null,null,null,null,null,null,null,null,null,null,null,null,null,null,null,null,null,null,2462,"非住宅","S造",{"$f":"INDEX(#REF!, 9 + QUOTIENT(ROW(AL4830)-2, 10), 1 + MOD(ROW(AL4830)-2, 10))","v":{"$error":"#REF!"}}]
[null,null,null,null,null,null,null,null,null,null,null,null,null,null,null,null,null,null,null,null,null,null,null,null,null,null,null,null,null,null,null,null,null,null,2462,"非住宅","その他",{"$f":"INDEX(#REF!, 9 + QUOTIENT(ROW(AL4831)-2, 10), 1 + MOD(ROW(AL4831)-2, 10))","v":{"$error":"#REF!"}}]
[null,null,null,null,null,null,null,null,null,null,null,null,null,null,null,null,null,null,null,null,null,null,null,null,null,null,null,null,null,null,null,null,null,null,2463,"住宅","その他",{"$f":"INDEX(#REF!, 9 + QUOTIENT(ROW(AL4836)-2, 10), 1 + MOD(ROW(AL4836)-2, 10))","v":{"$error":"#REF!"}}]
[null,null,null,null,null,null,null,null,null,null,null,null,null,null,null,null,null,null,null,null,null,null,null,null,null,null,null,null,null,null,null,null,null,null,2463,"非住宅","その他",{"$f":"INDEX(#REF!, 9 + QUOTIENT(ROW(AL4841)-2, 10), 1 + MOD(ROW(AL4841)-2, 10))","v":{"$error":"#REF!"}}]
[null,null,null,null,null,null,null,null,null,null,null,null,null,null,null,null,null,null,null,null,null,null,null,null,null,null,null,null,null,null,null,null,null,null,2464,"住宅","その他",{"$f":"INDEX(#REF!, 9 + QUOTIENT(ROW(AL4846)-2, 10), 1 + MOD(ROW(AL4846)-2, 10))","v":{"$error":"#REF!"}}]
[null,null,null,null,null,null,null,null,null,null,null,null,null,null,null,null,null,null,null,null,null,null,null,null,null,null,null,null,null,null,null,null,null,null,2464,"非住宅","木造",{"$f":"INDEX(#REF!, 9 + QUOTIENT(ROW(AL4847)-2, 10), 1 + MOD(ROW(AL4847)-2, 10))","v":{"$error":"#REF!"}}]
[null,null,null,null,null,null,null,null,null,null,null,null,null,null,null,null,null,null,null,null,null,null,null,null,null,null,null,null,null,null,null,null,null,null,2465,"住宅","木造",{"$f":"INDEX(#REF!, 9 + QUOTIENT(ROW(AL4852)-2, 10), 1 + MOD(ROW(AL4852)-2, 10))","v":{"$error":"#REF!"}}]
[null,null,null,null,null,null,null,null,null,null,null,null,null,null,null,null,null,null,null,null,null,null,null,null,null,null,null,null,null,null,null,null,null,null,2465,"非住宅","木造",{"$f":"INDEX(#REF!, 9 + QUOTIENT(ROW(AL4857)-2, 10), 1 + MOD(ROW(AL4857)-2, 10))","v":{"$error":"#REF!"}}]
[null,null,null,null,null,null,null,null,null,null,null,null,null,null,null,null,null,null,null,null,null,null,null,null,null,null,null,null,null,null,null,null,null,null,2465,"非住宅","S造",{"$f":"INDEX(#REF!, 9 + QUOTIENT(ROW(AL4860)-2, 10), 1 + MOD(ROW(AL4860)-2, 10))","v":{"$error":"#REF!"}}]
[null,null,null,null,null,null,null,null,null,null,null,null,null,null,null,null,null,null,null,null,null,null,null,null,null,null,null,null,null,null,null,null,null,null,2466,"住宅","木造",{"$f":"INDEX(#REF!, 9 + QUOTIENT(ROW(AL4862)-2, 10), 1 + MOD(ROW(AL4862)-2, 10))","v":{"$error":"#REF!"}}]
[null,null,null,null,null,null,null,null,null,null,null,null,null,null,null,null,null,null,null,null,null,null,null,null,null,null,null,null,null,null,null,null,null,null,2466,"非住宅","木造",{"$f":"INDEX(#REF!, 9 + QUOTIENT(ROW(AL4867)-2, 10), 1 + MOD(ROW(AL4867)-2, 10))","v":{"$error":"#REF!"}}]
[null,null,null,null,null,null,null,null,null,null,null,null,null,null,null,null,null,null,null,null,null,null,null,null,null,null,null,null,null,null,null,null,null,null,2467,"住宅","木造",{"$f":"INDEX(#REF!, 9 + QUOTIENT(ROW(AL4872)-2, 10), 1 + MOD(ROW(AL4872)-2, 10))","v":{"$error":"#REF!"}}]
[null,null,null,null,null,null,null,null,null,null,null,null,null,null,null,null,null,null,null,null,null,null,null,null,null,null,null,null,null,null,null,null,null,null,2467,"非住宅","木造",{"$f":"INDEX(#REF!, 9 + QUOTIENT(ROW(AL4877)-2, 10), 1 + MOD(ROW(AL4877)-2, 10))","v":{"$error":"#REF!"}}]
[null,null,null,null,null,null,null,null,null,null,null,null,null,null,null,null,null,null,null,null,null,null,null,null,null,null,null,null,null,null,null,null,null,null,2467,"非住宅","SRC造",{"$f":"INDEX(#REF!, 9 + QUOTIENT(ROW(AL4878)-2, 10), 1 + MOD(ROW(AL4878)-2, 10))","v":{"$error":"#REF!"}}]
[null,null,null,null,null,null,null,null,null,null,null,null,null,null,null,null,null,null,null,null,null,null,null,null,null,null,null,null,null,null,null,null,null,null,2468,"住宅","SRC造",{"$f":"INDEX(#REF!, 9 + QUOTIENT(ROW(AL4883)-2, 10), 1 + MOD(ROW(AL4883)-2, 10))","v":{"$error":"#REF!"}}]
[null,null,null,null,null,null,null,null,null,null,null,null,null,null,null,null,null,null,null,null,null,null,null,null,null,null,null,null,null,null,null,null,null,null,2468,"非住宅","SRC造",{"$f":"INDEX(#REF!, 9 + QUOTIENT(ROW(AL4888)-2, 10), 1 + MOD(ROW(AL4888)-2, 10))","v":{"$error":"#REF!"}}]
[null,null,null,null,null,null,null,null,null,null,null,null,null,null,null,null,null,null,null,null,null,null,null,null,null,null,null,null,null,null,null,null,null,null,2469,"住宅","SRC造",{"$f":"INDEX(#REF!, 9 + QUOTIENT(ROW(AL4893)-2, 10), 1 + MOD(ROW(AL4893)-2, 10))","v":{"$error":"#REF!"}}]
[null,null,null,null,null,null,null,null,null,null,null,null,null,null,null,null,null,null,null,null,null,null,null,null,null,null,null,null,null,null,null,null,null,null,2469,"住宅","RC造",{"$f":"INDEX(#REF!, 9 + QUOTIENT(ROW(AL4894)-2, 10), 1 + MOD(ROW(AL4894)-2, 10))","v":{"$error":"#REF!"}}]
[null,null,null,null,null,null,null,null,null,null,null,null,null,null,null,null,null,null,null,null,null,null,null,null,null,null,null,null,null,null,null,null,null,null,2469,"非住宅","RC造",{"$f":"INDEX(#REF!, 9 + QUOTIENT(ROW(AL4899)-2, 10), 1 + MOD(ROW(AL4899)-2, 10))","v":{"$error":"#REF!"}}]
[null,null,null,null,null,null,null,null,null,null,null,null,null,null,null,null,null,null,null,null,null,null,null,null,null,null,null,null,null,null,null,null,null,null,2470,"住宅","RC造",{"$f":"INDEX(#REF!, 9 + QUOTIENT(ROW(AL4904)-2, 10), 1 + MOD(ROW(AL4904)-2, 10))","v":{"$error":"#REF!"}}]
[null,null,null,null,null,null,null,null,null,null,null,null,null,null,null,null,null,null,null,null,null,null,null,null,null,null,null,null,null,null,null,null,null,null,2470,"非住宅","RC造",{"$f":"INDEX(#REF!, 9 + QUOTIENT(ROW(AL4909)-2, 10), 1 + MOD(ROW(AL4909)-2, 10))","v":{"$error":"#REF!"}}]
[null,null,null,null,null,null,null,null,null,null,null,null,null,null,null,null,null,null,null,null,null,null,null,null,null,null,null,null,null,null,null,null,null,null,2470,"非住宅","S造",{"$f":"INDEX(#REF!, 9 + QUOTIENT(ROW(AL4910)-2, 10), 1 + MOD(ROW(AL4910)-2, 10))","v":{"$error":"#REF!"}}]
[null,null,null,null,null,null,null,null,null,null,null,null,null,null,null,null,null,null,null,null,null,null,null,null,null,null,null,null,null,null,null,null,null,null,2471,"住宅","S造",{"$f":"INDEX(#REF!, 9 + QUOTIENT(ROW(AL4915)-2, 10), 1 + MOD(ROW(AL4915)-2, 10))","v":{"$error":"#REF!"}}]
[null,null,null,null,null,null,null,null,null,null,null,null,null,null,null,null,null,null,null,null,null,null,null,null,null,null,null,null,null,null,null,null,null,null,2471,"非住宅","S造",{"$f":"INDEX(#REF!, 9 + QUOTIENT(ROW(AL4920)-2, 10), 1 + MOD(ROW(AL4920)-2, 10))","v":{"$error":"#REF!"}}]
[null,null,null,null,null,null,null,null,null,null,null,null,null,null,null,null,null,null,null,null,null,null,null,null,null,null,null,null,null,null,null,null,null,null,2472,"住宅","S造",{"$f":"INDEX(#REF!, 9 + QUOTIENT(ROW(AL4925)-2, 10), 1 + MOD(ROW(AL4925)-2, 10))","v":{"$error":"#REF!"}}]
[null,null,null,null,null,null,null,null,null,null,null,null,null,null,null,null,null,null,null,null,null,null,null,null,null,null,null,null,null,null,null,null,null,null,2472,"住宅","その他",{"$f":"INDEX(#REF!, 9 + QUOTIENT(ROW(AL4926)-2, 10), 1 + MOD(ROW(AL4926)-2, 10))","v":{"$error":"#REF!"}}]
[null,null,null,null,null,null,null,null,null,null,null,null,null,null,null,null,null,null,null,null,null,null,null,null,null,null,null,null,null,null,null,null,null,null,2472,"非住宅","その他",{"$f":"INDEX(#REF!, 9 + QUOTIENT(ROW(AL4931)-2, 10), 1 + MOD(ROW(AL4931)-2, 10))","v":{"$error":"#REF!"}}]
[null,null,null,null,null,null,null,null,null,null,null,null,null,null,null,null,null,null,null,null,null,null,null,null,null,null,null,null,null,null,null,null,null,null,2473,"住宅","その他",{"$f":"INDEX(#REF!, 9 + QUOTIENT(ROW(AL4936)-2, 10), 1 + MOD(ROW(AL4936)-2, 10))","v":{"$error":"#REF!"}}]
[null,null,null,null,null,null,null,null,null,null,null,null,null,null,null,null,null,null,null,null,null,null,null,null,null,null,null,null,null,null,null,null,null,null,2473,"非住宅","その他",{"$f":"INDEX(#REF!, 9 + QUOTIENT(ROW(AL4941)-2, 10), 1 + MOD(ROW(AL4941)-2, 10))","v":{"$error":"#REF!"}}]
[null,null,null,null,null,null,null,null,null,null,null,null,null,null,null,null,null,null,null,null,null,null,null,null,null,null,null,null,null,null,null,null,null,null,2474,"住宅","木造",{"$f":"INDEX(#REF!, 9 + QUOTIENT(ROW(AL4942)-2, 10), 1 + MOD(ROW(AL4942)-2, 10))","v":{"$error":"#REF!"}}]
[null,null,null,null,null,null,null,null,null,null,null,null,null,null,null,null,null,null,null,null,null,null,null,null,null,null,null,null,null,null,null,null,null,null,2474,"非住宅","木造",{"$f":"INDEX(#REF!, 9 + QUOTIENT(ROW(AL4947)-2, 10), 1 + MOD(ROW(AL4947)-2, 10))","v":{"$error":"#REF!"}}]
[null,null,null,null,null,null,null,null,null,null,null,null,null,null,null,null,null,null,null,null,null,null,null,null,null,null,null,null,null,null,null,null,null,null,2475,"住宅","木造",{"$f":"INDEX(#REF!, 9 + QUOTIENT(ROW(AL4952)-2, 10), 1 + MOD(ROW(AL4952)-2, 10))","v":{"$error":"#REF!"}}]
[null,null,null,null,null,null,null,null,null,null,null,null,null,null,null,null,null,null,null,null,null,null,null,null,null,null,null,null,null,null,null,null,null,null,2475,"非住宅","木造",{"$f":"INDEX(#REF!, 9 + QUOTIENT(ROW(AL4957)-2, 10), 1 + MOD(ROW(AL4957)-2, 10))","v":{"$error":"#REF!"}}]
[null,null,null,null,null,null,null,null,null,null,null,null,null,null,null,null,null,null,null,null,null,null,null,null,null,null,null,null,null,null,null,null,null,null,2475,"非住宅","SRC造",{"$f":"INDEX(#REF!, 9 + QUOTIENT(ROW(AL4958)-2, 10), 1 + MOD(ROW(AL4958)-2, 10))","v":{"$error":"#REF!"}}]
[null,null,null,null,null,null,null,null,null,null,null,null,null,null,null,null,null,null,null,null,null,null,null,null,null,null,null,null,null,null,null,null,null,null,2476,"住宅","木造",{"$f":"INDEX(#REF!, 9 + QUOTIENT(ROW(AL4962)-2, 10), 1 + MOD(ROW(AL4962)-2, 10))","v":{"$error":"#REF!"}}]
[null,null,null,null,null,null,null,null,null,null,null,null,null,null,null,null,null,null,null,null,null,null,null,null,null,null,null,null,null,null,null,null,null,null,2476,"住宅","SRC造",{"$f":"INDEX(#REF!, 9 + QUOTIENT(ROW(AL4963)-2, 10), 1 + MOD(ROW(AL4963)-2, 10))","v":{"$error":"#REF!"}}]
[null,null,null,null,null,null,null,null,null,null,null,null,null,null,null,null,null,null,null,null,null,null,null,null,null,null,null,null,null,null,null,null,null,null,2476,"住宅","RC造",{"$f":"INDEX(#REF!, 9 + QUOTIENT(ROW(AL4964)-2, 10), 1 + MOD(ROW(AL4964)-2, 10))","v":{"$error":"#REF!"}}]
[null,null,null,null,null,null,null,null,null,null,null,null,null,null,null,null,null,null,null,null,null,null,null,null,null,null,null,null,null,null,null,null,null,null,2476,"住宅","S造",{"$f":"INDEX(#REF!, 9 + QUOTIENT(ROW(AL4965)-2, 10), 1 + MOD(ROW(AL4965)-2, 10))","v":{"$error":"#REF!"}}]
[null,null,null,null,null,null,null,null,null,null,null,null,null,null,null,null,null,null,null,null,null,null,null,null,null,null,null,null,null,null,null,null,null,null,2476,"住宅","その他",{"$f":"INDEX(#REF!, 9 + QUOTIENT(ROW(AL4966)-2, 10), 1 + MOD(ROW(AL4966)-2, 10))","v":{"$error":"#REF!"}}]
[null,null,null,null,null,null,null,null,null,null,null,null,null,null,null,null,null,null,null,null,null,null,null,null,null,null,null,null,null,null,null,null,null,null,2476,"非住宅","木造",{"$f":"INDEX(#REF!, 9 + QUOTIENT(ROW(AL4967)-2, 10), 1 + MOD(ROW(AL4967)-2, 10))","v":{"$error":"#REF!"}}]
[null,null,null,null,null,null,null,null,null,null,null,null,null,null,null,null,null,null,null,null,null,null,null,null,null,null,null,null,null,null,null,null,null,null,2476,"非住宅","SRC造",{"$f":"INDEX(#REF!, 9 + QUOTIENT(ROW(AL4968)-2, 10), 1 + MOD(ROW(AL4968)-2, 10))","v":{"$error":"#REF!"}}]
[null,null,null,null,null,null,null,null,null,null,null,null,null,null,null,null,null,null,null,null,null,null,null,null,null,null,null,null,null,null,null,null,null,null,2476,"非住宅","RC造",{"$f":"INDEX(#REF!, 9 + QUOTIENT(ROW(AL4969)-2, 10), 1 + MOD(ROW(AL4969)-2, 10))","v":{"$error":"#REF!"}}]
[null,null,null,null,null,null,null,null,null,null,null,null,null,null,null,null,null,null,null,null,null,null,null,null,null,null,null,null,null,null,null,null,null,null,2476,"非住宅","S造",{"$f":"INDEX(#REF!, 9 + QUOTIENT(ROW(AL4970)-2, 10), 1 + MOD(ROW(AL4970)-2, 10))","v":{"$error":"#REF!"}}]
[null,null,null,null,null,null,null,null,null,null,null,null,null,null,null,null,null,null,null,null,null,null,null,null,null,null,null,null,null,null,null,null,null,null,2476,"非住宅","その他",{"$f":"INDEX(#REF!, 9 + QUOTIENT(ROW(AL4971)-2, 10), 1 + MOD(ROW(AL4971)-2, 10))","v":{"$error":"#REF!"}}]
[null,null,null,null,null,null,null,null,null,null,null,null,null,null,null,null,null,null,null,null,null,null,null,null,null,null,null,null,null,null,null,null,null,null,2477,"住宅","木造",{"$f":"INDEX(#REF!, 9 + QUOTIENT(ROW(AL4972)-2, 10), 1 + MOD(ROW(AL4972)-2, 10))","v":{"$error":"#REF!"}}]
[null,null,null,null,null,null,null,null,null,null,null,null,null,null,null,null,null,null,null,null,null,null,null,null,null,null,null,null,null,null,null,null,null,null,2477,"住宅","SRC造",{"$f":"INDEX(#REF!, 9 + QUOTIENT(ROW(AL4973)-2, 10), 1 + MOD(ROW(AL4973)-2, 10))","v":{"$error":"#REF!"}}]
[null,null,null,null,null,null,null,null,null,null,null,null,null,null,null,null,null,null,null,null,null,null,null,null,null,null,null,null,null,null,null,null,null,null,2477,"住宅","RC造",{"$f":"INDEX(#REF!, 9 + QUOTIENT(ROW(AL4974)-2, 10), 1 + MOD(ROW(AL4974)-2, 10))","v":{"$error":"#REF!"}}]
[null,null,null,null,null,null,null,null,null,null,null,null,null,null,null,null,null,null,null,null,null,null,null,null,null,null,null,null,null,null,null,null,null,null,2477,"住宅","S造",{"$f":"INDEX(#REF!, 9 + QUOTIENT(ROW(AL4975)-2, 10), 1 + MOD(ROW(AL4975)-2, 10))","v":{"$error":"#REF!"}}]
[null,null,null,null,null,null,null,null,null,null,null,null,null,null,null,null,null,null,null,null,null,null,null,null,null,null,null,null,null,null,null,null,null,null,2477,"住宅","その他",{"$f":"INDEX(#REF!, 9 + QUOTIENT(ROW(AL4976)-2, 10), 1 + MOD(ROW(AL4976)-2, 10))","v":{"$error":"#REF!"}}]
[null,null,null,null,null,null,null,null,null,null,null,null,null,null,null,null,null,null,null,null,null,null,null,null,null,null,null,null,null,null,null,null,null,null,2477,"非住宅","木造",{"$f":"INDEX(#REF!, 9 + QUOTIENT(ROW(AL4977)-2, 10), 1 + MOD(ROW(AL4977)-2, 10))","v":{"$error":"#REF!"}}]
[null,null,null,null,null,null,null,null,null,null,null,null,null,null,null,null,null,null,null,null,null,null,null,null,null,null,null,null,null,null,null,null,null,null,2477,"非住宅","SRC造",{"$f":"INDEX(#REF!, 9 + QUOTIENT(ROW(AL4978)-2, 10), 1 + MOD(ROW(AL4978)-2, 10))","v":{"$error":"#REF!"}}]
[null,null,null,null,null,null,null,null,null,null,null,null,null,null,null,null,null,null,null,null,null,null,null,null,null,null,null,null,null,null,null,null,null,null,2477,"非住宅","RC造",{"$f":"INDEX(#REF!, 9 + QUOTIENT(ROW(AL4979)-2, 10), 1 + MOD(ROW(AL4979)-2, 10))","v":{"$error":"#REF!"}}]
[null,null,null,null,null,null,null,null,null,null,null,null,null,null,null,null,null,null,null,null,null,null,null,null,null,null,null,null,null,null,null,null,null,null,2477,"非住宅","S造",{"$f":"INDEX(#REF!, 9 + QUOTIENT(ROW(AL4980)-2, 10), 1 + MOD(ROW(AL4980)-2, 10))","v":{"$error":"#REF!"}}]
[null,null,null,null,null,null,null,null,null,null,null,null,null,null,null,null,null,null,null,null,null,null,null,null,null,null,null,null,null,null,null,null,null,null,2477,"非住宅","その他",{"$f":"INDEX(#REF!, 9 + QUOTIENT(ROW(AL4981)-2, 10), 1 + MOD(ROW(AL4981)-2, 10))","v":{"$error":"#REF!"}}]
[null,null,null,null,null,null,null,null,null,null,null,null,null,null,null,null,null,null,null,null,null,null,null,null,null,null,null,null,null,null,null,null,null,null,2478,"住宅","木造",{"$f":"INDEX(#REF!, 9 + QUOTIENT(ROW(AL4982)-2, 10), 1 + MOD(ROW(AL4982)-2, 10))","v":{"$error":"#REF!"}}]
[null,null,null,null,null,null,null,null,null,null,null,null,null,null,null,null,null,null,null,null,null,null,null,null,null,null,null,null,null,null,null,null,null,null,2478,"住宅","SRC造",{"$f":"INDEX(#REF!, 9 + QUOTIENT(ROW(AL4983)-2, 10), 1 + MOD(ROW(AL4983)-2, 10))","v":{"$error":"#REF!"}}]
[null,null,null,null,null,null,null,null,null,null,null,null,null,null,null,null,null,null,null,null,null,null,null,null,null,null,null,null,null,null,null,null,null,null,2478,"住宅","RC造",{"$f":"INDEX(#REF!, 9 + QUOTIENT(ROW(AL4984)-2, 10), 1 + MOD(ROW(AL4984)-2, 10))","v":{"$error":"#REF!"}}]
[null,null,null,null,null,null,null,null,null,null,null,null,null,null,null,null,null,null,null,null,null,null,null,null,null,null,null,null,null,null,null,null,null,null,2478,"住宅","S造",{"$f":"INDEX(#REF!, 9 + QUOTIENT(ROW(AL4985)-2, 10), 1 + MOD(ROW(AL4985)-2, 10))","v":{"$error":"#REF!"}}]
[null,null,null,null,null,null,null,null,null,null,null,null,null,null,null,null,null,null,null,null,null,null,null,null,null,null,null,null,null,null,null,null,null,null,2478,"住宅","その他",{"$f":"INDEX(#REF!, 9 + QUOTIENT(ROW(AL4986)-2, 10), 1 + MOD(ROW(AL4986)-2, 10))","v":{"$error":"#REF!"}}]
[null,null,null,null,null,null,null,null,null,null,null,null,null,null,null,null,null,null,null,null,null,null,null,null,null,null,null,null,null,null,null,null,null,null,2478,"非住宅","木造",{"$f":"INDEX(#REF!, 9 + QUOTIENT(ROW(AL4987)-2, 10), 1 + MOD(ROW(AL4987)-2, 10))","v":{"$error":"#REF!"}}]
[null,null,null,null,null,null,null,null,null,null,null,null,null,null,null,null,null,null,null,null,null,null,null,null,null,null,null,null,null,null,null,null,null,null,2478,"非住宅","SRC造",{"$f":"INDEX(#REF!, 9 + QUOTIENT(ROW(AL4988)-2, 10), 1 + MOD(ROW(AL4988)-2, 10))","v":{"$error":"#REF!"}}]
[null,null,null,null,null,null,null,null,null,null,null,null,null,null,null,null,null,null,null,null,null,null,null,null,null,null,null,null,null,null,null,null,null,null,2478,"非住宅","RC造",{"$f":"INDEX(#REF!, 9 + QUOTIENT(ROW(AL4989)-2, 10), 1 + MOD(ROW(AL4989)-2, 10))","v":{"$error":"#REF!"}}]
[null,null,null,null,null,null,null,null,null,null,null,null,null,null,null,null,null,null,null,null,null,null,null,null,null,null,null,null,null,null,null,null,null,null,2478,"非住宅","S造",{"$f":"INDEX(#REF!, 9 + QUOTIENT(ROW(AL4990)-2, 10), 1 + MOD(ROW(AL4990)-2, 10))","v":{"$error":"#REF!"}}]
[null,null,null,null,null,null,null,null,null,null,null,null,null,null,null,null,null,null,null,null,null,null,null,null,null,null,null,null,null,null,null,null,null,null,2478,"非住宅","その他",{"$f":"INDEX(#REF!, 9 + QUOTIENT(ROW(AL4991)-2, 10), 1 + MOD(ROW(AL4991)-2, 10))","v":{"$error":"#REF!"}}]
[null,null,null,null,null,null,null,null,null,null,null,null,null,null,null,null,null,null,null,null,null,null,null,null,null,null,null,null,null,null,null,null,null,null,2479,"住宅","木造",{"$f":"INDEX(#REF!, 9 + QUOTIENT(ROW(AL4992)-2, 10), 1 + MOD(ROW(AL4992)-2, 10))","v":{"$error":"#REF!"}}]
[null,null,null,null,null,null,null,null,null,null,null,null,null,null,null,null,null,null,null,null,null,null,null,null,null,null,null,null,null,null,null,null,null,null,2479,"住宅","SRC造",{"$f":"INDEX(#REF!, 9 + QUOTIENT(ROW(AL4993)-2, 10), 1 + MOD(ROW(AL4993)-2, 10))","v":{"$error":"#REF!"}}]
[null,null,null,null,null,null,null,null,null,null,null,null,null,null,null,null,null,null,null,null,null,null,null,null,null,null,null,null,null,null,null,null,null,null,2479,"住宅","RC造",{"$f":"INDEX(#REF!, 9 + QUOTIENT(ROW(AL4994)-2, 10), 1 + MOD(ROW(AL4994)-2, 10))","v":{"$error":"#REF!"}}]
[null,null,null,null,null,null,null,null,null,null,null,null,null,null,null,null,null,null,null,null,null,null,null,null,null,null,null,null,null,null,null,null,null,null,2479,"住宅","S造",{"$f":"INDEX(#REF!, 9 + QUOTIENT(ROW(AL4995)-2, 10), 1 + MOD(ROW(AL4995)-2, 10))","v":{"$error":"#REF!"}}]
[null,null,null,null,null,null,null,null,null,null,null,null,null,null,null,null,null,null,null,null,null,null,null,null,null,null,null,null,null,null,null,null,null,null,2479,"住宅","その他",{"$f":"INDEX(#REF!, 9 + QUOTIENT(ROW(AL4996)-2, 10), 1 + MOD(ROW(AL4996)-2, 10))","v":{"$error":"#REF!"}}]
[null,null,null,null,null,null,null,null,null,null,null,null,null,null,null,null,null,null,null,null,null,null,null,null,null,null,null,null,null,null,null,null,null,null,2479,"非住宅","木造",{"$f":"INDEX(#REF!, 9 + QUOTIENT(ROW(AL4997)-2, 10), 1 + MOD(ROW(AL4997)-2, 10))","v":{"$error":"#REF!"}}]
[null,null,null,null,null,null,null,null,null,null,null,null,null,null,null,null,null,null,null,null,null,null,null,null,null,null,null,null,null,null,null,null,null,null,2479,"非住宅","SRC造",{"$f":"INDEX(#REF!, 9 + QUOTIENT(ROW(AL4998)-2, 10), 1 + MOD(ROW(AL4998)-2, 10))","v":{"$error":"#REF!"}}]
[null,null,null,null,null,null,null,null,null,null,null,null,null,null,null,null,null,null,null,null,null,null,null,null,null,null,null,null,null,null,null,null,null,null,2479,"非住宅","RC造",{"$f":"INDEX(#REF!, 9 + QUOTIENT(ROW(AL4999)-2, 10), 1 + MOD(ROW(AL4999)-2, 10))","v":{"$error":"#REF!"}}]
[null,null,null,null,null,null,null,null,null,null,null,null,null,null,null,null,null,null,null,null,null,null,null,null,null,null,null,null,null,null,null,null,null,null,2479,"非住宅","S造",{"$f":"INDEX(#REF!, 9 + QUOTIENT(ROW(AL5000)-2, 10), 1 + MOD(ROW(AL5000)-2, 10))","v":{"$error":"#REF!"}}]
[null,null,null,null,null,null,null,null,null,null,null,null,null,null,null,null,null,null,null,null,null,null,null,null,null,null,null,null,null,null,null,null,null,null,2479,"非住宅","その他",{"$f":"INDEX(#REF!, 9 + QUOTIENT(ROW(AL5001)-2, 10), 1 + MOD(ROW(AL5001)-2, 10))","v":{"$error":"#REF!"}}]
[null,null,null,null,null,null,null,null,null,null,null,null,null,null,null,null,null,null,null,null,null,null,null,null,null,null,null,null,null,null,null,null,null,null,2480,"住宅","木造",{"$f":"INDEX(#REF!, 9 + QUOTIENT(ROW(AL5002)-2, 10), 1 + MOD(ROW(AL5002)-2, 10))","v":{"$error":"#REF!"}}]
[null,null,null,null,null,null,null,null,null,null,null,null,null,null,null,null,null,null,null,null,null,null,null,null,null,null,null,null,null,null,null,null,null,null,2480,"住宅","SRC造",{"$f":"INDEX(#REF!, 9 + QUOTIENT(ROW(AL5003)-2, 10), 1 + MOD(ROW(AL5003)-2, 10))","v":{"$error":"#REF!"}}]
[null,null,null,null,null,null,null,null,null,null,null,null,null,null,null,null,null,null,null,null,null,null,null,null,null,null,null,null,null,null,null,null,null,null,2480,"住宅","RC造",{"$f":"INDEX(#REF!, 9 + QUOTIENT(ROW(AL5004)-2, 10), 1 + MOD(ROW(AL5004)-2, 10))","v":{"$error":"#REF!"}}]
[null,null,null,null,null,null,null,null,null,null,null,null,null,null,null,null,null,null,null,null,null,null,null,null,null,null,null,null,null,null,null,null,null,null,2480,"住宅","S造",{"$f":"INDEX(#REF!, 9 + QUOTIENT(ROW(AL5005)-2, 10), 1 + MOD(ROW(AL5005)-2, 10))","v":{"$error":"#REF!"}}]
[null,null,null,null,null,null,null,null,null,null,null,null,null,null,null,null,null,null,null,null,null,null,null,null,null,null,null,null,null,null,null,null,null,null,2480,"住宅","その他",{"$f":"INDEX(#REF!, 9 + QUOTIENT(ROW(AL5006)-2, 10), 1 + MOD(ROW(AL5006)-2, 10))","v":{"$error":"#REF!"}}]
[null,null,null,null,null,null,null,null,null,null,null,null,null,null,null,null,null,null,null,null,null,null,null,null,null,null,null,null,null,null,null,null,null,null,2480,"非住宅","木造",{"$f":"INDEX(#REF!, 9 + QUOTIENT(ROW(AL5007)-2, 10), 1 + MOD(ROW(AL5007)-2, 10))","v":{"$error":"#REF!"}}]
[null,null,null,null,null,null,null,null,null,null,null,null,null,null,null,null,null,null,null,null,null,null,null,null,null,null,null,null,null,null,null,null,null,null,2480,"非住宅","SRC造",{"$f":"INDEX(#REF!, 9 + QUOTIENT(ROW(AL5008)-2, 10), 1 + MOD(ROW(AL5008)-2, 10))","v":{"$error":"#REF!"}}]
[null,null,null,null,null,null,null,null,null,null,null,null,null,null,null,null,null,null,null,null,null,null,null,null,null,null,null,null,null,null,null,null,null,null,2480,"非住宅","RC造",{"$f":"INDEX(#REF!, 9 + QUOTIENT(ROW(AL5009)-2, 10), 1 + MOD(ROW(AL5009)-2, 10))","v":{"$error":"#REF!"}}]
[null,null,null,null,null,null,null,null,null,null,null,null,null,null,null,null,null,null,null,null,null,null,null,null,null,null,null,null,null,null,null,null,null,null,2480,"非住宅","S造",{"$f":"INDEX(#REF!, 9 + QUOTIENT(ROW(AL5010)-2, 10), 1 + MOD(ROW(AL5010)-2, 10))","v":{"$error":"#REF!"}}]
[null,null,null,null,null,null,null,null,null,null,null,null,null,null,null,null,null,null,null,null,null,null,null,null,null,null,null,null,null,null,null,null,null,null,2480,"非住宅","その他",{"$f":"INDEX(#REF!, 9 + QUOTIENT(ROW(AL5011)-2, 10), 1 + MOD(ROW(AL5011)-2, 10))","v":{"$error":"#REF!"}}]
[null,null,null,null,null,null,null,null,null,null,null,null,null,null,null,null,null,null,null,null,null,null,null,null,null,null,null,null,null,null,null,null,null,null,2481,"住宅","木造",{"$f":"INDEX(#REF!, 9 + QUOTIENT(ROW(AL5012)-2, 10), 1 + MOD(ROW(AL5012)-2, 10))","v":{"$error":"#REF!"}}]
[null,null,null,null,null,null,null,null,null,null,null,null,null,null,null,null,null,null,null,null,null,null,null,null,null,null,null,null,null,null,null,null,null,null,2481,"住宅","SRC造",{"$f":"INDEX(#REF!, 9 + QUOTIENT(ROW(AL5013)-2, 10), 1 + MOD(ROW(AL5013)-2, 10))","v":{"$error":"#REF!"}}]
[null,null,null,null,null,null,null,null,null,null,null,null,null,null,null,null,null,null,null,null,null,null,null,null,null,null,null,null,null,null,null,null,null,null,2481,"住宅","RC造",{"$f":"INDEX(#REF!, 9 + QUOTIENT(ROW(AL5014)-2, 10), 1 + MOD(ROW(AL5014)-2, 10))","v":{"$error":"#REF!"}}]
[null,null,null,null,null,null,null,null,null,null,null,null,null,null,null,null,null,null,null,null,null,null,null,null,null,null,null,null,null,null,null,null,null,null,2481,"住宅","S造",{"$f":"INDEX(#REF!, 9 + QUOTIENT(ROW(AL5015)-2, 10), 1 + MOD(ROW(AL5015)-2, 10))","v":{"$error":"#REF!"}}]
[null,null,null,null,null,null,null,null,null,null,null,null,null,null,null,null,null,null,null,null,null,null,null,null,null,null,null,null,null,null,null,null,null,null,2481,"住宅","その他",{"$f":"INDEX(#REF!, 9 + QUOTIENT(ROW(AL5016)-2, 10), 1 + MOD(ROW(AL5016)-2, 10))","v":{"$error":"#REF!"}}]
[null,null,null,null,null,null,null,null,null,null,null,null,null,null,null,null,null,null,null,null,null,null,null,null,null,null,null,null,null,null,null,null,null,null,2481,"非住宅","木造",{"$f":"INDEX(#REF!, 9 + QUOTIENT(ROW(AL5017)-2, 10), 1 + MOD(ROW(AL5017)-2, 10))","v":{"$error":"#REF!"}}]
[null,null,null,null,null,null,null,null,null,null,null,null,null,null,null,null,null,null,null,null,null,null,null,null,null,null,null,null,null,null,null,null,null,null,2481,"非住宅","SRC造",{"$f":"INDEX(#REF!, 9 + QUOTIENT(ROW(AL5018)-2, 10), 1 + MOD(ROW(AL5018)-2, 10))","v":{"$error":"#REF!"}}]
[null,null,null,null,null,null,null,null,null,null,null,null,null,null,null,null,null,null,null,null,null,null,null,null,null,null,null,null,null,null,null,null,null,null,2481,"非住宅","RC造",{"$f":"INDEX(#REF!, 9 + QUOTIENT(ROW(AL5019)-2, 10), 1 + MOD(ROW(AL5019)-2, 10))","v":{"$error":"#REF!"}}]
[null,null,null,null,null,null,null,null,null,null,null,null,null,null,null,null,null,null,null,null,null,null,null,null,null,null,null,null,null,null,null,null,null,null,2481,"非住宅","S造",{"$f":"INDEX(#REF!, 9 + QUOTIENT(ROW(AL5020)-2, 10), 1 + MOD(ROW(AL5020)-2, 10))","v":{"$error":"#REF!"}}]
[null,null,null,null,null,null,null,null,null,null,null,null,null,null,null,null,null,null,null,null,null,null,null,null,null,null,null,null,null,null,null,null,null,null,2481,"非住宅","その他",{"$f":"INDEX(#REF!, 9 + QUOTIENT(ROW(AL5021)-2, 10), 1 + MOD(ROW(AL5021)-2, 10))","v":{"$error":"#REF!"}}]
[null,null,null,null,null,null,null,null,null,null,null,null,null,null,null,null,null,null,null,null,null,null,null,null,null,null,null,null,null,null,null,null,null,null,2482,"住宅","木造",{"$f":"INDEX(#REF!, 9 + QUOTIENT(ROW(AL5022)-2, 10), 1 + MOD(ROW(AL5022)-2, 10))","v":{"$error":"#REF!"}}]
[null,null,null,null,null,null,null,null,null,null,null,null,null,null,null,null,null,null,null,null,null,null,null,null,null,null,null,null,null,null,null,null,null,null,2482,"住宅","SRC造",{"$f":"INDEX(#REF!, 9 + QUOTIENT(ROW(AL5023)-2, 10), 1 + MOD(ROW(AL5023)-2, 10))","v":{"$error":"#REF!"}}]
[null,null,null,null,null,null,null,null,null,null,null,null,null,null,null,null,null,null,null,null,null,null,null,null,null,null,null,null,null,null,null,null,null,null,2482,"住宅","RC造",{"$f":"INDEX(#REF!, 9 + QUOTIENT(ROW(AL5024)-2, 10), 1 + MOD(ROW(AL5024)-2, 10))","v":{"$error":"#REF!"}}]
[null,null,null,null,null,null,null,null,null,null,null,null,null,null,null,null,null,null,null,null,null,null,null,null,null,null,null,null,null,null,null,null,null,null,2482,"住宅","S造",{"$f":"INDEX(#REF!, 9 + QUOTIENT(ROW(AL5025)-2, 10), 1 + MOD(ROW(AL5025)-2, 10))","v":{"$error":"#REF!"}}]
[null,null,null,null,null,null,null,null,null,null,null,null,null,null,null,null,null,null,null,null,null,null,null,null,null,null,null,null,null,null,null,null,null,null,2482,"住宅","その他",{"$f":"INDEX(#REF!, 9 + QUOTIENT(ROW(AL5026)-2, 10), 1 + MOD(ROW(AL5026)-2, 10))","v":{"$error":"#REF!"}}]
[null,null,null,null,null,null,null,null,null,null,null,null,null,null,null,null,null,null,null,null,null,null,null,null,null,null,null,null,null,null,null,null,null,null,2482,"非住宅","木造",{"$f":"INDEX(#REF!, 9 + QUOTIENT(ROW(AL5027)-2, 10), 1 + MOD(ROW(AL5027)-2, 10))","v":{"$error":"#REF!"}}]
[null,null,null,null,null,null,null,null,null,null,null,null,null,null,null,null,null,null,null,null,null,null,null,null,null,null,null,null,null,null,null,null,null,null,2482,"非住宅","SRC造",{"$f":"INDEX(#REF!, 9 + QUOTIENT(ROW(AL5028)-2, 10), 1 + MOD(ROW(AL5028)-2, 10))","v":{"$error":"#REF!"}}]
[null,null,null,null,null,null,null,null,null,null,null,null,null,null,null,null,null,null,null,null,null,null,null,null,null,null,null,null,null,null,null,null,null,null,2482,"非住宅","RC造",{"$f":"INDEX(#REF!, 9 + QUOTIENT(ROW(AL5029)-2, 10), 1 + MOD(ROW(AL5029)-2, 10))","v":{"$error":"#REF!"}}]
[null,null,null,null,null,null,null,null,null,null,null,null,null,null,null,null,null,null,null,null,null,null,null,null,null,null,null,null,null,null,null,null,null,null,2482,"非住宅","S造",{"$f":"INDEX(#REF!, 9 + QUOTIENT(ROW(AL5030)-2, 10), 1 + MOD(ROW(AL5030)-2, 10))","v":{"$error":"#REF!"}}]
[null,null,null,null,null,null,null,null,null,null,null,null,null,null,null,null,null,null,null,null,null,null,null,null,null,null,null,null,null,null,null,null,null,null,2482,"非住宅","その他",{"$f":"INDEX(#REF!, 9 + QUOTIENT(ROW(AL5031)-2, 10), 1 + MOD(ROW(AL5031)-2, 10))","v":{"$error":"#REF!"}}]
[null,null,null,null,null,null,null,null,null,null,null,null,null,null,null,null,null,null,null,null,null,null,null,null,null,null,null,null,null,null,null,null,null,null,2483,"住宅","木造",{"$f":"INDEX(#REF!, 9 + QUOTIENT(ROW(AL5032)-2, 10), 1 + MOD(ROW(AL5032)-2, 10))","v":{"$error":"#REF!"}}]
[null,null,null,null,null,null,null,null,null,null,null,null,null,null,null,null,null,null,null,null,null,null,null,null,null,null,null,null,null,null,null,null,null,null,2483,"住宅","SRC造",{"$f":"INDEX(#REF!, 9 + QUOTIENT(ROW(AL5033)-2, 10), 1 + MOD(ROW(AL5033)-2, 10))","v":{"$error":"#REF!"}}]
[null,null,null,null,null,null,null,null,null,null,null,null,null,null,null,null,null,null,null,null,null,null,null,null,null,null,null,null,null,null,null,null,null,null,2483,"住宅","RC造",{"$f":"INDEX(#REF!, 9 + QUOTIENT(ROW(AL5034)-2, 10), 1 + MOD(ROW(AL5034)-2, 10))","v":{"$error":"#REF!"}}]
[null,null,null,null,null,null,null,null,null,null,null,null,null,null,null,null,null,null,null,null,null,null,null,null,null,null,null,null,null,null,null,null,null,null,2483,"住宅","S造",{"$f":"INDEX(#REF!, 9 + QUOTIENT(ROW(AL5035)-2, 10), 1 + MOD(ROW(AL5035)-2, 10))","v":{"$error":"#REF!"}}]
[null,null,null,null,null,null,null,null,null,null,null,null,null,null,null,null,null,null,null,null,null,null,null,null,null,null,null,null,null,null,null,null,null,null,2483,"住宅","その他",{"$f":"INDEX(#REF!, 9 + QUOTIENT(ROW(AL5036)-2, 10), 1 + MOD(ROW(AL5036)-2, 10))","v":{"$error":"#REF!"}}]
[null,null,null,null,null,null,null,null,null,null,null,null,null,null,null,null,null,null,null,null,null,null,null,null,null,null,null,null,null,null,null,null,null,null,2483,"非住宅","木造",{"$f":"INDEX(#REF!, 9 + QUOTIENT(ROW(AL5037)-2, 10), 1 + MOD(ROW(AL5037)-2, 10))","v":{"$error":"#REF!"}}]
[null,null,null,null,null,null,null,null,null,null,null,null,null,null,null,null,null,null,null,null,null,null,null,null,null,null,null,null,null,null,null,null,null,null,2483,"非住宅","SRC造",{"$f":"INDEX(#REF!, 9 + QUOTIENT(ROW(AL5038)-2, 10), 1 + MOD(ROW(AL5038)-2, 10))","v":{"$error":"#REF!"}}]
[null,null,null,null,null,null,null,null,null,null,null,null,null,null,null,null,null,null,null,null,null,null,null,null,null,null,null,null,null,null,null,null,null,null,2483,"非住宅","RC造",{"$f":"INDEX(#REF!, 9 + QUOTIENT(ROW(AL5039)-2, 10), 1 + MOD(ROW(AL5039)-2, 10))","v":{"$error":"#REF!"}}]
[null,null,null,null,null,null,null,null,null,null,null,null,null,null,null,null,null,null,null,null,null,null,null,null,null,null,null,null,null,null,null,null,null,null,2483,"非住宅","S造",{"$f":"INDEX(#REF!, 9 + QUOTIENT(ROW(AL5040)-2, 10), 1 + MOD(ROW(AL5040)-2, 10))","v":{"$error":"#REF!"}}]
[null,null,null,null,null,null,null,null,null,null,null,null,null,null,null,null,null,null,null,null,null,null,null,null,null,null,null,null,null,null,null,null,null,null,2483,"非住宅","その他",{"$f":"INDEX(#REF!, 9 + QUOTIENT(ROW(AL5041)-2, 10), 1 + MOD(ROW(AL5041)-2, 10))","v":{"$error":"#REF!"}}]
[null,null,null,null,null,null,null,null,null,null,null,null,null,null,null,null,null,null,null,null,null,null,null,null,null,null,null,null,null,null,null,null,null,null,2484,"住宅","木造",{"$f":"INDEX(#REF!, 9 + QUOTIENT(ROW(AL5042)-2, 10), 1 + MOD(ROW(AL5042)-2, 10))","v":{"$error":"#REF!"}}]
[null,null,null,null,null,null,null,null,null,null,null,null,null,null,null,null,null,null,null,null,null,null,null,null,null,null,null,null,null,null,null,null,null,null,2484,"住宅","SRC造",{"$f":"INDEX(#REF!, 9 + QUOTIENT(ROW(AL5043)-2, 10), 1 + MOD(ROW(AL5043)-2, 10))","v":{"$error":"#REF!"}}]
[null,null,null,null,null,null,null,null,null,null,null,null,null,null,null,null,null,null,null,null,null,null,null,null,null,null,null,null,null,null,null,null,null,null,2484,"住宅","RC造",{"$f":"INDEX(#REF!, 9 + QUOTIENT(ROW(AL5044)-2, 10), 1 + MOD(ROW(AL5044)-2, 10))","v":{"$error":"#REF!"}}]
[null,null,null,null,null,null,null,null,null,null,null,null,null,null,null,null,null,null,null,null,null,null,null,null,null,null,null,null,null,null,null,null,null,null,2484,"住宅","S造",{"$f":"INDEX(#REF!, 9 + QUOTIENT(ROW(AL5045)-2, 10), 1 + MOD(ROW(AL5045)-2, 10))","v":{"$error":"#REF!"}}]
[null,null,null,null,null,null,null,null,null,null,null,null,null,null,null,null,null,null,null,null,null,null,null,null,null,null,null,null,null,null,null,null,null,null,2484,"住宅","その他",{"$f":"INDEX(#REF!, 9 + QUOTIENT(ROW(AL5046)-2, 10), 1 + MOD(ROW(AL5046)-2, 10))","v":{"$error":"#REF!"}}]
[null,null,null,null,null,null,null,null,null,null,null,null,null,null,null,null,null,null,null,null,null,null,null,null,null,null,null,null,null,null,null,null,null,null,2484,"非住宅","木造",{"$f":"INDEX(#REF!, 9 + QUOTIENT(ROW(AL5047)-2, 10), 1 + MOD(ROW(AL5047)-2, 10))","v":{"$error":"#REF!"}}]
[null,null,null,null,null,null,null,null,null,null,null,null,null,null,null,null,null,null,null,null,null,null,null,null,null,null,null,null,null,null,null,null,null,null,2484,"非住宅","SRC造",{"$f":"INDEX(#REF!, 9 + QUOTIENT(ROW(AL5048)-2, 10), 1 + MOD(ROW(AL5048)-2, 10))","v":{"$error":"#REF!"}}]
[null,null,null,null,null,null,null,null,null,null,null,null,null,null,null,null,null,null,null,null,null,null,null,null,null,null,null,null,null,null,null,null,null,null,2484,"非住宅","RC造",{"$f":"INDEX(#REF!, 9 + QUOTIENT(ROW(AL5049)-2, 10), 1 + MOD(ROW(AL5049)-2, 10))","v":{"$error":"#REF!"}}]
[null,null,null,null,null,null,null,null,null,null,null,null,null,null,null,null,null,null,null,null,null,null,null,null,null,null,null,null,null,null,null,null,null,null,2484,"非住宅","S造",{"$f":"INDEX(#REF!, 9 + QUOTIENT(ROW(AL5050)-2, 10), 1 + MOD(ROW(AL5050)-2, 10))","v":{"$error":"#REF!"}}]
[null,null,null,null,null,null,null,null,null,null,null,null,null,null,null,null,null,null,null,null,null,null,null,null,null,null,null,null,null,null,null,null,null,null,2484,"非住宅","その他",{"$f":"INDEX(#REF!, 9 + QUOTIENT(ROW(AL5051)-2, 10), 1 + MOD(ROW(AL5051)-2, 10))","v":{"$error":"#REF!"}}]
[null,null,null,null,null,null,null,null,null,null,null,null,null,null,null,null,null,null,null,null,null,null,null,null,null,null,null,null,null,null,null,null,null,null,2485,"住宅","木造",{"$f":"INDEX(#REF!, 9 + QUOTIENT(ROW(AL5052)-2, 10), 1 + MOD(ROW(AL5052)-2, 10))","v":{"$error":"#REF!"}}]
[null,null,null,null,null,null,null,null,null,null,null,null,null,null,null,null,null,null,null,null,null,null,null,null,null,null,null,null,null,null,null,null,null,null,2485,"住宅","SRC造",{"$f":"INDEX(#REF!, 9 + QUOTIENT(ROW(AL5053)-2, 10), 1 + MOD(ROW(AL5053)-2, 10))","v":{"$error":"#REF!"}}]
[null,null,null,null,null,null,null,null,null,null,null,null,null,null,null,null,null,null,null,null,null,null,null,null,null,null,null,null,null,null,null,null,null,null,2485,"住宅","RC造",{"$f":"INDEX(#REF!, 9 + QUOTIENT(ROW(AL5054)-2, 10), 1 + MOD(ROW(AL5054)-2, 10))","v":{"$error":"#REF!"}}]
[null,null,null,null,null,null,null,null,null,null,null,null,null,null,null,null,null,null,null,null,null,null,null,null,null,null,null,null,null,null,null,null,null,null,2485,"住宅","S造",{"$f":"INDEX(#REF!, 9 + QUOTIENT(ROW(AL5055)-2, 10), 1 + MOD(ROW(AL5055)-2, 10))","v":{"$error":"#REF!"}}]
[null,null,null,null,null,null,null,null,null,null,null,null,null,null,null,null,null,null,null,null,null,null,null,null,null,null,null,null,null,null,null,null,null,null,2485,"住宅","その他",{"$f":"INDEX(#REF!, 9 + QUOTIENT(ROW(AL5056)-2, 10), 1 + MOD(ROW(AL5056)-2, 10))","v":{"$error":"#REF!"}}]
[null,null,null,null,null,null,null,null,null,null,null,null,null,null,null,null,null,null,null,null,null,null,null,null,null,null,null,null,null,null,null,null,null,null,2485,"非住宅","木造",{"$f":"INDEX(#REF!, 9 + QUOTIENT(ROW(AL5057)-2, 10), 1 + MOD(ROW(AL5057)-2, 10))","v":{"$error":"#REF!"}}]
[null,null,null,null,null,null,null,null,null,null,null,null,null,null,null,null,null,null,null,null,null,null,null,null,null,null,null,null,null,null,null,null,null,null,2485,"非住宅","SRC造",{"$f":"INDEX(#REF!, 9 + QUOTIENT(ROW(AL5058)-2, 10), 1 + MOD(ROW(AL5058)-2, 10))","v":{"$error":"#REF!"}}]
[null,null,null,null,null,null,null,null,null,null,null,null,null,null,null,null,null,null,null,null,null,null,null,null,null,null,null,null,null,null,null,null,null,null,2485,"非住宅","RC造",{"$f":"INDEX(#REF!, 9 + QUOTIENT(ROW(AL5059)-2, 10), 1 + MOD(ROW(AL5059)-2, 10))","v":{"$error":"#REF!"}}]
[null,null,null,null,null,null,null,null,null,null,null,null,null,null,null,null,null,null,null,null,null,null,null,null,null,null,null,null,null,null,null,null,null,null,2485,"非住宅","S造",{"$f":"INDEX(#REF!, 9 + QUOTIENT(ROW(AL5060)-2, 10), 1 + MOD(ROW(AL5060)-2, 10))","v":{"$error":"#REF!"}}]
[null,null,null,null,null,null,null,null,null,null,null,null,null,null,null,null,null,null,null,null,null,null,null,null,null,null,null,null,null,null,null,null,null,null,2485,"非住宅","その他",{"$f":"INDEX(#REF!, 9 + QUOTIENT(ROW(AL5061)-2, 10), 1 + MOD(ROW(AL5061)-2, 10))","v":{"$error":"#REF!"}}]
[null,null,null,null,null,null,null,null,null,null,null,null,null,null,null,null,null,null,null,null,null,null,null,null,null,null,null,null,null,null,null,null,null,null,2486,"住宅","木造",{"$f":"INDEX(#REF!, 9 + QUOTIENT(ROW(AL5062)-2, 10), 1 + MOD(ROW(AL5062)-2, 10))","v":{"$error":"#REF!"}}]
[null,null,null,null,null,null,null,null,null,null,null,null,null,null,null,null,null,null,null,null,null,null,null,null,null,null,null,null,null,null,null,null,null,null,2486,"住宅","SRC造",{"$f":"INDEX(#REF!, 9 + QUOTIENT(ROW(AL5063)-2, 10), 1 + MOD(ROW(AL5063)-2, 10))","v":{"$error":"#REF!"}}]
[null,null,null,null,null,null,null,null,null,null,null,null,null,null,null,null,null,null,null,null,null,null,null,null,null,null,null,null,null,null,null,null,null,null,2486,"住宅","RC造",{"$f":"INDEX(#REF!, 9 + QUOTIENT(ROW(AL5064)-2, 10), 1 + MOD(ROW(AL5064)-2, 10))","v":{"$error":"#REF!"}}]
[null,null,null,null,null,null,null,null,null,null,null,null,null,null,null,null,null,null,null,null,null,null,null,null,null,null,null,null,null,null,null,null,null,null,2486,"住宅","S造",{"$f":"INDEX(#REF!, 9 + QUOTIENT(ROW(AL5065)-2, 10), 1 + MOD(ROW(AL5065)-2, 10))","v":{"$error":"#REF!"}}]
[null,null,null,null,null,null,null,null,null,null,null,null,null,null,null,null,null,null,null,null,null,null,null,null,null,null,null,null,null,null,null,null,null,null,2486,"住宅","その他",{"$f":"INDEX(#REF!, 9 + QUOTIENT(ROW(AL5066)-2, 10), 1 + MOD(ROW(AL5066)-2, 10))","v":{"$error":"#REF!"}}]
[null,null,null,null,null,null,null,null,null,null,null,null,null,null,null,null,null,null,null,null,null,null,null,null,null,null,null,null,null,null,null,null,null,null,2486,"非住宅","木造",{"$f":"INDEX(#REF!, 9 + QUOTIENT(ROW(AL5067)-2, 10), 1 + MOD(ROW(AL5067)-2, 10))","v":{"$error":"#REF!"}}]
[null,null,null,null,null,null,null,null,null,null,null,null,null,null,null,null,null,null,null,null,null,null,null,null,null,null,null,null,null,null,null,null,null,null,2486,"非住宅","SRC造",{"$f":"INDEX(#REF!, 9 + QUOTIENT(ROW(AL5068)-2, 10), 1 + MOD(ROW(AL5068)-2, 10))","v":{"$error":"#REF!"}}]
[null,null,null,null,null,null,null,null,null,null,null,null,null,null,null,null,null,null,null,null,null,null,null,null,null,null,null,null,null,null,null,null,null,null,2486,"非住宅","RC造",{"$f":"INDEX(#REF!, 9 + QUOTIENT(ROW(AL5069)-2, 10), 1 + MOD(ROW(AL5069)-2, 10))","v":{"$error":"#REF!"}}]
[null,null,null,null,null,null,null,null,null,null,null,null,null,null,null,null,null,null,null,null,null,null,null,null,null,null,null,null,null,null,null,null,null,null,2486,"非住宅","S造",{"$f":"INDEX(#REF!, 9 + QUOTIENT(ROW(AL5070)-2, 10), 1 + MOD(ROW(AL5070)-2, 10))","v":{"$error":"#REF!"}}]
[null,null,null,null,null,null,null,null,null,null,null,null,null,null,null,null,null,null,null,null,null,null,null,null,null,null,null,null,null,null,null,null,null,null,2486,"非住宅","その他",{"$f":"INDEX(#REF!, 9 + QUOTIENT(ROW(AL5071)-2, 10), 1 + MOD(ROW(AL5071)-2, 10))","v":{"$error":"#REF!"}}]
[null,null,null,null,null,null,null,null,null,null,null,null,null,null,null,null,null,null,null,null,null,null,null,null,null,null,null,null,null,null,null,null,null,null,2487,"住宅","木造",{"$f":"INDEX(#REF!, 9 + QUOTIENT(ROW(AL5072)-2, 10), 1 + MOD(ROW(AL5072)-2, 10))","v":{"$error":"#REF!"}}]
[null,null,null,null,null,null,null,null,null,null,null,null,null,null,null,null,null,null,null,null,null,null,null,null,null,null,null,null,null,null,null,null,null,null,2487,"住宅","SRC造",{"$f":"INDEX(#REF!, 9 + QUOTIENT(ROW(AL5073)-2, 10), 1 + MOD(ROW(AL5073)-2, 10))","v":{"$error":"#REF!"}}]
[null,null,null,null,null,null,null,null,null,null,null,null,null,null,null,null,null,null,null,null,null,null,null,null,null,null,null,null,null,null,null,null,null,null,2487,"住宅","RC造",{"$f":"INDEX(#REF!, 9 + QUOTIENT(ROW(AL5074)-2, 10), 1 + MOD(ROW(AL5074)-2, 10))","v":{"$error":"#REF!"}}]
[null,null,null,null,null,null,null,null,null,null,null,null,null,null,null,null,null,null,null,null,null,null,null,null,null,null,null,null,null,null,null,null,null,null,2487,"住宅","S造",{"$f":"INDEX(#REF!, 9 + QUOTIENT(ROW(AL5075)-2, 10), 1 + MOD(ROW(AL5075)-2, 10))","v":{"$error":"#REF!"}}]
[null,null,null,null,null,null,null,null,null,null,null,null,null,null,null,null,null,null,null,null,null,null,null,null,null,null,null,null,null,null,null,null,null,null,2487,"住宅","その他",{"$f":"INDEX(#REF!, 9 + QUOTIENT(ROW(AL5076)-2, 10), 1 + MOD(ROW(AL5076)-2, 10))","v":{"$error":"#REF!"}}]
[null,null,null,null,null,null,null,null,null,null,null,null,null,null,null,null,null,null,null,null,null,null,null,null,null,null,null,null,null,null,null,null,null,null,2487,"非住宅","木造",{"$f":"INDEX(#REF!, 9 + QUOTIENT(ROW(AL5077)-2, 10), 1 + MOD(ROW(AL5077)-2, 10))","v":{"$error":"#REF!"}}]
[null,null,null,null,null,null,null,null,null,null,null,null,null,null,null,null,null,null,null,null,null,null,null,null,null,null,null,null,null,null,null,null,null,null,2487,"非住宅","SRC造",{"$f":"INDEX(#REF!, 9 + QUOTIENT(ROW(AL5078)-2, 10), 1 + MOD(ROW(AL5078)-2, 10))","v":{"$error":"#REF!"}}]
[null,null,null,null,null,null,null,null,null,null,null,null,null,null,null,null,null,null,null,null,null,null,null,null,null,null,null,null,null,null,null,null,null,null,2487,"非住宅","RC造",{"$f":"INDEX(#REF!, 9 + QUOTIENT(ROW(AL5079)-2, 10), 1 + MOD(ROW(AL5079)-2, 10))","v":{"$error":"#REF!"}}]
[null,null,null,null,null,null,null,null,null,null,null,null,null,null,null,null,null,null,null,null,null,null,null,null,null,null,null,null,null,null,null,null,null,null,2487,"非住宅","S造",{"$f":"INDEX(#REF!, 9 + QUOTIENT(ROW(AL5080)-2, 10), 1 + MOD(ROW(AL5080)-2, 10))","v":{"$error":"#REF!"}}]
[null,null,null,null,null,null,null,null,null,null,null,null,null,null,null,null,null,null,null,null,null,null,null,null,null,null,null,null,null,null,null,null,null,null,2487,"非住宅","その他",{"$f":"INDEX(#REF!, 9 + QUOTIENT(ROW(AL5081)-2, 10), 1 + MOD(ROW(AL5081)-2, 10))","v":{"$error":"#REF!"}}]
[null,null,null,null,null,null,null,null,null,null,null,null,null,null,null,null,null,null,null,null,null,null,null,null,null,null,null,null,null,null,null,null,null,null,2488,"住宅","木造",{"$f":"INDEX(#REF!, 9 + QUOTIENT(ROW(AL5082)-2, 10), 1 + MOD(ROW(AL5082)-2, 10))","v":{"$error":"#REF!"}}]
[null,null,null,null,null,null,null,null,null,null,null,null,null,null,null,null,null,null,null,null,null,null,null,null,null,null,null,null,null,null,null,null,null,null,2488,"住宅","SRC造",{"$f":"INDEX(#REF!, 9 + QUOTIENT(ROW(AL5083)-2, 10), 1 + MOD(ROW(AL5083)-2, 10))","v":{"$error":"#REF!"}}]
[null,null,null,null,null,null,null,null,null,null,null,null,null,null,null,null,null,null,null,null,null,null,null,null,null,null,null,null,null,null,null,null,null,null,2488,"住宅","RC造",{"$f":"INDEX(#REF!, 9 + QUOTIENT(ROW(AL5084)-2, 10), 1 + MOD(ROW(AL5084)-2, 10))","v":{"$error":"#REF!"}}]
[null,null,null,null,null,null,null,null,null,null,null,null,null,null,null,null,null,null,null,null,null,null,null,null,null,null,null,null,null,null,null,null,null,null,2488,"住宅","S造",{"$f":"INDEX(#REF!, 9 + QUOTIENT(ROW(AL5085)-2, 10), 1 + MOD(ROW(AL5085)-2, 10))","v":{"$error":"#REF!"}}]
[null,null,null,null,null,null,null,null,null,null,null,null,null,null,null,null,null,null,null,null,null,null,null,null,null,null,null,null,null,null,null,null,null,null,2488,"住宅","その他",{"$f":"INDEX(#REF!, 9 + QUOTIENT(ROW(AL5086)-2, 10), 1 + MOD(ROW(AL5086)-2, 10))","v":{"$error":"#REF!"}}]
[null,null,null,null,null,null,null,null,null,null,null,null,null,null,null,null,null,null,null,null,null,null,null,null,null,null,null,null,null,null,null,null,null,null,2488,"非住宅","木造",{"$f":"INDEX(#REF!, 9 + QUOTIENT(ROW(AL5087)-2, 10), 1 + MOD(ROW(AL5087)-2, 10))","v":{"$error":"#REF!"}}]
[null,null,null,null,null,null,null,null,null,null,null,null,null,null,null,null,null,null,null,null,null,null,null,null,null,null,null,null,null,null,null,null,null,null,2488,"非住宅","SRC造",{"$f":"INDEX(#REF!, 9 + QUOTIENT(ROW(AL5088)-2, 10), 1 + MOD(ROW(AL5088)-2, 10))","v":{"$error":"#REF!"}}]
[null,null,null,null,null,null,null,null,null,null,null,null,null,null,null,null,null,null,null,null,null,null,null,null,null,null,null,null,null,null,null,null,null,null,2488,"非住宅","RC造",{"$f":"INDEX(#REF!, 9 + QUOTIENT(ROW(AL5089)-2, 10), 1 + MOD(ROW(AL5089)-2, 10))","v":{"$error":"#REF!"}}]
[null,null,null,null,null,null,null,null,null,null,null,null,null,null,null,null,null,null,null,null,null,null,null,null,null,null,null,null,null,null,null,null,null,null,2488,"非住宅","S造",{"$f":"INDEX(#REF!, 9 + QUOTIENT(ROW(AL5090)-2, 10), 1 + MOD(ROW(AL5090)-2, 10))","v":{"$error":"#REF!"}}]
[null,null,null,null,null,null,null,null,null,null,null,null,null,null,null,null,null,null,null,null,null,null,null,null,null,null,null,null,null,null,null,null,null,null,2488,"非住宅","その他",{"$f":"INDEX(#REF!, 9 + QUOTIENT(ROW(AL5091)-2, 10), 1 + MOD(ROW(AL5091)-2, 10))","v":{"$error":"#REF!"}}]
[null,null,null,null,null,null,null,null,null,null,null,null,null,null,null,null,null,null,null,null,null,null,null,null,null,null,null,null,null,null,null,null,null,null,2489,"住宅","木造",{"$f":"INDEX(#REF!, 9 + QUOTIENT(ROW(AL5092)-2, 10), 1 + MOD(ROW(AL5092)-2, 10))","v":{"$error":"#REF!"}}]
[null,null,null,null,null,null,null,null,null,null,null,null,null,null,null,null,null,null,null,null,null,null,null,null,null,null,null,null,null,null,null,null,null,null,2489,"住宅","SRC造",{"$f":"INDEX(#REF!, 9 + QUOTIENT(ROW(AL5093)-2, 10), 1 + MOD(ROW(AL5093)-2, 10))","v":{"$error":"#REF!"}}]
[null,null,null,null,null,null,null,null,null,null,null,null,null,null,null,null,null,null,null,null,null,null,null,null,null,null,null,null,null,null,null,null,null,null,2489,"住宅","RC造",{"$f":"INDEX(#REF!, 9 + QUOTIENT(ROW(AL5094)-2, 10), 1 + MOD(ROW(AL5094)-2, 10))","v":{"$error":"#REF!"}}]
[null,null,null,null,null,null,null,null,null,null,null,null,null,null,null,null,null,null,null,null,null,null,null,null,null,null,null,null,null,null,null,null,null,null,2489,"住宅","S造",{"$f":"INDEX(#REF!, 9 + QUOTIENT(ROW(AL5095)-2, 10), 1 + MOD(ROW(AL5095)-2, 10))","v":{"$error":"#REF!"}}]
[null,null,null,null,null,null,null,null,null,null,null,null,null,null,null,null,null,null,null,null,null,null,null,null,null,null,null,null,null,null,null,null,null,null,2489,"住宅","その他",{"$f":"INDEX(#REF!, 9 + QUOTIENT(ROW(AL5096)-2, 10), 1 + MOD(ROW(AL5096)-2, 10))","v":{"$error":"#REF!"}}]
[null,null,null,null,null,null,null,null,null,null,null,null,null,null,null,null,null,null,null,null,null,null,null,null,null,null,null,null,null,null,null,null,null,null,2489,"非住宅","木造",{"$f":"INDEX(#REF!, 9 + QUOTIENT(ROW(AL5097)-2, 10), 1 + MOD(ROW(AL5097)-2, 10))","v":{"$error":"#REF!"}}]
[null,null,null,null,null,null,null,null,null,null,null,null,null,null,null,null,null,null,null,null,null,null,null,null,null,null,null,null,null,null,null,null,null,null,2489,"非住宅","SRC造",{"$f":"INDEX(#REF!, 9 + QUOTIENT(ROW(AL5098)-2, 10), 1 + MOD(ROW(AL5098)-2, 10))","v":{"$error":"#REF!"}}]
[null,null,null,null,null,null,null,null,null,null,null,null,null,null,null,null,null,null,null,null,null,null,null,null,null,null,null,null,null,null,null,null,null,null,2489,"非住宅","RC造",{"$f":"INDEX(#REF!, 9 + QUOTIENT(ROW(AL5099)-2, 10), 1 + MOD(ROW(AL5099)-2, 10))","v":{"$error":"#REF!"}}]
[null,null,null,null,null,null,null,null,null,null,null,null,null,null,null,null,null,null,null,null,null,null,null,null,null,null,null,null,null,null,null,null,null,null,2489,"非住宅","S造",{"$f":"INDEX(#REF!, 9 + QUOTIENT(ROW(AL5100)-2, 10), 1 + MOD(ROW(AL5100)-2, 10))","v":{"$error":"#REF!"}}]
[null,null,null,null,null,null,null,null,null,null,null,null,null,null,null,null,null,null,null,null,null,null,null,null,null,null,null,null,null,null,null,null,null,null,2489,"非住宅","その他",{"$f":"INDEX(#REF!, 9 + QUOTIENT(ROW(AL5101)-2, 10), 1 + MOD(ROW(AL5101)-2, 10))","v":{"$error":"#REF!"}}]
[null,null,null,null,null,null,null,null,null,null,null,null,null,null,null,null,null,null,null,null,null,null,null,null,null,null,null,null,null,null,null,null,null,null,2490,"住宅","木造",{"$f":"INDEX(#REF!, 9 + QUOTIENT(ROW(AL5102)-2, 10), 1 + MOD(ROW(AL5102)-2, 10))","v":{"$error":"#REF!"}}]
[null,null,null,null,null,null,null,null,null,null,null,null,null,null,null,null,null,null,null,null,null,null,null,null,null,null,null,null,null,null,null,null,null,null,2490,"住宅","SRC造",{"$f":"INDEX(#REF!, 9 + QUOTIENT(ROW(AL5103)-2, 10), 1 + MOD(ROW(AL5103)-2, 10))","v":{"$error":"#REF!"}}]
[null,null,null,null,null,null,null,null,null,null,null,null,null,null,null,null,null,null,null,null,null,null,null,null,null,null,null,null,null,null,null,null,null,null,2490,"住宅","RC造",{"$f":"INDEX(#REF!, 9 + QUOTIENT(ROW(AL5104)-2, 10), 1 + MOD(ROW(AL5104)-2, 10))","v":{"$error":"#REF!"}}]
[null,null,null,null,null,null,null,null,null,null,null,null,null,null,null,null,null,null,null,null,null,null,null,null,null,null,null,null,null,null,null,null,null,null,2490,"住宅","S造",{"$f":"INDEX(#REF!, 9 + QUOTIENT(ROW(AL5105)-2, 10), 1 + MOD(ROW(AL5105)-2, 10))","v":{"$error":"#REF!"}}]
[null,null,null,null,null,null,null,null,null,null,null,null,null,null,null,null,null,null,null,null,null,null,null,null,null,null,null,null,null,null,null,null,null,null,2490,"住宅","その他",{"$f":"INDEX(#REF!, 9 + QUOTIENT(ROW(AL5106)-2, 10), 1 + MOD(ROW(AL5106)-2, 10))","v":{"$error":"#REF!"}}]
[null,null,null,null,null,null,null,null,null,null,null,null,null,null,null,null,null,null,null,null,null,null,null,null,null,null,null,null,null,null,null,null,null,null,2490,"非住宅","木造",{"$f":"INDEX(#REF!, 9 + QUOTIENT(ROW(AL5107)-2, 10), 1 + MOD(ROW(AL5107)-2, 10))","v":{"$error":"#REF!"}}]
[null,null,null,null,null,null,null,null,null,null,null,null,null,null,null,null,null,null,null,null,null,null,null,null,null,null,null,null,null,null,null,null,null,null,2490,"非住宅","SRC造",{"$f":"INDEX(#REF!, 9 + QUOTIENT(ROW(AL5108)-2, 10), 1 + MOD(ROW(AL5108)-2, 10))","v":{"$error":"#REF!"}}]
[null,null,null,null,null,null,null,null,null,null,null,null,null,null,null,null,null,null,null,null,null,null,null,null,null,null,null,null,null,null,null,null,null,null,2490,"非住宅","RC造",{"$f":"INDEX(#REF!, 9 + QUOTIENT(ROW(AL5109)-2, 10), 1 + MOD(ROW(AL5109)-2, 10))","v":{"$error":"#REF!"}}]
[null,null,null,null,null,null,null,null,null,null,null,null,null,null,null,null,null,null,null,null,null,null,null,null,null,null,null,null,null,null,null,null,null,null,2490,"非住宅","S造",{"$f":"INDEX(#REF!, 9 + QUOTIENT(ROW(AL5110)-2, 10), 1 + MOD(ROW(AL5110)-2, 10))","v":{"$error":"#REF!"}}]
[null,null,null,null,null,null,null,null,null,null,null,null,null,null,null,null,null,null,null,null,null,null,null,null,null,null,null,null,null,null,null,null,null,null,2490,"非住宅","その他",{"$f":"INDEX(#REF!, 9 + QUOTIENT(ROW(AL5111)-2, 10), 1 + MOD(ROW(AL5111)-2, 10))","v":{"$error":"#REF!"}}]
[null,null,null,null,null,null,null,null,null,null,null,null,null,null,null,null,null,null,null,null,null,null,null,null,null,null,null,null,null,null,null,null,null,null,2491,"住宅","木造",{"$f":"INDEX(#REF!, 9 + QUOTIENT(ROW(AL5112)-2, 10), 1 + MOD(ROW(AL5112)-2, 10))","v":{"$error":"#REF!"}}]
[null,null,null,null,null,null,null,null,null,null,null,null,null,null,null,null,null,null,null,null,null,null,null,null,null,null,null,null,null,null,null,null,null,null,2491,"住宅","SRC造",{"$f":"INDEX(#REF!, 9 + QUOTIENT(ROW(AL5113)-2, 10), 1 + MOD(ROW(AL5113)-2, 10))","v":{"$error":"#REF!"}}]
[null,null,null,null,null,null,null,null,null,null,null,null,null,null,null,null,null,null,null,null,null,null,null,null,null,null,null,null,null,null,null,null,null,null,2491,"住宅","RC造",{"$f":"INDEX(#REF!, 9 + QUOTIENT(ROW(AL5114)-2, 10), 1 + MOD(ROW(AL5114)-2, 10))","v":{"$error":"#REF!"}}]
[null,null,null,null,null,null,null,null,null,null,null,null,null,null,null,null,null,null,null,null,null,null,null,null,null,null,null,null,null,null,null,null,null,null,2491,"住宅","S造",{"$f":"INDEX(#REF!, 9 + QUOTIENT(ROW(AL5115)-2, 10), 1 + MOD(ROW(AL5115)-2, 10))","v":{"$error":"#REF!"}}]
[null,null,null,null,null,null,null,null,null,null,null,null,null,null,null,null,null,null,null,null,null,null,null,null,null,null,null,null,null,null,null,null,null,null,2491,"住宅","その他",{"$f":"INDEX(#REF!, 9 + QUOTIENT(ROW(AL5116)-2, 10), 1 + MOD(ROW(AL5116)-2, 10))","v":{"$error":"#REF!"}}]
[null,null,null,null,null,null,null,null,null,null,null,null,null,null,null,null,null,null,null,null,null,null,null,null,null,null,null,null,null,null,null,null,null,null,2491,"非住宅","木造",{"$f":"INDEX(#REF!, 9 + QUOTIENT(ROW(AL5117)-2, 10), 1 + MOD(ROW(AL5117)-2, 10))","v":{"$error":"#REF!"}}]
[null,null,null,null,null,null,null,null,null,null,null,null,null,null,null,null,null,null,null,null,null,null,null,null,null,null,null,null,null,null,null,null,null,null,2491,"非住宅","SRC造",{"$f":"INDEX(#REF!, 9 + QUOTIENT(ROW(AL5118)-2, 10), 1 + MOD(ROW(AL5118)-2, 10))","v":{"$error":"#REF!"}}]
[null,null,null,null,null,null,null,null,null,null,null,null,null,null,null,null,null,null,null,null,null,null,null,null,null,null,null,null,null,null,null,null,null,null,2491,"非住宅","RC造",{"$f":"INDEX(#REF!, 9 + QUOTIENT(ROW(AL5119)-2, 10), 1 + MOD(ROW(AL5119)-2, 10))","v":{"$error":"#REF!"}}]
[null,null,null,null,null,null,null,null,null,null,null,null,null,null,null,null,null,null,null,null,null,null,null,null,null,null,null,null,null,null,null,null,null,null,2491,"非住宅","S造",{"$f":"INDEX(#REF!, 9 + QUOTIENT(ROW(AL5120)-2, 10), 1 + MOD(ROW(AL5120)-2, 10))","v":{"$error":"#REF!"}}]
[null,null,null,null,null,null,null,null,null,null,null,null,null,null,null,null,null,null,null,null,null,null,null,null,null,null,null,null,null,null,null,null,null,null,2491,"非住宅","その他",{"$f":"INDEX(#REF!, 9 + QUOTIENT(ROW(AL5121)-2, 10), 1 + MOD(ROW(AL5121)-2, 10))","v":{"$error":"#REF!"}}]
[null,null,null,null,null,null,null,null,null,null,null,null,null,null,null,null,null,null,null,null,null,null,null,null,null,null,null,null,null,null,null,null,null,null,2492,"住宅","木造",{"$f":"INDEX(#REF!, 9 + QUOTIENT(ROW(AL5122)-2, 10), 1 + MOD(ROW(AL5122)-2, 10))","v":{"$error":"#REF!"}}]
[null,null,null,null,null,null,null,null,null,null,null,null,null,null,null,null,null,null,null,null,null,null,null,null,null,null,null,null,null,null,null,null,null,null,2492,"住宅","SRC造",{"$f":"INDEX(#REF!, 9 + QUOTIENT(ROW(AL5123)-2, 10), 1 + MOD(ROW(AL5123)-2, 10))","v":{"$error":"#REF!"}}]
[null,null,null,null,null,null,null,null,null,null,null,null,null,null,null,null,null,null,null,null,null,null,null,null,null,null,null,null,null,null,null,null,null,null,2492,"住宅","RC造",{"$f":"INDEX(#REF!, 9 + QUOTIENT(ROW(AL5124)-2, 10), 1 + MOD(ROW(AL5124)-2, 10))","v":{"$error":"#REF!"}}]
[null,null,null,null,null,null,null,null,null,null,null,null,null,null,null,null,null,null,null,null,null,null,null,null,null,null,null,null,null,null,null,null,null,null,2492,"住宅","S造",{"$f":"INDEX(#REF!, 9 + QUOTIENT(ROW(AL5125)-2, 10), 1 + MOD(ROW(AL5125)-2, 10))","v":{"$error":"#REF!"}}]
[null,null,null,null,null,null,null,null,null,null,null,null,null,null,null,null,null,null,null,null,null,null,null,null,null,null,null,null,null,null,null,null,null,null,2492,"住宅","その他",{"$f":"INDEX(#REF!, 9 + QUOTIENT(ROW(AL5126)-2, 10), 1 + MOD(ROW(AL5126)-2, 10))","v":{"$error":"#REF!"}}]
[null,null,null,null,null,null,null,null,null,null,null,null,null,null,null,null,null,null,null,null,null,null,null,null,null,null,null,null,null,null,null,null,null,null,2492,"非住宅","木造",{"$f":"INDEX(#REF!, 9 + QUOTIENT(ROW(AL5127)-2, 10), 1 + MOD(ROW(AL5127)-2, 10))","v":{"$error":"#REF!"}}]
[null,null,null,null,null,null,null,null,null,null,null,null,null,null,null,null,null,null,null,null,null,null,null,null,null,null,null,null,null,null,null,null,null,null,2492,"非住宅","SRC造",{"$f":"INDEX(#REF!, 9 + QUOTIENT(ROW(AL5128)-2, 10), 1 + MOD(ROW(AL5128)-2, 10))","v":{"$error":"#REF!"}}]
[null,null,null,null,null,null,null,null,null,null,null,null,null,null,null,null,null,null,null,null,null,null,null,null,null,null,null,null,null,null,null,null,null,null,2492,"非住宅","RC造",{"$f":"INDEX(#REF!, 9 + QUOTIENT(ROW(AL5129)-2, 10), 1 + MOD(ROW(AL5129)-2, 10))","v":{"$error":"#REF!"}}]
[null,null,null,null,null,null,null,null,null,null,null,null,null,null,null,null,null,null,null,null,null,null,null,null,null,null,null,null,null,null,null,null,null,null,2492,"非住宅","S造",{"$f":"INDEX(#REF!, 9 + QUOTIENT(ROW(AL5130)-2, 10), 1 + MOD(ROW(AL5130)-2, 10))","v":{"$error":"#REF!"}}]
[null,null,null,null,null,null,null,null,null,null,null,null,null,null,null,null,null,null,null,null,null,null,null,null,null,null,null,null,null,null,null,null,null,null,2492,"非住宅","その他",{"$f":"INDEX(#REF!, 9 + QUOTIENT(ROW(AL5131)-2, 10), 1 + MOD(ROW(AL5131)-2, 10))","v":{"$error":"#REF!"}}]
[null,null,null,null,null,null,null,null,null,null,null,null,null,null,null,null,null,null,null,null,null,null,null,null,null,null,null,null,null,null,null,null,null,null,2493,"住宅","木造",{"$f":"INDEX(#REF!, 9 + QUOTIENT(ROW(AL5132)-2, 10), 1 + MOD(ROW(AL5132)-2, 10))","v":{"$error":"#REF!"}}]
[null,null,null,null,null,null,null,null,null,null,null,null,null,null,null,null,null,null,null,null,null,null,null,null,null,null,null,null,null,null,null,null,null,null,2493,"住宅","SRC造",{"$f":"INDEX(#REF!, 9 + QUOTIENT(ROW(AL5133)-2, 10), 1 + MOD(ROW(AL5133)-2, 10))","v":{"$error":"#REF!"}}]
[null,null,null,null,null,null,null,null,null,null,null,null,null,null,null,null,null,null,null,null,null,null,null,null,null,null,null,null,null,null,null,null,null,null,2493,"住宅","RC造",{"$f":"INDEX(#REF!, 9 + QUOTIENT(ROW(AL5134)-2, 10), 1 + MOD(ROW(AL5134)-2, 10))","v":{"$error":"#REF!"}}]
[null,null,null,null,null,null,null,null,null,null,null,null,null,null,null,null,null,null,null,null,null,null,null,null,null,null,null,null,null,null,null,null,null,null,2493,"住宅","S造",{"$f":"INDEX(#REF!, 9 + QUOTIENT(ROW(AL5135)-2, 10), 1 + MOD(ROW(AL5135)-2, 10))","v":{"$error":"#REF!"}}]
[null,null,null,null,null,null,null,null,null,null,null,null,null,null,null,null,null,null,null,null,null,null,null,null,null,null,null,null,null,null,null,null,null,null,2493,"住宅","その他",{"$f":"INDEX(#REF!, 9 + QUOTIENT(ROW(AL5136)-2, 10), 1 + MOD(ROW(AL5136)-2, 10))","v":{"$error":"#REF!"}}]
[null,null,null,null,null,null,null,null,null,null,null,null,null,null,null,null,null,null,null,null,null,null,null,null,null,null,null,null,null,null,null,null,null,null,2493,"非住宅","木造",{"$f":"INDEX(#REF!, 9 + QUOTIENT(ROW(AL5137)-2, 10), 1 + MOD(ROW(AL5137)-2, 10))","v":{"$error":"#REF!"}}]
[null,null,null,null,null,null,null,null,null,null,null,null,null,null,null,null,null,null,null,null,null,null,null,null,null,null,null,null,null,null,null,null,null,null,2493,"非住宅","SRC造",{"$f":"INDEX(#REF!, 9 + QUOTIENT(ROW(AL5138)-2, 10), 1 + MOD(ROW(AL5138)-2, 10))","v":{"$error":"#REF!"}}]
[null,null,null,null,null,null,null,null,null,null,null,null,null,null,null,null,null,null,null,null,null,null,null,null,null,null,null,null,null,null,null,null,null,null,2493,"非住宅","RC造",{"$f":"INDEX(#REF!, 9 + QUOTIENT(ROW(AL5139)-2, 10), 1 + MOD(ROW(AL5139)-2, 10))","v":{"$error":"#REF!"}}]
[null,null,null,null,null,null,null,null,null,null,null,null,null,null,null,null,null,null,null,null,null,null,null,null,null,null,null,null,null,null,null,null,null,null,2493,"非住宅","S造",{"$f":"INDEX(#REF!, 9 + QUOTIENT(ROW(AL5140)-2, 10), 1 + MOD(ROW(AL5140)-2, 10))","v":{"$error":"#REF!"}}]
[null,null,null,null,null,null,null,null,null,null,null,null,null,null,null,null,null,null,null,null,null,null,null,null,null,null,null,null,null,null,null,null,null,null,2493,"非住宅","その他",{"$f":"INDEX(#REF!, 9 + QUOTIENT(ROW(AL5141)-2, 10), 1 + MOD(ROW(AL5141)-2, 10))","v":{"$error":"#REF!"}}]
[null,null,null,null,null,null,null,null,null,null,null,null,null,null,null,null,null,null,null,null,null,null,null,null,null,null,null,null,null,null,null,null,null,null,2494,"住宅","木造",{"$f":"INDEX(#REF!, 9 + QUOTIENT(ROW(AL5142)-2, 10), 1 + MOD(ROW(AL5142)-2, 10))","v":{"$error":"#REF!"}}]
[null,null,null,null,null,null,null,null,null,null,null,null,null,null,null,null,null,null,null,null,null,null,null,null,null,null,null,null,null,null,null,null,null,null,2494,"住宅","SRC造",{"$f":"INDEX(#REF!, 9 + QUOTIENT(ROW(AL5143)-2, 10), 1 + MOD(ROW(AL5143)-2, 10))","v":{"$error":"#REF!"}}]
[null,null,null,null,null,null,null,null,null,null,null,null,null,null,null,null,null,null,null,null,null,null,null,null,null,null,null,null,null,null,null,null,null,null,2494,"住宅","RC造",{"$f":"INDEX(#REF!, 9 + QUOTIENT(ROW(AL5144)-2, 10), 1 + MOD(ROW(AL5144)-2, 10))","v":{"$error":"#REF!"}}]
[null,null,null,null,null,null,null,null,null,null,null,null,null,null,null,null,null,null,null,null,null,null,null,null,null,null,null,null,null,null,null,null,null,null,2494,"住宅","S造",{"$f":"INDEX(#REF!, 9 + QUOTIENT(ROW(AL5145)-2, 10), 1 + MOD(ROW(AL5145)-2, 10))","v":{"$error":"#REF!"}}]
[null,null,null,null,null,null,null,null,null,null,null,null,null,null,null,null,null,null,null,null,null,null,null,null,null,null,null,null,null,null,null,null,null,null,2494,"住宅","その他",{"$f":"INDEX(#REF!, 9 + QUOTIENT(ROW(AL5146)-2, 10), 1 + MOD(ROW(AL5146)-2, 10))","v":{"$error":"#REF!"}}]
[null,null,null,null,null,null,null,null,null,null,null,null,null,null,null,null,null,null,null,null,null,null,null,null,null,null,null,null,null,null,null,null,null,null,2494,"非住宅","木造",{"$f":"INDEX(#REF!, 9 + QUOTIENT(ROW(AL5147)-2, 10), 1 + MOD(ROW(AL5147)-2, 10))","v":{"$error":"#REF!"}}]
[null,null,null,null,null,null,null,null,null,null,null,null,null,null,null,null,null,null,null,null,null,null,null,null,null,null,null,null,null,null,null,null,null,null,2494,"非住宅","SRC造",{"$f":"INDEX(#REF!, 9 + QUOTIENT(ROW(AL5148)-2, 10), 1 + MOD(ROW(AL5148)-2, 10))","v":{"$error":"#REF!"}}]
[null,null,null,null,null,null,null,null,null,null,null,null,null,null,null,null,null,null,null,null,null,null,null,null,null,null,null,null,null,null,null,null,null,null,2494,"非住宅","RC造",{"$f":"INDEX(#REF!, 9 + QUOTIENT(ROW(AL5149)-2, 10), 1 + MOD(ROW(AL5149)-2, 10))","v":{"$error":"#REF!"}}]
[null,null,null,null,null,null,null,null,null,null,null,null,null,null,null,null,null,null,null,null,null,null,null,null,null,null,null,null,null,null,null,null,null,null,2494,"非住宅","S造",{"$f":"INDEX(#REF!, 9 + QUOTIENT(ROW(AL5150)-2, 10), 1 + MOD(ROW(AL5150)-2, 10))","v":{"$error":"#REF!"}}]
[null,null,null,null,null,null,null,null,null,null,null,null,null,null,null,null,null,null,null,null,null,null,null,null,null,null,null,null,null,null,null,null,null,null,2494,"非住宅","その他",{"$f":"INDEX(#REF!, 9 + QUOTIENT(ROW(AL5151)-2, 10), 1 + MOD(ROW(AL5151)-2, 10))","v":{"$error":"#REF!"}}]
[null,null,null,null,null,null,null,null,null,null,null,null,null,null,null,null,null,null,null,null,null,null,null,null,null,null,null,null,null,null,null,null,null,null,2495,"住宅","木造",{"$f":"INDEX(#REF!, 9 + QUOTIENT(ROW(AL5152)-2, 10), 1 + MOD(ROW(AL5152)-2, 10))","v":{"$error":"#REF!"}}]
[null,null,null,null,null,null,null,null,null,null,null,null,null,null,null,null,null,null,null,null,null,null,null,null,null,null,null,null,null,null,null,null,null,null,2495,"住宅","SRC造",{"$f":"INDEX(#REF!, 9 + QUOTIENT(ROW(AL5153)-2, 10), 1 + MOD(ROW(AL5153)-2, 10))","v":{"$error":"#REF!"}}]
[null,null,null,null,null,null,null,null,null,null,null,null,null,null,null,null,null,null,null,null,null,null,null,null,null,null,null,null,null,null,null,null,null,null,2495,"住宅","RC造",{"$f":"INDEX(#REF!, 9 + QUOTIENT(ROW(AL5154)-2, 10), 1 + MOD(ROW(AL5154)-2, 10))","v":{"$error":"#REF!"}}]
[null,null,null,null,null,null,null,null,null,null,null,null,null,null,null,null,null,null,null,null,null,null,null,null,null,null,null,null,null,null,null,null,null,null,2495,"住宅","S造",{"$f":"INDEX(#REF!, 9 + QUOTIENT(ROW(AL5155)-2, 10), 1 + MOD(ROW(AL5155)-2, 10))","v":{"$error":"#REF!"}}]
[null,null,null,null,null,null,null,null,null,null,null,null,null,null,null,null,null,null,null,null,null,null,null,null,null,null,null,null,null,null,null,null,null,null,2495,"住宅","その他",{"$f":"INDEX(#REF!, 9 + QUOTIENT(ROW(AL5156)-2, 10), 1 + MOD(ROW(AL5156)-2, 10))","v":{"$error":"#REF!"}}]
[null,null,null,null,null,null,null,null,null,null,null,null,null,null,null,null,null,null,null,null,null,null,null,null,null,null,null,null,null,null,null,null,null,null,2495,"非住宅","木造",{"$f":"INDEX(#REF!, 9 + QUOTIENT(ROW(AL5157)-2, 10), 1 + MOD(ROW(AL5157)-2, 10))","v":{"$error":"#REF!"}}]
[null,null,null,null,null,null,null,null,null,null,null,null,null,null,null,null,null,null,null,null,null,null,null,null,null,null,null,null,null,null,null,null,null,null,2495,"非住宅","SRC造",{"$f":"INDEX(#REF!, 9 + QUOTIENT(ROW(AL5158)-2, 10), 1 + MOD(ROW(AL5158)-2, 10))","v":{"$error":"#REF!"}}]
[null,null,null,null,null,null,null,null,null,null,null,null,null,null,null,null,null,null,null,null,null,null,null,null,null,null,null,null,null,null,null,null,null,null,2495,"非住宅","RC造",{"$f":"INDEX(#REF!, 9 + QUOTIENT(ROW(AL5159)-2, 10), 1 + MOD(ROW(AL5159)-2, 10))","v":{"$error":"#REF!"}}]
[null,null,null,null,null,null,null,null,null,null,null,null,null,null,null,null,null,null,null,null,null,null,null,null,null,null,null,null,null,null,null,null,null,null,2495,"非住宅","S造",{"$f":"INDEX(#REF!, 9 + QUOTIENT(ROW(AL5160)-2, 10), 1 + MOD(ROW(AL5160)-2, 10))","v":{"$error":"#REF!"}}]
[null,null,null,null,null,null,null,null,null,null,null,null,null,null,null,null,null,null,null,null,null,null,null,null,null,null,null,null,null,null,null,null,null,null,2495,"非住宅","その他",{"$f":"INDEX(#REF!, 9 + QUOTIENT(ROW(AL5161)-2, 10), 1 + MOD(ROW(AL5161)-2, 10))","v":{"$error":"#REF!"}}]
[null,null,null,null,null,null,null,null,null,null,null,null,null,null,null,null,null,null,null,null,null,null,null,null,null,null,null,null,null,null,null,null,null,null,2496,"住宅","木造",{"$f":"INDEX(#REF!, 9 + QUOTIENT(ROW(AL5162)-2, 10), 1 + MOD(ROW(AL5162)-2, 10))","v":{"$error":"#REF!"}}]
[null,null,null,null,null,null,null,null,null,null,null,null,null,null,null,null,null,null,null,null,null,null,null,null,null,null,null,null,null,null,null,null,null,null,2496,"住宅","SRC造",{"$f":"INDEX(#REF!, 9 + QUOTIENT(ROW(AL5163)-2, 10), 1 + MOD(ROW(AL5163)-2, 10))","v":{"$error":"#REF!"}}]
[null,null,null,null,null,null,null,null,null,null,null,null,null,null,null,null,null,null,null,null,null,null,null,null,null,null,null,null,null,null,null,null,null,null,2496,"住宅","RC造",{"$f":"INDEX(#REF!, 9 + QUOTIENT(ROW(AL5164)-2, 10), 1 + MOD(ROW(AL5164)-2, 10))","v":{"$error":"#REF!"}}]
[null,null,null,null,null,null,null,null,null,null,null,null,null,null,null,null,null,null,null,null,null,null,null,null,null,null,null,null,null,null,null,null,null,null,2496,"住宅","S造",{"$f":"INDEX(#REF!, 9 + QUOTIENT(ROW(AL5165)-2, 10), 1 + MOD(ROW(AL5165)-2, 10))","v":{"$error":"#REF!"}}]
[null,null,null,null,null,null,null,null,null,null,null,null,null,null,null,null,null,null,null,null,null,null,null,null,null,null,null,null,null,null,null,null,null,null,2496,"住宅","その他",{"$f":"INDEX(#REF!, 9 + QUOTIENT(ROW(AL5166)-2, 10), 1 + MOD(ROW(AL5166)-2, 10))","v":{"$error":"#REF!"}}]
[null,null,null,null,null,null,null,null,null,null,null,null,null,null,null,null,null,null,null,null,null,null,null,null,null,null,null,null,null,null,null,null,null,null,2496,"非住宅","木造",{"$f":"INDEX(#REF!, 9 + QUOTIENT(ROW(AL5167)-2, 10), 1 + MOD(ROW(AL5167)-2, 10))","v":{"$error":"#REF!"}}]
[null,null,null,null,null,null,null,null,null,null,null,null,null,null,null,null,null,null,null,null,null,null,null,null,null,null,null,null,null,null,null,null,null,null,2496,"非住宅","SRC造",{"$f":"INDEX(#REF!, 9 + QUOTIENT(ROW(AL5168)-2, 10), 1 + MOD(ROW(AL5168)-2, 10))","v":{"$error":"#REF!"}}]
[null,null,null,null,null,null,null,null,null,null,null,null,null,null,null,null,null,null,null,null,null,null,null,null,null,null,null,null,null,null,null,null,null,null,2496,"非住宅","RC造",{"$f":"INDEX(#REF!, 9 + QUOTIENT(ROW(AL5169)-2, 10), 1 + MOD(ROW(AL5169)-2, 10))","v":{"$error":"#REF!"}}]
[null,null,null,null,null,null,null,null,null,null,null,null,null,null,null,null,null,null,null,null,null,null,null,null,null,null,null,null,null,null,null,null,null,null,2496,"非住宅","S造",{"$f":"INDEX(#REF!, 9 + QUOTIENT(ROW(AL5170)-2, 10), 1 + MOD(ROW(AL5170)-2, 10))","v":{"$error":"#REF!"}}]
[null,null,null,null,null,null,null,null,null,null,null,null,null,null,null,null,null,null,null,null,null,null,null,null,null,null,null,null,null,null,null,null,null,null,2496,"非住宅","その他",{"$f":"INDEX(#REF!, 9 + QUOTIENT(ROW(AL5171)-2, 10), 1 + MOD(ROW(AL5171)-2, 10))","v":{"$error":"#REF!"}}]
[null,null,null,null,null,null,null,null,null,null,null,null,null,null,null,null,null,null,null,null,null,null,null,null,null,null,null,null,null,null,null,null,null,null,2497,"住宅","木造",{"$f":"INDEX(#REF!, 9 + QUOTIENT(ROW(AL5172)-2, 10), 1 + MOD(ROW(AL5172)-2, 10))","v":{"$error":"#REF!"}}]
[null,null,null,null,null,null,null,null,null,null,null,null,null,null,null,null,null,null,null,null,null,null,null,null,null,null,null,null,null,null,null,null,null,null,2497,"住宅","SRC造",{"$f":"INDEX(#REF!, 9 + QUOTIENT(ROW(AL5173)-2, 10), 1 + MOD(ROW(AL5173)-2, 10))","v":{"$error":"#REF!"}}]
[null,null,null,null,null,null,null,null,null,null,null,null,null,null,null,null,null,null,null,null,null,null,null,null,null,null,null,null,null,null,null,null,null,null,2497,"住宅","RC造",{"$f":"INDEX(#REF!, 9 + QUOTIENT(ROW(AL5174)-2, 10), 1 + MOD(ROW(AL5174)-2, 10))","v":{"$error":"#REF!"}}]
[null,null,null,null,null,null,null,null,null,null,null,null,null,null,null,null,null,null,null,null,null,null,null,null,null,null,null,null,null,null,null,null,null,null,2497,"住宅","S造",{"$f":"INDEX(#REF!, 9 + QUOTIENT(ROW(AL5175)-2, 10), 1 + MOD(ROW(AL5175)-2, 10))","v":{"$error":"#REF!"}}]
[null,null,null,null,null,null,null,null,null,null,null,null,null,null,null,null,null,null,null,null,null,null,null,null,null,null,null,null,null,null,null,null,null,null,2497,"住宅","その他",{"$f":"INDEX(#REF!, 9 + QUOTIENT(ROW(AL5176)-2, 10), 1 + MOD(ROW(AL5176)-2, 10))","v":{"$error":"#REF!"}}]
[null,null,null,null,null,null,null,null,null,null,null,null,null,null,null,null,null,null,null,null,null,null,null,null,null,null,null,null,null,null,null,null,null,null,2497,"非住宅","木造",{"$f":"INDEX(#REF!, 9 + QUOTIENT(ROW(AL5177)-2, 10), 1 + MOD(ROW(AL5177)-2, 10))","v":{"$error":"#REF!"}}]
[null,null,null,null,null,null,null,null,null,null,null,null,null,null,null,null,null,null,null,null,null,null,null,null,null,null,null,null,null,null,null,null,null,null,2497,"非住宅","SRC造",{"$f":"INDEX(#REF!, 9 + QUOTIENT(ROW(AL5178)-2, 10), 1 + MOD(ROW(AL5178)-2, 10))","v":{"$error":"#REF!"}}]
[null,null,null,null,null,null,null,null,null,null,null,null,null,null,null,null,null,null,null,null,null,null,null,null,null,null,null,null,null,null,null,null,null,null,2497,"非住宅","RC造",{"$f":"INDEX(#REF!, 9 + QUOTIENT(ROW(AL5179)-2, 10), 1 + MOD(ROW(AL5179)-2, 10))","v":{"$error":"#REF!"}}]
[null,null,null,null,null,null,null,null,null,null,null,null,null,null,null,null,null,null,null,null,null,null,null,null,null,null,null,null,null,null,null,null,null,null,2497,"非住宅","S造",{"$f":"INDEX(#REF!, 9 + QUOTIENT(ROW(AL5180)-2, 10), 1 + MOD(ROW(AL5180)-2, 10))","v":{"$error":"#REF!"}}]
[null,null,null,null,null,null,null,null,null,null,null,null,null,null,null,null,null,null,null,null,null,null,null,null,null,null,null,null,null,null,null,null,null,null,2497,"非住宅","その他",{"$f":"INDEX(#REF!, 9 + QUOTIENT(ROW(AL5181)-2, 10), 1 + MOD(ROW(AL5181)-2, 10))","v":{"$error":"#REF!"}}]
[null,null,null,null,null,null,null,null,null,null,null,null,null,null,null,null,null,null,null,null,null,null,null,null,null,null,null,null,null,null,null,null,null,null,2498,"住宅","木造",{"$f":"INDEX(#REF!, 9 + QUOTIENT(ROW(AL5182)-2, 10), 1 + MOD(ROW(AL5182)-2, 10))","v":{"$error":"#REF!"}}]
[null,null,null,null,null,null,null,null,null,null,null,null,null,null,null,null,null,null,null,null,null,null,null,null,null,null,null,null,null,null,null,null,null,null,2498,"住宅","SRC造",{"$f":"INDEX(#REF!, 9 + QUOTIENT(ROW(AL5183)-2, 10), 1 + MOD(ROW(AL5183)-2, 10))","v":{"$error":"#REF!"}}]
[null,null,null,null,null,null,null,null,null,null,null,null,null,null,null,null,null,null,null,null,null,null,null,null,null,null,null,null,null,null,null,null,null,null,2498,"住宅","RC造",{"$f":"INDEX(#REF!, 9 + QUOTIENT(ROW(AL5184)-2, 10), 1 + MOD(ROW(AL5184)-2, 10))","v":{"$error":"#REF!"}}]
[null,null,null,null,null,null,null,null,null,null,null,null,null,null,null,null,null,null,null,null,null,null,null,null,null,null,null,null,null,null,null,null,null,null,2498,"住宅","S造",{"$f":"INDEX(#REF!, 9 + QUOTIENT(ROW(AL5185)-2, 10), 1 + MOD(ROW(AL5185)-2, 10))","v":{"$error":"#REF!"}}]
[null,null,null,null,null,null,null,null,null,null,null,null,null,null,null,null,null,null,null,null,null,null,null,null,null,null,null,null,null,null,null,null,null,null,2498,"住宅","その他",{"$f":"INDEX(#REF!, 9 + QUOTIENT(ROW(AL5186)-2, 10), 1 + MOD(ROW(AL5186)-2, 10))","v":{"$error":"#REF!"}}]
[null,null,null,null,null,null,null,null,null,null,null,null,null,null,null,null,null,null,null,null,null,null,null,null,null,null,null,null,null,null,null,null,null,null,2498,"非住宅","木造",{"$f":"INDEX(#REF!, 9 + QUOTIENT(ROW(AL5187)-2, 10), 1 + MOD(ROW(AL5187)-2, 10))","v":{"$error":"#REF!"}}]
[null,null,null,null,null,null,null,null,null,null,null,null,null,null,null,null,null,null,null,null,null,null,null,null,null,null,null,null,null,null,null,null,null,null,2498,"非住宅","SRC造",{"$f":"INDEX(#REF!, 9 + QUOTIENT(ROW(AL5188)-2, 10), 1 + MOD(ROW(AL5188)-2, 10))","v":{"$error":"#REF!"}}]
[null,null,null,null,null,null,null,null,null,null,null,null,null,null,null,null,null,null,null,null,null,null,null,null,null,null,null,null,null,null,null,null,null,null,2498,"非住宅","RC造",{"$f":"INDEX(#REF!, 9 + QUOTIENT(ROW(AL5189)-2, 10), 1 + MOD(ROW(AL5189)-2, 10))","v":{"$error":"#REF!"}}]
[null,null,null,null,null,null,null,null,null,null,null,null,null,null,null,null,null,null,null,null,null,null,null,null,null,null,null,null,null,null,null,null,null,null,2498,"非住宅","S造",{"$f":"INDEX(#REF!, 9 + QUOTIENT(ROW(AL5190)-2, 10), 1 + MOD(ROW(AL5190)-2, 10))","v":{"$error":"#REF!"}}]
[null,null,null,null,null,null,null,null,null,null,null,null,null,null,null,null,null,null,null,null,null,null,null,null,null,null,null,null,null,null,null,null,null,null,2498,"非住宅","その他",{"$f":"INDEX(#REF!, 9 + QUOTIENT(ROW(AL5191)-2, 10), 1 + MOD(ROW(AL5191)-2, 10))","v":{"$error":"#REF!"}}]
[null,null,null,null,null,null,null,null,null,null,null,null,null,null,null,null,null,null,null,null,null,null,null,null,null,null,null,null,null,null,null,null,null,null,2499,"住宅","木造",{"$f":"INDEX(#REF!, 9 + QUOTIENT(ROW(AL5192)-2, 10), 1 + MOD(ROW(AL5192)-2, 10))","v":{"$error":"#REF!"}}]
[null,null,null,null,null,null,null,null,null,null,null,null,null,null,null,null,null,null,null,null,null,null,null,null,null,null,null,null,null,null,null,null,null,null,2499,"住宅","SRC造",{"$f":"INDEX(#REF!, 9 + QUOTIENT(ROW(AL5193)-2, 10), 1 + MOD(ROW(AL5193)-2, 10))","v":{"$error":"#REF!"}}]
[null,null,null,null,null,null,null,null,null,null,null,null,null,null,null,null,null,null,null,null,null,null,null,null,null,null,null,null,null,null,null,null,null,null,2499,"住宅","RC造",{"$f":"INDEX(#REF!, 9 + QUOTIENT(ROW(AL5194)-2, 10), 1 + MOD(ROW(AL5194)-2, 10))","v":{"$error":"#REF!"}}]
[null,null,null,null,null,null,null,null,null,null,null,null,null,null,null,null,null,null,null,null,null,null,null,null,null,null,null,null,null,null,null,null,null,null,2499,"住宅","S造",{"$f":"INDEX(#REF!, 9 + QUOTIENT(ROW(AL5195)-2, 10), 1 + MOD(ROW(AL5195)-2, 10))","v":{"$error":"#REF!"}}]
[null,null,null,null,null,null,null,null,null,null,null,null,null,null,null,null,null,null,null,null,null,null,null,null,null,null,null,null,null,null,null,null,null,null,2499,"住宅","その他",{"$f":"INDEX(#REF!, 9 + QUOTIENT(ROW(AL5196)-2, 10), 1 + MOD(ROW(AL5196)-2, 10))","v":{"$error":"#REF!"}}]
[null,null,null,null,null,null,null,null,null,null,null,null,null,null,null,null,null,null,null,null,null,null,null,null,null,null,null,null,null,null,null,null,null,null,2499,"非住宅","木造",{"$f":"INDEX(#REF!, 9 + QUOTIENT(ROW(AL5197)-2, 10), 1 + MOD(ROW(AL5197)-2, 10))","v":{"$error":"#REF!"}}]
[null,null,null,null,null,null,null,null,null,null,null,null,null,null,null,null,null,null,null,null,null,null,null,null,null,null,null,null,null,null,null,null,null,null,2499,"非住宅","SRC造",{"$f":"INDEX(#REF!, 9 + QUOTIENT(ROW(AL5198)-2, 10), 1 + MOD(ROW(AL5198)-2, 10))","v":{"$error":"#REF!"}}]
[null,null,null,null,null,null,null,null,null,null,null,null,null,null,null,null,null,null,null,null,null,null,null,null,null,null,null,null,null,null,null,null,null,null,2499,"非住宅","RC造",{"$f":"INDEX(#REF!, 9 + QUOTIENT(ROW(AL5199)-2, 10), 1 + MOD(ROW(AL5199)-2, 10))","v":{"$error":"#REF!"}}]
[null,null,null,null,null,null,null,null,null,null,null,null,null,null,null,null,null,null,null,null,null,null,null,null,null,null,null,null,null,null,null,null,null,null,2499,"非住宅","S造",{"$f":"INDEX(#REF!, 9 + QUOTIENT(ROW(AL5200)-2, 10), 1 + MOD(ROW(AL5200)-2, 10))","v":{"$error":"#REF!"}}]
[null,null,null,null,null,null,null,null,null,null,null,null,null,null,null,null,null,null,null,null,null,null,null,null,null,null,null,null,null,null,null,null,null,null,2499,"非住宅","その他",{"$f":"INDEX(#REF!, 9 + QUOTIENT(ROW(AL5201)-2, 10), 1 + MOD(ROW(AL5201)-2, 10))","v":{"$error":"#REF!"}}]
[null,null,null,null,null,null,null,null,null,null,null,null,null,null,null,null,null,null,null,null,null,null,null,null,null,null,null,null,null,null,null,null,null,null,2500,"住宅","木造",{"$f":"INDEX(#REF!, 9 + QUOTIENT(ROW(AL5202)-2, 10), 1 + MOD(ROW(AL5202)-2, 10))","v":{"$error":"#REF!"}}]
[null,null,null,null,null,null,null,null,null,null,null,null,null,null,null,null,null,null,null,null,null,null,null,null,null,null,null,null,null,null,null,null,null,null,2500,"住宅","SRC造",{"$f":"INDEX(#REF!, 9 + QUOTIENT(ROW(AL5203)-2, 10), 1 + MOD(ROW(AL5203)-2, 10))","v":{"$error":"#REF!"}}]
[null,null,null,null,null,null,null,null,null,null,null,null,null,null,null,null,null,null,null,null,null,null,null,null,null,null,null,null,null,null,null,null,null,null,2500,"住宅","RC造",{"$f":"INDEX(#REF!, 9 + QUOTIENT(ROW(AL5204)-2, 10), 1 + MOD(ROW(AL5204)-2, 10))","v":{"$error":"#REF!"}}]
[null,null,null,null,null,null,null,null,null,null,null,null,null,null,null,null,null,null,null,null,null,null,null,null,null,null,null,null,null,null,null,null,null,null,2500,"住宅","S造",{"$f":"INDEX(#REF!, 9 + QUOTIENT(ROW(AL5205)-2, 10), 1 + MOD(ROW(AL5205)-2, 10))","v":{"$error":"#REF!"}}]
[null,null,null,null,null,null,null,null,null,null,null,null,null,null,null,null,null,null,null,null,null,null,null,null,null,null,null,null,null,null,null,null,null,null,2500,"住宅","その他",{"$f":"INDEX(#REF!, 9 + QUOTIENT(ROW(AL5206)-2, 10), 1 + MOD(ROW(AL5206)-2, 10))","v":{"$error":"#REF!"}}]
[null,null,null,null,null,null,null,null,null,null,null,null,null,null,null,null,null,null,null,null,null,null,null,null,null,null,null,null,null,null,null,null,null,null,2500,"非住宅","木造",{"$f":"INDEX(#REF!, 9 + QUOTIENT(ROW(AL5207)-2, 10), 1 + MOD(ROW(AL5207)-2, 10))","v":{"$error":"#REF!"}}]
[null,null,null,null,null,null,null,null,null,null,null,null,null,null,null,null,null,null,null,null,null,null,null,null,null,null,null,null,null,null,null,null,null,null,2500,"非住宅","SRC造",{"$f":"INDEX(#REF!, 9 + QUOTIENT(ROW(AL5208)-2, 10), 1 + MOD(ROW(AL5208)-2, 10))","v":{"$error":"#REF!"}}]
[null,null,null,null,null,null,null,null,null,null,null,null,null,null,null,null,null,null,null,null,null,null,null,null,null,null,null,null,null,null,null,null,null,null,2500,"非住宅","RC造",{"$f":"INDEX(#REF!, 9 + QUOTIENT(ROW(AL5209)-2, 10), 1 + MOD(ROW(AL5209)-2, 10))","v":{"$error":"#REF!"}}]
[null,null,null,null,null,null,null,null,null,null,null,null,null,null,null,null,null,null,null,null,null,null,null,null,null,null,null,null,null,null,null,null,null,null,2500,"非住宅","S造",{"$f":"INDEX(#REF!, 9 + QUOTIENT(ROW(AL5210)-2, 10), 1 + MOD(ROW(AL5210)-2, 10))","v":{"$error":"#REF!"}}]
[null,null,null,null,null,null,null,null,null,null,null,null,null,null,null,null,null,null,null,null,null,null,null,null,null,null,null,null,null,null,null,null,null,null,2500,"非住宅","その他",{"$f":"INDEX(#REF!, 9 + QUOTIENT(ROW(AL5211)-2, 10), 1 + MOD(ROW(AL5211)-2, 10))","v":{"$error":"#REF!"}}]